{"text_format":"1","workbook":"xlsx","n_sheets":2,"sheets":["Первенство","ВО"],"not_rendered":{"charts":0,"images":4,"macros":1,"external_links":0,"defined_names":2,"comments":0,"pivot_tables":0},"unopened":[],"bounds":{"document_bytes":16777216,"sheet_cells":100000,"rows_first":2000,"rows_last":500,"rows_between":2000,"halvings":0,"cell_chars":16384,"cell_head_chars":4096},"cells_cut":0,"cells_raw":0,"read":"whole","date_system":"1900"}

{"sheet":"Первенство","index":0,"n_rows":39,"n_cols":254,"rows_kept":39,"cut":false,"hidden":false,"merged":[[0,11,3,11],[3,0,3,10],[4,0,4,10],[6,0,8,0],[6,1,8,1],[6,4,8,4],[6,10,8,10],[6,11,8,11],[6,2,8,2],[6,6,8,6],[1,0,1,10],[6,8,8,8],[6,9,8,9],[6,5,8,5],[2,0,2,10],[5,6,5,7],[6,3,8,3],[24,10,32,10],[5,8,5,9],[6,7,8,7],[9,0,16,0],[9,1,16,1],[9,2,16,2],[9,10,16,10],[17,0,23,0],[17,1,23,1],[17,2,23,2],[17,10,23,10],[24,0,32,0],[24,1,32,1],[24,2,32,2]]}
[]
["Первенство Центрального Федерального округа по мотокроссу 2017 года - I-й этап.                                                                                    ",null,null,null,null,null,null,null,null,null,null,null,null,null,null,null,null,null,null,null,null,null,null,null,null,null,null,null,null,null,null,null,null,null,null,null,null,null,null,null,null,null,null,null,null,null,null,null,null,null,null,null,null,null,null,null,null,null,null,null,null,null,null,null,null,null,null,null,null,null,null,null,null,null,null,null,null,null,null,null,null,null,null,null,null,null,null,null,null,null,null,null,null,null,null,null,null,null,null,null,null,null,null,null,null,null,null,null,null,null,null,null,null,null,null,null,null,null,null,null,null,null,null,null,null,null,null,null,null,null,null,null,null,null,null,null,null,null,null,null,null,null,null,null,null,null,null,null,null,null,null,null,null,null,null,null,null,null,null,null,null,null,null,null,null,null,null,null,null,null,"первый этап"]
["ПРОТОКОЛ  КОМАНДНОГО  ЗАЧЕТА.",null,null,null,null,null,null,null,null,null,null,null,null,null,null,null,null,null,null,null,null,null,null,null,null,null,null,null,null,null,null,null,null,null,null,null,null,null,null,null,null,null,null,null,null,null,null,null,null,null,null,null,null,null,null,null,null,null,null,null,null,null,null,null,null,null,null,null,null,null,null,null,null,null,null,null,null,null,null,null,null,null,null,null,null,null,null,null,null,null,null,null,null,null,null,null,null,null,null,null,null,null,null,null,null,null,null,null,null,null,null,null,null,null,null,null,null,null,null,null,null,null,null,null,null,null,null,null,null,null,null,null,null,null,null,null,null,null,null,null,null,null,null,null,null,null,null,null,null,null,null,null,null,null,null,null,null,null,null,null,null,null,null,null,null,null,null,null,null,null,"первый этап"]
["г. Ковров, Владимирская область.                                                                                                                                                                                                                                       05 - 08 мая 2017 года.",null,null,null,null,null,null,null,null,null,null,null,null,null,null,null,null,null,null,null,null,null,null,null,null,null,null,null,null,null,null,null,null,null,null,null,null,null,null,null,null,null,null,null,null,null,null,null,null,null,null,null,null,null,null,null,null,null,null,null,null,null,null,null,null,null,null,null,null,null,null,null,null,null,null,null,null,null,null,null,null,null,null,null,null,null,null,null,null,null,null,null,null,null,null,null,null,null,null,null,null,null,null,null,null,null,null,null,null,null,null,null,null,null,null,null,null,null,null,null,null,null,null,null,null,null,null,null,null,null,null,null,null,null,null,null,null,null,null,null,null,null,null,null,null,null,null,null,null,null,null,null,null,null,null,null,null,null,null,"первый заезд личные очки",null,null,null,null,null,null,null,null,null,null,null,null,null,null,null,null,null,null,null,null,null,"второй заезд личные очки",null,null,null,null,null,null,null,null,null,null,null,null,null,null,null,null,null,null,null,null,null,null,"Первый заезд командные очки",null,null,null,null,null,null,null,null,null,null,null,null,null,null,null,null,null,null,null,null,null,null,"Второй заезд командные очки"]
["КОМАНДНЫЙ ЗАЧЕТ (0910291811Л)",null,null,null,null,null,null,null,null,null,null,null,null,null,null,null,null,null,null,null,null,null,null,null,null,null,null,null,null,null,null,null,null,null,null,null,null,null,null,null,null,null,null,null,null,null,null,null,null,null,null,null,null,null,null,null,null,null,null,null,null,null,null,null,null,null,null,null,null,null,null,null,null,null,null,null,null,null,null,null,null,null,null,null,null,null,null,null,null,null,null,null,null,null,null,null,null,null,null,null,null,null,null,null,null,null,null,null,null,null,null,null,null,null,null,null,null,null,null,null,null,null,null,null,null,null,null,null,null,null,null,null,null,null,null,null,null,null,null,null,null,null,null,null,null,null,null,null,null,null,null,null,null,null,null,null,null,null,1,2,3,4,5,6,7,8,9,10,11,12,13,14,15,16,17,18,19,20,21,"сх","Sym",1,2,3,4,5,6,7,8,9,10,11,12,13,14,15,16,17,18,19,20,21,"cx","sym",1,2,3,4,5,6,7,8,9,10,11,12,13,14,15,16,17,18,19,20,21,"сх","очки",1,2,3,4,5,6,7,8,9,10,11,12,13,14,15,16,17,18,19,20,21,"сх","очки",{"$f":"COUNT(FC5:IP5)","v":84},"Н. Стро","В. стро","место"]
[null,null,null,null,null,null,"1-й заезд",null,"2-й заезд"]
["Место ","Город (край, район, область)","Наименование команды (клуба)","Фамилия, Имя участника","Класс","Ст. №","МЕСТО","ОЧКИ","МЕСТО","ОЧКИ","Сумма очков             ","Сумма очк. в командном зачете"]
[null,null,null,null,null,null,null,null,null,null,null,null,null,null,null,"первый заезд личные очки",null,null,null,null,null,null,null,null,null,null,null,null,null,null,null,null,null,null,null,null,null,"второй заезд личные очки",null,null,null,null,null,null,null,null,null,null,null,null,null,null,null,null,null,null,null,null,null,null,"Первый заезд командные очки",null,null,null,null,null,null,null,null,null,null,null,null,null,null,null,null,null,null,null,null,null,null,null,null,null,null,null,null,null,null,null,null,null,null,null,null,null,null,null,null,null,null,"Второй заезд командные очки",null,null,null,null,null,null,null,null,null,null,null,null,null,null,null,null,null,null,null,null,null,null,null,null,null,null,null,null,null,null,null,null,null,null,null,null,null,null,null,null,null,null,null,1,2,null,null,null,null,null,null,null,null,null,null,null,null,null,null,null,null,null,null,null,null,null,"первый этап"]
[null,null,null,null,null,null,null,null,null,null,null,null,null,null,1,2,3,4,5,6,7,8,9,10,11,12,13,14,15,16,17,18,19,20,21,"сх",null,1,2,3,4,5,6,7,8,9,10,11,12,13,14,15,16,17,18,19,20,null,"cx",null,1,2,3,4,5,6,7,8,9,10,11,12,13,14,15,16,17,18,19,20,21,22,23,24,25,26,27,28,29,30,31,32,33,34,35,36,37,38,39,40,null,null,null,1,2,3,4,5,6,7,8,9,10,11,12,13,14,15,16,17,18,19,20,21,22,23,24,25,26,27,28,29,30,31,32,33,34,35,36,37,38,39,40,null,null,null,null,null,null,null,"мин","Н. Стро","В. стро","место",null,"чр1","чр2",null,null,"первый заезд личные очки",null,null,null,null,null,null,null,null,null,null,null,null,null,null,null,null,null,null,null,null,null,"второй заезд личные очки",null,null,null,null,null,null,null,null,null,null,null,null,null,null,null,null,null,null,null,null,null,null,"Первый заезд командные очки",null,null,null,null,null,null,null,null,null,null,null,null,null,null,null,null,null,null,null,null,null,null,"Второй заезд командные очки"]
[1,"Московская область","\"Сборная ДОСААФ России - СШОР МО № 1\"","Орешкин Елисей",65,757,2,42,2,42,309,{"$f":"#REF!+#REF!","v":{"$error":"#REF!"}},null,null,{"$f":"IF(#REF!=1,25,0)","v":{"$error":"#REF!"}},{"$f":"IF(#REF!=2,22,0)","v":{"$error":"#REF!"}},{"$f":"IF(#REF!=3,20,0)","v":{"$error":"#REF!"}},{"$f":"IF(#REF!=4,18,0)","v":{"$error":"#REF!"}},{"$f":"IF(#REF!=5,16,0)","v":{"$error":"#REF!"}},{"$f":"IF(#REF!=6,15,0)","v":{"$error":"#REF!"}},{"$f":"IF(#REF!=7,14,0)","v":{"$error":"#REF!"}},{"$f":"IF(#REF!=8,13,0)","v":{"$error":"#REF!"}},{"$f":"IF(#REF!=9,12,0)","v":{"$error":"#REF!"}},{"$f":"IF(#REF!=10,11,0)","v":{"$error":"#REF!"}},{"$f":"IF(#REF!=11,10,0)","v":{"$error":"#REF!"}},{"$f":"IF(#REF!=12,9,0)","v":{"$error":"#REF!"}},{"$f":"IF(#REF!=13,8,0)","v":{"$error":"#REF!"}},{"$f":"IF(#REF!=14,7,0)","v":{"$error":"#REF!"}},{"$f":"IF(#REF!=15,6,0)","v":{"$error":"#REF!"}},{"$f":"IF(#REF!=16,5,0)","v":{"$error":"#REF!"}},{"$f":"IF(#REF!=17,4,0)","v":{"$error":"#REF!"}},{"$f":"IF(#REF!=18,3,0)","v":{"$error":"#REF!"}},{"$f":"IF(#REF!=19,2,0)","v":{"$error":"#REF!"}},{"$f":"IF(#REF!=20,1,0)","v":{"$error":"#REF!"}},{"$f":"IF(#REF!>20,0,0)","v":{"$error":"#REF!"}},{"$f":"IF(#REF!=\"сх\",0,0)","v":{"$error":"#REF!"}},{"$f":"SUM(O10:AI10)","v":{"$error":"#REF!"}},{"$f":"IF(#REF!=1,25,0)","v":{"$error":"#REF!"}},{"$f":"IF(#REF!=2,22,0)","v":{"$error":"#REF!"}},{"$f":"IF(#REF!=3,20,0)","v":{"$error":"#REF!"}},{"$f":"IF(#REF!=4,18,0)","v":{"$error":"#REF!"}},{"$f":"IF(#REF!=5,16,0)","v":{"$error":"#REF!"}},{"$f":"IF(#REF!=6,15,0)","v":{"$error":"#REF!"}},{"$f":"IF(#REF!=7,14,0)","v":{"$error":"#REF!"}},{"$f":"IF(#REF!=8,13,0)","v":{"$error":"#REF!"}},{"$f":"IF(#REF!=9,12,0)","v":{"$error":"#REF!"}},{"$f":"IF(#REF!=10,11,0)","v":{"$error":"#REF!"}},{"$f":"IF(#REF!=11,10,0)","v":{"$error":"#REF!"}},{"$f":"IF(#REF!=12,9,0)","v":{"$error":"#REF!"}},{"$f":"IF(#REF!=13,8,0)","v":{"$error":"#REF!"}},{"$f":"IF(#REF!=14,7,0)","v":{"$error":"#REF!"}},{"$f":"IF(#REF!=15,6,0)","v":{"$error":"#REF!"}},{"$f":"IF(#REF!=16,5,0)","v":{"$error":"#REF!"}},{"$f":"IF(#REF!=17,4,0)","v":{"$error":"#REF!"}},{"$f":"IF(#REF!=18,3,0)","v":{"$error":"#REF!"}},{"$f":"IF(#REF!=19,2,0)","v":{"$error":"#REF!"}},{"$f":"IF(#REF!=20,1,0)","v":{"$error":"#REF!"}},{"$f":"IF(#REF!>20,0,0)","v":{"$error":"#REF!"}},{"$f":"IF(#REF!=\"сх\",0,0)","v":{"$error":"#REF!"}},{"$f":"SUM(AL10:BF10)","v":{"$error":"#REF!"}},{"$f":"IF(#REF!=1,45,0)","v":{"$error":"#REF!"}},{"$f":"IF(#REF!=2,42,0)","v":{"$error":"#REF!"}},{"$f":"IF(#REF!=3,40,0)","v":{"$error":"#REF!"}},{"$f":"IF(#REF!=4,38,0)","v":{"$error":"#REF!"}},{"$f":"IF(#REF!=5,36,0)","v":{"$error":"#REF!"}},{"$f":"IF(#REF!=6,35,0)","v":{"$error":"#REF!"}},{"$f":"IF(#REF!=7,34,0)","v":{"$error":"#REF!"}},{"$f":"IF(#REF!=8,33,0)","v":{"$error":"#REF!"}},{"$f":"IF(#REF!=9,32,0)","v":{"$error":"#REF!"}},{"$f":"IF(#REF!=10,31,0)","v":{"$error":"#REF!"}},{"$f":"IF(#REF!=11,30,0)","v":{"$error":"#REF!"}},{"$f":"IF(#REF!=12,29,0)","v":{"$error":"#REF!"}},{"$f":"IF(#REF!=13,28,0)","v":{"$error":"#REF!"}},{"$f":"IF(#REF!=14,27,0)","v":{"$error":"#REF!"}},{"$f":"IF(#REF!=15,26,0)","v":{"$error":"#REF!"}},{"$f":"IF(#REF!=16,25,0)","v":{"$error":"#REF!"}},{"$f":"IF(#REF!=17,24,0)","v":{"$error":"#REF!"}},{"$f":"IF(#REF!=18,23,0)","v":{"$error":"#REF!"}},{"$f":"IF(#REF!=19,22,0)","v":{"$error":"#REF!"}},{"$f":"IF(#REF!=20,21,0)","v":{"$error":"#REF!"}},{"$f":"IF(#REF!=21,20,0)","v":{"$error":"#REF!"}},{"$f":"IF(#REF!=22,19,0)","v":{"$error":"#REF!"}},{"$f":"IF(#REF!=23,18,0)","v":{"$error":"#REF!"}},{"$f":"IF(#REF!=24,17,0)","v":{"$error":"#REF!"}},{"$f":"IF(#REF!=25,16,0)","v":{"$error":"#REF!"}},{"$f":"IF(#REF!=26,15,0)","v":{"$error":"#REF!"}},{"$f":"IF(#REF!=27,14,0)","v":{"$error":"#REF!"}},{"$f":"IF(#REF!=28,13,0)","v":{"$error":"#REF!"}},{"$f":"IF(#REF!=29,12,0)","v":{"$error":"#REF!"}},{"$f":"IF(#REF!=30,11,0)","v":{"$error":"#REF!"}},{"$f":"IF(#REF!=31,10,0)","v":{"$error":"#REF!"}},{"$f":"IF(#REF!=32,9,0)","v":{"$error":"#REF!"}},{"$f":"IF(#REF!=33,8,0)","v":{"$error":"#REF!"}},{"$f":"IF(#REF!=34,7,0)","v":{"$error":"#REF!"}},{"$f":"IF(#REF!=35,6,0)","v":{"$error":"#REF!"}},{"$f":"IF(#REF!=36,5,0)","v":{"$error":"#REF!"}},{"$f":"IF(#REF!=37,4,0)","v":{"$error":"#REF!"}},{"$f":"IF(#REF!=38,3,0)","v":{"$error":"#REF!"}},{"$f":"IF(#REF!=39,2,0)","v":{"$error":"#REF!"}},{"$f":"IF(#REF!=40,1,0)","v":{"$error":"#REF!"}},{"$f":"IF(#REF!>20,0,0)","v":{"$error":"#REF!"}},{"$f":"IF(#REF!=\"сх\",0,0)","v":{"$error":"#REF!"}},{"$f":"SUM(BI10:CX10)","v":{"$error":"#REF!"}},{"$f":"IF(#REF!=1,45,0)","v":{"$error":"#REF!"}},{"$f":"IF(#REF!=2,42,0)","v":{"$error":"#REF!"}},{"$f":"IF(#REF!=3,40,0)","v":{"$error":"#REF!"}},{"$f":"IF(#REF!=4,38,0)","v":{"$error":"#REF!"}},{"$f":"IF(#REF!=5,36,0)","v":{"$error":"#REF!"}},{"$f":"IF(#REF!=6,35,0)","v":{"$error":"#REF!"}},{"$f":"IF(#REF!=7,34,0)","v":{"$error":"#REF!"}},{"$f":"IF(#REF!=8,33,0)","v":{"$error":"#REF!"}},{"$f":"IF(#REF!=9,32,0)","v":{"$error":"#REF!"}},{"$f":"IF(#REF!=10,31,0)","v":{"$error":"#REF!"}},{"$f":"IF(#REF!=11,30,0)","v":{"$error":"#REF!"}},{"$f":"IF(#REF!=12,29,0)","v":{"$error":"#REF!"}},{"$f":"IF(#REF!=13,28,0)","v":{"$error":"#REF!"}},{"$f":"IF(#REF!=14,27,0)","v":{"$error":"#REF!"}},{"$f":"IF(#REF!=15,26,0)","v":{"$error":"#REF!"}},{"$f":"IF(#REF!=16,25,0)","v":{"$error":"#REF!"}},{"$f":"IF(#REF!=17,24,0)","v":{"$error":"#REF!"}},{"$f":"IF(#REF!=18,23,0)","v":{"$error":"#REF!"}},{"$f":"IF(#REF!=19,22,0)","v":{"$error":"#REF!"}},{"$f":"IF(#REF!=20,21,0)","v":{"$error":"#REF!"}},{"$f":"IF(#REF!=21,20,0)","v":{"$error":"#REF!"}},{"$f":"IF(#REF!=22,19,0)","v":{"$error":"#REF!"}},{"$f":"IF(#REF!=23,18,0)","v":{"$error":"#REF!"}},{"$f":"IF(#REF!=24,17,0)","v":{"$error":"#REF!"}},{"$f":"IF(#REF!=25,16,0)","v":{"$error":"#REF!"}},{"$f":"IF(#REF!=26,15,0)","v":{"$error":"#REF!"}},{"$f":"IF(#REF!=27,14,0)","v":{"$error":"#REF!"}},{"$f":"IF(#REF!=28,13,0)","v":{"$error":"#REF!"}},{"$f":"IF(#REF!=29,12,0)","v":{"$error":"#REF!"}},{"$f":"IF(#REF!=30,11,0)","v":{"$error":"#REF!"}},{"$f":"IF(#REF!=31,10,0)","v":{"$error":"#REF!"}},{"$f":"IF(#REF!=32,9,0)","v":{"$error":"#REF!"}},{"$f":"IF(#REF!=33,8,0)","v":{"$error":"#REF!"}},{"$f":"IF(#REF!=34,7,0)","v":{"$error":"#REF!"}},{"$f":"IF(#REF!=35,6,0)","v":{"$error":"#REF!"}},{"$f":"IF(#REF!=36,5,0)","v":{"$error":"#REF!"}},{"$f":"IF(#REF!=37,4,0)","v":{"$error":"#REF!"}},{"$f":"IF(#REF!=38,3,0)","v":{"$error":"#REF!"}},{"$f":"IF(#REF!=39,2,0)","v":{"$error":"#REF!"}},{"$f":"IF(#REF!=40,1,0)","v":{"$error":"#REF!"}},{"$f":"IF(#REF!>20,0,0)","v":{"$error":"#REF!"}},{"$f":"IF(#REF!=\"сх\",0,0)","v":{"$error":"#REF!"}},{"$f":"SUM(CZ10:EO10)","v":{"$error":"#REF!"}},null,{"$f":"IF(#REF!=\"сх\",\"ноль\",IF(#REF!>0,#REF!,\"Ноль\"))","v":{"$error":"#REF!"}},{"$f":"IF(#REF!=\"сх\",\"ноль\",IF(#REF!>0,#REF!,\"Ноль\"))","v":{"$error":"#REF!"}},null,{"$f":"MIN(ER10,ES10)","v":{"$error":"#REF!"}},{"$f":"IF(K10=#REF!,IF(#REF!<#REF!,#REF!,EZ10),#REF!)","v":{"$error":"#REF!"}},{"$f":"IF(K10=#REF!,IF(#REF!<#REF!,0,1))","v":{"$error":"#REF!"}},{"$f":"IF(AND(EU10>=21,EU10<>0),EU10,IF(K10<#REF!,\"СТОП\",EV10+EW10))","v":{"$error":"#REF!"}},null,15,16,null,{"$f":"IF(#REF!=1,25,0)","v":{"$error":"#REF!"}},{"$f":"IF(#REF!=2,22,0)","v":{"$error":"#REF!"}},{"$f":"IF(#REF!=3,20,0)","v":{"$error":"#REF!"}},{"$f":"IF(#REF!=4,18,0)","v":{"$error":"#REF!"}},{"$f":"IF(#REF!=5,16,0)","v":{"$error":"#REF!"}},{"$f":"IF(#REF!=6,15,0)","v":{"$error":"#REF!"}},{"$f":"IF(#REF!=7,14,0)","v":{"$error":"#REF!"}},{"$f":"IF(#REF!=8,13,0)","v":{"$error":"#REF!"}},{"$f":"IF(#REF!=9,12,0)","v":{"$error":"#REF!"}},{"$f":"IF(#REF!=10,11,0)","v":{"$error":"#REF!"}},{"$f":"IF(#REF!=11,10,0)","v":{"$error":"#REF!"}},{"$f":"IF(#REF!=12,9,0)","v":{"$error":"#REF!"}},{"$f":"IF(#REF!=13,8,0)","v":{"$error":"#REF!"}},{"$f":"IF(#REF!=14,7,0)","v":{"$error":"#REF!"}},{"$f":"IF(#REF!=15,6,0)","v":{"$error":"#REF!"}},{"$f":"IF(#REF!=16,5,0)","v":{"$error":"#REF!"}},{"$f":"IF(#REF!=17,4,0)","v":{"$error":"#REF!"}},{"$f":"IF(#REF!=18,3,0)","v":{"$error":"#REF!"}},{"$f":"IF(#REF!=19,2,0)","v":{"$error":"#REF!"}},{"$f":"IF(#REF!=20,1,0)","v":{"$error":"#REF!"}},{"$f":"IF(#REF!>20,0,0)","v":{"$error":"#REF!"}},{"$f":"IF(#REF!=\"сх\",0,0)","v":{"$error":"#REF!"}},{"$f":"SUM(FC10:FX10)","v":{"$error":"#REF!"}},{"$f":"IF(#REF!=1,25,0)","v":{"$error":"#REF!"}},{"$f":"IF(#REF!=2,22,0)","v":{"$error":"#REF!"}},{"$f":"IF(#REF!=3,20,0)","v":{"$error":"#REF!"}},{"$f":"IF(#REF!=4,18,0)","v":{"$error":"#REF!"}},{"$f":"IF(#REF!=5,16,0)","v":{"$error":"#REF!"}},{"$f":"IF(#REF!=6,15,0)","v":{"$error":"#REF!"}},{"$f":"IF(#REF!=7,14,0)","v":{"$error":"#REF!"}},{"$f":"IF(#REF!=8,13,0)","v":{"$error":"#REF!"}},{"$f":"IF(#REF!=9,12,0)","v":{"$error":"#REF!"}},{"$f":"IF(#REF!=10,11,0)","v":{"$error":"#REF!"}},{"$f":"IF(#REF!=11,10,0)","v":{"$error":"#REF!"}},{"$f":"IF(#REF!=12,9,0)","v":{"$error":"#REF!"}},{"$f":"IF(#REF!=13,8,0)","v":{"$error":"#REF!"}},{"$f":"IF(#REF!=14,7,0)","v":{"$error":"#REF!"}},{"$f":"IF(#REF!=15,6,0)","v":{"$error":"#REF!"}},{"$f":"IF(#REF!=16,5,0)","v":{"$error":"#REF!"}},{"$f":"IF(#REF!=17,4,0)","v":{"$error":"#REF!"}},{"$f":"IF(#REF!=18,3,0)","v":{"$error":"#REF!"}},{"$f":"IF(#REF!=19,2,0)","v":{"$error":"#REF!"}},{"$f":"IF(#REF!=20,1,0)","v":{"$error":"#REF!"}},{"$f":"IF(#REF!>20,0,0)","v":{"$error":"#REF!"}},{"$f":"IF(#REF!=\"сх\",0,0)","v":{"$error":"#REF!"}},{"$f":"SUM(FZ10:GU10)","v":{"$error":"#REF!"}},{"$f":"IF(#REF!=1,100,0)","v":{"$error":"#REF!"}},{"$f":"IF(#REF!=2,98,0)","v":{"$error":"#REF!"}},{"$f":"IF(#REF!=3,95,0)","v":{"$error":"#REF!"}},{"$f":"IF(#REF!=4,93,0)","v":{"$error":"#REF!"}},{"$f":"IF(#REF!=5,90,0)","v":{"$error":"#REF!"}},{"$f":"IF(#REF!=6,88,0)","v":{"$error":"#REF!"}},{"$f":"IF(#REF!=7,85,0)","v":{"$error":"#REF!"}},{"$f":"IF(#REF!=8,83,0)","v":{"$error":"#REF!"}},{"$f":"IF(#REF!=9,80,0)","v":{"$error":"#REF!"}},{"$f":"IF(#REF!=10,78,0)","v":{"$error":"#REF!"}},{"$f":"IF(#REF!=11,75,0)","v":{"$error":"#REF!"}},{"$f":"IF(#REF!=12,73,0)","v":{"$error":"#REF!"}},{"$f":"IF(#REF!=13,70,0)","v":{"$error":"#REF!"}},{"$f":"IF(#REF!=14,68,0)","v":{"$error":"#REF!"}},{"$f":"IF(#REF!=15,65,0)","v":{"$error":"#REF!"}},{"$f":"IF(#REF!=16,63,0)","v":{"$error":"#REF!"}},{"$f":"IF(#REF!=17,60,0)","v":{"$error":"#REF!"}},{"$f":"IF(#REF!=18,58,0)","v":{"$error":"#REF!"}},{"$f":"IF(#REF!=19,55,0)","v":{"$error":"#REF!"}},{"$f":"IF(#REF!=20,53,0)","v":{"$error":"#REF!"}},{"$f":"IF(#REF!>20,0,0)","v":{"$error":"#REF!"}},{"$f":"IF(#REF!=\"сх\",0,0)","v":{"$error":"#REF!"}},{"$f":"SUM(GW10:HR10)","v":{"$error":"#REF!"}},{"$f":"IF(#REF!=1,100,0)","v":{"$error":"#REF!"}},{"$f":"IF(#REF!=2,98,0)","v":{"$error":"#REF!"}},{"$f":"IF(#REF!=3,95,0)","v":{"$error":"#REF!"}},{"$f":"IF(#REF!=4,93,0)","v":{"$error":"#REF!"}},{"$f":"IF(#REF!=5,90,0)","v":{"$error":"#REF!"}},{"$f":"IF(#REF!=6,88,0)","v":{"$error":"#REF!"}},{"$f":"IF(#REF!=7,85,0)","v":{"$error":"#REF!"}},{"$f":"IF(#REF!=8,83,0)","v":{"$error":"#REF!"}},{"$f":"IF(#REF!=9,80,0)","v":{"$error":"#REF!"}},{"$f":"IF(#REF!=10,78,0)","v":{"$error":"#REF!"}},{"$f":"IF(#REF!=11,75,0)","v":{"$error":"#REF!"}},{"$f":"IF(#REF!=12,73,0)","v":{"$error":"#REF!"}},{"$f":"IF(#REF!=13,70,0)","v":{"$error":"#REF!"}},{"$f":"IF(#REF!=14,68,0)","v":{"$error":"#REF!"}},{"$f":"IF(#REF!=15,65,0)","v":{"$error":"#REF!"}},{"$f":"IF(#REF!=16,63,0)","v":{"$error":"#REF!"}},{"$f":"IF(#REF!=17,60,0)","v":{"$error":"#REF!"}},{"$f":"IF(#REF!=18,58,0)","v":{"$error":"#REF!"}},{"$f":"IF(#REF!=19,55,0)","v":{"$error":"#REF!"}},{"$f":"IF(#REF!=20,53,0)","v":{"$error":"#REF!"}},{"$f":"IF(#REF!>20,0,0)","v":{"$error":"#REF!"}},{"$f":"IF(#REF!=\"сх\",0,0)","v":{"$error":"#REF!"}},{"$f":"SUM(HT10:IO10)","v":{"$error":"#REF!"}}]
[null,null,null,"Полежаев Артем",65,771,7,34,4,38,null,{"$f":"#REF!+#REF!","v":{"$error":"#REF!"}},null,null,{"$f":"IF(#REF!=1,25,0)","v":{"$error":"#REF!"}},{"$f":"IF(#REF!=2,22,0)","v":{"$error":"#REF!"}},{"$f":"IF(#REF!=3,20,0)","v":{"$error":"#REF!"}},{"$f":"IF(#REF!=4,18,0)","v":{"$error":"#REF!"}},{"$f":"IF(#REF!=5,16,0)","v":{"$error":"#REF!"}},{"$f":"IF(#REF!=6,15,0)","v":{"$error":"#REF!"}},{"$f":"IF(#REF!=7,14,0)","v":{"$error":"#REF!"}},{"$f":"IF(#REF!=8,13,0)","v":{"$error":"#REF!"}},{"$f":"IF(#REF!=9,12,0)","v":{"$error":"#REF!"}},{"$f":"IF(#REF!=10,11,0)","v":{"$error":"#REF!"}},{"$f":"IF(#REF!=11,10,0)","v":{"$error":"#REF!"}},{"$f":"IF(#REF!=12,9,0)","v":{"$error":"#REF!"}},{"$f":"IF(#REF!=13,8,0)","v":{"$error":"#REF!"}},{"$f":"IF(#REF!=14,7,0)","v":{"$error":"#REF!"}},{"$f":"IF(#REF!=15,6,0)","v":{"$error":"#REF!"}},{"$f":"IF(#REF!=16,5,0)","v":{"$error":"#REF!"}},{"$f":"IF(#REF!=17,4,0)","v":{"$error":"#REF!"}},{"$f":"IF(#REF!=18,3,0)","v":{"$error":"#REF!"}},{"$f":"IF(#REF!=19,2,0)","v":{"$error":"#REF!"}},{"$f":"IF(#REF!=20,1,0)","v":{"$error":"#REF!"}},{"$f":"IF(#REF!>20,0,0)","v":{"$error":"#REF!"}},{"$f":"IF(#REF!=\"сх\",0,0)","v":{"$error":"#REF!"}},{"$error":"#REF!"},{"$f":"IF(#REF!=1,25,0)","v":{"$error":"#REF!"}},{"$f":"IF(#REF!=2,22,0)","v":{"$error":"#REF!"}},{"$f":"IF(#REF!=3,20,0)","v":{"$error":"#REF!"}},{"$f":"IF(#REF!=4,18,0)","v":{"$error":"#REF!"}},{"$f":"IF(#REF!=5,16,0)","v":{"$error":"#REF!"}},{"$f":"IF(#REF!=6,15,0)","v":{"$error":"#REF!"}},{"$f":"IF(#REF!=7,14,0)","v":{"$error":"#REF!"}},{"$f":"IF(#REF!=8,13,0)","v":{"$error":"#REF!"}},{"$f":"IF(#REF!=9,12,0)","v":{"$error":"#REF!"}},{"$f":"IF(#REF!=10,11,0)","v":{"$error":"#REF!"}},{"$f":"IF(#REF!=11,10,0)","v":{"$error":"#REF!"}},{"$f":"IF(#REF!=12,9,0)","v":{"$error":"#REF!"}},{"$f":"IF(#REF!=13,8,0)","v":{"$error":"#REF!"}},{"$f":"IF(#REF!=14,7,0)","v":{"$error":"#REF!"}},{"$f":"IF(#REF!=15,6,0)","v":{"$error":"#REF!"}},{"$f":"IF(#REF!=16,5,0)","v":{"$error":"#REF!"}},{"$f":"IF(#REF!=17,4,0)","v":{"$error":"#REF!"}},{"$f":"IF(#REF!=18,3,0)","v":{"$error":"#REF!"}},{"$f":"IF(#REF!=19,2,0)","v":{"$error":"#REF!"}},{"$f":"IF(#REF!=20,1,0)","v":{"$error":"#REF!"}},{"$f":"IF(#REF!>20,0,0)","v":{"$error":"#REF!"}},{"$f":"IF(#REF!=\"сх\",0,0)","v":{"$error":"#REF!"}},{"$error":"#REF!"},{"$f":"IF(#REF!=1,45,0)","v":{"$error":"#REF!"}},{"$f":"IF(#REF!=2,42,0)","v":{"$error":"#REF!"}},{"$f":"IF(#REF!=3,40,0)","v":{"$error":"#REF!"}},{"$f":"IF(#REF!=4,38,0)","v":{"$error":"#REF!"}},{"$f":"IF(#REF!=5,36,0)","v":{"$error":"#REF!"}},{"$f":"IF(#REF!=6,35,0)","v":{"$error":"#REF!"}},{"$f":"IF(#REF!=7,34,0)","v":{"$error":"#REF!"}},{"$f":"IF(#REF!=8,33,0)","v":{"$error":"#REF!"}},{"$f":"IF(#REF!=9,32,0)","v":{"$error":"#REF!"}},{"$f":"IF(#REF!=10,31,0)","v":{"$error":"#REF!"}},{"$f":"IF(#REF!=11,30,0)","v":{"$error":"#REF!"}},{"$f":"IF(#REF!=12,29,0)","v":{"$error":"#REF!"}},{"$f":"IF(#REF!=13,28,0)","v":{"$error":"#REF!"}},{"$f":"IF(#REF!=14,27,0)","v":{"$error":"#REF!"}},{"$f":"IF(#REF!=15,26,0)","v":{"$error":"#REF!"}},{"$f":"IF(#REF!=16,25,0)","v":{"$error":"#REF!"}},{"$f":"IF(#REF!=17,24,0)","v":{"$error":"#REF!"}},{"$f":"IF(#REF!=18,23,0)","v":{"$error":"#REF!"}},{"$f":"IF(#REF!=19,22,0)","v":{"$error":"#REF!"}},{"$f":"IF(#REF!=20,21,0)","v":{"$error":"#REF!"}},{"$f":"IF(#REF!=21,20,0)","v":{"$error":"#REF!"}},{"$f":"IF(#REF!=22,19,0)","v":{"$error":"#REF!"}},{"$f":"IF(#REF!=23,18,0)","v":{"$error":"#REF!"}},{"$f":"IF(#REF!=24,17,0)","v":{"$error":"#REF!"}},{"$f":"IF(#REF!=25,16,0)","v":{"$error":"#REF!"}},{"$f":"IF(#REF!=26,15,0)","v":{"$error":"#REF!"}},{"$f":"IF(#REF!=27,14,0)","v":{"$error":"#REF!"}},{"$f":"IF(#REF!=28,13,0)","v":{"$error":"#REF!"}},{"$f":"IF(#REF!=29,12,0)","v":{"$error":"#REF!"}},{"$f":"IF(#REF!=30,11,0)","v":{"$error":"#REF!"}},{"$f":"IF(#REF!=31,10,0)","v":{"$error":"#REF!"}},{"$f":"IF(#REF!=32,9,0)","v":{"$error":"#REF!"}},{"$f":"IF(#REF!=33,8,0)","v":{"$error":"#REF!"}},{"$f":"IF(#REF!=34,7,0)","v":{"$error":"#REF!"}},{"$f":"IF(#REF!=35,6,0)","v":{"$error":"#REF!"}},{"$f":"IF(#REF!=36,5,0)","v":{"$error":"#REF!"}},{"$f":"IF(#REF!=37,4,0)","v":{"$error":"#REF!"}},{"$f":"IF(#REF!=38,3,0)","v":{"$error":"#REF!"}},{"$f":"IF(#REF!=39,2,0)","v":{"$error":"#REF!"}},{"$f":"IF(#REF!=40,1,0)","v":{"$error":"#REF!"}},{"$f":"IF(#REF!>20,0,0)","v":{"$error":"#REF!"}},{"$f":"IF(#REF!=\"сх\",0,0)","v":{"$error":"#REF!"}},{"$error":"#REF!"},{"$f":"IF(#REF!=1,45,0)","v":{"$error":"#REF!"}},{"$f":"IF(#REF!=2,42,0)","v":{"$error":"#REF!"}},{"$f":"IF(#REF!=3,40,0)","v":{"$error":"#REF!"}},{"$f":"IF(#REF!=4,38,0)","v":{"$error":"#REF!"}},{"$f":"IF(#REF!=5,36,0)","v":{"$error":"#REF!"}},{"$f":"IF(#REF!=6,35,0)","v":{"$error":"#REF!"}},{"$f":"IF(#REF!=7,34,0)","v":{"$error":"#REF!"}},{"$f":"IF(#REF!=8,33,0)","v":{"$error":"#REF!"}},{"$f":"IF(#REF!=9,32,0)","v":{"$error":"#REF!"}},{"$f":"IF(#REF!=10,31,0)","v":{"$error":"#REF!"}},{"$f":"IF(#REF!=11,30,0)","v":{"$error":"#REF!"}},{"$f":"IF(#REF!=12,29,0)","v":{"$error":"#REF!"}},{"$f":"IF(#REF!=13,28,0)","v":{"$error":"#REF!"}},{"$f":"IF(#REF!=14,27,0)","v":{"$error":"#REF!"}},{"$f":"IF(#REF!=15,26,0)","v":{"$error":"#REF!"}},{"$f":"IF(#REF!=16,25,0)","v":{"$error":"#REF!"}},{"$f":"IF(#REF!=17,24,0)","v":{"$error":"#REF!"}},{"$f":"IF(#REF!=18,23,0)","v":{"$error":"#REF!"}},{"$f":"IF(#REF!=19,22,0)","v":{"$error":"#REF!"}},{"$f":"IF(#REF!=20,21,0)","v":{"$error":"#REF!"}},{"$f":"IF(#REF!=21,20,0)","v":{"$error":"#REF!"}},{"$f":"IF(#REF!=22,19,0)","v":{"$error":"#REF!"}},{"$f":"IF(#REF!=23,18,0)","v":{"$error":"#REF!"}},{"$f":"IF(#REF!=24,17,0)","v":{"$error":"#REF!"}},{"$f":"IF(#REF!=25,16,0)","v":{"$error":"#REF!"}},{"$f":"IF(#REF!=26,15,0)","v":{"$error":"#REF!"}},{"$f":"IF(#REF!=27,14,0)","v":{"$error":"#REF!"}},{"$f":"IF(#REF!=28,13,0)","v":{"$error":"#REF!"}},{"$f":"IF(#REF!=29,12,0)","v":{"$error":"#REF!"}},{"$f":"IF(#REF!=30,11,0)","v":{"$error":"#REF!"}},{"$f":"IF(#REF!=31,10,0)","v":{"$error":"#REF!"}},{"$f":"IF(#REF!=32,9,0)","v":{"$error":"#REF!"}},{"$f":"IF(#REF!=33,8,0)","v":{"$error":"#REF!"}},{"$f":"IF(#REF!=34,7,0)","v":{"$error":"#REF!"}},{"$f":"IF(#REF!=35,6,0)","v":{"$error":"#REF!"}},{"$f":"IF(#REF!=36,5,0)","v":{"$error":"#REF!"}},{"$f":"IF(#REF!=37,4,0)","v":{"$error":"#REF!"}},{"$f":"IF(#REF!=38,3,0)","v":{"$error":"#REF!"}},{"$f":"IF(#REF!=39,2,0)","v":{"$error":"#REF!"}},{"$f":"IF(#REF!=40,1,0)","v":{"$error":"#REF!"}},{"$f":"IF(#REF!>20,0,0)","v":{"$error":"#REF!"}},{"$f":"IF(#REF!=\"сх\",0,0)","v":{"$error":"#REF!"}},{"$error":"#REF!"},null,{"$f":"IF(#REF!=\"сх\",\"ноль\",IF(#REF!>0,#REF!,\"Ноль\"))","v":{"$error":"#REF!"}},{"$f":"IF(#REF!=\"сх\",\"ноль\",IF(#REF!>0,#REF!,\"Ноль\"))","v":{"$error":"#REF!"}},null,{"$error":"#REF!"},{"$f":"IF(K11=#REF!,IF(#REF!<#REF!,#REF!,EZ11),#REF!)","v":{"$error":"#REF!"}},{"$f":"IF(K11=#REF!,IF(#REF!<#REF!,0,1))","v":{"$error":"#REF!"}},{"$f":"IF(AND(EU11>=21,EU11<>0),EU11,IF(K11<#REF!,\"СТОП\",EV11+EW11))","v":{"$error":"#REF!"}},null,15,16,null,{"$f":"IF(#REF!=1,25,0)","v":{"$error":"#REF!"}},{"$f":"IF(#REF!=2,22,0)","v":{"$error":"#REF!"}},{"$f":"IF(#REF!=3,20,0)","v":{"$error":"#REF!"}},{"$f":"IF(#REF!=4,18,0)","v":{"$error":"#REF!"}},{"$f":"IF(#REF!=5,16,0)","v":{"$error":"#REF!"}},{"$f":"IF(#REF!=6,15,0)","v":{"$error":"#REF!"}},{"$f":"IF(#REF!=7,14,0)","v":{"$error":"#REF!"}},{"$f":"IF(#REF!=8,13,0)","v":{"$error":"#REF!"}},{"$f":"IF(#REF!=9,12,0)","v":{"$error":"#REF!"}},{"$f":"IF(#REF!=10,11,0)","v":{"$error":"#REF!"}},{"$f":"IF(#REF!=11,10,0)","v":{"$error":"#REF!"}},{"$f":"IF(#REF!=12,9,0)","v":{"$error":"#REF!"}},{"$f":"IF(#REF!=13,8,0)","v":{"$error":"#REF!"}},{"$f":"IF(#REF!=14,7,0)","v":{"$error":"#REF!"}},{"$f":"IF(#REF!=15,6,0)","v":{"$error":"#REF!"}},{"$f":"IF(#REF!=16,5,0)","v":{"$error":"#REF!"}},{"$f":"IF(#REF!=17,4,0)","v":{"$error":"#REF!"}},{"$f":"IF(#REF!=18,3,0)","v":{"$error":"#REF!"}},{"$f":"IF(#REF!=19,2,0)","v":{"$error":"#REF!"}},{"$f":"IF(#REF!=20,1,0)","v":{"$error":"#REF!"}},{"$f":"IF(#REF!>20,0,0)","v":{"$error":"#REF!"}},{"$f":"IF(#REF!=\"сх\",0,0)","v":{"$error":"#REF!"}},{"$error":"#REF!"},{"$f":"IF(#REF!=1,25,0)","v":{"$error":"#REF!"}},{"$f":"IF(#REF!=2,22,0)","v":{"$error":"#REF!"}},{"$f":"IF(#REF!=3,20,0)","v":{"$error":"#REF!"}},{"$f":"IF(#REF!=4,18,0)","v":{"$error":"#REF!"}},{"$f":"IF(#REF!=5,16,0)","v":{"$error":"#REF!"}},{"$f":"IF(#REF!=6,15,0)","v":{"$error":"#REF!"}},{"$f":"IF(#REF!=7,14,0)","v":{"$error":"#REF!"}},{"$f":"IF(#REF!=8,13,0)","v":{"$error":"#REF!"}},{"$f":"IF(#REF!=9,12,0)","v":{"$error":"#REF!"}},{"$f":"IF(#REF!=10,11,0)","v":{"$error":"#REF!"}},{"$f":"IF(#REF!=11,10,0)","v":{"$error":"#REF!"}},{"$f":"IF(#REF!=12,9,0)","v":{"$error":"#REF!"}},{"$f":"IF(#REF!=13,8,0)","v":{"$error":"#REF!"}},{"$f":"IF(#REF!=14,7,0)","v":{"$error":"#REF!"}},{"$f":"IF(#REF!=15,6,0)","v":{"$error":"#REF!"}},{"$f":"IF(#REF!=16,5,0)","v":{"$error":"#REF!"}},{"$f":"IF(#REF!=17,4,0)","v":{"$error":"#REF!"}},{"$f":"IF(#REF!=18,3,0)","v":{"$error":"#REF!"}},{"$f":"IF(#REF!=19,2,0)","v":{"$error":"#REF!"}},{"$f":"IF(#REF!=20,1,0)","v":{"$error":"#REF!"}},{"$f":"IF(#REF!>20,0,0)","v":{"$error":"#REF!"}},{"$f":"IF(#REF!=\"сх\",0,0)","v":{"$error":"#REF!"}},{"$error":"#REF!"},{"$f":"IF(#REF!=1,100,0)","v":{"$error":"#REF!"}},{"$f":"IF(#REF!=2,98,0)","v":{"$error":"#REF!"}},{"$f":"IF(#REF!=3,95,0)","v":{"$error":"#REF!"}},{"$f":"IF(#REF!=4,93,0)","v":{"$error":"#REF!"}},{"$f":"IF(#REF!=5,90,0)","v":{"$error":"#REF!"}},{"$f":"IF(#REF!=6,88,0)","v":{"$error":"#REF!"}},{"$f":"IF(#REF!=7,85,0)","v":{"$error":"#REF!"}},{"$f":"IF(#REF!=8,83,0)","v":{"$error":"#REF!"}},{"$f":"IF(#REF!=9,80,0)","v":{"$error":"#REF!"}},{"$f":"IF(#REF!=10,78,0)","v":{"$error":"#REF!"}},{"$f":"IF(#REF!=11,75,0)","v":{"$error":"#REF!"}},{"$f":"IF(#REF!=12,73,0)","v":{"$error":"#REF!"}},{"$f":"IF(#REF!=13,70,0)","v":{"$error":"#REF!"}},{"$f":"IF(#REF!=14,68,0)","v":{"$error":"#REF!"}},{"$f":"IF(#REF!=15,65,0)","v":{"$error":"#REF!"}},{"$f":"IF(#REF!=16,63,0)","v":{"$error":"#REF!"}},{"$f":"IF(#REF!=17,60,0)","v":{"$error":"#REF!"}},{"$f":"IF(#REF!=18,58,0)","v":{"$error":"#REF!"}},{"$f":"IF(#REF!=19,55,0)","v":{"$error":"#REF!"}},{"$f":"IF(#REF!=20,53,0)","v":{"$error":"#REF!"}},{"$f":"IF(#REF!>20,0,0)","v":{"$error":"#REF!"}},{"$f":"IF(#REF!=\"сх\",0,0)","v":{"$error":"#REF!"}},{"$error":"#REF!"},{"$f":"IF(#REF!=1,100,0)","v":{"$error":"#REF!"}},{"$f":"IF(#REF!=2,98,0)","v":{"$error":"#REF!"}},{"$f":"IF(#REF!=3,95,0)","v":{"$error":"#REF!"}},{"$f":"IF(#REF!=4,93,0)","v":{"$error":"#REF!"}},{"$f":"IF(#REF!=5,90,0)","v":{"$error":"#REF!"}},{"$f":"IF(#REF!=6,88,0)","v":{"$error":"#REF!"}},{"$f":"IF(#REF!=7,85,0)","v":{"$error":"#REF!"}},{"$f":"IF(#REF!=8,83,0)","v":{"$error":"#REF!"}},{"$f":"IF(#REF!=9,80,0)","v":{"$error":"#REF!"}},{"$f":"IF(#REF!=10,78,0)","v":{"$error":"#REF!"}},{"$f":"IF(#REF!=11,75,0)","v":{"$error":"#REF!"}},{"$f":"IF(#REF!=12,73,0)","v":{"$error":"#REF!"}},{"$f":"IF(#REF!=13,70,0)","v":{"$error":"#REF!"}},{"$f":"IF(#REF!=14,68,0)","v":{"$error":"#REF!"}},{"$f":"IF(#REF!=15,65,0)","v":{"$error":"#REF!"}},{"$f":"IF(#REF!=16,63,0)","v":{"$error":"#REF!"}},{"$f":"IF(#REF!=17,60,0)","v":{"$error":"#REF!"}},{"$f":"IF(#REF!=18,58,0)","v":{"$error":"#REF!"}},{"$f":"IF(#REF!=19,55,0)","v":{"$error":"#REF!"}},{"$f":"IF(#REF!=20,53,0)","v":{"$error":"#REF!"}},{"$f":"IF(#REF!>20,0,0)","v":{"$error":"#REF!"}},{"$f":"IF(#REF!=\"сх\",0,0)","v":{"$error":"#REF!"}},{"$error":"#REF!"}]
[null,null,null,"Лебедев Михаил",65,707,9,32,15,26]
[null,null,null,"Скоробогатов Егор",85,461,1,45,1,45]
[null,null,null,"Фролов Егор",85,700,2,42,2,42]
[null,null,null,"Федоров Александр","125 \"2Т\"",500,1,45,1,45,null,{"$f":"#REF!+#REF!","v":{"$error":"#REF!"}},null,null,{"$f":"IF(#REF!=1,25,0)","v":{"$error":"#REF!"}},{"$f":"IF(#REF!=2,22,0)","v":{"$error":"#REF!"}},{"$f":"IF(#REF!=3,20,0)","v":{"$error":"#REF!"}},{"$f":"IF(#REF!=4,18,0)","v":{"$error":"#REF!"}},{"$f":"IF(#REF!=5,16,0)","v":{"$error":"#REF!"}},{"$f":"IF(#REF!=6,15,0)","v":{"$error":"#REF!"}},{"$f":"IF(#REF!=7,14,0)","v":{"$error":"#REF!"}},{"$f":"IF(#REF!=8,13,0)","v":{"$error":"#REF!"}},{"$f":"IF(#REF!=9,12,0)","v":{"$error":"#REF!"}},{"$f":"IF(#REF!=10,11,0)","v":{"$error":"#REF!"}},{"$f":"IF(#REF!=11,10,0)","v":{"$error":"#REF!"}},{"$f":"IF(#REF!=12,9,0)","v":{"$error":"#REF!"}},{"$f":"IF(#REF!=13,8,0)","v":{"$error":"#REF!"}},{"$f":"IF(#REF!=14,7,0)","v":{"$error":"#REF!"}},{"$f":"IF(#REF!=15,6,0)","v":{"$error":"#REF!"}},{"$f":"IF(#REF!=16,5,0)","v":{"$error":"#REF!"}},{"$f":"IF(#REF!=17,4,0)","v":{"$error":"#REF!"}},{"$f":"IF(#REF!=18,3,0)","v":{"$error":"#REF!"}},{"$f":"IF(#REF!=19,2,0)","v":{"$error":"#REF!"}},{"$f":"IF(#REF!=20,1,0)","v":{"$error":"#REF!"}},{"$f":"IF(#REF!>20,0,0)","v":{"$error":"#REF!"}},{"$f":"IF(#REF!=\"сх\",0,0)","v":{"$error":"#REF!"}},{"$error":"#REF!"},{"$f":"IF(#REF!=1,25,0)","v":{"$error":"#REF!"}},{"$f":"IF(#REF!=2,22,0)","v":{"$error":"#REF!"}},{"$f":"IF(#REF!=3,20,0)","v":{"$error":"#REF!"}},{"$f":"IF(#REF!=4,18,0)","v":{"$error":"#REF!"}},{"$f":"IF(#REF!=5,16,0)","v":{"$error":"#REF!"}},{"$f":"IF(#REF!=6,15,0)","v":{"$error":"#REF!"}},{"$f":"IF(#REF!=7,14,0)","v":{"$error":"#REF!"}},{"$f":"IF(#REF!=8,13,0)","v":{"$error":"#REF!"}},{"$f":"IF(#REF!=9,12,0)","v":{"$error":"#REF!"}},{"$f":"IF(#REF!=10,11,0)","v":{"$error":"#REF!"}},{"$f":"IF(#REF!=11,10,0)","v":{"$error":"#REF!"}},{"$f":"IF(#REF!=12,9,0)","v":{"$error":"#REF!"}},{"$f":"IF(#REF!=13,8,0)","v":{"$error":"#REF!"}},{"$f":"IF(#REF!=14,7,0)","v":{"$error":"#REF!"}},{"$f":"IF(#REF!=15,6,0)","v":{"$error":"#REF!"}},{"$f":"IF(#REF!=16,5,0)","v":{"$error":"#REF!"}},{"$f":"IF(#REF!=17,4,0)","v":{"$error":"#REF!"}},{"$f":"IF(#REF!=18,3,0)","v":{"$error":"#REF!"}},{"$f":"IF(#REF!=19,2,0)","v":{"$error":"#REF!"}},{"$f":"IF(#REF!=20,1,0)","v":{"$error":"#REF!"}},{"$f":"IF(#REF!>20,0,0)","v":{"$error":"#REF!"}},{"$f":"IF(#REF!=\"сх\",0,0)","v":{"$error":"#REF!"}},{"$error":"#REF!"},{"$f":"IF(#REF!=1,45,0)","v":{"$error":"#REF!"}},{"$f":"IF(#REF!=2,42,0)","v":{"$error":"#REF!"}},{"$f":"IF(#REF!=3,40,0)","v":{"$error":"#REF!"}},{"$f":"IF(#REF!=4,38,0)","v":{"$error":"#REF!"}},{"$f":"IF(#REF!=5,36,0)","v":{"$error":"#REF!"}},{"$f":"IF(#REF!=6,35,0)","v":{"$error":"#REF!"}},{"$f":"IF(#REF!=7,34,0)","v":{"$error":"#REF!"}},{"$f":"IF(#REF!=8,33,0)","v":{"$error":"#REF!"}},{"$f":"IF(#REF!=9,32,0)","v":{"$error":"#REF!"}},{"$f":"IF(#REF!=10,31,0)","v":{"$error":"#REF!"}},{"$f":"IF(#REF!=11,30,0)","v":{"$error":"#REF!"}},{"$f":"IF(#REF!=12,29,0)","v":{"$error":"#REF!"}},{"$f":"IF(#REF!=13,28,0)","v":{"$error":"#REF!"}},{"$f":"IF(#REF!=14,27,0)","v":{"$error":"#REF!"}},{"$f":"IF(#REF!=15,26,0)","v":{"$error":"#REF!"}},{"$f":"IF(#REF!=16,25,0)","v":{"$error":"#REF!"}},{"$f":"IF(#REF!=17,24,0)","v":{"$error":"#REF!"}},{"$f":"IF(#REF!=18,23,0)","v":{"$error":"#REF!"}},{"$f":"IF(#REF!=19,22,0)","v":{"$error":"#REF!"}},{"$f":"IF(#REF!=20,21,0)","v":{"$error":"#REF!"}},{"$f":"IF(#REF!=21,20,0)","v":{"$error":"#REF!"}},{"$f":"IF(#REF!=22,19,0)","v":{"$error":"#REF!"}},{"$f":"IF(#REF!=23,18,0)","v":{"$error":"#REF!"}},{"$f":"IF(#REF!=24,17,0)","v":{"$error":"#REF!"}},{"$f":"IF(#REF!=25,16,0)","v":{"$error":"#REF!"}},{"$f":"IF(#REF!=26,15,0)","v":{"$error":"#REF!"}},{"$f":"IF(#REF!=27,14,0)","v":{"$error":"#REF!"}},{"$f":"IF(#REF!=28,13,0)","v":{"$error":"#REF!"}},{"$f":"IF(#REF!=29,12,0)","v":{"$error":"#REF!"}},{"$f":"IF(#REF!=30,11,0)","v":{"$error":"#REF!"}},{"$f":"IF(#REF!=31,10,0)","v":{"$error":"#REF!"}},{"$f":"IF(#REF!=32,9,0)","v":{"$error":"#REF!"}},{"$f":"IF(#REF!=33,8,0)","v":{"$error":"#REF!"}},{"$f":"IF(#REF!=34,7,0)","v":{"$error":"#REF!"}},{"$f":"IF(#REF!=35,6,0)","v":{"$error":"#REF!"}},{"$f":"IF(#REF!=36,5,0)","v":{"$error":"#REF!"}},{"$f":"IF(#REF!=37,4,0)","v":{"$error":"#REF!"}},{"$f":"IF(#REF!=38,3,0)","v":{"$error":"#REF!"}},{"$f":"IF(#REF!=39,2,0)","v":{"$error":"#REF!"}},{"$f":"IF(#REF!=40,1,0)","v":{"$error":"#REF!"}},{"$f":"IF(#REF!>20,0,0)","v":{"$error":"#REF!"}},{"$f":"IF(#REF!=\"сх\",0,0)","v":{"$error":"#REF!"}},{"$error":"#REF!"},{"$f":"IF(#REF!=1,45,0)","v":{"$error":"#REF!"}},{"$f":"IF(#REF!=2,42,0)","v":{"$error":"#REF!"}},{"$f":"IF(#REF!=3,40,0)","v":{"$error":"#REF!"}},{"$f":"IF(#REF!=4,38,0)","v":{"$error":"#REF!"}},{"$f":"IF(#REF!=5,36,0)","v":{"$error":"#REF!"}},{"$f":"IF(#REF!=6,35,0)","v":{"$error":"#REF!"}},{"$f":"IF(#REF!=7,34,0)","v":{"$error":"#REF!"}},{"$f":"IF(#REF!=8,33,0)","v":{"$error":"#REF!"}},{"$f":"IF(#REF!=9,32,0)","v":{"$error":"#REF!"}},{"$f":"IF(#REF!=10,31,0)","v":{"$error":"#REF!"}},{"$f":"IF(#REF!=11,30,0)","v":{"$error":"#REF!"}},{"$f":"IF(#REF!=12,29,0)","v":{"$error":"#REF!"}},{"$f":"IF(#REF!=13,28,0)","v":{"$error":"#REF!"}},{"$f":"IF(#REF!=14,27,0)","v":{"$error":"#REF!"}},{"$f":"IF(#REF!=15,26,0)","v":{"$error":"#REF!"}},{"$f":"IF(#REF!=16,25,0)","v":{"$error":"#REF!"}},{"$f":"IF(#REF!=17,24,0)","v":{"$error":"#REF!"}},{"$f":"IF(#REF!=18,23,0)","v":{"$error":"#REF!"}},{"$f":"IF(#REF!=19,22,0)","v":{"$error":"#REF!"}},{"$f":"IF(#REF!=20,21,0)","v":{"$error":"#REF!"}},{"$f":"IF(#REF!=21,20,0)","v":{"$error":"#REF!"}},{"$f":"IF(#REF!=22,19,0)","v":{"$error":"#REF!"}},{"$f":"IF(#REF!=23,18,0)","v":{"$error":"#REF!"}},{"$f":"IF(#REF!=24,17,0)","v":{"$error":"#REF!"}},{"$f":"IF(#REF!=25,16,0)","v":{"$error":"#REF!"}},{"$f":"IF(#REF!=26,15,0)","v":{"$error":"#REF!"}},{"$f":"IF(#REF!=27,14,0)","v":{"$error":"#REF!"}},{"$f":"IF(#REF!=28,13,0)","v":{"$error":"#REF!"}},{"$f":"IF(#REF!=29,12,0)","v":{"$error":"#REF!"}},{"$f":"IF(#REF!=30,11,0)","v":{"$error":"#REF!"}},{"$f":"IF(#REF!=31,10,0)","v":{"$error":"#REF!"}},{"$f":"IF(#REF!=32,9,0)","v":{"$error":"#REF!"}},{"$f":"IF(#REF!=33,8,0)","v":{"$error":"#REF!"}},{"$f":"IF(#REF!=34,7,0)","v":{"$error":"#REF!"}},{"$f":"IF(#REF!=35,6,0)","v":{"$error":"#REF!"}},{"$f":"IF(#REF!=36,5,0)","v":{"$error":"#REF!"}},{"$f":"IF(#REF!=37,4,0)","v":{"$error":"#REF!"}},{"$f":"IF(#REF!=38,3,0)","v":{"$error":"#REF!"}},{"$f":"IF(#REF!=39,2,0)","v":{"$error":"#REF!"}},{"$f":"IF(#REF!=40,1,0)","v":{"$error":"#REF!"}},{"$f":"IF(#REF!>20,0,0)","v":{"$error":"#REF!"}},{"$f":"IF(#REF!=\"сх\",0,0)","v":{"$error":"#REF!"}},{"$error":"#REF!"},null,{"$f":"IF(#REF!=\"сх\",\"ноль\",IF(#REF!>0,#REF!,\"Ноль\"))","v":{"$error":"#REF!"}},{"$f":"IF(#REF!=\"сх\",\"ноль\",IF(#REF!>0,#REF!,\"Ноль\"))","v":{"$error":"#REF!"}},null,{"$error":"#REF!"},{"$f":"IF(K15=#REF!,IF(#REF!<#REF!,#REF!,EZ15),#REF!)","v":{"$error":"#REF!"}},{"$f":"IF(K15=#REF!,IF(#REF!<#REF!,0,1))","v":{"$error":"#REF!"}},{"$f":"IF(AND(EU15>=21,EU15<>0),EU15,IF(K15<#REF!,\"СТОП\",EV15+EW15))","v":{"$error":"#REF!"}},null,15,16,null,{"$f":"IF(#REF!=1,25,0)","v":{"$error":"#REF!"}},{"$f":"IF(#REF!=2,22,0)","v":{"$error":"#REF!"}},{"$f":"IF(#REF!=3,20,0)","v":{"$error":"#REF!"}},{"$f":"IF(#REF!=4,18,0)","v":{"$error":"#REF!"}},{"$f":"IF(#REF!=5,16,0)","v":{"$error":"#REF!"}},{"$f":"IF(#REF!=6,15,0)","v":{"$error":"#REF!"}},{"$f":"IF(#REF!=7,14,0)","v":{"$error":"#REF!"}},{"$f":"IF(#REF!=8,13,0)","v":{"$error":"#REF!"}},{"$f":"IF(#REF!=9,12,0)","v":{"$error":"#REF!"}},{"$f":"IF(#REF!=10,11,0)","v":{"$error":"#REF!"}},{"$f":"IF(#REF!=11,10,0)","v":{"$error":"#REF!"}},{"$f":"IF(#REF!=12,9,0)","v":{"$error":"#REF!"}},{"$f":"IF(#REF!=13,8,0)","v":{"$error":"#REF!"}},{"$f":"IF(#REF!=14,7,0)","v":{"$error":"#REF!"}},{"$f":"IF(#REF!=15,6,0)","v":{"$error":"#REF!"}},{"$f":"IF(#REF!=16,5,0)","v":{"$error":"#REF!"}},{"$f":"IF(#REF!=17,4,0)","v":{"$error":"#REF!"}},{"$f":"IF(#REF!=18,3,0)","v":{"$error":"#REF!"}},{"$f":"IF(#REF!=19,2,0)","v":{"$error":"#REF!"}},{"$f":"IF(#REF!=20,1,0)","v":{"$error":"#REF!"}},{"$f":"IF(#REF!>20,0,0)","v":{"$error":"#REF!"}},{"$f":"IF(#REF!=\"сх\",0,0)","v":{"$error":"#REF!"}},{"$error":"#REF!"},{"$f":"IF(#REF!=1,25,0)","v":{"$error":"#REF!"}},{"$f":"IF(#REF!=2,22,0)","v":{"$error":"#REF!"}},{"$f":"IF(#REF!=3,20,0)","v":{"$error":"#REF!"}},{"$f":"IF(#REF!=4,18,0)","v":{"$error":"#REF!"}},{"$f":"IF(#REF!=5,16,0)","v":{"$error":"#REF!"}},{"$f":"IF(#REF!=6,15,0)","v":{"$error":"#REF!"}},{"$f":"IF(#REF!=7,14,0)","v":{"$error":"#REF!"}},{"$f":"IF(#REF!=8,13,0)","v":{"$error":"#REF!"}},{"$f":"IF(#REF!=9,12,0)","v":{"$error":"#REF!"}},{"$f":"IF(#REF!=10,11,0)","v":{"$error":"#REF!"}},{"$f":"IF(#REF!=11,10,0)","v":{"$error":"#REF!"}},{"$f":"IF(#REF!=12,9,0)","v":{"$error":"#REF!"}},{"$f":"IF(#REF!=13,8,0)","v":{"$error":"#REF!"}},{"$f":"IF(#REF!=14,7,0)","v":{"$error":"#REF!"}},{"$f":"IF(#REF!=15,6,0)","v":{"$error":"#REF!"}},{"$f":"IF(#REF!=16,5,0)","v":{"$error":"#REF!"}},{"$f":"IF(#REF!=17,4,0)","v":{"$error":"#REF!"}},{"$f":"IF(#REF!=18,3,0)","v":{"$error":"#REF!"}},{"$f":"IF(#REF!=19,2,0)","v":{"$error":"#REF!"}},{"$f":"IF(#REF!=20,1,0)","v":{"$error":"#REF!"}},{"$f":"IF(#REF!>20,0,0)","v":{"$error":"#REF!"}},{"$f":"IF(#REF!=\"сх\",0,0)","v":{"$error":"#REF!"}},{"$error":"#REF!"},{"$f":"IF(#REF!=1,100,0)","v":{"$error":"#REF!"}},{"$f":"IF(#REF!=2,98,0)","v":{"$error":"#REF!"}},{"$f":"IF(#REF!=3,95,0)","v":{"$error":"#REF!"}},{"$f":"IF(#REF!=4,93,0)","v":{"$error":"#REF!"}},{"$f":"IF(#REF!=5,90,0)","v":{"$error":"#REF!"}},{"$f":"IF(#REF!=6,88,0)","v":{"$error":"#REF!"}},{"$f":"IF(#REF!=7,85,0)","v":{"$error":"#REF!"}},{"$f":"IF(#REF!=8,83,0)","v":{"$error":"#REF!"}},{"$f":"IF(#REF!=9,80,0)","v":{"$error":"#REF!"}},{"$f":"IF(#REF!=10,78,0)","v":{"$error":"#REF!"}},{"$f":"IF(#REF!=11,75,0)","v":{"$error":"#REF!"}},{"$f":"IF(#REF!=12,73,0)","v":{"$error":"#REF!"}},{"$f":"IF(#REF!=13,70,0)","v":{"$error":"#REF!"}},{"$f":"IF(#REF!=14,68,0)","v":{"$error":"#REF!"}},{"$f":"IF(#REF!=15,65,0)","v":{"$error":"#REF!"}},{"$f":"IF(#REF!=16,63,0)","v":{"$error":"#REF!"}},{"$f":"IF(#REF!=17,60,0)","v":{"$error":"#REF!"}},{"$f":"IF(#REF!=18,58,0)","v":{"$error":"#REF!"}},{"$f":"IF(#REF!=19,55,0)","v":{"$error":"#REF!"}},{"$f":"IF(#REF!=20,53,0)","v":{"$error":"#REF!"}},{"$f":"IF(#REF!>20,0,0)","v":{"$error":"#REF!"}},{"$f":"IF(#REF!=\"сх\",0,0)","v":{"$error":"#REF!"}},{"$error":"#REF!"},{"$f":"IF(#REF!=1,100,0)","v":{"$error":"#REF!"}},{"$f":"IF(#REF!=2,98,0)","v":{"$error":"#REF!"}},{"$f":"IF(#REF!=3,95,0)","v":{"$error":"#REF!"}},{"$f":"IF(#REF!=4,93,0)","v":{"$error":"#REF!"}},{"$f":"IF(#REF!=5,90,0)","v":{"$error":"#REF!"}},{"$f":"IF(#REF!=6,88,0)","v":{"$error":"#REF!"}},{"$f":"IF(#REF!=7,85,0)","v":{"$error":"#REF!"}},{"$f":"IF(#REF!=8,83,0)","v":{"$error":"#REF!"}},{"$f":"IF(#REF!=9,80,0)","v":{"$error":"#REF!"}},{"$f":"IF(#REF!=10,78,0)","v":{"$error":"#REF!"}},{"$f":"IF(#REF!=11,75,0)","v":{"$error":"#REF!"}},{"$f":"IF(#REF!=12,73,0)","v":{"$error":"#REF!"}},{"$f":"IF(#REF!=13,70,0)","v":{"$error":"#REF!"}},{"$f":"IF(#REF!=14,68,0)","v":{"$error":"#REF!"}},{"$f":"IF(#REF!=15,65,0)","v":{"$error":"#REF!"}},{"$f":"IF(#REF!=16,63,0)","v":{"$error":"#REF!"}},{"$f":"IF(#REF!=17,60,0)","v":{"$error":"#REF!"}},{"$f":"IF(#REF!=18,58,0)","v":{"$error":"#REF!"}},{"$f":"IF(#REF!=19,55,0)","v":{"$error":"#REF!"}},{"$f":"IF(#REF!=20,53,0)","v":{"$error":"#REF!"}},{"$f":"IF(#REF!>20,0,0)","v":{"$error":"#REF!"}},{"$f":"IF(#REF!=\"сх\",0,0)","v":{"$error":"#REF!"}},{"$error":"#REF!"}]
[null,null,null,"Гаврилов Кирилл","125 \"4Т\"",669,2,42,1,45,null,{"$f":"#REF!+#REF!","v":{"$error":"#REF!"}},null,null,{"$f":"IF(#REF!=1,25,0)","v":{"$error":"#REF!"}},{"$f":"IF(#REF!=2,22,0)","v":{"$error":"#REF!"}},{"$f":"IF(#REF!=3,20,0)","v":{"$error":"#REF!"}},{"$f":"IF(#REF!=4,18,0)","v":{"$error":"#REF!"}},{"$f":"IF(#REF!=5,16,0)","v":{"$error":"#REF!"}},{"$f":"IF(#REF!=6,15,0)","v":{"$error":"#REF!"}},{"$f":"IF(#REF!=7,14,0)","v":{"$error":"#REF!"}},{"$f":"IF(#REF!=8,13,0)","v":{"$error":"#REF!"}},{"$f":"IF(#REF!=9,12,0)","v":{"$error":"#REF!"}},{"$f":"IF(#REF!=10,11,0)","v":{"$error":"#REF!"}},{"$f":"IF(#REF!=11,10,0)","v":{"$error":"#REF!"}},{"$f":"IF(#REF!=12,9,0)","v":{"$error":"#REF!"}},{"$f":"IF(#REF!=13,8,0)","v":{"$error":"#REF!"}},{"$f":"IF(#REF!=14,7,0)","v":{"$error":"#REF!"}},{"$f":"IF(#REF!=15,6,0)","v":{"$error":"#REF!"}},{"$f":"IF(#REF!=16,5,0)","v":{"$error":"#REF!"}},{"$f":"IF(#REF!=17,4,0)","v":{"$error":"#REF!"}},{"$f":"IF(#REF!=18,3,0)","v":{"$error":"#REF!"}},{"$f":"IF(#REF!=19,2,0)","v":{"$error":"#REF!"}},{"$f":"IF(#REF!=20,1,0)","v":{"$error":"#REF!"}},{"$f":"IF(#REF!>20,0,0)","v":{"$error":"#REF!"}},{"$f":"IF(#REF!=\"сх\",0,0)","v":{"$error":"#REF!"}},{"$error":"#REF!"},{"$f":"IF(#REF!=1,25,0)","v":{"$error":"#REF!"}},{"$f":"IF(#REF!=2,22,0)","v":{"$error":"#REF!"}},{"$f":"IF(#REF!=3,20,0)","v":{"$error":"#REF!"}},{"$f":"IF(#REF!=4,18,0)","v":{"$error":"#REF!"}},{"$f":"IF(#REF!=5,16,0)","v":{"$error":"#REF!"}},{"$f":"IF(#REF!=6,15,0)","v":{"$error":"#REF!"}},{"$f":"IF(#REF!=7,14,0)","v":{"$error":"#REF!"}},{"$f":"IF(#REF!=8,13,0)","v":{"$error":"#REF!"}},{"$f":"IF(#REF!=9,12,0)","v":{"$error":"#REF!"}},{"$f":"IF(#REF!=10,11,0)","v":{"$error":"#REF!"}},{"$f":"IF(#REF!=11,10,0)","v":{"$error":"#REF!"}},{"$f":"IF(#REF!=12,9,0)","v":{"$error":"#REF!"}},{"$f":"IF(#REF!=13,8,0)","v":{"$error":"#REF!"}},{"$f":"IF(#REF!=14,7,0)","v":{"$error":"#REF!"}},{"$f":"IF(#REF!=15,6,0)","v":{"$error":"#REF!"}},{"$f":"IF(#REF!=16,5,0)","v":{"$error":"#REF!"}},{"$f":"IF(#REF!=17,4,0)","v":{"$error":"#REF!"}},{"$f":"IF(#REF!=18,3,0)","v":{"$error":"#REF!"}},{"$f":"IF(#REF!=19,2,0)","v":{"$error":"#REF!"}},{"$f":"IF(#REF!=20,1,0)","v":{"$error":"#REF!"}},{"$f":"IF(#REF!>20,0,0)","v":{"$error":"#REF!"}},{"$f":"IF(#REF!=\"сх\",0,0)","v":{"$error":"#REF!"}},{"$error":"#REF!"},{"$f":"IF(#REF!=1,45,0)","v":{"$error":"#REF!"}},{"$f":"IF(#REF!=2,42,0)","v":{"$error":"#REF!"}},{"$f":"IF(#REF!=3,40,0)","v":{"$error":"#REF!"}},{"$f":"IF(#REF!=4,38,0)","v":{"$error":"#REF!"}},{"$f":"IF(#REF!=5,36,0)","v":{"$error":"#REF!"}},{"$f":"IF(#REF!=6,35,0)","v":{"$error":"#REF!"}},{"$f":"IF(#REF!=7,34,0)","v":{"$error":"#REF!"}},{"$f":"IF(#REF!=8,33,0)","v":{"$error":"#REF!"}},{"$f":"IF(#REF!=9,32,0)","v":{"$error":"#REF!"}},{"$f":"IF(#REF!=10,31,0)","v":{"$error":"#REF!"}},{"$f":"IF(#REF!=11,30,0)","v":{"$error":"#REF!"}},{"$f":"IF(#REF!=12,29,0)","v":{"$error":"#REF!"}},{"$f":"IF(#REF!=13,28,0)","v":{"$error":"#REF!"}},{"$f":"IF(#REF!=14,27,0)","v":{"$error":"#REF!"}},{"$f":"IF(#REF!=15,26,0)","v":{"$error":"#REF!"}},{"$f":"IF(#REF!=16,25,0)","v":{"$error":"#REF!"}},{"$f":"IF(#REF!=17,24,0)","v":{"$error":"#REF!"}},{"$f":"IF(#REF!=18,23,0)","v":{"$error":"#REF!"}},{"$f":"IF(#REF!=19,22,0)","v":{"$error":"#REF!"}},{"$f":"IF(#REF!=20,21,0)","v":{"$error":"#REF!"}},{"$f":"IF(#REF!=21,20,0)","v":{"$error":"#REF!"}},{"$f":"IF(#REF!=22,19,0)","v":{"$error":"#REF!"}},{"$f":"IF(#REF!=23,18,0)","v":{"$error":"#REF!"}},{"$f":"IF(#REF!=24,17,0)","v":{"$error":"#REF!"}},{"$f":"IF(#REF!=25,16,0)","v":{"$error":"#REF!"}},{"$f":"IF(#REF!=26,15,0)","v":{"$error":"#REF!"}},{"$f":"IF(#REF!=27,14,0)","v":{"$error":"#REF!"}},{"$f":"IF(#REF!=28,13,0)","v":{"$error":"#REF!"}},{"$f":"IF(#REF!=29,12,0)","v":{"$error":"#REF!"}},{"$f":"IF(#REF!=30,11,0)","v":{"$error":"#REF!"}},{"$f":"IF(#REF!=31,10,0)","v":{"$error":"#REF!"}},{"$f":"IF(#REF!=32,9,0)","v":{"$error":"#REF!"}},{"$f":"IF(#REF!=33,8,0)","v":{"$error":"#REF!"}},{"$f":"IF(#REF!=34,7,0)","v":{"$error":"#REF!"}},{"$f":"IF(#REF!=35,6,0)","v":{"$error":"#REF!"}},{"$f":"IF(#REF!=36,5,0)","v":{"$error":"#REF!"}},{"$f":"IF(#REF!=37,4,0)","v":{"$error":"#REF!"}},{"$f":"IF(#REF!=38,3,0)","v":{"$error":"#REF!"}},{"$f":"IF(#REF!=39,2,0)","v":{"$error":"#REF!"}},{"$f":"IF(#REF!=40,1,0)","v":{"$error":"#REF!"}},{"$f":"IF(#REF!>20,0,0)","v":{"$error":"#REF!"}},{"$f":"IF(#REF!=\"сх\",0,0)","v":{"$error":"#REF!"}},{"$error":"#REF!"},{"$f":"IF(#REF!=1,45,0)","v":{"$error":"#REF!"}},{"$f":"IF(#REF!=2,42,0)","v":{"$error":"#REF!"}},{"$f":"IF(#REF!=3,40,0)","v":{"$error":"#REF!"}},{"$f":"IF(#REF!=4,38,0)","v":{"$error":"#REF!"}},{"$f":"IF(#REF!=5,36,0)","v":{"$error":"#REF!"}},{"$f":"IF(#REF!=6,35,0)","v":{"$error":"#REF!"}},{"$f":"IF(#REF!=7,34,0)","v":{"$error":"#REF!"}},{"$f":"IF(#REF!=8,33,0)","v":{"$error":"#REF!"}},{"$f":"IF(#REF!=9,32,0)","v":{"$error":"#REF!"}},{"$f":"IF(#REF!=10,31,0)","v":{"$error":"#REF!"}},{"$f":"IF(#REF!=11,30,0)","v":{"$error":"#REF!"}},{"$f":"IF(#REF!=12,29,0)","v":{"$error":"#REF!"}},{"$f":"IF(#REF!=13,28,0)","v":{"$error":"#REF!"}},{"$f":"IF(#REF!=14,27,0)","v":{"$error":"#REF!"}},{"$f":"IF(#REF!=15,26,0)","v":{"$error":"#REF!"}},{"$f":"IF(#REF!=16,25,0)","v":{"$error":"#REF!"}},{"$f":"IF(#REF!=17,24,0)","v":{"$error":"#REF!"}},{"$f":"IF(#REF!=18,23,0)","v":{"$error":"#REF!"}},{"$f":"IF(#REF!=19,22,0)","v":{"$error":"#REF!"}},{"$f":"IF(#REF!=20,21,0)","v":{"$error":"#REF!"}},{"$f":"IF(#REF!=21,20,0)","v":{"$error":"#REF!"}},{"$f":"IF(#REF!=22,19,0)","v":{"$error":"#REF!"}},{"$f":"IF(#REF!=23,18,0)","v":{"$error":"#REF!"}},{"$f":"IF(#REF!=24,17,0)","v":{"$error":"#REF!"}},{"$f":"IF(#REF!=25,16,0)","v":{"$error":"#REF!"}},{"$f":"IF(#REF!=26,15,0)","v":{"$error":"#REF!"}},{"$f":"IF(#REF!=27,14,0)","v":{"$error":"#REF!"}},{"$f":"IF(#REF!=28,13,0)","v":{"$error":"#REF!"}},{"$f":"IF(#REF!=29,12,0)","v":{"$error":"#REF!"}},{"$f":"IF(#REF!=30,11,0)","v":{"$error":"#REF!"}},{"$f":"IF(#REF!=31,10,0)","v":{"$error":"#REF!"}},{"$f":"IF(#REF!=32,9,0)","v":{"$error":"#REF!"}},{"$f":"IF(#REF!=33,8,0)","v":{"$error":"#REF!"}},{"$f":"IF(#REF!=34,7,0)","v":{"$error":"#REF!"}},{"$f":"IF(#REF!=35,6,0)","v":{"$error":"#REF!"}},{"$f":"IF(#REF!=36,5,0)","v":{"$error":"#REF!"}},{"$f":"IF(#REF!=37,4,0)","v":{"$error":"#REF!"}},{"$f":"IF(#REF!=38,3,0)","v":{"$error":"#REF!"}},{"$f":"IF(#REF!=39,2,0)","v":{"$error":"#REF!"}},{"$f":"IF(#REF!=40,1,0)","v":{"$error":"#REF!"}},{"$f":"IF(#REF!>20,0,0)","v":{"$error":"#REF!"}},{"$f":"IF(#REF!=\"сх\",0,0)","v":{"$error":"#REF!"}},{"$error":"#REF!"},null,{"$f":"IF(#REF!=\"сх\",\"ноль\",IF(#REF!>0,#REF!,\"Ноль\"))","v":{"$error":"#REF!"}},{"$f":"IF(#REF!=\"сх\",\"ноль\",IF(#REF!>0,#REF!,\"Ноль\"))","v":{"$error":"#REF!"}},null,{"$error":"#REF!"},{"$f":"IF(K16=#REF!,IF(#REF!<#REF!,#REF!,EZ16),#REF!)","v":{"$error":"#REF!"}},{"$f":"IF(K16=#REF!,IF(#REF!<#REF!,0,1))","v":{"$error":"#REF!"}},{"$f":"IF(AND(EU16>=21,EU16<>0),EU16,IF(K16<#REF!,\"СТОП\",EV16+EW16))","v":{"$error":"#REF!"}},null,15,16,null,{"$f":"IF(#REF!=1,25,0)","v":{"$error":"#REF!"}},{"$f":"IF(#REF!=2,22,0)","v":{"$error":"#REF!"}},{"$f":"IF(#REF!=3,20,0)","v":{"$error":"#REF!"}},{"$f":"IF(#REF!=4,18,0)","v":{"$error":"#REF!"}},{"$f":"IF(#REF!=5,16,0)","v":{"$error":"#REF!"}},{"$f":"IF(#REF!=6,15,0)","v":{"$error":"#REF!"}},{"$f":"IF(#REF!=7,14,0)","v":{"$error":"#REF!"}},{"$f":"IF(#REF!=8,13,0)","v":{"$error":"#REF!"}},{"$f":"IF(#REF!=9,12,0)","v":{"$error":"#REF!"}},{"$f":"IF(#REF!=10,11,0)","v":{"$error":"#REF!"}},{"$f":"IF(#REF!=11,10,0)","v":{"$error":"#REF!"}},{"$f":"IF(#REF!=12,9,0)","v":{"$error":"#REF!"}},{"$f":"IF(#REF!=13,8,0)","v":{"$error":"#REF!"}},{"$f":"IF(#REF!=14,7,0)","v":{"$error":"#REF!"}},{"$f":"IF(#REF!=15,6,0)","v":{"$error":"#REF!"}},{"$f":"IF(#REF!=16,5,0)","v":{"$error":"#REF!"}},{"$f":"IF(#REF!=17,4,0)","v":{"$error":"#REF!"}},{"$f":"IF(#REF!=18,3,0)","v":{"$error":"#REF!"}},{"$f":"IF(#REF!=19,2,0)","v":{"$error":"#REF!"}},{"$f":"IF(#REF!=20,1,0)","v":{"$error":"#REF!"}},{"$f":"IF(#REF!>20,0,0)","v":{"$error":"#REF!"}},{"$f":"IF(#REF!=\"сх\",0,0)","v":{"$error":"#REF!"}},{"$error":"#REF!"},{"$f":"IF(#REF!=1,25,0)","v":{"$error":"#REF!"}},{"$f":"IF(#REF!=2,22,0)","v":{"$error":"#REF!"}},{"$f":"IF(#REF!=3,20,0)","v":{"$error":"#REF!"}},{"$f":"IF(#REF!=4,18,0)","v":{"$error":"#REF!"}},{"$f":"IF(#REF!=5,16,0)","v":{"$error":"#REF!"}},{"$f":"IF(#REF!=6,15,0)","v":{"$error":"#REF!"}},{"$f":"IF(#REF!=7,14,0)","v":{"$error":"#REF!"}},{"$f":"IF(#REF!=8,13,0)","v":{"$error":"#REF!"}},{"$f":"IF(#REF!=9,12,0)","v":{"$error":"#REF!"}},{"$f":"IF(#REF!=10,11,0)","v":{"$error":"#REF!"}},{"$f":"IF(#REF!=11,10,0)","v":{"$error":"#REF!"}},{"$f":"IF(#REF!=12,9,0)","v":{"$error":"#REF!"}},{"$f":"IF(#REF!=13,8,0)","v":{"$error":"#REF!"}},{"$f":"IF(#REF!=14,7,0)","v":{"$error":"#REF!"}},{"$f":"IF(#REF!=15,6,0)","v":{"$error":"#REF!"}},{"$f":"IF(#REF!=16,5,0)","v":{"$error":"#REF!"}},{"$f":"IF(#REF!=17,4,0)","v":{"$error":"#REF!"}},{"$f":"IF(#REF!=18,3,0)","v":{"$error":"#REF!"}},{"$f":"IF(#REF!=19,2,0)","v":{"$error":"#REF!"}},{"$f":"IF(#REF!=20,1,0)","v":{"$error":"#REF!"}},{"$f":"IF(#REF!>20,0,0)","v":{"$error":"#REF!"}},{"$f":"IF(#REF!=\"сх\",0,0)","v":{"$error":"#REF!"}},{"$error":"#REF!"},{"$f":"IF(#REF!=1,100,0)","v":{"$error":"#REF!"}},{"$f":"IF(#REF!=2,98,0)","v":{"$error":"#REF!"}},{"$f":"IF(#REF!=3,95,0)","v":{"$error":"#REF!"}},{"$f":"IF(#REF!=4,93,0)","v":{"$error":"#REF!"}},{"$f":"IF(#REF!=5,90,0)","v":{"$error":"#REF!"}},{"$f":"IF(#REF!=6,88,0)","v":{"$error":"#REF!"}},{"$f":"IF(#REF!=7,85,0)","v":{"$error":"#REF!"}},{"$f":"IF(#REF!=8,83,0)","v":{"$error":"#REF!"}},{"$f":"IF(#REF!=9,80,0)","v":{"$error":"#REF!"}},{"$f":"IF(#REF!=10,78,0)","v":{"$error":"#REF!"}},{"$f":"IF(#REF!=11,75,0)","v":{"$error":"#REF!"}},{"$f":"IF(#REF!=12,73,0)","v":{"$error":"#REF!"}},{"$f":"IF(#REF!=13,70,0)","v":{"$error":"#REF!"}},{"$f":"IF(#REF!=14,68,0)","v":{"$error":"#REF!"}},{"$f":"IF(#REF!=15,65,0)","v":{"$error":"#REF!"}},{"$f":"IF(#REF!=16,63,0)","v":{"$error":"#REF!"}},{"$f":"IF(#REF!=17,60,0)","v":{"$error":"#REF!"}},{"$f":"IF(#REF!=18,58,0)","v":{"$error":"#REF!"}},{"$f":"IF(#REF!=19,55,0)","v":{"$error":"#REF!"}},{"$f":"IF(#REF!=20,53,0)","v":{"$error":"#REF!"}},{"$f":"IF(#REF!>20,0,0)","v":{"$error":"#REF!"}},{"$f":"IF(#REF!=\"сх\",0,0)","v":{"$error":"#REF!"}},{"$error":"#REF!"},{"$f":"IF(#REF!=1,100,0)","v":{"$error":"#REF!"}},{"$f":"IF(#REF!=2,98,0)","v":{"$error":"#REF!"}},{"$f":"IF(#REF!=3,95,0)","v":{"$error":"#REF!"}},{"$f":"IF(#REF!=4,93,0)","v":{"$error":"#REF!"}},{"$f":"IF(#REF!=5,90,0)","v":{"$error":"#REF!"}},{"$f":"IF(#REF!=6,88,0)","v":{"$error":"#REF!"}},{"$f":"IF(#REF!=7,85,0)","v":{"$error":"#REF!"}},{"$f":"IF(#REF!=8,83,0)","v":{"$error":"#REF!"}},{"$f":"IF(#REF!=9,80,0)","v":{"$error":"#REF!"}},{"$f":"IF(#REF!=10,78,0)","v":{"$error":"#REF!"}},{"$f":"IF(#REF!=11,75,0)","v":{"$error":"#REF!"}},{"$f":"IF(#REF!=12,73,0)","v":{"$error":"#REF!"}},{"$f":"IF(#REF!=13,70,0)","v":{"$error":"#REF!"}},{"$f":"IF(#REF!=14,68,0)","v":{"$error":"#REF!"}},{"$f":"IF(#REF!=15,65,0)","v":{"$error":"#REF!"}},{"$f":"IF(#REF!=16,63,0)","v":{"$error":"#REF!"}},{"$f":"IF(#REF!=17,60,0)","v":{"$error":"#REF!"}},{"$f":"IF(#REF!=18,58,0)","v":{"$error":"#REF!"}},{"$f":"IF(#REF!=19,55,0)","v":{"$error":"#REF!"}},{"$f":"IF(#REF!=20,53,0)","v":{"$error":"#REF!"}},{"$f":"IF(#REF!>20,0,0)","v":{"$error":"#REF!"}},{"$f":"IF(#REF!=\"сх\",0,0)","v":{"$error":"#REF!"}},{"$error":"#REF!"}]
[null,null,null,"Галицкий Арсений","125 \"4Т\"",70,4,38,4,38,null,{"$f":"#REF!+#REF!","v":{"$error":"#REF!"}},null,null,{"$f":"IF(#REF!=1,25,0)","v":{"$error":"#REF!"}},{"$f":"IF(#REF!=2,22,0)","v":{"$error":"#REF!"}},{"$f":"IF(#REF!=3,20,0)","v":{"$error":"#REF!"}},{"$f":"IF(#REF!=4,18,0)","v":{"$error":"#REF!"}},{"$f":"IF(#REF!=5,16,0)","v":{"$error":"#REF!"}},{"$f":"IF(#REF!=6,15,0)","v":{"$error":"#REF!"}},{"$f":"IF(#REF!=7,14,0)","v":{"$error":"#REF!"}},{"$f":"IF(#REF!=8,13,0)","v":{"$error":"#REF!"}},{"$f":"IF(#REF!=9,12,0)","v":{"$error":"#REF!"}},{"$f":"IF(#REF!=10,11,0)","v":{"$error":"#REF!"}},{"$f":"IF(#REF!=11,10,0)","v":{"$error":"#REF!"}},{"$f":"IF(#REF!=12,9,0)","v":{"$error":"#REF!"}},{"$f":"IF(#REF!=13,8,0)","v":{"$error":"#REF!"}},{"$f":"IF(#REF!=14,7,0)","v":{"$error":"#REF!"}},{"$f":"IF(#REF!=15,6,0)","v":{"$error":"#REF!"}},{"$f":"IF(#REF!=16,5,0)","v":{"$error":"#REF!"}},{"$f":"IF(#REF!=17,4,0)","v":{"$error":"#REF!"}},{"$f":"IF(#REF!=18,3,0)","v":{"$error":"#REF!"}},{"$f":"IF(#REF!=19,2,0)","v":{"$error":"#REF!"}},{"$f":"IF(#REF!=20,1,0)","v":{"$error":"#REF!"}},{"$f":"IF(#REF!>20,0,0)","v":{"$error":"#REF!"}},{"$f":"IF(#REF!=\"сх\",0,0)","v":{"$error":"#REF!"}},{"$error":"#REF!"},{"$f":"IF(#REF!=1,25,0)","v":{"$error":"#REF!"}},{"$f":"IF(#REF!=2,22,0)","v":{"$error":"#REF!"}},{"$f":"IF(#REF!=3,20,0)","v":{"$error":"#REF!"}},{"$f":"IF(#REF!=4,18,0)","v":{"$error":"#REF!"}},{"$f":"IF(#REF!=5,16,0)","v":{"$error":"#REF!"}},{"$f":"IF(#REF!=6,15,0)","v":{"$error":"#REF!"}},{"$f":"IF(#REF!=7,14,0)","v":{"$error":"#REF!"}},{"$f":"IF(#REF!=8,13,0)","v":{"$error":"#REF!"}},{"$f":"IF(#REF!=9,12,0)","v":{"$error":"#REF!"}},{"$f":"IF(#REF!=10,11,0)","v":{"$error":"#REF!"}},{"$f":"IF(#REF!=11,10,0)","v":{"$error":"#REF!"}},{"$f":"IF(#REF!=12,9,0)","v":{"$error":"#REF!"}},{"$f":"IF(#REF!=13,8,0)","v":{"$error":"#REF!"}},{"$f":"IF(#REF!=14,7,0)","v":{"$error":"#REF!"}},{"$f":"IF(#REF!=15,6,0)","v":{"$error":"#REF!"}},{"$f":"IF(#REF!=16,5,0)","v":{"$error":"#REF!"}},{"$f":"IF(#REF!=17,4,0)","v":{"$error":"#REF!"}},{"$f":"IF(#REF!=18,3,0)","v":{"$error":"#REF!"}},{"$f":"IF(#REF!=19,2,0)","v":{"$error":"#REF!"}},{"$f":"IF(#REF!=20,1,0)","v":{"$error":"#REF!"}},{"$f":"IF(#REF!>20,0,0)","v":{"$error":"#REF!"}},{"$f":"IF(#REF!=\"сх\",0,0)","v":{"$error":"#REF!"}},{"$error":"#REF!"},{"$f":"IF(#REF!=1,45,0)","v":{"$error":"#REF!"}},{"$f":"IF(#REF!=2,42,0)","v":{"$error":"#REF!"}},{"$f":"IF(#REF!=3,40,0)","v":{"$error":"#REF!"}},{"$f":"IF(#REF!=4,38,0)","v":{"$error":"#REF!"}},{"$f":"IF(#REF!=5,36,0)","v":{"$error":"#REF!"}},{"$f":"IF(#REF!=6,35,0)","v":{"$error":"#REF!"}},{"$f":"IF(#REF!=7,34,0)","v":{"$error":"#REF!"}},{"$f":"IF(#REF!=8,33,0)","v":{"$error":"#REF!"}},{"$f":"IF(#REF!=9,32,0)","v":{"$error":"#REF!"}},{"$f":"IF(#REF!=10,31,0)","v":{"$error":"#REF!"}},{"$f":"IF(#REF!=11,30,0)","v":{"$error":"#REF!"}},{"$f":"IF(#REF!=12,29,0)","v":{"$error":"#REF!"}},{"$f":"IF(#REF!=13,28,0)","v":{"$error":"#REF!"}},{"$f":"IF(#REF!=14,27,0)","v":{"$error":"#REF!"}},{"$f":"IF(#REF!=15,26,0)","v":{"$error":"#REF!"}},{"$f":"IF(#REF!=16,25,0)","v":{"$error":"#REF!"}},{"$f":"IF(#REF!=17,24,0)","v":{"$error":"#REF!"}},{"$f":"IF(#REF!=18,23,0)","v":{"$error":"#REF!"}},{"$f":"IF(#REF!=19,22,0)","v":{"$error":"#REF!"}},{"$f":"IF(#REF!=20,21,0)","v":{"$error":"#REF!"}},{"$f":"IF(#REF!=21,20,0)","v":{"$error":"#REF!"}},{"$f":"IF(#REF!=22,19,0)","v":{"$error":"#REF!"}},{"$f":"IF(#REF!=23,18,0)","v":{"$error":"#REF!"}},{"$f":"IF(#REF!=24,17,0)","v":{"$error":"#REF!"}},{"$f":"IF(#REF!=25,16,0)","v":{"$error":"#REF!"}},{"$f":"IF(#REF!=26,15,0)","v":{"$error":"#REF!"}},{"$f":"IF(#REF!=27,14,0)","v":{"$error":"#REF!"}},{"$f":"IF(#REF!=28,13,0)","v":{"$error":"#REF!"}},{"$f":"IF(#REF!=29,12,0)","v":{"$error":"#REF!"}},{"$f":"IF(#REF!=30,11,0)","v":{"$error":"#REF!"}},{"$f":"IF(#REF!=31,10,0)","v":{"$error":"#REF!"}},{"$f":"IF(#REF!=32,9,0)","v":{"$error":"#REF!"}},{"$f":"IF(#REF!=33,8,0)","v":{"$error":"#REF!"}},{"$f":"IF(#REF!=34,7,0)","v":{"$error":"#REF!"}},{"$f":"IF(#REF!=35,6,0)","v":{"$error":"#REF!"}},{"$f":"IF(#REF!=36,5,0)","v":{"$error":"#REF!"}},{"$f":"IF(#REF!=37,4,0)","v":{"$error":"#REF!"}},{"$f":"IF(#REF!=38,3,0)","v":{"$error":"#REF!"}},{"$f":"IF(#REF!=39,2,0)","v":{"$error":"#REF!"}},{"$f":"IF(#REF!=40,1,0)","v":{"$error":"#REF!"}},{"$f":"IF(#REF!>20,0,0)","v":{"$error":"#REF!"}},{"$f":"IF(#REF!=\"сх\",0,0)","v":{"$error":"#REF!"}},{"$error":"#REF!"},{"$f":"IF(#REF!=1,45,0)","v":{"$error":"#REF!"}},{"$f":"IF(#REF!=2,42,0)","v":{"$error":"#REF!"}},{"$f":"IF(#REF!=3,40,0)","v":{"$error":"#REF!"}},{"$f":"IF(#REF!=4,38,0)","v":{"$error":"#REF!"}},{"$f":"IF(#REF!=5,36,0)","v":{"$error":"#REF!"}},{"$f":"IF(#REF!=6,35,0)","v":{"$error":"#REF!"}},{"$f":"IF(#REF!=7,34,0)","v":{"$error":"#REF!"}},{"$f":"IF(#REF!=8,33,0)","v":{"$error":"#REF!"}},{"$f":"IF(#REF!=9,32,0)","v":{"$error":"#REF!"}},{"$f":"IF(#REF!=10,31,0)","v":{"$error":"#REF!"}},{"$f":"IF(#REF!=11,30,0)","v":{"$error":"#REF!"}},{"$f":"IF(#REF!=12,29,0)","v":{"$error":"#REF!"}},{"$f":"IF(#REF!=13,28,0)","v":{"$error":"#REF!"}},{"$f":"IF(#REF!=14,27,0)","v":{"$error":"#REF!"}},{"$f":"IF(#REF!=15,26,0)","v":{"$error":"#REF!"}},{"$f":"IF(#REF!=16,25,0)","v":{"$error":"#REF!"}},{"$f":"IF(#REF!=17,24,0)","v":{"$error":"#REF!"}},{"$f":"IF(#REF!=18,23,0)","v":{"$error":"#REF!"}},{"$f":"IF(#REF!=19,22,0)","v":{"$error":"#REF!"}},{"$f":"IF(#REF!=20,21,0)","v":{"$error":"#REF!"}},{"$f":"IF(#REF!=21,20,0)","v":{"$error":"#REF!"}},{"$f":"IF(#REF!=22,19,0)","v":{"$error":"#REF!"}},{"$f":"IF(#REF!=23,18,0)","v":{"$error":"#REF!"}},{"$f":"IF(#REF!=24,17,0)","v":{"$error":"#REF!"}},{"$f":"IF(#REF!=25,16,0)","v":{"$error":"#REF!"}},{"$f":"IF(#REF!=26,15,0)","v":{"$error":"#REF!"}},{"$f":"IF(#REF!=27,14,0)","v":{"$error":"#REF!"}},{"$f":"IF(#REF!=28,13,0)","v":{"$error":"#REF!"}},{"$f":"IF(#REF!=29,12,0)","v":{"$error":"#REF!"}},{"$f":"IF(#REF!=30,11,0)","v":{"$error":"#REF!"}},{"$f":"IF(#REF!=31,10,0)","v":{"$error":"#REF!"}},{"$f":"IF(#REF!=32,9,0)","v":{"$error":"#REF!"}},{"$f":"IF(#REF!=33,8,0)","v":{"$error":"#REF!"}},{"$f":"IF(#REF!=34,7,0)","v":{"$error":"#REF!"}},{"$f":"IF(#REF!=35,6,0)","v":{"$error":"#REF!"}},{"$f":"IF(#REF!=36,5,0)","v":{"$error":"#REF!"}},{"$f":"IF(#REF!=37,4,0)","v":{"$error":"#REF!"}},{"$f":"IF(#REF!=38,3,0)","v":{"$error":"#REF!"}},{"$f":"IF(#REF!=39,2,0)","v":{"$error":"#REF!"}},{"$f":"IF(#REF!=40,1,0)","v":{"$error":"#REF!"}},{"$f":"IF(#REF!>20,0,0)","v":{"$error":"#REF!"}},{"$f":"IF(#REF!=\"сх\",0,0)","v":{"$error":"#REF!"}},{"$error":"#REF!"},null,{"$f":"IF(#REF!=\"сх\",\"ноль\",IF(#REF!>0,#REF!,\"Ноль\"))","v":{"$error":"#REF!"}},{"$f":"IF(#REF!=\"сх\",\"ноль\",IF(#REF!>0,#REF!,\"Ноль\"))","v":{"$error":"#REF!"}},null,{"$error":"#REF!"},{"$f":"IF(K17=#REF!,IF(#REF!<#REF!,#REF!,EZ17),#REF!)","v":{"$error":"#REF!"}},{"$f":"IF(K17=#REF!,IF(#REF!<#REF!,0,1))","v":{"$error":"#REF!"}},{"$f":"IF(AND(EU17>=21,EU17<>0),EU17,IF(K17<#REF!,\"СТОП\",EV17+EW17))","v":{"$error":"#REF!"}},null,15,16,null,{"$f":"IF(#REF!=1,25,0)","v":{"$error":"#REF!"}},{"$f":"IF(#REF!=2,22,0)","v":{"$error":"#REF!"}},{"$f":"IF(#REF!=3,20,0)","v":{"$error":"#REF!"}},{"$f":"IF(#REF!=4,18,0)","v":{"$error":"#REF!"}},{"$f":"IF(#REF!=5,16,0)","v":{"$error":"#REF!"}},{"$f":"IF(#REF!=6,15,0)","v":{"$error":"#REF!"}},{"$f":"IF(#REF!=7,14,0)","v":{"$error":"#REF!"}},{"$f":"IF(#REF!=8,13,0)","v":{"$error":"#REF!"}},{"$f":"IF(#REF!=9,12,0)","v":{"$error":"#REF!"}},{"$f":"IF(#REF!=10,11,0)","v":{"$error":"#REF!"}},{"$f":"IF(#REF!=11,10,0)","v":{"$error":"#REF!"}},{"$f":"IF(#REF!=12,9,0)","v":{"$error":"#REF!"}},{"$f":"IF(#REF!=13,8,0)","v":{"$error":"#REF!"}},{"$f":"IF(#REF!=14,7,0)","v":{"$error":"#REF!"}},{"$f":"IF(#REF!=15,6,0)","v":{"$error":"#REF!"}},{"$f":"IF(#REF!=16,5,0)","v":{"$error":"#REF!"}},{"$f":"IF(#REF!=17,4,0)","v":{"$error":"#REF!"}},{"$f":"IF(#REF!=18,3,0)","v":{"$error":"#REF!"}},{"$f":"IF(#REF!=19,2,0)","v":{"$error":"#REF!"}},{"$f":"IF(#REF!=20,1,0)","v":{"$error":"#REF!"}},{"$f":"IF(#REF!>20,0,0)","v":{"$error":"#REF!"}},{"$f":"IF(#REF!=\"сх\",0,0)","v":{"$error":"#REF!"}},{"$error":"#REF!"},{"$f":"IF(#REF!=1,25,0)","v":{"$error":"#REF!"}},{"$f":"IF(#REF!=2,22,0)","v":{"$error":"#REF!"}},{"$f":"IF(#REF!=3,20,0)","v":{"$error":"#REF!"}},{"$f":"IF(#REF!=4,18,0)","v":{"$error":"#REF!"}},{"$f":"IF(#REF!=5,16,0)","v":{"$error":"#REF!"}},{"$f":"IF(#REF!=6,15,0)","v":{"$error":"#REF!"}},{"$f":"IF(#REF!=7,14,0)","v":{"$error":"#REF!"}},{"$f":"IF(#REF!=8,13,0)","v":{"$error":"#REF!"}},{"$f":"IF(#REF!=9,12,0)","v":{"$error":"#REF!"}},{"$f":"IF(#REF!=10,11,0)","v":{"$error":"#REF!"}},{"$f":"IF(#REF!=11,10,0)","v":{"$error":"#REF!"}},{"$f":"IF(#REF!=12,9,0)","v":{"$error":"#REF!"}},{"$f":"IF(#REF!=13,8,0)","v":{"$error":"#REF!"}},{"$f":"IF(#REF!=14,7,0)","v":{"$error":"#REF!"}},{"$f":"IF(#REF!=15,6,0)","v":{"$error":"#REF!"}},{"$f":"IF(#REF!=16,5,0)","v":{"$error":"#REF!"}},{"$f":"IF(#REF!=17,4,0)","v":{"$error":"#REF!"}},{"$f":"IF(#REF!=18,3,0)","v":{"$error":"#REF!"}},{"$f":"IF(#REF!=19,2,0)","v":{"$error":"#REF!"}},{"$f":"IF(#REF!=20,1,0)","v":{"$error":"#REF!"}},{"$f":"IF(#REF!>20,0,0)","v":{"$error":"#REF!"}},{"$f":"IF(#REF!=\"сх\",0,0)","v":{"$error":"#REF!"}},{"$error":"#REF!"},{"$f":"IF(#REF!=1,100,0)","v":{"$error":"#REF!"}},{"$f":"IF(#REF!=2,98,0)","v":{"$error":"#REF!"}},{"$f":"IF(#REF!=3,95,0)","v":{"$error":"#REF!"}},{"$f":"IF(#REF!=4,93,0)","v":{"$error":"#REF!"}},{"$f":"IF(#REF!=5,90,0)","v":{"$error":"#REF!"}},{"$f":"IF(#REF!=6,88,0)","v":{"$error":"#REF!"}},{"$f":"IF(#REF!=7,85,0)","v":{"$error":"#REF!"}},{"$f":"IF(#REF!=8,83,0)","v":{"$error":"#REF!"}},{"$f":"IF(#REF!=9,80,0)","v":{"$error":"#REF!"}},{"$f":"IF(#REF!=10,78,0)","v":{"$error":"#REF!"}},{"$f":"IF(#REF!=11,75,0)","v":{"$error":"#REF!"}},{"$f":"IF(#REF!=12,73,0)","v":{"$error":"#REF!"}},{"$f":"IF(#REF!=13,70,0)","v":{"$error":"#REF!"}},{"$f":"IF(#REF!=14,68,0)","v":{"$error":"#REF!"}},{"$f":"IF(#REF!=15,65,0)","v":{"$error":"#REF!"}},{"$f":"IF(#REF!=16,63,0)","v":{"$error":"#REF!"}},{"$f":"IF(#REF!=17,60,0)","v":{"$error":"#REF!"}},{"$f":"IF(#REF!=18,58,0)","v":{"$error":"#REF!"}},{"$f":"IF(#REF!=19,55,0)","v":{"$error":"#REF!"}},{"$f":"IF(#REF!=20,53,0)","v":{"$error":"#REF!"}},{"$f":"IF(#REF!>20,0,0)","v":{"$error":"#REF!"}},{"$f":"IF(#REF!=\"сх\",0,0)","v":{"$error":"#REF!"}},{"$error":"#REF!"},{"$f":"IF(#REF!=1,100,0)","v":{"$error":"#REF!"}},{"$f":"IF(#REF!=2,98,0)","v":{"$error":"#REF!"}},{"$f":"IF(#REF!=3,95,0)","v":{"$error":"#REF!"}},{"$f":"IF(#REF!=4,93,0)","v":{"$error":"#REF!"}},{"$f":"IF(#REF!=5,90,0)","v":{"$error":"#REF!"}},{"$f":"IF(#REF!=6,88,0)","v":{"$error":"#REF!"}},{"$f":"IF(#REF!=7,85,0)","v":{"$error":"#REF!"}},{"$f":"IF(#REF!=8,83,0)","v":{"$error":"#REF!"}},{"$f":"IF(#REF!=9,80,0)","v":{"$error":"#REF!"}},{"$f":"IF(#REF!=10,78,0)","v":{"$error":"#REF!"}},{"$f":"IF(#REF!=11,75,0)","v":{"$error":"#REF!"}},{"$f":"IF(#REF!=12,73,0)","v":{"$error":"#REF!"}},{"$f":"IF(#REF!=13,70,0)","v":{"$error":"#REF!"}},{"$f":"IF(#REF!=14,68,0)","v":{"$error":"#REF!"}},{"$f":"IF(#REF!=15,65,0)","v":{"$error":"#REF!"}},{"$f":"IF(#REF!=16,63,0)","v":{"$error":"#REF!"}},{"$f":"IF(#REF!=17,60,0)","v":{"$error":"#REF!"}},{"$f":"IF(#REF!=18,58,0)","v":{"$error":"#REF!"}},{"$f":"IF(#REF!=19,55,0)","v":{"$error":"#REF!"}},{"$f":"IF(#REF!=20,53,0)","v":{"$error":"#REF!"}},{"$f":"IF(#REF!>20,0,0)","v":{"$error":"#REF!"}},{"$f":"IF(#REF!=\"сх\",0,0)","v":{"$error":"#REF!"}},{"$error":"#REF!"}]
[2,"Московская область","\"Сборная ДОСААФ России - СШОР МО № 2\"","Лещенков Артем",65,38,3,40,3,40,280,{"$f":"#REF!+#REF!","v":{"$error":"#REF!"}},null,null,{"$f":"IF(#REF!=1,25,0)","v":{"$error":"#REF!"}},{"$f":"IF(#REF!=2,22,0)","v":{"$error":"#REF!"}},{"$f":"IF(#REF!=3,20,0)","v":{"$error":"#REF!"}},{"$f":"IF(#REF!=4,18,0)","v":{"$error":"#REF!"}},{"$f":"IF(#REF!=5,16,0)","v":{"$error":"#REF!"}},{"$f":"IF(#REF!=6,15,0)","v":{"$error":"#REF!"}},{"$f":"IF(#REF!=7,14,0)","v":{"$error":"#REF!"}},{"$f":"IF(#REF!=8,13,0)","v":{"$error":"#REF!"}},{"$f":"IF(#REF!=9,12,0)","v":{"$error":"#REF!"}},{"$f":"IF(#REF!=10,11,0)","v":{"$error":"#REF!"}},{"$f":"IF(#REF!=11,10,0)","v":{"$error":"#REF!"}},{"$f":"IF(#REF!=12,9,0)","v":{"$error":"#REF!"}},{"$f":"IF(#REF!=13,8,0)","v":{"$error":"#REF!"}},{"$f":"IF(#REF!=14,7,0)","v":{"$error":"#REF!"}},{"$f":"IF(#REF!=15,6,0)","v":{"$error":"#REF!"}},{"$f":"IF(#REF!=16,5,0)","v":{"$error":"#REF!"}},{"$f":"IF(#REF!=17,4,0)","v":{"$error":"#REF!"}},{"$f":"IF(#REF!=18,3,0)","v":{"$error":"#REF!"}},{"$f":"IF(#REF!=19,2,0)","v":{"$error":"#REF!"}},{"$f":"IF(#REF!=20,1,0)","v":{"$error":"#REF!"}},{"$f":"IF(#REF!>20,0,0)","v":{"$error":"#REF!"}},{"$f":"IF(#REF!=\"сх\",0,0)","v":{"$error":"#REF!"}},{"$f":"SUM(O18:AI18)","v":{"$error":"#REF!"}},{"$f":"IF(#REF!=1,25,0)","v":{"$error":"#REF!"}},{"$f":"IF(#REF!=2,22,0)","v":{"$error":"#REF!"}},{"$f":"IF(#REF!=3,20,0)","v":{"$error":"#REF!"}},{"$f":"IF(#REF!=4,18,0)","v":{"$error":"#REF!"}},{"$f":"IF(#REF!=5,16,0)","v":{"$error":"#REF!"}},{"$f":"IF(#REF!=6,15,0)","v":{"$error":"#REF!"}},{"$f":"IF(#REF!=7,14,0)","v":{"$error":"#REF!"}},{"$f":"IF(#REF!=8,13,0)","v":{"$error":"#REF!"}},{"$f":"IF(#REF!=9,12,0)","v":{"$error":"#REF!"}},{"$f":"IF(#REF!=10,11,0)","v":{"$error":"#REF!"}},{"$f":"IF(#REF!=11,10,0)","v":{"$error":"#REF!"}},{"$f":"IF(#REF!=12,9,0)","v":{"$error":"#REF!"}},{"$f":"IF(#REF!=13,8,0)","v":{"$error":"#REF!"}},{"$f":"IF(#REF!=14,7,0)","v":{"$error":"#REF!"}},{"$f":"IF(#REF!=15,6,0)","v":{"$error":"#REF!"}},{"$f":"IF(#REF!=16,5,0)","v":{"$error":"#REF!"}},{"$f":"IF(#REF!=17,4,0)","v":{"$error":"#REF!"}},{"$f":"IF(#REF!=18,3,0)","v":{"$error":"#REF!"}},{"$f":"IF(#REF!=19,2,0)","v":{"$error":"#REF!"}},{"$f":"IF(#REF!=20,1,0)","v":{"$error":"#REF!"}},{"$f":"IF(#REF!>20,0,0)","v":{"$error":"#REF!"}},{"$f":"IF(#REF!=\"сх\",0,0)","v":{"$error":"#REF!"}},{"$f":"SUM(AL18:BF18)","v":{"$error":"#REF!"}},{"$f":"IF(#REF!=1,45,0)","v":{"$error":"#REF!"}},{"$f":"IF(#REF!=2,42,0)","v":{"$error":"#REF!"}},{"$f":"IF(#REF!=3,40,0)","v":{"$error":"#REF!"}},{"$f":"IF(#REF!=4,38,0)","v":{"$error":"#REF!"}},{"$f":"IF(#REF!=5,36,0)","v":{"$error":"#REF!"}},{"$f":"IF(#REF!=6,35,0)","v":{"$error":"#REF!"}},{"$f":"IF(#REF!=7,34,0)","v":{"$error":"#REF!"}},{"$f":"IF(#REF!=8,33,0)","v":{"$error":"#REF!"}},{"$f":"IF(#REF!=9,32,0)","v":{"$error":"#REF!"}},{"$f":"IF(#REF!=10,31,0)","v":{"$error":"#REF!"}},{"$f":"IF(#REF!=11,30,0)","v":{"$error":"#REF!"}},{"$f":"IF(#REF!=12,29,0)","v":{"$error":"#REF!"}},{"$f":"IF(#REF!=13,28,0)","v":{"$error":"#REF!"}},{"$f":"IF(#REF!=14,27,0)","v":{"$error":"#REF!"}},{"$f":"IF(#REF!=15,26,0)","v":{"$error":"#REF!"}},{"$f":"IF(#REF!=16,25,0)","v":{"$error":"#REF!"}},{"$f":"IF(#REF!=17,24,0)","v":{"$error":"#REF!"}},{"$f":"IF(#REF!=18,23,0)","v":{"$error":"#REF!"}},{"$f":"IF(#REF!=19,22,0)","v":{"$error":"#REF!"}},{"$f":"IF(#REF!=20,21,0)","v":{"$error":"#REF!"}},{"$f":"IF(#REF!=21,20,0)","v":{"$error":"#REF!"}},{"$f":"IF(#REF!=22,19,0)","v":{"$error":"#REF!"}},{"$f":"IF(#REF!=23,18,0)","v":{"$error":"#REF!"}},{"$f":"IF(#REF!=24,17,0)","v":{"$error":"#REF!"}},{"$f":"IF(#REF!=25,16,0)","v":{"$error":"#REF!"}},{"$f":"IF(#REF!=26,15,0)","v":{"$error":"#REF!"}},{"$f":"IF(#REF!=27,14,0)","v":{"$error":"#REF!"}},{"$f":"IF(#REF!=28,13,0)","v":{"$error":"#REF!"}},{"$f":"IF(#REF!=29,12,0)","v":{"$error":"#REF!"}},{"$f":"IF(#REF!=30,11,0)","v":{"$error":"#REF!"}},{"$f":"IF(#REF!=31,10,0)","v":{"$error":"#REF!"}},{"$f":"IF(#REF!=32,9,0)","v":{"$error":"#REF!"}},{"$f":"IF(#REF!=33,8,0)","v":{"$error":"#REF!"}},{"$f":"IF(#REF!=34,7,0)","v":{"$error":"#REF!"}},{"$f":"IF(#REF!=35,6,0)","v":{"$error":"#REF!"}},{"$f":"IF(#REF!=36,5,0)","v":{"$error":"#REF!"}},{"$f":"IF(#REF!=37,4,0)","v":{"$error":"#REF!"}},{"$f":"IF(#REF!=38,3,0)","v":{"$error":"#REF!"}},{"$f":"IF(#REF!=39,2,0)","v":{"$error":"#REF!"}},{"$f":"IF(#REF!=40,1,0)","v":{"$error":"#REF!"}},{"$f":"IF(#REF!>20,0,0)","v":{"$error":"#REF!"}},{"$f":"IF(#REF!=\"сх\",0,0)","v":{"$error":"#REF!"}},{"$f":"SUM(BI18:CX18)","v":{"$error":"#REF!"}},{"$f":"IF(#REF!=1,45,0)","v":{"$error":"#REF!"}},{"$f":"IF(#REF!=2,42,0)","v":{"$error":"#REF!"}},{"$f":"IF(#REF!=3,40,0)","v":{"$error":"#REF!"}},{"$f":"IF(#REF!=4,38,0)","v":{"$error":"#REF!"}},{"$f":"IF(#REF!=5,36,0)","v":{"$error":"#REF!"}},{"$f":"IF(#REF!=6,35,0)","v":{"$error":"#REF!"}},{"$f":"IF(#REF!=7,34,0)","v":{"$error":"#REF!"}},{"$f":"IF(#REF!=8,33,0)","v":{"$error":"#REF!"}},{"$f":"IF(#REF!=9,32,0)","v":{"$error":"#REF!"}},{"$f":"IF(#REF!=10,31,0)","v":{"$error":"#REF!"}},{"$f":"IF(#REF!=11,30,0)","v":{"$error":"#REF!"}},{"$f":"IF(#REF!=12,29,0)","v":{"$error":"#REF!"}},{"$f":"IF(#REF!=13,28,0)","v":{"$error":"#REF!"}},{"$f":"IF(#REF!=14,27,0)","v":{"$error":"#REF!"}},{"$f":"IF(#REF!=15,26,0)","v":{"$error":"#REF!"}},{"$f":"IF(#REF!=16,25,0)","v":{"$error":"#REF!"}},{"$f":"IF(#REF!=17,24,0)","v":{"$error":"#REF!"}},{"$f":"IF(#REF!=18,23,0)","v":{"$error":"#REF!"}},{"$f":"IF(#REF!=19,22,0)","v":{"$error":"#REF!"}},{"$f":"IF(#REF!=20,21,0)","v":{"$error":"#REF!"}},{"$f":"IF(#REF!=21,20,0)","v":{"$error":"#REF!"}},{"$f":"IF(#REF!=22,19,0)","v":{"$error":"#REF!"}},{"$f":"IF(#REF!=23,18,0)","v":{"$error":"#REF!"}},{"$f":"IF(#REF!=24,17,0)","v":{"$error":"#REF!"}},{"$f":"IF(#REF!=25,16,0)","v":{"$error":"#REF!"}},{"$f":"IF(#REF!=26,15,0)","v":{"$error":"#REF!"}},{"$f":"IF(#REF!=27,14,0)","v":{"$error":"#REF!"}},{"$f":"IF(#REF!=28,13,0)","v":{"$error":"#REF!"}},{"$f":"IF(#REF!=29,12,0)","v":{"$error":"#REF!"}},{"$f":"IF(#REF!=30,11,0)","v":{"$error":"#REF!"}},{"$f":"IF(#REF!=31,10,0)","v":{"$error":"#REF!"}},{"$f":"IF(#REF!=32,9,0)","v":{"$error":"#REF!"}},{"$f":"IF(#REF!=33,8,0)","v":{"$error":"#REF!"}},{"$f":"IF(#REF!=34,7,0)","v":{"$error":"#REF!"}},{"$f":"IF(#REF!=35,6,0)","v":{"$error":"#REF!"}},{"$f":"IF(#REF!=36,5,0)","v":{"$error":"#REF!"}},{"$f":"IF(#REF!=37,4,0)","v":{"$error":"#REF!"}},{"$f":"IF(#REF!=38,3,0)","v":{"$error":"#REF!"}},{"$f":"IF(#REF!=39,2,0)","v":{"$error":"#REF!"}},{"$f":"IF(#REF!=40,1,0)","v":{"$error":"#REF!"}},{"$f":"IF(#REF!>20,0,0)","v":{"$error":"#REF!"}},{"$f":"IF(#REF!=\"сх\",0,0)","v":{"$error":"#REF!"}},{"$f":"SUM(CZ18:EO18)","v":{"$error":"#REF!"}},null,{"$f":"IF(#REF!=\"сх\",\"ноль\",IF(#REF!>0,#REF!,\"Ноль\"))","v":{"$error":"#REF!"}},{"$f":"IF(#REF!=\"сх\",\"ноль\",IF(#REF!>0,#REF!,\"Ноль\"))","v":{"$error":"#REF!"}},null,{"$f":"MIN(ER18,ES18)","v":{"$error":"#REF!"}},{"$f":"IF(K18=#REF!,IF(#REF!<#REF!,#REF!,EZ18),#REF!)","v":{"$error":"#REF!"}},{"$f":"IF(K18=#REF!,IF(#REF!<#REF!,0,1))","v":{"$error":"#REF!"}},{"$f":"IF(AND(EU18>=21,EU18<>0),EU18,IF(K18<#REF!,\"СТОП\",EV18+EW18))","v":{"$error":"#REF!"}},null,15,16,null,{"$f":"IF(#REF!=1,25,0)","v":{"$error":"#REF!"}},{"$f":"IF(#REF!=2,22,0)","v":{"$error":"#REF!"}},{"$f":"IF(#REF!=3,20,0)","v":{"$error":"#REF!"}},{"$f":"IF(#REF!=4,18,0)","v":{"$error":"#REF!"}},{"$f":"IF(#REF!=5,16,0)","v":{"$error":"#REF!"}},{"$f":"IF(#REF!=6,15,0)","v":{"$error":"#REF!"}},{"$f":"IF(#REF!=7,14,0)","v":{"$error":"#REF!"}},{"$f":"IF(#REF!=8,13,0)","v":{"$error":"#REF!"}},{"$f":"IF(#REF!=9,12,0)","v":{"$error":"#REF!"}},{"$f":"IF(#REF!=10,11,0)","v":{"$error":"#REF!"}},{"$f":"IF(#REF!=11,10,0)","v":{"$error":"#REF!"}},{"$f":"IF(#REF!=12,9,0)","v":{"$error":"#REF!"}},{"$f":"IF(#REF!=13,8,0)","v":{"$error":"#REF!"}},{"$f":"IF(#REF!=14,7,0)","v":{"$error":"#REF!"}},{"$f":"IF(#REF!=15,6,0)","v":{"$error":"#REF!"}},{"$f":"IF(#REF!=16,5,0)","v":{"$error":"#REF!"}},{"$f":"IF(#REF!=17,4,0)","v":{"$error":"#REF!"}},{"$f":"IF(#REF!=18,3,0)","v":{"$error":"#REF!"}},{"$f":"IF(#REF!=19,2,0)","v":{"$error":"#REF!"}},{"$f":"IF(#REF!=20,1,0)","v":{"$error":"#REF!"}},{"$f":"IF(#REF!>20,0,0)","v":{"$error":"#REF!"}},{"$f":"IF(#REF!=\"сх\",0,0)","v":{"$error":"#REF!"}},{"$f":"SUM(FC18:FX18)","v":{"$error":"#REF!"}},{"$f":"IF(#REF!=1,25,0)","v":{"$error":"#REF!"}},{"$f":"IF(#REF!=2,22,0)","v":{"$error":"#REF!"}},{"$f":"IF(#REF!=3,20,0)","v":{"$error":"#REF!"}},{"$f":"IF(#REF!=4,18,0)","v":{"$error":"#REF!"}},{"$f":"IF(#REF!=5,16,0)","v":{"$error":"#REF!"}},{"$f":"IF(#REF!=6,15,0)","v":{"$error":"#REF!"}},{"$f":"IF(#REF!=7,14,0)","v":{"$error":"#REF!"}},{"$f":"IF(#REF!=8,13,0)","v":{"$error":"#REF!"}},{"$f":"IF(#REF!=9,12,0)","v":{"$error":"#REF!"}},{"$f":"IF(#REF!=10,11,0)","v":{"$error":"#REF!"}},{"$f":"IF(#REF!=11,10,0)","v":{"$error":"#REF!"}},{"$f":"IF(#REF!=12,9,0)","v":{"$error":"#REF!"}},{"$f":"IF(#REF!=13,8,0)","v":{"$error":"#REF!"}},{"$f":"IF(#REF!=14,7,0)","v":{"$error":"#REF!"}},{"$f":"IF(#REF!=15,6,0)","v":{"$error":"#REF!"}},{"$f":"IF(#REF!=16,5,0)","v":{"$error":"#REF!"}},{"$f":"IF(#REF!=17,4,0)","v":{"$error":"#REF!"}},{"$f":"IF(#REF!=18,3,0)","v":{"$error":"#REF!"}},{"$f":"IF(#REF!=19,2,0)","v":{"$error":"#REF!"}},{"$f":"IF(#REF!=20,1,0)","v":{"$error":"#REF!"}},{"$f":"IF(#REF!>20,0,0)","v":{"$error":"#REF!"}},{"$f":"IF(#REF!=\"сх\",0,0)","v":{"$error":"#REF!"}},{"$f":"SUM(FZ18:GU18)","v":{"$error":"#REF!"}},{"$f":"IF(#REF!=1,100,0)","v":{"$error":"#REF!"}},{"$f":"IF(#REF!=2,98,0)","v":{"$error":"#REF!"}},{"$f":"IF(#REF!=3,95,0)","v":{"$error":"#REF!"}},{"$f":"IF(#REF!=4,93,0)","v":{"$error":"#REF!"}},{"$f":"IF(#REF!=5,90,0)","v":{"$error":"#REF!"}},{"$f":"IF(#REF!=6,88,0)","v":{"$error":"#REF!"}},{"$f":"IF(#REF!=7,85,0)","v":{"$error":"#REF!"}},{"$f":"IF(#REF!=8,83,0)","v":{"$error":"#REF!"}},{"$f":"IF(#REF!=9,80,0)","v":{"$error":"#REF!"}},{"$f":"IF(#REF!=10,78,0)","v":{"$error":"#REF!"}},{"$f":"IF(#REF!=11,75,0)","v":{"$error":"#REF!"}},{"$f":"IF(#REF!=12,73,0)","v":{"$error":"#REF!"}},{"$f":"IF(#REF!=13,70,0)","v":{"$error":"#REF!"}},{"$f":"IF(#REF!=14,68,0)","v":{"$error":"#REF!"}},{"$f":"IF(#REF!=15,65,0)","v":{"$error":"#REF!"}},{"$f":"IF(#REF!=16,63,0)","v":{"$error":"#REF!"}},{"$f":"IF(#REF!=17,60,0)","v":{"$error":"#REF!"}},{"$f":"IF(#REF!=18,58,0)","v":{"$error":"#REF!"}},{"$f":"IF(#REF!=19,55,0)","v":{"$error":"#REF!"}},{"$f":"IF(#REF!=20,53,0)","v":{"$error":"#REF!"}},{"$f":"IF(#REF!>20,0,0)","v":{"$error":"#REF!"}},{"$f":"IF(#REF!=\"сх\",0,0)","v":{"$error":"#REF!"}},{"$f":"SUM(GW18:HR18)","v":{"$error":"#REF!"}},{"$f":"IF(#REF!=1,100,0)","v":{"$error":"#REF!"}},{"$f":"IF(#REF!=2,98,0)","v":{"$error":"#REF!"}},{"$f":"IF(#REF!=3,95,0)","v":{"$error":"#REF!"}},{"$f":"IF(#REF!=4,93,0)","v":{"$error":"#REF!"}},{"$f":"IF(#REF!=5,90,0)","v":{"$error":"#REF!"}},{"$f":"IF(#REF!=6,88,0)","v":{"$error":"#REF!"}},{"$f":"IF(#REF!=7,85,0)","v":{"$error":"#REF!"}},{"$f":"IF(#REF!=8,83,0)","v":{"$error":"#REF!"}},{"$f":"IF(#REF!=9,80,0)","v":{"$error":"#REF!"}},{"$f":"IF(#REF!=10,78,0)","v":{"$error":"#REF!"}},{"$f":"IF(#REF!=11,75,0)","v":{"$error":"#REF!"}},{"$f":"IF(#REF!=12,73,0)","v":{"$error":"#REF!"}},{"$f":"IF(#REF!=13,70,0)","v":{"$error":"#REF!"}},{"$f":"IF(#REF!=14,68,0)","v":{"$error":"#REF!"}},{"$f":"IF(#REF!=15,65,0)","v":{"$error":"#REF!"}},{"$f":"IF(#REF!=16,63,0)","v":{"$error":"#REF!"}},{"$f":"IF(#REF!=17,60,0)","v":{"$error":"#REF!"}},{"$f":"IF(#REF!=18,58,0)","v":{"$error":"#REF!"}},{"$f":"IF(#REF!=19,55,0)","v":{"$error":"#REF!"}},{"$f":"IF(#REF!=20,53,0)","v":{"$error":"#REF!"}},{"$f":"IF(#REF!>20,0,0)","v":{"$error":"#REF!"}},{"$f":"IF(#REF!=\"сх\",0,0)","v":{"$error":"#REF!"}},{"$f":"SUM(HT18:IO18)","v":{"$error":"#REF!"}}]
[null,null,null,"Антохин Егор",65,117,6,35,6,35,null,{"$f":"#REF!+#REF!","v":{"$error":"#REF!"}},null,null,{"$f":"IF(#REF!=1,25,0)","v":{"$error":"#REF!"}},{"$f":"IF(#REF!=2,22,0)","v":{"$error":"#REF!"}},{"$f":"IF(#REF!=3,20,0)","v":{"$error":"#REF!"}},{"$f":"IF(#REF!=4,18,0)","v":{"$error":"#REF!"}},{"$f":"IF(#REF!=5,16,0)","v":{"$error":"#REF!"}},{"$f":"IF(#REF!=6,15,0)","v":{"$error":"#REF!"}},{"$f":"IF(#REF!=7,14,0)","v":{"$error":"#REF!"}},{"$f":"IF(#REF!=8,13,0)","v":{"$error":"#REF!"}},{"$f":"IF(#REF!=9,12,0)","v":{"$error":"#REF!"}},{"$f":"IF(#REF!=10,11,0)","v":{"$error":"#REF!"}},{"$f":"IF(#REF!=11,10,0)","v":{"$error":"#REF!"}},{"$f":"IF(#REF!=12,9,0)","v":{"$error":"#REF!"}},{"$f":"IF(#REF!=13,8,0)","v":{"$error":"#REF!"}},{"$f":"IF(#REF!=14,7,0)","v":{"$error":"#REF!"}},{"$f":"IF(#REF!=15,6,0)","v":{"$error":"#REF!"}},{"$f":"IF(#REF!=16,5,0)","v":{"$error":"#REF!"}},{"$f":"IF(#REF!=17,4,0)","v":{"$error":"#REF!"}},{"$f":"IF(#REF!=18,3,0)","v":{"$error":"#REF!"}},{"$f":"IF(#REF!=19,2,0)","v":{"$error":"#REF!"}},{"$f":"IF(#REF!=20,1,0)","v":{"$error":"#REF!"}},{"$f":"IF(#REF!>20,0,0)","v":{"$error":"#REF!"}},{"$f":"IF(#REF!=\"сх\",0,0)","v":{"$error":"#REF!"}},{"$error":"#REF!"},{"$f":"IF(#REF!=1,25,0)","v":{"$error":"#REF!"}},{"$f":"IF(#REF!=2,22,0)","v":{"$error":"#REF!"}},{"$f":"IF(#REF!=3,20,0)","v":{"$error":"#REF!"}},{"$f":"IF(#REF!=4,18,0)","v":{"$error":"#REF!"}},{"$f":"IF(#REF!=5,16,0)","v":{"$error":"#REF!"}},{"$f":"IF(#REF!=6,15,0)","v":{"$error":"#REF!"}},{"$f":"IF(#REF!=7,14,0)","v":{"$error":"#REF!"}},{"$f":"IF(#REF!=8,13,0)","v":{"$error":"#REF!"}},{"$f":"IF(#REF!=9,12,0)","v":{"$error":"#REF!"}},{"$f":"IF(#REF!=10,11,0)","v":{"$error":"#REF!"}},{"$f":"IF(#REF!=11,10,0)","v":{"$error":"#REF!"}},{"$f":"IF(#REF!=12,9,0)","v":{"$error":"#REF!"}},{"$f":"IF(#REF!=13,8,0)","v":{"$error":"#REF!"}},{"$f":"IF(#REF!=14,7,0)","v":{"$error":"#REF!"}},{"$f":"IF(#REF!=15,6,0)","v":{"$error":"#REF!"}},{"$f":"IF(#REF!=16,5,0)","v":{"$error":"#REF!"}},{"$f":"IF(#REF!=17,4,0)","v":{"$error":"#REF!"}},{"$f":"IF(#REF!=18,3,0)","v":{"$error":"#REF!"}},{"$f":"IF(#REF!=19,2,0)","v":{"$error":"#REF!"}},{"$f":"IF(#REF!=20,1,0)","v":{"$error":"#REF!"}},{"$f":"IF(#REF!>20,0,0)","v":{"$error":"#REF!"}},{"$f":"IF(#REF!=\"сх\",0,0)","v":{"$error":"#REF!"}},{"$error":"#REF!"},{"$f":"IF(#REF!=1,45,0)","v":{"$error":"#REF!"}},{"$f":"IF(#REF!=2,42,0)","v":{"$error":"#REF!"}},{"$f":"IF(#REF!=3,40,0)","v":{"$error":"#REF!"}},{"$f":"IF(#REF!=4,38,0)","v":{"$error":"#REF!"}},{"$f":"IF(#REF!=5,36,0)","v":{"$error":"#REF!"}},{"$f":"IF(#REF!=6,35,0)","v":{"$error":"#REF!"}},{"$f":"IF(#REF!=7,34,0)","v":{"$error":"#REF!"}},{"$f":"IF(#REF!=8,33,0)","v":{"$error":"#REF!"}},{"$f":"IF(#REF!=9,32,0)","v":{"$error":"#REF!"}},{"$f":"IF(#REF!=10,31,0)","v":{"$error":"#REF!"}},{"$f":"IF(#REF!=11,30,0)","v":{"$error":"#REF!"}},{"$f":"IF(#REF!=12,29,0)","v":{"$error":"#REF!"}},{"$f":"IF(#REF!=13,28,0)","v":{"$error":"#REF!"}},{"$f":"IF(#REF!=14,27,0)","v":{"$error":"#REF!"}},{"$f":"IF(#REF!=15,26,0)","v":{"$error":"#REF!"}},{"$f":"IF(#REF!=16,25,0)","v":{"$error":"#REF!"}},{"$f":"IF(#REF!=17,24,0)","v":{"$error":"#REF!"}},{"$f":"IF(#REF!=18,23,0)","v":{"$error":"#REF!"}},{"$f":"IF(#REF!=19,22,0)","v":{"$error":"#REF!"}},{"$f":"IF(#REF!=20,21,0)","v":{"$error":"#REF!"}},{"$f":"IF(#REF!=21,20,0)","v":{"$error":"#REF!"}},{"$f":"IF(#REF!=22,19,0)","v":{"$error":"#REF!"}},{"$f":"IF(#REF!=23,18,0)","v":{"$error":"#REF!"}},{"$f":"IF(#REF!=24,17,0)","v":{"$error":"#REF!"}},{"$f":"IF(#REF!=25,16,0)","v":{"$error":"#REF!"}},{"$f":"IF(#REF!=26,15,0)","v":{"$error":"#REF!"}},{"$f":"IF(#REF!=27,14,0)","v":{"$error":"#REF!"}},{"$f":"IF(#REF!=28,13,0)","v":{"$error":"#REF!"}},{"$f":"IF(#REF!=29,12,0)","v":{"$error":"#REF!"}},{"$f":"IF(#REF!=30,11,0)","v":{"$error":"#REF!"}},{"$f":"IF(#REF!=31,10,0)","v":{"$error":"#REF!"}},{"$f":"IF(#REF!=32,9,0)","v":{"$error":"#REF!"}},{"$f":"IF(#REF!=33,8,0)","v":{"$error":"#REF!"}},{"$f":"IF(#REF!=34,7,0)","v":{"$error":"#REF!"}},{"$f":"IF(#REF!=35,6,0)","v":{"$error":"#REF!"}},{"$f":"IF(#REF!=36,5,0)","v":{"$error":"#REF!"}},{"$f":"IF(#REF!=37,4,0)","v":{"$error":"#REF!"}},{"$f":"IF(#REF!=38,3,0)","v":{"$error":"#REF!"}},{"$f":"IF(#REF!=39,2,0)","v":{"$error":"#REF!"}},{"$f":"IF(#REF!=40,1,0)","v":{"$error":"#REF!"}},{"$f":"IF(#REF!>20,0,0)","v":{"$error":"#REF!"}},{"$f":"IF(#REF!=\"сх\",0,0)","v":{"$error":"#REF!"}},{"$error":"#REF!"},{"$f":"IF(#REF!=1,45,0)","v":{"$error":"#REF!"}},{"$f":"IF(#REF!=2,42,0)","v":{"$error":"#REF!"}},{"$f":"IF(#REF!=3,40,0)","v":{"$error":"#REF!"}},{"$f":"IF(#REF!=4,38,0)","v":{"$error":"#REF!"}},{"$f":"IF(#REF!=5,36,0)","v":{"$error":"#REF!"}},{"$f":"IF(#REF!=6,35,0)","v":{"$error":"#REF!"}},{"$f":"IF(#REF!=7,34,0)","v":{"$error":"#REF!"}},{"$f":"IF(#REF!=8,33,0)","v":{"$error":"#REF!"}},{"$f":"IF(#REF!=9,32,0)","v":{"$error":"#REF!"}},{"$f":"IF(#REF!=10,31,0)","v":{"$error":"#REF!"}},{"$f":"IF(#REF!=11,30,0)","v":{"$error":"#REF!"}},{"$f":"IF(#REF!=12,29,0)","v":{"$error":"#REF!"}},{"$f":"IF(#REF!=13,28,0)","v":{"$error":"#REF!"}},{"$f":"IF(#REF!=14,27,0)","v":{"$error":"#REF!"}},{"$f":"IF(#REF!=15,26,0)","v":{"$error":"#REF!"}},{"$f":"IF(#REF!=16,25,0)","v":{"$error":"#REF!"}},{"$f":"IF(#REF!=17,24,0)","v":{"$error":"#REF!"}},{"$f":"IF(#REF!=18,23,0)","v":{"$error":"#REF!"}},{"$f":"IF(#REF!=19,22,0)","v":{"$error":"#REF!"}},{"$f":"IF(#REF!=20,21,0)","v":{"$error":"#REF!"}},{"$f":"IF(#REF!=21,20,0)","v":{"$error":"#REF!"}},{"$f":"IF(#REF!=22,19,0)","v":{"$error":"#REF!"}},{"$f":"IF(#REF!=23,18,0)","v":{"$error":"#REF!"}},{"$f":"IF(#REF!=24,17,0)","v":{"$error":"#REF!"}},{"$f":"IF(#REF!=25,16,0)","v":{"$error":"#REF!"}},{"$f":"IF(#REF!=26,15,0)","v":{"$error":"#REF!"}},{"$f":"IF(#REF!=27,14,0)","v":{"$error":"#REF!"}},{"$f":"IF(#REF!=28,13,0)","v":{"$error":"#REF!"}},{"$f":"IF(#REF!=29,12,0)","v":{"$error":"#REF!"}},{"$f":"IF(#REF!=30,11,0)","v":{"$error":"#REF!"}},{"$f":"IF(#REF!=31,10,0)","v":{"$error":"#REF!"}},{"$f":"IF(#REF!=32,9,0)","v":{"$error":"#REF!"}},{"$f":"IF(#REF!=33,8,0)","v":{"$error":"#REF!"}},{"$f":"IF(#REF!=34,7,0)","v":{"$error":"#REF!"}},{"$f":"IF(#REF!=35,6,0)","v":{"$error":"#REF!"}},{"$f":"IF(#REF!=36,5,0)","v":{"$error":"#REF!"}},{"$f":"IF(#REF!=37,4,0)","v":{"$error":"#REF!"}},{"$f":"IF(#REF!=38,3,0)","v":{"$error":"#REF!"}},{"$f":"IF(#REF!=39,2,0)","v":{"$error":"#REF!"}},{"$f":"IF(#REF!=40,1,0)","v":{"$error":"#REF!"}},{"$f":"IF(#REF!>20,0,0)","v":{"$error":"#REF!"}},{"$f":"IF(#REF!=\"сх\",0,0)","v":{"$error":"#REF!"}},{"$error":"#REF!"},null,{"$f":"IF(#REF!=\"сх\",\"ноль\",IF(#REF!>0,#REF!,\"Ноль\"))","v":{"$error":"#REF!"}},{"$f":"IF(#REF!=\"сх\",\"ноль\",IF(#REF!>0,#REF!,\"Ноль\"))","v":{"$error":"#REF!"}},null,{"$error":"#REF!"},{"$f":"IF(K19=#REF!,IF(#REF!<#REF!,#REF!,EZ19),#REF!)","v":{"$error":"#REF!"}},{"$f":"IF(K19=#REF!,IF(#REF!<#REF!,0,1))","v":{"$error":"#REF!"}},{"$f":"IF(AND(EU19>=21,EU19<>0),EU19,IF(K19<#REF!,\"СТОП\",EV19+EW19))","v":{"$error":"#REF!"}},null,15,16,null,{"$f":"IF(#REF!=1,25,0)","v":{"$error":"#REF!"}},{"$f":"IF(#REF!=2,22,0)","v":{"$error":"#REF!"}},{"$f":"IF(#REF!=3,20,0)","v":{"$error":"#REF!"}},{"$f":"IF(#REF!=4,18,0)","v":{"$error":"#REF!"}},{"$f":"IF(#REF!=5,16,0)","v":{"$error":"#REF!"}},{"$f":"IF(#REF!=6,15,0)","v":{"$error":"#REF!"}},{"$f":"IF(#REF!=7,14,0)","v":{"$error":"#REF!"}},{"$f":"IF(#REF!=8,13,0)","v":{"$error":"#REF!"}},{"$f":"IF(#REF!=9,12,0)","v":{"$error":"#REF!"}},{"$f":"IF(#REF!=10,11,0)","v":{"$error":"#REF!"}},{"$f":"IF(#REF!=11,10,0)","v":{"$error":"#REF!"}},{"$f":"IF(#REF!=12,9,0)","v":{"$error":"#REF!"}},{"$f":"IF(#REF!=13,8,0)","v":{"$error":"#REF!"}},{"$f":"IF(#REF!=14,7,0)","v":{"$error":"#REF!"}},{"$f":"IF(#REF!=15,6,0)","v":{"$error":"#REF!"}},{"$f":"IF(#REF!=16,5,0)","v":{"$error":"#REF!"}},{"$f":"IF(#REF!=17,4,0)","v":{"$error":"#REF!"}},{"$f":"IF(#REF!=18,3,0)","v":{"$error":"#REF!"}},{"$f":"IF(#REF!=19,2,0)","v":{"$error":"#REF!"}},{"$f":"IF(#REF!=20,1,0)","v":{"$error":"#REF!"}},{"$f":"IF(#REF!>20,0,0)","v":{"$error":"#REF!"}},{"$f":"IF(#REF!=\"сх\",0,0)","v":{"$error":"#REF!"}},{"$error":"#REF!"},{"$f":"IF(#REF!=1,25,0)","v":{"$error":"#REF!"}},{"$f":"IF(#REF!=2,22,0)","v":{"$error":"#REF!"}},{"$f":"IF(#REF!=3,20,0)","v":{"$error":"#REF!"}},{"$f":"IF(#REF!=4,18,0)","v":{"$error":"#REF!"}},{"$f":"IF(#REF!=5,16,0)","v":{"$error":"#REF!"}},{"$f":"IF(#REF!=6,15,0)","v":{"$error":"#REF!"}},{"$f":"IF(#REF!=7,14,0)","v":{"$error":"#REF!"}},{"$f":"IF(#REF!=8,13,0)","v":{"$error":"#REF!"}},{"$f":"IF(#REF!=9,12,0)","v":{"$error":"#REF!"}},{"$f":"IF(#REF!=10,11,0)","v":{"$error":"#REF!"}},{"$f":"IF(#REF!=11,10,0)","v":{"$error":"#REF!"}},{"$f":"IF(#REF!=12,9,0)","v":{"$error":"#REF!"}},{"$f":"IF(#REF!=13,8,0)","v":{"$error":"#REF!"}},{"$f":"IF(#REF!=14,7,0)","v":{"$error":"#REF!"}},{"$f":"IF(#REF!=15,6,0)","v":{"$error":"#REF!"}},{"$f":"IF(#REF!=16,5,0)","v":{"$error":"#REF!"}},{"$f":"IF(#REF!=17,4,0)","v":{"$error":"#REF!"}},{"$f":"IF(#REF!=18,3,0)","v":{"$error":"#REF!"}},{"$f":"IF(#REF!=19,2,0)","v":{"$error":"#REF!"}},{"$f":"IF(#REF!=20,1,0)","v":{"$error":"#REF!"}},{"$f":"IF(#REF!>20,0,0)","v":{"$error":"#REF!"}},{"$f":"IF(#REF!=\"сх\",0,0)","v":{"$error":"#REF!"}},{"$error":"#REF!"},{"$f":"IF(#REF!=1,100,0)","v":{"$error":"#REF!"}},{"$f":"IF(#REF!=2,98,0)","v":{"$error":"#REF!"}},{"$f":"IF(#REF!=3,95,0)","v":{"$error":"#REF!"}},{"$f":"IF(#REF!=4,93,0)","v":{"$error":"#REF!"}},{"$f":"IF(#REF!=5,90,0)","v":{"$error":"#REF!"}},{"$f":"IF(#REF!=6,88,0)","v":{"$error":"#REF!"}},{"$f":"IF(#REF!=7,85,0)","v":{"$error":"#REF!"}},{"$f":"IF(#REF!=8,83,0)","v":{"$error":"#REF!"}},{"$f":"IF(#REF!=9,80,0)","v":{"$error":"#REF!"}},{"$f":"IF(#REF!=10,78,0)","v":{"$error":"#REF!"}},{"$f":"IF(#REF!=11,75,0)","v":{"$error":"#REF!"}},{"$f":"IF(#REF!=12,73,0)","v":{"$error":"#REF!"}},{"$f":"IF(#REF!=13,70,0)","v":{"$error":"#REF!"}},{"$f":"IF(#REF!=14,68,0)","v":{"$error":"#REF!"}},{"$f":"IF(#REF!=15,65,0)","v":{"$error":"#REF!"}},{"$f":"IF(#REF!=16,63,0)","v":{"$error":"#REF!"}},{"$f":"IF(#REF!=17,60,0)","v":{"$error":"#REF!"}},{"$f":"IF(#REF!=18,58,0)","v":{"$error":"#REF!"}},{"$f":"IF(#REF!=19,55,0)","v":{"$error":"#REF!"}},{"$f":"IF(#REF!=20,53,0)","v":{"$error":"#REF!"}},{"$f":"IF(#REF!>20,0,0)","v":{"$error":"#REF!"}},{"$f":"IF(#REF!=\"сх\",0,0)","v":{"$error":"#REF!"}},{"$error":"#REF!"},{"$f":"IF(#REF!=1,100,0)","v":{"$error":"#REF!"}},{"$f":"IF(#REF!=2,98,0)","v":{"$error":"#REF!"}},{"$f":"IF(#REF!=3,95,0)","v":{"$error":"#REF!"}},{"$f":"IF(#REF!=4,93,0)","v":{"$error":"#REF!"}},{"$f":"IF(#REF!=5,90,0)","v":{"$error":"#REF!"}},{"$f":"IF(#REF!=6,88,0)","v":{"$error":"#REF!"}},{"$f":"IF(#REF!=7,85,0)","v":{"$error":"#REF!"}},{"$f":"IF(#REF!=8,83,0)","v":{"$error":"#REF!"}},{"$f":"IF(#REF!=9,80,0)","v":{"$error":"#REF!"}},{"$f":"IF(#REF!=10,78,0)","v":{"$error":"#REF!"}},{"$f":"IF(#REF!=11,75,0)","v":{"$error":"#REF!"}},{"$f":"IF(#REF!=12,73,0)","v":{"$error":"#REF!"}},{"$f":"IF(#REF!=13,70,0)","v":{"$error":"#REF!"}},{"$f":"IF(#REF!=14,68,0)","v":{"$error":"#REF!"}},{"$f":"IF(#REF!=15,65,0)","v":{"$error":"#REF!"}},{"$f":"IF(#REF!=16,63,0)","v":{"$error":"#REF!"}},{"$f":"IF(#REF!=17,60,0)","v":{"$error":"#REF!"}},{"$f":"IF(#REF!=18,58,0)","v":{"$error":"#REF!"}},{"$f":"IF(#REF!=19,55,0)","v":{"$error":"#REF!"}},{"$f":"IF(#REF!=20,53,0)","v":{"$error":"#REF!"}},{"$f":"IF(#REF!>20,0,0)","v":{"$error":"#REF!"}},{"$f":"IF(#REF!=\"сх\",0,0)","v":{"$error":"#REF!"}},{"$error":"#REF!"}]
[null,null,null,"Герасимов Игорь",65,27,29,12,26,15]
[null,null,null,"Алесенко Иван",85,32,3,40,3,40]
[null,null,null,"Жмылев Дмитрий",85,31,4,38,4,38]
[null,null,null,"Зорин Алексей","125 \"2Т\"",654,2,42,2,42,null,{"$f":"#REF!+#REF!","v":{"$error":"#REF!"}},null,null,{"$f":"IF(#REF!=1,25,0)","v":{"$error":"#REF!"}},{"$f":"IF(#REF!=2,22,0)","v":{"$error":"#REF!"}},{"$f":"IF(#REF!=3,20,0)","v":{"$error":"#REF!"}},{"$f":"IF(#REF!=4,18,0)","v":{"$error":"#REF!"}},{"$f":"IF(#REF!=5,16,0)","v":{"$error":"#REF!"}},{"$f":"IF(#REF!=6,15,0)","v":{"$error":"#REF!"}},{"$f":"IF(#REF!=7,14,0)","v":{"$error":"#REF!"}},{"$f":"IF(#REF!=8,13,0)","v":{"$error":"#REF!"}},{"$f":"IF(#REF!=9,12,0)","v":{"$error":"#REF!"}},{"$f":"IF(#REF!=10,11,0)","v":{"$error":"#REF!"}},{"$f":"IF(#REF!=11,10,0)","v":{"$error":"#REF!"}},{"$f":"IF(#REF!=12,9,0)","v":{"$error":"#REF!"}},{"$f":"IF(#REF!=13,8,0)","v":{"$error":"#REF!"}},{"$f":"IF(#REF!=14,7,0)","v":{"$error":"#REF!"}},{"$f":"IF(#REF!=15,6,0)","v":{"$error":"#REF!"}},{"$f":"IF(#REF!=16,5,0)","v":{"$error":"#REF!"}},{"$f":"IF(#REF!=17,4,0)","v":{"$error":"#REF!"}},{"$f":"IF(#REF!=18,3,0)","v":{"$error":"#REF!"}},{"$f":"IF(#REF!=19,2,0)","v":{"$error":"#REF!"}},{"$f":"IF(#REF!=20,1,0)","v":{"$error":"#REF!"}},{"$f":"IF(#REF!>20,0,0)","v":{"$error":"#REF!"}},{"$f":"IF(#REF!=\"сх\",0,0)","v":{"$error":"#REF!"}},{"$f":"SUM(O23:AI23)","v":{"$error":"#REF!"}},{"$f":"IF(#REF!=1,25,0)","v":{"$error":"#REF!"}},{"$f":"IF(#REF!=2,22,0)","v":{"$error":"#REF!"}},{"$f":"IF(#REF!=3,20,0)","v":{"$error":"#REF!"}},{"$f":"IF(#REF!=4,18,0)","v":{"$error":"#REF!"}},{"$f":"IF(#REF!=5,16,0)","v":{"$error":"#REF!"}},{"$f":"IF(#REF!=6,15,0)","v":{"$error":"#REF!"}},{"$f":"IF(#REF!=7,14,0)","v":{"$error":"#REF!"}},{"$f":"IF(#REF!=8,13,0)","v":{"$error":"#REF!"}},{"$f":"IF(#REF!=9,12,0)","v":{"$error":"#REF!"}},{"$f":"IF(#REF!=10,11,0)","v":{"$error":"#REF!"}},{"$f":"IF(#REF!=11,10,0)","v":{"$error":"#REF!"}},{"$f":"IF(#REF!=12,9,0)","v":{"$error":"#REF!"}},{"$f":"IF(#REF!=13,8,0)","v":{"$error":"#REF!"}},{"$f":"IF(#REF!=14,7,0)","v":{"$error":"#REF!"}},{"$f":"IF(#REF!=15,6,0)","v":{"$error":"#REF!"}},{"$f":"IF(#REF!=16,5,0)","v":{"$error":"#REF!"}},{"$f":"IF(#REF!=17,4,0)","v":{"$error":"#REF!"}},{"$f":"IF(#REF!=18,3,0)","v":{"$error":"#REF!"}},{"$f":"IF(#REF!=19,2,0)","v":{"$error":"#REF!"}},{"$f":"IF(#REF!=20,1,0)","v":{"$error":"#REF!"}},{"$f":"IF(#REF!>20,0,0)","v":{"$error":"#REF!"}},{"$f":"IF(#REF!=\"сх\",0,0)","v":{"$error":"#REF!"}},{"$f":"SUM(AL23:BF23)","v":{"$error":"#REF!"}},{"$f":"IF(#REF!=1,45,0)","v":{"$error":"#REF!"}},{"$f":"IF(#REF!=2,42,0)","v":{"$error":"#REF!"}},{"$f":"IF(#REF!=3,40,0)","v":{"$error":"#REF!"}},{"$f":"IF(#REF!=4,38,0)","v":{"$error":"#REF!"}},{"$f":"IF(#REF!=5,36,0)","v":{"$error":"#REF!"}},{"$f":"IF(#REF!=6,35,0)","v":{"$error":"#REF!"}},{"$f":"IF(#REF!=7,34,0)","v":{"$error":"#REF!"}},{"$f":"IF(#REF!=8,33,0)","v":{"$error":"#REF!"}},{"$f":"IF(#REF!=9,32,0)","v":{"$error":"#REF!"}},{"$f":"IF(#REF!=10,31,0)","v":{"$error":"#REF!"}},{"$f":"IF(#REF!=11,30,0)","v":{"$error":"#REF!"}},{"$f":"IF(#REF!=12,29,0)","v":{"$error":"#REF!"}},{"$f":"IF(#REF!=13,28,0)","v":{"$error":"#REF!"}},{"$f":"IF(#REF!=14,27,0)","v":{"$error":"#REF!"}},{"$f":"IF(#REF!=15,26,0)","v":{"$error":"#REF!"}},{"$f":"IF(#REF!=16,25,0)","v":{"$error":"#REF!"}},{"$f":"IF(#REF!=17,24,0)","v":{"$error":"#REF!"}},{"$f":"IF(#REF!=18,23,0)","v":{"$error":"#REF!"}},{"$f":"IF(#REF!=19,22,0)","v":{"$error":"#REF!"}},{"$f":"IF(#REF!=20,21,0)","v":{"$error":"#REF!"}},{"$f":"IF(#REF!=21,20,0)","v":{"$error":"#REF!"}},{"$f":"IF(#REF!=22,19,0)","v":{"$error":"#REF!"}},{"$f":"IF(#REF!=23,18,0)","v":{"$error":"#REF!"}},{"$f":"IF(#REF!=24,17,0)","v":{"$error":"#REF!"}},{"$f":"IF(#REF!=25,16,0)","v":{"$error":"#REF!"}},{"$f":"IF(#REF!=26,15,0)","v":{"$error":"#REF!"}},{"$f":"IF(#REF!=27,14,0)","v":{"$error":"#REF!"}},{"$f":"IF(#REF!=28,13,0)","v":{"$error":"#REF!"}},{"$f":"IF(#REF!=29,12,0)","v":{"$error":"#REF!"}},{"$f":"IF(#REF!=30,11,0)","v":{"$error":"#REF!"}},{"$f":"IF(#REF!=31,10,0)","v":{"$error":"#REF!"}},{"$f":"IF(#REF!=32,9,0)","v":{"$error":"#REF!"}},{"$f":"IF(#REF!=33,8,0)","v":{"$error":"#REF!"}},{"$f":"IF(#REF!=34,7,0)","v":{"$error":"#REF!"}},{"$f":"IF(#REF!=35,6,0)","v":{"$error":"#REF!"}},{"$f":"IF(#REF!=36,5,0)","v":{"$error":"#REF!"}},{"$f":"IF(#REF!=37,4,0)","v":{"$error":"#REF!"}},{"$f":"IF(#REF!=38,3,0)","v":{"$error":"#REF!"}},{"$f":"IF(#REF!=39,2,0)","v":{"$error":"#REF!"}},{"$f":"IF(#REF!=40,1,0)","v":{"$error":"#REF!"}},{"$f":"IF(#REF!>20,0,0)","v":{"$error":"#REF!"}},{"$f":"IF(#REF!=\"сх\",0,0)","v":{"$error":"#REF!"}},{"$f":"SUM(BI23:CX23)","v":{"$error":"#REF!"}},{"$f":"IF(#REF!=1,45,0)","v":{"$error":"#REF!"}},{"$f":"IF(#REF!=2,42,0)","v":{"$error":"#REF!"}},{"$f":"IF(#REF!=3,40,0)","v":{"$error":"#REF!"}},{"$f":"IF(#REF!=4,38,0)","v":{"$error":"#REF!"}},{"$f":"IF(#REF!=5,36,0)","v":{"$error":"#REF!"}},{"$f":"IF(#REF!=6,35,0)","v":{"$error":"#REF!"}},{"$f":"IF(#REF!=7,34,0)","v":{"$error":"#REF!"}},{"$f":"IF(#REF!=8,33,0)","v":{"$error":"#REF!"}},{"$f":"IF(#REF!=9,32,0)","v":{"$error":"#REF!"}},{"$f":"IF(#REF!=10,31,0)","v":{"$error":"#REF!"}},{"$f":"IF(#REF!=11,30,0)","v":{"$error":"#REF!"}},{"$f":"IF(#REF!=12,29,0)","v":{"$error":"#REF!"}},{"$f":"IF(#REF!=13,28,0)","v":{"$error":"#REF!"}},{"$f":"IF(#REF!=14,27,0)","v":{"$error":"#REF!"}},{"$f":"IF(#REF!=15,26,0)","v":{"$error":"#REF!"}},{"$f":"IF(#REF!=16,25,0)","v":{"$error":"#REF!"}},{"$f":"IF(#REF!=17,24,0)","v":{"$error":"#REF!"}},{"$f":"IF(#REF!=18,23,0)","v":{"$error":"#REF!"}},{"$f":"IF(#REF!=19,22,0)","v":{"$error":"#REF!"}},{"$f":"IF(#REF!=20,21,0)","v":{"$error":"#REF!"}},{"$f":"IF(#REF!=21,20,0)","v":{"$error":"#REF!"}},{"$f":"IF(#REF!=22,19,0)","v":{"$error":"#REF!"}},{"$f":"IF(#REF!=23,18,0)","v":{"$error":"#REF!"}},{"$f":"IF(#REF!=24,17,0)","v":{"$error":"#REF!"}},{"$f":"IF(#REF!=25,16,0)","v":{"$error":"#REF!"}},{"$f":"IF(#REF!=26,15,0)","v":{"$error":"#REF!"}},{"$f":"IF(#REF!=27,14,0)","v":{"$error":"#REF!"}},{"$f":"IF(#REF!=28,13,0)","v":{"$error":"#REF!"}},{"$f":"IF(#REF!=29,12,0)","v":{"$error":"#REF!"}},{"$f":"IF(#REF!=30,11,0)","v":{"$error":"#REF!"}},{"$f":"IF(#REF!=31,10,0)","v":{"$error":"#REF!"}},{"$f":"IF(#REF!=32,9,0)","v":{"$error":"#REF!"}},{"$f":"IF(#REF!=33,8,0)","v":{"$error":"#REF!"}},{"$f":"IF(#REF!=34,7,0)","v":{"$error":"#REF!"}},{"$f":"IF(#REF!=35,6,0)","v":{"$error":"#REF!"}},{"$f":"IF(#REF!=36,5,0)","v":{"$error":"#REF!"}},{"$f":"IF(#REF!=37,4,0)","v":{"$error":"#REF!"}},{"$f":"IF(#REF!=38,3,0)","v":{"$error":"#REF!"}},{"$f":"IF(#REF!=39,2,0)","v":{"$error":"#REF!"}},{"$f":"IF(#REF!=40,1,0)","v":{"$error":"#REF!"}},{"$f":"IF(#REF!>20,0,0)","v":{"$error":"#REF!"}},{"$f":"IF(#REF!=\"сх\",0,0)","v":{"$error":"#REF!"}},{"$f":"SUM(CZ23:EO23)","v":{"$error":"#REF!"}},null,{"$f":"IF(#REF!=\"сх\",\"ноль\",IF(#REF!>0,#REF!,\"Ноль\"))","v":{"$error":"#REF!"}},{"$f":"IF(#REF!=\"сх\",\"ноль\",IF(#REF!>0,#REF!,\"Ноль\"))","v":{"$error":"#REF!"}},null,{"$f":"MIN(ER23,ES23)","v":{"$error":"#REF!"}},{"$f":"IF(K23=#REF!,IF(#REF!<#REF!,#REF!,EZ23),#REF!)","v":{"$error":"#REF!"}},{"$f":"IF(K23=#REF!,IF(#REF!<#REF!,0,1))","v":{"$error":"#REF!"}},{"$f":"IF(AND(EU23>=21,EU23<>0),EU23,IF(K23<#REF!,\"СТОП\",EV23+EW23))","v":{"$error":"#REF!"}},null,15,16,null,{"$f":"IF(#REF!=1,25,0)","v":{"$error":"#REF!"}},{"$f":"IF(#REF!=2,22,0)","v":{"$error":"#REF!"}},{"$f":"IF(#REF!=3,20,0)","v":{"$error":"#REF!"}},{"$f":"IF(#REF!=4,18,0)","v":{"$error":"#REF!"}},{"$f":"IF(#REF!=5,16,0)","v":{"$error":"#REF!"}},{"$f":"IF(#REF!=6,15,0)","v":{"$error":"#REF!"}},{"$f":"IF(#REF!=7,14,0)","v":{"$error":"#REF!"}},{"$f":"IF(#REF!=8,13,0)","v":{"$error":"#REF!"}},{"$f":"IF(#REF!=9,12,0)","v":{"$error":"#REF!"}},{"$f":"IF(#REF!=10,11,0)","v":{"$error":"#REF!"}},{"$f":"IF(#REF!=11,10,0)","v":{"$error":"#REF!"}},{"$f":"IF(#REF!=12,9,0)","v":{"$error":"#REF!"}},{"$f":"IF(#REF!=13,8,0)","v":{"$error":"#REF!"}},{"$f":"IF(#REF!=14,7,0)","v":{"$error":"#REF!"}},{"$f":"IF(#REF!=15,6,0)","v":{"$error":"#REF!"}},{"$f":"IF(#REF!=16,5,0)","v":{"$error":"#REF!"}},{"$f":"IF(#REF!=17,4,0)","v":{"$error":"#REF!"}},{"$f":"IF(#REF!=18,3,0)","v":{"$error":"#REF!"}},{"$f":"IF(#REF!=19,2,0)","v":{"$error":"#REF!"}},{"$f":"IF(#REF!=20,1,0)","v":{"$error":"#REF!"}},{"$f":"IF(#REF!>20,0,0)","v":{"$error":"#REF!"}},{"$f":"IF(#REF!=\"сх\",0,0)","v":{"$error":"#REF!"}},{"$f":"SUM(FC23:FX23)","v":{"$error":"#REF!"}},{"$f":"IF(#REF!=1,25,0)","v":{"$error":"#REF!"}},{"$f":"IF(#REF!=2,22,0)","v":{"$error":"#REF!"}},{"$f":"IF(#REF!=3,20,0)","v":{"$error":"#REF!"}},{"$f":"IF(#REF!=4,18,0)","v":{"$error":"#REF!"}},{"$f":"IF(#REF!=5,16,0)","v":{"$error":"#REF!"}},{"$f":"IF(#REF!=6,15,0)","v":{"$error":"#REF!"}},{"$f":"IF(#REF!=7,14,0)","v":{"$error":"#REF!"}},{"$f":"IF(#REF!=8,13,0)","v":{"$error":"#REF!"}},{"$f":"IF(#REF!=9,12,0)","v":{"$error":"#REF!"}},{"$f":"IF(#REF!=10,11,0)","v":{"$error":"#REF!"}},{"$f":"IF(#REF!=11,10,0)","v":{"$error":"#REF!"}},{"$f":"IF(#REF!=12,9,0)","v":{"$error":"#REF!"}},{"$f":"IF(#REF!=13,8,0)","v":{"$error":"#REF!"}},{"$f":"IF(#REF!=14,7,0)","v":{"$error":"#REF!"}},{"$f":"IF(#REF!=15,6,0)","v":{"$error":"#REF!"}},{"$f":"IF(#REF!=16,5,0)","v":{"$error":"#REF!"}},{"$f":"IF(#REF!=17,4,0)","v":{"$error":"#REF!"}},{"$f":"IF(#REF!=18,3,0)","v":{"$error":"#REF!"}},{"$f":"IF(#REF!=19,2,0)","v":{"$error":"#REF!"}},{"$f":"IF(#REF!=20,1,0)","v":{"$error":"#REF!"}},{"$f":"IF(#REF!>20,0,0)","v":{"$error":"#REF!"}},{"$f":"IF(#REF!=\"сх\",0,0)","v":{"$error":"#REF!"}},{"$f":"SUM(FZ23:GU23)","v":{"$error":"#REF!"}},{"$f":"IF(#REF!=1,100,0)","v":{"$error":"#REF!"}},{"$f":"IF(#REF!=2,98,0)","v":{"$error":"#REF!"}},{"$f":"IF(#REF!=3,95,0)","v":{"$error":"#REF!"}},{"$f":"IF(#REF!=4,93,0)","v":{"$error":"#REF!"}},{"$f":"IF(#REF!=5,90,0)","v":{"$error":"#REF!"}},{"$f":"IF(#REF!=6,88,0)","v":{"$error":"#REF!"}},{"$f":"IF(#REF!=7,85,0)","v":{"$error":"#REF!"}},{"$f":"IF(#REF!=8,83,0)","v":{"$error":"#REF!"}},{"$f":"IF(#REF!=9,80,0)","v":{"$error":"#REF!"}},{"$f":"IF(#REF!=10,78,0)","v":{"$error":"#REF!"}},{"$f":"IF(#REF!=11,75,0)","v":{"$error":"#REF!"}},{"$f":"IF(#REF!=12,73,0)","v":{"$error":"#REF!"}},{"$f":"IF(#REF!=13,70,0)","v":{"$error":"#REF!"}},{"$f":"IF(#REF!=14,68,0)","v":{"$error":"#REF!"}},{"$f":"IF(#REF!=15,65,0)","v":{"$error":"#REF!"}},{"$f":"IF(#REF!=16,63,0)","v":{"$error":"#REF!"}},{"$f":"IF(#REF!=17,60,0)","v":{"$error":"#REF!"}},{"$f":"IF(#REF!=18,58,0)","v":{"$error":"#REF!"}},{"$f":"IF(#REF!=19,55,0)","v":{"$error":"#REF!"}},{"$f":"IF(#REF!=20,53,0)","v":{"$error":"#REF!"}},{"$f":"IF(#REF!>20,0,0)","v":{"$error":"#REF!"}},{"$f":"IF(#REF!=\"сх\",0,0)","v":{"$error":"#REF!"}},{"$f":"SUM(GW23:HR23)","v":{"$error":"#REF!"}},{"$f":"IF(#REF!=1,100,0)","v":{"$error":"#REF!"}},{"$f":"IF(#REF!=2,98,0)","v":{"$error":"#REF!"}},{"$f":"IF(#REF!=3,95,0)","v":{"$error":"#REF!"}},{"$f":"IF(#REF!=4,93,0)","v":{"$error":"#REF!"}},{"$f":"IF(#REF!=5,90,0)","v":{"$error":"#REF!"}},{"$f":"IF(#REF!=6,88,0)","v":{"$error":"#REF!"}},{"$f":"IF(#REF!=7,85,0)","v":{"$error":"#REF!"}},{"$f":"IF(#REF!=8,83,0)","v":{"$error":"#REF!"}},{"$f":"IF(#REF!=9,80,0)","v":{"$error":"#REF!"}},{"$f":"IF(#REF!=10,78,0)","v":{"$error":"#REF!"}},{"$f":"IF(#REF!=11,75,0)","v":{"$error":"#REF!"}},{"$f":"IF(#REF!=12,73,0)","v":{"$error":"#REF!"}},{"$f":"IF(#REF!=13,70,0)","v":{"$error":"#REF!"}},{"$f":"IF(#REF!=14,68,0)","v":{"$error":"#REF!"}},{"$f":"IF(#REF!=15,65,0)","v":{"$error":"#REF!"}},{"$f":"IF(#REF!=16,63,0)","v":{"$error":"#REF!"}},{"$f":"IF(#REF!=17,60,0)","v":{"$error":"#REF!"}},{"$f":"IF(#REF!=18,58,0)","v":{"$error":"#REF!"}},{"$f":"IF(#REF!=19,55,0)","v":{"$error":"#REF!"}},{"$f":"IF(#REF!=20,53,0)","v":{"$error":"#REF!"}},{"$f":"IF(#REF!>20,0,0)","v":{"$error":"#REF!"}},{"$f":"IF(#REF!=\"сх\",0,0)","v":{"$error":"#REF!"}},{"$f":"SUM(HT23:IO23)","v":{"$error":"#REF!"}}]
[null,null,null,"Шукаев Арсений","125 \"4Т\"",177,5,36,5,36,null,{"$f":"#REF!+#REF!","v":{"$error":"#REF!"}},null,null,{"$f":"IF(#REF!=1,25,0)","v":{"$error":"#REF!"}},{"$f":"IF(#REF!=2,22,0)","v":{"$error":"#REF!"}},{"$f":"IF(#REF!=3,20,0)","v":{"$error":"#REF!"}},{"$f":"IF(#REF!=4,18,0)","v":{"$error":"#REF!"}},{"$f":"IF(#REF!=5,16,0)","v":{"$error":"#REF!"}},{"$f":"IF(#REF!=6,15,0)","v":{"$error":"#REF!"}},{"$f":"IF(#REF!=7,14,0)","v":{"$error":"#REF!"}},{"$f":"IF(#REF!=8,13,0)","v":{"$error":"#REF!"}},{"$f":"IF(#REF!=9,12,0)","v":{"$error":"#REF!"}},{"$f":"IF(#REF!=10,11,0)","v":{"$error":"#REF!"}},{"$f":"IF(#REF!=11,10,0)","v":{"$error":"#REF!"}},{"$f":"IF(#REF!=12,9,0)","v":{"$error":"#REF!"}},{"$f":"IF(#REF!=13,8,0)","v":{"$error":"#REF!"}},{"$f":"IF(#REF!=14,7,0)","v":{"$error":"#REF!"}},{"$f":"IF(#REF!=15,6,0)","v":{"$error":"#REF!"}},{"$f":"IF(#REF!=16,5,0)","v":{"$error":"#REF!"}},{"$f":"IF(#REF!=17,4,0)","v":{"$error":"#REF!"}},{"$f":"IF(#REF!=18,3,0)","v":{"$error":"#REF!"}},{"$f":"IF(#REF!=19,2,0)","v":{"$error":"#REF!"}},{"$f":"IF(#REF!=20,1,0)","v":{"$error":"#REF!"}},{"$f":"IF(#REF!>20,0,0)","v":{"$error":"#REF!"}},{"$f":"IF(#REF!=\"сх\",0,0)","v":{"$error":"#REF!"}},{"$error":"#REF!"},{"$f":"IF(#REF!=1,25,0)","v":{"$error":"#REF!"}},{"$f":"IF(#REF!=2,22,0)","v":{"$error":"#REF!"}},{"$f":"IF(#REF!=3,20,0)","v":{"$error":"#REF!"}},{"$f":"IF(#REF!=4,18,0)","v":{"$error":"#REF!"}},{"$f":"IF(#REF!=5,16,0)","v":{"$error":"#REF!"}},{"$f":"IF(#REF!=6,15,0)","v":{"$error":"#REF!"}},{"$f":"IF(#REF!=7,14,0)","v":{"$error":"#REF!"}},{"$f":"IF(#REF!=8,13,0)","v":{"$error":"#REF!"}},{"$f":"IF(#REF!=9,12,0)","v":{"$error":"#REF!"}},{"$f":"IF(#REF!=10,11,0)","v":{"$error":"#REF!"}},{"$f":"IF(#REF!=11,10,0)","v":{"$error":"#REF!"}},{"$f":"IF(#REF!=12,9,0)","v":{"$error":"#REF!"}},{"$f":"IF(#REF!=13,8,0)","v":{"$error":"#REF!"}},{"$f":"IF(#REF!=14,7,0)","v":{"$error":"#REF!"}},{"$f":"IF(#REF!=15,6,0)","v":{"$error":"#REF!"}},{"$f":"IF(#REF!=16,5,0)","v":{"$error":"#REF!"}},{"$f":"IF(#REF!=17,4,0)","v":{"$error":"#REF!"}},{"$f":"IF(#REF!=18,3,0)","v":{"$error":"#REF!"}},{"$f":"IF(#REF!=19,2,0)","v":{"$error":"#REF!"}},{"$f":"IF(#REF!=20,1,0)","v":{"$error":"#REF!"}},{"$f":"IF(#REF!>20,0,0)","v":{"$error":"#REF!"}},{"$f":"IF(#REF!=\"сх\",0,0)","v":{"$error":"#REF!"}},{"$error":"#REF!"},{"$f":"IF(#REF!=1,45,0)","v":{"$error":"#REF!"}},{"$f":"IF(#REF!=2,42,0)","v":{"$error":"#REF!"}},{"$f":"IF(#REF!=3,40,0)","v":{"$error":"#REF!"}},{"$f":"IF(#REF!=4,38,0)","v":{"$error":"#REF!"}},{"$f":"IF(#REF!=5,36,0)","v":{"$error":"#REF!"}},{"$f":"IF(#REF!=6,35,0)","v":{"$error":"#REF!"}},{"$f":"IF(#REF!=7,34,0)","v":{"$error":"#REF!"}},{"$f":"IF(#REF!=8,33,0)","v":{"$error":"#REF!"}},{"$f":"IF(#REF!=9,32,0)","v":{"$error":"#REF!"}},{"$f":"IF(#REF!=10,31,0)","v":{"$error":"#REF!"}},{"$f":"IF(#REF!=11,30,0)","v":{"$error":"#REF!"}},{"$f":"IF(#REF!=12,29,0)","v":{"$error":"#REF!"}},{"$f":"IF(#REF!=13,28,0)","v":{"$error":"#REF!"}},{"$f":"IF(#REF!=14,27,0)","v":{"$error":"#REF!"}},{"$f":"IF(#REF!=15,26,0)","v":{"$error":"#REF!"}},{"$f":"IF(#REF!=16,25,0)","v":{"$error":"#REF!"}},{"$f":"IF(#REF!=17,24,0)","v":{"$error":"#REF!"}},{"$f":"IF(#REF!=18,23,0)","v":{"$error":"#REF!"}},{"$f":"IF(#REF!=19,22,0)","v":{"$error":"#REF!"}},{"$f":"IF(#REF!=20,21,0)","v":{"$error":"#REF!"}},{"$f":"IF(#REF!=21,20,0)","v":{"$error":"#REF!"}},{"$f":"IF(#REF!=22,19,0)","v":{"$error":"#REF!"}},{"$f":"IF(#REF!=23,18,0)","v":{"$error":"#REF!"}},{"$f":"IF(#REF!=24,17,0)","v":{"$error":"#REF!"}},{"$f":"IF(#REF!=25,16,0)","v":{"$error":"#REF!"}},{"$f":"IF(#REF!=26,15,0)","v":{"$error":"#REF!"}},{"$f":"IF(#REF!=27,14,0)","v":{"$error":"#REF!"}},{"$f":"IF(#REF!=28,13,0)","v":{"$error":"#REF!"}},{"$f":"IF(#REF!=29,12,0)","v":{"$error":"#REF!"}},{"$f":"IF(#REF!=30,11,0)","v":{"$error":"#REF!"}},{"$f":"IF(#REF!=31,10,0)","v":{"$error":"#REF!"}},{"$f":"IF(#REF!=32,9,0)","v":{"$error":"#REF!"}},{"$f":"IF(#REF!=33,8,0)","v":{"$error":"#REF!"}},{"$f":"IF(#REF!=34,7,0)","v":{"$error":"#REF!"}},{"$f":"IF(#REF!=35,6,0)","v":{"$error":"#REF!"}},{"$f":"IF(#REF!=36,5,0)","v":{"$error":"#REF!"}},{"$f":"IF(#REF!=37,4,0)","v":{"$error":"#REF!"}},{"$f":"IF(#REF!=38,3,0)","v":{"$error":"#REF!"}},{"$f":"IF(#REF!=39,2,0)","v":{"$error":"#REF!"}},{"$f":"IF(#REF!=40,1,0)","v":{"$error":"#REF!"}},{"$f":"IF(#REF!>20,0,0)","v":{"$error":"#REF!"}},{"$f":"IF(#REF!=\"сх\",0,0)","v":{"$error":"#REF!"}},{"$error":"#REF!"},{"$f":"IF(#REF!=1,45,0)","v":{"$error":"#REF!"}},{"$f":"IF(#REF!=2,42,0)","v":{"$error":"#REF!"}},{"$f":"IF(#REF!=3,40,0)","v":{"$error":"#REF!"}},{"$f":"IF(#REF!=4,38,0)","v":{"$error":"#REF!"}},{"$f":"IF(#REF!=5,36,0)","v":{"$error":"#REF!"}},{"$f":"IF(#REF!=6,35,0)","v":{"$error":"#REF!"}},{"$f":"IF(#REF!=7,34,0)","v":{"$error":"#REF!"}},{"$f":"IF(#REF!=8,33,0)","v":{"$error":"#REF!"}},{"$f":"IF(#REF!=9,32,0)","v":{"$error":"#REF!"}},{"$f":"IF(#REF!=10,31,0)","v":{"$error":"#REF!"}},{"$f":"IF(#REF!=11,30,0)","v":{"$error":"#REF!"}},{"$f":"IF(#REF!=12,29,0)","v":{"$error":"#REF!"}},{"$f":"IF(#REF!=13,28,0)","v":{"$error":"#REF!"}},{"$f":"IF(#REF!=14,27,0)","v":{"$error":"#REF!"}},{"$f":"IF(#REF!=15,26,0)","v":{"$error":"#REF!"}},{"$f":"IF(#REF!=16,25,0)","v":{"$error":"#REF!"}},{"$f":"IF(#REF!=17,24,0)","v":{"$error":"#REF!"}},{"$f":"IF(#REF!=18,23,0)","v":{"$error":"#REF!"}},{"$f":"IF(#REF!=19,22,0)","v":{"$error":"#REF!"}},{"$f":"IF(#REF!=20,21,0)","v":{"$error":"#REF!"}},{"$f":"IF(#REF!=21,20,0)","v":{"$error":"#REF!"}},{"$f":"IF(#REF!=22,19,0)","v":{"$error":"#REF!"}},{"$f":"IF(#REF!=23,18,0)","v":{"$error":"#REF!"}},{"$f":"IF(#REF!=24,17,0)","v":{"$error":"#REF!"}},{"$f":"IF(#REF!=25,16,0)","v":{"$error":"#REF!"}},{"$f":"IF(#REF!=26,15,0)","v":{"$error":"#REF!"}},{"$f":"IF(#REF!=27,14,0)","v":{"$error":"#REF!"}},{"$f":"IF(#REF!=28,13,0)","v":{"$error":"#REF!"}},{"$f":"IF(#REF!=29,12,0)","v":{"$error":"#REF!"}},{"$f":"IF(#REF!=30,11,0)","v":{"$error":"#REF!"}},{"$f":"IF(#REF!=31,10,0)","v":{"$error":"#REF!"}},{"$f":"IF(#REF!=32,9,0)","v":{"$error":"#REF!"}},{"$f":"IF(#REF!=33,8,0)","v":{"$error":"#REF!"}},{"$f":"IF(#REF!=34,7,0)","v":{"$error":"#REF!"}},{"$f":"IF(#REF!=35,6,0)","v":{"$error":"#REF!"}},{"$f":"IF(#REF!=36,5,0)","v":{"$error":"#REF!"}},{"$f":"IF(#REF!=37,4,0)","v":{"$error":"#REF!"}},{"$f":"IF(#REF!=38,3,0)","v":{"$error":"#REF!"}},{"$f":"IF(#REF!=39,2,0)","v":{"$error":"#REF!"}},{"$f":"IF(#REF!=40,1,0)","v":{"$error":"#REF!"}},{"$f":"IF(#REF!>20,0,0)","v":{"$error":"#REF!"}},{"$f":"IF(#REF!=\"сх\",0,0)","v":{"$error":"#REF!"}},{"$error":"#REF!"},null,{"$f":"IF(#REF!=\"сх\",\"ноль\",IF(#REF!>0,#REF!,\"Ноль\"))","v":{"$error":"#REF!"}},{"$f":"IF(#REF!=\"сх\",\"ноль\",IF(#REF!>0,#REF!,\"Ноль\"))","v":{"$error":"#REF!"}},null,{"$error":"#REF!"},{"$f":"IF(K24=#REF!,IF(#REF!<#REF!,#REF!,EZ24),#REF!)","v":{"$error":"#REF!"}},{"$f":"IF(K24=#REF!,IF(#REF!<#REF!,0,1))","v":{"$error":"#REF!"}},{"$f":"IF(AND(EU24>=21,EU24<>0),EU24,IF(K24<#REF!,\"СТОП\",EV24+EW24))","v":{"$error":"#REF!"}},null,15,16,null,{"$f":"IF(#REF!=1,25,0)","v":{"$error":"#REF!"}},{"$f":"IF(#REF!=2,22,0)","v":{"$error":"#REF!"}},{"$f":"IF(#REF!=3,20,0)","v":{"$error":"#REF!"}},{"$f":"IF(#REF!=4,18,0)","v":{"$error":"#REF!"}},{"$f":"IF(#REF!=5,16,0)","v":{"$error":"#REF!"}},{"$f":"IF(#REF!=6,15,0)","v":{"$error":"#REF!"}},{"$f":"IF(#REF!=7,14,0)","v":{"$error":"#REF!"}},{"$f":"IF(#REF!=8,13,0)","v":{"$error":"#REF!"}},{"$f":"IF(#REF!=9,12,0)","v":{"$error":"#REF!"}},{"$f":"IF(#REF!=10,11,0)","v":{"$error":"#REF!"}},{"$f":"IF(#REF!=11,10,0)","v":{"$error":"#REF!"}},{"$f":"IF(#REF!=12,9,0)","v":{"$error":"#REF!"}},{"$f":"IF(#REF!=13,8,0)","v":{"$error":"#REF!"}},{"$f":"IF(#REF!=14,7,0)","v":{"$error":"#REF!"}},{"$f":"IF(#REF!=15,6,0)","v":{"$error":"#REF!"}},{"$f":"IF(#REF!=16,5,0)","v":{"$error":"#REF!"}},{"$f":"IF(#REF!=17,4,0)","v":{"$error":"#REF!"}},{"$f":"IF(#REF!=18,3,0)","v":{"$error":"#REF!"}},{"$f":"IF(#REF!=19,2,0)","v":{"$error":"#REF!"}},{"$f":"IF(#REF!=20,1,0)","v":{"$error":"#REF!"}},{"$f":"IF(#REF!>20,0,0)","v":{"$error":"#REF!"}},{"$f":"IF(#REF!=\"сх\",0,0)","v":{"$error":"#REF!"}},{"$error":"#REF!"},{"$f":"IF(#REF!=1,25,0)","v":{"$error":"#REF!"}},{"$f":"IF(#REF!=2,22,0)","v":{"$error":"#REF!"}},{"$f":"IF(#REF!=3,20,0)","v":{"$error":"#REF!"}},{"$f":"IF(#REF!=4,18,0)","v":{"$error":"#REF!"}},{"$f":"IF(#REF!=5,16,0)","v":{"$error":"#REF!"}},{"$f":"IF(#REF!=6,15,0)","v":{"$error":"#REF!"}},{"$f":"IF(#REF!=7,14,0)","v":{"$error":"#REF!"}},{"$f":"IF(#REF!=8,13,0)","v":{"$error":"#REF!"}},{"$f":"IF(#REF!=9,12,0)","v":{"$error":"#REF!"}},{"$f":"IF(#REF!=10,11,0)","v":{"$error":"#REF!"}},{"$f":"IF(#REF!=11,10,0)","v":{"$error":"#REF!"}},{"$f":"IF(#REF!=12,9,0)","v":{"$error":"#REF!"}},{"$f":"IF(#REF!=13,8,0)","v":{"$error":"#REF!"}},{"$f":"IF(#REF!=14,7,0)","v":{"$error":"#REF!"}},{"$f":"IF(#REF!=15,6,0)","v":{"$error":"#REF!"}},{"$f":"IF(#REF!=16,5,0)","v":{"$error":"#REF!"}},{"$f":"IF(#REF!=17,4,0)","v":{"$error":"#REF!"}},{"$f":"IF(#REF!=18,3,0)","v":{"$error":"#REF!"}},{"$f":"IF(#REF!=19,2,0)","v":{"$error":"#REF!"}},{"$f":"IF(#REF!=20,1,0)","v":{"$error":"#REF!"}},{"$f":"IF(#REF!>20,0,0)","v":{"$error":"#REF!"}},{"$f":"IF(#REF!=\"сх\",0,0)","v":{"$error":"#REF!"}},{"$error":"#REF!"},{"$f":"IF(#REF!=1,100,0)","v":{"$error":"#REF!"}},{"$f":"IF(#REF!=2,98,0)","v":{"$error":"#REF!"}},{"$f":"IF(#REF!=3,95,0)","v":{"$error":"#REF!"}},{"$f":"IF(#REF!=4,93,0)","v":{"$error":"#REF!"}},{"$f":"IF(#REF!=5,90,0)","v":{"$error":"#REF!"}},{"$f":"IF(#REF!=6,88,0)","v":{"$error":"#REF!"}},{"$f":"IF(#REF!=7,85,0)","v":{"$error":"#REF!"}},{"$f":"IF(#REF!=8,83,0)","v":{"$error":"#REF!"}},{"$f":"IF(#REF!=9,80,0)","v":{"$error":"#REF!"}},{"$f":"IF(#REF!=10,78,0)","v":{"$error":"#REF!"}},{"$f":"IF(#REF!=11,75,0)","v":{"$error":"#REF!"}},{"$f":"IF(#REF!=12,73,0)","v":{"$error":"#REF!"}},{"$f":"IF(#REF!=13,70,0)","v":{"$error":"#REF!"}},{"$f":"IF(#REF!=14,68,0)","v":{"$error":"#REF!"}},{"$f":"IF(#REF!=15,65,0)","v":{"$error":"#REF!"}},{"$f":"IF(#REF!=16,63,0)","v":{"$error":"#REF!"}},{"$f":"IF(#REF!=17,60,0)","v":{"$error":"#REF!"}},{"$f":"IF(#REF!=18,58,0)","v":{"$error":"#REF!"}},{"$f":"IF(#REF!=19,55,0)","v":{"$error":"#REF!"}},{"$f":"IF(#REF!=20,53,0)","v":{"$error":"#REF!"}},{"$f":"IF(#REF!>20,0,0)","v":{"$error":"#REF!"}},{"$f":"IF(#REF!=\"сх\",0,0)","v":{"$error":"#REF!"}},{"$error":"#REF!"},{"$f":"IF(#REF!=1,100,0)","v":{"$error":"#REF!"}},{"$f":"IF(#REF!=2,98,0)","v":{"$error":"#REF!"}},{"$f":"IF(#REF!=3,95,0)","v":{"$error":"#REF!"}},{"$f":"IF(#REF!=4,93,0)","v":{"$error":"#REF!"}},{"$f":"IF(#REF!=5,90,0)","v":{"$error":"#REF!"}},{"$f":"IF(#REF!=6,88,0)","v":{"$error":"#REF!"}},{"$f":"IF(#REF!=7,85,0)","v":{"$error":"#REF!"}},{"$f":"IF(#REF!=8,83,0)","v":{"$error":"#REF!"}},{"$f":"IF(#REF!=9,80,0)","v":{"$error":"#REF!"}},{"$f":"IF(#REF!=10,78,0)","v":{"$error":"#REF!"}},{"$f":"IF(#REF!=11,75,0)","v":{"$error":"#REF!"}},{"$f":"IF(#REF!=12,73,0)","v":{"$error":"#REF!"}},{"$f":"IF(#REF!=13,70,0)","v":{"$error":"#REF!"}},{"$f":"IF(#REF!=14,68,0)","v":{"$error":"#REF!"}},{"$f":"IF(#REF!=15,65,0)","v":{"$error":"#REF!"}},{"$f":"IF(#REF!=16,63,0)","v":{"$error":"#REF!"}},{"$f":"IF(#REF!=17,60,0)","v":{"$error":"#REF!"}},{"$f":"IF(#REF!=18,58,0)","v":{"$error":"#REF!"}},{"$f":"IF(#REF!=19,55,0)","v":{"$error":"#REF!"}},{"$f":"IF(#REF!=20,53,0)","v":{"$error":"#REF!"}},{"$f":"IF(#REF!>20,0,0)","v":{"$error":"#REF!"}},{"$f":"IF(#REF!=\"сх\",0,0)","v":{"$error":"#REF!"}},{"$error":"#REF!"}]
[3,"г. Белгород","\"Сборная Белгородской области - Белогорье\".","Косов Дмитрий",65,744,16,25,32,9,223,{"$f":"#REF!+#REF!","v":{"$error":"#REF!"}},null,null,{"$f":"IF(#REF!=1,25,0)","v":{"$error":"#REF!"}},{"$f":"IF(#REF!=2,22,0)","v":{"$error":"#REF!"}},{"$f":"IF(#REF!=3,20,0)","v":{"$error":"#REF!"}},{"$f":"IF(#REF!=4,18,0)","v":{"$error":"#REF!"}},{"$f":"IF(#REF!=5,16,0)","v":{"$error":"#REF!"}},{"$f":"IF(#REF!=6,15,0)","v":{"$error":"#REF!"}},{"$f":"IF(#REF!=7,14,0)","v":{"$error":"#REF!"}},{"$f":"IF(#REF!=8,13,0)","v":{"$error":"#REF!"}},{"$f":"IF(#REF!=9,12,0)","v":{"$error":"#REF!"}},{"$f":"IF(#REF!=10,11,0)","v":{"$error":"#REF!"}},{"$f":"IF(#REF!=11,10,0)","v":{"$error":"#REF!"}},{"$f":"IF(#REF!=12,9,0)","v":{"$error":"#REF!"}},{"$f":"IF(#REF!=13,8,0)","v":{"$error":"#REF!"}},{"$f":"IF(#REF!=14,7,0)","v":{"$error":"#REF!"}},{"$f":"IF(#REF!=15,6,0)","v":{"$error":"#REF!"}},{"$f":"IF(#REF!=16,5,0)","v":{"$error":"#REF!"}},{"$f":"IF(#REF!=17,4,0)","v":{"$error":"#REF!"}},{"$f":"IF(#REF!=18,3,0)","v":{"$error":"#REF!"}},{"$f":"IF(#REF!=19,2,0)","v":{"$error":"#REF!"}},{"$f":"IF(#REF!=20,1,0)","v":{"$error":"#REF!"}},{"$f":"IF(#REF!>20,0,0)","v":{"$error":"#REF!"}},{"$f":"IF(#REF!=\"сх\",0,0)","v":{"$error":"#REF!"}},{"$error":"#REF!"},{"$f":"IF(#REF!=1,25,0)","v":{"$error":"#REF!"}},{"$f":"IF(#REF!=2,22,0)","v":{"$error":"#REF!"}},{"$f":"IF(#REF!=3,20,0)","v":{"$error":"#REF!"}},{"$f":"IF(#REF!=4,18,0)","v":{"$error":"#REF!"}},{"$f":"IF(#REF!=5,16,0)","v":{"$error":"#REF!"}},{"$f":"IF(#REF!=6,15,0)","v":{"$error":"#REF!"}},{"$f":"IF(#REF!=7,14,0)","v":{"$error":"#REF!"}},{"$f":"IF(#REF!=8,13,0)","v":{"$error":"#REF!"}},{"$f":"IF(#REF!=9,12,0)","v":{"$error":"#REF!"}},{"$f":"IF(#REF!=10,11,0)","v":{"$error":"#REF!"}},{"$f":"IF(#REF!=11,10,0)","v":{"$error":"#REF!"}},{"$f":"IF(#REF!=12,9,0)","v":{"$error":"#REF!"}},{"$f":"IF(#REF!=13,8,0)","v":{"$error":"#REF!"}},{"$f":"IF(#REF!=14,7,0)","v":{"$error":"#REF!"}},{"$f":"IF(#REF!=15,6,0)","v":{"$error":"#REF!"}},{"$f":"IF(#REF!=16,5,0)","v":{"$error":"#REF!"}},{"$f":"IF(#REF!=17,4,0)","v":{"$error":"#REF!"}},{"$f":"IF(#REF!=18,3,0)","v":{"$error":"#REF!"}},{"$f":"IF(#REF!=19,2,0)","v":{"$error":"#REF!"}},{"$f":"IF(#REF!=20,1,0)","v":{"$error":"#REF!"}},{"$f":"IF(#REF!>20,0,0)","v":{"$error":"#REF!"}},{"$f":"IF(#REF!=\"сх\",0,0)","v":{"$error":"#REF!"}},{"$error":"#REF!"},{"$f":"IF(#REF!=1,45,0)","v":{"$error":"#REF!"}},{"$f":"IF(#REF!=2,42,0)","v":{"$error":"#REF!"}},{"$f":"IF(#REF!=3,40,0)","v":{"$error":"#REF!"}},{"$f":"IF(#REF!=4,38,0)","v":{"$error":"#REF!"}},{"$f":"IF(#REF!=5,36,0)","v":{"$error":"#REF!"}},{"$f":"IF(#REF!=6,35,0)","v":{"$error":"#REF!"}},{"$f":"IF(#REF!=7,34,0)","v":{"$error":"#REF!"}},{"$f":"IF(#REF!=8,33,0)","v":{"$error":"#REF!"}},{"$f":"IF(#REF!=9,32,0)","v":{"$error":"#REF!"}},{"$f":"IF(#REF!=10,31,0)","v":{"$error":"#REF!"}},{"$f":"IF(#REF!=11,30,0)","v":{"$error":"#REF!"}},{"$f":"IF(#REF!=12,29,0)","v":{"$error":"#REF!"}},{"$f":"IF(#REF!=13,28,0)","v":{"$error":"#REF!"}},{"$f":"IF(#REF!=14,27,0)","v":{"$error":"#REF!"}},{"$f":"IF(#REF!=15,26,0)","v":{"$error":"#REF!"}},{"$f":"IF(#REF!=16,25,0)","v":{"$error":"#REF!"}},{"$f":"IF(#REF!=17,24,0)","v":{"$error":"#REF!"}},{"$f":"IF(#REF!=18,23,0)","v":{"$error":"#REF!"}},{"$f":"IF(#REF!=19,22,0)","v":{"$error":"#REF!"}},{"$f":"IF(#REF!=20,21,0)","v":{"$error":"#REF!"}},{"$f":"IF(#REF!=21,20,0)","v":{"$error":"#REF!"}},{"$f":"IF(#REF!=22,19,0)","v":{"$error":"#REF!"}},{"$f":"IF(#REF!=23,18,0)","v":{"$error":"#REF!"}},{"$f":"IF(#REF!=24,17,0)","v":{"$error":"#REF!"}},{"$f":"IF(#REF!=25,16,0)","v":{"$error":"#REF!"}},{"$f":"IF(#REF!=26,15,0)","v":{"$error":"#REF!"}},{"$f":"IF(#REF!=27,14,0)","v":{"$error":"#REF!"}},{"$f":"IF(#REF!=28,13,0)","v":{"$error":"#REF!"}},{"$f":"IF(#REF!=29,12,0)","v":{"$error":"#REF!"}},{"$f":"IF(#REF!=30,11,0)","v":{"$error":"#REF!"}},{"$f":"IF(#REF!=31,10,0)","v":{"$error":"#REF!"}},{"$f":"IF(#REF!=32,9,0)","v":{"$error":"#REF!"}},{"$f":"IF(#REF!=33,8,0)","v":{"$error":"#REF!"}},{"$f":"IF(#REF!=34,7,0)","v":{"$error":"#REF!"}},{"$f":"IF(#REF!=35,6,0)","v":{"$error":"#REF!"}},{"$f":"IF(#REF!=36,5,0)","v":{"$error":"#REF!"}},{"$f":"IF(#REF!=37,4,0)","v":{"$error":"#REF!"}},{"$f":"IF(#REF!=38,3,0)","v":{"$error":"#REF!"}},{"$f":"IF(#REF!=39,2,0)","v":{"$error":"#REF!"}},{"$f":"IF(#REF!=40,1,0)","v":{"$error":"#REF!"}},{"$f":"IF(#REF!>20,0,0)","v":{"$error":"#REF!"}},{"$f":"IF(#REF!=\"сх\",0,0)","v":{"$error":"#REF!"}},{"$error":"#REF!"},{"$f":"IF(#REF!=1,45,0)","v":{"$error":"#REF!"}},{"$f":"IF(#REF!=2,42,0)","v":{"$error":"#REF!"}},{"$f":"IF(#REF!=3,40,0)","v":{"$error":"#REF!"}},{"$f":"IF(#REF!=4,38,0)","v":{"$error":"#REF!"}},{"$f":"IF(#REF!=5,36,0)","v":{"$error":"#REF!"}},{"$f":"IF(#REF!=6,35,0)","v":{"$error":"#REF!"}},{"$f":"IF(#REF!=7,34,0)","v":{"$error":"#REF!"}},{"$f":"IF(#REF!=8,33,0)","v":{"$error":"#REF!"}},{"$f":"IF(#REF!=9,32,0)","v":{"$error":"#REF!"}},{"$f":"IF(#REF!=10,31,0)","v":{"$error":"#REF!"}},{"$f":"IF(#REF!=11,30,0)","v":{"$error":"#REF!"}},{"$f":"IF(#REF!=12,29,0)","v":{"$error":"#REF!"}},{"$f":"IF(#REF!=13,28,0)","v":{"$error":"#REF!"}},{"$f":"IF(#REF!=14,27,0)","v":{"$error":"#REF!"}},{"$f":"IF(#REF!=15,26,0)","v":{"$error":"#REF!"}},{"$f":"IF(#REF!=16,25,0)","v":{"$error":"#REF!"}},{"$f":"IF(#REF!=17,24,0)","v":{"$error":"#REF!"}},{"$f":"IF(#REF!=18,23,0)","v":{"$error":"#REF!"}},{"$f":"IF(#REF!=19,22,0)","v":{"$error":"#REF!"}},{"$f":"IF(#REF!=20,21,0)","v":{"$error":"#REF!"}},{"$f":"IF(#REF!=21,20,0)","v":{"$error":"#REF!"}},{"$f":"IF(#REF!=22,19,0)","v":{"$error":"#REF!"}},{"$f":"IF(#REF!=23,18,0)","v":{"$error":"#REF!"}},{"$f":"IF(#REF!=24,17,0)","v":{"$error":"#REF!"}},{"$f":"IF(#REF!=25,16,0)","v":{"$error":"#REF!"}},{"$f":"IF(#REF!=26,15,0)","v":{"$error":"#REF!"}},{"$f":"IF(#REF!=27,14,0)","v":{"$error":"#REF!"}},{"$f":"IF(#REF!=28,13,0)","v":{"$error":"#REF!"}},{"$f":"IF(#REF!=29,12,0)","v":{"$error":"#REF!"}},{"$f":"IF(#REF!=30,11,0)","v":{"$error":"#REF!"}},{"$f":"IF(#REF!=31,10,0)","v":{"$error":"#REF!"}},{"$f":"IF(#REF!=32,9,0)","v":{"$error":"#REF!"}},{"$f":"IF(#REF!=33,8,0)","v":{"$error":"#REF!"}},{"$f":"IF(#REF!=34,7,0)","v":{"$error":"#REF!"}},{"$f":"IF(#REF!=35,6,0)","v":{"$error":"#REF!"}},{"$f":"IF(#REF!=36,5,0)","v":{"$error":"#REF!"}},{"$f":"IF(#REF!=37,4,0)","v":{"$error":"#REF!"}},{"$f":"IF(#REF!=38,3,0)","v":{"$error":"#REF!"}},{"$f":"IF(#REF!=39,2,0)","v":{"$error":"#REF!"}},{"$f":"IF(#REF!=40,1,0)","v":{"$error":"#REF!"}},{"$f":"IF(#REF!>20,0,0)","v":{"$error":"#REF!"}},{"$f":"IF(#REF!=\"сх\",0,0)","v":{"$error":"#REF!"}},{"$error":"#REF!"},null,{"$f":"IF(#REF!=\"сх\",\"ноль\",IF(#REF!>0,#REF!,\"Ноль\"))","v":{"$error":"#REF!"}},{"$f":"IF(#REF!=\"сх\",\"ноль\",IF(#REF!>0,#REF!,\"Ноль\"))","v":{"$error":"#REF!"}},null,{"$error":"#REF!"},{"$f":"IF(K25=#REF!,IF(#REF!<#REF!,#REF!,EZ25),#REF!)","v":{"$error":"#REF!"}},{"$f":"IF(K25=#REF!,IF(#REF!<#REF!,0,1))","v":{"$error":"#REF!"}},{"$f":"IF(AND(EU25>=21,EU25<>0),EU25,IF(K25<#REF!,\"СТОП\",EV25+EW25))","v":{"$error":"#REF!"}},null,15,16,null,{"$f":"IF(#REF!=1,25,0)","v":{"$error":"#REF!"}},{"$f":"IF(#REF!=2,22,0)","v":{"$error":"#REF!"}},{"$f":"IF(#REF!=3,20,0)","v":{"$error":"#REF!"}},{"$f":"IF(#REF!=4,18,0)","v":{"$error":"#REF!"}},{"$f":"IF(#REF!=5,16,0)","v":{"$error":"#REF!"}},{"$f":"IF(#REF!=6,15,0)","v":{"$error":"#REF!"}},{"$f":"IF(#REF!=7,14,0)","v":{"$error":"#REF!"}},{"$f":"IF(#REF!=8,13,0)","v":{"$error":"#REF!"}},{"$f":"IF(#REF!=9,12,0)","v":{"$error":"#REF!"}},{"$f":"IF(#REF!=10,11,0)","v":{"$error":"#REF!"}},{"$f":"IF(#REF!=11,10,0)","v":{"$error":"#REF!"}},{"$f":"IF(#REF!=12,9,0)","v":{"$error":"#REF!"}},{"$f":"IF(#REF!=13,8,0)","v":{"$error":"#REF!"}},{"$f":"IF(#REF!=14,7,0)","v":{"$error":"#REF!"}},{"$f":"IF(#REF!=15,6,0)","v":{"$error":"#REF!"}},{"$f":"IF(#REF!=16,5,0)","v":{"$error":"#REF!"}},{"$f":"IF(#REF!=17,4,0)","v":{"$error":"#REF!"}},{"$f":"IF(#REF!=18,3,0)","v":{"$error":"#REF!"}},{"$f":"IF(#REF!=19,2,0)","v":{"$error":"#REF!"}},{"$f":"IF(#REF!=20,1,0)","v":{"$error":"#REF!"}},{"$f":"IF(#REF!>20,0,0)","v":{"$error":"#REF!"}},{"$f":"IF(#REF!=\"сх\",0,0)","v":{"$error":"#REF!"}},{"$error":"#REF!"},{"$f":"IF(#REF!=1,25,0)","v":{"$error":"#REF!"}},{"$f":"IF(#REF!=2,22,0)","v":{"$error":"#REF!"}},{"$f":"IF(#REF!=3,20,0)","v":{"$error":"#REF!"}},{"$f":"IF(#REF!=4,18,0)","v":{"$error":"#REF!"}},{"$f":"IF(#REF!=5,16,0)","v":{"$error":"#REF!"}},{"$f":"IF(#REF!=6,15,0)","v":{"$error":"#REF!"}},{"$f":"IF(#REF!=7,14,0)","v":{"$error":"#REF!"}},{"$f":"IF(#REF!=8,13,0)","v":{"$error":"#REF!"}},{"$f":"IF(#REF!=9,12,0)","v":{"$error":"#REF!"}},{"$f":"IF(#REF!=10,11,0)","v":{"$error":"#REF!"}},{"$f":"IF(#REF!=11,10,0)","v":{"$error":"#REF!"}},{"$f":"IF(#REF!=12,9,0)","v":{"$error":"#REF!"}},{"$f":"IF(#REF!=13,8,0)","v":{"$error":"#REF!"}},{"$f":"IF(#REF!=14,7,0)","v":{"$error":"#REF!"}},{"$f":"IF(#REF!=15,6,0)","v":{"$error":"#REF!"}},{"$f":"IF(#REF!=16,5,0)","v":{"$error":"#REF!"}},{"$f":"IF(#REF!=17,4,0)","v":{"$error":"#REF!"}},{"$f":"IF(#REF!=18,3,0)","v":{"$error":"#REF!"}},{"$f":"IF(#REF!=19,2,0)","v":{"$error":"#REF!"}},{"$f":"IF(#REF!=20,1,0)","v":{"$error":"#REF!"}},{"$f":"IF(#REF!>20,0,0)","v":{"$error":"#REF!"}},{"$f":"IF(#REF!=\"сх\",0,0)","v":{"$error":"#REF!"}},{"$error":"#REF!"},{"$f":"IF(#REF!=1,100,0)","v":{"$error":"#REF!"}},{"$f":"IF(#REF!=2,98,0)","v":{"$error":"#REF!"}},{"$f":"IF(#REF!=3,95,0)","v":{"$error":"#REF!"}},{"$f":"IF(#REF!=4,93,0)","v":{"$error":"#REF!"}},{"$f":"IF(#REF!=5,90,0)","v":{"$error":"#REF!"}},{"$f":"IF(#REF!=6,88,0)","v":{"$error":"#REF!"}},{"$f":"IF(#REF!=7,85,0)","v":{"$error":"#REF!"}},{"$f":"IF(#REF!=8,83,0)","v":{"$error":"#REF!"}},{"$f":"IF(#REF!=9,80,0)","v":{"$error":"#REF!"}},{"$f":"IF(#REF!=10,78,0)","v":{"$error":"#REF!"}},{"$f":"IF(#REF!=11,75,0)","v":{"$error":"#REF!"}},{"$f":"IF(#REF!=12,73,0)","v":{"$error":"#REF!"}},{"$f":"IF(#REF!=13,70,0)","v":{"$error":"#REF!"}},{"$f":"IF(#REF!=14,68,0)","v":{"$error":"#REF!"}},{"$f":"IF(#REF!=15,65,0)","v":{"$error":"#REF!"}},{"$f":"IF(#REF!=16,63,0)","v":{"$error":"#REF!"}},{"$f":"IF(#REF!=17,60,0)","v":{"$error":"#REF!"}},{"$f":"IF(#REF!=18,58,0)","v":{"$error":"#REF!"}},{"$f":"IF(#REF!=19,55,0)","v":{"$error":"#REF!"}},{"$f":"IF(#REF!=20,53,0)","v":{"$error":"#REF!"}},{"$f":"IF(#REF!>20,0,0)","v":{"$error":"#REF!"}},{"$f":"IF(#REF!=\"сх\",0,0)","v":{"$error":"#REF!"}},{"$error":"#REF!"},{"$f":"IF(#REF!=1,100,0)","v":{"$error":"#REF!"}},{"$f":"IF(#REF!=2,98,0)","v":{"$error":"#REF!"}},{"$f":"IF(#REF!=3,95,0)","v":{"$error":"#REF!"}},{"$f":"IF(#REF!=4,93,0)","v":{"$error":"#REF!"}},{"$f":"IF(#REF!=5,90,0)","v":{"$error":"#REF!"}},{"$f":"IF(#REF!=6,88,0)","v":{"$error":"#REF!"}},{"$f":"IF(#REF!=7,85,0)","v":{"$error":"#REF!"}},{"$f":"IF(#REF!=8,83,0)","v":{"$error":"#REF!"}},{"$f":"IF(#REF!=9,80,0)","v":{"$error":"#REF!"}},{"$f":"IF(#REF!=10,78,0)","v":{"$error":"#REF!"}},{"$f":"IF(#REF!=11,75,0)","v":{"$error":"#REF!"}},{"$f":"IF(#REF!=12,73,0)","v":{"$error":"#REF!"}},{"$f":"IF(#REF!=13,70,0)","v":{"$error":"#REF!"}},{"$f":"IF(#REF!=14,68,0)","v":{"$error":"#REF!"}},{"$f":"IF(#REF!=15,65,0)","v":{"$error":"#REF!"}},{"$f":"IF(#REF!=16,63,0)","v":{"$error":"#REF!"}},{"$f":"IF(#REF!=17,60,0)","v":{"$error":"#REF!"}},{"$f":"IF(#REF!=18,58,0)","v":{"$error":"#REF!"}},{"$f":"IF(#REF!=19,55,0)","v":{"$error":"#REF!"}},{"$f":"IF(#REF!=20,53,0)","v":{"$error":"#REF!"}},{"$f":"IF(#REF!>20,0,0)","v":{"$error":"#REF!"}},{"$f":"IF(#REF!=\"сх\",0,0)","v":{"$error":"#REF!"}},{"$error":"#REF!"}]
[null,null,null,"Жидков Богдан",65,798,11,30,13,28,null,{"$f":"#REF!+#REF!","v":{"$error":"#REF!"}},null,null,{"$f":"IF(#REF!=1,25,0)","v":{"$error":"#REF!"}},{"$f":"IF(#REF!=2,22,0)","v":{"$error":"#REF!"}},{"$f":"IF(#REF!=3,20,0)","v":{"$error":"#REF!"}},{"$f":"IF(#REF!=4,18,0)","v":{"$error":"#REF!"}},{"$f":"IF(#REF!=5,16,0)","v":{"$error":"#REF!"}},{"$f":"IF(#REF!=6,15,0)","v":{"$error":"#REF!"}},{"$f":"IF(#REF!=7,14,0)","v":{"$error":"#REF!"}},{"$f":"IF(#REF!=8,13,0)","v":{"$error":"#REF!"}},{"$f":"IF(#REF!=9,12,0)","v":{"$error":"#REF!"}},{"$f":"IF(#REF!=10,11,0)","v":{"$error":"#REF!"}},{"$f":"IF(#REF!=11,10,0)","v":{"$error":"#REF!"}},{"$f":"IF(#REF!=12,9,0)","v":{"$error":"#REF!"}},{"$f":"IF(#REF!=13,8,0)","v":{"$error":"#REF!"}},{"$f":"IF(#REF!=14,7,0)","v":{"$error":"#REF!"}},{"$f":"IF(#REF!=15,6,0)","v":{"$error":"#REF!"}},{"$f":"IF(#REF!=16,5,0)","v":{"$error":"#REF!"}},{"$f":"IF(#REF!=17,4,0)","v":{"$error":"#REF!"}},{"$f":"IF(#REF!=18,3,0)","v":{"$error":"#REF!"}},{"$f":"IF(#REF!=19,2,0)","v":{"$error":"#REF!"}},{"$f":"IF(#REF!=20,1,0)","v":{"$error":"#REF!"}},{"$f":"IF(#REF!>20,0,0)","v":{"$error":"#REF!"}},{"$f":"IF(#REF!=\"сх\",0,0)","v":{"$error":"#REF!"}},{"$error":"#REF!"},{"$f":"IF(#REF!=1,25,0)","v":{"$error":"#REF!"}},{"$f":"IF(#REF!=2,22,0)","v":{"$error":"#REF!"}},{"$f":"IF(#REF!=3,20,0)","v":{"$error":"#REF!"}},{"$f":"IF(#REF!=4,18,0)","v":{"$error":"#REF!"}},{"$f":"IF(#REF!=5,16,0)","v":{"$error":"#REF!"}},{"$f":"IF(#REF!=6,15,0)","v":{"$error":"#REF!"}},{"$f":"IF(#REF!=7,14,0)","v":{"$error":"#REF!"}},{"$f":"IF(#REF!=8,13,0)","v":{"$error":"#REF!"}},{"$f":"IF(#REF!=9,12,0)","v":{"$error":"#REF!"}},{"$f":"IF(#REF!=10,11,0)","v":{"$error":"#REF!"}},{"$f":"IF(#REF!=11,10,0)","v":{"$error":"#REF!"}},{"$f":"IF(#REF!=12,9,0)","v":{"$error":"#REF!"}},{"$f":"IF(#REF!=13,8,0)","v":{"$error":"#REF!"}},{"$f":"IF(#REF!=14,7,0)","v":{"$error":"#REF!"}},{"$f":"IF(#REF!=15,6,0)","v":{"$error":"#REF!"}},{"$f":"IF(#REF!=16,5,0)","v":{"$error":"#REF!"}},{"$f":"IF(#REF!=17,4,0)","v":{"$error":"#REF!"}},{"$f":"IF(#REF!=18,3,0)","v":{"$error":"#REF!"}},{"$f":"IF(#REF!=19,2,0)","v":{"$error":"#REF!"}},{"$f":"IF(#REF!=20,1,0)","v":{"$error":"#REF!"}},{"$f":"IF(#REF!>20,0,0)","v":{"$error":"#REF!"}},{"$f":"IF(#REF!=\"сх\",0,0)","v":{"$error":"#REF!"}},{"$error":"#REF!"},{"$f":"IF(#REF!=1,45,0)","v":{"$error":"#REF!"}},{"$f":"IF(#REF!=2,42,0)","v":{"$error":"#REF!"}},{"$f":"IF(#REF!=3,40,0)","v":{"$error":"#REF!"}},{"$f":"IF(#REF!=4,38,0)","v":{"$error":"#REF!"}},{"$f":"IF(#REF!=5,36,0)","v":{"$error":"#REF!"}},{"$f":"IF(#REF!=6,35,0)","v":{"$error":"#REF!"}},{"$f":"IF(#REF!=7,34,0)","v":{"$error":"#REF!"}},{"$f":"IF(#REF!=8,33,0)","v":{"$error":"#REF!"}},{"$f":"IF(#REF!=9,32,0)","v":{"$error":"#REF!"}},{"$f":"IF(#REF!=10,31,0)","v":{"$error":"#REF!"}},{"$f":"IF(#REF!=11,30,0)","v":{"$error":"#REF!"}},{"$f":"IF(#REF!=12,29,0)","v":{"$error":"#REF!"}},{"$f":"IF(#REF!=13,28,0)","v":{"$error":"#REF!"}},{"$f":"IF(#REF!=14,27,0)","v":{"$error":"#REF!"}},{"$f":"IF(#REF!=15,26,0)","v":{"$error":"#REF!"}},{"$f":"IF(#REF!=16,25,0)","v":{"$error":"#REF!"}},{"$f":"IF(#REF!=17,24,0)","v":{"$error":"#REF!"}},{"$f":"IF(#REF!=18,23,0)","v":{"$error":"#REF!"}},{"$f":"IF(#REF!=19,22,0)","v":{"$error":"#REF!"}},{"$f":"IF(#REF!=20,21,0)","v":{"$error":"#REF!"}},{"$f":"IF(#REF!=21,20,0)","v":{"$error":"#REF!"}},{"$f":"IF(#REF!=22,19,0)","v":{"$error":"#REF!"}},{"$f":"IF(#REF!=23,18,0)","v":{"$error":"#REF!"}},{"$f":"IF(#REF!=24,17,0)","v":{"$error":"#REF!"}},{"$f":"IF(#REF!=25,16,0)","v":{"$error":"#REF!"}},{"$f":"IF(#REF!=26,15,0)","v":{"$error":"#REF!"}},{"$f":"IF(#REF!=27,14,0)","v":{"$error":"#REF!"}},{"$f":"IF(#REF!=28,13,0)","v":{"$error":"#REF!"}},{"$f":"IF(#REF!=29,12,0)","v":{"$error":"#REF!"}},{"$f":"IF(#REF!=30,11,0)","v":{"$error":"#REF!"}},{"$f":"IF(#REF!=31,10,0)","v":{"$error":"#REF!"}},{"$f":"IF(#REF!=32,9,0)","v":{"$error":"#REF!"}},{"$f":"IF(#REF!=33,8,0)","v":{"$error":"#REF!"}},{"$f":"IF(#REF!=34,7,0)","v":{"$error":"#REF!"}},{"$f":"IF(#REF!=35,6,0)","v":{"$error":"#REF!"}},{"$f":"IF(#REF!=36,5,0)","v":{"$error":"#REF!"}},{"$f":"IF(#REF!=37,4,0)","v":{"$error":"#REF!"}},{"$f":"IF(#REF!=38,3,0)","v":{"$error":"#REF!"}},{"$f":"IF(#REF!=39,2,0)","v":{"$error":"#REF!"}},{"$f":"IF(#REF!=40,1,0)","v":{"$error":"#REF!"}},{"$f":"IF(#REF!>20,0,0)","v":{"$error":"#REF!"}},{"$f":"IF(#REF!=\"сх\",0,0)","v":{"$error":"#REF!"}},{"$error":"#REF!"},{"$f":"IF(#REF!=1,45,0)","v":{"$error":"#REF!"}},{"$f":"IF(#REF!=2,42,0)","v":{"$error":"#REF!"}},{"$f":"IF(#REF!=3,40,0)","v":{"$error":"#REF!"}},{"$f":"IF(#REF!=4,38,0)","v":{"$error":"#REF!"}},{"$f":"IF(#REF!=5,36,0)","v":{"$error":"#REF!"}},{"$f":"IF(#REF!=6,35,0)","v":{"$error":"#REF!"}},{"$f":"IF(#REF!=7,34,0)","v":{"$error":"#REF!"}},{"$f":"IF(#REF!=8,33,0)","v":{"$error":"#REF!"}},{"$f":"IF(#REF!=9,32,0)","v":{"$error":"#REF!"}},{"$f":"IF(#REF!=10,31,0)","v":{"$error":"#REF!"}},{"$f":"IF(#REF!=11,30,0)","v":{"$error":"#REF!"}},{"$f":"IF(#REF!=12,29,0)","v":{"$error":"#REF!"}},{"$f":"IF(#REF!=13,28,0)","v":{"$error":"#REF!"}},{"$f":"IF(#REF!=14,27,0)","v":{"$error":"#REF!"}},{"$f":"IF(#REF!=15,26,0)","v":{"$error":"#REF!"}},{"$f":"IF(#REF!=16,25,0)","v":{"$error":"#REF!"}},{"$f":"IF(#REF!=17,24,0)","v":{"$error":"#REF!"}},{"$f":"IF(#REF!=18,23,0)","v":{"$error":"#REF!"}},{"$f":"IF(#REF!=19,22,0)","v":{"$error":"#REF!"}},{"$f":"IF(#REF!=20,21,0)","v":{"$error":"#REF!"}},{"$f":"IF(#REF!=21,20,0)","v":{"$error":"#REF!"}},{"$f":"IF(#REF!=22,19,0)","v":{"$error":"#REF!"}},{"$f":"IF(#REF!=23,18,0)","v":{"$error":"#REF!"}},{"$f":"IF(#REF!=24,17,0)","v":{"$error":"#REF!"}},{"$f":"IF(#REF!=25,16,0)","v":{"$error":"#REF!"}},{"$f":"IF(#REF!=26,15,0)","v":{"$error":"#REF!"}},{"$f":"IF(#REF!=27,14,0)","v":{"$error":"#REF!"}},{"$f":"IF(#REF!=28,13,0)","v":{"$error":"#REF!"}},{"$f":"IF(#REF!=29,12,0)","v":{"$error":"#REF!"}},{"$f":"IF(#REF!=30,11,0)","v":{"$error":"#REF!"}},{"$f":"IF(#REF!=31,10,0)","v":{"$error":"#REF!"}},{"$f":"IF(#REF!=32,9,0)","v":{"$error":"#REF!"}},{"$f":"IF(#REF!=33,8,0)","v":{"$error":"#REF!"}},{"$f":"IF(#REF!=34,7,0)","v":{"$error":"#REF!"}},{"$f":"IF(#REF!=35,6,0)","v":{"$error":"#REF!"}},{"$f":"IF(#REF!=36,5,0)","v":{"$error":"#REF!"}},{"$f":"IF(#REF!=37,4,0)","v":{"$error":"#REF!"}},{"$f":"IF(#REF!=38,3,0)","v":{"$error":"#REF!"}},{"$f":"IF(#REF!=39,2,0)","v":{"$error":"#REF!"}},{"$f":"IF(#REF!=40,1,0)","v":{"$error":"#REF!"}},{"$f":"IF(#REF!>20,0,0)","v":{"$error":"#REF!"}},{"$f":"IF(#REF!=\"сх\",0,0)","v":{"$error":"#REF!"}},{"$error":"#REF!"},null,{"$f":"IF(#REF!=\"сх\",\"ноль\",IF(#REF!>0,#REF!,\"Ноль\"))","v":{"$error":"#REF!"}},{"$f":"IF(#REF!=\"сх\",\"ноль\",IF(#REF!>0,#REF!,\"Ноль\"))","v":{"$error":"#REF!"}},null,{"$error":"#REF!"},{"$f":"IF(K26=#REF!,IF(#REF!<#REF!,#REF!,EZ26),#REF!)","v":{"$error":"#REF!"}},{"$f":"IF(K26=#REF!,IF(#REF!<#REF!,0,1))","v":{"$error":"#REF!"}},{"$f":"IF(AND(EU26>=21,EU26<>0),EU26,IF(K26<#REF!,\"СТОП\",EV26+EW26))","v":{"$error":"#REF!"}},null,15,16,null,{"$f":"IF(#REF!=1,25,0)","v":{"$error":"#REF!"}},{"$f":"IF(#REF!=2,22,0)","v":{"$error":"#REF!"}},{"$f":"IF(#REF!=3,20,0)","v":{"$error":"#REF!"}},{"$f":"IF(#REF!=4,18,0)","v":{"$error":"#REF!"}},{"$f":"IF(#REF!=5,16,0)","v":{"$error":"#REF!"}},{"$f":"IF(#REF!=6,15,0)","v":{"$error":"#REF!"}},{"$f":"IF(#REF!=7,14,0)","v":{"$error":"#REF!"}},{"$f":"IF(#REF!=8,13,0)","v":{"$error":"#REF!"}},{"$f":"IF(#REF!=9,12,0)","v":{"$error":"#REF!"}},{"$f":"IF(#REF!=10,11,0)","v":{"$error":"#REF!"}},{"$f":"IF(#REF!=11,10,0)","v":{"$error":"#REF!"}},{"$f":"IF(#REF!=12,9,0)","v":{"$error":"#REF!"}},{"$f":"IF(#REF!=13,8,0)","v":{"$error":"#REF!"}},{"$f":"IF(#REF!=14,7,0)","v":{"$error":"#REF!"}},{"$f":"IF(#REF!=15,6,0)","v":{"$error":"#REF!"}},{"$f":"IF(#REF!=16,5,0)","v":{"$error":"#REF!"}},{"$f":"IF(#REF!=17,4,0)","v":{"$error":"#REF!"}},{"$f":"IF(#REF!=18,3,0)","v":{"$error":"#REF!"}},{"$f":"IF(#REF!=19,2,0)","v":{"$error":"#REF!"}},{"$f":"IF(#REF!=20,1,0)","v":{"$error":"#REF!"}},{"$f":"IF(#REF!>20,0,0)","v":{"$error":"#REF!"}},{"$f":"IF(#REF!=\"сх\",0,0)","v":{"$error":"#REF!"}},{"$error":"#REF!"},{"$f":"IF(#REF!=1,25,0)","v":{"$error":"#REF!"}},{"$f":"IF(#REF!=2,22,0)","v":{"$error":"#REF!"}},{"$f":"IF(#REF!=3,20,0)","v":{"$error":"#REF!"}},{"$f":"IF(#REF!=4,18,0)","v":{"$error":"#REF!"}},{"$f":"IF(#REF!=5,16,0)","v":{"$error":"#REF!"}},{"$f":"IF(#REF!=6,15,0)","v":{"$error":"#REF!"}},{"$f":"IF(#REF!=7,14,0)","v":{"$error":"#REF!"}},{"$f":"IF(#REF!=8,13,0)","v":{"$error":"#REF!"}},{"$f":"IF(#REF!=9,12,0)","v":{"$error":"#REF!"}},{"$f":"IF(#REF!=10,11,0)","v":{"$error":"#REF!"}},{"$f":"IF(#REF!=11,10,0)","v":{"$error":"#REF!"}},{"$f":"IF(#REF!=12,9,0)","v":{"$error":"#REF!"}},{"$f":"IF(#REF!=13,8,0)","v":{"$error":"#REF!"}},{"$f":"IF(#REF!=14,7,0)","v":{"$error":"#REF!"}},{"$f":"IF(#REF!=15,6,0)","v":{"$error":"#REF!"}},{"$f":"IF(#REF!=16,5,0)","v":{"$error":"#REF!"}},{"$f":"IF(#REF!=17,4,0)","v":{"$error":"#REF!"}},{"$f":"IF(#REF!=18,3,0)","v":{"$error":"#REF!"}},{"$f":"IF(#REF!=19,2,0)","v":{"$error":"#REF!"}},{"$f":"IF(#REF!=20,1,0)","v":{"$error":"#REF!"}},{"$f":"IF(#REF!>20,0,0)","v":{"$error":"#REF!"}},{"$f":"IF(#REF!=\"сх\",0,0)","v":{"$error":"#REF!"}},{"$error":"#REF!"},{"$f":"IF(#REF!=1,100,0)","v":{"$error":"#REF!"}},{"$f":"IF(#REF!=2,98,0)","v":{"$error":"#REF!"}},{"$f":"IF(#REF!=3,95,0)","v":{"$error":"#REF!"}},{"$f":"IF(#REF!=4,93,0)","v":{"$error":"#REF!"}},{"$f":"IF(#REF!=5,90,0)","v":{"$error":"#REF!"}},{"$f":"IF(#REF!=6,88,0)","v":{"$error":"#REF!"}},{"$f":"IF(#REF!=7,85,0)","v":{"$error":"#REF!"}},{"$f":"IF(#REF!=8,83,0)","v":{"$error":"#REF!"}},{"$f":"IF(#REF!=9,80,0)","v":{"$error":"#REF!"}},{"$f":"IF(#REF!=10,78,0)","v":{"$error":"#REF!"}},{"$f":"IF(#REF!=11,75,0)","v":{"$error":"#REF!"}},{"$f":"IF(#REF!=12,73,0)","v":{"$error":"#REF!"}},{"$f":"IF(#REF!=13,70,0)","v":{"$error":"#REF!"}},{"$f":"IF(#REF!=14,68,0)","v":{"$error":"#REF!"}},{"$f":"IF(#REF!=15,65,0)","v":{"$error":"#REF!"}},{"$f":"IF(#REF!=16,63,0)","v":{"$error":"#REF!"}},{"$f":"IF(#REF!=17,60,0)","v":{"$error":"#REF!"}},{"$f":"IF(#REF!=18,58,0)","v":{"$error":"#REF!"}},{"$f":"IF(#REF!=19,55,0)","v":{"$error":"#REF!"}},{"$f":"IF(#REF!=20,53,0)","v":{"$error":"#REF!"}},{"$f":"IF(#REF!>20,0,0)","v":{"$error":"#REF!"}},{"$f":"IF(#REF!=\"сх\",0,0)","v":{"$error":"#REF!"}},{"$error":"#REF!"},{"$f":"IF(#REF!=1,100,0)","v":{"$error":"#REF!"}},{"$f":"IF(#REF!=2,98,0)","v":{"$error":"#REF!"}},{"$f":"IF(#REF!=3,95,0)","v":{"$error":"#REF!"}},{"$f":"IF(#REF!=4,93,0)","v":{"$error":"#REF!"}},{"$f":"IF(#REF!=5,90,0)","v":{"$error":"#REF!"}},{"$f":"IF(#REF!=6,88,0)","v":{"$error":"#REF!"}},{"$f":"IF(#REF!=7,85,0)","v":{"$error":"#REF!"}},{"$f":"IF(#REF!=8,83,0)","v":{"$error":"#REF!"}},{"$f":"IF(#REF!=9,80,0)","v":{"$error":"#REF!"}},{"$f":"IF(#REF!=10,78,0)","v":{"$error":"#REF!"}},{"$f":"IF(#REF!=11,75,0)","v":{"$error":"#REF!"}},{"$f":"IF(#REF!=12,73,0)","v":{"$error":"#REF!"}},{"$f":"IF(#REF!=13,70,0)","v":{"$error":"#REF!"}},{"$f":"IF(#REF!=14,68,0)","v":{"$error":"#REF!"}},{"$f":"IF(#REF!=15,65,0)","v":{"$error":"#REF!"}},{"$f":"IF(#REF!=16,63,0)","v":{"$error":"#REF!"}},{"$f":"IF(#REF!=17,60,0)","v":{"$error":"#REF!"}},{"$f":"IF(#REF!=18,58,0)","v":{"$error":"#REF!"}},{"$f":"IF(#REF!=19,55,0)","v":{"$error":"#REF!"}},{"$f":"IF(#REF!=20,53,0)","v":{"$error":"#REF!"}},{"$f":"IF(#REF!>20,0,0)","v":{"$error":"#REF!"}},{"$f":"IF(#REF!=\"сх\",0,0)","v":{"$error":"#REF!"}},{"$error":"#REF!"}]
[null,null,null,"Евлашкин Кирилл",65,22,30,11,30,11]
[null,null,null,"Есин Степан",85,44,19,22,17,24]
[null,null,null,"Локтев Никита",85,720,10,31,13,28]
[null,null,null,"Иконников Федор",85,797,21,20,20,21]
[null,null,null,"Илюхин Илья","125 \"2Т\"",28,6,35,7,34]
[null,null,null,"Куцубин Артем","125 \"2Т\"",44,9,32,9,32,null,{"$f":"#REF!+#REF!","v":{"$error":"#REF!"}},null,null,{"$f":"IF(#REF!=1,25,0)","v":{"$error":"#REF!"}},{"$f":"IF(#REF!=2,22,0)","v":{"$error":"#REF!"}},{"$f":"IF(#REF!=3,20,0)","v":{"$error":"#REF!"}},{"$f":"IF(#REF!=4,18,0)","v":{"$error":"#REF!"}},{"$f":"IF(#REF!=5,16,0)","v":{"$error":"#REF!"}},{"$f":"IF(#REF!=6,15,0)","v":{"$error":"#REF!"}},{"$f":"IF(#REF!=7,14,0)","v":{"$error":"#REF!"}},{"$f":"IF(#REF!=8,13,0)","v":{"$error":"#REF!"}},{"$f":"IF(#REF!=9,12,0)","v":{"$error":"#REF!"}},{"$f":"IF(#REF!=10,11,0)","v":{"$error":"#REF!"}},{"$f":"IF(#REF!=11,10,0)","v":{"$error":"#REF!"}},{"$f":"IF(#REF!=12,9,0)","v":{"$error":"#REF!"}},{"$f":"IF(#REF!=13,8,0)","v":{"$error":"#REF!"}},{"$f":"IF(#REF!=14,7,0)","v":{"$error":"#REF!"}},{"$f":"IF(#REF!=15,6,0)","v":{"$error":"#REF!"}},{"$f":"IF(#REF!=16,5,0)","v":{"$error":"#REF!"}},{"$f":"IF(#REF!=17,4,0)","v":{"$error":"#REF!"}},{"$f":"IF(#REF!=18,3,0)","v":{"$error":"#REF!"}},{"$f":"IF(#REF!=19,2,0)","v":{"$error":"#REF!"}},{"$f":"IF(#REF!=20,1,0)","v":{"$error":"#REF!"}},{"$f":"IF(#REF!>20,0,0)","v":{"$error":"#REF!"}},{"$f":"IF(#REF!=\"сх\",0,0)","v":{"$error":"#REF!"}},{"$f":"SUM(O32:AI32)","v":{"$error":"#REF!"}},{"$f":"IF(#REF!=1,25,0)","v":{"$error":"#REF!"}},{"$f":"IF(#REF!=2,22,0)","v":{"$error":"#REF!"}},{"$f":"IF(#REF!=3,20,0)","v":{"$error":"#REF!"}},{"$f":"IF(#REF!=4,18,0)","v":{"$error":"#REF!"}},{"$f":"IF(#REF!=5,16,0)","v":{"$error":"#REF!"}},{"$f":"IF(#REF!=6,15,0)","v":{"$error":"#REF!"}},{"$f":"IF(#REF!=7,14,0)","v":{"$error":"#REF!"}},{"$f":"IF(#REF!=8,13,0)","v":{"$error":"#REF!"}},{"$f":"IF(#REF!=9,12,0)","v":{"$error":"#REF!"}},{"$f":"IF(#REF!=10,11,0)","v":{"$error":"#REF!"}},{"$f":"IF(#REF!=11,10,0)","v":{"$error":"#REF!"}},{"$f":"IF(#REF!=12,9,0)","v":{"$error":"#REF!"}},{"$f":"IF(#REF!=13,8,0)","v":{"$error":"#REF!"}},{"$f":"IF(#REF!=14,7,0)","v":{"$error":"#REF!"}},{"$f":"IF(#REF!=15,6,0)","v":{"$error":"#REF!"}},{"$f":"IF(#REF!=16,5,0)","v":{"$error":"#REF!"}},{"$f":"IF(#REF!=17,4,0)","v":{"$error":"#REF!"}},{"$f":"IF(#REF!=18,3,0)","v":{"$error":"#REF!"}},{"$f":"IF(#REF!=19,2,0)","v":{"$error":"#REF!"}},{"$f":"IF(#REF!=20,1,0)","v":{"$error":"#REF!"}},{"$f":"IF(#REF!>20,0,0)","v":{"$error":"#REF!"}},{"$f":"IF(#REF!=\"сх\",0,0)","v":{"$error":"#REF!"}},{"$f":"SUM(AL32:BF32)","v":{"$error":"#REF!"}},{"$f":"IF(#REF!=1,45,0)","v":{"$error":"#REF!"}},{"$f":"IF(#REF!=2,42,0)","v":{"$error":"#REF!"}},{"$f":"IF(#REF!=3,40,0)","v":{"$error":"#REF!"}},{"$f":"IF(#REF!=4,38,0)","v":{"$error":"#REF!"}},{"$f":"IF(#REF!=5,36,0)","v":{"$error":"#REF!"}},{"$f":"IF(#REF!=6,35,0)","v":{"$error":"#REF!"}},{"$f":"IF(#REF!=7,34,0)","v":{"$error":"#REF!"}},{"$f":"IF(#REF!=8,33,0)","v":{"$error":"#REF!"}},{"$f":"IF(#REF!=9,32,0)","v":{"$error":"#REF!"}},{"$f":"IF(#REF!=10,31,0)","v":{"$error":"#REF!"}},{"$f":"IF(#REF!=11,30,0)","v":{"$error":"#REF!"}},{"$f":"IF(#REF!=12,29,0)","v":{"$error":"#REF!"}},{"$f":"IF(#REF!=13,28,0)","v":{"$error":"#REF!"}},{"$f":"IF(#REF!=14,27,0)","v":{"$error":"#REF!"}},{"$f":"IF(#REF!=15,26,0)","v":{"$error":"#REF!"}},{"$f":"IF(#REF!=16,25,0)","v":{"$error":"#REF!"}},{"$f":"IF(#REF!=17,24,0)","v":{"$error":"#REF!"}},{"$f":"IF(#REF!=18,23,0)","v":{"$error":"#REF!"}},{"$f":"IF(#REF!=19,22,0)","v":{"$error":"#REF!"}},{"$f":"IF(#REF!=20,21,0)","v":{"$error":"#REF!"}},{"$f":"IF(#REF!=21,20,0)","v":{"$error":"#REF!"}},{"$f":"IF(#REF!=22,19,0)","v":{"$error":"#REF!"}},{"$f":"IF(#REF!=23,18,0)","v":{"$error":"#REF!"}},{"$f":"IF(#REF!=24,17,0)","v":{"$error":"#REF!"}},{"$f":"IF(#REF!=25,16,0)","v":{"$error":"#REF!"}},{"$f":"IF(#REF!=26,15,0)","v":{"$error":"#REF!"}},{"$f":"IF(#REF!=27,14,0)","v":{"$error":"#REF!"}},{"$f":"IF(#REF!=28,13,0)","v":{"$error":"#REF!"}},{"$f":"IF(#REF!=29,12,0)","v":{"$error":"#REF!"}},{"$f":"IF(#REF!=30,11,0)","v":{"$error":"#REF!"}},{"$f":"IF(#REF!=31,10,0)","v":{"$error":"#REF!"}},{"$f":"IF(#REF!=32,9,0)","v":{"$error":"#REF!"}},{"$f":"IF(#REF!=33,8,0)","v":{"$error":"#REF!"}},{"$f":"IF(#REF!=34,7,0)","v":{"$error":"#REF!"}},{"$f":"IF(#REF!=35,6,0)","v":{"$error":"#REF!"}},{"$f":"IF(#REF!=36,5,0)","v":{"$error":"#REF!"}},{"$f":"IF(#REF!=37,4,0)","v":{"$error":"#REF!"}},{"$f":"IF(#REF!=38,3,0)","v":{"$error":"#REF!"}},{"$f":"IF(#REF!=39,2,0)","v":{"$error":"#REF!"}},{"$f":"IF(#REF!=40,1,0)","v":{"$error":"#REF!"}},{"$f":"IF(#REF!>20,0,0)","v":{"$error":"#REF!"}},{"$f":"IF(#REF!=\"сх\",0,0)","v":{"$error":"#REF!"}},{"$f":"SUM(BI32:CX32)","v":{"$error":"#REF!"}},{"$f":"IF(#REF!=1,45,0)","v":{"$error":"#REF!"}},{"$f":"IF(#REF!=2,42,0)","v":{"$error":"#REF!"}},{"$f":"IF(#REF!=3,40,0)","v":{"$error":"#REF!"}},{"$f":"IF(#REF!=4,38,0)","v":{"$error":"#REF!"}},{"$f":"IF(#REF!=5,36,0)","v":{"$error":"#REF!"}},{"$f":"IF(#REF!=6,35,0)","v":{"$error":"#REF!"}},{"$f":"IF(#REF!=7,34,0)","v":{"$error":"#REF!"}},{"$f":"IF(#REF!=8,33,0)","v":{"$error":"#REF!"}},{"$f":"IF(#REF!=9,32,0)","v":{"$error":"#REF!"}},{"$f":"IF(#REF!=10,31,0)","v":{"$error":"#REF!"}},{"$f":"IF(#REF!=11,30,0)","v":{"$error":"#REF!"}},{"$f":"IF(#REF!=12,29,0)","v":{"$error":"#REF!"}},{"$f":"IF(#REF!=13,28,0)","v":{"$error":"#REF!"}},{"$f":"IF(#REF!=14,27,0)","v":{"$error":"#REF!"}},{"$f":"IF(#REF!=15,26,0)","v":{"$error":"#REF!"}},{"$f":"IF(#REF!=16,25,0)","v":{"$error":"#REF!"}},{"$f":"IF(#REF!=17,24,0)","v":{"$error":"#REF!"}},{"$f":"IF(#REF!=18,23,0)","v":{"$error":"#REF!"}},{"$f":"IF(#REF!=19,22,0)","v":{"$error":"#REF!"}},{"$f":"IF(#REF!=20,21,0)","v":{"$error":"#REF!"}},{"$f":"IF(#REF!=21,20,0)","v":{"$error":"#REF!"}},{"$f":"IF(#REF!=22,19,0)","v":{"$error":"#REF!"}},{"$f":"IF(#REF!=23,18,0)","v":{"$error":"#REF!"}},{"$f":"IF(#REF!=24,17,0)","v":{"$error":"#REF!"}},{"$f":"IF(#REF!=25,16,0)","v":{"$error":"#REF!"}},{"$f":"IF(#REF!=26,15,0)","v":{"$error":"#REF!"}},{"$f":"IF(#REF!=27,14,0)","v":{"$error":"#REF!"}},{"$f":"IF(#REF!=28,13,0)","v":{"$error":"#REF!"}},{"$f":"IF(#REF!=29,12,0)","v":{"$error":"#REF!"}},{"$f":"IF(#REF!=30,11,0)","v":{"$error":"#REF!"}},{"$f":"IF(#REF!=31,10,0)","v":{"$error":"#REF!"}},{"$f":"IF(#REF!=32,9,0)","v":{"$error":"#REF!"}},{"$f":"IF(#REF!=33,8,0)","v":{"$error":"#REF!"}},{"$f":"IF(#REF!=34,7,0)","v":{"$error":"#REF!"}},{"$f":"IF(#REF!=35,6,0)","v":{"$error":"#REF!"}},{"$f":"IF(#REF!=36,5,0)","v":{"$error":"#REF!"}},{"$f":"IF(#REF!=37,4,0)","v":{"$error":"#REF!"}},{"$f":"IF(#REF!=38,3,0)","v":{"$error":"#REF!"}},{"$f":"IF(#REF!=39,2,0)","v":{"$error":"#REF!"}},{"$f":"IF(#REF!=40,1,0)","v":{"$error":"#REF!"}},{"$f":"IF(#REF!>20,0,0)","v":{"$error":"#REF!"}},{"$f":"IF(#REF!=\"сх\",0,0)","v":{"$error":"#REF!"}},{"$f":"SUM(CZ32:EO32)","v":{"$error":"#REF!"}},null,{"$f":"IF(#REF!=\"сх\",\"ноль\",IF(#REF!>0,#REF!,\"Ноль\"))","v":{"$error":"#REF!"}},{"$f":"IF(#REF!=\"сх\",\"ноль\",IF(#REF!>0,#REF!,\"Ноль\"))","v":{"$error":"#REF!"}},null,{"$f":"MIN(ER32,ES32)","v":{"$error":"#REF!"}},{"$f":"IF(K32=#REF!,IF(#REF!<#REF!,#REF!,EZ32),#REF!)","v":{"$error":"#REF!"}},{"$f":"IF(K32=#REF!,IF(#REF!<#REF!,0,1))","v":{"$error":"#REF!"}},{"$f":"IF(AND(EU32>=21,EU32<>0),EU32,IF(K32<#REF!,\"СТОП\",EV32+EW32))","v":{"$error":"#REF!"}},null,15,16,null,{"$f":"IF(#REF!=1,25,0)","v":{"$error":"#REF!"}},{"$f":"IF(#REF!=2,22,0)","v":{"$error":"#REF!"}},{"$f":"IF(#REF!=3,20,0)","v":{"$error":"#REF!"}},{"$f":"IF(#REF!=4,18,0)","v":{"$error":"#REF!"}},{"$f":"IF(#REF!=5,16,0)","v":{"$error":"#REF!"}},{"$f":"IF(#REF!=6,15,0)","v":{"$error":"#REF!"}},{"$f":"IF(#REF!=7,14,0)","v":{"$error":"#REF!"}},{"$f":"IF(#REF!=8,13,0)","v":{"$error":"#REF!"}},{"$f":"IF(#REF!=9,12,0)","v":{"$error":"#REF!"}},{"$f":"IF(#REF!=10,11,0)","v":{"$error":"#REF!"}},{"$f":"IF(#REF!=11,10,0)","v":{"$error":"#REF!"}},{"$f":"IF(#REF!=12,9,0)","v":{"$error":"#REF!"}},{"$f":"IF(#REF!=13,8,0)","v":{"$error":"#REF!"}},{"$f":"IF(#REF!=14,7,0)","v":{"$error":"#REF!"}},{"$f":"IF(#REF!=15,6,0)","v":{"$error":"#REF!"}},{"$f":"IF(#REF!=16,5,0)","v":{"$error":"#REF!"}},{"$f":"IF(#REF!=17,4,0)","v":{"$error":"#REF!"}},{"$f":"IF(#REF!=18,3,0)","v":{"$error":"#REF!"}},{"$f":"IF(#REF!=19,2,0)","v":{"$error":"#REF!"}},{"$f":"IF(#REF!=20,1,0)","v":{"$error":"#REF!"}},{"$f":"IF(#REF!>20,0,0)","v":{"$error":"#REF!"}},{"$f":"IF(#REF!=\"сх\",0,0)","v":{"$error":"#REF!"}},{"$f":"SUM(FC32:FX32)","v":{"$error":"#REF!"}},{"$f":"IF(#REF!=1,25,0)","v":{"$error":"#REF!"}},{"$f":"IF(#REF!=2,22,0)","v":{"$error":"#REF!"}},{"$f":"IF(#REF!=3,20,0)","v":{"$error":"#REF!"}},{"$f":"IF(#REF!=4,18,0)","v":{"$error":"#REF!"}},{"$f":"IF(#REF!=5,16,0)","v":{"$error":"#REF!"}},{"$f":"IF(#REF!=6,15,0)","v":{"$error":"#REF!"}},{"$f":"IF(#REF!=7,14,0)","v":{"$error":"#REF!"}},{"$f":"IF(#REF!=8,13,0)","v":{"$error":"#REF!"}},{"$f":"IF(#REF!=9,12,0)","v":{"$error":"#REF!"}},{"$f":"IF(#REF!=10,11,0)","v":{"$error":"#REF!"}},{"$f":"IF(#REF!=11,10,0)","v":{"$error":"#REF!"}},{"$f":"IF(#REF!=12,9,0)","v":{"$error":"#REF!"}},{"$f":"IF(#REF!=13,8,0)","v":{"$error":"#REF!"}},{"$f":"IF(#REF!=14,7,0)","v":{"$error":"#REF!"}},{"$f":"IF(#REF!=15,6,0)","v":{"$error":"#REF!"}},{"$f":"IF(#REF!=16,5,0)","v":{"$error":"#REF!"}},{"$f":"IF(#REF!=17,4,0)","v":{"$error":"#REF!"}},{"$f":"IF(#REF!=18,3,0)","v":{"$error":"#REF!"}},{"$f":"IF(#REF!=19,2,0)","v":{"$error":"#REF!"}},{"$f":"IF(#REF!=20,1,0)","v":{"$error":"#REF!"}},{"$f":"IF(#REF!>20,0,0)","v":{"$error":"#REF!"}},{"$f":"IF(#REF!=\"сх\",0,0)","v":{"$error":"#REF!"}},{"$f":"SUM(FZ32:GU32)","v":{"$error":"#REF!"}},{"$f":"IF(#REF!=1,100,0)","v":{"$error":"#REF!"}},{"$f":"IF(#REF!=2,98,0)","v":{"$error":"#REF!"}},{"$f":"IF(#REF!=3,95,0)","v":{"$error":"#REF!"}},{"$f":"IF(#REF!=4,93,0)","v":{"$error":"#REF!"}},{"$f":"IF(#REF!=5,90,0)","v":{"$error":"#REF!"}},{"$f":"IF(#REF!=6,88,0)","v":{"$error":"#REF!"}},{"$f":"IF(#REF!=7,85,0)","v":{"$error":"#REF!"}},{"$f":"IF(#REF!=8,83,0)","v":{"$error":"#REF!"}},{"$f":"IF(#REF!=9,80,0)","v":{"$error":"#REF!"}},{"$f":"IF(#REF!=10,78,0)","v":{"$error":"#REF!"}},{"$f":"IF(#REF!=11,75,0)","v":{"$error":"#REF!"}},{"$f":"IF(#REF!=12,73,0)","v":{"$error":"#REF!"}},{"$f":"IF(#REF!=13,70,0)","v":{"$error":"#REF!"}},{"$f":"IF(#REF!=14,68,0)","v":{"$error":"#REF!"}},{"$f":"IF(#REF!=15,65,0)","v":{"$error":"#REF!"}},{"$f":"IF(#REF!=16,63,0)","v":{"$error":"#REF!"}},{"$f":"IF(#REF!=17,60,0)","v":{"$error":"#REF!"}},{"$f":"IF(#REF!=18,58,0)","v":{"$error":"#REF!"}},{"$f":"IF(#REF!=19,55,0)","v":{"$error":"#REF!"}},{"$f":"IF(#REF!=20,53,0)","v":{"$error":"#REF!"}},{"$f":"IF(#REF!>20,0,0)","v":{"$error":"#REF!"}},{"$f":"IF(#REF!=\"сх\",0,0)","v":{"$error":"#REF!"}},{"$f":"SUM(GW32:HR32)","v":{"$error":"#REF!"}},{"$f":"IF(#REF!=1,100,0)","v":{"$error":"#REF!"}},{"$f":"IF(#REF!=2,98,0)","v":{"$error":"#REF!"}},{"$f":"IF(#REF!=3,95,0)","v":{"$error":"#REF!"}},{"$f":"IF(#REF!=4,93,0)","v":{"$error":"#REF!"}},{"$f":"IF(#REF!=5,90,0)","v":{"$error":"#REF!"}},{"$f":"IF(#REF!=6,88,0)","v":{"$error":"#REF!"}},{"$f":"IF(#REF!=7,85,0)","v":{"$error":"#REF!"}},{"$f":"IF(#REF!=8,83,0)","v":{"$error":"#REF!"}},{"$f":"IF(#REF!=9,80,0)","v":{"$error":"#REF!"}},{"$f":"IF(#REF!=10,78,0)","v":{"$error":"#REF!"}},{"$f":"IF(#REF!=11,75,0)","v":{"$error":"#REF!"}},{"$f":"IF(#REF!=12,73,0)","v":{"$error":"#REF!"}},{"$f":"IF(#REF!=13,70,0)","v":{"$error":"#REF!"}},{"$f":"IF(#REF!=14,68,0)","v":{"$error":"#REF!"}},{"$f":"IF(#REF!=15,65,0)","v":{"$error":"#REF!"}},{"$f":"IF(#REF!=16,63,0)","v":{"$error":"#REF!"}},{"$f":"IF(#REF!=17,60,0)","v":{"$error":"#REF!"}},{"$f":"IF(#REF!=18,58,0)","v":{"$error":"#REF!"}},{"$f":"IF(#REF!=19,55,0)","v":{"$error":"#REF!"}},{"$f":"IF(#REF!=20,53,0)","v":{"$error":"#REF!"}},{"$f":"IF(#REF!>20,0,0)","v":{"$error":"#REF!"}},{"$f":"IF(#REF!=\"сх\",0,0)","v":{"$error":"#REF!"}},{"$f":"SUM(HT32:IO32)","v":{"$error":"#REF!"}}]
[null,null,null,"Хахалев Владимир","125 \"4Т\"",26,9,32,8,33,null,{"$f":"#REF!+#REF!","v":{"$error":"#REF!"}},null,null,{"$f":"IF(#REF!=1,25,0)","v":{"$error":"#REF!"}},{"$f":"IF(#REF!=2,22,0)","v":{"$error":"#REF!"}},{"$f":"IF(#REF!=3,20,0)","v":{"$error":"#REF!"}},{"$f":"IF(#REF!=4,18,0)","v":{"$error":"#REF!"}},{"$f":"IF(#REF!=5,16,0)","v":{"$error":"#REF!"}},{"$f":"IF(#REF!=6,15,0)","v":{"$error":"#REF!"}},{"$f":"IF(#REF!=7,14,0)","v":{"$error":"#REF!"}},{"$f":"IF(#REF!=8,13,0)","v":{"$error":"#REF!"}},{"$f":"IF(#REF!=9,12,0)","v":{"$error":"#REF!"}},{"$f":"IF(#REF!=10,11,0)","v":{"$error":"#REF!"}},{"$f":"IF(#REF!=11,10,0)","v":{"$error":"#REF!"}},{"$f":"IF(#REF!=12,9,0)","v":{"$error":"#REF!"}},{"$f":"IF(#REF!=13,8,0)","v":{"$error":"#REF!"}},{"$f":"IF(#REF!=14,7,0)","v":{"$error":"#REF!"}},{"$f":"IF(#REF!=15,6,0)","v":{"$error":"#REF!"}},{"$f":"IF(#REF!=16,5,0)","v":{"$error":"#REF!"}},{"$f":"IF(#REF!=17,4,0)","v":{"$error":"#REF!"}},{"$f":"IF(#REF!=18,3,0)","v":{"$error":"#REF!"}},{"$f":"IF(#REF!=19,2,0)","v":{"$error":"#REF!"}},{"$f":"IF(#REF!=20,1,0)","v":{"$error":"#REF!"}},{"$f":"IF(#REF!>20,0,0)","v":{"$error":"#REF!"}},{"$f":"IF(#REF!=\"сх\",0,0)","v":{"$error":"#REF!"}},{"$error":"#REF!"},{"$f":"IF(#REF!=1,25,0)","v":{"$error":"#REF!"}},{"$f":"IF(#REF!=2,22,0)","v":{"$error":"#REF!"}},{"$f":"IF(#REF!=3,20,0)","v":{"$error":"#REF!"}},{"$f":"IF(#REF!=4,18,0)","v":{"$error":"#REF!"}},{"$f":"IF(#REF!=5,16,0)","v":{"$error":"#REF!"}},{"$f":"IF(#REF!=6,15,0)","v":{"$error":"#REF!"}},{"$f":"IF(#REF!=7,14,0)","v":{"$error":"#REF!"}},{"$f":"IF(#REF!=8,13,0)","v":{"$error":"#REF!"}},{"$f":"IF(#REF!=9,12,0)","v":{"$error":"#REF!"}},{"$f":"IF(#REF!=10,11,0)","v":{"$error":"#REF!"}},{"$f":"IF(#REF!=11,10,0)","v":{"$error":"#REF!"}},{"$f":"IF(#REF!=12,9,0)","v":{"$error":"#REF!"}},{"$f":"IF(#REF!=13,8,0)","v":{"$error":"#REF!"}},{"$f":"IF(#REF!=14,7,0)","v":{"$error":"#REF!"}},{"$f":"IF(#REF!=15,6,0)","v":{"$error":"#REF!"}},{"$f":"IF(#REF!=16,5,0)","v":{"$error":"#REF!"}},{"$f":"IF(#REF!=17,4,0)","v":{"$error":"#REF!"}},{"$f":"IF(#REF!=18,3,0)","v":{"$error":"#REF!"}},{"$f":"IF(#REF!=19,2,0)","v":{"$error":"#REF!"}},{"$f":"IF(#REF!=20,1,0)","v":{"$error":"#REF!"}},{"$f":"IF(#REF!>20,0,0)","v":{"$error":"#REF!"}},{"$f":"IF(#REF!=\"сх\",0,0)","v":{"$error":"#REF!"}},{"$error":"#REF!"},{"$f":"IF(#REF!=1,45,0)","v":{"$error":"#REF!"}},{"$f":"IF(#REF!=2,42,0)","v":{"$error":"#REF!"}},{"$f":"IF(#REF!=3,40,0)","v":{"$error":"#REF!"}},{"$f":"IF(#REF!=4,38,0)","v":{"$error":"#REF!"}},{"$f":"IF(#REF!=5,36,0)","v":{"$error":"#REF!"}},{"$f":"IF(#REF!=6,35,0)","v":{"$error":"#REF!"}},{"$f":"IF(#REF!=7,34,0)","v":{"$error":"#REF!"}},{"$f":"IF(#REF!=8,33,0)","v":{"$error":"#REF!"}},{"$f":"IF(#REF!=9,32,0)","v":{"$error":"#REF!"}},{"$f":"IF(#REF!=10,31,0)","v":{"$error":"#REF!"}},{"$f":"IF(#REF!=11,30,0)","v":{"$error":"#REF!"}},{"$f":"IF(#REF!=12,29,0)","v":{"$error":"#REF!"}},{"$f":"IF(#REF!=13,28,0)","v":{"$error":"#REF!"}},{"$f":"IF(#REF!=14,27,0)","v":{"$error":"#REF!"}},{"$f":"IF(#REF!=15,26,0)","v":{"$error":"#REF!"}},{"$f":"IF(#REF!=16,25,0)","v":{"$error":"#REF!"}},{"$f":"IF(#REF!=17,24,0)","v":{"$error":"#REF!"}},{"$f":"IF(#REF!=18,23,0)","v":{"$error":"#REF!"}},{"$f":"IF(#REF!=19,22,0)","v":{"$error":"#REF!"}},{"$f":"IF(#REF!=20,21,0)","v":{"$error":"#REF!"}},{"$f":"IF(#REF!=21,20,0)","v":{"$error":"#REF!"}},{"$f":"IF(#REF!=22,19,0)","v":{"$error":"#REF!"}},{"$f":"IF(#REF!=23,18,0)","v":{"$error":"#REF!"}},{"$f":"IF(#REF!=24,17,0)","v":{"$error":"#REF!"}},{"$f":"IF(#REF!=25,16,0)","v":{"$error":"#REF!"}},{"$f":"IF(#REF!=26,15,0)","v":{"$error":"#REF!"}},{"$f":"IF(#REF!=27,14,0)","v":{"$error":"#REF!"}},{"$f":"IF(#REF!=28,13,0)","v":{"$error":"#REF!"}},{"$f":"IF(#REF!=29,12,0)","v":{"$error":"#REF!"}},{"$f":"IF(#REF!=30,11,0)","v":{"$error":"#REF!"}},{"$f":"IF(#REF!=31,10,0)","v":{"$error":"#REF!"}},{"$f":"IF(#REF!=32,9,0)","v":{"$error":"#REF!"}},{"$f":"IF(#REF!=33,8,0)","v":{"$error":"#REF!"}},{"$f":"IF(#REF!=34,7,0)","v":{"$error":"#REF!"}},{"$f":"IF(#REF!=35,6,0)","v":{"$error":"#REF!"}},{"$f":"IF(#REF!=36,5,0)","v":{"$error":"#REF!"}},{"$f":"IF(#REF!=37,4,0)","v":{"$error":"#REF!"}},{"$f":"IF(#REF!=38,3,0)","v":{"$error":"#REF!"}},{"$f":"IF(#REF!=39,2,0)","v":{"$error":"#REF!"}},{"$f":"IF(#REF!=40,1,0)","v":{"$error":"#REF!"}},{"$f":"IF(#REF!>20,0,0)","v":{"$error":"#REF!"}},{"$f":"IF(#REF!=\"сх\",0,0)","v":{"$error":"#REF!"}},{"$error":"#REF!"},{"$f":"IF(#REF!=1,45,0)","v":{"$error":"#REF!"}},{"$f":"IF(#REF!=2,42,0)","v":{"$error":"#REF!"}},{"$f":"IF(#REF!=3,40,0)","v":{"$error":"#REF!"}},{"$f":"IF(#REF!=4,38,0)","v":{"$error":"#REF!"}},{"$f":"IF(#REF!=5,36,0)","v":{"$error":"#REF!"}},{"$f":"IF(#REF!=6,35,0)","v":{"$error":"#REF!"}},{"$f":"IF(#REF!=7,34,0)","v":{"$error":"#REF!"}},{"$f":"IF(#REF!=8,33,0)","v":{"$error":"#REF!"}},{"$f":"IF(#REF!=9,32,0)","v":{"$error":"#REF!"}},{"$f":"IF(#REF!=10,31,0)","v":{"$error":"#REF!"}},{"$f":"IF(#REF!=11,30,0)","v":{"$error":"#REF!"}},{"$f":"IF(#REF!=12,29,0)","v":{"$error":"#REF!"}},{"$f":"IF(#REF!=13,28,0)","v":{"$error":"#REF!"}},{"$f":"IF(#REF!=14,27,0)","v":{"$error":"#REF!"}},{"$f":"IF(#REF!=15,26,0)","v":{"$error":"#REF!"}},{"$f":"IF(#REF!=16,25,0)","v":{"$error":"#REF!"}},{"$f":"IF(#REF!=17,24,0)","v":{"$error":"#REF!"}},{"$f":"IF(#REF!=18,23,0)","v":{"$error":"#REF!"}},{"$f":"IF(#REF!=19,22,0)","v":{"$error":"#REF!"}},{"$f":"IF(#REF!=20,21,0)","v":{"$error":"#REF!"}},{"$f":"IF(#REF!=21,20,0)","v":{"$error":"#REF!"}},{"$f":"IF(#REF!=22,19,0)","v":{"$error":"#REF!"}},{"$f":"IF(#REF!=23,18,0)","v":{"$error":"#REF!"}},{"$f":"IF(#REF!=24,17,0)","v":{"$error":"#REF!"}},{"$f":"IF(#REF!=25,16,0)","v":{"$error":"#REF!"}},{"$f":"IF(#REF!=26,15,0)","v":{"$error":"#REF!"}},{"$f":"IF(#REF!=27,14,0)","v":{"$error":"#REF!"}},{"$f":"IF(#REF!=28,13,0)","v":{"$error":"#REF!"}},{"$f":"IF(#REF!=29,12,0)","v":{"$error":"#REF!"}},{"$f":"IF(#REF!=30,11,0)","v":{"$error":"#REF!"}},{"$f":"IF(#REF!=31,10,0)","v":{"$error":"#REF!"}},{"$f":"IF(#REF!=32,9,0)","v":{"$error":"#REF!"}},{"$f":"IF(#REF!=33,8,0)","v":{"$error":"#REF!"}},{"$f":"IF(#REF!=34,7,0)","v":{"$error":"#REF!"}},{"$f":"IF(#REF!=35,6,0)","v":{"$error":"#REF!"}},{"$f":"IF(#REF!=36,5,0)","v":{"$error":"#REF!"}},{"$f":"IF(#REF!=37,4,0)","v":{"$error":"#REF!"}},{"$f":"IF(#REF!=38,3,0)","v":{"$error":"#REF!"}},{"$f":"IF(#REF!=39,2,0)","v":{"$error":"#REF!"}},{"$f":"IF(#REF!=40,1,0)","v":{"$error":"#REF!"}},{"$f":"IF(#REF!>20,0,0)","v":{"$error":"#REF!"}},{"$f":"IF(#REF!=\"сх\",0,0)","v":{"$error":"#REF!"}},{"$error":"#REF!"},null,{"$f":"IF(#REF!=\"сх\",\"ноль\",IF(#REF!>0,#REF!,\"Ноль\"))","v":{"$error":"#REF!"}},{"$f":"IF(#REF!=\"сх\",\"ноль\",IF(#REF!>0,#REF!,\"Ноль\"))","v":{"$error":"#REF!"}},null,{"$error":"#REF!"},{"$f":"IF(K33=#REF!,IF(#REF!<#REF!,#REF!,EZ33),#REF!)","v":{"$error":"#REF!"}},{"$f":"IF(K33=#REF!,IF(#REF!<#REF!,0,1))","v":{"$error":"#REF!"}},{"$f":"IF(AND(EU33>=21,EU33<>0),EU33,IF(K33<#REF!,\"СТОП\",EV33+EW33))","v":{"$error":"#REF!"}},null,15,16,null,{"$f":"IF(#REF!=1,25,0)","v":{"$error":"#REF!"}},{"$f":"IF(#REF!=2,22,0)","v":{"$error":"#REF!"}},{"$f":"IF(#REF!=3,20,0)","v":{"$error":"#REF!"}},{"$f":"IF(#REF!=4,18,0)","v":{"$error":"#REF!"}},{"$f":"IF(#REF!=5,16,0)","v":{"$error":"#REF!"}},{"$f":"IF(#REF!=6,15,0)","v":{"$error":"#REF!"}},{"$f":"IF(#REF!=7,14,0)","v":{"$error":"#REF!"}},{"$f":"IF(#REF!=8,13,0)","v":{"$error":"#REF!"}},{"$f":"IF(#REF!=9,12,0)","v":{"$error":"#REF!"}},{"$f":"IF(#REF!=10,11,0)","v":{"$error":"#REF!"}},{"$f":"IF(#REF!=11,10,0)","v":{"$error":"#REF!"}},{"$f":"IF(#REF!=12,9,0)","v":{"$error":"#REF!"}},{"$f":"IF(#REF!=13,8,0)","v":{"$error":"#REF!"}},{"$f":"IF(#REF!=14,7,0)","v":{"$error":"#REF!"}},{"$f":"IF(#REF!=15,6,0)","v":{"$error":"#REF!"}},{"$f":"IF(#REF!=16,5,0)","v":{"$error":"#REF!"}},{"$f":"IF(#REF!=17,4,0)","v":{"$error":"#REF!"}},{"$f":"IF(#REF!=18,3,0)","v":{"$error":"#REF!"}},{"$f":"IF(#REF!=19,2,0)","v":{"$error":"#REF!"}},{"$f":"IF(#REF!=20,1,0)","v":{"$error":"#REF!"}},{"$f":"IF(#REF!>20,0,0)","v":{"$error":"#REF!"}},{"$f":"IF(#REF!=\"сх\",0,0)","v":{"$error":"#REF!"}},{"$error":"#REF!"},{"$f":"IF(#REF!=1,25,0)","v":{"$error":"#REF!"}},{"$f":"IF(#REF!=2,22,0)","v":{"$error":"#REF!"}},{"$f":"IF(#REF!=3,20,0)","v":{"$error":"#REF!"}},{"$f":"IF(#REF!=4,18,0)","v":{"$error":"#REF!"}},{"$f":"IF(#REF!=5,16,0)","v":{"$error":"#REF!"}},{"$f":"IF(#REF!=6,15,0)","v":{"$error":"#REF!"}},{"$f":"IF(#REF!=7,14,0)","v":{"$error":"#REF!"}},{"$f":"IF(#REF!=8,13,0)","v":{"$error":"#REF!"}},{"$f":"IF(#REF!=9,12,0)","v":{"$error":"#REF!"}},{"$f":"IF(#REF!=10,11,0)","v":{"$error":"#REF!"}},{"$f":"IF(#REF!=11,10,0)","v":{"$error":"#REF!"}},{"$f":"IF(#REF!=12,9,0)","v":{"$error":"#REF!"}},{"$f":"IF(#REF!=13,8,0)","v":{"$error":"#REF!"}},{"$f":"IF(#REF!=14,7,0)","v":{"$error":"#REF!"}},{"$f":"IF(#REF!=15,6,0)","v":{"$error":"#REF!"}},{"$f":"IF(#REF!=16,5,0)","v":{"$error":"#REF!"}},{"$f":"IF(#REF!=17,4,0)","v":{"$error":"#REF!"}},{"$f":"IF(#REF!=18,3,0)","v":{"$error":"#REF!"}},{"$f":"IF(#REF!=19,2,0)","v":{"$error":"#REF!"}},{"$f":"IF(#REF!=20,1,0)","v":{"$error":"#REF!"}},{"$f":"IF(#REF!>20,0,0)","v":{"$error":"#REF!"}},{"$f":"IF(#REF!=\"сх\",0,0)","v":{"$error":"#REF!"}},{"$error":"#REF!"},{"$f":"IF(#REF!=1,100,0)","v":{"$error":"#REF!"}},{"$f":"IF(#REF!=2,98,0)","v":{"$error":"#REF!"}},{"$f":"IF(#REF!=3,95,0)","v":{"$error":"#REF!"}},{"$f":"IF(#REF!=4,93,0)","v":{"$error":"#REF!"}},{"$f":"IF(#REF!=5,90,0)","v":{"$error":"#REF!"}},{"$f":"IF(#REF!=6,88,0)","v":{"$error":"#REF!"}},{"$f":"IF(#REF!=7,85,0)","v":{"$error":"#REF!"}},{"$f":"IF(#REF!=8,83,0)","v":{"$error":"#REF!"}},{"$f":"IF(#REF!=9,80,0)","v":{"$error":"#REF!"}},{"$f":"IF(#REF!=10,78,0)","v":{"$error":"#REF!"}},{"$f":"IF(#REF!=11,75,0)","v":{"$error":"#REF!"}},{"$f":"IF(#REF!=12,73,0)","v":{"$error":"#REF!"}},{"$f":"IF(#REF!=13,70,0)","v":{"$error":"#REF!"}},{"$f":"IF(#REF!=14,68,0)","v":{"$error":"#REF!"}},{"$f":"IF(#REF!=15,65,0)","v":{"$error":"#REF!"}},{"$f":"IF(#REF!=16,63,0)","v":{"$error":"#REF!"}},{"$f":"IF(#REF!=17,60,0)","v":{"$error":"#REF!"}},{"$f":"IF(#REF!=18,58,0)","v":{"$error":"#REF!"}},{"$f":"IF(#REF!=19,55,0)","v":{"$error":"#REF!"}},{"$f":"IF(#REF!=20,53,0)","v":{"$error":"#REF!"}},{"$f":"IF(#REF!>20,0,0)","v":{"$error":"#REF!"}},{"$f":"IF(#REF!=\"сх\",0,0)","v":{"$error":"#REF!"}},{"$error":"#REF!"},{"$f":"IF(#REF!=1,100,0)","v":{"$error":"#REF!"}},{"$f":"IF(#REF!=2,98,0)","v":{"$error":"#REF!"}},{"$f":"IF(#REF!=3,95,0)","v":{"$error":"#REF!"}},{"$f":"IF(#REF!=4,93,0)","v":{"$error":"#REF!"}},{"$f":"IF(#REF!=5,90,0)","v":{"$error":"#REF!"}},{"$f":"IF(#REF!=6,88,0)","v":{"$error":"#REF!"}},{"$f":"IF(#REF!=7,85,0)","v":{"$error":"#REF!"}},{"$f":"IF(#REF!=8,83,0)","v":{"$error":"#REF!"}},{"$f":"IF(#REF!=9,80,0)","v":{"$error":"#REF!"}},{"$f":"IF(#REF!=10,78,0)","v":{"$error":"#REF!"}},{"$f":"IF(#REF!=11,75,0)","v":{"$error":"#REF!"}},{"$f":"IF(#REF!=12,73,0)","v":{"$error":"#REF!"}},{"$f":"IF(#REF!=13,70,0)","v":{"$error":"#REF!"}},{"$f":"IF(#REF!=14,68,0)","v":{"$error":"#REF!"}},{"$f":"IF(#REF!=15,65,0)","v":{"$error":"#REF!"}},{"$f":"IF(#REF!=16,63,0)","v":{"$error":"#REF!"}},{"$f":"IF(#REF!=17,60,0)","v":{"$error":"#REF!"}},{"$f":"IF(#REF!=18,58,0)","v":{"$error":"#REF!"}},{"$f":"IF(#REF!=19,55,0)","v":{"$error":"#REF!"}},{"$f":"IF(#REF!=20,53,0)","v":{"$error":"#REF!"}},{"$f":"IF(#REF!>20,0,0)","v":{"$error":"#REF!"}},{"$f":"IF(#REF!=\"сх\",0,0)","v":{"$error":"#REF!"}},{"$error":"#REF!"}]
[]
["Главный судья"]
["судья Всероссийской категории:                                                               Э. А. Иванов  (г. Кострома; свидетельство МФР А 165)                                                 "]
[]
["Главный секретарь соревнований"]
["судья Всероссийской категории:                                                   А. Ю. Иванов (г. Москва; свидетельство МФР А 105; FIM 11245)"]

{"sheet":"ВО","index":1,"n_rows":26,"n_cols":254,"rows_kept":26,"cut":false,"hidden":false,"merged":[[5,6,5,7],[5,8,5,9],[0,11,3,11],[1,0,1,10],[2,0,2,10],[3,0,3,10],[4,0,4,10],[6,11,8,11],[6,0,8,0],[6,1,8,1],[6,2,8,2],[6,3,8,3],[6,4,8,4],[6,5,8,5],[9,0,19,0],[9,1,19,1],[9,2,19,2],[9,10,19,10],[6,6,8,6],[6,7,8,7],[6,8,8,8],[6,9,8,9],[6,10,8,10]]}
[]
["Чемпионат и Первенство Владимирской области по мотокроссу 2017 года - II-й этап.                                                                                    ",null,null,null,null,null,null,null,null,null,null,null,null,null,null,null,null,null,null,null,null,null,null,null,null,null,null,null,null,null,null,null,null,null,null,null,null,null,null,null,null,null,null,null,null,null,null,null,null,null,null,null,null,null,null,null,null,null,null,null,null,null,null,null,null,null,null,null,null,null,null,null,null,null,null,null,null,null,null,null,null,null,null,null,null,null,null,null,null,null,null,null,null,null,null,null,null,null,null,null,null,null,null,null,null,null,null,null,null,null,null,null,null,null,null,null,null,null,null,null,null,null,null,null,null,null,null,null,null,null,null,null,null,null,null,null,null,null,null,null,null,null,null,null,null,null,null,null,null,null,null,null,null,null,null,null,null,null,null,null,null,null,null,null,null,null,null,null,null,null,"первый этап"]
["ПРОТОКОЛ  КОМАНДНОГО  ЗАЧЕТА.",null,null,null,null,null,null,null,null,null,null,null,null,null,null,null,null,null,null,null,null,null,null,null,null,null,null,null,null,null,null,null,null,null,null,null,null,null,null,null,null,null,null,null,null,null,null,null,null,null,null,null,null,null,null,null,null,null,null,null,null,null,null,null,null,null,null,null,null,null,null,null,null,null,null,null,null,null,null,null,null,null,null,null,null,null,null,null,null,null,null,null,null,null,null,null,null,null,null,null,null,null,null,null,null,null,null,null,null,null,null,null,null,null,null,null,null,null,null,null,null,null,null,null,null,null,null,null,null,null,null,null,null,null,null,null,null,null,null,null,null,null,null,null,null,null,null,null,null,null,null,null,null,null,null,null,null,null,null,null,null,null,null,null,null,null,null,null,null,null,"первый этап"]
["г. Ковров, Владимирская область.                                                                                                                                                                                                                                       05 - 08 мая 2017 года.",null,null,null,null,null,null,null,null,null,null,null,null,null,null,null,null,null,null,null,null,null,null,null,null,null,null,null,null,null,null,null,null,null,null,null,null,null,null,null,null,null,null,null,null,null,null,null,null,null,null,null,null,null,null,null,null,null,null,null,null,null,null,null,null,null,null,null,null,null,null,null,null,null,null,null,null,null,null,null,null,null,null,null,null,null,null,null,null,null,null,null,null,null,null,null,null,null,null,null,null,null,null,null,null,null,null,null,null,null,null,null,null,null,null,null,null,null,null,null,null,null,null,null,null,null,null,null,null,null,null,null,null,null,null,null,null,null,null,null,null,null,null,null,null,null,null,null,null,null,null,null,null,null,null,null,null,null,null,"первый заезд личные очки",null,null,null,null,null,null,null,null,null,null,null,null,null,null,null,null,null,null,null,null,null,"второй заезд личные очки",null,null,null,null,null,null,null,null,null,null,null,null,null,null,null,null,null,null,null,null,null,null,"Первый заезд командные очки",null,null,null,null,null,null,null,null,null,null,null,null,null,null,null,null,null,null,null,null,null,null,"Второй заезд командные очки"]
["КОМАНДНЫЙ ЗАЧЕТ (0910291811Л)",null,null,null,null,null,null,null,null,null,null,null,null,null,null,null,null,null,null,null,null,null,null,null,null,null,null,null,null,null,null,null,null,null,null,null,null,null,null,null,null,null,null,null,null,null,null,null,null,null,null,null,null,null,null,null,null,null,null,null,null,null,null,null,null,null,null,null,null,null,null,null,null,null,null,null,null,null,null,null,null,null,null,null,null,null,null,null,null,null,null,null,null,null,null,null,null,null,null,null,null,null,null,null,null,null,null,null,null,null,null,null,null,null,null,null,null,null,null,null,null,null,null,null,null,null,null,null,null,null,null,null,null,null,null,null,null,null,null,null,null,null,null,null,null,null,null,null,null,null,null,null,null,null,null,null,null,null,1,2,3,4,5,6,7,8,9,10,11,12,13,14,15,16,17,18,19,20,21,"сх","Sym",1,2,3,4,5,6,7,8,9,10,11,12,13,14,15,16,17,18,19,20,21,"cx","sym",1,2,3,4,5,6,7,8,9,10,11,12,13,14,15,16,17,18,19,20,21,"сх","очки",1,2,3,4,5,6,7,8,9,10,11,12,13,14,15,16,17,18,19,20,21,"сх","очки",{"$f":"COUNT(FC5:IP5)","v":84},"Н. Стро","В. стро","место"]
[null,null,null,null,null,null,"1-й заезд",null,"2-й заезд"]
["Место ","Город (край, район, область)","Наименование команды (клуба)","Фамилия, Имя участника","Класс","Ст. №","МЕСТО","ОЧКИ","МЕСТО","ОЧКИ","Сумма очков             ","Сумма очк. в командном зачете"]
[null,null,null,null,null,null,null,null,null,null,null,null,null,null,null,"первый заезд личные очки",null,null,null,null,null,null,null,null,null,null,null,null,null,null,null,null,null,null,null,null,null,"второй заезд личные очки",null,null,null,null,null,null,null,null,null,null,null,null,null,null,null,null,null,null,null,null,null,null,"Первый заезд командные очки",null,null,null,null,null,null,null,null,null,null,null,null,null,null,null,null,null,null,null,null,null,null,null,null,null,null,null,null,null,null,null,null,null,null,null,null,null,null,null,null,null,null,"Второй заезд командные очки",null,null,null,null,null,null,null,null,null,null,null,null,null,null,null,null,null,null,null,null,null,null,null,null,null,null,null,null,null,null,null,null,null,null,null,null,null,null,null,null,null,null,null,1,2,null,null,null,null,null,null,null,null,null,null,null,null,null,null,null,null,null,null,null,null,null,"первый этап"]
[null,null,null,null,null,null,null,null,null,null,null,null,null,null,1,2,3,4,5,6,7,8,9,10,11,12,13,14,15,16,17,18,19,20,21,"сх",null,1,2,3,4,5,6,7,8,9,10,11,12,13,14,15,16,17,18,19,20,null,"cx",null,1,2,3,4,5,6,7,8,9,10,11,12,13,14,15,16,17,18,19,20,21,22,23,24,25,26,27,28,29,30,31,32,33,34,35,36,37,38,39,40,null,null,null,1,2,3,4,5,6,7,8,9,10,11,12,13,14,15,16,17,18,19,20,21,22,23,24,25,26,27,28,29,30,31,32,33,34,35,36,37,38,39,40,null,null,null,null,null,null,null,"мин","Н. Стро","В. стро","место",null,"чр1","чр2",null,null,"первый заезд личные очки",null,null,null,null,null,null,null,null,null,null,null,null,null,null,null,null,null,null,null,null,null,"второй заезд личные очки",null,null,null,null,null,null,null,null,null,null,null,null,null,null,null,null,null,null,null,null,null,null,"Первый заезд командные очки",null,null,null,null,null,null,null,null,null,null,null,null,null,null,null,null,null,null,null,null,null,null,"Второй заезд командные очки"]
[1,"г. Ковров, Владимирская область","СК \"Мотодром\"","Рыбаков Семен",65,4,1,45,1,45,403,{"$f":"#REF!+#REF!","v":{"$error":"#REF!"}},null,null,{"$f":"IF(#REF!=1,25,0)","v":{"$error":"#REF!"}},{"$f":"IF(#REF!=2,22,0)","v":{"$error":"#REF!"}},{"$f":"IF(#REF!=3,20,0)","v":{"$error":"#REF!"}},{"$f":"IF(#REF!=4,18,0)","v":{"$error":"#REF!"}},{"$f":"IF(#REF!=5,16,0)","v":{"$error":"#REF!"}},{"$f":"IF(#REF!=6,15,0)","v":{"$error":"#REF!"}},{"$f":"IF(#REF!=7,14,0)","v":{"$error":"#REF!"}},{"$f":"IF(#REF!=8,13,0)","v":{"$error":"#REF!"}},{"$f":"IF(#REF!=9,12,0)","v":{"$error":"#REF!"}},{"$f":"IF(#REF!=10,11,0)","v":{"$error":"#REF!"}},{"$f":"IF(#REF!=11,10,0)","v":{"$error":"#REF!"}},{"$f":"IF(#REF!=12,9,0)","v":{"$error":"#REF!"}},{"$f":"IF(#REF!=13,8,0)","v":{"$error":"#REF!"}},{"$f":"IF(#REF!=14,7,0)","v":{"$error":"#REF!"}},{"$f":"IF(#REF!=15,6,0)","v":{"$error":"#REF!"}},{"$f":"IF(#REF!=16,5,0)","v":{"$error":"#REF!"}},{"$f":"IF(#REF!=17,4,0)","v":{"$error":"#REF!"}},{"$f":"IF(#REF!=18,3,0)","v":{"$error":"#REF!"}},{"$f":"IF(#REF!=19,2,0)","v":{"$error":"#REF!"}},{"$f":"IF(#REF!=20,1,0)","v":{"$error":"#REF!"}},{"$f":"IF(#REF!>20,0,0)","v":{"$error":"#REF!"}},{"$f":"IF(#REF!=\"сх\",0,0)","v":{"$error":"#REF!"}},{"$f":"SUM(O10:AI10)","v":{"$error":"#REF!"}},{"$f":"IF(#REF!=1,25,0)","v":{"$error":"#REF!"}},{"$f":"IF(#REF!=2,22,0)","v":{"$error":"#REF!"}},{"$f":"IF(#REF!=3,20,0)","v":{"$error":"#REF!"}},{"$f":"IF(#REF!=4,18,0)","v":{"$error":"#REF!"}},{"$f":"IF(#REF!=5,16,0)","v":{"$error":"#REF!"}},{"$f":"IF(#REF!=6,15,0)","v":{"$error":"#REF!"}},{"$f":"IF(#REF!=7,14,0)","v":{"$error":"#REF!"}},{"$f":"IF(#REF!=8,13,0)","v":{"$error":"#REF!"}},{"$f":"IF(#REF!=9,12,0)","v":{"$error":"#REF!"}},{"$f":"IF(#REF!=10,11,0)","v":{"$error":"#REF!"}},{"$f":"IF(#REF!=11,10,0)","v":{"$error":"#REF!"}},{"$f":"IF(#REF!=12,9,0)","v":{"$error":"#REF!"}},{"$f":"IF(#REF!=13,8,0)","v":{"$error":"#REF!"}},{"$f":"IF(#REF!=14,7,0)","v":{"$error":"#REF!"}},{"$f":"IF(#REF!=15,6,0)","v":{"$error":"#REF!"}},{"$f":"IF(#REF!=16,5,0)","v":{"$error":"#REF!"}},{"$f":"IF(#REF!=17,4,0)","v":{"$error":"#REF!"}},{"$f":"IF(#REF!=18,3,0)","v":{"$error":"#REF!"}},{"$f":"IF(#REF!=19,2,0)","v":{"$error":"#REF!"}},{"$f":"IF(#REF!=20,1,0)","v":{"$error":"#REF!"}},{"$f":"IF(#REF!>20,0,0)","v":{"$error":"#REF!"}},{"$f":"IF(#REF!=\"сх\",0,0)","v":{"$error":"#REF!"}},{"$f":"SUM(AL10:BF10)","v":{"$error":"#REF!"}},{"$f":"IF(#REF!=1,45,0)","v":{"$error":"#REF!"}},{"$f":"IF(#REF!=2,42,0)","v":{"$error":"#REF!"}},{"$f":"IF(#REF!=3,40,0)","v":{"$error":"#REF!"}},{"$f":"IF(#REF!=4,38,0)","v":{"$error":"#REF!"}},{"$f":"IF(#REF!=5,36,0)","v":{"$error":"#REF!"}},{"$f":"IF(#REF!=6,35,0)","v":{"$error":"#REF!"}},{"$f":"IF(#REF!=7,34,0)","v":{"$error":"#REF!"}},{"$f":"IF(#REF!=8,33,0)","v":{"$error":"#REF!"}},{"$f":"IF(#REF!=9,32,0)","v":{"$error":"#REF!"}},{"$f":"IF(#REF!=10,31,0)","v":{"$error":"#REF!"}},{"$f":"IF(#REF!=11,30,0)","v":{"$error":"#REF!"}},{"$f":"IF(#REF!=12,29,0)","v":{"$error":"#REF!"}},{"$f":"IF(#REF!=13,28,0)","v":{"$error":"#REF!"}},{"$f":"IF(#REF!=14,27,0)","v":{"$error":"#REF!"}},{"$f":"IF(#REF!=15,26,0)","v":{"$error":"#REF!"}},{"$f":"IF(#REF!=16,25,0)","v":{"$error":"#REF!"}},{"$f":"IF(#REF!=17,24,0)","v":{"$error":"#REF!"}},{"$f":"IF(#REF!=18,23,0)","v":{"$error":"#REF!"}},{"$f":"IF(#REF!=19,22,0)","v":{"$error":"#REF!"}},{"$f":"IF(#REF!=20,21,0)","v":{"$error":"#REF!"}},{"$f":"IF(#REF!=21,20,0)","v":{"$error":"#REF!"}},{"$f":"IF(#REF!=22,19,0)","v":{"$error":"#REF!"}},{"$f":"IF(#REF!=23,18,0)","v":{"$error":"#REF!"}},{"$f":"IF(#REF!=24,17,0)","v":{"$error":"#REF!"}},{"$f":"IF(#REF!=25,16,0)","v":{"$error":"#REF!"}},{"$f":"IF(#REF!=26,15,0)","v":{"$error":"#REF!"}},{"$f":"IF(#REF!=27,14,0)","v":{"$error":"#REF!"}},{"$f":"IF(#REF!=28,13,0)","v":{"$error":"#REF!"}},{"$f":"IF(#REF!=29,12,0)","v":{"$error":"#REF!"}},{"$f":"IF(#REF!=30,11,0)","v":{"$error":"#REF!"}},{"$f":"IF(#REF!=31,10,0)","v":{"$error":"#REF!"}},{"$f":"IF(#REF!=32,9,0)","v":{"$error":"#REF!"}},{"$f":"IF(#REF!=33,8,0)","v":{"$error":"#REF!"}},{"$f":"IF(#REF!=34,7,0)","v":{"$error":"#REF!"}},{"$f":"IF(#REF!=35,6,0)","v":{"$error":"#REF!"}},{"$f":"IF(#REF!=36,5,0)","v":{"$error":"#REF!"}},{"$f":"IF(#REF!=37,4,0)","v":{"$error":"#REF!"}},{"$f":"IF(#REF!=38,3,0)","v":{"$error":"#REF!"}},{"$f":"IF(#REF!=39,2,0)","v":{"$error":"#REF!"}},{"$f":"IF(#REF!=40,1,0)","v":{"$error":"#REF!"}},{"$f":"IF(#REF!>20,0,0)","v":{"$error":"#REF!"}},{"$f":"IF(#REF!=\"сх\",0,0)","v":{"$error":"#REF!"}},{"$f":"SUM(BI10:CX10)","v":{"$error":"#REF!"}},{"$f":"IF(#REF!=1,45,0)","v":{"$error":"#REF!"}},{"$f":"IF(#REF!=2,42,0)","v":{"$error":"#REF!"}},{"$f":"IF(#REF!=3,40,0)","v":{"$error":"#REF!"}},{"$f":"IF(#REF!=4,38,0)","v":{"$error":"#REF!"}},{"$f":"IF(#REF!=5,36,0)","v":{"$error":"#REF!"}},{"$f":"IF(#REF!=6,35,0)","v":{"$error":"#REF!"}},{"$f":"IF(#REF!=7,34,0)","v":{"$error":"#REF!"}},{"$f":"IF(#REF!=8,33,0)","v":{"$error":"#REF!"}},{"$f":"IF(#REF!=9,32,0)","v":{"$error":"#REF!"}},{"$f":"IF(#REF!=10,31,0)","v":{"$error":"#REF!"}},{"$f":"IF(#REF!=11,30,0)","v":{"$error":"#REF!"}},{"$f":"IF(#REF!=12,29,0)","v":{"$error":"#REF!"}},{"$f":"IF(#REF!=13,28,0)","v":{"$error":"#REF!"}},{"$f":"IF(#REF!=14,27,0)","v":{"$error":"#REF!"}},{"$f":"IF(#REF!=15,26,0)","v":{"$error":"#REF!"}},{"$f":"IF(#REF!=16,25,0)","v":{"$error":"#REF!"}},{"$f":"IF(#REF!=17,24,0)","v":{"$error":"#REF!"}},{"$f":"IF(#REF!=18,23,0)","v":{"$error":"#REF!"}},{"$f":"IF(#REF!=19,22,0)","v":{"$error":"#REF!"}},{"$f":"IF(#REF!=20,21,0)","v":{"$error":"#REF!"}},{"$f":"IF(#REF!=21,20,0)","v":{"$error":"#REF!"}},{"$f":"IF(#REF!=22,19,0)","v":{"$error":"#REF!"}},{"$f":"IF(#REF!=23,18,0)","v":{"$error":"#REF!"}},{"$f":"IF(#REF!=24,17,0)","v":{"$error":"#REF!"}},{"$f":"IF(#REF!=25,16,0)","v":{"$error":"#REF!"}},{"$f":"IF(#REF!=26,15,0)","v":{"$error":"#REF!"}},{"$f":"IF(#REF!=27,14,0)","v":{"$error":"#REF!"}},{"$f":"IF(#REF!=28,13,0)","v":{"$error":"#REF!"}},{"$f":"IF(#REF!=29,12,0)","v":{"$error":"#REF!"}},{"$f":"IF(#REF!=30,11,0)","v":{"$error":"#REF!"}},{"$f":"IF(#REF!=31,10,0)","v":{"$error":"#REF!"}},{"$f":"IF(#REF!=32,9,0)","v":{"$error":"#REF!"}},{"$f":"IF(#REF!=33,8,0)","v":{"$error":"#REF!"}},{"$f":"IF(#REF!=34,7,0)","v":{"$error":"#REF!"}},{"$f":"IF(#REF!=35,6,0)","v":{"$error":"#REF!"}},{"$f":"IF(#REF!=36,5,0)","v":{"$error":"#REF!"}},{"$f":"IF(#REF!=37,4,0)","v":{"$error":"#REF!"}},{"$f":"IF(#REF!=38,3,0)","v":{"$error":"#REF!"}},{"$f":"IF(#REF!=39,2,0)","v":{"$error":"#REF!"}},{"$f":"IF(#REF!=40,1,0)","v":{"$error":"#REF!"}},{"$f":"IF(#REF!>20,0,0)","v":{"$error":"#REF!"}},{"$f":"IF(#REF!=\"сх\",0,0)","v":{"$error":"#REF!"}},{"$f":"SUM(CZ10:EO10)","v":{"$error":"#REF!"}},null,{"$f":"IF(#REF!=\"сх\",\"ноль\",IF(#REF!>0,#REF!,\"Ноль\"))","v":{"$error":"#REF!"}},{"$f":"IF(#REF!=\"сх\",\"ноль\",IF(#REF!>0,#REF!,\"Ноль\"))","v":{"$error":"#REF!"}},null,{"$f":"MIN(ER10,ES10)","v":{"$error":"#REF!"}},{"$f":"IF(K10=#REF!,IF(#REF!<#REF!,#REF!,EZ10),#REF!)","v":{"$error":"#REF!"}},{"$f":"IF(K10=#REF!,IF(#REF!<#REF!,0,1))","v":{"$error":"#REF!"}},{"$f":"IF(AND(EU10>=21,EU10<>0),EU10,IF(K10<#REF!,\"СТОП\",EV10+EW10))","v":{"$error":"#REF!"}},null,15,16,null,{"$f":"IF(#REF!=1,25,0)","v":{"$error":"#REF!"}},{"$f":"IF(#REF!=2,22,0)","v":{"$error":"#REF!"}},{"$f":"IF(#REF!=3,20,0)","v":{"$error":"#REF!"}},{"$f":"IF(#REF!=4,18,0)","v":{"$error":"#REF!"}},{"$f":"IF(#REF!=5,16,0)","v":{"$error":"#REF!"}},{"$f":"IF(#REF!=6,15,0)","v":{"$error":"#REF!"}},{"$f":"IF(#REF!=7,14,0)","v":{"$error":"#REF!"}},{"$f":"IF(#REF!=8,13,0)","v":{"$error":"#REF!"}},{"$f":"IF(#REF!=9,12,0)","v":{"$error":"#REF!"}},{"$f":"IF(#REF!=10,11,0)","v":{"$error":"#REF!"}},{"$f":"IF(#REF!=11,10,0)","v":{"$error":"#REF!"}},{"$f":"IF(#REF!=12,9,0)","v":{"$error":"#REF!"}},{"$f":"IF(#REF!=13,8,0)","v":{"$error":"#REF!"}},{"$f":"IF(#REF!=14,7,0)","v":{"$error":"#REF!"}},{"$f":"IF(#REF!=15,6,0)","v":{"$error":"#REF!"}},{"$f":"IF(#REF!=16,5,0)","v":{"$error":"#REF!"}},{"$f":"IF(#REF!=17,4,0)","v":{"$error":"#REF!"}},{"$f":"IF(#REF!=18,3,0)","v":{"$error":"#REF!"}},{"$f":"IF(#REF!=19,2,0)","v":{"$error":"#REF!"}},{"$f":"IF(#REF!=20,1,0)","v":{"$error":"#REF!"}},{"$f":"IF(#REF!>20,0,0)","v":{"$error":"#REF!"}},{"$f":"IF(#REF!=\"сх\",0,0)","v":{"$error":"#REF!"}},{"$f":"SUM(FC10:FX10)","v":{"$error":"#REF!"}},{"$f":"IF(#REF!=1,25,0)","v":{"$error":"#REF!"}},{"$f":"IF(#REF!=2,22,0)","v":{"$error":"#REF!"}},{"$f":"IF(#REF!=3,20,0)","v":{"$error":"#REF!"}},{"$f":"IF(#REF!=4,18,0)","v":{"$error":"#REF!"}},{"$f":"IF(#REF!=5,16,0)","v":{"$error":"#REF!"}},{"$f":"IF(#REF!=6,15,0)","v":{"$error":"#REF!"}},{"$f":"IF(#REF!=7,14,0)","v":{"$error":"#REF!"}},{"$f":"IF(#REF!=8,13,0)","v":{"$error":"#REF!"}},{"$f":"IF(#REF!=9,12,0)","v":{"$error":"#REF!"}},{"$f":"IF(#REF!=10,11,0)","v":{"$error":"#REF!"}},{"$f":"IF(#REF!=11,10,0)","v":{"$error":"#REF!"}},{"$f":"IF(#REF!=12,9,0)","v":{"$error":"#REF!"}},{"$f":"IF(#REF!=13,8,0)","v":{"$error":"#REF!"}},{"$f":"IF(#REF!=14,7,0)","v":{"$error":"#REF!"}},{"$f":"IF(#REF!=15,6,0)","v":{"$error":"#REF!"}},{"$f":"IF(#REF!=16,5,0)","v":{"$error":"#REF!"}},{"$f":"IF(#REF!=17,4,0)","v":{"$error":"#REF!"}},{"$f":"IF(#REF!=18,3,0)","v":{"$error":"#REF!"}},{"$f":"IF(#REF!=19,2,0)","v":{"$error":"#REF!"}},{"$f":"IF(#REF!=20,1,0)","v":{"$error":"#REF!"}},{"$f":"IF(#REF!>20,0,0)","v":{"$error":"#REF!"}},{"$f":"IF(#REF!=\"сх\",0,0)","v":{"$error":"#REF!"}},{"$f":"SUM(FZ10:GU10)","v":{"$error":"#REF!"}},{"$f":"IF(#REF!=1,100,0)","v":{"$error":"#REF!"}},{"$f":"IF(#REF!=2,98,0)","v":{"$error":"#REF!"}},{"$f":"IF(#REF!=3,95,0)","v":{"$error":"#REF!"}},{"$f":"IF(#REF!=4,93,0)","v":{"$error":"#REF!"}},{"$f":"IF(#REF!=5,90,0)","v":{"$error":"#REF!"}},{"$f":"IF(#REF!=6,88,0)","v":{"$error":"#REF!"}},{"$f":"IF(#REF!=7,85,0)","v":{"$error":"#REF!"}},{"$f":"IF(#REF!=8,83,0)","v":{"$error":"#REF!"}},{"$f":"IF(#REF!=9,80,0)","v":{"$error":"#REF!"}},{"$f":"IF(#REF!=10,78,0)","v":{"$error":"#REF!"}},{"$f":"IF(#REF!=11,75,0)","v":{"$error":"#REF!"}},{"$f":"IF(#REF!=12,73,0)","v":{"$error":"#REF!"}},{"$f":"IF(#REF!=13,70,0)","v":{"$error":"#REF!"}},{"$f":"IF(#REF!=14,68,0)","v":{"$error":"#REF!"}},{"$f":"IF(#REF!=15,65,0)","v":{"$error":"#REF!"}},{"$f":"IF(#REF!=16,63,0)","v":{"$error":"#REF!"}},{"$f":"IF(#REF!=17,60,0)","v":{"$error":"#REF!"}},{"$f":"IF(#REF!=18,58,0)","v":{"$error":"#REF!"}},{"$f":"IF(#REF!=19,55,0)","v":{"$error":"#REF!"}},{"$f":"IF(#REF!=20,53,0)","v":{"$error":"#REF!"}},{"$f":"IF(#REF!>20,0,0)","v":{"$error":"#REF!"}},{"$f":"IF(#REF!=\"сх\",0,0)","v":{"$error":"#REF!"}},{"$f":"SUM(GW10:HR10)","v":{"$error":"#REF!"}},{"$f":"IF(#REF!=1,100,0)","v":{"$error":"#REF!"}},{"$f":"IF(#REF!=2,98,0)","v":{"$error":"#REF!"}},{"$f":"IF(#REF!=3,95,0)","v":{"$error":"#REF!"}},{"$f":"IF(#REF!=4,93,0)","v":{"$error":"#REF!"}},{"$f":"IF(#REF!=5,90,0)","v":{"$error":"#REF!"}},{"$f":"IF(#REF!=6,88,0)","v":{"$error":"#REF!"}},{"$f":"IF(#REF!=7,85,0)","v":{"$error":"#REF!"}},{"$f":"IF(#REF!=8,83,0)","v":{"$error":"#REF!"}},{"$f":"IF(#REF!=9,80,0)","v":{"$error":"#REF!"}},{"$f":"IF(#REF!=10,78,0)","v":{"$error":"#REF!"}},{"$f":"IF(#REF!=11,75,0)","v":{"$error":"#REF!"}},{"$f":"IF(#REF!=12,73,0)","v":{"$error":"#REF!"}},{"$f":"IF(#REF!=13,70,0)","v":{"$error":"#REF!"}},{"$f":"IF(#REF!=14,68,0)","v":{"$error":"#REF!"}},{"$f":"IF(#REF!=15,65,0)","v":{"$error":"#REF!"}},{"$f":"IF(#REF!=16,63,0)","v":{"$error":"#REF!"}},{"$f":"IF(#REF!=17,60,0)","v":{"$error":"#REF!"}},{"$f":"IF(#REF!=18,58,0)","v":{"$error":"#REF!"}},{"$f":"IF(#REF!=19,55,0)","v":{"$error":"#REF!"}},{"$f":"IF(#REF!=20,53,0)","v":{"$error":"#REF!"}},{"$f":"IF(#REF!>20,0,0)","v":{"$error":"#REF!"}},{"$f":"IF(#REF!=\"сх\",0,0)","v":{"$error":"#REF!"}},{"$f":"SUM(HT10:IO10)","v":{"$error":"#REF!"}}]
[null,null,null,"Гусев Данила",65,159,4,38,5,36,null,{"$f":"#REF!+#REF!","v":{"$error":"#REF!"}},null,null,{"$f":"IF(#REF!=1,25,0)","v":{"$error":"#REF!"}},{"$f":"IF(#REF!=2,22,0)","v":{"$error":"#REF!"}},{"$f":"IF(#REF!=3,20,0)","v":{"$error":"#REF!"}},{"$f":"IF(#REF!=4,18,0)","v":{"$error":"#REF!"}},{"$f":"IF(#REF!=5,16,0)","v":{"$error":"#REF!"}},{"$f":"IF(#REF!=6,15,0)","v":{"$error":"#REF!"}},{"$f":"IF(#REF!=7,14,0)","v":{"$error":"#REF!"}},{"$f":"IF(#REF!=8,13,0)","v":{"$error":"#REF!"}},{"$f":"IF(#REF!=9,12,0)","v":{"$error":"#REF!"}},{"$f":"IF(#REF!=10,11,0)","v":{"$error":"#REF!"}},{"$f":"IF(#REF!=11,10,0)","v":{"$error":"#REF!"}},{"$f":"IF(#REF!=12,9,0)","v":{"$error":"#REF!"}},{"$f":"IF(#REF!=13,8,0)","v":{"$error":"#REF!"}},{"$f":"IF(#REF!=14,7,0)","v":{"$error":"#REF!"}},{"$f":"IF(#REF!=15,6,0)","v":{"$error":"#REF!"}},{"$f":"IF(#REF!=16,5,0)","v":{"$error":"#REF!"}},{"$f":"IF(#REF!=17,4,0)","v":{"$error":"#REF!"}},{"$f":"IF(#REF!=18,3,0)","v":{"$error":"#REF!"}},{"$f":"IF(#REF!=19,2,0)","v":{"$error":"#REF!"}},{"$f":"IF(#REF!=20,1,0)","v":{"$error":"#REF!"}},{"$f":"IF(#REF!>20,0,0)","v":{"$error":"#REF!"}},{"$f":"IF(#REF!=\"сх\",0,0)","v":{"$error":"#REF!"}},{"$error":"#REF!"},{"$f":"IF(#REF!=1,25,0)","v":{"$error":"#REF!"}},{"$f":"IF(#REF!=2,22,0)","v":{"$error":"#REF!"}},{"$f":"IF(#REF!=3,20,0)","v":{"$error":"#REF!"}},{"$f":"IF(#REF!=4,18,0)","v":{"$error":"#REF!"}},{"$f":"IF(#REF!=5,16,0)","v":{"$error":"#REF!"}},{"$f":"IF(#REF!=6,15,0)","v":{"$error":"#REF!"}},{"$f":"IF(#REF!=7,14,0)","v":{"$error":"#REF!"}},{"$f":"IF(#REF!=8,13,0)","v":{"$error":"#REF!"}},{"$f":"IF(#REF!=9,12,0)","v":{"$error":"#REF!"}},{"$f":"IF(#REF!=10,11,0)","v":{"$error":"#REF!"}},{"$f":"IF(#REF!=11,10,0)","v":{"$error":"#REF!"}},{"$f":"IF(#REF!=12,9,0)","v":{"$error":"#REF!"}},{"$f":"IF(#REF!=13,8,0)","v":{"$error":"#REF!"}},{"$f":"IF(#REF!=14,7,0)","v":{"$error":"#REF!"}},{"$f":"IF(#REF!=15,6,0)","v":{"$error":"#REF!"}},{"$f":"IF(#REF!=16,5,0)","v":{"$error":"#REF!"}},{"$f":"IF(#REF!=17,4,0)","v":{"$error":"#REF!"}},{"$f":"IF(#REF!=18,3,0)","v":{"$error":"#REF!"}},{"$f":"IF(#REF!=19,2,0)","v":{"$error":"#REF!"}},{"$f":"IF(#REF!=20,1,0)","v":{"$error":"#REF!"}},{"$f":"IF(#REF!>20,0,0)","v":{"$error":"#REF!"}},{"$f":"IF(#REF!=\"сх\",0,0)","v":{"$error":"#REF!"}},{"$error":"#REF!"},{"$f":"IF(#REF!=1,45,0)","v":{"$error":"#REF!"}},{"$f":"IF(#REF!=2,42,0)","v":{"$error":"#REF!"}},{"$f":"IF(#REF!=3,40,0)","v":{"$error":"#REF!"}},{"$f":"IF(#REF!=4,38,0)","v":{"$error":"#REF!"}},{"$f":"IF(#REF!=5,36,0)","v":{"$error":"#REF!"}},{"$f":"IF(#REF!=6,35,0)","v":{"$error":"#REF!"}},{"$f":"IF(#REF!=7,34,0)","v":{"$error":"#REF!"}},{"$f":"IF(#REF!=8,33,0)","v":{"$error":"#REF!"}},{"$f":"IF(#REF!=9,32,0)","v":{"$error":"#REF!"}},{"$f":"IF(#REF!=10,31,0)","v":{"$error":"#REF!"}},{"$f":"IF(#REF!=11,30,0)","v":{"$error":"#REF!"}},{"$f":"IF(#REF!=12,29,0)","v":{"$error":"#REF!"}},{"$f":"IF(#REF!=13,28,0)","v":{"$error":"#REF!"}},{"$f":"IF(#REF!=14,27,0)","v":{"$error":"#REF!"}},{"$f":"IF(#REF!=15,26,0)","v":{"$error":"#REF!"}},{"$f":"IF(#REF!=16,25,0)","v":{"$error":"#REF!"}},{"$f":"IF(#REF!=17,24,0)","v":{"$error":"#REF!"}},{"$f":"IF(#REF!=18,23,0)","v":{"$error":"#REF!"}},{"$f":"IF(#REF!=19,22,0)","v":{"$error":"#REF!"}},{"$f":"IF(#REF!=20,21,0)","v":{"$error":"#REF!"}},{"$f":"IF(#REF!=21,20,0)","v":{"$error":"#REF!"}},{"$f":"IF(#REF!=22,19,0)","v":{"$error":"#REF!"}},{"$f":"IF(#REF!=23,18,0)","v":{"$error":"#REF!"}},{"$f":"IF(#REF!=24,17,0)","v":{"$error":"#REF!"}},{"$f":"IF(#REF!=25,16,0)","v":{"$error":"#REF!"}},{"$f":"IF(#REF!=26,15,0)","v":{"$error":"#REF!"}},{"$f":"IF(#REF!=27,14,0)","v":{"$error":"#REF!"}},{"$f":"IF(#REF!=28,13,0)","v":{"$error":"#REF!"}},{"$f":"IF(#REF!=29,12,0)","v":{"$error":"#REF!"}},{"$f":"IF(#REF!=30,11,0)","v":{"$error":"#REF!"}},{"$f":"IF(#REF!=31,10,0)","v":{"$error":"#REF!"}},{"$f":"IF(#REF!=32,9,0)","v":{"$error":"#REF!"}},{"$f":"IF(#REF!=33,8,0)","v":{"$error":"#REF!"}},{"$f":"IF(#REF!=34,7,0)","v":{"$error":"#REF!"}},{"$f":"IF(#REF!=35,6,0)","v":{"$error":"#REF!"}},{"$f":"IF(#REF!=36,5,0)","v":{"$error":"#REF!"}},{"$f":"IF(#REF!=37,4,0)","v":{"$error":"#REF!"}},{"$f":"IF(#REF!=38,3,0)","v":{"$error":"#REF!"}},{"$f":"IF(#REF!=39,2,0)","v":{"$error":"#REF!"}},{"$f":"IF(#REF!=40,1,0)","v":{"$error":"#REF!"}},{"$f":"IF(#REF!>20,0,0)","v":{"$error":"#REF!"}},{"$f":"IF(#REF!=\"сх\",0,0)","v":{"$error":"#REF!"}},{"$error":"#REF!"},{"$f":"IF(#REF!=1,45,0)","v":{"$error":"#REF!"}},{"$f":"IF(#REF!=2,42,0)","v":{"$error":"#REF!"}},{"$f":"IF(#REF!=3,40,0)","v":{"$error":"#REF!"}},{"$f":"IF(#REF!=4,38,0)","v":{"$error":"#REF!"}},{"$f":"IF(#REF!=5,36,0)","v":{"$error":"#REF!"}},{"$f":"IF(#REF!=6,35,0)","v":{"$error":"#REF!"}},{"$f":"IF(#REF!=7,34,0)","v":{"$error":"#REF!"}},{"$f":"IF(#REF!=8,33,0)","v":{"$error":"#REF!"}},{"$f":"IF(#REF!=9,32,0)","v":{"$error":"#REF!"}},{"$f":"IF(#REF!=10,31,0)","v":{"$error":"#REF!"}},{"$f":"IF(#REF!=11,30,0)","v":{"$error":"#REF!"}},{"$f":"IF(#REF!=12,29,0)","v":{"$error":"#REF!"}},{"$f":"IF(#REF!=13,28,0)","v":{"$error":"#REF!"}},{"$f":"IF(#REF!=14,27,0)","v":{"$error":"#REF!"}},{"$f":"IF(#REF!=15,26,0)","v":{"$error":"#REF!"}},{"$f":"IF(#REF!=16,25,0)","v":{"$error":"#REF!"}},{"$f":"IF(#REF!=17,24,0)","v":{"$error":"#REF!"}},{"$f":"IF(#REF!=18,23,0)","v":{"$error":"#REF!"}},{"$f":"IF(#REF!=19,22,0)","v":{"$error":"#REF!"}},{"$f":"IF(#REF!=20,21,0)","v":{"$error":"#REF!"}},{"$f":"IF(#REF!=21,20,0)","v":{"$error":"#REF!"}},{"$f":"IF(#REF!=22,19,0)","v":{"$error":"#REF!"}},{"$f":"IF(#REF!=23,18,0)","v":{"$error":"#REF!"}},{"$f":"IF(#REF!=24,17,0)","v":{"$error":"#REF!"}},{"$f":"IF(#REF!=25,16,0)","v":{"$error":"#REF!"}},{"$f":"IF(#REF!=26,15,0)","v":{"$error":"#REF!"}},{"$f":"IF(#REF!=27,14,0)","v":{"$error":"#REF!"}},{"$f":"IF(#REF!=28,13,0)","v":{"$error":"#REF!"}},{"$f":"IF(#REF!=29,12,0)","v":{"$error":"#REF!"}},{"$f":"IF(#REF!=30,11,0)","v":{"$error":"#REF!"}},{"$f":"IF(#REF!=31,10,0)","v":{"$error":"#REF!"}},{"$f":"IF(#REF!=32,9,0)","v":{"$error":"#REF!"}},{"$f":"IF(#REF!=33,8,0)","v":{"$error":"#REF!"}},{"$f":"IF(#REF!=34,7,0)","v":{"$error":"#REF!"}},{"$f":"IF(#REF!=35,6,0)","v":{"$error":"#REF!"}},{"$f":"IF(#REF!=36,5,0)","v":{"$error":"#REF!"}},{"$f":"IF(#REF!=37,4,0)","v":{"$error":"#REF!"}},{"$f":"IF(#REF!=38,3,0)","v":{"$error":"#REF!"}},{"$f":"IF(#REF!=39,2,0)","v":{"$error":"#REF!"}},{"$f":"IF(#REF!=40,1,0)","v":{"$error":"#REF!"}},{"$f":"IF(#REF!>20,0,0)","v":{"$error":"#REF!"}},{"$f":"IF(#REF!=\"сх\",0,0)","v":{"$error":"#REF!"}},{"$error":"#REF!"},null,{"$f":"IF(#REF!=\"сх\",\"ноль\",IF(#REF!>0,#REF!,\"Ноль\"))","v":{"$error":"#REF!"}},{"$f":"IF(#REF!=\"сх\",\"ноль\",IF(#REF!>0,#REF!,\"Ноль\"))","v":{"$error":"#REF!"}},null,{"$error":"#REF!"},{"$f":"IF(K11=#REF!,IF(#REF!<#REF!,#REF!,EZ11),#REF!)","v":{"$error":"#REF!"}},{"$f":"IF(K11=#REF!,IF(#REF!<#REF!,0,1))","v":{"$error":"#REF!"}},{"$f":"IF(AND(EU11>=21,EU11<>0),EU11,IF(K11<#REF!,\"СТОП\",EV11+EW11))","v":{"$error":"#REF!"}},null,15,16,null,{"$f":"IF(#REF!=1,25,0)","v":{"$error":"#REF!"}},{"$f":"IF(#REF!=2,22,0)","v":{"$error":"#REF!"}},{"$f":"IF(#REF!=3,20,0)","v":{"$error":"#REF!"}},{"$f":"IF(#REF!=4,18,0)","v":{"$error":"#REF!"}},{"$f":"IF(#REF!=5,16,0)","v":{"$error":"#REF!"}},{"$f":"IF(#REF!=6,15,0)","v":{"$error":"#REF!"}},{"$f":"IF(#REF!=7,14,0)","v":{"$error":"#REF!"}},{"$f":"IF(#REF!=8,13,0)","v":{"$error":"#REF!"}},{"$f":"IF(#REF!=9,12,0)","v":{"$error":"#REF!"}},{"$f":"IF(#REF!=10,11,0)","v":{"$error":"#REF!"}},{"$f":"IF(#REF!=11,10,0)","v":{"$error":"#REF!"}},{"$f":"IF(#REF!=12,9,0)","v":{"$error":"#REF!"}},{"$f":"IF(#REF!=13,8,0)","v":{"$error":"#REF!"}},{"$f":"IF(#REF!=14,7,0)","v":{"$error":"#REF!"}},{"$f":"IF(#REF!=15,6,0)","v":{"$error":"#REF!"}},{"$f":"IF(#REF!=16,5,0)","v":{"$error":"#REF!"}},{"$f":"IF(#REF!=17,4,0)","v":{"$error":"#REF!"}},{"$f":"IF(#REF!=18,3,0)","v":{"$error":"#REF!"}},{"$f":"IF(#REF!=19,2,0)","v":{"$error":"#REF!"}},{"$f":"IF(#REF!=20,1,0)","v":{"$error":"#REF!"}},{"$f":"IF(#REF!>20,0,0)","v":{"$error":"#REF!"}},{"$f":"IF(#REF!=\"сх\",0,0)","v":{"$error":"#REF!"}},{"$error":"#REF!"},{"$f":"IF(#REF!=1,25,0)","v":{"$error":"#REF!"}},{"$f":"IF(#REF!=2,22,0)","v":{"$error":"#REF!"}},{"$f":"IF(#REF!=3,20,0)","v":{"$error":"#REF!"}},{"$f":"IF(#REF!=4,18,0)","v":{"$error":"#REF!"}},{"$f":"IF(#REF!=5,16,0)","v":{"$error":"#REF!"}},{"$f":"IF(#REF!=6,15,0)","v":{"$error":"#REF!"}},{"$f":"IF(#REF!=7,14,0)","v":{"$error":"#REF!"}},{"$f":"IF(#REF!=8,13,0)","v":{"$error":"#REF!"}},{"$f":"IF(#REF!=9,12,0)","v":{"$error":"#REF!"}},{"$f":"IF(#REF!=10,11,0)","v":{"$error":"#REF!"}},{"$f":"IF(#REF!=11,10,0)","v":{"$error":"#REF!"}},{"$f":"IF(#REF!=12,9,0)","v":{"$error":"#REF!"}},{"$f":"IF(#REF!=13,8,0)","v":{"$error":"#REF!"}},{"$f":"IF(#REF!=14,7,0)","v":{"$error":"#REF!"}},{"$f":"IF(#REF!=15,6,0)","v":{"$error":"#REF!"}},{"$f":"IF(#REF!=16,5,0)","v":{"$error":"#REF!"}},{"$f":"IF(#REF!=17,4,0)","v":{"$error":"#REF!"}},{"$f":"IF(#REF!=18,3,0)","v":{"$error":"#REF!"}},{"$f":"IF(#REF!=19,2,0)","v":{"$error":"#REF!"}},{"$f":"IF(#REF!=20,1,0)","v":{"$error":"#REF!"}},{"$f":"IF(#REF!>20,0,0)","v":{"$error":"#REF!"}},{"$f":"IF(#REF!=\"сх\",0,0)","v":{"$error":"#REF!"}},{"$error":"#REF!"},{"$f":"IF(#REF!=1,100,0)","v":{"$error":"#REF!"}},{"$f":"IF(#REF!=2,98,0)","v":{"$error":"#REF!"}},{"$f":"IF(#REF!=3,95,0)","v":{"$error":"#REF!"}},{"$f":"IF(#REF!=4,93,0)","v":{"$error":"#REF!"}},{"$f":"IF(#REF!=5,90,0)","v":{"$error":"#REF!"}},{"$f":"IF(#REF!=6,88,0)","v":{"$error":"#REF!"}},{"$f":"IF(#REF!=7,85,0)","v":{"$error":"#REF!"}},{"$f":"IF(#REF!=8,83,0)","v":{"$error":"#REF!"}},{"$f":"IF(#REF!=9,80,0)","v":{"$error":"#REF!"}},{"$f":"IF(#REF!=10,78,0)","v":{"$error":"#REF!"}},{"$f":"IF(#REF!=11,75,0)","v":{"$error":"#REF!"}},{"$f":"IF(#REF!=12,73,0)","v":{"$error":"#REF!"}},{"$f":"IF(#REF!=13,70,0)","v":{"$error":"#REF!"}},{"$f":"IF(#REF!=14,68,0)","v":{"$error":"#REF!"}},{"$f":"IF(#REF!=15,65,0)","v":{"$error":"#REF!"}},{"$f":"IF(#REF!=16,63,0)","v":{"$error":"#REF!"}},{"$f":"IF(#REF!=17,60,0)","v":{"$error":"#REF!"}},{"$f":"IF(#REF!=18,58,0)","v":{"$error":"#REF!"}},{"$f":"IF(#REF!=19,55,0)","v":{"$error":"#REF!"}},{"$f":"IF(#REF!=20,53,0)","v":{"$error":"#REF!"}},{"$f":"IF(#REF!>20,0,0)","v":{"$error":"#REF!"}},{"$f":"IF(#REF!=\"сх\",0,0)","v":{"$error":"#REF!"}},{"$error":"#REF!"},{"$f":"IF(#REF!=1,100,0)","v":{"$error":"#REF!"}},{"$f":"IF(#REF!=2,98,0)","v":{"$error":"#REF!"}},{"$f":"IF(#REF!=3,95,0)","v":{"$error":"#REF!"}},{"$f":"IF(#REF!=4,93,0)","v":{"$error":"#REF!"}},{"$f":"IF(#REF!=5,90,0)","v":{"$error":"#REF!"}},{"$f":"IF(#REF!=6,88,0)","v":{"$error":"#REF!"}},{"$f":"IF(#REF!=7,85,0)","v":{"$error":"#REF!"}},{"$f":"IF(#REF!=8,83,0)","v":{"$error":"#REF!"}},{"$f":"IF(#REF!=9,80,0)","v":{"$error":"#REF!"}},{"$f":"IF(#REF!=10,78,0)","v":{"$error":"#REF!"}},{"$f":"IF(#REF!=11,75,0)","v":{"$error":"#REF!"}},{"$f":"IF(#REF!=12,73,0)","v":{"$error":"#REF!"}},{"$f":"IF(#REF!=13,70,0)","v":{"$error":"#REF!"}},{"$f":"IF(#REF!=14,68,0)","v":{"$error":"#REF!"}},{"$f":"IF(#REF!=15,65,0)","v":{"$error":"#REF!"}},{"$f":"IF(#REF!=16,63,0)","v":{"$error":"#REF!"}},{"$f":"IF(#REF!=17,60,0)","v":{"$error":"#REF!"}},{"$f":"IF(#REF!=18,58,0)","v":{"$error":"#REF!"}},{"$f":"IF(#REF!=19,55,0)","v":{"$error":"#REF!"}},{"$f":"IF(#REF!=20,53,0)","v":{"$error":"#REF!"}},{"$f":"IF(#REF!>20,0,0)","v":{"$error":"#REF!"}},{"$f":"IF(#REF!=\"сх\",0,0)","v":{"$error":"#REF!"}},{"$error":"#REF!"}]
[null,null,null,"Животовский Роман",65,102,17,24,21,20]
[null,null,null,"Гусев Георгий",85,156,8,33,6,35]
[null,null,null,"Зверев Александр",85,131,6,35,10,31]
[null,null,null,"Леонтьев Даниил",85,185,17,34,15,26,null,{"$f":"#REF!+#REF!","v":{"$error":"#REF!"}},null,null,{"$f":"IF(#REF!=1,25,0)","v":{"$error":"#REF!"}},{"$f":"IF(#REF!=2,22,0)","v":{"$error":"#REF!"}},{"$f":"IF(#REF!=3,20,0)","v":{"$error":"#REF!"}},{"$f":"IF(#REF!=4,18,0)","v":{"$error":"#REF!"}},{"$f":"IF(#REF!=5,16,0)","v":{"$error":"#REF!"}},{"$f":"IF(#REF!=6,15,0)","v":{"$error":"#REF!"}},{"$f":"IF(#REF!=7,14,0)","v":{"$error":"#REF!"}},{"$f":"IF(#REF!=8,13,0)","v":{"$error":"#REF!"}},{"$f":"IF(#REF!=9,12,0)","v":{"$error":"#REF!"}},{"$f":"IF(#REF!=10,11,0)","v":{"$error":"#REF!"}},{"$f":"IF(#REF!=11,10,0)","v":{"$error":"#REF!"}},{"$f":"IF(#REF!=12,9,0)","v":{"$error":"#REF!"}},{"$f":"IF(#REF!=13,8,0)","v":{"$error":"#REF!"}},{"$f":"IF(#REF!=14,7,0)","v":{"$error":"#REF!"}},{"$f":"IF(#REF!=15,6,0)","v":{"$error":"#REF!"}},{"$f":"IF(#REF!=16,5,0)","v":{"$error":"#REF!"}},{"$f":"IF(#REF!=17,4,0)","v":{"$error":"#REF!"}},{"$f":"IF(#REF!=18,3,0)","v":{"$error":"#REF!"}},{"$f":"IF(#REF!=19,2,0)","v":{"$error":"#REF!"}},{"$f":"IF(#REF!=20,1,0)","v":{"$error":"#REF!"}},{"$f":"IF(#REF!>20,0,0)","v":{"$error":"#REF!"}},{"$f":"IF(#REF!=\"сх\",0,0)","v":{"$error":"#REF!"}},{"$error":"#REF!"},{"$f":"IF(#REF!=1,25,0)","v":{"$error":"#REF!"}},{"$f":"IF(#REF!=2,22,0)","v":{"$error":"#REF!"}},{"$f":"IF(#REF!=3,20,0)","v":{"$error":"#REF!"}},{"$f":"IF(#REF!=4,18,0)","v":{"$error":"#REF!"}},{"$f":"IF(#REF!=5,16,0)","v":{"$error":"#REF!"}},{"$f":"IF(#REF!=6,15,0)","v":{"$error":"#REF!"}},{"$f":"IF(#REF!=7,14,0)","v":{"$error":"#REF!"}},{"$f":"IF(#REF!=8,13,0)","v":{"$error":"#REF!"}},{"$f":"IF(#REF!=9,12,0)","v":{"$error":"#REF!"}},{"$f":"IF(#REF!=10,11,0)","v":{"$error":"#REF!"}},{"$f":"IF(#REF!=11,10,0)","v":{"$error":"#REF!"}},{"$f":"IF(#REF!=12,9,0)","v":{"$error":"#REF!"}},{"$f":"IF(#REF!=13,8,0)","v":{"$error":"#REF!"}},{"$f":"IF(#REF!=14,7,0)","v":{"$error":"#REF!"}},{"$f":"IF(#REF!=15,6,0)","v":{"$error":"#REF!"}},{"$f":"IF(#REF!=16,5,0)","v":{"$error":"#REF!"}},{"$f":"IF(#REF!=17,4,0)","v":{"$error":"#REF!"}},{"$f":"IF(#REF!=18,3,0)","v":{"$error":"#REF!"}},{"$f":"IF(#REF!=19,2,0)","v":{"$error":"#REF!"}},{"$f":"IF(#REF!=20,1,0)","v":{"$error":"#REF!"}},{"$f":"IF(#REF!>20,0,0)","v":{"$error":"#REF!"}},{"$f":"IF(#REF!=\"сх\",0,0)","v":{"$error":"#REF!"}},{"$error":"#REF!"},{"$f":"IF(#REF!=1,45,0)","v":{"$error":"#REF!"}},{"$f":"IF(#REF!=2,42,0)","v":{"$error":"#REF!"}},{"$f":"IF(#REF!=3,40,0)","v":{"$error":"#REF!"}},{"$f":"IF(#REF!=4,38,0)","v":{"$error":"#REF!"}},{"$f":"IF(#REF!=5,36,0)","v":{"$error":"#REF!"}},{"$f":"IF(#REF!=6,35,0)","v":{"$error":"#REF!"}},{"$f":"IF(#REF!=7,34,0)","v":{"$error":"#REF!"}},{"$f":"IF(#REF!=8,33,0)","v":{"$error":"#REF!"}},{"$f":"IF(#REF!=9,32,0)","v":{"$error":"#REF!"}},{"$f":"IF(#REF!=10,31,0)","v":{"$error":"#REF!"}},{"$f":"IF(#REF!=11,30,0)","v":{"$error":"#REF!"}},{"$f":"IF(#REF!=12,29,0)","v":{"$error":"#REF!"}},{"$f":"IF(#REF!=13,28,0)","v":{"$error":"#REF!"}},{"$f":"IF(#REF!=14,27,0)","v":{"$error":"#REF!"}},{"$f":"IF(#REF!=15,26,0)","v":{"$error":"#REF!"}},{"$f":"IF(#REF!=16,25,0)","v":{"$error":"#REF!"}},{"$f":"IF(#REF!=17,24,0)","v":{"$error":"#REF!"}},{"$f":"IF(#REF!=18,23,0)","v":{"$error":"#REF!"}},{"$f":"IF(#REF!=19,22,0)","v":{"$error":"#REF!"}},{"$f":"IF(#REF!=20,21,0)","v":{"$error":"#REF!"}},{"$f":"IF(#REF!=21,20,0)","v":{"$error":"#REF!"}},{"$f":"IF(#REF!=22,19,0)","v":{"$error":"#REF!"}},{"$f":"IF(#REF!=23,18,0)","v":{"$error":"#REF!"}},{"$f":"IF(#REF!=24,17,0)","v":{"$error":"#REF!"}},{"$f":"IF(#REF!=25,16,0)","v":{"$error":"#REF!"}},{"$f":"IF(#REF!=26,15,0)","v":{"$error":"#REF!"}},{"$f":"IF(#REF!=27,14,0)","v":{"$error":"#REF!"}},{"$f":"IF(#REF!=28,13,0)","v":{"$error":"#REF!"}},{"$f":"IF(#REF!=29,12,0)","v":{"$error":"#REF!"}},{"$f":"IF(#REF!=30,11,0)","v":{"$error":"#REF!"}},{"$f":"IF(#REF!=31,10,0)","v":{"$error":"#REF!"}},{"$f":"IF(#REF!=32,9,0)","v":{"$error":"#REF!"}},{"$f":"IF(#REF!=33,8,0)","v":{"$error":"#REF!"}},{"$f":"IF(#REF!=34,7,0)","v":{"$error":"#REF!"}},{"$f":"IF(#REF!=35,6,0)","v":{"$error":"#REF!"}},{"$f":"IF(#REF!=36,5,0)","v":{"$error":"#REF!"}},{"$f":"IF(#REF!=37,4,0)","v":{"$error":"#REF!"}},{"$f":"IF(#REF!=38,3,0)","v":{"$error":"#REF!"}},{"$f":"IF(#REF!=39,2,0)","v":{"$error":"#REF!"}},{"$f":"IF(#REF!=40,1,0)","v":{"$error":"#REF!"}},{"$f":"IF(#REF!>20,0,0)","v":{"$error":"#REF!"}},{"$f":"IF(#REF!=\"сх\",0,0)","v":{"$error":"#REF!"}},{"$error":"#REF!"},{"$f":"IF(#REF!=1,45,0)","v":{"$error":"#REF!"}},{"$f":"IF(#REF!=2,42,0)","v":{"$error":"#REF!"}},{"$f":"IF(#REF!=3,40,0)","v":{"$error":"#REF!"}},{"$f":"IF(#REF!=4,38,0)","v":{"$error":"#REF!"}},{"$f":"IF(#REF!=5,36,0)","v":{"$error":"#REF!"}},{"$f":"IF(#REF!=6,35,0)","v":{"$error":"#REF!"}},{"$f":"IF(#REF!=7,34,0)","v":{"$error":"#REF!"}},{"$f":"IF(#REF!=8,33,0)","v":{"$error":"#REF!"}},{"$f":"IF(#REF!=9,32,0)","v":{"$error":"#REF!"}},{"$f":"IF(#REF!=10,31,0)","v":{"$error":"#REF!"}},{"$f":"IF(#REF!=11,30,0)","v":{"$error":"#REF!"}},{"$f":"IF(#REF!=12,29,0)","v":{"$error":"#REF!"}},{"$f":"IF(#REF!=13,28,0)","v":{"$error":"#REF!"}},{"$f":"IF(#REF!=14,27,0)","v":{"$error":"#REF!"}},{"$f":"IF(#REF!=15,26,0)","v":{"$error":"#REF!"}},{"$f":"IF(#REF!=16,25,0)","v":{"$error":"#REF!"}},{"$f":"IF(#REF!=17,24,0)","v":{"$error":"#REF!"}},{"$f":"IF(#REF!=18,23,0)","v":{"$error":"#REF!"}},{"$f":"IF(#REF!=19,22,0)","v":{"$error":"#REF!"}},{"$f":"IF(#REF!=20,21,0)","v":{"$error":"#REF!"}},{"$f":"IF(#REF!=21,20,0)","v":{"$error":"#REF!"}},{"$f":"IF(#REF!=22,19,0)","v":{"$error":"#REF!"}},{"$f":"IF(#REF!=23,18,0)","v":{"$error":"#REF!"}},{"$f":"IF(#REF!=24,17,0)","v":{"$error":"#REF!"}},{"$f":"IF(#REF!=25,16,0)","v":{"$error":"#REF!"}},{"$f":"IF(#REF!=26,15,0)","v":{"$error":"#REF!"}},{"$f":"IF(#REF!=27,14,0)","v":{"$error":"#REF!"}},{"$f":"IF(#REF!=28,13,0)","v":{"$error":"#REF!"}},{"$f":"IF(#REF!=29,12,0)","v":{"$error":"#REF!"}},{"$f":"IF(#REF!=30,11,0)","v":{"$error":"#REF!"}},{"$f":"IF(#REF!=31,10,0)","v":{"$error":"#REF!"}},{"$f":"IF(#REF!=32,9,0)","v":{"$error":"#REF!"}},{"$f":"IF(#REF!=33,8,0)","v":{"$error":"#REF!"}},{"$f":"IF(#REF!=34,7,0)","v":{"$error":"#REF!"}},{"$f":"IF(#REF!=35,6,0)","v":{"$error":"#REF!"}},{"$f":"IF(#REF!=36,5,0)","v":{"$error":"#REF!"}},{"$f":"IF(#REF!=37,4,0)","v":{"$error":"#REF!"}},{"$f":"IF(#REF!=38,3,0)","v":{"$error":"#REF!"}},{"$f":"IF(#REF!=39,2,0)","v":{"$error":"#REF!"}},{"$f":"IF(#REF!=40,1,0)","v":{"$error":"#REF!"}},{"$f":"IF(#REF!>20,0,0)","v":{"$error":"#REF!"}},{"$f":"IF(#REF!=\"сх\",0,0)","v":{"$error":"#REF!"}},{"$error":"#REF!"},null,{"$f":"IF(#REF!=\"сх\",\"ноль\",IF(#REF!>0,#REF!,\"Ноль\"))","v":{"$error":"#REF!"}},{"$f":"IF(#REF!=\"сх\",\"ноль\",IF(#REF!>0,#REF!,\"Ноль\"))","v":{"$error":"#REF!"}},null,{"$error":"#REF!"},{"$f":"IF(K15=#REF!,IF(#REF!<#REF!,#REF!,EZ15),#REF!)","v":{"$error":"#REF!"}},{"$f":"IF(K15=#REF!,IF(#REF!<#REF!,0,1))","v":{"$error":"#REF!"}},{"$f":"IF(AND(EU15>=21,EU15<>0),EU15,IF(K15<#REF!,\"СТОП\",EV15+EW15))","v":{"$error":"#REF!"}},null,15,16,null,{"$f":"IF(#REF!=1,25,0)","v":{"$error":"#REF!"}},{"$f":"IF(#REF!=2,22,0)","v":{"$error":"#REF!"}},{"$f":"IF(#REF!=3,20,0)","v":{"$error":"#REF!"}},{"$f":"IF(#REF!=4,18,0)","v":{"$error":"#REF!"}},{"$f":"IF(#REF!=5,16,0)","v":{"$error":"#REF!"}},{"$f":"IF(#REF!=6,15,0)","v":{"$error":"#REF!"}},{"$f":"IF(#REF!=7,14,0)","v":{"$error":"#REF!"}},{"$f":"IF(#REF!=8,13,0)","v":{"$error":"#REF!"}},{"$f":"IF(#REF!=9,12,0)","v":{"$error":"#REF!"}},{"$f":"IF(#REF!=10,11,0)","v":{"$error":"#REF!"}},{"$f":"IF(#REF!=11,10,0)","v":{"$error":"#REF!"}},{"$f":"IF(#REF!=12,9,0)","v":{"$error":"#REF!"}},{"$f":"IF(#REF!=13,8,0)","v":{"$error":"#REF!"}},{"$f":"IF(#REF!=14,7,0)","v":{"$error":"#REF!"}},{"$f":"IF(#REF!=15,6,0)","v":{"$error":"#REF!"}},{"$f":"IF(#REF!=16,5,0)","v":{"$error":"#REF!"}},{"$f":"IF(#REF!=17,4,0)","v":{"$error":"#REF!"}},{"$f":"IF(#REF!=18,3,0)","v":{"$error":"#REF!"}},{"$f":"IF(#REF!=19,2,0)","v":{"$error":"#REF!"}},{"$f":"IF(#REF!=20,1,0)","v":{"$error":"#REF!"}},{"$f":"IF(#REF!>20,0,0)","v":{"$error":"#REF!"}},{"$f":"IF(#REF!=\"сх\",0,0)","v":{"$error":"#REF!"}},{"$error":"#REF!"},{"$f":"IF(#REF!=1,25,0)","v":{"$error":"#REF!"}},{"$f":"IF(#REF!=2,22,0)","v":{"$error":"#REF!"}},{"$f":"IF(#REF!=3,20,0)","v":{"$error":"#REF!"}},{"$f":"IF(#REF!=4,18,0)","v":{"$error":"#REF!"}},{"$f":"IF(#REF!=5,16,0)","v":{"$error":"#REF!"}},{"$f":"IF(#REF!=6,15,0)","v":{"$error":"#REF!"}},{"$f":"IF(#REF!=7,14,0)","v":{"$error":"#REF!"}},{"$f":"IF(#REF!=8,13,0)","v":{"$error":"#REF!"}},{"$f":"IF(#REF!=9,12,0)","v":{"$error":"#REF!"}},{"$f":"IF(#REF!=10,11,0)","v":{"$error":"#REF!"}},{"$f":"IF(#REF!=11,10,0)","v":{"$error":"#REF!"}},{"$f":"IF(#REF!=12,9,0)","v":{"$error":"#REF!"}},{"$f":"IF(#REF!=13,8,0)","v":{"$error":"#REF!"}},{"$f":"IF(#REF!=14,7,0)","v":{"$error":"#REF!"}},{"$f":"IF(#REF!=15,6,0)","v":{"$error":"#REF!"}},{"$f":"IF(#REF!=16,5,0)","v":{"$error":"#REF!"}},{"$f":"IF(#REF!=17,4,0)","v":{"$error":"#REF!"}},{"$f":"IF(#REF!=18,3,0)","v":{"$error":"#REF!"}},{"$f":"IF(#REF!=19,2,0)","v":{"$error":"#REF!"}},{"$f":"IF(#REF!=20,1,0)","v":{"$error":"#REF!"}},{"$f":"IF(#REF!>20,0,0)","v":{"$error":"#REF!"}},{"$f":"IF(#REF!=\"сх\",0,0)","v":{"$error":"#REF!"}},{"$error":"#REF!"},{"$f":"IF(#REF!=1,100,0)","v":{"$error":"#REF!"}},{"$f":"IF(#REF!=2,98,0)","v":{"$error":"#REF!"}},{"$f":"IF(#REF!=3,95,0)","v":{"$error":"#REF!"}},{"$f":"IF(#REF!=4,93,0)","v":{"$error":"#REF!"}},{"$f":"IF(#REF!=5,90,0)","v":{"$error":"#REF!"}},{"$f":"IF(#REF!=6,88,0)","v":{"$error":"#REF!"}},{"$f":"IF(#REF!=7,85,0)","v":{"$error":"#REF!"}},{"$f":"IF(#REF!=8,83,0)","v":{"$error":"#REF!"}},{"$f":"IF(#REF!=9,80,0)","v":{"$error":"#REF!"}},{"$f":"IF(#REF!=10,78,0)","v":{"$error":"#REF!"}},{"$f":"IF(#REF!=11,75,0)","v":{"$error":"#REF!"}},{"$f":"IF(#REF!=12,73,0)","v":{"$error":"#REF!"}},{"$f":"IF(#REF!=13,70,0)","v":{"$error":"#REF!"}},{"$f":"IF(#REF!=14,68,0)","v":{"$error":"#REF!"}},{"$f":"IF(#REF!=15,65,0)","v":{"$error":"#REF!"}},{"$f":"IF(#REF!=16,63,0)","v":{"$error":"#REF!"}},{"$f":"IF(#REF!=17,60,0)","v":{"$error":"#REF!"}},{"$f":"IF(#REF!=18,58,0)","v":{"$error":"#REF!"}},{"$f":"IF(#REF!=19,55,0)","v":{"$error":"#REF!"}},{"$f":"IF(#REF!=20,53,0)","v":{"$error":"#REF!"}},{"$f":"IF(#REF!>20,0,0)","v":{"$error":"#REF!"}},{"$f":"IF(#REF!=\"сх\",0,0)","v":{"$error":"#REF!"}},{"$error":"#REF!"},{"$f":"IF(#REF!=1,100,0)","v":{"$error":"#REF!"}},{"$f":"IF(#REF!=2,98,0)","v":{"$error":"#REF!"}},{"$f":"IF(#REF!=3,95,0)","v":{"$error":"#REF!"}},{"$f":"IF(#REF!=4,93,0)","v":{"$error":"#REF!"}},{"$f":"IF(#REF!=5,90,0)","v":{"$error":"#REF!"}},{"$f":"IF(#REF!=6,88,0)","v":{"$error":"#REF!"}},{"$f":"IF(#REF!=7,85,0)","v":{"$error":"#REF!"}},{"$f":"IF(#REF!=8,83,0)","v":{"$error":"#REF!"}},{"$f":"IF(#REF!=9,80,0)","v":{"$error":"#REF!"}},{"$f":"IF(#REF!=10,78,0)","v":{"$error":"#REF!"}},{"$f":"IF(#REF!=11,75,0)","v":{"$error":"#REF!"}},{"$f":"IF(#REF!=12,73,0)","v":{"$error":"#REF!"}},{"$f":"IF(#REF!=13,70,0)","v":{"$error":"#REF!"}},{"$f":"IF(#REF!=14,68,0)","v":{"$error":"#REF!"}},{"$f":"IF(#REF!=15,65,0)","v":{"$error":"#REF!"}},{"$f":"IF(#REF!=16,63,0)","v":{"$error":"#REF!"}},{"$f":"IF(#REF!=17,60,0)","v":{"$error":"#REF!"}},{"$f":"IF(#REF!=18,58,0)","v":{"$error":"#REF!"}},{"$f":"IF(#REF!=19,55,0)","v":{"$error":"#REF!"}},{"$f":"IF(#REF!=20,53,0)","v":{"$error":"#REF!"}},{"$f":"IF(#REF!>20,0,0)","v":{"$error":"#REF!"}},{"$f":"IF(#REF!=\"сх\",0,0)","v":{"$error":"#REF!"}},{"$error":"#REF!"}]
[null,null,null,"Гойда Александр","125 \"2Т\"",54,7,34,6,35]
[null,null,null,"Молодцов Юрий","125 \"4Т\"",878,7,34,6,35]
[null,null,null,"Андреев Дмитрий","125 \"М\"",594,7,34,5,36]
[null,null,null,"Малышев Владислав","125 \"4Т\"",97,8,33,7,34,null,{"$f":"#REF!+#REF!","v":{"$error":"#REF!"}},null,null,{"$f":"IF(#REF!=1,25,0)","v":{"$error":"#REF!"}},{"$f":"IF(#REF!=2,22,0)","v":{"$error":"#REF!"}},{"$f":"IF(#REF!=3,20,0)","v":{"$error":"#REF!"}},{"$f":"IF(#REF!=4,18,0)","v":{"$error":"#REF!"}},{"$f":"IF(#REF!=5,16,0)","v":{"$error":"#REF!"}},{"$f":"IF(#REF!=6,15,0)","v":{"$error":"#REF!"}},{"$f":"IF(#REF!=7,14,0)","v":{"$error":"#REF!"}},{"$f":"IF(#REF!=8,13,0)","v":{"$error":"#REF!"}},{"$f":"IF(#REF!=9,12,0)","v":{"$error":"#REF!"}},{"$f":"IF(#REF!=10,11,0)","v":{"$error":"#REF!"}},{"$f":"IF(#REF!=11,10,0)","v":{"$error":"#REF!"}},{"$f":"IF(#REF!=12,9,0)","v":{"$error":"#REF!"}},{"$f":"IF(#REF!=13,8,0)","v":{"$error":"#REF!"}},{"$f":"IF(#REF!=14,7,0)","v":{"$error":"#REF!"}},{"$f":"IF(#REF!=15,6,0)","v":{"$error":"#REF!"}},{"$f":"IF(#REF!=16,5,0)","v":{"$error":"#REF!"}},{"$f":"IF(#REF!=17,4,0)","v":{"$error":"#REF!"}},{"$f":"IF(#REF!=18,3,0)","v":{"$error":"#REF!"}},{"$f":"IF(#REF!=19,2,0)","v":{"$error":"#REF!"}},{"$f":"IF(#REF!=20,1,0)","v":{"$error":"#REF!"}},{"$f":"IF(#REF!>20,0,0)","v":{"$error":"#REF!"}},{"$f":"IF(#REF!=\"сх\",0,0)","v":{"$error":"#REF!"}},{"$error":"#REF!"},{"$f":"IF(#REF!=1,25,0)","v":{"$error":"#REF!"}},{"$f":"IF(#REF!=2,22,0)","v":{"$error":"#REF!"}},{"$f":"IF(#REF!=3,20,0)","v":{"$error":"#REF!"}},{"$f":"IF(#REF!=4,18,0)","v":{"$error":"#REF!"}},{"$f":"IF(#REF!=5,16,0)","v":{"$error":"#REF!"}},{"$f":"IF(#REF!=6,15,0)","v":{"$error":"#REF!"}},{"$f":"IF(#REF!=7,14,0)","v":{"$error":"#REF!"}},{"$f":"IF(#REF!=8,13,0)","v":{"$error":"#REF!"}},{"$f":"IF(#REF!=9,12,0)","v":{"$error":"#REF!"}},{"$f":"IF(#REF!=10,11,0)","v":{"$error":"#REF!"}},{"$f":"IF(#REF!=11,10,0)","v":{"$error":"#REF!"}},{"$f":"IF(#REF!=12,9,0)","v":{"$error":"#REF!"}},{"$f":"IF(#REF!=13,8,0)","v":{"$error":"#REF!"}},{"$f":"IF(#REF!=14,7,0)","v":{"$error":"#REF!"}},{"$f":"IF(#REF!=15,6,0)","v":{"$error":"#REF!"}},{"$f":"IF(#REF!=16,5,0)","v":{"$error":"#REF!"}},{"$f":"IF(#REF!=17,4,0)","v":{"$error":"#REF!"}},{"$f":"IF(#REF!=18,3,0)","v":{"$error":"#REF!"}},{"$f":"IF(#REF!=19,2,0)","v":{"$error":"#REF!"}},{"$f":"IF(#REF!=20,1,0)","v":{"$error":"#REF!"}},{"$f":"IF(#REF!>20,0,0)","v":{"$error":"#REF!"}},{"$f":"IF(#REF!=\"сх\",0,0)","v":{"$error":"#REF!"}},{"$error":"#REF!"},{"$f":"IF(#REF!=1,45,0)","v":{"$error":"#REF!"}},{"$f":"IF(#REF!=2,42,0)","v":{"$error":"#REF!"}},{"$f":"IF(#REF!=3,40,0)","v":{"$error":"#REF!"}},{"$f":"IF(#REF!=4,38,0)","v":{"$error":"#REF!"}},{"$f":"IF(#REF!=5,36,0)","v":{"$error":"#REF!"}},{"$f":"IF(#REF!=6,35,0)","v":{"$error":"#REF!"}},{"$f":"IF(#REF!=7,34,0)","v":{"$error":"#REF!"}},{"$f":"IF(#REF!=8,33,0)","v":{"$error":"#REF!"}},{"$f":"IF(#REF!=9,32,0)","v":{"$error":"#REF!"}},{"$f":"IF(#REF!=10,31,0)","v":{"$error":"#REF!"}},{"$f":"IF(#REF!=11,30,0)","v":{"$error":"#REF!"}},{"$f":"IF(#REF!=12,29,0)","v":{"$error":"#REF!"}},{"$f":"IF(#REF!=13,28,0)","v":{"$error":"#REF!"}},{"$f":"IF(#REF!=14,27,0)","v":{"$error":"#REF!"}},{"$f":"IF(#REF!=15,26,0)","v":{"$error":"#REF!"}},{"$f":"IF(#REF!=16,25,0)","v":{"$error":"#REF!"}},{"$f":"IF(#REF!=17,24,0)","v":{"$error":"#REF!"}},{"$f":"IF(#REF!=18,23,0)","v":{"$error":"#REF!"}},{"$f":"IF(#REF!=19,22,0)","v":{"$error":"#REF!"}},{"$f":"IF(#REF!=20,21,0)","v":{"$error":"#REF!"}},{"$f":"IF(#REF!=21,20,0)","v":{"$error":"#REF!"}},{"$f":"IF(#REF!=22,19,0)","v":{"$error":"#REF!"}},{"$f":"IF(#REF!=23,18,0)","v":{"$error":"#REF!"}},{"$f":"IF(#REF!=24,17,0)","v":{"$error":"#REF!"}},{"$f":"IF(#REF!=25,16,0)","v":{"$error":"#REF!"}},{"$f":"IF(#REF!=26,15,0)","v":{"$error":"#REF!"}},{"$f":"IF(#REF!=27,14,0)","v":{"$error":"#REF!"}},{"$f":"IF(#REF!=28,13,0)","v":{"$error":"#REF!"}},{"$f":"IF(#REF!=29,12,0)","v":{"$error":"#REF!"}},{"$f":"IF(#REF!=30,11,0)","v":{"$error":"#REF!"}},{"$f":"IF(#REF!=31,10,0)","v":{"$error":"#REF!"}},{"$f":"IF(#REF!=32,9,0)","v":{"$error":"#REF!"}},{"$f":"IF(#REF!=33,8,0)","v":{"$error":"#REF!"}},{"$f":"IF(#REF!=34,7,0)","v":{"$error":"#REF!"}},{"$f":"IF(#REF!=35,6,0)","v":{"$error":"#REF!"}},{"$f":"IF(#REF!=36,5,0)","v":{"$error":"#REF!"}},{"$f":"IF(#REF!=37,4,0)","v":{"$error":"#REF!"}},{"$f":"IF(#REF!=38,3,0)","v":{"$error":"#REF!"}},{"$f":"IF(#REF!=39,2,0)","v":{"$error":"#REF!"}},{"$f":"IF(#REF!=40,1,0)","v":{"$error":"#REF!"}},{"$f":"IF(#REF!>20,0,0)","v":{"$error":"#REF!"}},{"$f":"IF(#REF!=\"сх\",0,0)","v":{"$error":"#REF!"}},{"$error":"#REF!"},{"$f":"IF(#REF!=1,45,0)","v":{"$error":"#REF!"}},{"$f":"IF(#REF!=2,42,0)","v":{"$error":"#REF!"}},{"$f":"IF(#REF!=3,40,0)","v":{"$error":"#REF!"}},{"$f":"IF(#REF!=4,38,0)","v":{"$error":"#REF!"}},{"$f":"IF(#REF!=5,36,0)","v":{"$error":"#REF!"}},{"$f":"IF(#REF!=6,35,0)","v":{"$error":"#REF!"}},{"$f":"IF(#REF!=7,34,0)","v":{"$error":"#REF!"}},{"$f":"IF(#REF!=8,33,0)","v":{"$error":"#REF!"}},{"$f":"IF(#REF!=9,32,0)","v":{"$error":"#REF!"}},{"$f":"IF(#REF!=10,31,0)","v":{"$error":"#REF!"}},{"$f":"IF(#REF!=11,30,0)","v":{"$error":"#REF!"}},{"$f":"IF(#REF!=12,29,0)","v":{"$error":"#REF!"}},{"$f":"IF(#REF!=13,28,0)","v":{"$error":"#REF!"}},{"$f":"IF(#REF!=14,27,0)","v":{"$error":"#REF!"}},{"$f":"IF(#REF!=15,26,0)","v":{"$error":"#REF!"}},{"$f":"IF(#REF!=16,25,0)","v":{"$error":"#REF!"}},{"$f":"IF(#REF!=17,24,0)","v":{"$error":"#REF!"}},{"$f":"IF(#REF!=18,23,0)","v":{"$error":"#REF!"}},{"$f":"IF(#REF!=19,22,0)","v":{"$error":"#REF!"}},{"$f":"IF(#REF!=20,21,0)","v":{"$error":"#REF!"}},{"$f":"IF(#REF!=21,20,0)","v":{"$error":"#REF!"}},{"$f":"IF(#REF!=22,19,0)","v":{"$error":"#REF!"}},{"$f":"IF(#REF!=23,18,0)","v":{"$error":"#REF!"}},{"$f":"IF(#REF!=24,17,0)","v":{"$error":"#REF!"}},{"$f":"IF(#REF!=25,16,0)","v":{"$error":"#REF!"}},{"$f":"IF(#REF!=26,15,0)","v":{"$error":"#REF!"}},{"$f":"IF(#REF!=27,14,0)","v":{"$error":"#REF!"}},{"$f":"IF(#REF!=28,13,0)","v":{"$error":"#REF!"}},{"$f":"IF(#REF!=29,12,0)","v":{"$error":"#REF!"}},{"$f":"IF(#REF!=30,11,0)","v":{"$error":"#REF!"}},{"$f":"IF(#REF!=31,10,0)","v":{"$error":"#REF!"}},{"$f":"IF(#REF!=32,9,0)","v":{"$error":"#REF!"}},{"$f":"IF(#REF!=33,8,0)","v":{"$error":"#REF!"}},{"$f":"IF(#REF!=34,7,0)","v":{"$error":"#REF!"}},{"$f":"IF(#REF!=35,6,0)","v":{"$error":"#REF!"}},{"$f":"IF(#REF!=36,5,0)","v":{"$error":"#REF!"}},{"$f":"IF(#REF!=37,4,0)","v":{"$error":"#REF!"}},{"$f":"IF(#REF!=38,3,0)","v":{"$error":"#REF!"}},{"$f":"IF(#REF!=39,2,0)","v":{"$error":"#REF!"}},{"$f":"IF(#REF!=40,1,0)","v":{"$error":"#REF!"}},{"$f":"IF(#REF!>20,0,0)","v":{"$error":"#REF!"}},{"$f":"IF(#REF!=\"сх\",0,0)","v":{"$error":"#REF!"}},{"$error":"#REF!"},null,{"$f":"IF(#REF!=\"сх\",\"ноль\",IF(#REF!>0,#REF!,\"Ноль\"))","v":{"$error":"#REF!"}},{"$f":"IF(#REF!=\"сх\",\"ноль\",IF(#REF!>0,#REF!,\"Ноль\"))","v":{"$error":"#REF!"}},null,{"$error":"#REF!"},{"$f":"IF(K19=#REF!,IF(#REF!<#REF!,#REF!,EZ19),#REF!)","v":{"$error":"#REF!"}},{"$f":"IF(K19=#REF!,IF(#REF!<#REF!,0,1))","v":{"$error":"#REF!"}},{"$f":"IF(AND(EU19>=21,EU19<>0),EU19,IF(K19<#REF!,\"СТОП\",EV19+EW19))","v":{"$error":"#REF!"}},null,15,16,null,{"$f":"IF(#REF!=1,25,0)","v":{"$error":"#REF!"}},{"$f":"IF(#REF!=2,22,0)","v":{"$error":"#REF!"}},{"$f":"IF(#REF!=3,20,0)","v":{"$error":"#REF!"}},{"$f":"IF(#REF!=4,18,0)","v":{"$error":"#REF!"}},{"$f":"IF(#REF!=5,16,0)","v":{"$error":"#REF!"}},{"$f":"IF(#REF!=6,15,0)","v":{"$error":"#REF!"}},{"$f":"IF(#REF!=7,14,0)","v":{"$error":"#REF!"}},{"$f":"IF(#REF!=8,13,0)","v":{"$error":"#REF!"}},{"$f":"IF(#REF!=9,12,0)","v":{"$error":"#REF!"}},{"$f":"IF(#REF!=10,11,0)","v":{"$error":"#REF!"}},{"$f":"IF(#REF!=11,10,0)","v":{"$error":"#REF!"}},{"$f":"IF(#REF!=12,9,0)","v":{"$error":"#REF!"}},{"$f":"IF(#REF!=13,8,0)","v":{"$error":"#REF!"}},{"$f":"IF(#REF!=14,7,0)","v":{"$error":"#REF!"}},{"$f":"IF(#REF!=15,6,0)","v":{"$error":"#REF!"}},{"$f":"IF(#REF!=16,5,0)","v":{"$error":"#REF!"}},{"$f":"IF(#REF!=17,4,0)","v":{"$error":"#REF!"}},{"$f":"IF(#REF!=18,3,0)","v":{"$error":"#REF!"}},{"$f":"IF(#REF!=19,2,0)","v":{"$error":"#REF!"}},{"$f":"IF(#REF!=20,1,0)","v":{"$error":"#REF!"}},{"$f":"IF(#REF!>20,0,0)","v":{"$error":"#REF!"}},{"$f":"IF(#REF!=\"сх\",0,0)","v":{"$error":"#REF!"}},{"$error":"#REF!"},{"$f":"IF(#REF!=1,25,0)","v":{"$error":"#REF!"}},{"$f":"IF(#REF!=2,22,0)","v":{"$error":"#REF!"}},{"$f":"IF(#REF!=3,20,0)","v":{"$error":"#REF!"}},{"$f":"IF(#REF!=4,18,0)","v":{"$error":"#REF!"}},{"$f":"IF(#REF!=5,16,0)","v":{"$error":"#REF!"}},{"$f":"IF(#REF!=6,15,0)","v":{"$error":"#REF!"}},{"$f":"IF(#REF!=7,14,0)","v":{"$error":"#REF!"}},{"$f":"IF(#REF!=8,13,0)","v":{"$error":"#REF!"}},{"$f":"IF(#REF!=9,12,0)","v":{"$error":"#REF!"}},{"$f":"IF(#REF!=10,11,0)","v":{"$error":"#REF!"}},{"$f":"IF(#REF!=11,10,0)","v":{"$error":"#REF!"}},{"$f":"IF(#REF!=12,9,0)","v":{"$error":"#REF!"}},{"$f":"IF(#REF!=13,8,0)","v":{"$error":"#REF!"}},{"$f":"IF(#REF!=14,7,0)","v":{"$error":"#REF!"}},{"$f":"IF(#REF!=15,6,0)","v":{"$error":"#REF!"}},{"$f":"IF(#REF!=16,5,0)","v":{"$error":"#REF!"}},{"$f":"IF(#REF!=17,4,0)","v":{"$error":"#REF!"}},{"$f":"IF(#REF!=18,3,0)","v":{"$error":"#REF!"}},{"$f":"IF(#REF!=19,2,0)","v":{"$error":"#REF!"}},{"$f":"IF(#REF!=20,1,0)","v":{"$error":"#REF!"}},{"$f":"IF(#REF!>20,0,0)","v":{"$error":"#REF!"}},{"$f":"IF(#REF!=\"сх\",0,0)","v":{"$error":"#REF!"}},{"$error":"#REF!"},{"$f":"IF(#REF!=1,100,0)","v":{"$error":"#REF!"}},{"$f":"IF(#REF!=2,98,0)","v":{"$error":"#REF!"}},{"$f":"IF(#REF!=3,95,0)","v":{"$error":"#REF!"}},{"$f":"IF(#REF!=4,93,0)","v":{"$error":"#REF!"}},{"$f":"IF(#REF!=5,90,0)","v":{"$error":"#REF!"}},{"$f":"IF(#REF!=6,88,0)","v":{"$error":"#REF!"}},{"$f":"IF(#REF!=7,85,0)","v":{"$error":"#REF!"}},{"$f":"IF(#REF!=8,83,0)","v":{"$error":"#REF!"}},{"$f":"IF(#REF!=9,80,0)","v":{"$error":"#REF!"}},{"$f":"IF(#REF!=10,78,0)","v":{"$error":"#REF!"}},{"$f":"IF(#REF!=11,75,0)","v":{"$error":"#REF!"}},{"$f":"IF(#REF!=12,73,0)","v":{"$error":"#REF!"}},{"$f":"IF(#REF!=13,70,0)","v":{"$error":"#REF!"}},{"$f":"IF(#REF!=14,68,0)","v":{"$error":"#REF!"}},{"$f":"IF(#REF!=15,65,0)","v":{"$error":"#REF!"}},{"$f":"IF(#REF!=16,63,0)","v":{"$error":"#REF!"}},{"$f":"IF(#REF!=17,60,0)","v":{"$error":"#REF!"}},{"$f":"IF(#REF!=18,58,0)","v":{"$error":"#REF!"}},{"$f":"IF(#REF!=19,55,0)","v":{"$error":"#REF!"}},{"$f":"IF(#REF!=20,53,0)","v":{"$error":"#REF!"}},{"$f":"IF(#REF!>20,0,0)","v":{"$error":"#REF!"}},{"$f":"IF(#REF!=\"сх\",0,0)","v":{"$error":"#REF!"}},{"$error":"#REF!"},{"$f":"IF(#REF!=1,100,0)","v":{"$error":"#REF!"}},{"$f":"IF(#REF!=2,98,0)","v":{"$error":"#REF!"}},{"$f":"IF(#REF!=3,95,0)","v":{"$error":"#REF!"}},{"$f":"IF(#REF!=4,93,0)","v":{"$error":"#REF!"}},{"$f":"IF(#REF!=5,90,0)","v":{"$error":"#REF!"}},{"$f":"IF(#REF!=6,88,0)","v":{"$error":"#REF!"}},{"$f":"IF(#REF!=7,85,0)","v":{"$error":"#REF!"}},{"$f":"IF(#REF!=8,83,0)","v":{"$error":"#REF!"}},{"$f":"IF(#REF!=9,80,0)","v":{"$error":"#REF!"}},{"$f":"IF(#REF!=10,78,0)","v":{"$error":"#REF!"}},{"$f":"IF(#REF!=11,75,0)","v":{"$error":"#REF!"}},{"$f":"IF(#REF!=12,73,0)","v":{"$error":"#REF!"}},{"$f":"IF(#REF!=13,70,0)","v":{"$error":"#REF!"}},{"$f":"IF(#REF!=14,68,0)","v":{"$error":"#REF!"}},{"$f":"IF(#REF!=15,65,0)","v":{"$error":"#REF!"}},{"$f":"IF(#REF!=16,63,0)","v":{"$error":"#REF!"}},{"$f":"IF(#REF!=17,60,0)","v":{"$error":"#REF!"}},{"$f":"IF(#REF!=18,58,0)","v":{"$error":"#REF!"}},{"$f":"IF(#REF!=19,55,0)","v":{"$error":"#REF!"}},{"$f":"IF(#REF!=20,53,0)","v":{"$error":"#REF!"}},{"$f":"IF(#REF!>20,0,0)","v":{"$error":"#REF!"}},{"$f":"IF(#REF!=\"сх\",0,0)","v":{"$error":"#REF!"}},{"$error":"#REF!"}]
[null,null,null,"Барыкин Александр",250,461,6,35,7,34,null,{"$f":"#REF!+#REF!","v":{"$error":"#REF!"}},null,null,{"$f":"IF(#REF!=1,25,0)","v":{"$error":"#REF!"}},{"$f":"IF(#REF!=2,22,0)","v":{"$error":"#REF!"}},{"$f":"IF(#REF!=3,20,0)","v":{"$error":"#REF!"}},{"$f":"IF(#REF!=4,18,0)","v":{"$error":"#REF!"}},{"$f":"IF(#REF!=5,16,0)","v":{"$error":"#REF!"}},{"$f":"IF(#REF!=6,15,0)","v":{"$error":"#REF!"}},{"$f":"IF(#REF!=7,14,0)","v":{"$error":"#REF!"}},{"$f":"IF(#REF!=8,13,0)","v":{"$error":"#REF!"}},{"$f":"IF(#REF!=9,12,0)","v":{"$error":"#REF!"}},{"$f":"IF(#REF!=10,11,0)","v":{"$error":"#REF!"}},{"$f":"IF(#REF!=11,10,0)","v":{"$error":"#REF!"}},{"$f":"IF(#REF!=12,9,0)","v":{"$error":"#REF!"}},{"$f":"IF(#REF!=13,8,0)","v":{"$error":"#REF!"}},{"$f":"IF(#REF!=14,7,0)","v":{"$error":"#REF!"}},{"$f":"IF(#REF!=15,6,0)","v":{"$error":"#REF!"}},{"$f":"IF(#REF!=16,5,0)","v":{"$error":"#REF!"}},{"$f":"IF(#REF!=17,4,0)","v":{"$error":"#REF!"}},{"$f":"IF(#REF!=18,3,0)","v":{"$error":"#REF!"}},{"$f":"IF(#REF!=19,2,0)","v":{"$error":"#REF!"}},{"$f":"IF(#REF!=20,1,0)","v":{"$error":"#REF!"}},{"$f":"IF(#REF!>20,0,0)","v":{"$error":"#REF!"}},{"$f":"IF(#REF!=\"сх\",0,0)","v":{"$error":"#REF!"}},{"$error":"#REF!"},{"$f":"IF(#REF!=1,25,0)","v":{"$error":"#REF!"}},{"$f":"IF(#REF!=2,22,0)","v":{"$error":"#REF!"}},{"$f":"IF(#REF!=3,20,0)","v":{"$error":"#REF!"}},{"$f":"IF(#REF!=4,18,0)","v":{"$error":"#REF!"}},{"$f":"IF(#REF!=5,16,0)","v":{"$error":"#REF!"}},{"$f":"IF(#REF!=6,15,0)","v":{"$error":"#REF!"}},{"$f":"IF(#REF!=7,14,0)","v":{"$error":"#REF!"}},{"$f":"IF(#REF!=8,13,0)","v":{"$error":"#REF!"}},{"$f":"IF(#REF!=9,12,0)","v":{"$error":"#REF!"}},{"$f":"IF(#REF!=10,11,0)","v":{"$error":"#REF!"}},{"$f":"IF(#REF!=11,10,0)","v":{"$error":"#REF!"}},{"$f":"IF(#REF!=12,9,0)","v":{"$error":"#REF!"}},{"$f":"IF(#REF!=13,8,0)","v":{"$error":"#REF!"}},{"$f":"IF(#REF!=14,7,0)","v":{"$error":"#REF!"}},{"$f":"IF(#REF!=15,6,0)","v":{"$error":"#REF!"}},{"$f":"IF(#REF!=16,5,0)","v":{"$error":"#REF!"}},{"$f":"IF(#REF!=17,4,0)","v":{"$error":"#REF!"}},{"$f":"IF(#REF!=18,3,0)","v":{"$error":"#REF!"}},{"$f":"IF(#REF!=19,2,0)","v":{"$error":"#REF!"}},{"$f":"IF(#REF!=20,1,0)","v":{"$error":"#REF!"}},{"$f":"IF(#REF!>20,0,0)","v":{"$error":"#REF!"}},{"$f":"IF(#REF!=\"сх\",0,0)","v":{"$error":"#REF!"}},{"$error":"#REF!"},{"$f":"IF(#REF!=1,45,0)","v":{"$error":"#REF!"}},{"$f":"IF(#REF!=2,42,0)","v":{"$error":"#REF!"}},{"$f":"IF(#REF!=3,40,0)","v":{"$error":"#REF!"}},{"$f":"IF(#REF!=4,38,0)","v":{"$error":"#REF!"}},{"$f":"IF(#REF!=5,36,0)","v":{"$error":"#REF!"}},{"$f":"IF(#REF!=6,35,0)","v":{"$error":"#REF!"}},{"$f":"IF(#REF!=7,34,0)","v":{"$error":"#REF!"}},{"$f":"IF(#REF!=8,33,0)","v":{"$error":"#REF!"}},{"$f":"IF(#REF!=9,32,0)","v":{"$error":"#REF!"}},{"$f":"IF(#REF!=10,31,0)","v":{"$error":"#REF!"}},{"$f":"IF(#REF!=11,30,0)","v":{"$error":"#REF!"}},{"$f":"IF(#REF!=12,29,0)","v":{"$error":"#REF!"}},{"$f":"IF(#REF!=13,28,0)","v":{"$error":"#REF!"}},{"$f":"IF(#REF!=14,27,0)","v":{"$error":"#REF!"}},{"$f":"IF(#REF!=15,26,0)","v":{"$error":"#REF!"}},{"$f":"IF(#REF!=16,25,0)","v":{"$error":"#REF!"}},{"$f":"IF(#REF!=17,24,0)","v":{"$error":"#REF!"}},{"$f":"IF(#REF!=18,23,0)","v":{"$error":"#REF!"}},{"$f":"IF(#REF!=19,22,0)","v":{"$error":"#REF!"}},{"$f":"IF(#REF!=20,21,0)","v":{"$error":"#REF!"}},{"$f":"IF(#REF!=21,20,0)","v":{"$error":"#REF!"}},{"$f":"IF(#REF!=22,19,0)","v":{"$error":"#REF!"}},{"$f":"IF(#REF!=23,18,0)","v":{"$error":"#REF!"}},{"$f":"IF(#REF!=24,17,0)","v":{"$error":"#REF!"}},{"$f":"IF(#REF!=25,16,0)","v":{"$error":"#REF!"}},{"$f":"IF(#REF!=26,15,0)","v":{"$error":"#REF!"}},{"$f":"IF(#REF!=27,14,0)","v":{"$error":"#REF!"}},{"$f":"IF(#REF!=28,13,0)","v":{"$error":"#REF!"}},{"$f":"IF(#REF!=29,12,0)","v":{"$error":"#REF!"}},{"$f":"IF(#REF!=30,11,0)","v":{"$error":"#REF!"}},{"$f":"IF(#REF!=31,10,0)","v":{"$error":"#REF!"}},{"$f":"IF(#REF!=32,9,0)","v":{"$error":"#REF!"}},{"$f":"IF(#REF!=33,8,0)","v":{"$error":"#REF!"}},{"$f":"IF(#REF!=34,7,0)","v":{"$error":"#REF!"}},{"$f":"IF(#REF!=35,6,0)","v":{"$error":"#REF!"}},{"$f":"IF(#REF!=36,5,0)","v":{"$error":"#REF!"}},{"$f":"IF(#REF!=37,4,0)","v":{"$error":"#REF!"}},{"$f":"IF(#REF!=38,3,0)","v":{"$error":"#REF!"}},{"$f":"IF(#REF!=39,2,0)","v":{"$error":"#REF!"}},{"$f":"IF(#REF!=40,1,0)","v":{"$error":"#REF!"}},{"$f":"IF(#REF!>20,0,0)","v":{"$error":"#REF!"}},{"$f":"IF(#REF!=\"сх\",0,0)","v":{"$error":"#REF!"}},{"$error":"#REF!"},{"$f":"IF(#REF!=1,45,0)","v":{"$error":"#REF!"}},{"$f":"IF(#REF!=2,42,0)","v":{"$error":"#REF!"}},{"$f":"IF(#REF!=3,40,0)","v":{"$error":"#REF!"}},{"$f":"IF(#REF!=4,38,0)","v":{"$error":"#REF!"}},{"$f":"IF(#REF!=5,36,0)","v":{"$error":"#REF!"}},{"$f":"IF(#REF!=6,35,0)","v":{"$error":"#REF!"}},{"$f":"IF(#REF!=7,34,0)","v":{"$error":"#REF!"}},{"$f":"IF(#REF!=8,33,0)","v":{"$error":"#REF!"}},{"$f":"IF(#REF!=9,32,0)","v":{"$error":"#REF!"}},{"$f":"IF(#REF!=10,31,0)","v":{"$error":"#REF!"}},{"$f":"IF(#REF!=11,30,0)","v":{"$error":"#REF!"}},{"$f":"IF(#REF!=12,29,0)","v":{"$error":"#REF!"}},{"$f":"IF(#REF!=13,28,0)","v":{"$error":"#REF!"}},{"$f":"IF(#REF!=14,27,0)","v":{"$error":"#REF!"}},{"$f":"IF(#REF!=15,26,0)","v":{"$error":"#REF!"}},{"$f":"IF(#REF!=16,25,0)","v":{"$error":"#REF!"}},{"$f":"IF(#REF!=17,24,0)","v":{"$error":"#REF!"}},{"$f":"IF(#REF!=18,23,0)","v":{"$error":"#REF!"}},{"$f":"IF(#REF!=19,22,0)","v":{"$error":"#REF!"}},{"$f":"IF(#REF!=20,21,0)","v":{"$error":"#REF!"}},{"$f":"IF(#REF!=21,20,0)","v":{"$error":"#REF!"}},{"$f":"IF(#REF!=22,19,0)","v":{"$error":"#REF!"}},{"$f":"IF(#REF!=23,18,0)","v":{"$error":"#REF!"}},{"$f":"IF(#REF!=24,17,0)","v":{"$error":"#REF!"}},{"$f":"IF(#REF!=25,16,0)","v":{"$error":"#REF!"}},{"$f":"IF(#REF!=26,15,0)","v":{"$error":"#REF!"}},{"$f":"IF(#REF!=27,14,0)","v":{"$error":"#REF!"}},{"$f":"IF(#REF!=28,13,0)","v":{"$error":"#REF!"}},{"$f":"IF(#REF!=29,12,0)","v":{"$error":"#REF!"}},{"$f":"IF(#REF!=30,11,0)","v":{"$error":"#REF!"}},{"$f":"IF(#REF!=31,10,0)","v":{"$error":"#REF!"}},{"$f":"IF(#REF!=32,9,0)","v":{"$error":"#REF!"}},{"$f":"IF(#REF!=33,8,0)","v":{"$error":"#REF!"}},{"$f":"IF(#REF!=34,7,0)","v":{"$error":"#REF!"}},{"$f":"IF(#REF!=35,6,0)","v":{"$error":"#REF!"}},{"$f":"IF(#REF!=36,5,0)","v":{"$error":"#REF!"}},{"$f":"IF(#REF!=37,4,0)","v":{"$error":"#REF!"}},{"$f":"IF(#REF!=38,3,0)","v":{"$error":"#REF!"}},{"$f":"IF(#REF!=39,2,0)","v":{"$error":"#REF!"}},{"$f":"IF(#REF!=40,1,0)","v":{"$error":"#REF!"}},{"$f":"IF(#REF!>20,0,0)","v":{"$error":"#REF!"}},{"$f":"IF(#REF!=\"сх\",0,0)","v":{"$error":"#REF!"}},{"$error":"#REF!"},null,{"$f":"IF(#REF!=\"сх\",\"ноль\",IF(#REF!>0,#REF!,\"Ноль\"))","v":{"$error":"#REF!"}},{"$f":"IF(#REF!=\"сх\",\"ноль\",IF(#REF!>0,#REF!,\"Ноль\"))","v":{"$error":"#REF!"}},null,{"$error":"#REF!"},{"$f":"IF(K20=#REF!,IF(#REF!<#REF!,#REF!,EZ20),#REF!)","v":{"$error":"#REF!"}},{"$f":"IF(K20=#REF!,IF(#REF!<#REF!,0,1))","v":{"$error":"#REF!"}},{"$f":"IF(AND(EU20>=21,EU20<>0),EU20,IF(K20<#REF!,\"СТОП\",EV20+EW20))","v":{"$error":"#REF!"}},null,15,16,null,{"$f":"IF(#REF!=1,25,0)","v":{"$error":"#REF!"}},{"$f":"IF(#REF!=2,22,0)","v":{"$error":"#REF!"}},{"$f":"IF(#REF!=3,20,0)","v":{"$error":"#REF!"}},{"$f":"IF(#REF!=4,18,0)","v":{"$error":"#REF!"}},{"$f":"IF(#REF!=5,16,0)","v":{"$error":"#REF!"}},{"$f":"IF(#REF!=6,15,0)","v":{"$error":"#REF!"}},{"$f":"IF(#REF!=7,14,0)","v":{"$error":"#REF!"}},{"$f":"IF(#REF!=8,13,0)","v":{"$error":"#REF!"}},{"$f":"IF(#REF!=9,12,0)","v":{"$error":"#REF!"}},{"$f":"IF(#REF!=10,11,0)","v":{"$error":"#REF!"}},{"$f":"IF(#REF!=11,10,0)","v":{"$error":"#REF!"}},{"$f":"IF(#REF!=12,9,0)","v":{"$error":"#REF!"}},{"$f":"IF(#REF!=13,8,0)","v":{"$error":"#REF!"}},{"$f":"IF(#REF!=14,7,0)","v":{"$error":"#REF!"}},{"$f":"IF(#REF!=15,6,0)","v":{"$error":"#REF!"}},{"$f":"IF(#REF!=16,5,0)","v":{"$error":"#REF!"}},{"$f":"IF(#REF!=17,4,0)","v":{"$error":"#REF!"}},{"$f":"IF(#REF!=18,3,0)","v":{"$error":"#REF!"}},{"$f":"IF(#REF!=19,2,0)","v":{"$error":"#REF!"}},{"$f":"IF(#REF!=20,1,0)","v":{"$error":"#REF!"}},{"$f":"IF(#REF!>20,0,0)","v":{"$error":"#REF!"}},{"$f":"IF(#REF!=\"сх\",0,0)","v":{"$error":"#REF!"}},{"$error":"#REF!"},{"$f":"IF(#REF!=1,25,0)","v":{"$error":"#REF!"}},{"$f":"IF(#REF!=2,22,0)","v":{"$error":"#REF!"}},{"$f":"IF(#REF!=3,20,0)","v":{"$error":"#REF!"}},{"$f":"IF(#REF!=4,18,0)","v":{"$error":"#REF!"}},{"$f":"IF(#REF!=5,16,0)","v":{"$error":"#REF!"}},{"$f":"IF(#REF!=6,15,0)","v":{"$error":"#REF!"}},{"$f":"IF(#REF!=7,14,0)","v":{"$error":"#REF!"}},{"$f":"IF(#REF!=8,13,0)","v":{"$error":"#REF!"}},{"$f":"IF(#REF!=9,12,0)","v":{"$error":"#REF!"}},{"$f":"IF(#REF!=10,11,0)","v":{"$error":"#REF!"}},{"$f":"IF(#REF!=11,10,0)","v":{"$error":"#REF!"}},{"$f":"IF(#REF!=12,9,0)","v":{"$error":"#REF!"}},{"$f":"IF(#REF!=13,8,0)","v":{"$error":"#REF!"}},{"$f":"IF(#REF!=14,7,0)","v":{"$error":"#REF!"}},{"$f":"IF(#REF!=15,6,0)","v":{"$error":"#REF!"}},{"$f":"IF(#REF!=16,5,0)","v":{"$error":"#REF!"}},{"$f":"IF(#REF!=17,4,0)","v":{"$error":"#REF!"}},{"$f":"IF(#REF!=18,3,0)","v":{"$error":"#REF!"}},{"$f":"IF(#REF!=19,2,0)","v":{"$error":"#REF!"}},{"$f":"IF(#REF!=20,1,0)","v":{"$error":"#REF!"}},{"$f":"IF(#REF!>20,0,0)","v":{"$error":"#REF!"}},{"$f":"IF(#REF!=\"сх\",0,0)","v":{"$error":"#REF!"}},{"$error":"#REF!"},{"$f":"IF(#REF!=1,100,0)","v":{"$error":"#REF!"}},{"$f":"IF(#REF!=2,98,0)","v":{"$error":"#REF!"}},{"$f":"IF(#REF!=3,95,0)","v":{"$error":"#REF!"}},{"$f":"IF(#REF!=4,93,0)","v":{"$error":"#REF!"}},{"$f":"IF(#REF!=5,90,0)","v":{"$error":"#REF!"}},{"$f":"IF(#REF!=6,88,0)","v":{"$error":"#REF!"}},{"$f":"IF(#REF!=7,85,0)","v":{"$error":"#REF!"}},{"$f":"IF(#REF!=8,83,0)","v":{"$error":"#REF!"}},{"$f":"IF(#REF!=9,80,0)","v":{"$error":"#REF!"}},{"$f":"IF(#REF!=10,78,0)","v":{"$error":"#REF!"}},{"$f":"IF(#REF!=11,75,0)","v":{"$error":"#REF!"}},{"$f":"IF(#REF!=12,73,0)","v":{"$error":"#REF!"}},{"$f":"IF(#REF!=13,70,0)","v":{"$error":"#REF!"}},{"$f":"IF(#REF!=14,68,0)","v":{"$error":"#REF!"}},{"$f":"IF(#REF!=15,65,0)","v":{"$error":"#REF!"}},{"$f":"IF(#REF!=16,63,0)","v":{"$error":"#REF!"}},{"$f":"IF(#REF!=17,60,0)","v":{"$error":"#REF!"}},{"$f":"IF(#REF!=18,58,0)","v":{"$error":"#REF!"}},{"$f":"IF(#REF!=19,55,0)","v":{"$error":"#REF!"}},{"$f":"IF(#REF!=20,53,0)","v":{"$error":"#REF!"}},{"$f":"IF(#REF!>20,0,0)","v":{"$error":"#REF!"}},{"$f":"IF(#REF!=\"сх\",0,0)","v":{"$error":"#REF!"}},{"$error":"#REF!"},{"$f":"IF(#REF!=1,100,0)","v":{"$error":"#REF!"}},{"$f":"IF(#REF!=2,98,0)","v":{"$error":"#REF!"}},{"$f":"IF(#REF!=3,95,0)","v":{"$error":"#REF!"}},{"$f":"IF(#REF!=4,93,0)","v":{"$error":"#REF!"}},{"$f":"IF(#REF!=5,90,0)","v":{"$error":"#REF!"}},{"$f":"IF(#REF!=6,88,0)","v":{"$error":"#REF!"}},{"$f":"IF(#REF!=7,85,0)","v":{"$error":"#REF!"}},{"$f":"IF(#REF!=8,83,0)","v":{"$error":"#REF!"}},{"$f":"IF(#REF!=9,80,0)","v":{"$error":"#REF!"}},{"$f":"IF(#REF!=10,78,0)","v":{"$error":"#REF!"}},{"$f":"IF(#REF!=11,75,0)","v":{"$error":"#REF!"}},{"$f":"IF(#REF!=12,73,0)","v":{"$error":"#REF!"}},{"$f":"IF(#REF!=13,70,0)","v":{"$error":"#REF!"}},{"$f":"IF(#REF!=14,68,0)","v":{"$error":"#REF!"}},{"$f":"IF(#REF!=15,65,0)","v":{"$error":"#REF!"}},{"$f":"IF(#REF!=16,63,0)","v":{"$error":"#REF!"}},{"$f":"IF(#REF!=17,60,0)","v":{"$error":"#REF!"}},{"$f":"IF(#REF!=18,58,0)","v":{"$error":"#REF!"}},{"$f":"IF(#REF!=19,55,0)","v":{"$error":"#REF!"}},{"$f":"IF(#REF!=20,53,0)","v":{"$error":"#REF!"}},{"$f":"IF(#REF!>20,0,0)","v":{"$error":"#REF!"}},{"$f":"IF(#REF!=\"сх\",0,0)","v":{"$error":"#REF!"}},{"$error":"#REF!"}]
[]
["Главный судья"]
["судья Всероссийской категории:                                                               Э. А. Иванов  (г. Кострома; свидетельство МФР А 165)                                                 "]
[]
["Главный секретарь соревнований"]
["судья Всероссийской категории:                                                   А. Ю. Иванов (г. Москва; свидетельство МФР А 105; FIM 11245)"]