{"text_format":"1","workbook":"xlsx","n_sheets":11,"sheets":["ВЗРОСЛЫЕ","ВЗРОСЛЫЕ ЯНАО","ЮНИОРЫ","ЮНИОРЫ ЯНАО","СПОРТ","СПОРТ ЯНАО","ЛЮБИТЕЛИ","ЛЮБИТЕЛИ ЯНАО","МАЛЬЧИКИ 1","МАЛЬЧИКИ 2","МАЛЬЧИКИ 3"],"not_rendered":{"charts":0,"images":3,"macros":1,"external_links":0,"defined_names":11,"comments":0,"pivot_tables":0},"unopened":[],"bounds":{"document_bytes":16777216,"sheet_cells":100000,"rows_first":2000,"rows_last":500,"rows_between":2000,"halvings":0,"cell_chars":16384,"cell_head_chars":4096},"cells_cut":0,"cells_raw":0,"read":"whole","date_system":"1900"}

{"sheet":"ВЗРОСЛЫЕ","index":0,"n_rows":26,"n_cols":258,"rows_kept":26,"cut":false,"hidden":false,"merged":[[0,15,3,15],[3,0,3,14],[4,0,4,14],[6,0,8,0],[6,2,8,2],[6,3,8,3],[6,4,8,4],[6,5,8,5],[6,14,8,14],[6,15,8,15],[7,8,8,8],[7,9,8,9],[1,0,1,14],[2,0,2,14],[5,8,5,10],[6,8,6,9],[24,0,24,7],[6,6,8,6],[6,7,8,7],[6,12,6,13],[7,12,8,12],[7,13,8,13],[21,0,21,7],[6,1,8,1],[6,10,6,11],[7,10,8,10],[7,11,8,11]]}
[]
["Чемпионат России по кроссу на снегоходах 2017 года - IV-й этап.                                                             "]
["ПРОТОКОЛ ЛИЧНОГО ЗАЧЕТА",null,null,null,null,null,null,null,null,null,null,null,null,null,null,null,null,null,null,null,null,null,null,null,null,null,null,null,null,null,null,null,null,null,null,null,null,null,null,null,null,null,null,null,null,null,null,null,null,null,null,null,null,null,null,null,null,null,null,null,null,null,null,null,null,null,null,null,null,null,null,null,null,null,null,null,null,null,null,null,null,null,null,null,null,null,null,null,null,null,null,null,null,null,null,null,null,null,null,null,null,null,null,null,null,null,null,null,null,null,null,null,null,null,null,null,null,null,null,null,null,null,null,null,null,null,null,null,null,null,null,null,null,null,null,null,null,null,null,null,null,null,null,null,null,null,null,null,null,null,null,null,null,null,null,null,null,null,null,null,null,null,null,null,null,null,null,null,null,null,null,null,null,null,"первый этап"]
["г. Новый Уренгой, Ямало-Ненецкий АО.                                                                                                                                                                                                                         31 марта - 02 апреля 2017 года.",null,null,null,null,null,null,null,null,null,null,null,null,null,null,null,null,null,null,null,null,null,null,null,null,null,null,null,null,null,null,null,null,null,null,null,null,null,null,null,null,null,null,null,null,null,null,null,null,null,null,null,null,null,null,null,null,null,null,null,null,null,null,null,null,null,null,null,null,null,null,null,null,null,null,null,null,null,null,null,null,null,null,null,null,null,null,null,null,null,null,null,null,null,null,null,null,null,null,null,null,null,null,null,null,null,null,null,null,null,null,null,null,null,null,null,null,null,null,null,null,null,null,null,null,null,null,null,null,null,null,null,null,null,null,null,null,null,null,null,null,null,null,null,null,null,null,null,null,null,null,null,null,null,null,null,null,null,null,null,null,null,null,"первый заезд личные очки",null,null,null,null,null,null,null,null,null,null,null,null,null,null,null,null,null,null,null,null,null,"второй заезд личные очки",null,null,null,null,null,null,null,null,null,null,null,null,null,null,null,null,null,null,null,null,null,null,"Первый заезд командные очки",null,null,null,null,null,null,null,null,null,null,null,null,null,null,null,null,null,null,null,null,null,null,"Второй заезд командные очки"]
["Класс \"ВЗРОСЛЫЕ\". ",null,null,null,null,null,null,null,null,null,null,null,null,null,null,null,null,null,null,null,null,null,null,null,null,null,null,null,null,null,null,null,null,null,null,null,null,null,null,null,null,null,null,null,null,null,null,null,null,null,null,null,null,null,null,null,null,null,null,null,null,null,null,null,null,null,null,null,null,null,null,null,null,null,null,null,null,null,null,null,null,null,null,null,null,null,null,null,null,null,null,null,null,null,null,null,null,null,null,null,null,null,null,null,null,null,null,null,null,null,null,null,null,null,null,null,null,null,null,null,null,null,null,null,null,null,null,null,null,null,null,null,null,null,null,null,null,null,null,null,null,null,null,null,null,null,null,null,null,null,null,null,null,null,null,null,null,null,null,null,null,null,1,2,3,4,5,6,7,8,9,10,11,12,13,14,15,16,17,18,19,20,21,"сх","Sym",1,2,3,4,5,6,7,8,9,10,11,12,13,14,15,16,17,18,19,20,21,"cx","sym",1,2,3,4,5,6,7,8,9,10,11,12,13,14,15,16,17,18,19,20,21,"сх","очки",1,2,3,4,5,6,7,8,9,10,11,12,13,14,15,16,17,18,19,20,21,"сх","очки",{"$f":"COUNT(FG5:IT5)","v":84},"Н. Стро","В. стро","место"]
[]
["Место ","РЕЙТИНГОВЫЕ ОЧКИ Коэф. 1","Ст. №","Фамилия, Имя","Разряд","Город (край, район, область)","Команда","Марка снегохода","1-й заезд",null,"2-й заезд",null,"3-й заезд",null,"Сумма очков              в личном зачете","Сумма очк. в командном зачете"]
[null,null,null,null,null,null,null,null,"место","лич. очки","место","лич. очки","место","лич. очки",null,null,null,null,null,"первый заезд личные очки",null,null,null,null,null,null,null,null,null,null,null,null,null,null,null,null,null,null,null,null,null,"второй заезд личные очки",null,null,null,null,null,null,null,null,null,null,null,null,null,null,null,null,null,null,null,null,null,null,"Первый заезд командные очки",null,null,null,null,null,null,null,null,null,null,null,null,null,null,null,null,null,null,null,null,null,null,null,null,null,null,null,null,null,null,null,null,null,null,null,null,null,null,null,null,null,null,"Второй заезд командные очки",null,null,null,null,null,null,null,null,null,null,null,null,null,null,null,null,null,null,null,null,null,null,null,null,null,null,null,null,null,null,null,null,null,null,null,null,null,null,null,null,null,null,null,1,2,null,null,null,null,null,null,null,null,null,null,null,null,null,null,null,null,null,null,null,null,null,"первый этап"]
[null,null,null,null,null,null,null,null,null,null,null,null,null,null,null,null,null,null,1,2,3,4,5,6,7,8,9,10,11,12,13,14,15,16,17,18,19,20,21,"сх",null,1,2,3,4,5,6,7,8,9,10,11,12,13,14,15,16,17,18,19,20,null,"cx",null,1,2,3,4,5,6,7,8,9,10,11,12,13,14,15,16,17,18,19,20,21,22,23,24,25,26,27,28,29,30,31,32,33,34,35,36,37,38,39,40,null,null,null,1,2,3,4,5,6,7,8,9,10,11,12,13,14,15,16,17,18,19,20,21,22,23,24,25,26,27,28,29,30,31,32,33,34,35,36,37,38,39,40,null,null,null,null,null,null,null,"мин","Н. Стро","В. стро","место",null,"чр1","чр2",null,null,"первый заезд личные очки",null,null,null,null,null,null,null,null,null,null,null,null,null,null,null,null,null,null,null,null,null,"второй заезд личные очки",null,null,null,null,null,null,null,null,null,null,null,null,null,null,null,null,null,null,null,null,null,null,"Первый заезд командные очки",null,null,null,null,null,null,null,null,null,null,null,null,null,null,null,null,null,null,null,null,null,null,"Второй заезд командные очки"]
[1,50,11,"Скляров Дмитрий","мс","г. Новый Уренгой, Ямало-Ненецкий АО","СТК \"Ямбург\"","LYNX",1,25,2,22,1,25,{"$f":"SUM(J10+L10+N10)","v":72},{"$f":"#REF!+#REF!","v":{"$error":"#REF!"}},null,null,{"$f":"IF(#REF!=1,25,0)","v":{"$error":"#REF!"}},{"$f":"IF(#REF!=2,22,0)","v":{"$error":"#REF!"}},{"$f":"IF(#REF!=3,20,0)","v":{"$error":"#REF!"}},{"$f":"IF(#REF!=4,18,0)","v":{"$error":"#REF!"}},{"$f":"IF(#REF!=5,16,0)","v":{"$error":"#REF!"}},{"$f":"IF(#REF!=6,15,0)","v":{"$error":"#REF!"}},{"$f":"IF(#REF!=7,14,0)","v":{"$error":"#REF!"}},{"$f":"IF(#REF!=8,13,0)","v":{"$error":"#REF!"}},{"$f":"IF(#REF!=9,12,0)","v":{"$error":"#REF!"}},{"$f":"IF(#REF!=10,11,0)","v":{"$error":"#REF!"}},{"$f":"IF(#REF!=11,10,0)","v":{"$error":"#REF!"}},{"$f":"IF(#REF!=12,9,0)","v":{"$error":"#REF!"}},{"$f":"IF(#REF!=13,8,0)","v":{"$error":"#REF!"}},{"$f":"IF(#REF!=14,7,0)","v":{"$error":"#REF!"}},{"$f":"IF(#REF!=15,6,0)","v":{"$error":"#REF!"}},{"$f":"IF(#REF!=16,5,0)","v":{"$error":"#REF!"}},{"$f":"IF(#REF!=17,4,0)","v":{"$error":"#REF!"}},{"$f":"IF(#REF!=18,3,0)","v":{"$error":"#REF!"}},{"$f":"IF(#REF!=19,2,0)","v":{"$error":"#REF!"}},{"$f":"IF(#REF!=20,1,0)","v":{"$error":"#REF!"}},{"$f":"IF(#REF!>20,0,0)","v":{"$error":"#REF!"}},{"$f":"IF(#REF!=\"сх\",0,0)","v":{"$error":"#REF!"}},{"$f":"SUM(S10:AM10)","v":{"$error":"#REF!"}},{"$f":"IF(#REF!=1,25,0)","v":{"$error":"#REF!"}},{"$f":"IF(#REF!=2,22,0)","v":{"$error":"#REF!"}},{"$f":"IF(#REF!=3,20,0)","v":{"$error":"#REF!"}},{"$f":"IF(#REF!=4,18,0)","v":{"$error":"#REF!"}},{"$f":"IF(#REF!=5,16,0)","v":{"$error":"#REF!"}},{"$f":"IF(#REF!=6,15,0)","v":{"$error":"#REF!"}},{"$f":"IF(#REF!=7,14,0)","v":{"$error":"#REF!"}},{"$f":"IF(#REF!=8,13,0)","v":{"$error":"#REF!"}},{"$f":"IF(#REF!=9,12,0)","v":{"$error":"#REF!"}},{"$f":"IF(#REF!=10,11,0)","v":{"$error":"#REF!"}},{"$f":"IF(#REF!=11,10,0)","v":{"$error":"#REF!"}},{"$f":"IF(#REF!=12,9,0)","v":{"$error":"#REF!"}},{"$f":"IF(#REF!=13,8,0)","v":{"$error":"#REF!"}},{"$f":"IF(#REF!=14,7,0)","v":{"$error":"#REF!"}},{"$f":"IF(#REF!=15,6,0)","v":{"$error":"#REF!"}},{"$f":"IF(#REF!=16,5,0)","v":{"$error":"#REF!"}},{"$f":"IF(#REF!=17,4,0)","v":{"$error":"#REF!"}},{"$f":"IF(#REF!=18,3,0)","v":{"$error":"#REF!"}},{"$f":"IF(#REF!=19,2,0)","v":{"$error":"#REF!"}},{"$f":"IF(#REF!=20,1,0)","v":{"$error":"#REF!"}},{"$f":"IF(#REF!>20,0,0)","v":{"$error":"#REF!"}},{"$f":"IF(#REF!=\"сх\",0,0)","v":{"$error":"#REF!"}},{"$f":"SUM(AP10:BJ10)","v":{"$error":"#REF!"}},{"$f":"IF(#REF!=1,45,0)","v":{"$error":"#REF!"}},{"$f":"IF(#REF!=2,42,0)","v":{"$error":"#REF!"}},{"$f":"IF(#REF!=3,40,0)","v":{"$error":"#REF!"}},{"$f":"IF(#REF!=4,38,0)","v":{"$error":"#REF!"}},{"$f":"IF(#REF!=5,36,0)","v":{"$error":"#REF!"}},{"$f":"IF(#REF!=6,35,0)","v":{"$error":"#REF!"}},{"$f":"IF(#REF!=7,34,0)","v":{"$error":"#REF!"}},{"$f":"IF(#REF!=8,33,0)","v":{"$error":"#REF!"}},{"$f":"IF(#REF!=9,32,0)","v":{"$error":"#REF!"}},{"$f":"IF(#REF!=10,31,0)","v":{"$error":"#REF!"}},{"$f":"IF(#REF!=11,30,0)","v":{"$error":"#REF!"}},{"$f":"IF(#REF!=12,29,0)","v":{"$error":"#REF!"}},{"$f":"IF(#REF!=13,28,0)","v":{"$error":"#REF!"}},{"$f":"IF(#REF!=14,27,0)","v":{"$error":"#REF!"}},{"$f":"IF(#REF!=15,26,0)","v":{"$error":"#REF!"}},{"$f":"IF(#REF!=16,25,0)","v":{"$error":"#REF!"}},{"$f":"IF(#REF!=17,24,0)","v":{"$error":"#REF!"}},{"$f":"IF(#REF!=18,23,0)","v":{"$error":"#REF!"}},{"$f":"IF(#REF!=19,22,0)","v":{"$error":"#REF!"}},{"$f":"IF(#REF!=20,21,0)","v":{"$error":"#REF!"}},{"$f":"IF(#REF!=21,20,0)","v":{"$error":"#REF!"}},{"$f":"IF(#REF!=22,19,0)","v":{"$error":"#REF!"}},{"$f":"IF(#REF!=23,18,0)","v":{"$error":"#REF!"}},{"$f":"IF(#REF!=24,17,0)","v":{"$error":"#REF!"}},{"$f":"IF(#REF!=25,16,0)","v":{"$error":"#REF!"}},{"$f":"IF(#REF!=26,15,0)","v":{"$error":"#REF!"}},{"$f":"IF(#REF!=27,14,0)","v":{"$error":"#REF!"}},{"$f":"IF(#REF!=28,13,0)","v":{"$error":"#REF!"}},{"$f":"IF(#REF!=29,12,0)","v":{"$error":"#REF!"}},{"$f":"IF(#REF!=30,11,0)","v":{"$error":"#REF!"}},{"$f":"IF(#REF!=31,10,0)","v":{"$error":"#REF!"}},{"$f":"IF(#REF!=32,9,0)","v":{"$error":"#REF!"}},{"$f":"IF(#REF!=33,8,0)","v":{"$error":"#REF!"}},{"$f":"IF(#REF!=34,7,0)","v":{"$error":"#REF!"}},{"$f":"IF(#REF!=35,6,0)","v":{"$error":"#REF!"}},{"$f":"IF(#REF!=36,5,0)","v":{"$error":"#REF!"}},{"$f":"IF(#REF!=37,4,0)","v":{"$error":"#REF!"}},{"$f":"IF(#REF!=38,3,0)","v":{"$error":"#REF!"}},{"$f":"IF(#REF!=39,2,0)","v":{"$error":"#REF!"}},{"$f":"IF(#REF!=40,1,0)","v":{"$error":"#REF!"}},{"$f":"IF(#REF!>20,0,0)","v":{"$error":"#REF!"}},{"$f":"IF(#REF!=\"сх\",0,0)","v":{"$error":"#REF!"}},{"$f":"SUM(BM10:DB10)","v":{"$error":"#REF!"}},{"$f":"IF(#REF!=1,45,0)","v":{"$error":"#REF!"}},{"$f":"IF(#REF!=2,42,0)","v":{"$error":"#REF!"}},{"$f":"IF(#REF!=3,40,0)","v":{"$error":"#REF!"}},{"$f":"IF(#REF!=4,38,0)","v":{"$error":"#REF!"}},{"$f":"IF(#REF!=5,36,0)","v":{"$error":"#REF!"}},{"$f":"IF(#REF!=6,35,0)","v":{"$error":"#REF!"}},{"$f":"IF(#REF!=7,34,0)","v":{"$error":"#REF!"}},{"$f":"IF(#REF!=8,33,0)","v":{"$error":"#REF!"}},{"$f":"IF(#REF!=9,32,0)","v":{"$error":"#REF!"}},{"$f":"IF(#REF!=10,31,0)","v":{"$error":"#REF!"}},{"$f":"IF(#REF!=11,30,0)","v":{"$error":"#REF!"}},{"$f":"IF(#REF!=12,29,0)","v":{"$error":"#REF!"}},{"$f":"IF(#REF!=13,28,0)","v":{"$error":"#REF!"}},{"$f":"IF(#REF!=14,27,0)","v":{"$error":"#REF!"}},{"$f":"IF(#REF!=15,26,0)","v":{"$error":"#REF!"}},{"$f":"IF(#REF!=16,25,0)","v":{"$error":"#REF!"}},{"$f":"IF(#REF!=17,24,0)","v":{"$error":"#REF!"}},{"$f":"IF(#REF!=18,23,0)","v":{"$error":"#REF!"}},{"$f":"IF(#REF!=19,22,0)","v":{"$error":"#REF!"}},{"$f":"IF(#REF!=20,21,0)","v":{"$error":"#REF!"}},{"$f":"IF(#REF!=21,20,0)","v":{"$error":"#REF!"}},{"$f":"IF(#REF!=22,19,0)","v":{"$error":"#REF!"}},{"$f":"IF(#REF!=23,18,0)","v":{"$error":"#REF!"}},{"$f":"IF(#REF!=24,17,0)","v":{"$error":"#REF!"}},{"$f":"IF(#REF!=25,16,0)","v":{"$error":"#REF!"}},{"$f":"IF(#REF!=26,15,0)","v":{"$error":"#REF!"}},{"$f":"IF(#REF!=27,14,0)","v":{"$error":"#REF!"}},{"$f":"IF(#REF!=28,13,0)","v":{"$error":"#REF!"}},{"$f":"IF(#REF!=29,12,0)","v":{"$error":"#REF!"}},{"$f":"IF(#REF!=30,11,0)","v":{"$error":"#REF!"}},{"$f":"IF(#REF!=31,10,0)","v":{"$error":"#REF!"}},{"$f":"IF(#REF!=32,9,0)","v":{"$error":"#REF!"}},{"$f":"IF(#REF!=33,8,0)","v":{"$error":"#REF!"}},{"$f":"IF(#REF!=34,7,0)","v":{"$error":"#REF!"}},{"$f":"IF(#REF!=35,6,0)","v":{"$error":"#REF!"}},{"$f":"IF(#REF!=36,5,0)","v":{"$error":"#REF!"}},{"$f":"IF(#REF!=37,4,0)","v":{"$error":"#REF!"}},{"$f":"IF(#REF!=38,3,0)","v":{"$error":"#REF!"}},{"$f":"IF(#REF!=39,2,0)","v":{"$error":"#REF!"}},{"$f":"IF(#REF!=40,1,0)","v":{"$error":"#REF!"}},{"$f":"IF(#REF!>20,0,0)","v":{"$error":"#REF!"}},{"$f":"IF(#REF!=\"сх\",0,0)","v":{"$error":"#REF!"}},{"$f":"SUM(DD10:ES10)","v":{"$error":"#REF!"}},null,{"$f":"IF(#REF!=\"сх\",\"ноль\",IF(#REF!>0,#REF!,\"Ноль\"))","v":{"$error":"#REF!"}},{"$f":"IF(#REF!=\"сх\",\"ноль\",IF(#REF!>0,#REF!,\"Ноль\"))","v":{"$error":"#REF!"}},null,{"$f":"MIN(EV10,EW10)","v":{"$error":"#REF!"}},{"$f":"IF(O10=#REF!,IF(#REF!<#REF!,#REF!,FD10),#REF!)","v":{"$error":"#REF!"}},{"$f":"IF(O10=#REF!,IF(#REF!<#REF!,0,1))","v":{"$error":"#REF!"}},{"$f":"IF(AND(EY10>=21,EY10<>0),EY10,IF(O10<#REF!,\"СТОП\",EZ10+FA10))","v":{"$error":"#REF!"}},null,15,16,null,{"$f":"IF(#REF!=1,25,0)","v":{"$error":"#REF!"}},{"$f":"IF(#REF!=2,22,0)","v":{"$error":"#REF!"}},{"$f":"IF(#REF!=3,20,0)","v":{"$error":"#REF!"}},{"$f":"IF(#REF!=4,18,0)","v":{"$error":"#REF!"}},{"$f":"IF(#REF!=5,16,0)","v":{"$error":"#REF!"}},{"$f":"IF(#REF!=6,15,0)","v":{"$error":"#REF!"}},{"$f":"IF(#REF!=7,14,0)","v":{"$error":"#REF!"}},{"$f":"IF(#REF!=8,13,0)","v":{"$error":"#REF!"}},{"$f":"IF(#REF!=9,12,0)","v":{"$error":"#REF!"}},{"$f":"IF(#REF!=10,11,0)","v":{"$error":"#REF!"}},{"$f":"IF(#REF!=11,10,0)","v":{"$error":"#REF!"}},{"$f":"IF(#REF!=12,9,0)","v":{"$error":"#REF!"}},{"$f":"IF(#REF!=13,8,0)","v":{"$error":"#REF!"}},{"$f":"IF(#REF!=14,7,0)","v":{"$error":"#REF!"}},{"$f":"IF(#REF!=15,6,0)","v":{"$error":"#REF!"}},{"$f":"IF(#REF!=16,5,0)","v":{"$error":"#REF!"}},{"$f":"IF(#REF!=17,4,0)","v":{"$error":"#REF!"}},{"$f":"IF(#REF!=18,3,0)","v":{"$error":"#REF!"}},{"$f":"IF(#REF!=19,2,0)","v":{"$error":"#REF!"}},{"$f":"IF(#REF!=20,1,0)","v":{"$error":"#REF!"}},{"$f":"IF(#REF!>20,0,0)","v":{"$error":"#REF!"}},{"$f":"IF(#REF!=\"сх\",0,0)","v":{"$error":"#REF!"}},{"$f":"SUM(FG10:GB10)","v":{"$error":"#REF!"}},{"$f":"IF(#REF!=1,25,0)","v":{"$error":"#REF!"}},{"$f":"IF(#REF!=2,22,0)","v":{"$error":"#REF!"}},{"$f":"IF(#REF!=3,20,0)","v":{"$error":"#REF!"}},{"$f":"IF(#REF!=4,18,0)","v":{"$error":"#REF!"}},{"$f":"IF(#REF!=5,16,0)","v":{"$error":"#REF!"}},{"$f":"IF(#REF!=6,15,0)","v":{"$error":"#REF!"}},{"$f":"IF(#REF!=7,14,0)","v":{"$error":"#REF!"}},{"$f":"IF(#REF!=8,13,0)","v":{"$error":"#REF!"}},{"$f":"IF(#REF!=9,12,0)","v":{"$error":"#REF!"}},{"$f":"IF(#REF!=10,11,0)","v":{"$error":"#REF!"}},{"$f":"IF(#REF!=11,10,0)","v":{"$error":"#REF!"}},{"$f":"IF(#REF!=12,9,0)","v":{"$error":"#REF!"}},{"$f":"IF(#REF!=13,8,0)","v":{"$error":"#REF!"}},{"$f":"IF(#REF!=14,7,0)","v":{"$error":"#REF!"}},{"$f":"IF(#REF!=15,6,0)","v":{"$error":"#REF!"}},{"$f":"IF(#REF!=16,5,0)","v":{"$error":"#REF!"}},{"$f":"IF(#REF!=17,4,0)","v":{"$error":"#REF!"}},{"$f":"IF(#REF!=18,3,0)","v":{"$error":"#REF!"}},{"$f":"IF(#REF!=19,2,0)","v":{"$error":"#REF!"}},{"$f":"IF(#REF!=20,1,0)","v":{"$error":"#REF!"}},{"$f":"IF(#REF!>20,0,0)","v":{"$error":"#REF!"}},{"$f":"IF(#REF!=\"сх\",0,0)","v":{"$error":"#REF!"}},{"$f":"SUM(GD10:GY10)","v":{"$error":"#REF!"}},{"$f":"IF(#REF!=1,100,0)","v":{"$error":"#REF!"}},{"$f":"IF(#REF!=2,98,0)","v":{"$error":"#REF!"}},{"$f":"IF(#REF!=3,95,0)","v":{"$error":"#REF!"}},{"$f":"IF(#REF!=4,93,0)","v":{"$error":"#REF!"}},{"$f":"IF(#REF!=5,90,0)","v":{"$error":"#REF!"}},{"$f":"IF(#REF!=6,88,0)","v":{"$error":"#REF!"}},{"$f":"IF(#REF!=7,85,0)","v":{"$error":"#REF!"}},{"$f":"IF(#REF!=8,83,0)","v":{"$error":"#REF!"}},{"$f":"IF(#REF!=9,80,0)","v":{"$error":"#REF!"}},{"$f":"IF(#REF!=10,78,0)","v":{"$error":"#REF!"}},{"$f":"IF(#REF!=11,75,0)","v":{"$error":"#REF!"}},{"$f":"IF(#REF!=12,73,0)","v":{"$error":"#REF!"}},{"$f":"IF(#REF!=13,70,0)","v":{"$error":"#REF!"}},{"$f":"IF(#REF!=14,68,0)","v":{"$error":"#REF!"}},{"$f":"IF(#REF!=15,65,0)","v":{"$error":"#REF!"}},{"$f":"IF(#REF!=16,63,0)","v":{"$error":"#REF!"}},{"$f":"IF(#REF!=17,60,0)","v":{"$error":"#REF!"}},{"$f":"IF(#REF!=18,58,0)","v":{"$error":"#REF!"}},{"$f":"IF(#REF!=19,55,0)","v":{"$error":"#REF!"}},{"$f":"IF(#REF!=20,53,0)","v":{"$error":"#REF!"}},{"$f":"IF(#REF!>20,0,0)","v":{"$error":"#REF!"}},{"$f":"IF(#REF!=\"сх\",0,0)","v":{"$error":"#REF!"}},{"$f":"SUM(HA10:HV10)","v":{"$error":"#REF!"}},{"$f":"IF(#REF!=1,100,0)","v":{"$error":"#REF!"}},{"$f":"IF(#REF!=2,98,0)","v":{"$error":"#REF!"}},{"$f":"IF(#REF!=3,95,0)","v":{"$error":"#REF!"}},{"$f":"IF(#REF!=4,93,0)","v":{"$error":"#REF!"}},{"$f":"IF(#REF!=5,90,0)","v":{"$error":"#REF!"}},{"$f":"IF(#REF!=6,88,0)","v":{"$error":"#REF!"}},{"$f":"IF(#REF!=7,85,0)","v":{"$error":"#REF!"}},{"$f":"IF(#REF!=8,83,0)","v":{"$error":"#REF!"}},{"$f":"IF(#REF!=9,80,0)","v":{"$error":"#REF!"}},{"$f":"IF(#REF!=10,78,0)","v":{"$error":"#REF!"}},{"$f":"IF(#REF!=11,75,0)","v":{"$error":"#REF!"}},{"$f":"IF(#REF!=12,73,0)","v":{"$error":"#REF!"}},{"$f":"IF(#REF!=13,70,0)","v":{"$error":"#REF!"}},{"$f":"IF(#REF!=14,68,0)","v":{"$error":"#REF!"}},{"$f":"IF(#REF!=15,65,0)","v":{"$error":"#REF!"}},{"$f":"IF(#REF!=16,63,0)","v":{"$error":"#REF!"}},{"$f":"IF(#REF!=17,60,0)","v":{"$error":"#REF!"}},{"$f":"IF(#REF!=18,58,0)","v":{"$error":"#REF!"}},{"$f":"IF(#REF!=19,55,0)","v":{"$error":"#REF!"}},{"$f":"IF(#REF!=20,53,0)","v":{"$error":"#REF!"}},{"$f":"IF(#REF!>20,0,0)","v":{"$error":"#REF!"}},{"$f":"IF(#REF!=\"сх\",0,0)","v":{"$error":"#REF!"}},{"$f":"SUM(HX10:IS10)","v":{"$error":"#REF!"}}]
[2,48,959,"Мартюченко Евгений","мс","г. Тюмень","\"Сборная команда Тюменской области\"","LYNX",2,22,1,25,2,22,69,{"$f":"#REF!+#REF!","v":{"$error":"#REF!"}},null,null,{"$f":"IF(#REF!=1,25,0)","v":{"$error":"#REF!"}},{"$f":"IF(#REF!=2,22,0)","v":{"$error":"#REF!"}},{"$f":"IF(#REF!=3,20,0)","v":{"$error":"#REF!"}},{"$f":"IF(#REF!=4,18,0)","v":{"$error":"#REF!"}},{"$f":"IF(#REF!=5,16,0)","v":{"$error":"#REF!"}},{"$f":"IF(#REF!=6,15,0)","v":{"$error":"#REF!"}},{"$f":"IF(#REF!=7,14,0)","v":{"$error":"#REF!"}},{"$f":"IF(#REF!=8,13,0)","v":{"$error":"#REF!"}},{"$f":"IF(#REF!=9,12,0)","v":{"$error":"#REF!"}},{"$f":"IF(#REF!=10,11,0)","v":{"$error":"#REF!"}},{"$f":"IF(#REF!=11,10,0)","v":{"$error":"#REF!"}},{"$f":"IF(#REF!=12,9,0)","v":{"$error":"#REF!"}},{"$f":"IF(#REF!=13,8,0)","v":{"$error":"#REF!"}},{"$f":"IF(#REF!=14,7,0)","v":{"$error":"#REF!"}},{"$f":"IF(#REF!=15,6,0)","v":{"$error":"#REF!"}},{"$f":"IF(#REF!=16,5,0)","v":{"$error":"#REF!"}},{"$f":"IF(#REF!=17,4,0)","v":{"$error":"#REF!"}},{"$f":"IF(#REF!=18,3,0)","v":{"$error":"#REF!"}},{"$f":"IF(#REF!=19,2,0)","v":{"$error":"#REF!"}},{"$f":"IF(#REF!=20,1,0)","v":{"$error":"#REF!"}},{"$f":"IF(#REF!>20,0,0)","v":{"$error":"#REF!"}},{"$f":"IF(#REF!=\"сх\",0,0)","v":{"$error":"#REF!"}},{"$f":"SUM(S11:AM11)","v":{"$error":"#REF!"}},{"$f":"IF(#REF!=1,25,0)","v":{"$error":"#REF!"}},{"$f":"IF(#REF!=2,22,0)","v":{"$error":"#REF!"}},{"$f":"IF(#REF!=3,20,0)","v":{"$error":"#REF!"}},{"$f":"IF(#REF!=4,18,0)","v":{"$error":"#REF!"}},{"$f":"IF(#REF!=5,16,0)","v":{"$error":"#REF!"}},{"$f":"IF(#REF!=6,15,0)","v":{"$error":"#REF!"}},{"$f":"IF(#REF!=7,14,0)","v":{"$error":"#REF!"}},{"$f":"IF(#REF!=8,13,0)","v":{"$error":"#REF!"}},{"$f":"IF(#REF!=9,12,0)","v":{"$error":"#REF!"}},{"$f":"IF(#REF!=10,11,0)","v":{"$error":"#REF!"}},{"$f":"IF(#REF!=11,10,0)","v":{"$error":"#REF!"}},{"$f":"IF(#REF!=12,9,0)","v":{"$error":"#REF!"}},{"$f":"IF(#REF!=13,8,0)","v":{"$error":"#REF!"}},{"$f":"IF(#REF!=14,7,0)","v":{"$error":"#REF!"}},{"$f":"IF(#REF!=15,6,0)","v":{"$error":"#REF!"}},{"$f":"IF(#REF!=16,5,0)","v":{"$error":"#REF!"}},{"$f":"IF(#REF!=17,4,0)","v":{"$error":"#REF!"}},{"$f":"IF(#REF!=18,3,0)","v":{"$error":"#REF!"}},{"$f":"IF(#REF!=19,2,0)","v":{"$error":"#REF!"}},{"$f":"IF(#REF!=20,1,0)","v":{"$error":"#REF!"}},{"$f":"IF(#REF!>20,0,0)","v":{"$error":"#REF!"}},{"$f":"IF(#REF!=\"сх\",0,0)","v":{"$error":"#REF!"}},{"$f":"SUM(AP11:BJ11)","v":{"$error":"#REF!"}},{"$f":"IF(#REF!=1,45,0)","v":{"$error":"#REF!"}},{"$f":"IF(#REF!=2,42,0)","v":{"$error":"#REF!"}},{"$f":"IF(#REF!=3,40,0)","v":{"$error":"#REF!"}},{"$f":"IF(#REF!=4,38,0)","v":{"$error":"#REF!"}},{"$f":"IF(#REF!=5,36,0)","v":{"$error":"#REF!"}},{"$f":"IF(#REF!=6,35,0)","v":{"$error":"#REF!"}},{"$f":"IF(#REF!=7,34,0)","v":{"$error":"#REF!"}},{"$f":"IF(#REF!=8,33,0)","v":{"$error":"#REF!"}},{"$f":"IF(#REF!=9,32,0)","v":{"$error":"#REF!"}},{"$f":"IF(#REF!=10,31,0)","v":{"$error":"#REF!"}},{"$f":"IF(#REF!=11,30,0)","v":{"$error":"#REF!"}},{"$f":"IF(#REF!=12,29,0)","v":{"$error":"#REF!"}},{"$f":"IF(#REF!=13,28,0)","v":{"$error":"#REF!"}},{"$f":"IF(#REF!=14,27,0)","v":{"$error":"#REF!"}},{"$f":"IF(#REF!=15,26,0)","v":{"$error":"#REF!"}},{"$f":"IF(#REF!=16,25,0)","v":{"$error":"#REF!"}},{"$f":"IF(#REF!=17,24,0)","v":{"$error":"#REF!"}},{"$f":"IF(#REF!=18,23,0)","v":{"$error":"#REF!"}},{"$f":"IF(#REF!=19,22,0)","v":{"$error":"#REF!"}},{"$f":"IF(#REF!=20,21,0)","v":{"$error":"#REF!"}},{"$f":"IF(#REF!=21,20,0)","v":{"$error":"#REF!"}},{"$f":"IF(#REF!=22,19,0)","v":{"$error":"#REF!"}},{"$f":"IF(#REF!=23,18,0)","v":{"$error":"#REF!"}},{"$f":"IF(#REF!=24,17,0)","v":{"$error":"#REF!"}},{"$f":"IF(#REF!=25,16,0)","v":{"$error":"#REF!"}},{"$f":"IF(#REF!=26,15,0)","v":{"$error":"#REF!"}},{"$f":"IF(#REF!=27,14,0)","v":{"$error":"#REF!"}},{"$f":"IF(#REF!=28,13,0)","v":{"$error":"#REF!"}},{"$f":"IF(#REF!=29,12,0)","v":{"$error":"#REF!"}},{"$f":"IF(#REF!=30,11,0)","v":{"$error":"#REF!"}},{"$f":"IF(#REF!=31,10,0)","v":{"$error":"#REF!"}},{"$f":"IF(#REF!=32,9,0)","v":{"$error":"#REF!"}},{"$f":"IF(#REF!=33,8,0)","v":{"$error":"#REF!"}},{"$f":"IF(#REF!=34,7,0)","v":{"$error":"#REF!"}},{"$f":"IF(#REF!=35,6,0)","v":{"$error":"#REF!"}},{"$f":"IF(#REF!=36,5,0)","v":{"$error":"#REF!"}},{"$f":"IF(#REF!=37,4,0)","v":{"$error":"#REF!"}},{"$f":"IF(#REF!=38,3,0)","v":{"$error":"#REF!"}},{"$f":"IF(#REF!=39,2,0)","v":{"$error":"#REF!"}},{"$f":"IF(#REF!=40,1,0)","v":{"$error":"#REF!"}},{"$f":"IF(#REF!>20,0,0)","v":{"$error":"#REF!"}},{"$f":"IF(#REF!=\"сх\",0,0)","v":{"$error":"#REF!"}},{"$f":"SUM(BM11:DB11)","v":{"$error":"#REF!"}},{"$f":"IF(#REF!=1,45,0)","v":{"$error":"#REF!"}},{"$f":"IF(#REF!=2,42,0)","v":{"$error":"#REF!"}},{"$f":"IF(#REF!=3,40,0)","v":{"$error":"#REF!"}},{"$f":"IF(#REF!=4,38,0)","v":{"$error":"#REF!"}},{"$f":"IF(#REF!=5,36,0)","v":{"$error":"#REF!"}},{"$f":"IF(#REF!=6,35,0)","v":{"$error":"#REF!"}},{"$f":"IF(#REF!=7,34,0)","v":{"$error":"#REF!"}},{"$f":"IF(#REF!=8,33,0)","v":{"$error":"#REF!"}},{"$f":"IF(#REF!=9,32,0)","v":{"$error":"#REF!"}},{"$f":"IF(#REF!=10,31,0)","v":{"$error":"#REF!"}},{"$f":"IF(#REF!=11,30,0)","v":{"$error":"#REF!"}},{"$f":"IF(#REF!=12,29,0)","v":{"$error":"#REF!"}},{"$f":"IF(#REF!=13,28,0)","v":{"$error":"#REF!"}},{"$f":"IF(#REF!=14,27,0)","v":{"$error":"#REF!"}},{"$f":"IF(#REF!=15,26,0)","v":{"$error":"#REF!"}},{"$f":"IF(#REF!=16,25,0)","v":{"$error":"#REF!"}},{"$f":"IF(#REF!=17,24,0)","v":{"$error":"#REF!"}},{"$f":"IF(#REF!=18,23,0)","v":{"$error":"#REF!"}},{"$f":"IF(#REF!=19,22,0)","v":{"$error":"#REF!"}},{"$f":"IF(#REF!=20,21,0)","v":{"$error":"#REF!"}},{"$f":"IF(#REF!=21,20,0)","v":{"$error":"#REF!"}},{"$f":"IF(#REF!=22,19,0)","v":{"$error":"#REF!"}},{"$f":"IF(#REF!=23,18,0)","v":{"$error":"#REF!"}},{"$f":"IF(#REF!=24,17,0)","v":{"$error":"#REF!"}},{"$f":"IF(#REF!=25,16,0)","v":{"$error":"#REF!"}},{"$f":"IF(#REF!=26,15,0)","v":{"$error":"#REF!"}},{"$f":"IF(#REF!=27,14,0)","v":{"$error":"#REF!"}},{"$f":"IF(#REF!=28,13,0)","v":{"$error":"#REF!"}},{"$f":"IF(#REF!=29,12,0)","v":{"$error":"#REF!"}},{"$f":"IF(#REF!=30,11,0)","v":{"$error":"#REF!"}},{"$f":"IF(#REF!=31,10,0)","v":{"$error":"#REF!"}},{"$f":"IF(#REF!=32,9,0)","v":{"$error":"#REF!"}},{"$f":"IF(#REF!=33,8,0)","v":{"$error":"#REF!"}},{"$f":"IF(#REF!=34,7,0)","v":{"$error":"#REF!"}},{"$f":"IF(#REF!=35,6,0)","v":{"$error":"#REF!"}},{"$f":"IF(#REF!=36,5,0)","v":{"$error":"#REF!"}},{"$f":"IF(#REF!=37,4,0)","v":{"$error":"#REF!"}},{"$f":"IF(#REF!=38,3,0)","v":{"$error":"#REF!"}},{"$f":"IF(#REF!=39,2,0)","v":{"$error":"#REF!"}},{"$f":"IF(#REF!=40,1,0)","v":{"$error":"#REF!"}},{"$f":"IF(#REF!>20,0,0)","v":{"$error":"#REF!"}},{"$f":"IF(#REF!=\"сх\",0,0)","v":{"$error":"#REF!"}},{"$f":"SUM(DD11:ES11)","v":{"$error":"#REF!"}},null,{"$f":"IF(#REF!=\"сх\",\"ноль\",IF(#REF!>0,#REF!,\"Ноль\"))","v":{"$error":"#REF!"}},{"$f":"IF(#REF!=\"сх\",\"ноль\",IF(#REF!>0,#REF!,\"Ноль\"))","v":{"$error":"#REF!"}},null,{"$f":"MIN(EV11,EW11)","v":{"$error":"#REF!"}},{"$f":"IF(O11=#REF!,IF(#REF!<#REF!,#REF!,FD11),#REF!)","v":{"$error":"#REF!"}},{"$f":"IF(O11=#REF!,IF(#REF!<#REF!,0,1))","v":{"$error":"#REF!"}},{"$f":"IF(AND(EY11>=21,EY11<>0),EY11,IF(O11<#REF!,\"СТОП\",EZ11+FA11))","v":{"$error":"#REF!"}},null,15,16,null,{"$f":"IF(#REF!=1,25,0)","v":{"$error":"#REF!"}},{"$f":"IF(#REF!=2,22,0)","v":{"$error":"#REF!"}},{"$f":"IF(#REF!=3,20,0)","v":{"$error":"#REF!"}},{"$f":"IF(#REF!=4,18,0)","v":{"$error":"#REF!"}},{"$f":"IF(#REF!=5,16,0)","v":{"$error":"#REF!"}},{"$f":"IF(#REF!=6,15,0)","v":{"$error":"#REF!"}},{"$f":"IF(#REF!=7,14,0)","v":{"$error":"#REF!"}},{"$f":"IF(#REF!=8,13,0)","v":{"$error":"#REF!"}},{"$f":"IF(#REF!=9,12,0)","v":{"$error":"#REF!"}},{"$f":"IF(#REF!=10,11,0)","v":{"$error":"#REF!"}},{"$f":"IF(#REF!=11,10,0)","v":{"$error":"#REF!"}},{"$f":"IF(#REF!=12,9,0)","v":{"$error":"#REF!"}},{"$f":"IF(#REF!=13,8,0)","v":{"$error":"#REF!"}},{"$f":"IF(#REF!=14,7,0)","v":{"$error":"#REF!"}},{"$f":"IF(#REF!=15,6,0)","v":{"$error":"#REF!"}},{"$f":"IF(#REF!=16,5,0)","v":{"$error":"#REF!"}},{"$f":"IF(#REF!=17,4,0)","v":{"$error":"#REF!"}},{"$f":"IF(#REF!=18,3,0)","v":{"$error":"#REF!"}},{"$f":"IF(#REF!=19,2,0)","v":{"$error":"#REF!"}},{"$f":"IF(#REF!=20,1,0)","v":{"$error":"#REF!"}},{"$f":"IF(#REF!>20,0,0)","v":{"$error":"#REF!"}},{"$f":"IF(#REF!=\"сх\",0,0)","v":{"$error":"#REF!"}},{"$f":"SUM(FG11:GB11)","v":{"$error":"#REF!"}},{"$f":"IF(#REF!=1,25,0)","v":{"$error":"#REF!"}},{"$f":"IF(#REF!=2,22,0)","v":{"$error":"#REF!"}},{"$f":"IF(#REF!=3,20,0)","v":{"$error":"#REF!"}},{"$f":"IF(#REF!=4,18,0)","v":{"$error":"#REF!"}},{"$f":"IF(#REF!=5,16,0)","v":{"$error":"#REF!"}},{"$f":"IF(#REF!=6,15,0)","v":{"$error":"#REF!"}},{"$f":"IF(#REF!=7,14,0)","v":{"$error":"#REF!"}},{"$f":"IF(#REF!=8,13,0)","v":{"$error":"#REF!"}},{"$f":"IF(#REF!=9,12,0)","v":{"$error":"#REF!"}},{"$f":"IF(#REF!=10,11,0)","v":{"$error":"#REF!"}},{"$f":"IF(#REF!=11,10,0)","v":{"$error":"#REF!"}},{"$f":"IF(#REF!=12,9,0)","v":{"$error":"#REF!"}},{"$f":"IF(#REF!=13,8,0)","v":{"$error":"#REF!"}},{"$f":"IF(#REF!=14,7,0)","v":{"$error":"#REF!"}},{"$f":"IF(#REF!=15,6,0)","v":{"$error":"#REF!"}},{"$f":"IF(#REF!=16,5,0)","v":{"$error":"#REF!"}},{"$f":"IF(#REF!=17,4,0)","v":{"$error":"#REF!"}},{"$f":"IF(#REF!=18,3,0)","v":{"$error":"#REF!"}},{"$f":"IF(#REF!=19,2,0)","v":{"$error":"#REF!"}},{"$f":"IF(#REF!=20,1,0)","v":{"$error":"#REF!"}},{"$f":"IF(#REF!>20,0,0)","v":{"$error":"#REF!"}},{"$f":"IF(#REF!=\"сх\",0,0)","v":{"$error":"#REF!"}},{"$f":"SUM(GD11:GY11)","v":{"$error":"#REF!"}},{"$f":"IF(#REF!=1,100,0)","v":{"$error":"#REF!"}},{"$f":"IF(#REF!=2,98,0)","v":{"$error":"#REF!"}},{"$f":"IF(#REF!=3,95,0)","v":{"$error":"#REF!"}},{"$f":"IF(#REF!=4,93,0)","v":{"$error":"#REF!"}},{"$f":"IF(#REF!=5,90,0)","v":{"$error":"#REF!"}},{"$f":"IF(#REF!=6,88,0)","v":{"$error":"#REF!"}},{"$f":"IF(#REF!=7,85,0)","v":{"$error":"#REF!"}},{"$f":"IF(#REF!=8,83,0)","v":{"$error":"#REF!"}},{"$f":"IF(#REF!=9,80,0)","v":{"$error":"#REF!"}},{"$f":"IF(#REF!=10,78,0)","v":{"$error":"#REF!"}},{"$f":"IF(#REF!=11,75,0)","v":{"$error":"#REF!"}},{"$f":"IF(#REF!=12,73,0)","v":{"$error":"#REF!"}},{"$f":"IF(#REF!=13,70,0)","v":{"$error":"#REF!"}},{"$f":"IF(#REF!=14,68,0)","v":{"$error":"#REF!"}},{"$f":"IF(#REF!=15,65,0)","v":{"$error":"#REF!"}},{"$f":"IF(#REF!=16,63,0)","v":{"$error":"#REF!"}},{"$f":"IF(#REF!=17,60,0)","v":{"$error":"#REF!"}},{"$f":"IF(#REF!=18,58,0)","v":{"$error":"#REF!"}},{"$f":"IF(#REF!=19,55,0)","v":{"$error":"#REF!"}},{"$f":"IF(#REF!=20,53,0)","v":{"$error":"#REF!"}},{"$f":"IF(#REF!>20,0,0)","v":{"$error":"#REF!"}},{"$f":"IF(#REF!=\"сх\",0,0)","v":{"$error":"#REF!"}},{"$f":"SUM(HA11:HV11)","v":{"$error":"#REF!"}},{"$f":"IF(#REF!=1,100,0)","v":{"$error":"#REF!"}},{"$f":"IF(#REF!=2,98,0)","v":{"$error":"#REF!"}},{"$f":"IF(#REF!=3,95,0)","v":{"$error":"#REF!"}},{"$f":"IF(#REF!=4,93,0)","v":{"$error":"#REF!"}},{"$f":"IF(#REF!=5,90,0)","v":{"$error":"#REF!"}},{"$f":"IF(#REF!=6,88,0)","v":{"$error":"#REF!"}},{"$f":"IF(#REF!=7,85,0)","v":{"$error":"#REF!"}},{"$f":"IF(#REF!=8,83,0)","v":{"$error":"#REF!"}},{"$f":"IF(#REF!=9,80,0)","v":{"$error":"#REF!"}},{"$f":"IF(#REF!=10,78,0)","v":{"$error":"#REF!"}},{"$f":"IF(#REF!=11,75,0)","v":{"$error":"#REF!"}},{"$f":"IF(#REF!=12,73,0)","v":{"$error":"#REF!"}},{"$f":"IF(#REF!=13,70,0)","v":{"$error":"#REF!"}},{"$f":"IF(#REF!=14,68,0)","v":{"$error":"#REF!"}},{"$f":"IF(#REF!=15,65,0)","v":{"$error":"#REF!"}},{"$f":"IF(#REF!=16,63,0)","v":{"$error":"#REF!"}},{"$f":"IF(#REF!=17,60,0)","v":{"$error":"#REF!"}},{"$f":"IF(#REF!=18,58,0)","v":{"$error":"#REF!"}},{"$f":"IF(#REF!=19,55,0)","v":{"$error":"#REF!"}},{"$f":"IF(#REF!=20,53,0)","v":{"$error":"#REF!"}},{"$f":"IF(#REF!>20,0,0)","v":{"$error":"#REF!"}},{"$f":"IF(#REF!=\"сх\",0,0)","v":{"$error":"#REF!"}},{"$f":"SUM(HX11:IS11)","v":{"$error":"#REF!"}}]
[3,46,188,"Рязанцев Денис","мс","г. Ярославль","СТК \"Атлант\"","LYNX",3,20,3,20,4,18,58,{"$f":"#REF!+#REF!","v":{"$error":"#REF!"}},null,null,{"$f":"IF(#REF!=1,25,0)","v":{"$error":"#REF!"}},{"$f":"IF(#REF!=2,22,0)","v":{"$error":"#REF!"}},{"$f":"IF(#REF!=3,20,0)","v":{"$error":"#REF!"}},{"$f":"IF(#REF!=4,18,0)","v":{"$error":"#REF!"}},{"$f":"IF(#REF!=5,16,0)","v":{"$error":"#REF!"}},{"$f":"IF(#REF!=6,15,0)","v":{"$error":"#REF!"}},{"$f":"IF(#REF!=7,14,0)","v":{"$error":"#REF!"}},{"$f":"IF(#REF!=8,13,0)","v":{"$error":"#REF!"}},{"$f":"IF(#REF!=9,12,0)","v":{"$error":"#REF!"}},{"$f":"IF(#REF!=10,11,0)","v":{"$error":"#REF!"}},{"$f":"IF(#REF!=11,10,0)","v":{"$error":"#REF!"}},{"$f":"IF(#REF!=12,9,0)","v":{"$error":"#REF!"}},{"$f":"IF(#REF!=13,8,0)","v":{"$error":"#REF!"}},{"$f":"IF(#REF!=14,7,0)","v":{"$error":"#REF!"}},{"$f":"IF(#REF!=15,6,0)","v":{"$error":"#REF!"}},{"$f":"IF(#REF!=16,5,0)","v":{"$error":"#REF!"}},{"$f":"IF(#REF!=17,4,0)","v":{"$error":"#REF!"}},{"$f":"IF(#REF!=18,3,0)","v":{"$error":"#REF!"}},{"$f":"IF(#REF!=19,2,0)","v":{"$error":"#REF!"}},{"$f":"IF(#REF!=20,1,0)","v":{"$error":"#REF!"}},{"$f":"IF(#REF!>20,0,0)","v":{"$error":"#REF!"}},{"$f":"IF(#REF!=\"сх\",0,0)","v":{"$error":"#REF!"}},{"$f":"SUM(S12:AM12)","v":{"$error":"#REF!"}},{"$f":"IF(#REF!=1,25,0)","v":{"$error":"#REF!"}},{"$f":"IF(#REF!=2,22,0)","v":{"$error":"#REF!"}},{"$f":"IF(#REF!=3,20,0)","v":{"$error":"#REF!"}},{"$f":"IF(#REF!=4,18,0)","v":{"$error":"#REF!"}},{"$f":"IF(#REF!=5,16,0)","v":{"$error":"#REF!"}},{"$f":"IF(#REF!=6,15,0)","v":{"$error":"#REF!"}},{"$f":"IF(#REF!=7,14,0)","v":{"$error":"#REF!"}},{"$f":"IF(#REF!=8,13,0)","v":{"$error":"#REF!"}},{"$f":"IF(#REF!=9,12,0)","v":{"$error":"#REF!"}},{"$f":"IF(#REF!=10,11,0)","v":{"$error":"#REF!"}},{"$f":"IF(#REF!=11,10,0)","v":{"$error":"#REF!"}},{"$f":"IF(#REF!=12,9,0)","v":{"$error":"#REF!"}},{"$f":"IF(#REF!=13,8,0)","v":{"$error":"#REF!"}},{"$f":"IF(#REF!=14,7,0)","v":{"$error":"#REF!"}},{"$f":"IF(#REF!=15,6,0)","v":{"$error":"#REF!"}},{"$f":"IF(#REF!=16,5,0)","v":{"$error":"#REF!"}},{"$f":"IF(#REF!=17,4,0)","v":{"$error":"#REF!"}},{"$f":"IF(#REF!=18,3,0)","v":{"$error":"#REF!"}},{"$f":"IF(#REF!=19,2,0)","v":{"$error":"#REF!"}},{"$f":"IF(#REF!=20,1,0)","v":{"$error":"#REF!"}},{"$f":"IF(#REF!>20,0,0)","v":{"$error":"#REF!"}},{"$f":"IF(#REF!=\"сх\",0,0)","v":{"$error":"#REF!"}},{"$f":"SUM(AP12:BJ12)","v":{"$error":"#REF!"}},{"$f":"IF(#REF!=1,45,0)","v":{"$error":"#REF!"}},{"$f":"IF(#REF!=2,42,0)","v":{"$error":"#REF!"}},{"$f":"IF(#REF!=3,40,0)","v":{"$error":"#REF!"}},{"$f":"IF(#REF!=4,38,0)","v":{"$error":"#REF!"}},{"$f":"IF(#REF!=5,36,0)","v":{"$error":"#REF!"}},{"$f":"IF(#REF!=6,35,0)","v":{"$error":"#REF!"}},{"$f":"IF(#REF!=7,34,0)","v":{"$error":"#REF!"}},{"$f":"IF(#REF!=8,33,0)","v":{"$error":"#REF!"}},{"$f":"IF(#REF!=9,32,0)","v":{"$error":"#REF!"}},{"$f":"IF(#REF!=10,31,0)","v":{"$error":"#REF!"}},{"$f":"IF(#REF!=11,30,0)","v":{"$error":"#REF!"}},{"$f":"IF(#REF!=12,29,0)","v":{"$error":"#REF!"}},{"$f":"IF(#REF!=13,28,0)","v":{"$error":"#REF!"}},{"$f":"IF(#REF!=14,27,0)","v":{"$error":"#REF!"}},{"$f":"IF(#REF!=15,26,0)","v":{"$error":"#REF!"}},{"$f":"IF(#REF!=16,25,0)","v":{"$error":"#REF!"}},{"$f":"IF(#REF!=17,24,0)","v":{"$error":"#REF!"}},{"$f":"IF(#REF!=18,23,0)","v":{"$error":"#REF!"}},{"$f":"IF(#REF!=19,22,0)","v":{"$error":"#REF!"}},{"$f":"IF(#REF!=20,21,0)","v":{"$error":"#REF!"}},{"$f":"IF(#REF!=21,20,0)","v":{"$error":"#REF!"}},{"$f":"IF(#REF!=22,19,0)","v":{"$error":"#REF!"}},{"$f":"IF(#REF!=23,18,0)","v":{"$error":"#REF!"}},{"$f":"IF(#REF!=24,17,0)","v":{"$error":"#REF!"}},{"$f":"IF(#REF!=25,16,0)","v":{"$error":"#REF!"}},{"$f":"IF(#REF!=26,15,0)","v":{"$error":"#REF!"}},{"$f":"IF(#REF!=27,14,0)","v":{"$error":"#REF!"}},{"$f":"IF(#REF!=28,13,0)","v":{"$error":"#REF!"}},{"$f":"IF(#REF!=29,12,0)","v":{"$error":"#REF!"}},{"$f":"IF(#REF!=30,11,0)","v":{"$error":"#REF!"}},{"$f":"IF(#REF!=31,10,0)","v":{"$error":"#REF!"}},{"$f":"IF(#REF!=32,9,0)","v":{"$error":"#REF!"}},{"$f":"IF(#REF!=33,8,0)","v":{"$error":"#REF!"}},{"$f":"IF(#REF!=34,7,0)","v":{"$error":"#REF!"}},{"$f":"IF(#REF!=35,6,0)","v":{"$error":"#REF!"}},{"$f":"IF(#REF!=36,5,0)","v":{"$error":"#REF!"}},{"$f":"IF(#REF!=37,4,0)","v":{"$error":"#REF!"}},{"$f":"IF(#REF!=38,3,0)","v":{"$error":"#REF!"}},{"$f":"IF(#REF!=39,2,0)","v":{"$error":"#REF!"}},{"$f":"IF(#REF!=40,1,0)","v":{"$error":"#REF!"}},{"$f":"IF(#REF!>20,0,0)","v":{"$error":"#REF!"}},{"$f":"IF(#REF!=\"сх\",0,0)","v":{"$error":"#REF!"}},{"$f":"SUM(BM12:DB12)","v":{"$error":"#REF!"}},{"$f":"IF(#REF!=1,45,0)","v":{"$error":"#REF!"}},{"$f":"IF(#REF!=2,42,0)","v":{"$error":"#REF!"}},{"$f":"IF(#REF!=3,40,0)","v":{"$error":"#REF!"}},{"$f":"IF(#REF!=4,38,0)","v":{"$error":"#REF!"}},{"$f":"IF(#REF!=5,36,0)","v":{"$error":"#REF!"}},{"$f":"IF(#REF!=6,35,0)","v":{"$error":"#REF!"}},{"$f":"IF(#REF!=7,34,0)","v":{"$error":"#REF!"}},{"$f":"IF(#REF!=8,33,0)","v":{"$error":"#REF!"}},{"$f":"IF(#REF!=9,32,0)","v":{"$error":"#REF!"}},{"$f":"IF(#REF!=10,31,0)","v":{"$error":"#REF!"}},{"$f":"IF(#REF!=11,30,0)","v":{"$error":"#REF!"}},{"$f":"IF(#REF!=12,29,0)","v":{"$error":"#REF!"}},{"$f":"IF(#REF!=13,28,0)","v":{"$error":"#REF!"}},{"$f":"IF(#REF!=14,27,0)","v":{"$error":"#REF!"}},{"$f":"IF(#REF!=15,26,0)","v":{"$error":"#REF!"}},{"$f":"IF(#REF!=16,25,0)","v":{"$error":"#REF!"}},{"$f":"IF(#REF!=17,24,0)","v":{"$error":"#REF!"}},{"$f":"IF(#REF!=18,23,0)","v":{"$error":"#REF!"}},{"$f":"IF(#REF!=19,22,0)","v":{"$error":"#REF!"}},{"$f":"IF(#REF!=20,21,0)","v":{"$error":"#REF!"}},{"$f":"IF(#REF!=21,20,0)","v":{"$error":"#REF!"}},{"$f":"IF(#REF!=22,19,0)","v":{"$error":"#REF!"}},{"$f":"IF(#REF!=23,18,0)","v":{"$error":"#REF!"}},{"$f":"IF(#REF!=24,17,0)","v":{"$error":"#REF!"}},{"$f":"IF(#REF!=25,16,0)","v":{"$error":"#REF!"}},{"$f":"IF(#REF!=26,15,0)","v":{"$error":"#REF!"}},{"$f":"IF(#REF!=27,14,0)","v":{"$error":"#REF!"}},{"$f":"IF(#REF!=28,13,0)","v":{"$error":"#REF!"}},{"$f":"IF(#REF!=29,12,0)","v":{"$error":"#REF!"}},{"$f":"IF(#REF!=30,11,0)","v":{"$error":"#REF!"}},{"$f":"IF(#REF!=31,10,0)","v":{"$error":"#REF!"}},{"$f":"IF(#REF!=32,9,0)","v":{"$error":"#REF!"}},{"$f":"IF(#REF!=33,8,0)","v":{"$error":"#REF!"}},{"$f":"IF(#REF!=34,7,0)","v":{"$error":"#REF!"}},{"$f":"IF(#REF!=35,6,0)","v":{"$error":"#REF!"}},{"$f":"IF(#REF!=36,5,0)","v":{"$error":"#REF!"}},{"$f":"IF(#REF!=37,4,0)","v":{"$error":"#REF!"}},{"$f":"IF(#REF!=38,3,0)","v":{"$error":"#REF!"}},{"$f":"IF(#REF!=39,2,0)","v":{"$error":"#REF!"}},{"$f":"IF(#REF!=40,1,0)","v":{"$error":"#REF!"}},{"$f":"IF(#REF!>20,0,0)","v":{"$error":"#REF!"}},{"$f":"IF(#REF!=\"сх\",0,0)","v":{"$error":"#REF!"}},{"$f":"SUM(DD12:ES12)","v":{"$error":"#REF!"}},null,{"$f":"IF(#REF!=\"сх\",\"ноль\",IF(#REF!>0,#REF!,\"Ноль\"))","v":{"$error":"#REF!"}},{"$f":"IF(#REF!=\"сх\",\"ноль\",IF(#REF!>0,#REF!,\"Ноль\"))","v":{"$error":"#REF!"}},null,{"$f":"MIN(EV12,EW12)","v":{"$error":"#REF!"}},{"$f":"IF(O12=#REF!,IF(#REF!<#REF!,#REF!,FD12),#REF!)","v":{"$error":"#REF!"}},{"$f":"IF(O12=#REF!,IF(#REF!<#REF!,0,1))","v":{"$error":"#REF!"}},{"$f":"IF(AND(EY12>=21,EY12<>0),EY12,IF(O12<#REF!,\"СТОП\",EZ12+FA12))","v":{"$error":"#REF!"}},null,15,16,null,{"$f":"IF(#REF!=1,25,0)","v":{"$error":"#REF!"}},{"$f":"IF(#REF!=2,22,0)","v":{"$error":"#REF!"}},{"$f":"IF(#REF!=3,20,0)","v":{"$error":"#REF!"}},{"$f":"IF(#REF!=4,18,0)","v":{"$error":"#REF!"}},{"$f":"IF(#REF!=5,16,0)","v":{"$error":"#REF!"}},{"$f":"IF(#REF!=6,15,0)","v":{"$error":"#REF!"}},{"$f":"IF(#REF!=7,14,0)","v":{"$error":"#REF!"}},{"$f":"IF(#REF!=8,13,0)","v":{"$error":"#REF!"}},{"$f":"IF(#REF!=9,12,0)","v":{"$error":"#REF!"}},{"$f":"IF(#REF!=10,11,0)","v":{"$error":"#REF!"}},{"$f":"IF(#REF!=11,10,0)","v":{"$error":"#REF!"}},{"$f":"IF(#REF!=12,9,0)","v":{"$error":"#REF!"}},{"$f":"IF(#REF!=13,8,0)","v":{"$error":"#REF!"}},{"$f":"IF(#REF!=14,7,0)","v":{"$error":"#REF!"}},{"$f":"IF(#REF!=15,6,0)","v":{"$error":"#REF!"}},{"$f":"IF(#REF!=16,5,0)","v":{"$error":"#REF!"}},{"$f":"IF(#REF!=17,4,0)","v":{"$error":"#REF!"}},{"$f":"IF(#REF!=18,3,0)","v":{"$error":"#REF!"}},{"$f":"IF(#REF!=19,2,0)","v":{"$error":"#REF!"}},{"$f":"IF(#REF!=20,1,0)","v":{"$error":"#REF!"}},{"$f":"IF(#REF!>20,0,0)","v":{"$error":"#REF!"}},{"$f":"IF(#REF!=\"сх\",0,0)","v":{"$error":"#REF!"}},{"$f":"SUM(FG12:GB12)","v":{"$error":"#REF!"}},{"$f":"IF(#REF!=1,25,0)","v":{"$error":"#REF!"}},{"$f":"IF(#REF!=2,22,0)","v":{"$error":"#REF!"}},{"$f":"IF(#REF!=3,20,0)","v":{"$error":"#REF!"}},{"$f":"IF(#REF!=4,18,0)","v":{"$error":"#REF!"}},{"$f":"IF(#REF!=5,16,0)","v":{"$error":"#REF!"}},{"$f":"IF(#REF!=6,15,0)","v":{"$error":"#REF!"}},{"$f":"IF(#REF!=7,14,0)","v":{"$error":"#REF!"}},{"$f":"IF(#REF!=8,13,0)","v":{"$error":"#REF!"}},{"$f":"IF(#REF!=9,12,0)","v":{"$error":"#REF!"}},{"$f":"IF(#REF!=10,11,0)","v":{"$error":"#REF!"}},{"$f":"IF(#REF!=11,10,0)","v":{"$error":"#REF!"}},{"$f":"IF(#REF!=12,9,0)","v":{"$error":"#REF!"}},{"$f":"IF(#REF!=13,8,0)","v":{"$error":"#REF!"}},{"$f":"IF(#REF!=14,7,0)","v":{"$error":"#REF!"}},{"$f":"IF(#REF!=15,6,0)","v":{"$error":"#REF!"}},{"$f":"IF(#REF!=16,5,0)","v":{"$error":"#REF!"}},{"$f":"IF(#REF!=17,4,0)","v":{"$error":"#REF!"}},{"$f":"IF(#REF!=18,3,0)","v":{"$error":"#REF!"}},{"$f":"IF(#REF!=19,2,0)","v":{"$error":"#REF!"}},{"$f":"IF(#REF!=20,1,0)","v":{"$error":"#REF!"}},{"$f":"IF(#REF!>20,0,0)","v":{"$error":"#REF!"}},{"$f":"IF(#REF!=\"сх\",0,0)","v":{"$error":"#REF!"}},{"$f":"SUM(GD12:GY12)","v":{"$error":"#REF!"}},{"$f":"IF(#REF!=1,100,0)","v":{"$error":"#REF!"}},{"$f":"IF(#REF!=2,98,0)","v":{"$error":"#REF!"}},{"$f":"IF(#REF!=3,95,0)","v":{"$error":"#REF!"}},{"$f":"IF(#REF!=4,93,0)","v":{"$error":"#REF!"}},{"$f":"IF(#REF!=5,90,0)","v":{"$error":"#REF!"}},{"$f":"IF(#REF!=6,88,0)","v":{"$error":"#REF!"}},{"$f":"IF(#REF!=7,85,0)","v":{"$error":"#REF!"}},{"$f":"IF(#REF!=8,83,0)","v":{"$error":"#REF!"}},{"$f":"IF(#REF!=9,80,0)","v":{"$error":"#REF!"}},{"$f":"IF(#REF!=10,78,0)","v":{"$error":"#REF!"}},{"$f":"IF(#REF!=11,75,0)","v":{"$error":"#REF!"}},{"$f":"IF(#REF!=12,73,0)","v":{"$error":"#REF!"}},{"$f":"IF(#REF!=13,70,0)","v":{"$error":"#REF!"}},{"$f":"IF(#REF!=14,68,0)","v":{"$error":"#REF!"}},{"$f":"IF(#REF!=15,65,0)","v":{"$error":"#REF!"}},{"$f":"IF(#REF!=16,63,0)","v":{"$error":"#REF!"}},{"$f":"IF(#REF!=17,60,0)","v":{"$error":"#REF!"}},{"$f":"IF(#REF!=18,58,0)","v":{"$error":"#REF!"}},{"$f":"IF(#REF!=19,55,0)","v":{"$error":"#REF!"}},{"$f":"IF(#REF!=20,53,0)","v":{"$error":"#REF!"}},{"$f":"IF(#REF!>20,0,0)","v":{"$error":"#REF!"}},{"$f":"IF(#REF!=\"сх\",0,0)","v":{"$error":"#REF!"}},{"$f":"SUM(HA12:HV12)","v":{"$error":"#REF!"}},{"$f":"IF(#REF!=1,100,0)","v":{"$error":"#REF!"}},{"$f":"IF(#REF!=2,98,0)","v":{"$error":"#REF!"}},{"$f":"IF(#REF!=3,95,0)","v":{"$error":"#REF!"}},{"$f":"IF(#REF!=4,93,0)","v":{"$error":"#REF!"}},{"$f":"IF(#REF!=5,90,0)","v":{"$error":"#REF!"}},{"$f":"IF(#REF!=6,88,0)","v":{"$error":"#REF!"}},{"$f":"IF(#REF!=7,85,0)","v":{"$error":"#REF!"}},{"$f":"IF(#REF!=8,83,0)","v":{"$error":"#REF!"}},{"$f":"IF(#REF!=9,80,0)","v":{"$error":"#REF!"}},{"$f":"IF(#REF!=10,78,0)","v":{"$error":"#REF!"}},{"$f":"IF(#REF!=11,75,0)","v":{"$error":"#REF!"}},{"$f":"IF(#REF!=12,73,0)","v":{"$error":"#REF!"}},{"$f":"IF(#REF!=13,70,0)","v":{"$error":"#REF!"}},{"$f":"IF(#REF!=14,68,0)","v":{"$error":"#REF!"}},{"$f":"IF(#REF!=15,65,0)","v":{"$error":"#REF!"}},{"$f":"IF(#REF!=16,63,0)","v":{"$error":"#REF!"}},{"$f":"IF(#REF!=17,60,0)","v":{"$error":"#REF!"}},{"$f":"IF(#REF!=18,58,0)","v":{"$error":"#REF!"}},{"$f":"IF(#REF!=19,55,0)","v":{"$error":"#REF!"}},{"$f":"IF(#REF!=20,53,0)","v":{"$error":"#REF!"}},{"$f":"IF(#REF!>20,0,0)","v":{"$error":"#REF!"}},{"$f":"IF(#REF!=\"сх\",0,0)","v":{"$error":"#REF!"}},{"$f":"SUM(HX12:IS12)","v":{"$error":"#REF!"}}]
[4,45,4,"Попов Алексей","мс","г. Ярославль","СТК \"Атлант\"","LYNX",6,15,5,16,3,20,51,{"$f":"#REF!+#REF!","v":{"$error":"#REF!"}},null,null,{"$f":"IF(#REF!=1,25,0)","v":{"$error":"#REF!"}},{"$f":"IF(#REF!=2,22,0)","v":{"$error":"#REF!"}},{"$f":"IF(#REF!=3,20,0)","v":{"$error":"#REF!"}},{"$f":"IF(#REF!=4,18,0)","v":{"$error":"#REF!"}},{"$f":"IF(#REF!=5,16,0)","v":{"$error":"#REF!"}},{"$f":"IF(#REF!=6,15,0)","v":{"$error":"#REF!"}},{"$f":"IF(#REF!=7,14,0)","v":{"$error":"#REF!"}},{"$f":"IF(#REF!=8,13,0)","v":{"$error":"#REF!"}},{"$f":"IF(#REF!=9,12,0)","v":{"$error":"#REF!"}},{"$f":"IF(#REF!=10,11,0)","v":{"$error":"#REF!"}},{"$f":"IF(#REF!=11,10,0)","v":{"$error":"#REF!"}},{"$f":"IF(#REF!=12,9,0)","v":{"$error":"#REF!"}},{"$f":"IF(#REF!=13,8,0)","v":{"$error":"#REF!"}},{"$f":"IF(#REF!=14,7,0)","v":{"$error":"#REF!"}},{"$f":"IF(#REF!=15,6,0)","v":{"$error":"#REF!"}},{"$f":"IF(#REF!=16,5,0)","v":{"$error":"#REF!"}},{"$f":"IF(#REF!=17,4,0)","v":{"$error":"#REF!"}},{"$f":"IF(#REF!=18,3,0)","v":{"$error":"#REF!"}},{"$f":"IF(#REF!=19,2,0)","v":{"$error":"#REF!"}},{"$f":"IF(#REF!=20,1,0)","v":{"$error":"#REF!"}},{"$f":"IF(#REF!>20,0,0)","v":{"$error":"#REF!"}},{"$f":"IF(#REF!=\"сх\",0,0)","v":{"$error":"#REF!"}},{"$f":"SUM(S13:AM13)","v":{"$error":"#REF!"}},{"$f":"IF(#REF!=1,25,0)","v":{"$error":"#REF!"}},{"$f":"IF(#REF!=2,22,0)","v":{"$error":"#REF!"}},{"$f":"IF(#REF!=3,20,0)","v":{"$error":"#REF!"}},{"$f":"IF(#REF!=4,18,0)","v":{"$error":"#REF!"}},{"$f":"IF(#REF!=5,16,0)","v":{"$error":"#REF!"}},{"$f":"IF(#REF!=6,15,0)","v":{"$error":"#REF!"}},{"$f":"IF(#REF!=7,14,0)","v":{"$error":"#REF!"}},{"$f":"IF(#REF!=8,13,0)","v":{"$error":"#REF!"}},{"$f":"IF(#REF!=9,12,0)","v":{"$error":"#REF!"}},{"$f":"IF(#REF!=10,11,0)","v":{"$error":"#REF!"}},{"$f":"IF(#REF!=11,10,0)","v":{"$error":"#REF!"}},{"$f":"IF(#REF!=12,9,0)","v":{"$error":"#REF!"}},{"$f":"IF(#REF!=13,8,0)","v":{"$error":"#REF!"}},{"$f":"IF(#REF!=14,7,0)","v":{"$error":"#REF!"}},{"$f":"IF(#REF!=15,6,0)","v":{"$error":"#REF!"}},{"$f":"IF(#REF!=16,5,0)","v":{"$error":"#REF!"}},{"$f":"IF(#REF!=17,4,0)","v":{"$error":"#REF!"}},{"$f":"IF(#REF!=18,3,0)","v":{"$error":"#REF!"}},{"$f":"IF(#REF!=19,2,0)","v":{"$error":"#REF!"}},{"$f":"IF(#REF!=20,1,0)","v":{"$error":"#REF!"}},{"$f":"IF(#REF!>20,0,0)","v":{"$error":"#REF!"}},{"$f":"IF(#REF!=\"сх\",0,0)","v":{"$error":"#REF!"}},{"$f":"SUM(AP13:BJ13)","v":{"$error":"#REF!"}},{"$f":"IF(#REF!=1,45,0)","v":{"$error":"#REF!"}},{"$f":"IF(#REF!=2,42,0)","v":{"$error":"#REF!"}},{"$f":"IF(#REF!=3,40,0)","v":{"$error":"#REF!"}},{"$f":"IF(#REF!=4,38,0)","v":{"$error":"#REF!"}},{"$f":"IF(#REF!=5,36,0)","v":{"$error":"#REF!"}},{"$f":"IF(#REF!=6,35,0)","v":{"$error":"#REF!"}},{"$f":"IF(#REF!=7,34,0)","v":{"$error":"#REF!"}},{"$f":"IF(#REF!=8,33,0)","v":{"$error":"#REF!"}},{"$f":"IF(#REF!=9,32,0)","v":{"$error":"#REF!"}},{"$f":"IF(#REF!=10,31,0)","v":{"$error":"#REF!"}},{"$f":"IF(#REF!=11,30,0)","v":{"$error":"#REF!"}},{"$f":"IF(#REF!=12,29,0)","v":{"$error":"#REF!"}},{"$f":"IF(#REF!=13,28,0)","v":{"$error":"#REF!"}},{"$f":"IF(#REF!=14,27,0)","v":{"$error":"#REF!"}},{"$f":"IF(#REF!=15,26,0)","v":{"$error":"#REF!"}},{"$f":"IF(#REF!=16,25,0)","v":{"$error":"#REF!"}},{"$f":"IF(#REF!=17,24,0)","v":{"$error":"#REF!"}},{"$f":"IF(#REF!=18,23,0)","v":{"$error":"#REF!"}},{"$f":"IF(#REF!=19,22,0)","v":{"$error":"#REF!"}},{"$f":"IF(#REF!=20,21,0)","v":{"$error":"#REF!"}},{"$f":"IF(#REF!=21,20,0)","v":{"$error":"#REF!"}},{"$f":"IF(#REF!=22,19,0)","v":{"$error":"#REF!"}},{"$f":"IF(#REF!=23,18,0)","v":{"$error":"#REF!"}},{"$f":"IF(#REF!=24,17,0)","v":{"$error":"#REF!"}},{"$f":"IF(#REF!=25,16,0)","v":{"$error":"#REF!"}},{"$f":"IF(#REF!=26,15,0)","v":{"$error":"#REF!"}},{"$f":"IF(#REF!=27,14,0)","v":{"$error":"#REF!"}},{"$f":"IF(#REF!=28,13,0)","v":{"$error":"#REF!"}},{"$f":"IF(#REF!=29,12,0)","v":{"$error":"#REF!"}},{"$f":"IF(#REF!=30,11,0)","v":{"$error":"#REF!"}},{"$f":"IF(#REF!=31,10,0)","v":{"$error":"#REF!"}},{"$f":"IF(#REF!=32,9,0)","v":{"$error":"#REF!"}},{"$f":"IF(#REF!=33,8,0)","v":{"$error":"#REF!"}},{"$f":"IF(#REF!=34,7,0)","v":{"$error":"#REF!"}},{"$f":"IF(#REF!=35,6,0)","v":{"$error":"#REF!"}},{"$f":"IF(#REF!=36,5,0)","v":{"$error":"#REF!"}},{"$f":"IF(#REF!=37,4,0)","v":{"$error":"#REF!"}},{"$f":"IF(#REF!=38,3,0)","v":{"$error":"#REF!"}},{"$f":"IF(#REF!=39,2,0)","v":{"$error":"#REF!"}},{"$f":"IF(#REF!=40,1,0)","v":{"$error":"#REF!"}},{"$f":"IF(#REF!>20,0,0)","v":{"$error":"#REF!"}},{"$f":"IF(#REF!=\"сх\",0,0)","v":{"$error":"#REF!"}},{"$f":"SUM(BM13:DB13)","v":{"$error":"#REF!"}},{"$f":"IF(#REF!=1,45,0)","v":{"$error":"#REF!"}},{"$f":"IF(#REF!=2,42,0)","v":{"$error":"#REF!"}},{"$f":"IF(#REF!=3,40,0)","v":{"$error":"#REF!"}},{"$f":"IF(#REF!=4,38,0)","v":{"$error":"#REF!"}},{"$f":"IF(#REF!=5,36,0)","v":{"$error":"#REF!"}},{"$f":"IF(#REF!=6,35,0)","v":{"$error":"#REF!"}},{"$f":"IF(#REF!=7,34,0)","v":{"$error":"#REF!"}},{"$f":"IF(#REF!=8,33,0)","v":{"$error":"#REF!"}},{"$f":"IF(#REF!=9,32,0)","v":{"$error":"#REF!"}},{"$f":"IF(#REF!=10,31,0)","v":{"$error":"#REF!"}},{"$f":"IF(#REF!=11,30,0)","v":{"$error":"#REF!"}},{"$f":"IF(#REF!=12,29,0)","v":{"$error":"#REF!"}},{"$f":"IF(#REF!=13,28,0)","v":{"$error":"#REF!"}},{"$f":"IF(#REF!=14,27,0)","v":{"$error":"#REF!"}},{"$f":"IF(#REF!=15,26,0)","v":{"$error":"#REF!"}},{"$f":"IF(#REF!=16,25,0)","v":{"$error":"#REF!"}},{"$f":"IF(#REF!=17,24,0)","v":{"$error":"#REF!"}},{"$f":"IF(#REF!=18,23,0)","v":{"$error":"#REF!"}},{"$f":"IF(#REF!=19,22,0)","v":{"$error":"#REF!"}},{"$f":"IF(#REF!=20,21,0)","v":{"$error":"#REF!"}},{"$f":"IF(#REF!=21,20,0)","v":{"$error":"#REF!"}},{"$f":"IF(#REF!=22,19,0)","v":{"$error":"#REF!"}},{"$f":"IF(#REF!=23,18,0)","v":{"$error":"#REF!"}},{"$f":"IF(#REF!=24,17,0)","v":{"$error":"#REF!"}},{"$f":"IF(#REF!=25,16,0)","v":{"$error":"#REF!"}},{"$f":"IF(#REF!=26,15,0)","v":{"$error":"#REF!"}},{"$f":"IF(#REF!=27,14,0)","v":{"$error":"#REF!"}},{"$f":"IF(#REF!=28,13,0)","v":{"$error":"#REF!"}},{"$f":"IF(#REF!=29,12,0)","v":{"$error":"#REF!"}},{"$f":"IF(#REF!=30,11,0)","v":{"$error":"#REF!"}},{"$f":"IF(#REF!=31,10,0)","v":{"$error":"#REF!"}},{"$f":"IF(#REF!=32,9,0)","v":{"$error":"#REF!"}},{"$f":"IF(#REF!=33,8,0)","v":{"$error":"#REF!"}},{"$f":"IF(#REF!=34,7,0)","v":{"$error":"#REF!"}},{"$f":"IF(#REF!=35,6,0)","v":{"$error":"#REF!"}},{"$f":"IF(#REF!=36,5,0)","v":{"$error":"#REF!"}},{"$f":"IF(#REF!=37,4,0)","v":{"$error":"#REF!"}},{"$f":"IF(#REF!=38,3,0)","v":{"$error":"#REF!"}},{"$f":"IF(#REF!=39,2,0)","v":{"$error":"#REF!"}},{"$f":"IF(#REF!=40,1,0)","v":{"$error":"#REF!"}},{"$f":"IF(#REF!>20,0,0)","v":{"$error":"#REF!"}},{"$f":"IF(#REF!=\"сх\",0,0)","v":{"$error":"#REF!"}},{"$f":"SUM(DD13:ES13)","v":{"$error":"#REF!"}},null,{"$f":"IF(#REF!=\"сх\",\"ноль\",IF(#REF!>0,#REF!,\"Ноль\"))","v":{"$error":"#REF!"}},{"$f":"IF(#REF!=\"сх\",\"ноль\",IF(#REF!>0,#REF!,\"Ноль\"))","v":{"$error":"#REF!"}},null,{"$f":"MIN(EV13,EW13)","v":{"$error":"#REF!"}},{"$f":"IF(O13=#REF!,IF(#REF!<#REF!,#REF!,FD13),#REF!)","v":{"$error":"#REF!"}},{"$f":"IF(O13=#REF!,IF(#REF!<#REF!,0,1))","v":{"$error":"#REF!"}},{"$f":"IF(AND(EY13>=21,EY13<>0),EY13,IF(O13<#REF!,\"СТОП\",EZ13+FA13))","v":{"$error":"#REF!"}},null,15,16,null,{"$f":"IF(#REF!=1,25,0)","v":{"$error":"#REF!"}},{"$f":"IF(#REF!=2,22,0)","v":{"$error":"#REF!"}},{"$f":"IF(#REF!=3,20,0)","v":{"$error":"#REF!"}},{"$f":"IF(#REF!=4,18,0)","v":{"$error":"#REF!"}},{"$f":"IF(#REF!=5,16,0)","v":{"$error":"#REF!"}},{"$f":"IF(#REF!=6,15,0)","v":{"$error":"#REF!"}},{"$f":"IF(#REF!=7,14,0)","v":{"$error":"#REF!"}},{"$f":"IF(#REF!=8,13,0)","v":{"$error":"#REF!"}},{"$f":"IF(#REF!=9,12,0)","v":{"$error":"#REF!"}},{"$f":"IF(#REF!=10,11,0)","v":{"$error":"#REF!"}},{"$f":"IF(#REF!=11,10,0)","v":{"$error":"#REF!"}},{"$f":"IF(#REF!=12,9,0)","v":{"$error":"#REF!"}},{"$f":"IF(#REF!=13,8,0)","v":{"$error":"#REF!"}},{"$f":"IF(#REF!=14,7,0)","v":{"$error":"#REF!"}},{"$f":"IF(#REF!=15,6,0)","v":{"$error":"#REF!"}},{"$f":"IF(#REF!=16,5,0)","v":{"$error":"#REF!"}},{"$f":"IF(#REF!=17,4,0)","v":{"$error":"#REF!"}},{"$f":"IF(#REF!=18,3,0)","v":{"$error":"#REF!"}},{"$f":"IF(#REF!=19,2,0)","v":{"$error":"#REF!"}},{"$f":"IF(#REF!=20,1,0)","v":{"$error":"#REF!"}},{"$f":"IF(#REF!>20,0,0)","v":{"$error":"#REF!"}},{"$f":"IF(#REF!=\"сх\",0,0)","v":{"$error":"#REF!"}},{"$f":"SUM(FG13:GB13)","v":{"$error":"#REF!"}},{"$f":"IF(#REF!=1,25,0)","v":{"$error":"#REF!"}},{"$f":"IF(#REF!=2,22,0)","v":{"$error":"#REF!"}},{"$f":"IF(#REF!=3,20,0)","v":{"$error":"#REF!"}},{"$f":"IF(#REF!=4,18,0)","v":{"$error":"#REF!"}},{"$f":"IF(#REF!=5,16,0)","v":{"$error":"#REF!"}},{"$f":"IF(#REF!=6,15,0)","v":{"$error":"#REF!"}},{"$f":"IF(#REF!=7,14,0)","v":{"$error":"#REF!"}},{"$f":"IF(#REF!=8,13,0)","v":{"$error":"#REF!"}},{"$f":"IF(#REF!=9,12,0)","v":{"$error":"#REF!"}},{"$f":"IF(#REF!=10,11,0)","v":{"$error":"#REF!"}},{"$f":"IF(#REF!=11,10,0)","v":{"$error":"#REF!"}},{"$f":"IF(#REF!=12,9,0)","v":{"$error":"#REF!"}},{"$f":"IF(#REF!=13,8,0)","v":{"$error":"#REF!"}},{"$f":"IF(#REF!=14,7,0)","v":{"$error":"#REF!"}},{"$f":"IF(#REF!=15,6,0)","v":{"$error":"#REF!"}},{"$f":"IF(#REF!=16,5,0)","v":{"$error":"#REF!"}},{"$f":"IF(#REF!=17,4,0)","v":{"$error":"#REF!"}},{"$f":"IF(#REF!=18,3,0)","v":{"$error":"#REF!"}},{"$f":"IF(#REF!=19,2,0)","v":{"$error":"#REF!"}},{"$f":"IF(#REF!=20,1,0)","v":{"$error":"#REF!"}},{"$f":"IF(#REF!>20,0,0)","v":{"$error":"#REF!"}},{"$f":"IF(#REF!=\"сх\",0,0)","v":{"$error":"#REF!"}},{"$f":"SUM(GD13:GY13)","v":{"$error":"#REF!"}},{"$f":"IF(#REF!=1,100,0)","v":{"$error":"#REF!"}},{"$f":"IF(#REF!=2,98,0)","v":{"$error":"#REF!"}},{"$f":"IF(#REF!=3,95,0)","v":{"$error":"#REF!"}},{"$f":"IF(#REF!=4,93,0)","v":{"$error":"#REF!"}},{"$f":"IF(#REF!=5,90,0)","v":{"$error":"#REF!"}},{"$f":"IF(#REF!=6,88,0)","v":{"$error":"#REF!"}},{"$f":"IF(#REF!=7,85,0)","v":{"$error":"#REF!"}},{"$f":"IF(#REF!=8,83,0)","v":{"$error":"#REF!"}},{"$f":"IF(#REF!=9,80,0)","v":{"$error":"#REF!"}},{"$f":"IF(#REF!=10,78,0)","v":{"$error":"#REF!"}},{"$f":"IF(#REF!=11,75,0)","v":{"$error":"#REF!"}},{"$f":"IF(#REF!=12,73,0)","v":{"$error":"#REF!"}},{"$f":"IF(#REF!=13,70,0)","v":{"$error":"#REF!"}},{"$f":"IF(#REF!=14,68,0)","v":{"$error":"#REF!"}},{"$f":"IF(#REF!=15,65,0)","v":{"$error":"#REF!"}},{"$f":"IF(#REF!=16,63,0)","v":{"$error":"#REF!"}},{"$f":"IF(#REF!=17,60,0)","v":{"$error":"#REF!"}},{"$f":"IF(#REF!=18,58,0)","v":{"$error":"#REF!"}},{"$f":"IF(#REF!=19,55,0)","v":{"$error":"#REF!"}},{"$f":"IF(#REF!=20,53,0)","v":{"$error":"#REF!"}},{"$f":"IF(#REF!>20,0,0)","v":{"$error":"#REF!"}},{"$f":"IF(#REF!=\"сх\",0,0)","v":{"$error":"#REF!"}},{"$f":"SUM(HA13:HV13)","v":{"$error":"#REF!"}},{"$f":"IF(#REF!=1,100,0)","v":{"$error":"#REF!"}},{"$f":"IF(#REF!=2,98,0)","v":{"$error":"#REF!"}},{"$f":"IF(#REF!=3,95,0)","v":{"$error":"#REF!"}},{"$f":"IF(#REF!=4,93,0)","v":{"$error":"#REF!"}},{"$f":"IF(#REF!=5,90,0)","v":{"$error":"#REF!"}},{"$f":"IF(#REF!=6,88,0)","v":{"$error":"#REF!"}},{"$f":"IF(#REF!=7,85,0)","v":{"$error":"#REF!"}},{"$f":"IF(#REF!=8,83,0)","v":{"$error":"#REF!"}},{"$f":"IF(#REF!=9,80,0)","v":{"$error":"#REF!"}},{"$f":"IF(#REF!=10,78,0)","v":{"$error":"#REF!"}},{"$f":"IF(#REF!=11,75,0)","v":{"$error":"#REF!"}},{"$f":"IF(#REF!=12,73,0)","v":{"$error":"#REF!"}},{"$f":"IF(#REF!=13,70,0)","v":{"$error":"#REF!"}},{"$f":"IF(#REF!=14,68,0)","v":{"$error":"#REF!"}},{"$f":"IF(#REF!=15,65,0)","v":{"$error":"#REF!"}},{"$f":"IF(#REF!=16,63,0)","v":{"$error":"#REF!"}},{"$f":"IF(#REF!=17,60,0)","v":{"$error":"#REF!"}},{"$f":"IF(#REF!=18,58,0)","v":{"$error":"#REF!"}},{"$f":"IF(#REF!=19,55,0)","v":{"$error":"#REF!"}},{"$f":"IF(#REF!=20,53,0)","v":{"$error":"#REF!"}},{"$f":"IF(#REF!>20,0,0)","v":{"$error":"#REF!"}},{"$f":"IF(#REF!=\"сх\",0,0)","v":{"$error":"#REF!"}},{"$f":"SUM(HX13:IS13)","v":{"$error":"#REF!"}}]
[5,44,6,"Знайдюк Александр","I","г. Новый Уренгой, Ямало-Ненецкий АО","СТК \"Ямбург\"","LYNX",4,18,6,15,5,16,49,{"$f":"#REF!+#REF!","v":{"$error":"#REF!"}},null,null,{"$f":"IF(#REF!=1,25,0)","v":{"$error":"#REF!"}},{"$f":"IF(#REF!=2,22,0)","v":{"$error":"#REF!"}},{"$f":"IF(#REF!=3,20,0)","v":{"$error":"#REF!"}},{"$f":"IF(#REF!=4,18,0)","v":{"$error":"#REF!"}},{"$f":"IF(#REF!=5,16,0)","v":{"$error":"#REF!"}},{"$f":"IF(#REF!=6,15,0)","v":{"$error":"#REF!"}},{"$f":"IF(#REF!=7,14,0)","v":{"$error":"#REF!"}},{"$f":"IF(#REF!=8,13,0)","v":{"$error":"#REF!"}},{"$f":"IF(#REF!=9,12,0)","v":{"$error":"#REF!"}},{"$f":"IF(#REF!=10,11,0)","v":{"$error":"#REF!"}},{"$f":"IF(#REF!=11,10,0)","v":{"$error":"#REF!"}},{"$f":"IF(#REF!=12,9,0)","v":{"$error":"#REF!"}},{"$f":"IF(#REF!=13,8,0)","v":{"$error":"#REF!"}},{"$f":"IF(#REF!=14,7,0)","v":{"$error":"#REF!"}},{"$f":"IF(#REF!=15,6,0)","v":{"$error":"#REF!"}},{"$f":"IF(#REF!=16,5,0)","v":{"$error":"#REF!"}},{"$f":"IF(#REF!=17,4,0)","v":{"$error":"#REF!"}},{"$f":"IF(#REF!=18,3,0)","v":{"$error":"#REF!"}},{"$f":"IF(#REF!=19,2,0)","v":{"$error":"#REF!"}},{"$f":"IF(#REF!=20,1,0)","v":{"$error":"#REF!"}},{"$f":"IF(#REF!>20,0,0)","v":{"$error":"#REF!"}},{"$f":"IF(#REF!=\"сх\",0,0)","v":{"$error":"#REF!"}},{"$f":"SUM(S14:AM14)","v":{"$error":"#REF!"}},{"$f":"IF(#REF!=1,25,0)","v":{"$error":"#REF!"}},{"$f":"IF(#REF!=2,22,0)","v":{"$error":"#REF!"}},{"$f":"IF(#REF!=3,20,0)","v":{"$error":"#REF!"}},{"$f":"IF(#REF!=4,18,0)","v":{"$error":"#REF!"}},{"$f":"IF(#REF!=5,16,0)","v":{"$error":"#REF!"}},{"$f":"IF(#REF!=6,15,0)","v":{"$error":"#REF!"}},{"$f":"IF(#REF!=7,14,0)","v":{"$error":"#REF!"}},{"$f":"IF(#REF!=8,13,0)","v":{"$error":"#REF!"}},{"$f":"IF(#REF!=9,12,0)","v":{"$error":"#REF!"}},{"$f":"IF(#REF!=10,11,0)","v":{"$error":"#REF!"}},{"$f":"IF(#REF!=11,10,0)","v":{"$error":"#REF!"}},{"$f":"IF(#REF!=12,9,0)","v":{"$error":"#REF!"}},{"$f":"IF(#REF!=13,8,0)","v":{"$error":"#REF!"}},{"$f":"IF(#REF!=14,7,0)","v":{"$error":"#REF!"}},{"$f":"IF(#REF!=15,6,0)","v":{"$error":"#REF!"}},{"$f":"IF(#REF!=16,5,0)","v":{"$error":"#REF!"}},{"$f":"IF(#REF!=17,4,0)","v":{"$error":"#REF!"}},{"$f":"IF(#REF!=18,3,0)","v":{"$error":"#REF!"}},{"$f":"IF(#REF!=19,2,0)","v":{"$error":"#REF!"}},{"$f":"IF(#REF!=20,1,0)","v":{"$error":"#REF!"}},{"$f":"IF(#REF!>20,0,0)","v":{"$error":"#REF!"}},{"$f":"IF(#REF!=\"сх\",0,0)","v":{"$error":"#REF!"}},{"$f":"SUM(AP14:BJ14)","v":{"$error":"#REF!"}},{"$f":"IF(#REF!=1,45,0)","v":{"$error":"#REF!"}},{"$f":"IF(#REF!=2,42,0)","v":{"$error":"#REF!"}},{"$f":"IF(#REF!=3,40,0)","v":{"$error":"#REF!"}},{"$f":"IF(#REF!=4,38,0)","v":{"$error":"#REF!"}},{"$f":"IF(#REF!=5,36,0)","v":{"$error":"#REF!"}},{"$f":"IF(#REF!=6,35,0)","v":{"$error":"#REF!"}},{"$f":"IF(#REF!=7,34,0)","v":{"$error":"#REF!"}},{"$f":"IF(#REF!=8,33,0)","v":{"$error":"#REF!"}},{"$f":"IF(#REF!=9,32,0)","v":{"$error":"#REF!"}},{"$f":"IF(#REF!=10,31,0)","v":{"$error":"#REF!"}},{"$f":"IF(#REF!=11,30,0)","v":{"$error":"#REF!"}},{"$f":"IF(#REF!=12,29,0)","v":{"$error":"#REF!"}},{"$f":"IF(#REF!=13,28,0)","v":{"$error":"#REF!"}},{"$f":"IF(#REF!=14,27,0)","v":{"$error":"#REF!"}},{"$f":"IF(#REF!=15,26,0)","v":{"$error":"#REF!"}},{"$f":"IF(#REF!=16,25,0)","v":{"$error":"#REF!"}},{"$f":"IF(#REF!=17,24,0)","v":{"$error":"#REF!"}},{"$f":"IF(#REF!=18,23,0)","v":{"$error":"#REF!"}},{"$f":"IF(#REF!=19,22,0)","v":{"$error":"#REF!"}},{"$f":"IF(#REF!=20,21,0)","v":{"$error":"#REF!"}},{"$f":"IF(#REF!=21,20,0)","v":{"$error":"#REF!"}},{"$f":"IF(#REF!=22,19,0)","v":{"$error":"#REF!"}},{"$f":"IF(#REF!=23,18,0)","v":{"$error":"#REF!"}},{"$f":"IF(#REF!=24,17,0)","v":{"$error":"#REF!"}},{"$f":"IF(#REF!=25,16,0)","v":{"$error":"#REF!"}},{"$f":"IF(#REF!=26,15,0)","v":{"$error":"#REF!"}},{"$f":"IF(#REF!=27,14,0)","v":{"$error":"#REF!"}},{"$f":"IF(#REF!=28,13,0)","v":{"$error":"#REF!"}},{"$f":"IF(#REF!=29,12,0)","v":{"$error":"#REF!"}},{"$f":"IF(#REF!=30,11,0)","v":{"$error":"#REF!"}},{"$f":"IF(#REF!=31,10,0)","v":{"$error":"#REF!"}},{"$f":"IF(#REF!=32,9,0)","v":{"$error":"#REF!"}},{"$f":"IF(#REF!=33,8,0)","v":{"$error":"#REF!"}},{"$f":"IF(#REF!=34,7,0)","v":{"$error":"#REF!"}},{"$f":"IF(#REF!=35,6,0)","v":{"$error":"#REF!"}},{"$f":"IF(#REF!=36,5,0)","v":{"$error":"#REF!"}},{"$f":"IF(#REF!=37,4,0)","v":{"$error":"#REF!"}},{"$f":"IF(#REF!=38,3,0)","v":{"$error":"#REF!"}},{"$f":"IF(#REF!=39,2,0)","v":{"$error":"#REF!"}},{"$f":"IF(#REF!=40,1,0)","v":{"$error":"#REF!"}},{"$f":"IF(#REF!>20,0,0)","v":{"$error":"#REF!"}},{"$f":"IF(#REF!=\"сх\",0,0)","v":{"$error":"#REF!"}},{"$f":"SUM(BM14:DB14)","v":{"$error":"#REF!"}},{"$f":"IF(#REF!=1,45,0)","v":{"$error":"#REF!"}},{"$f":"IF(#REF!=2,42,0)","v":{"$error":"#REF!"}},{"$f":"IF(#REF!=3,40,0)","v":{"$error":"#REF!"}},{"$f":"IF(#REF!=4,38,0)","v":{"$error":"#REF!"}},{"$f":"IF(#REF!=5,36,0)","v":{"$error":"#REF!"}},{"$f":"IF(#REF!=6,35,0)","v":{"$error":"#REF!"}},{"$f":"IF(#REF!=7,34,0)","v":{"$error":"#REF!"}},{"$f":"IF(#REF!=8,33,0)","v":{"$error":"#REF!"}},{"$f":"IF(#REF!=9,32,0)","v":{"$error":"#REF!"}},{"$f":"IF(#REF!=10,31,0)","v":{"$error":"#REF!"}},{"$f":"IF(#REF!=11,30,0)","v":{"$error":"#REF!"}},{"$f":"IF(#REF!=12,29,0)","v":{"$error":"#REF!"}},{"$f":"IF(#REF!=13,28,0)","v":{"$error":"#REF!"}},{"$f":"IF(#REF!=14,27,0)","v":{"$error":"#REF!"}},{"$f":"IF(#REF!=15,26,0)","v":{"$error":"#REF!"}},{"$f":"IF(#REF!=16,25,0)","v":{"$error":"#REF!"}},{"$f":"IF(#REF!=17,24,0)","v":{"$error":"#REF!"}},{"$f":"IF(#REF!=18,23,0)","v":{"$error":"#REF!"}},{"$f":"IF(#REF!=19,22,0)","v":{"$error":"#REF!"}},{"$f":"IF(#REF!=20,21,0)","v":{"$error":"#REF!"}},{"$f":"IF(#REF!=21,20,0)","v":{"$error":"#REF!"}},{"$f":"IF(#REF!=22,19,0)","v":{"$error":"#REF!"}},{"$f":"IF(#REF!=23,18,0)","v":{"$error":"#REF!"}},{"$f":"IF(#REF!=24,17,0)","v":{"$error":"#REF!"}},{"$f":"IF(#REF!=25,16,0)","v":{"$error":"#REF!"}},{"$f":"IF(#REF!=26,15,0)","v":{"$error":"#REF!"}},{"$f":"IF(#REF!=27,14,0)","v":{"$error":"#REF!"}},{"$f":"IF(#REF!=28,13,0)","v":{"$error":"#REF!"}},{"$f":"IF(#REF!=29,12,0)","v":{"$error":"#REF!"}},{"$f":"IF(#REF!=30,11,0)","v":{"$error":"#REF!"}},{"$f":"IF(#REF!=31,10,0)","v":{"$error":"#REF!"}},{"$f":"IF(#REF!=32,9,0)","v":{"$error":"#REF!"}},{"$f":"IF(#REF!=33,8,0)","v":{"$error":"#REF!"}},{"$f":"IF(#REF!=34,7,0)","v":{"$error":"#REF!"}},{"$f":"IF(#REF!=35,6,0)","v":{"$error":"#REF!"}},{"$f":"IF(#REF!=36,5,0)","v":{"$error":"#REF!"}},{"$f":"IF(#REF!=37,4,0)","v":{"$error":"#REF!"}},{"$f":"IF(#REF!=38,3,0)","v":{"$error":"#REF!"}},{"$f":"IF(#REF!=39,2,0)","v":{"$error":"#REF!"}},{"$f":"IF(#REF!=40,1,0)","v":{"$error":"#REF!"}},{"$f":"IF(#REF!>20,0,0)","v":{"$error":"#REF!"}},{"$f":"IF(#REF!=\"сх\",0,0)","v":{"$error":"#REF!"}},{"$f":"SUM(DD14:ES14)","v":{"$error":"#REF!"}},null,{"$f":"IF(#REF!=\"сх\",\"ноль\",IF(#REF!>0,#REF!,\"Ноль\"))","v":{"$error":"#REF!"}},{"$f":"IF(#REF!=\"сх\",\"ноль\",IF(#REF!>0,#REF!,\"Ноль\"))","v":{"$error":"#REF!"}},null,{"$f":"MIN(EV14,EW14)","v":{"$error":"#REF!"}},{"$f":"IF(O14=#REF!,IF(#REF!<#REF!,#REF!,FD14),#REF!)","v":{"$error":"#REF!"}},{"$f":"IF(O14=#REF!,IF(#REF!<#REF!,0,1))","v":{"$error":"#REF!"}},{"$f":"IF(AND(EY14>=21,EY14<>0),EY14,IF(O14<#REF!,\"СТОП\",EZ14+FA14))","v":{"$error":"#REF!"}},null,15,16,null,{"$f":"IF(#REF!=1,25,0)","v":{"$error":"#REF!"}},{"$f":"IF(#REF!=2,22,0)","v":{"$error":"#REF!"}},{"$f":"IF(#REF!=3,20,0)","v":{"$error":"#REF!"}},{"$f":"IF(#REF!=4,18,0)","v":{"$error":"#REF!"}},{"$f":"IF(#REF!=5,16,0)","v":{"$error":"#REF!"}},{"$f":"IF(#REF!=6,15,0)","v":{"$error":"#REF!"}},{"$f":"IF(#REF!=7,14,0)","v":{"$error":"#REF!"}},{"$f":"IF(#REF!=8,13,0)","v":{"$error":"#REF!"}},{"$f":"IF(#REF!=9,12,0)","v":{"$error":"#REF!"}},{"$f":"IF(#REF!=10,11,0)","v":{"$error":"#REF!"}},{"$f":"IF(#REF!=11,10,0)","v":{"$error":"#REF!"}},{"$f":"IF(#REF!=12,9,0)","v":{"$error":"#REF!"}},{"$f":"IF(#REF!=13,8,0)","v":{"$error":"#REF!"}},{"$f":"IF(#REF!=14,7,0)","v":{"$error":"#REF!"}},{"$f":"IF(#REF!=15,6,0)","v":{"$error":"#REF!"}},{"$f":"IF(#REF!=16,5,0)","v":{"$error":"#REF!"}},{"$f":"IF(#REF!=17,4,0)","v":{"$error":"#REF!"}},{"$f":"IF(#REF!=18,3,0)","v":{"$error":"#REF!"}},{"$f":"IF(#REF!=19,2,0)","v":{"$error":"#REF!"}},{"$f":"IF(#REF!=20,1,0)","v":{"$error":"#REF!"}},{"$f":"IF(#REF!>20,0,0)","v":{"$error":"#REF!"}},{"$f":"IF(#REF!=\"сх\",0,0)","v":{"$error":"#REF!"}},{"$f":"SUM(FG14:GB14)","v":{"$error":"#REF!"}},{"$f":"IF(#REF!=1,25,0)","v":{"$error":"#REF!"}},{"$f":"IF(#REF!=2,22,0)","v":{"$error":"#REF!"}},{"$f":"IF(#REF!=3,20,0)","v":{"$error":"#REF!"}},{"$f":"IF(#REF!=4,18,0)","v":{"$error":"#REF!"}},{"$f":"IF(#REF!=5,16,0)","v":{"$error":"#REF!"}},{"$f":"IF(#REF!=6,15,0)","v":{"$error":"#REF!"}},{"$f":"IF(#REF!=7,14,0)","v":{"$error":"#REF!"}},{"$f":"IF(#REF!=8,13,0)","v":{"$error":"#REF!"}},{"$f":"IF(#REF!=9,12,0)","v":{"$error":"#REF!"}},{"$f":"IF(#REF!=10,11,0)","v":{"$error":"#REF!"}},{"$f":"IF(#REF!=11,10,0)","v":{"$error":"#REF!"}},{"$f":"IF(#REF!=12,9,0)","v":{"$error":"#REF!"}},{"$f":"IF(#REF!=13,8,0)","v":{"$error":"#REF!"}},{"$f":"IF(#REF!=14,7,0)","v":{"$error":"#REF!"}},{"$f":"IF(#REF!=15,6,0)","v":{"$error":"#REF!"}},{"$f":"IF(#REF!=16,5,0)","v":{"$error":"#REF!"}},{"$f":"IF(#REF!=17,4,0)","v":{"$error":"#REF!"}},{"$f":"IF(#REF!=18,3,0)","v":{"$error":"#REF!"}},{"$f":"IF(#REF!=19,2,0)","v":{"$error":"#REF!"}},{"$f":"IF(#REF!=20,1,0)","v":{"$error":"#REF!"}},{"$f":"IF(#REF!>20,0,0)","v":{"$error":"#REF!"}},{"$f":"IF(#REF!=\"сх\",0,0)","v":{"$error":"#REF!"}},{"$f":"SUM(GD14:GY14)","v":{"$error":"#REF!"}},{"$f":"IF(#REF!=1,100,0)","v":{"$error":"#REF!"}},{"$f":"IF(#REF!=2,98,0)","v":{"$error":"#REF!"}},{"$f":"IF(#REF!=3,95,0)","v":{"$error":"#REF!"}},{"$f":"IF(#REF!=4,93,0)","v":{"$error":"#REF!"}},{"$f":"IF(#REF!=5,90,0)","v":{"$error":"#REF!"}},{"$f":"IF(#REF!=6,88,0)","v":{"$error":"#REF!"}},{"$f":"IF(#REF!=7,85,0)","v":{"$error":"#REF!"}},{"$f":"IF(#REF!=8,83,0)","v":{"$error":"#REF!"}},{"$f":"IF(#REF!=9,80,0)","v":{"$error":"#REF!"}},{"$f":"IF(#REF!=10,78,0)","v":{"$error":"#REF!"}},{"$f":"IF(#REF!=11,75,0)","v":{"$error":"#REF!"}},{"$f":"IF(#REF!=12,73,0)","v":{"$error":"#REF!"}},{"$f":"IF(#REF!=13,70,0)","v":{"$error":"#REF!"}},{"$f":"IF(#REF!=14,68,0)","v":{"$error":"#REF!"}},{"$f":"IF(#REF!=15,65,0)","v":{"$error":"#REF!"}},{"$f":"IF(#REF!=16,63,0)","v":{"$error":"#REF!"}},{"$f":"IF(#REF!=17,60,0)","v":{"$error":"#REF!"}},{"$f":"IF(#REF!=18,58,0)","v":{"$error":"#REF!"}},{"$f":"IF(#REF!=19,55,0)","v":{"$error":"#REF!"}},{"$f":"IF(#REF!=20,53,0)","v":{"$error":"#REF!"}},{"$f":"IF(#REF!>20,0,0)","v":{"$error":"#REF!"}},{"$f":"IF(#REF!=\"сх\",0,0)","v":{"$error":"#REF!"}},{"$f":"SUM(HA14:HV14)","v":{"$error":"#REF!"}},{"$f":"IF(#REF!=1,100,0)","v":{"$error":"#REF!"}},{"$f":"IF(#REF!=2,98,0)","v":{"$error":"#REF!"}},{"$f":"IF(#REF!=3,95,0)","v":{"$error":"#REF!"}},{"$f":"IF(#REF!=4,93,0)","v":{"$error":"#REF!"}},{"$f":"IF(#REF!=5,90,0)","v":{"$error":"#REF!"}},{"$f":"IF(#REF!=6,88,0)","v":{"$error":"#REF!"}},{"$f":"IF(#REF!=7,85,0)","v":{"$error":"#REF!"}},{"$f":"IF(#REF!=8,83,0)","v":{"$error":"#REF!"}},{"$f":"IF(#REF!=9,80,0)","v":{"$error":"#REF!"}},{"$f":"IF(#REF!=10,78,0)","v":{"$error":"#REF!"}},{"$f":"IF(#REF!=11,75,0)","v":{"$error":"#REF!"}},{"$f":"IF(#REF!=12,73,0)","v":{"$error":"#REF!"}},{"$f":"IF(#REF!=13,70,0)","v":{"$error":"#REF!"}},{"$f":"IF(#REF!=14,68,0)","v":{"$error":"#REF!"}},{"$f":"IF(#REF!=15,65,0)","v":{"$error":"#REF!"}},{"$f":"IF(#REF!=16,63,0)","v":{"$error":"#REF!"}},{"$f":"IF(#REF!=17,60,0)","v":{"$error":"#REF!"}},{"$f":"IF(#REF!=18,58,0)","v":{"$error":"#REF!"}},{"$f":"IF(#REF!=19,55,0)","v":{"$error":"#REF!"}},{"$f":"IF(#REF!=20,53,0)","v":{"$error":"#REF!"}},{"$f":"IF(#REF!>20,0,0)","v":{"$error":"#REF!"}},{"$f":"IF(#REF!=\"сх\",0,0)","v":{"$error":"#REF!"}},{"$f":"SUM(HX14:IS14)","v":{"$error":"#REF!"}}]
[6,43,16,"Пехтерев Артем","кмс","г. Ярославль","СТК \"Атлант\"","LYNX",5,16,7,14,6,15,45,{"$f":"#REF!+#REF!","v":{"$error":"#REF!"}},null,null,{"$f":"IF(#REF!=1,25,0)","v":{"$error":"#REF!"}},{"$f":"IF(#REF!=2,22,0)","v":{"$error":"#REF!"}},{"$f":"IF(#REF!=3,20,0)","v":{"$error":"#REF!"}},{"$f":"IF(#REF!=4,18,0)","v":{"$error":"#REF!"}},{"$f":"IF(#REF!=5,16,0)","v":{"$error":"#REF!"}},{"$f":"IF(#REF!=6,15,0)","v":{"$error":"#REF!"}},{"$f":"IF(#REF!=7,14,0)","v":{"$error":"#REF!"}},{"$f":"IF(#REF!=8,13,0)","v":{"$error":"#REF!"}},{"$f":"IF(#REF!=9,12,0)","v":{"$error":"#REF!"}},{"$f":"IF(#REF!=10,11,0)","v":{"$error":"#REF!"}},{"$f":"IF(#REF!=11,10,0)","v":{"$error":"#REF!"}},{"$f":"IF(#REF!=12,9,0)","v":{"$error":"#REF!"}},{"$f":"IF(#REF!=13,8,0)","v":{"$error":"#REF!"}},{"$f":"IF(#REF!=14,7,0)","v":{"$error":"#REF!"}},{"$f":"IF(#REF!=15,6,0)","v":{"$error":"#REF!"}},{"$f":"IF(#REF!=16,5,0)","v":{"$error":"#REF!"}},{"$f":"IF(#REF!=17,4,0)","v":{"$error":"#REF!"}},{"$f":"IF(#REF!=18,3,0)","v":{"$error":"#REF!"}},{"$f":"IF(#REF!=19,2,0)","v":{"$error":"#REF!"}},{"$f":"IF(#REF!=20,1,0)","v":{"$error":"#REF!"}},{"$f":"IF(#REF!>20,0,0)","v":{"$error":"#REF!"}},{"$f":"IF(#REF!=\"сх\",0,0)","v":{"$error":"#REF!"}},{"$error":"#REF!"},{"$f":"IF(#REF!=1,25,0)","v":{"$error":"#REF!"}},{"$f":"IF(#REF!=2,22,0)","v":{"$error":"#REF!"}},{"$f":"IF(#REF!=3,20,0)","v":{"$error":"#REF!"}},{"$f":"IF(#REF!=4,18,0)","v":{"$error":"#REF!"}},{"$f":"IF(#REF!=5,16,0)","v":{"$error":"#REF!"}},{"$f":"IF(#REF!=6,15,0)","v":{"$error":"#REF!"}},{"$f":"IF(#REF!=7,14,0)","v":{"$error":"#REF!"}},{"$f":"IF(#REF!=8,13,0)","v":{"$error":"#REF!"}},{"$f":"IF(#REF!=9,12,0)","v":{"$error":"#REF!"}},{"$f":"IF(#REF!=10,11,0)","v":{"$error":"#REF!"}},{"$f":"IF(#REF!=11,10,0)","v":{"$error":"#REF!"}},{"$f":"IF(#REF!=12,9,0)","v":{"$error":"#REF!"}},{"$f":"IF(#REF!=13,8,0)","v":{"$error":"#REF!"}},{"$f":"IF(#REF!=14,7,0)","v":{"$error":"#REF!"}},{"$f":"IF(#REF!=15,6,0)","v":{"$error":"#REF!"}},{"$f":"IF(#REF!=16,5,0)","v":{"$error":"#REF!"}},{"$f":"IF(#REF!=17,4,0)","v":{"$error":"#REF!"}},{"$f":"IF(#REF!=18,3,0)","v":{"$error":"#REF!"}},{"$f":"IF(#REF!=19,2,0)","v":{"$error":"#REF!"}},{"$f":"IF(#REF!=20,1,0)","v":{"$error":"#REF!"}},{"$f":"IF(#REF!>20,0,0)","v":{"$error":"#REF!"}},{"$f":"IF(#REF!=\"сх\",0,0)","v":{"$error":"#REF!"}},{"$error":"#REF!"},{"$f":"IF(#REF!=1,45,0)","v":{"$error":"#REF!"}},{"$f":"IF(#REF!=2,42,0)","v":{"$error":"#REF!"}},{"$f":"IF(#REF!=3,40,0)","v":{"$error":"#REF!"}},{"$f":"IF(#REF!=4,38,0)","v":{"$error":"#REF!"}},{"$f":"IF(#REF!=5,36,0)","v":{"$error":"#REF!"}},{"$f":"IF(#REF!=6,35,0)","v":{"$error":"#REF!"}},{"$f":"IF(#REF!=7,34,0)","v":{"$error":"#REF!"}},{"$f":"IF(#REF!=8,33,0)","v":{"$error":"#REF!"}},{"$f":"IF(#REF!=9,32,0)","v":{"$error":"#REF!"}},{"$f":"IF(#REF!=10,31,0)","v":{"$error":"#REF!"}},{"$f":"IF(#REF!=11,30,0)","v":{"$error":"#REF!"}},{"$f":"IF(#REF!=12,29,0)","v":{"$error":"#REF!"}},{"$f":"IF(#REF!=13,28,0)","v":{"$error":"#REF!"}},{"$f":"IF(#REF!=14,27,0)","v":{"$error":"#REF!"}},{"$f":"IF(#REF!=15,26,0)","v":{"$error":"#REF!"}},{"$f":"IF(#REF!=16,25,0)","v":{"$error":"#REF!"}},{"$f":"IF(#REF!=17,24,0)","v":{"$error":"#REF!"}},{"$f":"IF(#REF!=18,23,0)","v":{"$error":"#REF!"}},{"$f":"IF(#REF!=19,22,0)","v":{"$error":"#REF!"}},{"$f":"IF(#REF!=20,21,0)","v":{"$error":"#REF!"}},{"$f":"IF(#REF!=21,20,0)","v":{"$error":"#REF!"}},{"$f":"IF(#REF!=22,19,0)","v":{"$error":"#REF!"}},{"$f":"IF(#REF!=23,18,0)","v":{"$error":"#REF!"}},{"$f":"IF(#REF!=24,17,0)","v":{"$error":"#REF!"}},{"$f":"IF(#REF!=25,16,0)","v":{"$error":"#REF!"}},{"$f":"IF(#REF!=26,15,0)","v":{"$error":"#REF!"}},{"$f":"IF(#REF!=27,14,0)","v":{"$error":"#REF!"}},{"$f":"IF(#REF!=28,13,0)","v":{"$error":"#REF!"}},{"$f":"IF(#REF!=29,12,0)","v":{"$error":"#REF!"}},{"$f":"IF(#REF!=30,11,0)","v":{"$error":"#REF!"}},{"$f":"IF(#REF!=31,10,0)","v":{"$error":"#REF!"}},{"$f":"IF(#REF!=32,9,0)","v":{"$error":"#REF!"}},{"$f":"IF(#REF!=33,8,0)","v":{"$error":"#REF!"}},{"$f":"IF(#REF!=34,7,0)","v":{"$error":"#REF!"}},{"$f":"IF(#REF!=35,6,0)","v":{"$error":"#REF!"}},{"$f":"IF(#REF!=36,5,0)","v":{"$error":"#REF!"}},{"$f":"IF(#REF!=37,4,0)","v":{"$error":"#REF!"}},{"$f":"IF(#REF!=38,3,0)","v":{"$error":"#REF!"}},{"$f":"IF(#REF!=39,2,0)","v":{"$error":"#REF!"}},{"$f":"IF(#REF!=40,1,0)","v":{"$error":"#REF!"}},{"$f":"IF(#REF!>20,0,0)","v":{"$error":"#REF!"}},{"$f":"IF(#REF!=\"сх\",0,0)","v":{"$error":"#REF!"}},{"$error":"#REF!"},{"$f":"IF(#REF!=1,45,0)","v":{"$error":"#REF!"}},{"$f":"IF(#REF!=2,42,0)","v":{"$error":"#REF!"}},{"$f":"IF(#REF!=3,40,0)","v":{"$error":"#REF!"}},{"$f":"IF(#REF!=4,38,0)","v":{"$error":"#REF!"}},{"$f":"IF(#REF!=5,36,0)","v":{"$error":"#REF!"}},{"$f":"IF(#REF!=6,35,0)","v":{"$error":"#REF!"}},{"$f":"IF(#REF!=7,34,0)","v":{"$error":"#REF!"}},{"$f":"IF(#REF!=8,33,0)","v":{"$error":"#REF!"}},{"$f":"IF(#REF!=9,32,0)","v":{"$error":"#REF!"}},{"$f":"IF(#REF!=10,31,0)","v":{"$error":"#REF!"}},{"$f":"IF(#REF!=11,30,0)","v":{"$error":"#REF!"}},{"$f":"IF(#REF!=12,29,0)","v":{"$error":"#REF!"}},{"$f":"IF(#REF!=13,28,0)","v":{"$error":"#REF!"}},{"$f":"IF(#REF!=14,27,0)","v":{"$error":"#REF!"}},{"$f":"IF(#REF!=15,26,0)","v":{"$error":"#REF!"}},{"$f":"IF(#REF!=16,25,0)","v":{"$error":"#REF!"}},{"$f":"IF(#REF!=17,24,0)","v":{"$error":"#REF!"}},{"$f":"IF(#REF!=18,23,0)","v":{"$error":"#REF!"}},{"$f":"IF(#REF!=19,22,0)","v":{"$error":"#REF!"}},{"$f":"IF(#REF!=20,21,0)","v":{"$error":"#REF!"}},{"$f":"IF(#REF!=21,20,0)","v":{"$error":"#REF!"}},{"$f":"IF(#REF!=22,19,0)","v":{"$error":"#REF!"}},{"$f":"IF(#REF!=23,18,0)","v":{"$error":"#REF!"}},{"$f":"IF(#REF!=24,17,0)","v":{"$error":"#REF!"}},{"$f":"IF(#REF!=25,16,0)","v":{"$error":"#REF!"}},{"$f":"IF(#REF!=26,15,0)","v":{"$error":"#REF!"}},{"$f":"IF(#REF!=27,14,0)","v":{"$error":"#REF!"}},{"$f":"IF(#REF!=28,13,0)","v":{"$error":"#REF!"}},{"$f":"IF(#REF!=29,12,0)","v":{"$error":"#REF!"}},{"$f":"IF(#REF!=30,11,0)","v":{"$error":"#REF!"}},{"$f":"IF(#REF!=31,10,0)","v":{"$error":"#REF!"}},{"$f":"IF(#REF!=32,9,0)","v":{"$error":"#REF!"}},{"$f":"IF(#REF!=33,8,0)","v":{"$error":"#REF!"}},{"$f":"IF(#REF!=34,7,0)","v":{"$error":"#REF!"}},{"$f":"IF(#REF!=35,6,0)","v":{"$error":"#REF!"}},{"$f":"IF(#REF!=36,5,0)","v":{"$error":"#REF!"}},{"$f":"IF(#REF!=37,4,0)","v":{"$error":"#REF!"}},{"$f":"IF(#REF!=38,3,0)","v":{"$error":"#REF!"}},{"$f":"IF(#REF!=39,2,0)","v":{"$error":"#REF!"}},{"$f":"IF(#REF!=40,1,0)","v":{"$error":"#REF!"}},{"$f":"IF(#REF!>20,0,0)","v":{"$error":"#REF!"}},{"$f":"IF(#REF!=\"сх\",0,0)","v":{"$error":"#REF!"}},{"$error":"#REF!"},null,{"$f":"IF(#REF!=\"сх\",\"ноль\",IF(#REF!>0,#REF!,\"Ноль\"))","v":{"$error":"#REF!"}},{"$f":"IF(#REF!=\"сх\",\"ноль\",IF(#REF!>0,#REF!,\"Ноль\"))","v":{"$error":"#REF!"}},null,{"$error":"#REF!"},{"$f":"IF(O15=#REF!,IF(#REF!<#REF!,#REF!,FD15),#REF!)","v":{"$error":"#REF!"}},{"$f":"IF(O15=#REF!,IF(#REF!<#REF!,0,1))","v":{"$error":"#REF!"}},{"$f":"IF(AND(EY15>=21,EY15<>0),EY15,IF(O15<#REF!,\"СТОП\",EZ15+FA15))","v":{"$error":"#REF!"}},null,15,16,null,{"$f":"IF(#REF!=1,25,0)","v":{"$error":"#REF!"}},{"$f":"IF(#REF!=2,22,0)","v":{"$error":"#REF!"}},{"$f":"IF(#REF!=3,20,0)","v":{"$error":"#REF!"}},{"$f":"IF(#REF!=4,18,0)","v":{"$error":"#REF!"}},{"$f":"IF(#REF!=5,16,0)","v":{"$error":"#REF!"}},{"$f":"IF(#REF!=6,15,0)","v":{"$error":"#REF!"}},{"$f":"IF(#REF!=7,14,0)","v":{"$error":"#REF!"}},{"$f":"IF(#REF!=8,13,0)","v":{"$error":"#REF!"}},{"$f":"IF(#REF!=9,12,0)","v":{"$error":"#REF!"}},{"$f":"IF(#REF!=10,11,0)","v":{"$error":"#REF!"}},{"$f":"IF(#REF!=11,10,0)","v":{"$error":"#REF!"}},{"$f":"IF(#REF!=12,9,0)","v":{"$error":"#REF!"}},{"$f":"IF(#REF!=13,8,0)","v":{"$error":"#REF!"}},{"$f":"IF(#REF!=14,7,0)","v":{"$error":"#REF!"}},{"$f":"IF(#REF!=15,6,0)","v":{"$error":"#REF!"}},{"$f":"IF(#REF!=16,5,0)","v":{"$error":"#REF!"}},{"$f":"IF(#REF!=17,4,0)","v":{"$error":"#REF!"}},{"$f":"IF(#REF!=18,3,0)","v":{"$error":"#REF!"}},{"$f":"IF(#REF!=19,2,0)","v":{"$error":"#REF!"}},{"$f":"IF(#REF!=20,1,0)","v":{"$error":"#REF!"}},{"$f":"IF(#REF!>20,0,0)","v":{"$error":"#REF!"}},{"$f":"IF(#REF!=\"сх\",0,0)","v":{"$error":"#REF!"}},{"$error":"#REF!"},{"$f":"IF(#REF!=1,25,0)","v":{"$error":"#REF!"}},{"$f":"IF(#REF!=2,22,0)","v":{"$error":"#REF!"}},{"$f":"IF(#REF!=3,20,0)","v":{"$error":"#REF!"}},{"$f":"IF(#REF!=4,18,0)","v":{"$error":"#REF!"}},{"$f":"IF(#REF!=5,16,0)","v":{"$error":"#REF!"}},{"$f":"IF(#REF!=6,15,0)","v":{"$error":"#REF!"}},{"$f":"IF(#REF!=7,14,0)","v":{"$error":"#REF!"}},{"$f":"IF(#REF!=8,13,0)","v":{"$error":"#REF!"}},{"$f":"IF(#REF!=9,12,0)","v":{"$error":"#REF!"}},{"$f":"IF(#REF!=10,11,0)","v":{"$error":"#REF!"}},{"$f":"IF(#REF!=11,10,0)","v":{"$error":"#REF!"}},{"$f":"IF(#REF!=12,9,0)","v":{"$error":"#REF!"}},{"$f":"IF(#REF!=13,8,0)","v":{"$error":"#REF!"}},{"$f":"IF(#REF!=14,7,0)","v":{"$error":"#REF!"}},{"$f":"IF(#REF!=15,6,0)","v":{"$error":"#REF!"}},{"$f":"IF(#REF!=16,5,0)","v":{"$error":"#REF!"}},{"$f":"IF(#REF!=17,4,0)","v":{"$error":"#REF!"}},{"$f":"IF(#REF!=18,3,0)","v":{"$error":"#REF!"}},{"$f":"IF(#REF!=19,2,0)","v":{"$error":"#REF!"}},{"$f":"IF(#REF!=20,1,0)","v":{"$error":"#REF!"}},{"$f":"IF(#REF!>20,0,0)","v":{"$error":"#REF!"}},{"$f":"IF(#REF!=\"сх\",0,0)","v":{"$error":"#REF!"}},{"$error":"#REF!"},{"$f":"IF(#REF!=1,100,0)","v":{"$error":"#REF!"}},{"$f":"IF(#REF!=2,98,0)","v":{"$error":"#REF!"}},{"$f":"IF(#REF!=3,95,0)","v":{"$error":"#REF!"}},{"$f":"IF(#REF!=4,93,0)","v":{"$error":"#REF!"}},{"$f":"IF(#REF!=5,90,0)","v":{"$error":"#REF!"}},{"$f":"IF(#REF!=6,88,0)","v":{"$error":"#REF!"}},{"$f":"IF(#REF!=7,85,0)","v":{"$error":"#REF!"}},{"$f":"IF(#REF!=8,83,0)","v":{"$error":"#REF!"}},{"$f":"IF(#REF!=9,80,0)","v":{"$error":"#REF!"}},{"$f":"IF(#REF!=10,78,0)","v":{"$error":"#REF!"}},{"$f":"IF(#REF!=11,75,0)","v":{"$error":"#REF!"}},{"$f":"IF(#REF!=12,73,0)","v":{"$error":"#REF!"}},{"$f":"IF(#REF!=13,70,0)","v":{"$error":"#REF!"}},{"$f":"IF(#REF!=14,68,0)","v":{"$error":"#REF!"}},{"$f":"IF(#REF!=15,65,0)","v":{"$error":"#REF!"}},{"$f":"IF(#REF!=16,63,0)","v":{"$error":"#REF!"}},{"$f":"IF(#REF!=17,60,0)","v":{"$error":"#REF!"}},{"$f":"IF(#REF!=18,58,0)","v":{"$error":"#REF!"}},{"$f":"IF(#REF!=19,55,0)","v":{"$error":"#REF!"}},{"$f":"IF(#REF!=20,53,0)","v":{"$error":"#REF!"}},{"$f":"IF(#REF!>20,0,0)","v":{"$error":"#REF!"}},{"$f":"IF(#REF!=\"сх\",0,0)","v":{"$error":"#REF!"}},{"$error":"#REF!"},{"$f":"IF(#REF!=1,100,0)","v":{"$error":"#REF!"}},{"$f":"IF(#REF!=2,98,0)","v":{"$error":"#REF!"}},{"$f":"IF(#REF!=3,95,0)","v":{"$error":"#REF!"}},{"$f":"IF(#REF!=4,93,0)","v":{"$error":"#REF!"}},{"$f":"IF(#REF!=5,90,0)","v":{"$error":"#REF!"}},{"$f":"IF(#REF!=6,88,0)","v":{"$error":"#REF!"}},{"$f":"IF(#REF!=7,85,0)","v":{"$error":"#REF!"}},{"$f":"IF(#REF!=8,83,0)","v":{"$error":"#REF!"}},{"$f":"IF(#REF!=9,80,0)","v":{"$error":"#REF!"}},{"$f":"IF(#REF!=10,78,0)","v":{"$error":"#REF!"}},{"$f":"IF(#REF!=11,75,0)","v":{"$error":"#REF!"}},{"$f":"IF(#REF!=12,73,0)","v":{"$error":"#REF!"}},{"$f":"IF(#REF!=13,70,0)","v":{"$error":"#REF!"}},{"$f":"IF(#REF!=14,68,0)","v":{"$error":"#REF!"}},{"$f":"IF(#REF!=15,65,0)","v":{"$error":"#REF!"}},{"$f":"IF(#REF!=16,63,0)","v":{"$error":"#REF!"}},{"$f":"IF(#REF!=17,60,0)","v":{"$error":"#REF!"}},{"$f":"IF(#REF!=18,58,0)","v":{"$error":"#REF!"}},{"$f":"IF(#REF!=19,55,0)","v":{"$error":"#REF!"}},{"$f":"IF(#REF!=20,53,0)","v":{"$error":"#REF!"}},{"$f":"IF(#REF!>20,0,0)","v":{"$error":"#REF!"}},{"$f":"IF(#REF!=\"сх\",0,0)","v":{"$error":"#REF!"}},{"$error":"#REF!"}]
[7,42,1,"Смолин Евгений","кмс","г. Новый Уренгой, Ямало-Ненецкий АО","СТК \"Факел\"","ARCTIC CAT",8,13,4,18,9,12,43,{"$f":"#REF!+#REF!","v":{"$error":"#REF!"}},null,null,{"$f":"IF(#REF!=1,25,0)","v":{"$error":"#REF!"}},{"$f":"IF(#REF!=2,22,0)","v":{"$error":"#REF!"}},{"$f":"IF(#REF!=3,20,0)","v":{"$error":"#REF!"}},{"$f":"IF(#REF!=4,18,0)","v":{"$error":"#REF!"}},{"$f":"IF(#REF!=5,16,0)","v":{"$error":"#REF!"}},{"$f":"IF(#REF!=6,15,0)","v":{"$error":"#REF!"}},{"$f":"IF(#REF!=7,14,0)","v":{"$error":"#REF!"}},{"$f":"IF(#REF!=8,13,0)","v":{"$error":"#REF!"}},{"$f":"IF(#REF!=9,12,0)","v":{"$error":"#REF!"}},{"$f":"IF(#REF!=10,11,0)","v":{"$error":"#REF!"}},{"$f":"IF(#REF!=11,10,0)","v":{"$error":"#REF!"}},{"$f":"IF(#REF!=12,9,0)","v":{"$error":"#REF!"}},{"$f":"IF(#REF!=13,8,0)","v":{"$error":"#REF!"}},{"$f":"IF(#REF!=14,7,0)","v":{"$error":"#REF!"}},{"$f":"IF(#REF!=15,6,0)","v":{"$error":"#REF!"}},{"$f":"IF(#REF!=16,5,0)","v":{"$error":"#REF!"}},{"$f":"IF(#REF!=17,4,0)","v":{"$error":"#REF!"}},{"$f":"IF(#REF!=18,3,0)","v":{"$error":"#REF!"}},{"$f":"IF(#REF!=19,2,0)","v":{"$error":"#REF!"}},{"$f":"IF(#REF!=20,1,0)","v":{"$error":"#REF!"}},{"$f":"IF(#REF!>20,0,0)","v":{"$error":"#REF!"}},{"$f":"IF(#REF!=\"сх\",0,0)","v":{"$error":"#REF!"}},{"$f":"SUM(S16:AM16)","v":{"$error":"#REF!"}},{"$f":"IF(#REF!=1,25,0)","v":{"$error":"#REF!"}},{"$f":"IF(#REF!=2,22,0)","v":{"$error":"#REF!"}},{"$f":"IF(#REF!=3,20,0)","v":{"$error":"#REF!"}},{"$f":"IF(#REF!=4,18,0)","v":{"$error":"#REF!"}},{"$f":"IF(#REF!=5,16,0)","v":{"$error":"#REF!"}},{"$f":"IF(#REF!=6,15,0)","v":{"$error":"#REF!"}},{"$f":"IF(#REF!=7,14,0)","v":{"$error":"#REF!"}},{"$f":"IF(#REF!=8,13,0)","v":{"$error":"#REF!"}},{"$f":"IF(#REF!=9,12,0)","v":{"$error":"#REF!"}},{"$f":"IF(#REF!=10,11,0)","v":{"$error":"#REF!"}},{"$f":"IF(#REF!=11,10,0)","v":{"$error":"#REF!"}},{"$f":"IF(#REF!=12,9,0)","v":{"$error":"#REF!"}},{"$f":"IF(#REF!=13,8,0)","v":{"$error":"#REF!"}},{"$f":"IF(#REF!=14,7,0)","v":{"$error":"#REF!"}},{"$f":"IF(#REF!=15,6,0)","v":{"$error":"#REF!"}},{"$f":"IF(#REF!=16,5,0)","v":{"$error":"#REF!"}},{"$f":"IF(#REF!=17,4,0)","v":{"$error":"#REF!"}},{"$f":"IF(#REF!=18,3,0)","v":{"$error":"#REF!"}},{"$f":"IF(#REF!=19,2,0)","v":{"$error":"#REF!"}},{"$f":"IF(#REF!=20,1,0)","v":{"$error":"#REF!"}},{"$f":"IF(#REF!>20,0,0)","v":{"$error":"#REF!"}},{"$f":"IF(#REF!=\"сх\",0,0)","v":{"$error":"#REF!"}},{"$f":"SUM(AP16:BJ16)","v":{"$error":"#REF!"}},{"$f":"IF(#REF!=1,45,0)","v":{"$error":"#REF!"}},{"$f":"IF(#REF!=2,42,0)","v":{"$error":"#REF!"}},{"$f":"IF(#REF!=3,40,0)","v":{"$error":"#REF!"}},{"$f":"IF(#REF!=4,38,0)","v":{"$error":"#REF!"}},{"$f":"IF(#REF!=5,36,0)","v":{"$error":"#REF!"}},{"$f":"IF(#REF!=6,35,0)","v":{"$error":"#REF!"}},{"$f":"IF(#REF!=7,34,0)","v":{"$error":"#REF!"}},{"$f":"IF(#REF!=8,33,0)","v":{"$error":"#REF!"}},{"$f":"IF(#REF!=9,32,0)","v":{"$error":"#REF!"}},{"$f":"IF(#REF!=10,31,0)","v":{"$error":"#REF!"}},{"$f":"IF(#REF!=11,30,0)","v":{"$error":"#REF!"}},{"$f":"IF(#REF!=12,29,0)","v":{"$error":"#REF!"}},{"$f":"IF(#REF!=13,28,0)","v":{"$error":"#REF!"}},{"$f":"IF(#REF!=14,27,0)","v":{"$error":"#REF!"}},{"$f":"IF(#REF!=15,26,0)","v":{"$error":"#REF!"}},{"$f":"IF(#REF!=16,25,0)","v":{"$error":"#REF!"}},{"$f":"IF(#REF!=17,24,0)","v":{"$error":"#REF!"}},{"$f":"IF(#REF!=18,23,0)","v":{"$error":"#REF!"}},{"$f":"IF(#REF!=19,22,0)","v":{"$error":"#REF!"}},{"$f":"IF(#REF!=20,21,0)","v":{"$error":"#REF!"}},{"$f":"IF(#REF!=21,20,0)","v":{"$error":"#REF!"}},{"$f":"IF(#REF!=22,19,0)","v":{"$error":"#REF!"}},{"$f":"IF(#REF!=23,18,0)","v":{"$error":"#REF!"}},{"$f":"IF(#REF!=24,17,0)","v":{"$error":"#REF!"}},{"$f":"IF(#REF!=25,16,0)","v":{"$error":"#REF!"}},{"$f":"IF(#REF!=26,15,0)","v":{"$error":"#REF!"}},{"$f":"IF(#REF!=27,14,0)","v":{"$error":"#REF!"}},{"$f":"IF(#REF!=28,13,0)","v":{"$error":"#REF!"}},{"$f":"IF(#REF!=29,12,0)","v":{"$error":"#REF!"}},{"$f":"IF(#REF!=30,11,0)","v":{"$error":"#REF!"}},{"$f":"IF(#REF!=31,10,0)","v":{"$error":"#REF!"}},{"$f":"IF(#REF!=32,9,0)","v":{"$error":"#REF!"}},{"$f":"IF(#REF!=33,8,0)","v":{"$error":"#REF!"}},{"$f":"IF(#REF!=34,7,0)","v":{"$error":"#REF!"}},{"$f":"IF(#REF!=35,6,0)","v":{"$error":"#REF!"}},{"$f":"IF(#REF!=36,5,0)","v":{"$error":"#REF!"}},{"$f":"IF(#REF!=37,4,0)","v":{"$error":"#REF!"}},{"$f":"IF(#REF!=38,3,0)","v":{"$error":"#REF!"}},{"$f":"IF(#REF!=39,2,0)","v":{"$error":"#REF!"}},{"$f":"IF(#REF!=40,1,0)","v":{"$error":"#REF!"}},{"$f":"IF(#REF!>20,0,0)","v":{"$error":"#REF!"}},{"$f":"IF(#REF!=\"сх\",0,0)","v":{"$error":"#REF!"}},{"$f":"SUM(BM16:DB16)","v":{"$error":"#REF!"}},{"$f":"IF(#REF!=1,45,0)","v":{"$error":"#REF!"}},{"$f":"IF(#REF!=2,42,0)","v":{"$error":"#REF!"}},{"$f":"IF(#REF!=3,40,0)","v":{"$error":"#REF!"}},{"$f":"IF(#REF!=4,38,0)","v":{"$error":"#REF!"}},{"$f":"IF(#REF!=5,36,0)","v":{"$error":"#REF!"}},{"$f":"IF(#REF!=6,35,0)","v":{"$error":"#REF!"}},{"$f":"IF(#REF!=7,34,0)","v":{"$error":"#REF!"}},{"$f":"IF(#REF!=8,33,0)","v":{"$error":"#REF!"}},{"$f":"IF(#REF!=9,32,0)","v":{"$error":"#REF!"}},{"$f":"IF(#REF!=10,31,0)","v":{"$error":"#REF!"}},{"$f":"IF(#REF!=11,30,0)","v":{"$error":"#REF!"}},{"$f":"IF(#REF!=12,29,0)","v":{"$error":"#REF!"}},{"$f":"IF(#REF!=13,28,0)","v":{"$error":"#REF!"}},{"$f":"IF(#REF!=14,27,0)","v":{"$error":"#REF!"}},{"$f":"IF(#REF!=15,26,0)","v":{"$error":"#REF!"}},{"$f":"IF(#REF!=16,25,0)","v":{"$error":"#REF!"}},{"$f":"IF(#REF!=17,24,0)","v":{"$error":"#REF!"}},{"$f":"IF(#REF!=18,23,0)","v":{"$error":"#REF!"}},{"$f":"IF(#REF!=19,22,0)","v":{"$error":"#REF!"}},{"$f":"IF(#REF!=20,21,0)","v":{"$error":"#REF!"}},{"$f":"IF(#REF!=21,20,0)","v":{"$error":"#REF!"}},{"$f":"IF(#REF!=22,19,0)","v":{"$error":"#REF!"}},{"$f":"IF(#REF!=23,18,0)","v":{"$error":"#REF!"}},{"$f":"IF(#REF!=24,17,0)","v":{"$error":"#REF!"}},{"$f":"IF(#REF!=25,16,0)","v":{"$error":"#REF!"}},{"$f":"IF(#REF!=26,15,0)","v":{"$error":"#REF!"}},{"$f":"IF(#REF!=27,14,0)","v":{"$error":"#REF!"}},{"$f":"IF(#REF!=28,13,0)","v":{"$error":"#REF!"}},{"$f":"IF(#REF!=29,12,0)","v":{"$error":"#REF!"}},{"$f":"IF(#REF!=30,11,0)","v":{"$error":"#REF!"}},{"$f":"IF(#REF!=31,10,0)","v":{"$error":"#REF!"}},{"$f":"IF(#REF!=32,9,0)","v":{"$error":"#REF!"}},{"$f":"IF(#REF!=33,8,0)","v":{"$error":"#REF!"}},{"$f":"IF(#REF!=34,7,0)","v":{"$error":"#REF!"}},{"$f":"IF(#REF!=35,6,0)","v":{"$error":"#REF!"}},{"$f":"IF(#REF!=36,5,0)","v":{"$error":"#REF!"}},{"$f":"IF(#REF!=37,4,0)","v":{"$error":"#REF!"}},{"$f":"IF(#REF!=38,3,0)","v":{"$error":"#REF!"}},{"$f":"IF(#REF!=39,2,0)","v":{"$error":"#REF!"}},{"$f":"IF(#REF!=40,1,0)","v":{"$error":"#REF!"}},{"$f":"IF(#REF!>20,0,0)","v":{"$error":"#REF!"}},{"$f":"IF(#REF!=\"сх\",0,0)","v":{"$error":"#REF!"}},{"$f":"SUM(DD16:ES16)","v":{"$error":"#REF!"}},null,{"$f":"IF(#REF!=\"сх\",\"ноль\",IF(#REF!>0,#REF!,\"Ноль\"))","v":{"$error":"#REF!"}},{"$f":"IF(#REF!=\"сх\",\"ноль\",IF(#REF!>0,#REF!,\"Ноль\"))","v":{"$error":"#REF!"}},null,{"$f":"MIN(EV16,EW16)","v":{"$error":"#REF!"}},{"$f":"IF(O16=#REF!,IF(#REF!<#REF!,#REF!,FD16),#REF!)","v":{"$error":"#REF!"}},{"$f":"IF(O16=#REF!,IF(#REF!<#REF!,0,1))","v":{"$error":"#REF!"}},{"$f":"IF(AND(EY16>=21,EY16<>0),EY16,IF(O16<#REF!,\"СТОП\",EZ16+FA16))","v":{"$error":"#REF!"}},null,15,16,null,{"$f":"IF(#REF!=1,25,0)","v":{"$error":"#REF!"}},{"$f":"IF(#REF!=2,22,0)","v":{"$error":"#REF!"}},{"$f":"IF(#REF!=3,20,0)","v":{"$error":"#REF!"}},{"$f":"IF(#REF!=4,18,0)","v":{"$error":"#REF!"}},{"$f":"IF(#REF!=5,16,0)","v":{"$error":"#REF!"}},{"$f":"IF(#REF!=6,15,0)","v":{"$error":"#REF!"}},{"$f":"IF(#REF!=7,14,0)","v":{"$error":"#REF!"}},{"$f":"IF(#REF!=8,13,0)","v":{"$error":"#REF!"}},{"$f":"IF(#REF!=9,12,0)","v":{"$error":"#REF!"}},{"$f":"IF(#REF!=10,11,0)","v":{"$error":"#REF!"}},{"$f":"IF(#REF!=11,10,0)","v":{"$error":"#REF!"}},{"$f":"IF(#REF!=12,9,0)","v":{"$error":"#REF!"}},{"$f":"IF(#REF!=13,8,0)","v":{"$error":"#REF!"}},{"$f":"IF(#REF!=14,7,0)","v":{"$error":"#REF!"}},{"$f":"IF(#REF!=15,6,0)","v":{"$error":"#REF!"}},{"$f":"IF(#REF!=16,5,0)","v":{"$error":"#REF!"}},{"$f":"IF(#REF!=17,4,0)","v":{"$error":"#REF!"}},{"$f":"IF(#REF!=18,3,0)","v":{"$error":"#REF!"}},{"$f":"IF(#REF!=19,2,0)","v":{"$error":"#REF!"}},{"$f":"IF(#REF!=20,1,0)","v":{"$error":"#REF!"}},{"$f":"IF(#REF!>20,0,0)","v":{"$error":"#REF!"}},{"$f":"IF(#REF!=\"сх\",0,0)","v":{"$error":"#REF!"}},{"$f":"SUM(FG16:GB16)","v":{"$error":"#REF!"}},{"$f":"IF(#REF!=1,25,0)","v":{"$error":"#REF!"}},{"$f":"IF(#REF!=2,22,0)","v":{"$error":"#REF!"}},{"$f":"IF(#REF!=3,20,0)","v":{"$error":"#REF!"}},{"$f":"IF(#REF!=4,18,0)","v":{"$error":"#REF!"}},{"$f":"IF(#REF!=5,16,0)","v":{"$error":"#REF!"}},{"$f":"IF(#REF!=6,15,0)","v":{"$error":"#REF!"}},{"$f":"IF(#REF!=7,14,0)","v":{"$error":"#REF!"}},{"$f":"IF(#REF!=8,13,0)","v":{"$error":"#REF!"}},{"$f":"IF(#REF!=9,12,0)","v":{"$error":"#REF!"}},{"$f":"IF(#REF!=10,11,0)","v":{"$error":"#REF!"}},{"$f":"IF(#REF!=11,10,0)","v":{"$error":"#REF!"}},{"$f":"IF(#REF!=12,9,0)","v":{"$error":"#REF!"}},{"$f":"IF(#REF!=13,8,0)","v":{"$error":"#REF!"}},{"$f":"IF(#REF!=14,7,0)","v":{"$error":"#REF!"}},{"$f":"IF(#REF!=15,6,0)","v":{"$error":"#REF!"}},{"$f":"IF(#REF!=16,5,0)","v":{"$error":"#REF!"}},{"$f":"IF(#REF!=17,4,0)","v":{"$error":"#REF!"}},{"$f":"IF(#REF!=18,3,0)","v":{"$error":"#REF!"}},{"$f":"IF(#REF!=19,2,0)","v":{"$error":"#REF!"}},{"$f":"IF(#REF!=20,1,0)","v":{"$error":"#REF!"}},{"$f":"IF(#REF!>20,0,0)","v":{"$error":"#REF!"}},{"$f":"IF(#REF!=\"сх\",0,0)","v":{"$error":"#REF!"}},{"$f":"SUM(GD16:GY16)","v":{"$error":"#REF!"}},{"$f":"IF(#REF!=1,100,0)","v":{"$error":"#REF!"}},{"$f":"IF(#REF!=2,98,0)","v":{"$error":"#REF!"}},{"$f":"IF(#REF!=3,95,0)","v":{"$error":"#REF!"}},{"$f":"IF(#REF!=4,93,0)","v":{"$error":"#REF!"}},{"$f":"IF(#REF!=5,90,0)","v":{"$error":"#REF!"}},{"$f":"IF(#REF!=6,88,0)","v":{"$error":"#REF!"}},{"$f":"IF(#REF!=7,85,0)","v":{"$error":"#REF!"}},{"$f":"IF(#REF!=8,83,0)","v":{"$error":"#REF!"}},{"$f":"IF(#REF!=9,80,0)","v":{"$error":"#REF!"}},{"$f":"IF(#REF!=10,78,0)","v":{"$error":"#REF!"}},{"$f":"IF(#REF!=11,75,0)","v":{"$error":"#REF!"}},{"$f":"IF(#REF!=12,73,0)","v":{"$error":"#REF!"}},{"$f":"IF(#REF!=13,70,0)","v":{"$error":"#REF!"}},{"$f":"IF(#REF!=14,68,0)","v":{"$error":"#REF!"}},{"$f":"IF(#REF!=15,65,0)","v":{"$error":"#REF!"}},{"$f":"IF(#REF!=16,63,0)","v":{"$error":"#REF!"}},{"$f":"IF(#REF!=17,60,0)","v":{"$error":"#REF!"}},{"$f":"IF(#REF!=18,58,0)","v":{"$error":"#REF!"}},{"$f":"IF(#REF!=19,55,0)","v":{"$error":"#REF!"}},{"$f":"IF(#REF!=20,53,0)","v":{"$error":"#REF!"}},{"$f":"IF(#REF!>20,0,0)","v":{"$error":"#REF!"}},{"$f":"IF(#REF!=\"сх\",0,0)","v":{"$error":"#REF!"}},{"$f":"SUM(HA16:HV16)","v":{"$error":"#REF!"}},{"$f":"IF(#REF!=1,100,0)","v":{"$error":"#REF!"}},{"$f":"IF(#REF!=2,98,0)","v":{"$error":"#REF!"}},{"$f":"IF(#REF!=3,95,0)","v":{"$error":"#REF!"}},{"$f":"IF(#REF!=4,93,0)","v":{"$error":"#REF!"}},{"$f":"IF(#REF!=5,90,0)","v":{"$error":"#REF!"}},{"$f":"IF(#REF!=6,88,0)","v":{"$error":"#REF!"}},{"$f":"IF(#REF!=7,85,0)","v":{"$error":"#REF!"}},{"$f":"IF(#REF!=8,83,0)","v":{"$error":"#REF!"}},{"$f":"IF(#REF!=9,80,0)","v":{"$error":"#REF!"}},{"$f":"IF(#REF!=10,78,0)","v":{"$error":"#REF!"}},{"$f":"IF(#REF!=11,75,0)","v":{"$error":"#REF!"}},{"$f":"IF(#REF!=12,73,0)","v":{"$error":"#REF!"}},{"$f":"IF(#REF!=13,70,0)","v":{"$error":"#REF!"}},{"$f":"IF(#REF!=14,68,0)","v":{"$error":"#REF!"}},{"$f":"IF(#REF!=15,65,0)","v":{"$error":"#REF!"}},{"$f":"IF(#REF!=16,63,0)","v":{"$error":"#REF!"}},{"$f":"IF(#REF!=17,60,0)","v":{"$error":"#REF!"}},{"$f":"IF(#REF!=18,58,0)","v":{"$error":"#REF!"}},{"$f":"IF(#REF!=19,55,0)","v":{"$error":"#REF!"}},{"$f":"IF(#REF!=20,53,0)","v":{"$error":"#REF!"}},{"$f":"IF(#REF!>20,0,0)","v":{"$error":"#REF!"}},{"$f":"IF(#REF!=\"сх\",0,0)","v":{"$error":"#REF!"}},{"$f":"SUM(HX16:IS16)","v":{"$error":"#REF!"}}]
[8,41,3,"Романенко Сергей","мс","г. Новый Уренгой, Ямало-Ненецкий АО","СТК \"Факел\"","ARCTIC CAT",7,14,8,13,10,11,38,{"$f":"#REF!+#REF!","v":{"$error":"#REF!"}},null,null,{"$f":"IF(#REF!=1,25,0)","v":{"$error":"#REF!"}},{"$f":"IF(#REF!=2,22,0)","v":{"$error":"#REF!"}},{"$f":"IF(#REF!=3,20,0)","v":{"$error":"#REF!"}},{"$f":"IF(#REF!=4,18,0)","v":{"$error":"#REF!"}},{"$f":"IF(#REF!=5,16,0)","v":{"$error":"#REF!"}},{"$f":"IF(#REF!=6,15,0)","v":{"$error":"#REF!"}},{"$f":"IF(#REF!=7,14,0)","v":{"$error":"#REF!"}},{"$f":"IF(#REF!=8,13,0)","v":{"$error":"#REF!"}},{"$f":"IF(#REF!=9,12,0)","v":{"$error":"#REF!"}},{"$f":"IF(#REF!=10,11,0)","v":{"$error":"#REF!"}},{"$f":"IF(#REF!=11,10,0)","v":{"$error":"#REF!"}},{"$f":"IF(#REF!=12,9,0)","v":{"$error":"#REF!"}},{"$f":"IF(#REF!=13,8,0)","v":{"$error":"#REF!"}},{"$f":"IF(#REF!=14,7,0)","v":{"$error":"#REF!"}},{"$f":"IF(#REF!=15,6,0)","v":{"$error":"#REF!"}},{"$f":"IF(#REF!=16,5,0)","v":{"$error":"#REF!"}},{"$f":"IF(#REF!=17,4,0)","v":{"$error":"#REF!"}},{"$f":"IF(#REF!=18,3,0)","v":{"$error":"#REF!"}},{"$f":"IF(#REF!=19,2,0)","v":{"$error":"#REF!"}},{"$f":"IF(#REF!=20,1,0)","v":{"$error":"#REF!"}},{"$f":"IF(#REF!>20,0,0)","v":{"$error":"#REF!"}},{"$f":"IF(#REF!=\"сх\",0,0)","v":{"$error":"#REF!"}},{"$f":"SUM(S17:AM17)","v":{"$error":"#REF!"}},{"$f":"IF(#REF!=1,25,0)","v":{"$error":"#REF!"}},{"$f":"IF(#REF!=2,22,0)","v":{"$error":"#REF!"}},{"$f":"IF(#REF!=3,20,0)","v":{"$error":"#REF!"}},{"$f":"IF(#REF!=4,18,0)","v":{"$error":"#REF!"}},{"$f":"IF(#REF!=5,16,0)","v":{"$error":"#REF!"}},{"$f":"IF(#REF!=6,15,0)","v":{"$error":"#REF!"}},{"$f":"IF(#REF!=7,14,0)","v":{"$error":"#REF!"}},{"$f":"IF(#REF!=8,13,0)","v":{"$error":"#REF!"}},{"$f":"IF(#REF!=9,12,0)","v":{"$error":"#REF!"}},{"$f":"IF(#REF!=10,11,0)","v":{"$error":"#REF!"}},{"$f":"IF(#REF!=11,10,0)","v":{"$error":"#REF!"}},{"$f":"IF(#REF!=12,9,0)","v":{"$error":"#REF!"}},{"$f":"IF(#REF!=13,8,0)","v":{"$error":"#REF!"}},{"$f":"IF(#REF!=14,7,0)","v":{"$error":"#REF!"}},{"$f":"IF(#REF!=15,6,0)","v":{"$error":"#REF!"}},{"$f":"IF(#REF!=16,5,0)","v":{"$error":"#REF!"}},{"$f":"IF(#REF!=17,4,0)","v":{"$error":"#REF!"}},{"$f":"IF(#REF!=18,3,0)","v":{"$error":"#REF!"}},{"$f":"IF(#REF!=19,2,0)","v":{"$error":"#REF!"}},{"$f":"IF(#REF!=20,1,0)","v":{"$error":"#REF!"}},{"$f":"IF(#REF!>20,0,0)","v":{"$error":"#REF!"}},{"$f":"IF(#REF!=\"сх\",0,0)","v":{"$error":"#REF!"}},{"$f":"SUM(AP17:BJ17)","v":{"$error":"#REF!"}},{"$f":"IF(#REF!=1,45,0)","v":{"$error":"#REF!"}},{"$f":"IF(#REF!=2,42,0)","v":{"$error":"#REF!"}},{"$f":"IF(#REF!=3,40,0)","v":{"$error":"#REF!"}},{"$f":"IF(#REF!=4,38,0)","v":{"$error":"#REF!"}},{"$f":"IF(#REF!=5,36,0)","v":{"$error":"#REF!"}},{"$f":"IF(#REF!=6,35,0)","v":{"$error":"#REF!"}},{"$f":"IF(#REF!=7,34,0)","v":{"$error":"#REF!"}},{"$f":"IF(#REF!=8,33,0)","v":{"$error":"#REF!"}},{"$f":"IF(#REF!=9,32,0)","v":{"$error":"#REF!"}},{"$f":"IF(#REF!=10,31,0)","v":{"$error":"#REF!"}},{"$f":"IF(#REF!=11,30,0)","v":{"$error":"#REF!"}},{"$f":"IF(#REF!=12,29,0)","v":{"$error":"#REF!"}},{"$f":"IF(#REF!=13,28,0)","v":{"$error":"#REF!"}},{"$f":"IF(#REF!=14,27,0)","v":{"$error":"#REF!"}},{"$f":"IF(#REF!=15,26,0)","v":{"$error":"#REF!"}},{"$f":"IF(#REF!=16,25,0)","v":{"$error":"#REF!"}},{"$f":"IF(#REF!=17,24,0)","v":{"$error":"#REF!"}},{"$f":"IF(#REF!=18,23,0)","v":{"$error":"#REF!"}},{"$f":"IF(#REF!=19,22,0)","v":{"$error":"#REF!"}},{"$f":"IF(#REF!=20,21,0)","v":{"$error":"#REF!"}},{"$f":"IF(#REF!=21,20,0)","v":{"$error":"#REF!"}},{"$f":"IF(#REF!=22,19,0)","v":{"$error":"#REF!"}},{"$f":"IF(#REF!=23,18,0)","v":{"$error":"#REF!"}},{"$f":"IF(#REF!=24,17,0)","v":{"$error":"#REF!"}},{"$f":"IF(#REF!=25,16,0)","v":{"$error":"#REF!"}},{"$f":"IF(#REF!=26,15,0)","v":{"$error":"#REF!"}},{"$f":"IF(#REF!=27,14,0)","v":{"$error":"#REF!"}},{"$f":"IF(#REF!=28,13,0)","v":{"$error":"#REF!"}},{"$f":"IF(#REF!=29,12,0)","v":{"$error":"#REF!"}},{"$f":"IF(#REF!=30,11,0)","v":{"$error":"#REF!"}},{"$f":"IF(#REF!=31,10,0)","v":{"$error":"#REF!"}},{"$f":"IF(#REF!=32,9,0)","v":{"$error":"#REF!"}},{"$f":"IF(#REF!=33,8,0)","v":{"$error":"#REF!"}},{"$f":"IF(#REF!=34,7,0)","v":{"$error":"#REF!"}},{"$f":"IF(#REF!=35,6,0)","v":{"$error":"#REF!"}},{"$f":"IF(#REF!=36,5,0)","v":{"$error":"#REF!"}},{"$f":"IF(#REF!=37,4,0)","v":{"$error":"#REF!"}},{"$f":"IF(#REF!=38,3,0)","v":{"$error":"#REF!"}},{"$f":"IF(#REF!=39,2,0)","v":{"$error":"#REF!"}},{"$f":"IF(#REF!=40,1,0)","v":{"$error":"#REF!"}},{"$f":"IF(#REF!>20,0,0)","v":{"$error":"#REF!"}},{"$f":"IF(#REF!=\"сх\",0,0)","v":{"$error":"#REF!"}},{"$f":"SUM(BM17:DB17)","v":{"$error":"#REF!"}},{"$f":"IF(#REF!=1,45,0)","v":{"$error":"#REF!"}},{"$f":"IF(#REF!=2,42,0)","v":{"$error":"#REF!"}},{"$f":"IF(#REF!=3,40,0)","v":{"$error":"#REF!"}},{"$f":"IF(#REF!=4,38,0)","v":{"$error":"#REF!"}},{"$f":"IF(#REF!=5,36,0)","v":{"$error":"#REF!"}},{"$f":"IF(#REF!=6,35,0)","v":{"$error":"#REF!"}},{"$f":"IF(#REF!=7,34,0)","v":{"$error":"#REF!"}},{"$f":"IF(#REF!=8,33,0)","v":{"$error":"#REF!"}},{"$f":"IF(#REF!=9,32,0)","v":{"$error":"#REF!"}},{"$f":"IF(#REF!=10,31,0)","v":{"$error":"#REF!"}},{"$f":"IF(#REF!=11,30,0)","v":{"$error":"#REF!"}},{"$f":"IF(#REF!=12,29,0)","v":{"$error":"#REF!"}},{"$f":"IF(#REF!=13,28,0)","v":{"$error":"#REF!"}},{"$f":"IF(#REF!=14,27,0)","v":{"$error":"#REF!"}},{"$f":"IF(#REF!=15,26,0)","v":{"$error":"#REF!"}},{"$f":"IF(#REF!=16,25,0)","v":{"$error":"#REF!"}},{"$f":"IF(#REF!=17,24,0)","v":{"$error":"#REF!"}},{"$f":"IF(#REF!=18,23,0)","v":{"$error":"#REF!"}},{"$f":"IF(#REF!=19,22,0)","v":{"$error":"#REF!"}},{"$f":"IF(#REF!=20,21,0)","v":{"$error":"#REF!"}},{"$f":"IF(#REF!=21,20,0)","v":{"$error":"#REF!"}},{"$f":"IF(#REF!=22,19,0)","v":{"$error":"#REF!"}},{"$f":"IF(#REF!=23,18,0)","v":{"$error":"#REF!"}},{"$f":"IF(#REF!=24,17,0)","v":{"$error":"#REF!"}},{"$f":"IF(#REF!=25,16,0)","v":{"$error":"#REF!"}},{"$f":"IF(#REF!=26,15,0)","v":{"$error":"#REF!"}},{"$f":"IF(#REF!=27,14,0)","v":{"$error":"#REF!"}},{"$f":"IF(#REF!=28,13,0)","v":{"$error":"#REF!"}},{"$f":"IF(#REF!=29,12,0)","v":{"$error":"#REF!"}},{"$f":"IF(#REF!=30,11,0)","v":{"$error":"#REF!"}},{"$f":"IF(#REF!=31,10,0)","v":{"$error":"#REF!"}},{"$f":"IF(#REF!=32,9,0)","v":{"$error":"#REF!"}},{"$f":"IF(#REF!=33,8,0)","v":{"$error":"#REF!"}},{"$f":"IF(#REF!=34,7,0)","v":{"$error":"#REF!"}},{"$f":"IF(#REF!=35,6,0)","v":{"$error":"#REF!"}},{"$f":"IF(#REF!=36,5,0)","v":{"$error":"#REF!"}},{"$f":"IF(#REF!=37,4,0)","v":{"$error":"#REF!"}},{"$f":"IF(#REF!=38,3,0)","v":{"$error":"#REF!"}},{"$f":"IF(#REF!=39,2,0)","v":{"$error":"#REF!"}},{"$f":"IF(#REF!=40,1,0)","v":{"$error":"#REF!"}},{"$f":"IF(#REF!>20,0,0)","v":{"$error":"#REF!"}},{"$f":"IF(#REF!=\"сх\",0,0)","v":{"$error":"#REF!"}},{"$f":"SUM(DD17:ES17)","v":{"$error":"#REF!"}},null,{"$f":"IF(#REF!=\"сх\",\"ноль\",IF(#REF!>0,#REF!,\"Ноль\"))","v":{"$error":"#REF!"}},{"$f":"IF(#REF!=\"сх\",\"ноль\",IF(#REF!>0,#REF!,\"Ноль\"))","v":{"$error":"#REF!"}},null,{"$f":"MIN(EV17,EW17)","v":{"$error":"#REF!"}},{"$f":"IF(O17=#REF!,IF(#REF!<#REF!,#REF!,FD17),#REF!)","v":{"$error":"#REF!"}},{"$f":"IF(O17=#REF!,IF(#REF!<#REF!,0,1))","v":{"$error":"#REF!"}},{"$f":"IF(AND(EY17>=21,EY17<>0),EY17,IF(O17<#REF!,\"СТОП\",EZ17+FA17))","v":{"$error":"#REF!"}},null,15,16,null,{"$f":"IF(#REF!=1,25,0)","v":{"$error":"#REF!"}},{"$f":"IF(#REF!=2,22,0)","v":{"$error":"#REF!"}},{"$f":"IF(#REF!=3,20,0)","v":{"$error":"#REF!"}},{"$f":"IF(#REF!=4,18,0)","v":{"$error":"#REF!"}},{"$f":"IF(#REF!=5,16,0)","v":{"$error":"#REF!"}},{"$f":"IF(#REF!=6,15,0)","v":{"$error":"#REF!"}},{"$f":"IF(#REF!=7,14,0)","v":{"$error":"#REF!"}},{"$f":"IF(#REF!=8,13,0)","v":{"$error":"#REF!"}},{"$f":"IF(#REF!=9,12,0)","v":{"$error":"#REF!"}},{"$f":"IF(#REF!=10,11,0)","v":{"$error":"#REF!"}},{"$f":"IF(#REF!=11,10,0)","v":{"$error":"#REF!"}},{"$f":"IF(#REF!=12,9,0)","v":{"$error":"#REF!"}},{"$f":"IF(#REF!=13,8,0)","v":{"$error":"#REF!"}},{"$f":"IF(#REF!=14,7,0)","v":{"$error":"#REF!"}},{"$f":"IF(#REF!=15,6,0)","v":{"$error":"#REF!"}},{"$f":"IF(#REF!=16,5,0)","v":{"$error":"#REF!"}},{"$f":"IF(#REF!=17,4,0)","v":{"$error":"#REF!"}},{"$f":"IF(#REF!=18,3,0)","v":{"$error":"#REF!"}},{"$f":"IF(#REF!=19,2,0)","v":{"$error":"#REF!"}},{"$f":"IF(#REF!=20,1,0)","v":{"$error":"#REF!"}},{"$f":"IF(#REF!>20,0,0)","v":{"$error":"#REF!"}},{"$f":"IF(#REF!=\"сх\",0,0)","v":{"$error":"#REF!"}},{"$f":"SUM(FG17:GB17)","v":{"$error":"#REF!"}},{"$f":"IF(#REF!=1,25,0)","v":{"$error":"#REF!"}},{"$f":"IF(#REF!=2,22,0)","v":{"$error":"#REF!"}},{"$f":"IF(#REF!=3,20,0)","v":{"$error":"#REF!"}},{"$f":"IF(#REF!=4,18,0)","v":{"$error":"#REF!"}},{"$f":"IF(#REF!=5,16,0)","v":{"$error":"#REF!"}},{"$f":"IF(#REF!=6,15,0)","v":{"$error":"#REF!"}},{"$f":"IF(#REF!=7,14,0)","v":{"$error":"#REF!"}},{"$f":"IF(#REF!=8,13,0)","v":{"$error":"#REF!"}},{"$f":"IF(#REF!=9,12,0)","v":{"$error":"#REF!"}},{"$f":"IF(#REF!=10,11,0)","v":{"$error":"#REF!"}},{"$f":"IF(#REF!=11,10,0)","v":{"$error":"#REF!"}},{"$f":"IF(#REF!=12,9,0)","v":{"$error":"#REF!"}},{"$f":"IF(#REF!=13,8,0)","v":{"$error":"#REF!"}},{"$f":"IF(#REF!=14,7,0)","v":{"$error":"#REF!"}},{"$f":"IF(#REF!=15,6,0)","v":{"$error":"#REF!"}},{"$f":"IF(#REF!=16,5,0)","v":{"$error":"#REF!"}},{"$f":"IF(#REF!=17,4,0)","v":{"$error":"#REF!"}},{"$f":"IF(#REF!=18,3,0)","v":{"$error":"#REF!"}},{"$f":"IF(#REF!=19,2,0)","v":{"$error":"#REF!"}},{"$f":"IF(#REF!=20,1,0)","v":{"$error":"#REF!"}},{"$f":"IF(#REF!>20,0,0)","v":{"$error":"#REF!"}},{"$f":"IF(#REF!=\"сх\",0,0)","v":{"$error":"#REF!"}},{"$f":"SUM(GD17:GY17)","v":{"$error":"#REF!"}},{"$f":"IF(#REF!=1,100,0)","v":{"$error":"#REF!"}},{"$f":"IF(#REF!=2,98,0)","v":{"$error":"#REF!"}},{"$f":"IF(#REF!=3,95,0)","v":{"$error":"#REF!"}},{"$f":"IF(#REF!=4,93,0)","v":{"$error":"#REF!"}},{"$f":"IF(#REF!=5,90,0)","v":{"$error":"#REF!"}},{"$f":"IF(#REF!=6,88,0)","v":{"$error":"#REF!"}},{"$f":"IF(#REF!=7,85,0)","v":{"$error":"#REF!"}},{"$f":"IF(#REF!=8,83,0)","v":{"$error":"#REF!"}},{"$f":"IF(#REF!=9,80,0)","v":{"$error":"#REF!"}},{"$f":"IF(#REF!=10,78,0)","v":{"$error":"#REF!"}},{"$f":"IF(#REF!=11,75,0)","v":{"$error":"#REF!"}},{"$f":"IF(#REF!=12,73,0)","v":{"$error":"#REF!"}},{"$f":"IF(#REF!=13,70,0)","v":{"$error":"#REF!"}},{"$f":"IF(#REF!=14,68,0)","v":{"$error":"#REF!"}},{"$f":"IF(#REF!=15,65,0)","v":{"$error":"#REF!"}},{"$f":"IF(#REF!=16,63,0)","v":{"$error":"#REF!"}},{"$f":"IF(#REF!=17,60,0)","v":{"$error":"#REF!"}},{"$f":"IF(#REF!=18,58,0)","v":{"$error":"#REF!"}},{"$f":"IF(#REF!=19,55,0)","v":{"$error":"#REF!"}},{"$f":"IF(#REF!=20,53,0)","v":{"$error":"#REF!"}},{"$f":"IF(#REF!>20,0,0)","v":{"$error":"#REF!"}},{"$f":"IF(#REF!=\"сх\",0,0)","v":{"$error":"#REF!"}},{"$f":"SUM(HA17:HV17)","v":{"$error":"#REF!"}},{"$f":"IF(#REF!=1,100,0)","v":{"$error":"#REF!"}},{"$f":"IF(#REF!=2,98,0)","v":{"$error":"#REF!"}},{"$f":"IF(#REF!=3,95,0)","v":{"$error":"#REF!"}},{"$f":"IF(#REF!=4,93,0)","v":{"$error":"#REF!"}},{"$f":"IF(#REF!=5,90,0)","v":{"$error":"#REF!"}},{"$f":"IF(#REF!=6,88,0)","v":{"$error":"#REF!"}},{"$f":"IF(#REF!=7,85,0)","v":{"$error":"#REF!"}},{"$f":"IF(#REF!=8,83,0)","v":{"$error":"#REF!"}},{"$f":"IF(#REF!=9,80,0)","v":{"$error":"#REF!"}},{"$f":"IF(#REF!=10,78,0)","v":{"$error":"#REF!"}},{"$f":"IF(#REF!=11,75,0)","v":{"$error":"#REF!"}},{"$f":"IF(#REF!=12,73,0)","v":{"$error":"#REF!"}},{"$f":"IF(#REF!=13,70,0)","v":{"$error":"#REF!"}},{"$f":"IF(#REF!=14,68,0)","v":{"$error":"#REF!"}},{"$f":"IF(#REF!=15,65,0)","v":{"$error":"#REF!"}},{"$f":"IF(#REF!=16,63,0)","v":{"$error":"#REF!"}},{"$f":"IF(#REF!=17,60,0)","v":{"$error":"#REF!"}},{"$f":"IF(#REF!=18,58,0)","v":{"$error":"#REF!"}},{"$f":"IF(#REF!=19,55,0)","v":{"$error":"#REF!"}},{"$f":"IF(#REF!=20,53,0)","v":{"$error":"#REF!"}},{"$f":"IF(#REF!>20,0,0)","v":{"$error":"#REF!"}},{"$f":"IF(#REF!=\"сх\",0,0)","v":{"$error":"#REF!"}},{"$f":"SUM(HX17:IS17)","v":{"$error":"#REF!"}}]
[9,40,5,"Хоменко Валерий","кмс","г. Новый Уренгой, Ямало-Ненецкий АО","СТК \"Факел\"","LYNX",9,12,10,11,7,14,37,{"$f":"#REF!+#REF!","v":{"$error":"#REF!"}},null,null,{"$f":"IF(#REF!=1,25,0)","v":{"$error":"#REF!"}},{"$f":"IF(#REF!=2,22,0)","v":{"$error":"#REF!"}},{"$f":"IF(#REF!=3,20,0)","v":{"$error":"#REF!"}},{"$f":"IF(#REF!=4,18,0)","v":{"$error":"#REF!"}},{"$f":"IF(#REF!=5,16,0)","v":{"$error":"#REF!"}},{"$f":"IF(#REF!=6,15,0)","v":{"$error":"#REF!"}},{"$f":"IF(#REF!=7,14,0)","v":{"$error":"#REF!"}},{"$f":"IF(#REF!=8,13,0)","v":{"$error":"#REF!"}},{"$f":"IF(#REF!=9,12,0)","v":{"$error":"#REF!"}},{"$f":"IF(#REF!=10,11,0)","v":{"$error":"#REF!"}},{"$f":"IF(#REF!=11,10,0)","v":{"$error":"#REF!"}},{"$f":"IF(#REF!=12,9,0)","v":{"$error":"#REF!"}},{"$f":"IF(#REF!=13,8,0)","v":{"$error":"#REF!"}},{"$f":"IF(#REF!=14,7,0)","v":{"$error":"#REF!"}},{"$f":"IF(#REF!=15,6,0)","v":{"$error":"#REF!"}},{"$f":"IF(#REF!=16,5,0)","v":{"$error":"#REF!"}},{"$f":"IF(#REF!=17,4,0)","v":{"$error":"#REF!"}},{"$f":"IF(#REF!=18,3,0)","v":{"$error":"#REF!"}},{"$f":"IF(#REF!=19,2,0)","v":{"$error":"#REF!"}},{"$f":"IF(#REF!=20,1,0)","v":{"$error":"#REF!"}},{"$f":"IF(#REF!>20,0,0)","v":{"$error":"#REF!"}},{"$f":"IF(#REF!=\"сх\",0,0)","v":{"$error":"#REF!"}},{"$f":"SUM(S18:AM18)","v":{"$error":"#REF!"}},{"$f":"IF(#REF!=1,25,0)","v":{"$error":"#REF!"}},{"$f":"IF(#REF!=2,22,0)","v":{"$error":"#REF!"}},{"$f":"IF(#REF!=3,20,0)","v":{"$error":"#REF!"}},{"$f":"IF(#REF!=4,18,0)","v":{"$error":"#REF!"}},{"$f":"IF(#REF!=5,16,0)","v":{"$error":"#REF!"}},{"$f":"IF(#REF!=6,15,0)","v":{"$error":"#REF!"}},{"$f":"IF(#REF!=7,14,0)","v":{"$error":"#REF!"}},{"$f":"IF(#REF!=8,13,0)","v":{"$error":"#REF!"}},{"$f":"IF(#REF!=9,12,0)","v":{"$error":"#REF!"}},{"$f":"IF(#REF!=10,11,0)","v":{"$error":"#REF!"}},{"$f":"IF(#REF!=11,10,0)","v":{"$error":"#REF!"}},{"$f":"IF(#REF!=12,9,0)","v":{"$error":"#REF!"}},{"$f":"IF(#REF!=13,8,0)","v":{"$error":"#REF!"}},{"$f":"IF(#REF!=14,7,0)","v":{"$error":"#REF!"}},{"$f":"IF(#REF!=15,6,0)","v":{"$error":"#REF!"}},{"$f":"IF(#REF!=16,5,0)","v":{"$error":"#REF!"}},{"$f":"IF(#REF!=17,4,0)","v":{"$error":"#REF!"}},{"$f":"IF(#REF!=18,3,0)","v":{"$error":"#REF!"}},{"$f":"IF(#REF!=19,2,0)","v":{"$error":"#REF!"}},{"$f":"IF(#REF!=20,1,0)","v":{"$error":"#REF!"}},{"$f":"IF(#REF!>20,0,0)","v":{"$error":"#REF!"}},{"$f":"IF(#REF!=\"сх\",0,0)","v":{"$error":"#REF!"}},{"$f":"SUM(AP18:BJ18)","v":{"$error":"#REF!"}},{"$f":"IF(#REF!=1,45,0)","v":{"$error":"#REF!"}},{"$f":"IF(#REF!=2,42,0)","v":{"$error":"#REF!"}},{"$f":"IF(#REF!=3,40,0)","v":{"$error":"#REF!"}},{"$f":"IF(#REF!=4,38,0)","v":{"$error":"#REF!"}},{"$f":"IF(#REF!=5,36,0)","v":{"$error":"#REF!"}},{"$f":"IF(#REF!=6,35,0)","v":{"$error":"#REF!"}},{"$f":"IF(#REF!=7,34,0)","v":{"$error":"#REF!"}},{"$f":"IF(#REF!=8,33,0)","v":{"$error":"#REF!"}},{"$f":"IF(#REF!=9,32,0)","v":{"$error":"#REF!"}},{"$f":"IF(#REF!=10,31,0)","v":{"$error":"#REF!"}},{"$f":"IF(#REF!=11,30,0)","v":{"$error":"#REF!"}},{"$f":"IF(#REF!=12,29,0)","v":{"$error":"#REF!"}},{"$f":"IF(#REF!=13,28,0)","v":{"$error":"#REF!"}},{"$f":"IF(#REF!=14,27,0)","v":{"$error":"#REF!"}},{"$f":"IF(#REF!=15,26,0)","v":{"$error":"#REF!"}},{"$f":"IF(#REF!=16,25,0)","v":{"$error":"#REF!"}},{"$f":"IF(#REF!=17,24,0)","v":{"$error":"#REF!"}},{"$f":"IF(#REF!=18,23,0)","v":{"$error":"#REF!"}},{"$f":"IF(#REF!=19,22,0)","v":{"$error":"#REF!"}},{"$f":"IF(#REF!=20,21,0)","v":{"$error":"#REF!"}},{"$f":"IF(#REF!=21,20,0)","v":{"$error":"#REF!"}},{"$f":"IF(#REF!=22,19,0)","v":{"$error":"#REF!"}},{"$f":"IF(#REF!=23,18,0)","v":{"$error":"#REF!"}},{"$f":"IF(#REF!=24,17,0)","v":{"$error":"#REF!"}},{"$f":"IF(#REF!=25,16,0)","v":{"$error":"#REF!"}},{"$f":"IF(#REF!=26,15,0)","v":{"$error":"#REF!"}},{"$f":"IF(#REF!=27,14,0)","v":{"$error":"#REF!"}},{"$f":"IF(#REF!=28,13,0)","v":{"$error":"#REF!"}},{"$f":"IF(#REF!=29,12,0)","v":{"$error":"#REF!"}},{"$f":"IF(#REF!=30,11,0)","v":{"$error":"#REF!"}},{"$f":"IF(#REF!=31,10,0)","v":{"$error":"#REF!"}},{"$f":"IF(#REF!=32,9,0)","v":{"$error":"#REF!"}},{"$f":"IF(#REF!=33,8,0)","v":{"$error":"#REF!"}},{"$f":"IF(#REF!=34,7,0)","v":{"$error":"#REF!"}},{"$f":"IF(#REF!=35,6,0)","v":{"$error":"#REF!"}},{"$f":"IF(#REF!=36,5,0)","v":{"$error":"#REF!"}},{"$f":"IF(#REF!=37,4,0)","v":{"$error":"#REF!"}},{"$f":"IF(#REF!=38,3,0)","v":{"$error":"#REF!"}},{"$f":"IF(#REF!=39,2,0)","v":{"$error":"#REF!"}},{"$f":"IF(#REF!=40,1,0)","v":{"$error":"#REF!"}},{"$f":"IF(#REF!>20,0,0)","v":{"$error":"#REF!"}},{"$f":"IF(#REF!=\"сх\",0,0)","v":{"$error":"#REF!"}},{"$f":"SUM(BM18:DB18)","v":{"$error":"#REF!"}},{"$f":"IF(#REF!=1,45,0)","v":{"$error":"#REF!"}},{"$f":"IF(#REF!=2,42,0)","v":{"$error":"#REF!"}},{"$f":"IF(#REF!=3,40,0)","v":{"$error":"#REF!"}},{"$f":"IF(#REF!=4,38,0)","v":{"$error":"#REF!"}},{"$f":"IF(#REF!=5,36,0)","v":{"$error":"#REF!"}},{"$f":"IF(#REF!=6,35,0)","v":{"$error":"#REF!"}},{"$f":"IF(#REF!=7,34,0)","v":{"$error":"#REF!"}},{"$f":"IF(#REF!=8,33,0)","v":{"$error":"#REF!"}},{"$f":"IF(#REF!=9,32,0)","v":{"$error":"#REF!"}},{"$f":"IF(#REF!=10,31,0)","v":{"$error":"#REF!"}},{"$f":"IF(#REF!=11,30,0)","v":{"$error":"#REF!"}},{"$f":"IF(#REF!=12,29,0)","v":{"$error":"#REF!"}},{"$f":"IF(#REF!=13,28,0)","v":{"$error":"#REF!"}},{"$f":"IF(#REF!=14,27,0)","v":{"$error":"#REF!"}},{"$f":"IF(#REF!=15,26,0)","v":{"$error":"#REF!"}},{"$f":"IF(#REF!=16,25,0)","v":{"$error":"#REF!"}},{"$f":"IF(#REF!=17,24,0)","v":{"$error":"#REF!"}},{"$f":"IF(#REF!=18,23,0)","v":{"$error":"#REF!"}},{"$f":"IF(#REF!=19,22,0)","v":{"$error":"#REF!"}},{"$f":"IF(#REF!=20,21,0)","v":{"$error":"#REF!"}},{"$f":"IF(#REF!=21,20,0)","v":{"$error":"#REF!"}},{"$f":"IF(#REF!=22,19,0)","v":{"$error":"#REF!"}},{"$f":"IF(#REF!=23,18,0)","v":{"$error":"#REF!"}},{"$f":"IF(#REF!=24,17,0)","v":{"$error":"#REF!"}},{"$f":"IF(#REF!=25,16,0)","v":{"$error":"#REF!"}},{"$f":"IF(#REF!=26,15,0)","v":{"$error":"#REF!"}},{"$f":"IF(#REF!=27,14,0)","v":{"$error":"#REF!"}},{"$f":"IF(#REF!=28,13,0)","v":{"$error":"#REF!"}},{"$f":"IF(#REF!=29,12,0)","v":{"$error":"#REF!"}},{"$f":"IF(#REF!=30,11,0)","v":{"$error":"#REF!"}},{"$f":"IF(#REF!=31,10,0)","v":{"$error":"#REF!"}},{"$f":"IF(#REF!=32,9,0)","v":{"$error":"#REF!"}},{"$f":"IF(#REF!=33,8,0)","v":{"$error":"#REF!"}},{"$f":"IF(#REF!=34,7,0)","v":{"$error":"#REF!"}},{"$f":"IF(#REF!=35,6,0)","v":{"$error":"#REF!"}},{"$f":"IF(#REF!=36,5,0)","v":{"$error":"#REF!"}},{"$f":"IF(#REF!=37,4,0)","v":{"$error":"#REF!"}},{"$f":"IF(#REF!=38,3,0)","v":{"$error":"#REF!"}},{"$f":"IF(#REF!=39,2,0)","v":{"$error":"#REF!"}},{"$f":"IF(#REF!=40,1,0)","v":{"$error":"#REF!"}},{"$f":"IF(#REF!>20,0,0)","v":{"$error":"#REF!"}},{"$f":"IF(#REF!=\"сх\",0,0)","v":{"$error":"#REF!"}},{"$f":"SUM(DD18:ES18)","v":{"$error":"#REF!"}},null,{"$f":"IF(#REF!=\"сх\",\"ноль\",IF(#REF!>0,#REF!,\"Ноль\"))","v":{"$error":"#REF!"}},{"$f":"IF(#REF!=\"сх\",\"ноль\",IF(#REF!>0,#REF!,\"Ноль\"))","v":{"$error":"#REF!"}},null,{"$f":"MIN(EV18,EW18)","v":{"$error":"#REF!"}},{"$f":"IF(O18=#REF!,IF(#REF!<#REF!,#REF!,FD18),#REF!)","v":{"$error":"#REF!"}},{"$f":"IF(O18=#REF!,IF(#REF!<#REF!,0,1))","v":{"$error":"#REF!"}},{"$f":"IF(AND(EY18>=21,EY18<>0),EY18,IF(O18<#REF!,\"СТОП\",EZ18+FA18))","v":{"$error":"#REF!"}},null,15,16,null,{"$f":"IF(#REF!=1,25,0)","v":{"$error":"#REF!"}},{"$f":"IF(#REF!=2,22,0)","v":{"$error":"#REF!"}},{"$f":"IF(#REF!=3,20,0)","v":{"$error":"#REF!"}},{"$f":"IF(#REF!=4,18,0)","v":{"$error":"#REF!"}},{"$f":"IF(#REF!=5,16,0)","v":{"$error":"#REF!"}},{"$f":"IF(#REF!=6,15,0)","v":{"$error":"#REF!"}},{"$f":"IF(#REF!=7,14,0)","v":{"$error":"#REF!"}},{"$f":"IF(#REF!=8,13,0)","v":{"$error":"#REF!"}},{"$f":"IF(#REF!=9,12,0)","v":{"$error":"#REF!"}},{"$f":"IF(#REF!=10,11,0)","v":{"$error":"#REF!"}},{"$f":"IF(#REF!=11,10,0)","v":{"$error":"#REF!"}},{"$f":"IF(#REF!=12,9,0)","v":{"$error":"#REF!"}},{"$f":"IF(#REF!=13,8,0)","v":{"$error":"#REF!"}},{"$f":"IF(#REF!=14,7,0)","v":{"$error":"#REF!"}},{"$f":"IF(#REF!=15,6,0)","v":{"$error":"#REF!"}},{"$f":"IF(#REF!=16,5,0)","v":{"$error":"#REF!"}},{"$f":"IF(#REF!=17,4,0)","v":{"$error":"#REF!"}},{"$f":"IF(#REF!=18,3,0)","v":{"$error":"#REF!"}},{"$f":"IF(#REF!=19,2,0)","v":{"$error":"#REF!"}},{"$f":"IF(#REF!=20,1,0)","v":{"$error":"#REF!"}},{"$f":"IF(#REF!>20,0,0)","v":{"$error":"#REF!"}},{"$f":"IF(#REF!=\"сх\",0,0)","v":{"$error":"#REF!"}},{"$f":"SUM(FG18:GB18)","v":{"$error":"#REF!"}},{"$f":"IF(#REF!=1,25,0)","v":{"$error":"#REF!"}},{"$f":"IF(#REF!=2,22,0)","v":{"$error":"#REF!"}},{"$f":"IF(#REF!=3,20,0)","v":{"$error":"#REF!"}},{"$f":"IF(#REF!=4,18,0)","v":{"$error":"#REF!"}},{"$f":"IF(#REF!=5,16,0)","v":{"$error":"#REF!"}},{"$f":"IF(#REF!=6,15,0)","v":{"$error":"#REF!"}},{"$f":"IF(#REF!=7,14,0)","v":{"$error":"#REF!"}},{"$f":"IF(#REF!=8,13,0)","v":{"$error":"#REF!"}},{"$f":"IF(#REF!=9,12,0)","v":{"$error":"#REF!"}},{"$f":"IF(#REF!=10,11,0)","v":{"$error":"#REF!"}},{"$f":"IF(#REF!=11,10,0)","v":{"$error":"#REF!"}},{"$f":"IF(#REF!=12,9,0)","v":{"$error":"#REF!"}},{"$f":"IF(#REF!=13,8,0)","v":{"$error":"#REF!"}},{"$f":"IF(#REF!=14,7,0)","v":{"$error":"#REF!"}},{"$f":"IF(#REF!=15,6,0)","v":{"$error":"#REF!"}},{"$f":"IF(#REF!=16,5,0)","v":{"$error":"#REF!"}},{"$f":"IF(#REF!=17,4,0)","v":{"$error":"#REF!"}},{"$f":"IF(#REF!=18,3,0)","v":{"$error":"#REF!"}},{"$f":"IF(#REF!=19,2,0)","v":{"$error":"#REF!"}},{"$f":"IF(#REF!=20,1,0)","v":{"$error":"#REF!"}},{"$f":"IF(#REF!>20,0,0)","v":{"$error":"#REF!"}},{"$f":"IF(#REF!=\"сх\",0,0)","v":{"$error":"#REF!"}},{"$f":"SUM(GD18:GY18)","v":{"$error":"#REF!"}},{"$f":"IF(#REF!=1,100,0)","v":{"$error":"#REF!"}},{"$f":"IF(#REF!=2,98,0)","v":{"$error":"#REF!"}},{"$f":"IF(#REF!=3,95,0)","v":{"$error":"#REF!"}},{"$f":"IF(#REF!=4,93,0)","v":{"$error":"#REF!"}},{"$f":"IF(#REF!=5,90,0)","v":{"$error":"#REF!"}},{"$f":"IF(#REF!=6,88,0)","v":{"$error":"#REF!"}},{"$f":"IF(#REF!=7,85,0)","v":{"$error":"#REF!"}},{"$f":"IF(#REF!=8,83,0)","v":{"$error":"#REF!"}},{"$f":"IF(#REF!=9,80,0)","v":{"$error":"#REF!"}},{"$f":"IF(#REF!=10,78,0)","v":{"$error":"#REF!"}},{"$f":"IF(#REF!=11,75,0)","v":{"$error":"#REF!"}},{"$f":"IF(#REF!=12,73,0)","v":{"$error":"#REF!"}},{"$f":"IF(#REF!=13,70,0)","v":{"$error":"#REF!"}},{"$f":"IF(#REF!=14,68,0)","v":{"$error":"#REF!"}},{"$f":"IF(#REF!=15,65,0)","v":{"$error":"#REF!"}},{"$f":"IF(#REF!=16,63,0)","v":{"$error":"#REF!"}},{"$f":"IF(#REF!=17,60,0)","v":{"$error":"#REF!"}},{"$f":"IF(#REF!=18,58,0)","v":{"$error":"#REF!"}},{"$f":"IF(#REF!=19,55,0)","v":{"$error":"#REF!"}},{"$f":"IF(#REF!=20,53,0)","v":{"$error":"#REF!"}},{"$f":"IF(#REF!>20,0,0)","v":{"$error":"#REF!"}},{"$f":"IF(#REF!=\"сх\",0,0)","v":{"$error":"#REF!"}},{"$f":"SUM(HA18:HV18)","v":{"$error":"#REF!"}},{"$f":"IF(#REF!=1,100,0)","v":{"$error":"#REF!"}},{"$f":"IF(#REF!=2,98,0)","v":{"$error":"#REF!"}},{"$f":"IF(#REF!=3,95,0)","v":{"$error":"#REF!"}},{"$f":"IF(#REF!=4,93,0)","v":{"$error":"#REF!"}},{"$f":"IF(#REF!=5,90,0)","v":{"$error":"#REF!"}},{"$f":"IF(#REF!=6,88,0)","v":{"$error":"#REF!"}},{"$f":"IF(#REF!=7,85,0)","v":{"$error":"#REF!"}},{"$f":"IF(#REF!=8,83,0)","v":{"$error":"#REF!"}},{"$f":"IF(#REF!=9,80,0)","v":{"$error":"#REF!"}},{"$f":"IF(#REF!=10,78,0)","v":{"$error":"#REF!"}},{"$f":"IF(#REF!=11,75,0)","v":{"$error":"#REF!"}},{"$f":"IF(#REF!=12,73,0)","v":{"$error":"#REF!"}},{"$f":"IF(#REF!=13,70,0)","v":{"$error":"#REF!"}},{"$f":"IF(#REF!=14,68,0)","v":{"$error":"#REF!"}},{"$f":"IF(#REF!=15,65,0)","v":{"$error":"#REF!"}},{"$f":"IF(#REF!=16,63,0)","v":{"$error":"#REF!"}},{"$f":"IF(#REF!=17,60,0)","v":{"$error":"#REF!"}},{"$f":"IF(#REF!=18,58,0)","v":{"$error":"#REF!"}},{"$f":"IF(#REF!=19,55,0)","v":{"$error":"#REF!"}},{"$f":"IF(#REF!=20,53,0)","v":{"$error":"#REF!"}},{"$f":"IF(#REF!>20,0,0)","v":{"$error":"#REF!"}},{"$f":"IF(#REF!=\"сх\",0,0)","v":{"$error":"#REF!"}},{"$f":"SUM(HX18:IS18)","v":{"$error":"#REF!"}}]
[10,39,7,"Садрисламов Денис","I","г. Новый Уренгой, Ямало-Ненецкий АО","СТК \"Ямбург\"","LYNX",10,11,9,12,8,13,36,{"$f":"#REF!+#REF!","v":{"$error":"#REF!"}},null,null,{"$f":"IF(#REF!=1,25,0)","v":{"$error":"#REF!"}},{"$f":"IF(#REF!=2,22,0)","v":{"$error":"#REF!"}},{"$f":"IF(#REF!=3,20,0)","v":{"$error":"#REF!"}},{"$f":"IF(#REF!=4,18,0)","v":{"$error":"#REF!"}},{"$f":"IF(#REF!=5,16,0)","v":{"$error":"#REF!"}},{"$f":"IF(#REF!=6,15,0)","v":{"$error":"#REF!"}},{"$f":"IF(#REF!=7,14,0)","v":{"$error":"#REF!"}},{"$f":"IF(#REF!=8,13,0)","v":{"$error":"#REF!"}},{"$f":"IF(#REF!=9,12,0)","v":{"$error":"#REF!"}},{"$f":"IF(#REF!=10,11,0)","v":{"$error":"#REF!"}},{"$f":"IF(#REF!=11,10,0)","v":{"$error":"#REF!"}},{"$f":"IF(#REF!=12,9,0)","v":{"$error":"#REF!"}},{"$f":"IF(#REF!=13,8,0)","v":{"$error":"#REF!"}},{"$f":"IF(#REF!=14,7,0)","v":{"$error":"#REF!"}},{"$f":"IF(#REF!=15,6,0)","v":{"$error":"#REF!"}},{"$f":"IF(#REF!=16,5,0)","v":{"$error":"#REF!"}},{"$f":"IF(#REF!=17,4,0)","v":{"$error":"#REF!"}},{"$f":"IF(#REF!=18,3,0)","v":{"$error":"#REF!"}},{"$f":"IF(#REF!=19,2,0)","v":{"$error":"#REF!"}},{"$f":"IF(#REF!=20,1,0)","v":{"$error":"#REF!"}},{"$f":"IF(#REF!>20,0,0)","v":{"$error":"#REF!"}},{"$f":"IF(#REF!=\"сх\",0,0)","v":{"$error":"#REF!"}},{"$f":"SUM(S19:AM19)","v":{"$error":"#REF!"}},{"$f":"IF(#REF!=1,25,0)","v":{"$error":"#REF!"}},{"$f":"IF(#REF!=2,22,0)","v":{"$error":"#REF!"}},{"$f":"IF(#REF!=3,20,0)","v":{"$error":"#REF!"}},{"$f":"IF(#REF!=4,18,0)","v":{"$error":"#REF!"}},{"$f":"IF(#REF!=5,16,0)","v":{"$error":"#REF!"}},{"$f":"IF(#REF!=6,15,0)","v":{"$error":"#REF!"}},{"$f":"IF(#REF!=7,14,0)","v":{"$error":"#REF!"}},{"$f":"IF(#REF!=8,13,0)","v":{"$error":"#REF!"}},{"$f":"IF(#REF!=9,12,0)","v":{"$error":"#REF!"}},{"$f":"IF(#REF!=10,11,0)","v":{"$error":"#REF!"}},{"$f":"IF(#REF!=11,10,0)","v":{"$error":"#REF!"}},{"$f":"IF(#REF!=12,9,0)","v":{"$error":"#REF!"}},{"$f":"IF(#REF!=13,8,0)","v":{"$error":"#REF!"}},{"$f":"IF(#REF!=14,7,0)","v":{"$error":"#REF!"}},{"$f":"IF(#REF!=15,6,0)","v":{"$error":"#REF!"}},{"$f":"IF(#REF!=16,5,0)","v":{"$error":"#REF!"}},{"$f":"IF(#REF!=17,4,0)","v":{"$error":"#REF!"}},{"$f":"IF(#REF!=18,3,0)","v":{"$error":"#REF!"}},{"$f":"IF(#REF!=19,2,0)","v":{"$error":"#REF!"}},{"$f":"IF(#REF!=20,1,0)","v":{"$error":"#REF!"}},{"$f":"IF(#REF!>20,0,0)","v":{"$error":"#REF!"}},{"$f":"IF(#REF!=\"сх\",0,0)","v":{"$error":"#REF!"}},{"$f":"SUM(AP19:BJ19)","v":{"$error":"#REF!"}},{"$f":"IF(#REF!=1,45,0)","v":{"$error":"#REF!"}},{"$f":"IF(#REF!=2,42,0)","v":{"$error":"#REF!"}},{"$f":"IF(#REF!=3,40,0)","v":{"$error":"#REF!"}},{"$f":"IF(#REF!=4,38,0)","v":{"$error":"#REF!"}},{"$f":"IF(#REF!=5,36,0)","v":{"$error":"#REF!"}},{"$f":"IF(#REF!=6,35,0)","v":{"$error":"#REF!"}},{"$f":"IF(#REF!=7,34,0)","v":{"$error":"#REF!"}},{"$f":"IF(#REF!=8,33,0)","v":{"$error":"#REF!"}},{"$f":"IF(#REF!=9,32,0)","v":{"$error":"#REF!"}},{"$f":"IF(#REF!=10,31,0)","v":{"$error":"#REF!"}},{"$f":"IF(#REF!=11,30,0)","v":{"$error":"#REF!"}},{"$f":"IF(#REF!=12,29,0)","v":{"$error":"#REF!"}},{"$f":"IF(#REF!=13,28,0)","v":{"$error":"#REF!"}},{"$f":"IF(#REF!=14,27,0)","v":{"$error":"#REF!"}},{"$f":"IF(#REF!=15,26,0)","v":{"$error":"#REF!"}},{"$f":"IF(#REF!=16,25,0)","v":{"$error":"#REF!"}},{"$f":"IF(#REF!=17,24,0)","v":{"$error":"#REF!"}},{"$f":"IF(#REF!=18,23,0)","v":{"$error":"#REF!"}},{"$f":"IF(#REF!=19,22,0)","v":{"$error":"#REF!"}},{"$f":"IF(#REF!=20,21,0)","v":{"$error":"#REF!"}},{"$f":"IF(#REF!=21,20,0)","v":{"$error":"#REF!"}},{"$f":"IF(#REF!=22,19,0)","v":{"$error":"#REF!"}},{"$f":"IF(#REF!=23,18,0)","v":{"$error":"#REF!"}},{"$f":"IF(#REF!=24,17,0)","v":{"$error":"#REF!"}},{"$f":"IF(#REF!=25,16,0)","v":{"$error":"#REF!"}},{"$f":"IF(#REF!=26,15,0)","v":{"$error":"#REF!"}},{"$f":"IF(#REF!=27,14,0)","v":{"$error":"#REF!"}},{"$f":"IF(#REF!=28,13,0)","v":{"$error":"#REF!"}},{"$f":"IF(#REF!=29,12,0)","v":{"$error":"#REF!"}},{"$f":"IF(#REF!=30,11,0)","v":{"$error":"#REF!"}},{"$f":"IF(#REF!=31,10,0)","v":{"$error":"#REF!"}},{"$f":"IF(#REF!=32,9,0)","v":{"$error":"#REF!"}},{"$f":"IF(#REF!=33,8,0)","v":{"$error":"#REF!"}},{"$f":"IF(#REF!=34,7,0)","v":{"$error":"#REF!"}},{"$f":"IF(#REF!=35,6,0)","v":{"$error":"#REF!"}},{"$f":"IF(#REF!=36,5,0)","v":{"$error":"#REF!"}},{"$f":"IF(#REF!=37,4,0)","v":{"$error":"#REF!"}},{"$f":"IF(#REF!=38,3,0)","v":{"$error":"#REF!"}},{"$f":"IF(#REF!=39,2,0)","v":{"$error":"#REF!"}},{"$f":"IF(#REF!=40,1,0)","v":{"$error":"#REF!"}},{"$f":"IF(#REF!>20,0,0)","v":{"$error":"#REF!"}},{"$f":"IF(#REF!=\"сх\",0,0)","v":{"$error":"#REF!"}},{"$f":"SUM(BM19:DB19)","v":{"$error":"#REF!"}},{"$f":"IF(#REF!=1,45,0)","v":{"$error":"#REF!"}},{"$f":"IF(#REF!=2,42,0)","v":{"$error":"#REF!"}},{"$f":"IF(#REF!=3,40,0)","v":{"$error":"#REF!"}},{"$f":"IF(#REF!=4,38,0)","v":{"$error":"#REF!"}},{"$f":"IF(#REF!=5,36,0)","v":{"$error":"#REF!"}},{"$f":"IF(#REF!=6,35,0)","v":{"$error":"#REF!"}},{"$f":"IF(#REF!=7,34,0)","v":{"$error":"#REF!"}},{"$f":"IF(#REF!=8,33,0)","v":{"$error":"#REF!"}},{"$f":"IF(#REF!=9,32,0)","v":{"$error":"#REF!"}},{"$f":"IF(#REF!=10,31,0)","v":{"$error":"#REF!"}},{"$f":"IF(#REF!=11,30,0)","v":{"$error":"#REF!"}},{"$f":"IF(#REF!=12,29,0)","v":{"$error":"#REF!"}},{"$f":"IF(#REF!=13,28,0)","v":{"$error":"#REF!"}},{"$f":"IF(#REF!=14,27,0)","v":{"$error":"#REF!"}},{"$f":"IF(#REF!=15,26,0)","v":{"$error":"#REF!"}},{"$f":"IF(#REF!=16,25,0)","v":{"$error":"#REF!"}},{"$f":"IF(#REF!=17,24,0)","v":{"$error":"#REF!"}},{"$f":"IF(#REF!=18,23,0)","v":{"$error":"#REF!"}},{"$f":"IF(#REF!=19,22,0)","v":{"$error":"#REF!"}},{"$f":"IF(#REF!=20,21,0)","v":{"$error":"#REF!"}},{"$f":"IF(#REF!=21,20,0)","v":{"$error":"#REF!"}},{"$f":"IF(#REF!=22,19,0)","v":{"$error":"#REF!"}},{"$f":"IF(#REF!=23,18,0)","v":{"$error":"#REF!"}},{"$f":"IF(#REF!=24,17,0)","v":{"$error":"#REF!"}},{"$f":"IF(#REF!=25,16,0)","v":{"$error":"#REF!"}},{"$f":"IF(#REF!=26,15,0)","v":{"$error":"#REF!"}},{"$f":"IF(#REF!=27,14,0)","v":{"$error":"#REF!"}},{"$f":"IF(#REF!=28,13,0)","v":{"$error":"#REF!"}},{"$f":"IF(#REF!=29,12,0)","v":{"$error":"#REF!"}},{"$f":"IF(#REF!=30,11,0)","v":{"$error":"#REF!"}},{"$f":"IF(#REF!=31,10,0)","v":{"$error":"#REF!"}},{"$f":"IF(#REF!=32,9,0)","v":{"$error":"#REF!"}},{"$f":"IF(#REF!=33,8,0)","v":{"$error":"#REF!"}},{"$f":"IF(#REF!=34,7,0)","v":{"$error":"#REF!"}},{"$f":"IF(#REF!=35,6,0)","v":{"$error":"#REF!"}},{"$f":"IF(#REF!=36,5,0)","v":{"$error":"#REF!"}},{"$f":"IF(#REF!=37,4,0)","v":{"$error":"#REF!"}},{"$f":"IF(#REF!=38,3,0)","v":{"$error":"#REF!"}},{"$f":"IF(#REF!=39,2,0)","v":{"$error":"#REF!"}},{"$f":"IF(#REF!=40,1,0)","v":{"$error":"#REF!"}},{"$f":"IF(#REF!>20,0,0)","v":{"$error":"#REF!"}},{"$f":"IF(#REF!=\"сх\",0,0)","v":{"$error":"#REF!"}},{"$f":"SUM(DD19:ES19)","v":{"$error":"#REF!"}},null,{"$f":"IF(#REF!=\"сх\",\"ноль\",IF(#REF!>0,#REF!,\"Ноль\"))","v":{"$error":"#REF!"}},{"$f":"IF(#REF!=\"сх\",\"ноль\",IF(#REF!>0,#REF!,\"Ноль\"))","v":{"$error":"#REF!"}},null,{"$f":"MIN(EV19,EW19)","v":{"$error":"#REF!"}},{"$f":"IF(O19=#REF!,IF(#REF!<#REF!,#REF!,FD19),#REF!)","v":{"$error":"#REF!"}},{"$f":"IF(O19=#REF!,IF(#REF!<#REF!,0,1))","v":{"$error":"#REF!"}},{"$f":"IF(AND(EY19>=21,EY19<>0),EY19,IF(O19<#REF!,\"СТОП\",EZ19+FA19))","v":{"$error":"#REF!"}},null,15,16,null,{"$f":"IF(#REF!=1,25,0)","v":{"$error":"#REF!"}},{"$f":"IF(#REF!=2,22,0)","v":{"$error":"#REF!"}},{"$f":"IF(#REF!=3,20,0)","v":{"$error":"#REF!"}},{"$f":"IF(#REF!=4,18,0)","v":{"$error":"#REF!"}},{"$f":"IF(#REF!=5,16,0)","v":{"$error":"#REF!"}},{"$f":"IF(#REF!=6,15,0)","v":{"$error":"#REF!"}},{"$f":"IF(#REF!=7,14,0)","v":{"$error":"#REF!"}},{"$f":"IF(#REF!=8,13,0)","v":{"$error":"#REF!"}},{"$f":"IF(#REF!=9,12,0)","v":{"$error":"#REF!"}},{"$f":"IF(#REF!=10,11,0)","v":{"$error":"#REF!"}},{"$f":"IF(#REF!=11,10,0)","v":{"$error":"#REF!"}},{"$f":"IF(#REF!=12,9,0)","v":{"$error":"#REF!"}},{"$f":"IF(#REF!=13,8,0)","v":{"$error":"#REF!"}},{"$f":"IF(#REF!=14,7,0)","v":{"$error":"#REF!"}},{"$f":"IF(#REF!=15,6,0)","v":{"$error":"#REF!"}},{"$f":"IF(#REF!=16,5,0)","v":{"$error":"#REF!"}},{"$f":"IF(#REF!=17,4,0)","v":{"$error":"#REF!"}},{"$f":"IF(#REF!=18,3,0)","v":{"$error":"#REF!"}},{"$f":"IF(#REF!=19,2,0)","v":{"$error":"#REF!"}},{"$f":"IF(#REF!=20,1,0)","v":{"$error":"#REF!"}},{"$f":"IF(#REF!>20,0,0)","v":{"$error":"#REF!"}},{"$f":"IF(#REF!=\"сх\",0,0)","v":{"$error":"#REF!"}},{"$f":"SUM(FG19:GB19)","v":{"$error":"#REF!"}},{"$f":"IF(#REF!=1,25,0)","v":{"$error":"#REF!"}},{"$f":"IF(#REF!=2,22,0)","v":{"$error":"#REF!"}},{"$f":"IF(#REF!=3,20,0)","v":{"$error":"#REF!"}},{"$f":"IF(#REF!=4,18,0)","v":{"$error":"#REF!"}},{"$f":"IF(#REF!=5,16,0)","v":{"$error":"#REF!"}},{"$f":"IF(#REF!=6,15,0)","v":{"$error":"#REF!"}},{"$f":"IF(#REF!=7,14,0)","v":{"$error":"#REF!"}},{"$f":"IF(#REF!=8,13,0)","v":{"$error":"#REF!"}},{"$f":"IF(#REF!=9,12,0)","v":{"$error":"#REF!"}},{"$f":"IF(#REF!=10,11,0)","v":{"$error":"#REF!"}},{"$f":"IF(#REF!=11,10,0)","v":{"$error":"#REF!"}},{"$f":"IF(#REF!=12,9,0)","v":{"$error":"#REF!"}},{"$f":"IF(#REF!=13,8,0)","v":{"$error":"#REF!"}},{"$f":"IF(#REF!=14,7,0)","v":{"$error":"#REF!"}},{"$f":"IF(#REF!=15,6,0)","v":{"$error":"#REF!"}},{"$f":"IF(#REF!=16,5,0)","v":{"$error":"#REF!"}},{"$f":"IF(#REF!=17,4,0)","v":{"$error":"#REF!"}},{"$f":"IF(#REF!=18,3,0)","v":{"$error":"#REF!"}},{"$f":"IF(#REF!=19,2,0)","v":{"$error":"#REF!"}},{"$f":"IF(#REF!=20,1,0)","v":{"$error":"#REF!"}},{"$f":"IF(#REF!>20,0,0)","v":{"$error":"#REF!"}},{"$f":"IF(#REF!=\"сх\",0,0)","v":{"$error":"#REF!"}},{"$f":"SUM(GD19:GY19)","v":{"$error":"#REF!"}},{"$f":"IF(#REF!=1,100,0)","v":{"$error":"#REF!"}},{"$f":"IF(#REF!=2,98,0)","v":{"$error":"#REF!"}},{"$f":"IF(#REF!=3,95,0)","v":{"$error":"#REF!"}},{"$f":"IF(#REF!=4,93,0)","v":{"$error":"#REF!"}},{"$f":"IF(#REF!=5,90,0)","v":{"$error":"#REF!"}},{"$f":"IF(#REF!=6,88,0)","v":{"$error":"#REF!"}},{"$f":"IF(#REF!=7,85,0)","v":{"$error":"#REF!"}},{"$f":"IF(#REF!=8,83,0)","v":{"$error":"#REF!"}},{"$f":"IF(#REF!=9,80,0)","v":{"$error":"#REF!"}},{"$f":"IF(#REF!=10,78,0)","v":{"$error":"#REF!"}},{"$f":"IF(#REF!=11,75,0)","v":{"$error":"#REF!"}},{"$f":"IF(#REF!=12,73,0)","v":{"$error":"#REF!"}},{"$f":"IF(#REF!=13,70,0)","v":{"$error":"#REF!"}},{"$f":"IF(#REF!=14,68,0)","v":{"$error":"#REF!"}},{"$f":"IF(#REF!=15,65,0)","v":{"$error":"#REF!"}},{"$f":"IF(#REF!=16,63,0)","v":{"$error":"#REF!"}},{"$f":"IF(#REF!=17,60,0)","v":{"$error":"#REF!"}},{"$f":"IF(#REF!=18,58,0)","v":{"$error":"#REF!"}},{"$f":"IF(#REF!=19,55,0)","v":{"$error":"#REF!"}},{"$f":"IF(#REF!=20,53,0)","v":{"$error":"#REF!"}},{"$f":"IF(#REF!>20,0,0)","v":{"$error":"#REF!"}},{"$f":"IF(#REF!=\"сх\",0,0)","v":{"$error":"#REF!"}},{"$f":"SUM(HA19:HV19)","v":{"$error":"#REF!"}},{"$f":"IF(#REF!=1,100,0)","v":{"$error":"#REF!"}},{"$f":"IF(#REF!=2,98,0)","v":{"$error":"#REF!"}},{"$f":"IF(#REF!=3,95,0)","v":{"$error":"#REF!"}},{"$f":"IF(#REF!=4,93,0)","v":{"$error":"#REF!"}},{"$f":"IF(#REF!=5,90,0)","v":{"$error":"#REF!"}},{"$f":"IF(#REF!=6,88,0)","v":{"$error":"#REF!"}},{"$f":"IF(#REF!=7,85,0)","v":{"$error":"#REF!"}},{"$f":"IF(#REF!=8,83,0)","v":{"$error":"#REF!"}},{"$f":"IF(#REF!=9,80,0)","v":{"$error":"#REF!"}},{"$f":"IF(#REF!=10,78,0)","v":{"$error":"#REF!"}},{"$f":"IF(#REF!=11,75,0)","v":{"$error":"#REF!"}},{"$f":"IF(#REF!=12,73,0)","v":{"$error":"#REF!"}},{"$f":"IF(#REF!=13,70,0)","v":{"$error":"#REF!"}},{"$f":"IF(#REF!=14,68,0)","v":{"$error":"#REF!"}},{"$f":"IF(#REF!=15,65,0)","v":{"$error":"#REF!"}},{"$f":"IF(#REF!=16,63,0)","v":{"$error":"#REF!"}},{"$f":"IF(#REF!=17,60,0)","v":{"$error":"#REF!"}},{"$f":"IF(#REF!=18,58,0)","v":{"$error":"#REF!"}},{"$f":"IF(#REF!=19,55,0)","v":{"$error":"#REF!"}},{"$f":"IF(#REF!=20,53,0)","v":{"$error":"#REF!"}},{"$f":"IF(#REF!>20,0,0)","v":{"$error":"#REF!"}},{"$f":"IF(#REF!=\"сх\",0,0)","v":{"$error":"#REF!"}},{"$f":"SUM(HX19:IS19)","v":{"$error":"#REF!"}}]
["-",0,8,"Карпман Яков","кмс","г. Ярославль","СТК \"Атлант\"","LYNX","н/с",0,"н/с",0,"н/с",0,0,{"$f":"#REF!+#REF!","v":{"$error":"#REF!"}},null,null,{"$f":"IF(#REF!=1,25,0)","v":{"$error":"#REF!"}},{"$f":"IF(#REF!=2,22,0)","v":{"$error":"#REF!"}},{"$f":"IF(#REF!=3,20,0)","v":{"$error":"#REF!"}},{"$f":"IF(#REF!=4,18,0)","v":{"$error":"#REF!"}},{"$f":"IF(#REF!=5,16,0)","v":{"$error":"#REF!"}},{"$f":"IF(#REF!=6,15,0)","v":{"$error":"#REF!"}},{"$f":"IF(#REF!=7,14,0)","v":{"$error":"#REF!"}},{"$f":"IF(#REF!=8,13,0)","v":{"$error":"#REF!"}},{"$f":"IF(#REF!=9,12,0)","v":{"$error":"#REF!"}},{"$f":"IF(#REF!=10,11,0)","v":{"$error":"#REF!"}},{"$f":"IF(#REF!=11,10,0)","v":{"$error":"#REF!"}},{"$f":"IF(#REF!=12,9,0)","v":{"$error":"#REF!"}},{"$f":"IF(#REF!=13,8,0)","v":{"$error":"#REF!"}},{"$f":"IF(#REF!=14,7,0)","v":{"$error":"#REF!"}},{"$f":"IF(#REF!=15,6,0)","v":{"$error":"#REF!"}},{"$f":"IF(#REF!=16,5,0)","v":{"$error":"#REF!"}},{"$f":"IF(#REF!=17,4,0)","v":{"$error":"#REF!"}},{"$f":"IF(#REF!=18,3,0)","v":{"$error":"#REF!"}},{"$f":"IF(#REF!=19,2,0)","v":{"$error":"#REF!"}},{"$f":"IF(#REF!=20,1,0)","v":{"$error":"#REF!"}},{"$f":"IF(#REF!>20,0,0)","v":{"$error":"#REF!"}},{"$f":"IF(#REF!=\"сх\",0,0)","v":{"$error":"#REF!"}},{"$error":"#REF!"},{"$f":"IF(#REF!=1,25,0)","v":{"$error":"#REF!"}},{"$f":"IF(#REF!=2,22,0)","v":{"$error":"#REF!"}},{"$f":"IF(#REF!=3,20,0)","v":{"$error":"#REF!"}},{"$f":"IF(#REF!=4,18,0)","v":{"$error":"#REF!"}},{"$f":"IF(#REF!=5,16,0)","v":{"$error":"#REF!"}},{"$f":"IF(#REF!=6,15,0)","v":{"$error":"#REF!"}},{"$f":"IF(#REF!=7,14,0)","v":{"$error":"#REF!"}},{"$f":"IF(#REF!=8,13,0)","v":{"$error":"#REF!"}},{"$f":"IF(#REF!=9,12,0)","v":{"$error":"#REF!"}},{"$f":"IF(#REF!=10,11,0)","v":{"$error":"#REF!"}},{"$f":"IF(#REF!=11,10,0)","v":{"$error":"#REF!"}},{"$f":"IF(#REF!=12,9,0)","v":{"$error":"#REF!"}},{"$f":"IF(#REF!=13,8,0)","v":{"$error":"#REF!"}},{"$f":"IF(#REF!=14,7,0)","v":{"$error":"#REF!"}},{"$f":"IF(#REF!=15,6,0)","v":{"$error":"#REF!"}},{"$f":"IF(#REF!=16,5,0)","v":{"$error":"#REF!"}},{"$f":"IF(#REF!=17,4,0)","v":{"$error":"#REF!"}},{"$f":"IF(#REF!=18,3,0)","v":{"$error":"#REF!"}},{"$f":"IF(#REF!=19,2,0)","v":{"$error":"#REF!"}},{"$f":"IF(#REF!=20,1,0)","v":{"$error":"#REF!"}},{"$f":"IF(#REF!>20,0,0)","v":{"$error":"#REF!"}},{"$f":"IF(#REF!=\"сх\",0,0)","v":{"$error":"#REF!"}},{"$error":"#REF!"},{"$f":"IF(#REF!=1,45,0)","v":{"$error":"#REF!"}},{"$f":"IF(#REF!=2,42,0)","v":{"$error":"#REF!"}},{"$f":"IF(#REF!=3,40,0)","v":{"$error":"#REF!"}},{"$f":"IF(#REF!=4,38,0)","v":{"$error":"#REF!"}},{"$f":"IF(#REF!=5,36,0)","v":{"$error":"#REF!"}},{"$f":"IF(#REF!=6,35,0)","v":{"$error":"#REF!"}},{"$f":"IF(#REF!=7,34,0)","v":{"$error":"#REF!"}},{"$f":"IF(#REF!=8,33,0)","v":{"$error":"#REF!"}},{"$f":"IF(#REF!=9,32,0)","v":{"$error":"#REF!"}},{"$f":"IF(#REF!=10,31,0)","v":{"$error":"#REF!"}},{"$f":"IF(#REF!=11,30,0)","v":{"$error":"#REF!"}},{"$f":"IF(#REF!=12,29,0)","v":{"$error":"#REF!"}},{"$f":"IF(#REF!=13,28,0)","v":{"$error":"#REF!"}},{"$f":"IF(#REF!=14,27,0)","v":{"$error":"#REF!"}},{"$f":"IF(#REF!=15,26,0)","v":{"$error":"#REF!"}},{"$f":"IF(#REF!=16,25,0)","v":{"$error":"#REF!"}},{"$f":"IF(#REF!=17,24,0)","v":{"$error":"#REF!"}},{"$f":"IF(#REF!=18,23,0)","v":{"$error":"#REF!"}},{"$f":"IF(#REF!=19,22,0)","v":{"$error":"#REF!"}},{"$f":"IF(#REF!=20,21,0)","v":{"$error":"#REF!"}},{"$f":"IF(#REF!=21,20,0)","v":{"$error":"#REF!"}},{"$f":"IF(#REF!=22,19,0)","v":{"$error":"#REF!"}},{"$f":"IF(#REF!=23,18,0)","v":{"$error":"#REF!"}},{"$f":"IF(#REF!=24,17,0)","v":{"$error":"#REF!"}},{"$f":"IF(#REF!=25,16,0)","v":{"$error":"#REF!"}},{"$f":"IF(#REF!=26,15,0)","v":{"$error":"#REF!"}},{"$f":"IF(#REF!=27,14,0)","v":{"$error":"#REF!"}},{"$f":"IF(#REF!=28,13,0)","v":{"$error":"#REF!"}},{"$f":"IF(#REF!=29,12,0)","v":{"$error":"#REF!"}},{"$f":"IF(#REF!=30,11,0)","v":{"$error":"#REF!"}},{"$f":"IF(#REF!=31,10,0)","v":{"$error":"#REF!"}},{"$f":"IF(#REF!=32,9,0)","v":{"$error":"#REF!"}},{"$f":"IF(#REF!=33,8,0)","v":{"$error":"#REF!"}},{"$f":"IF(#REF!=34,7,0)","v":{"$error":"#REF!"}},{"$f":"IF(#REF!=35,6,0)","v":{"$error":"#REF!"}},{"$f":"IF(#REF!=36,5,0)","v":{"$error":"#REF!"}},{"$f":"IF(#REF!=37,4,0)","v":{"$error":"#REF!"}},{"$f":"IF(#REF!=38,3,0)","v":{"$error":"#REF!"}},{"$f":"IF(#REF!=39,2,0)","v":{"$error":"#REF!"}},{"$f":"IF(#REF!=40,1,0)","v":{"$error":"#REF!"}},{"$f":"IF(#REF!>20,0,0)","v":{"$error":"#REF!"}},{"$f":"IF(#REF!=\"сх\",0,0)","v":{"$error":"#REF!"}},{"$error":"#REF!"},{"$f":"IF(#REF!=1,45,0)","v":{"$error":"#REF!"}},{"$f":"IF(#REF!=2,42,0)","v":{"$error":"#REF!"}},{"$f":"IF(#REF!=3,40,0)","v":{"$error":"#REF!"}},{"$f":"IF(#REF!=4,38,0)","v":{"$error":"#REF!"}},{"$f":"IF(#REF!=5,36,0)","v":{"$error":"#REF!"}},{"$f":"IF(#REF!=6,35,0)","v":{"$error":"#REF!"}},{"$f":"IF(#REF!=7,34,0)","v":{"$error":"#REF!"}},{"$f":"IF(#REF!=8,33,0)","v":{"$error":"#REF!"}},{"$f":"IF(#REF!=9,32,0)","v":{"$error":"#REF!"}},{"$f":"IF(#REF!=10,31,0)","v":{"$error":"#REF!"}},{"$f":"IF(#REF!=11,30,0)","v":{"$error":"#REF!"}},{"$f":"IF(#REF!=12,29,0)","v":{"$error":"#REF!"}},{"$f":"IF(#REF!=13,28,0)","v":{"$error":"#REF!"}},{"$f":"IF(#REF!=14,27,0)","v":{"$error":"#REF!"}},{"$f":"IF(#REF!=15,26,0)","v":{"$error":"#REF!"}},{"$f":"IF(#REF!=16,25,0)","v":{"$error":"#REF!"}},{"$f":"IF(#REF!=17,24,0)","v":{"$error":"#REF!"}},{"$f":"IF(#REF!=18,23,0)","v":{"$error":"#REF!"}},{"$f":"IF(#REF!=19,22,0)","v":{"$error":"#REF!"}},{"$f":"IF(#REF!=20,21,0)","v":{"$error":"#REF!"}},{"$f":"IF(#REF!=21,20,0)","v":{"$error":"#REF!"}},{"$f":"IF(#REF!=22,19,0)","v":{"$error":"#REF!"}},{"$f":"IF(#REF!=23,18,0)","v":{"$error":"#REF!"}},{"$f":"IF(#REF!=24,17,0)","v":{"$error":"#REF!"}},{"$f":"IF(#REF!=25,16,0)","v":{"$error":"#REF!"}},{"$f":"IF(#REF!=26,15,0)","v":{"$error":"#REF!"}},{"$f":"IF(#REF!=27,14,0)","v":{"$error":"#REF!"}},{"$f":"IF(#REF!=28,13,0)","v":{"$error":"#REF!"}},{"$f":"IF(#REF!=29,12,0)","v":{"$error":"#REF!"}},{"$f":"IF(#REF!=30,11,0)","v":{"$error":"#REF!"}},{"$f":"IF(#REF!=31,10,0)","v":{"$error":"#REF!"}},{"$f":"IF(#REF!=32,9,0)","v":{"$error":"#REF!"}},{"$f":"IF(#REF!=33,8,0)","v":{"$error":"#REF!"}},{"$f":"IF(#REF!=34,7,0)","v":{"$error":"#REF!"}},{"$f":"IF(#REF!=35,6,0)","v":{"$error":"#REF!"}},{"$f":"IF(#REF!=36,5,0)","v":{"$error":"#REF!"}},{"$f":"IF(#REF!=37,4,0)","v":{"$error":"#REF!"}},{"$f":"IF(#REF!=38,3,0)","v":{"$error":"#REF!"}},{"$f":"IF(#REF!=39,2,0)","v":{"$error":"#REF!"}},{"$f":"IF(#REF!=40,1,0)","v":{"$error":"#REF!"}},{"$f":"IF(#REF!>20,0,0)","v":{"$error":"#REF!"}},{"$f":"IF(#REF!=\"сх\",0,0)","v":{"$error":"#REF!"}},{"$error":"#REF!"},null,{"$f":"IF(#REF!=\"сх\",\"ноль\",IF(#REF!>0,#REF!,\"Ноль\"))","v":{"$error":"#REF!"}},{"$f":"IF(#REF!=\"сх\",\"ноль\",IF(#REF!>0,#REF!,\"Ноль\"))","v":{"$error":"#REF!"}},null,{"$error":"#REF!"},{"$f":"IF(O20=#REF!,IF(#REF!<#REF!,#REF!,FD20),#REF!)","v":{"$error":"#REF!"}},{"$f":"IF(O20=#REF!,IF(#REF!<#REF!,0,1))","v":{"$error":"#REF!"}},{"$f":"IF(AND(EY20>=21,EY20<>0),EY20,IF(O20<#REF!,\"СТОП\",EZ20+FA20))","v":{"$error":"#REF!"}},null,15,16,null,{"$f":"IF(#REF!=1,25,0)","v":{"$error":"#REF!"}},{"$f":"IF(#REF!=2,22,0)","v":{"$error":"#REF!"}},{"$f":"IF(#REF!=3,20,0)","v":{"$error":"#REF!"}},{"$f":"IF(#REF!=4,18,0)","v":{"$error":"#REF!"}},{"$f":"IF(#REF!=5,16,0)","v":{"$error":"#REF!"}},{"$f":"IF(#REF!=6,15,0)","v":{"$error":"#REF!"}},{"$f":"IF(#REF!=7,14,0)","v":{"$error":"#REF!"}},{"$f":"IF(#REF!=8,13,0)","v":{"$error":"#REF!"}},{"$f":"IF(#REF!=9,12,0)","v":{"$error":"#REF!"}},{"$f":"IF(#REF!=10,11,0)","v":{"$error":"#REF!"}},{"$f":"IF(#REF!=11,10,0)","v":{"$error":"#REF!"}},{"$f":"IF(#REF!=12,9,0)","v":{"$error":"#REF!"}},{"$f":"IF(#REF!=13,8,0)","v":{"$error":"#REF!"}},{"$f":"IF(#REF!=14,7,0)","v":{"$error":"#REF!"}},{"$f":"IF(#REF!=15,6,0)","v":{"$error":"#REF!"}},{"$f":"IF(#REF!=16,5,0)","v":{"$error":"#REF!"}},{"$f":"IF(#REF!=17,4,0)","v":{"$error":"#REF!"}},{"$f":"IF(#REF!=18,3,0)","v":{"$error":"#REF!"}},{"$f":"IF(#REF!=19,2,0)","v":{"$error":"#REF!"}},{"$f":"IF(#REF!=20,1,0)","v":{"$error":"#REF!"}},{"$f":"IF(#REF!>20,0,0)","v":{"$error":"#REF!"}},{"$f":"IF(#REF!=\"сх\",0,0)","v":{"$error":"#REF!"}},{"$error":"#REF!"},{"$f":"IF(#REF!=1,25,0)","v":{"$error":"#REF!"}},{"$f":"IF(#REF!=2,22,0)","v":{"$error":"#REF!"}},{"$f":"IF(#REF!=3,20,0)","v":{"$error":"#REF!"}},{"$f":"IF(#REF!=4,18,0)","v":{"$error":"#REF!"}},{"$f":"IF(#REF!=5,16,0)","v":{"$error":"#REF!"}},{"$f":"IF(#REF!=6,15,0)","v":{"$error":"#REF!"}},{"$f":"IF(#REF!=7,14,0)","v":{"$error":"#REF!"}},{"$f":"IF(#REF!=8,13,0)","v":{"$error":"#REF!"}},{"$f":"IF(#REF!=9,12,0)","v":{"$error":"#REF!"}},{"$f":"IF(#REF!=10,11,0)","v":{"$error":"#REF!"}},{"$f":"IF(#REF!=11,10,0)","v":{"$error":"#REF!"}},{"$f":"IF(#REF!=12,9,0)","v":{"$error":"#REF!"}},{"$f":"IF(#REF!=13,8,0)","v":{"$error":"#REF!"}},{"$f":"IF(#REF!=14,7,0)","v":{"$error":"#REF!"}},{"$f":"IF(#REF!=15,6,0)","v":{"$error":"#REF!"}},{"$f":"IF(#REF!=16,5,0)","v":{"$error":"#REF!"}},{"$f":"IF(#REF!=17,4,0)","v":{"$error":"#REF!"}},{"$f":"IF(#REF!=18,3,0)","v":{"$error":"#REF!"}},{"$f":"IF(#REF!=19,2,0)","v":{"$error":"#REF!"}},{"$f":"IF(#REF!=20,1,0)","v":{"$error":"#REF!"}},{"$f":"IF(#REF!>20,0,0)","v":{"$error":"#REF!"}},{"$f":"IF(#REF!=\"сх\",0,0)","v":{"$error":"#REF!"}},{"$error":"#REF!"},{"$f":"IF(#REF!=1,100,0)","v":{"$error":"#REF!"}},{"$f":"IF(#REF!=2,98,0)","v":{"$error":"#REF!"}},{"$f":"IF(#REF!=3,95,0)","v":{"$error":"#REF!"}},{"$f":"IF(#REF!=4,93,0)","v":{"$error":"#REF!"}},{"$f":"IF(#REF!=5,90,0)","v":{"$error":"#REF!"}},{"$f":"IF(#REF!=6,88,0)","v":{"$error":"#REF!"}},{"$f":"IF(#REF!=7,85,0)","v":{"$error":"#REF!"}},{"$f":"IF(#REF!=8,83,0)","v":{"$error":"#REF!"}},{"$f":"IF(#REF!=9,80,0)","v":{"$error":"#REF!"}},{"$f":"IF(#REF!=10,78,0)","v":{"$error":"#REF!"}},{"$f":"IF(#REF!=11,75,0)","v":{"$error":"#REF!"}},{"$f":"IF(#REF!=12,73,0)","v":{"$error":"#REF!"}},{"$f":"IF(#REF!=13,70,0)","v":{"$error":"#REF!"}},{"$f":"IF(#REF!=14,68,0)","v":{"$error":"#REF!"}},{"$f":"IF(#REF!=15,65,0)","v":{"$error":"#REF!"}},{"$f":"IF(#REF!=16,63,0)","v":{"$error":"#REF!"}},{"$f":"IF(#REF!=17,60,0)","v":{"$error":"#REF!"}},{"$f":"IF(#REF!=18,58,0)","v":{"$error":"#REF!"}},{"$f":"IF(#REF!=19,55,0)","v":{"$error":"#REF!"}},{"$f":"IF(#REF!=20,53,0)","v":{"$error":"#REF!"}},{"$f":"IF(#REF!>20,0,0)","v":{"$error":"#REF!"}},{"$f":"IF(#REF!=\"сх\",0,0)","v":{"$error":"#REF!"}},{"$error":"#REF!"},{"$f":"IF(#REF!=1,100,0)","v":{"$error":"#REF!"}},{"$f":"IF(#REF!=2,98,0)","v":{"$error":"#REF!"}},{"$f":"IF(#REF!=3,95,0)","v":{"$error":"#REF!"}},{"$f":"IF(#REF!=4,93,0)","v":{"$error":"#REF!"}},{"$f":"IF(#REF!=5,90,0)","v":{"$error":"#REF!"}},{"$f":"IF(#REF!=6,88,0)","v":{"$error":"#REF!"}},{"$f":"IF(#REF!=7,85,0)","v":{"$error":"#REF!"}},{"$f":"IF(#REF!=8,83,0)","v":{"$error":"#REF!"}},{"$f":"IF(#REF!=9,80,0)","v":{"$error":"#REF!"}},{"$f":"IF(#REF!=10,78,0)","v":{"$error":"#REF!"}},{"$f":"IF(#REF!=11,75,0)","v":{"$error":"#REF!"}},{"$f":"IF(#REF!=12,73,0)","v":{"$error":"#REF!"}},{"$f":"IF(#REF!=13,70,0)","v":{"$error":"#REF!"}},{"$f":"IF(#REF!=14,68,0)","v":{"$error":"#REF!"}},{"$f":"IF(#REF!=15,65,0)","v":{"$error":"#REF!"}},{"$f":"IF(#REF!=16,63,0)","v":{"$error":"#REF!"}},{"$f":"IF(#REF!=17,60,0)","v":{"$error":"#REF!"}},{"$f":"IF(#REF!=18,58,0)","v":{"$error":"#REF!"}},{"$f":"IF(#REF!=19,55,0)","v":{"$error":"#REF!"}},{"$f":"IF(#REF!=20,53,0)","v":{"$error":"#REF!"}},{"$f":"IF(#REF!>20,0,0)","v":{"$error":"#REF!"}},{"$f":"IF(#REF!=\"сх\",0,0)","v":{"$error":"#REF!"}},{"$error":"#REF!"}]
[]
["Главный судья соревнований"]
["судья Всероссийской категории:                                                                                                              А. Б. Стеблинский (г. Тюмень; лицензия МФР А 144)"]
[]
["Главный секретарь соревнований"]
["судья Всероссийской категории:                                                                                              А. Ю. Иванов (г. Москва/лицензия МФР А 105; FIM 11245)"]

{"sheet":"ВЗРОСЛЫЕ ЯНАО","index":1,"n_rows":26,"n_cols":258,"rows_kept":26,"cut":false,"hidden":false,"merged":[[21,0,21,7],[24,0,24,7],[6,15,8,15],[7,8,8,8],[7,9,8,9],[7,10,8,10],[7,11,8,11],[7,12,8,12],[7,13,8,13],[6,6,8,6],[6,7,8,7],[6,8,6,9],[6,10,6,11],[6,12,6,13],[6,14,8,14],[6,0,8,0],[6,1,8,1],[6,2,8,2],[6,3,8,3],[6,4,8,4],[6,5,8,5],[5,8,5,10],[0,15,3,15],[1,0,1,14],[2,0,2,14],[3,0,3,14],[4,0,4,14]]}
[]
["Кубок ЯНАО по кроссу на снегоходах 2017 года - III-й этап.                                                             "]
["ПРОТОКОЛ ЛИЧНОГО ЗАЧЕТА",null,null,null,null,null,null,null,null,null,null,null,null,null,null,null,null,null,null,null,null,null,null,null,null,null,null,null,null,null,null,null,null,null,null,null,null,null,null,null,null,null,null,null,null,null,null,null,null,null,null,null,null,null,null,null,null,null,null,null,null,null,null,null,null,null,null,null,null,null,null,null,null,null,null,null,null,null,null,null,null,null,null,null,null,null,null,null,null,null,null,null,null,null,null,null,null,null,null,null,null,null,null,null,null,null,null,null,null,null,null,null,null,null,null,null,null,null,null,null,null,null,null,null,null,null,null,null,null,null,null,null,null,null,null,null,null,null,null,null,null,null,null,null,null,null,null,null,null,null,null,null,null,null,null,null,null,null,null,null,null,null,null,null,null,null,null,null,null,null,null,null,null,null,"первый этап"]
["г. Новый Уренгой, Ямало-Ненецкий АО.                                                                                                                                                                                                                         31 марта - 02 апреля 2017 года.",null,null,null,null,null,null,null,null,null,null,null,null,null,null,null,null,null,null,null,null,null,null,null,null,null,null,null,null,null,null,null,null,null,null,null,null,null,null,null,null,null,null,null,null,null,null,null,null,null,null,null,null,null,null,null,null,null,null,null,null,null,null,null,null,null,null,null,null,null,null,null,null,null,null,null,null,null,null,null,null,null,null,null,null,null,null,null,null,null,null,null,null,null,null,null,null,null,null,null,null,null,null,null,null,null,null,null,null,null,null,null,null,null,null,null,null,null,null,null,null,null,null,null,null,null,null,null,null,null,null,null,null,null,null,null,null,null,null,null,null,null,null,null,null,null,null,null,null,null,null,null,null,null,null,null,null,null,null,null,null,null,null,"первый заезд личные очки",null,null,null,null,null,null,null,null,null,null,null,null,null,null,null,null,null,null,null,null,null,"второй заезд личные очки",null,null,null,null,null,null,null,null,null,null,null,null,null,null,null,null,null,null,null,null,null,null,"Первый заезд командные очки",null,null,null,null,null,null,null,null,null,null,null,null,null,null,null,null,null,null,null,null,null,null,"Второй заезд командные очки"]
["Класс \"ВЗРОСЛЫЕ\". ",null,null,null,null,null,null,null,null,null,null,null,null,null,null,null,null,null,null,null,null,null,null,null,null,null,null,null,null,null,null,null,null,null,null,null,null,null,null,null,null,null,null,null,null,null,null,null,null,null,null,null,null,null,null,null,null,null,null,null,null,null,null,null,null,null,null,null,null,null,null,null,null,null,null,null,null,null,null,null,null,null,null,null,null,null,null,null,null,null,null,null,null,null,null,null,null,null,null,null,null,null,null,null,null,null,null,null,null,null,null,null,null,null,null,null,null,null,null,null,null,null,null,null,null,null,null,null,null,null,null,null,null,null,null,null,null,null,null,null,null,null,null,null,null,null,null,null,null,null,null,null,null,null,null,null,null,null,null,null,null,null,1,2,3,4,5,6,7,8,9,10,11,12,13,14,15,16,17,18,19,20,21,"сх","Sym",1,2,3,4,5,6,7,8,9,10,11,12,13,14,15,16,17,18,19,20,21,"cx","sym",1,2,3,4,5,6,7,8,9,10,11,12,13,14,15,16,17,18,19,20,21,"сх","очки",1,2,3,4,5,6,7,8,9,10,11,12,13,14,15,16,17,18,19,20,21,"сх","очки",{"$f":"COUNT(FG5:IT5)","v":84},"Н. Стро","В. стро","место"]
[]
["Место ","РЕЙТИНГОВЫЕ ОЧКИ Коэф. 0,4","Ст. №","Фамилия, Имя","Разряд","Город (край, район, область)","Команда","Марка снегохода","1-й заезд",null,"2-й заезд",null,"3-й заезд",null,"Сумма очков              в личном зачете","Сумма очк. в командном зачете"]
[null,null,null,null,null,null,null,null,"место","лич. очки","место","лич. очки","место","лич. очки",null,null,null,null,null,"первый заезд личные очки",null,null,null,null,null,null,null,null,null,null,null,null,null,null,null,null,null,null,null,null,null,"второй заезд личные очки",null,null,null,null,null,null,null,null,null,null,null,null,null,null,null,null,null,null,null,null,null,null,"Первый заезд командные очки",null,null,null,null,null,null,null,null,null,null,null,null,null,null,null,null,null,null,null,null,null,null,null,null,null,null,null,null,null,null,null,null,null,null,null,null,null,null,null,null,null,null,"Второй заезд командные очки",null,null,null,null,null,null,null,null,null,null,null,null,null,null,null,null,null,null,null,null,null,null,null,null,null,null,null,null,null,null,null,null,null,null,null,null,null,null,null,null,null,null,null,1,2,null,null,null,null,null,null,null,null,null,null,null,null,null,null,null,null,null,null,null,null,null,"первый этап"]
[null,null,null,null,null,null,null,null,null,null,null,null,null,null,null,null,null,null,1,2,3,4,5,6,7,8,9,10,11,12,13,14,15,16,17,18,19,20,21,"сх",null,1,2,3,4,5,6,7,8,9,10,11,12,13,14,15,16,17,18,19,20,null,"cx",null,1,2,3,4,5,6,7,8,9,10,11,12,13,14,15,16,17,18,19,20,21,22,23,24,25,26,27,28,29,30,31,32,33,34,35,36,37,38,39,40,null,null,null,1,2,3,4,5,6,7,8,9,10,11,12,13,14,15,16,17,18,19,20,21,22,23,24,25,26,27,28,29,30,31,32,33,34,35,36,37,38,39,40,null,null,null,null,null,null,null,"мин","Н. Стро","В. стро","место",null,"чр1","чр2",null,null,"первый заезд личные очки",null,null,null,null,null,null,null,null,null,null,null,null,null,null,null,null,null,null,null,null,null,"второй заезд личные очки",null,null,null,null,null,null,null,null,null,null,null,null,null,null,null,null,null,null,null,null,null,null,"Первый заезд командные очки",null,null,null,null,null,null,null,null,null,null,null,null,null,null,null,null,null,null,null,null,null,null,"Второй заезд командные очки"]
[1,20,11,"Скляров Дмитрий","мс","г. Новый Уренгой, Ямало-Ненецкий АО","СТК \"Ямбург\"","LYNX",1,25,2,22,1,25,{"$f":"SUM(J10+L10+N10)","v":72},{"$f":"#REF!+#REF!","v":{"$error":"#REF!"}},null,null,{"$f":"IF(#REF!=1,25,0)","v":{"$error":"#REF!"}},{"$f":"IF(#REF!=2,22,0)","v":{"$error":"#REF!"}},{"$f":"IF(#REF!=3,20,0)","v":{"$error":"#REF!"}},{"$f":"IF(#REF!=4,18,0)","v":{"$error":"#REF!"}},{"$f":"IF(#REF!=5,16,0)","v":{"$error":"#REF!"}},{"$f":"IF(#REF!=6,15,0)","v":{"$error":"#REF!"}},{"$f":"IF(#REF!=7,14,0)","v":{"$error":"#REF!"}},{"$f":"IF(#REF!=8,13,0)","v":{"$error":"#REF!"}},{"$f":"IF(#REF!=9,12,0)","v":{"$error":"#REF!"}},{"$f":"IF(#REF!=10,11,0)","v":{"$error":"#REF!"}},{"$f":"IF(#REF!=11,10,0)","v":{"$error":"#REF!"}},{"$f":"IF(#REF!=12,9,0)","v":{"$error":"#REF!"}},{"$f":"IF(#REF!=13,8,0)","v":{"$error":"#REF!"}},{"$f":"IF(#REF!=14,7,0)","v":{"$error":"#REF!"}},{"$f":"IF(#REF!=15,6,0)","v":{"$error":"#REF!"}},{"$f":"IF(#REF!=16,5,0)","v":{"$error":"#REF!"}},{"$f":"IF(#REF!=17,4,0)","v":{"$error":"#REF!"}},{"$f":"IF(#REF!=18,3,0)","v":{"$error":"#REF!"}},{"$f":"IF(#REF!=19,2,0)","v":{"$error":"#REF!"}},{"$f":"IF(#REF!=20,1,0)","v":{"$error":"#REF!"}},{"$f":"IF(#REF!>20,0,0)","v":{"$error":"#REF!"}},{"$f":"IF(#REF!=\"сх\",0,0)","v":{"$error":"#REF!"}},{"$f":"SUM(S10:AM10)","v":{"$error":"#REF!"}},{"$f":"IF(#REF!=1,25,0)","v":{"$error":"#REF!"}},{"$f":"IF(#REF!=2,22,0)","v":{"$error":"#REF!"}},{"$f":"IF(#REF!=3,20,0)","v":{"$error":"#REF!"}},{"$f":"IF(#REF!=4,18,0)","v":{"$error":"#REF!"}},{"$f":"IF(#REF!=5,16,0)","v":{"$error":"#REF!"}},{"$f":"IF(#REF!=6,15,0)","v":{"$error":"#REF!"}},{"$f":"IF(#REF!=7,14,0)","v":{"$error":"#REF!"}},{"$f":"IF(#REF!=8,13,0)","v":{"$error":"#REF!"}},{"$f":"IF(#REF!=9,12,0)","v":{"$error":"#REF!"}},{"$f":"IF(#REF!=10,11,0)","v":{"$error":"#REF!"}},{"$f":"IF(#REF!=11,10,0)","v":{"$error":"#REF!"}},{"$f":"IF(#REF!=12,9,0)","v":{"$error":"#REF!"}},{"$f":"IF(#REF!=13,8,0)","v":{"$error":"#REF!"}},{"$f":"IF(#REF!=14,7,0)","v":{"$error":"#REF!"}},{"$f":"IF(#REF!=15,6,0)","v":{"$error":"#REF!"}},{"$f":"IF(#REF!=16,5,0)","v":{"$error":"#REF!"}},{"$f":"IF(#REF!=17,4,0)","v":{"$error":"#REF!"}},{"$f":"IF(#REF!=18,3,0)","v":{"$error":"#REF!"}},{"$f":"IF(#REF!=19,2,0)","v":{"$error":"#REF!"}},{"$f":"IF(#REF!=20,1,0)","v":{"$error":"#REF!"}},{"$f":"IF(#REF!>20,0,0)","v":{"$error":"#REF!"}},{"$f":"IF(#REF!=\"сх\",0,0)","v":{"$error":"#REF!"}},{"$f":"SUM(AP10:BJ10)","v":{"$error":"#REF!"}},{"$f":"IF(#REF!=1,45,0)","v":{"$error":"#REF!"}},{"$f":"IF(#REF!=2,42,0)","v":{"$error":"#REF!"}},{"$f":"IF(#REF!=3,40,0)","v":{"$error":"#REF!"}},{"$f":"IF(#REF!=4,38,0)","v":{"$error":"#REF!"}},{"$f":"IF(#REF!=5,36,0)","v":{"$error":"#REF!"}},{"$f":"IF(#REF!=6,35,0)","v":{"$error":"#REF!"}},{"$f":"IF(#REF!=7,34,0)","v":{"$error":"#REF!"}},{"$f":"IF(#REF!=8,33,0)","v":{"$error":"#REF!"}},{"$f":"IF(#REF!=9,32,0)","v":{"$error":"#REF!"}},{"$f":"IF(#REF!=10,31,0)","v":{"$error":"#REF!"}},{"$f":"IF(#REF!=11,30,0)","v":{"$error":"#REF!"}},{"$f":"IF(#REF!=12,29,0)","v":{"$error":"#REF!"}},{"$f":"IF(#REF!=13,28,0)","v":{"$error":"#REF!"}},{"$f":"IF(#REF!=14,27,0)","v":{"$error":"#REF!"}},{"$f":"IF(#REF!=15,26,0)","v":{"$error":"#REF!"}},{"$f":"IF(#REF!=16,25,0)","v":{"$error":"#REF!"}},{"$f":"IF(#REF!=17,24,0)","v":{"$error":"#REF!"}},{"$f":"IF(#REF!=18,23,0)","v":{"$error":"#REF!"}},{"$f":"IF(#REF!=19,22,0)","v":{"$error":"#REF!"}},{"$f":"IF(#REF!=20,21,0)","v":{"$error":"#REF!"}},{"$f":"IF(#REF!=21,20,0)","v":{"$error":"#REF!"}},{"$f":"IF(#REF!=22,19,0)","v":{"$error":"#REF!"}},{"$f":"IF(#REF!=23,18,0)","v":{"$error":"#REF!"}},{"$f":"IF(#REF!=24,17,0)","v":{"$error":"#REF!"}},{"$f":"IF(#REF!=25,16,0)","v":{"$error":"#REF!"}},{"$f":"IF(#REF!=26,15,0)","v":{"$error":"#REF!"}},{"$f":"IF(#REF!=27,14,0)","v":{"$error":"#REF!"}},{"$f":"IF(#REF!=28,13,0)","v":{"$error":"#REF!"}},{"$f":"IF(#REF!=29,12,0)","v":{"$error":"#REF!"}},{"$f":"IF(#REF!=30,11,0)","v":{"$error":"#REF!"}},{"$f":"IF(#REF!=31,10,0)","v":{"$error":"#REF!"}},{"$f":"IF(#REF!=32,9,0)","v":{"$error":"#REF!"}},{"$f":"IF(#REF!=33,8,0)","v":{"$error":"#REF!"}},{"$f":"IF(#REF!=34,7,0)","v":{"$error":"#REF!"}},{"$f":"IF(#REF!=35,6,0)","v":{"$error":"#REF!"}},{"$f":"IF(#REF!=36,5,0)","v":{"$error":"#REF!"}},{"$f":"IF(#REF!=37,4,0)","v":{"$error":"#REF!"}},{"$f":"IF(#REF!=38,3,0)","v":{"$error":"#REF!"}},{"$f":"IF(#REF!=39,2,0)","v":{"$error":"#REF!"}},{"$f":"IF(#REF!=40,1,0)","v":{"$error":"#REF!"}},{"$f":"IF(#REF!>20,0,0)","v":{"$error":"#REF!"}},{"$f":"IF(#REF!=\"сх\",0,0)","v":{"$error":"#REF!"}},{"$f":"SUM(BM10:DB10)","v":{"$error":"#REF!"}},{"$f":"IF(#REF!=1,45,0)","v":{"$error":"#REF!"}},{"$f":"IF(#REF!=2,42,0)","v":{"$error":"#REF!"}},{"$f":"IF(#REF!=3,40,0)","v":{"$error":"#REF!"}},{"$f":"IF(#REF!=4,38,0)","v":{"$error":"#REF!"}},{"$f":"IF(#REF!=5,36,0)","v":{"$error":"#REF!"}},{"$f":"IF(#REF!=6,35,0)","v":{"$error":"#REF!"}},{"$f":"IF(#REF!=7,34,0)","v":{"$error":"#REF!"}},{"$f":"IF(#REF!=8,33,0)","v":{"$error":"#REF!"}},{"$f":"IF(#REF!=9,32,0)","v":{"$error":"#REF!"}},{"$f":"IF(#REF!=10,31,0)","v":{"$error":"#REF!"}},{"$f":"IF(#REF!=11,30,0)","v":{"$error":"#REF!"}},{"$f":"IF(#REF!=12,29,0)","v":{"$error":"#REF!"}},{"$f":"IF(#REF!=13,28,0)","v":{"$error":"#REF!"}},{"$f":"IF(#REF!=14,27,0)","v":{"$error":"#REF!"}},{"$f":"IF(#REF!=15,26,0)","v":{"$error":"#REF!"}},{"$f":"IF(#REF!=16,25,0)","v":{"$error":"#REF!"}},{"$f":"IF(#REF!=17,24,0)","v":{"$error":"#REF!"}},{"$f":"IF(#REF!=18,23,0)","v":{"$error":"#REF!"}},{"$f":"IF(#REF!=19,22,0)","v":{"$error":"#REF!"}},{"$f":"IF(#REF!=20,21,0)","v":{"$error":"#REF!"}},{"$f":"IF(#REF!=21,20,0)","v":{"$error":"#REF!"}},{"$f":"IF(#REF!=22,19,0)","v":{"$error":"#REF!"}},{"$f":"IF(#REF!=23,18,0)","v":{"$error":"#REF!"}},{"$f":"IF(#REF!=24,17,0)","v":{"$error":"#REF!"}},{"$f":"IF(#REF!=25,16,0)","v":{"$error":"#REF!"}},{"$f":"IF(#REF!=26,15,0)","v":{"$error":"#REF!"}},{"$f":"IF(#REF!=27,14,0)","v":{"$error":"#REF!"}},{"$f":"IF(#REF!=28,13,0)","v":{"$error":"#REF!"}},{"$f":"IF(#REF!=29,12,0)","v":{"$error":"#REF!"}},{"$f":"IF(#REF!=30,11,0)","v":{"$error":"#REF!"}},{"$f":"IF(#REF!=31,10,0)","v":{"$error":"#REF!"}},{"$f":"IF(#REF!=32,9,0)","v":{"$error":"#REF!"}},{"$f":"IF(#REF!=33,8,0)","v":{"$error":"#REF!"}},{"$f":"IF(#REF!=34,7,0)","v":{"$error":"#REF!"}},{"$f":"IF(#REF!=35,6,0)","v":{"$error":"#REF!"}},{"$f":"IF(#REF!=36,5,0)","v":{"$error":"#REF!"}},{"$f":"IF(#REF!=37,4,0)","v":{"$error":"#REF!"}},{"$f":"IF(#REF!=38,3,0)","v":{"$error":"#REF!"}},{"$f":"IF(#REF!=39,2,0)","v":{"$error":"#REF!"}},{"$f":"IF(#REF!=40,1,0)","v":{"$error":"#REF!"}},{"$f":"IF(#REF!>20,0,0)","v":{"$error":"#REF!"}},{"$f":"IF(#REF!=\"сх\",0,0)","v":{"$error":"#REF!"}},{"$f":"SUM(DD10:ES10)","v":{"$error":"#REF!"}},null,{"$f":"IF(#REF!=\"сх\",\"ноль\",IF(#REF!>0,#REF!,\"Ноль\"))","v":{"$error":"#REF!"}},{"$f":"IF(#REF!=\"сх\",\"ноль\",IF(#REF!>0,#REF!,\"Ноль\"))","v":{"$error":"#REF!"}},null,{"$f":"MIN(EV10,EW10)","v":{"$error":"#REF!"}},{"$f":"IF(O10=#REF!,IF(#REF!<#REF!,#REF!,FD10),#REF!)","v":{"$error":"#REF!"}},{"$f":"IF(O10=#REF!,IF(#REF!<#REF!,0,1))","v":{"$error":"#REF!"}},{"$f":"IF(AND(EY10>=21,EY10<>0),EY10,IF(O10<#REF!,\"СТОП\",EZ10+FA10))","v":{"$error":"#REF!"}},null,15,16,null,{"$f":"IF(#REF!=1,25,0)","v":{"$error":"#REF!"}},{"$f":"IF(#REF!=2,22,0)","v":{"$error":"#REF!"}},{"$f":"IF(#REF!=3,20,0)","v":{"$error":"#REF!"}},{"$f":"IF(#REF!=4,18,0)","v":{"$error":"#REF!"}},{"$f":"IF(#REF!=5,16,0)","v":{"$error":"#REF!"}},{"$f":"IF(#REF!=6,15,0)","v":{"$error":"#REF!"}},{"$f":"IF(#REF!=7,14,0)","v":{"$error":"#REF!"}},{"$f":"IF(#REF!=8,13,0)","v":{"$error":"#REF!"}},{"$f":"IF(#REF!=9,12,0)","v":{"$error":"#REF!"}},{"$f":"IF(#REF!=10,11,0)","v":{"$error":"#REF!"}},{"$f":"IF(#REF!=11,10,0)","v":{"$error":"#REF!"}},{"$f":"IF(#REF!=12,9,0)","v":{"$error":"#REF!"}},{"$f":"IF(#REF!=13,8,0)","v":{"$error":"#REF!"}},{"$f":"IF(#REF!=14,7,0)","v":{"$error":"#REF!"}},{"$f":"IF(#REF!=15,6,0)","v":{"$error":"#REF!"}},{"$f":"IF(#REF!=16,5,0)","v":{"$error":"#REF!"}},{"$f":"IF(#REF!=17,4,0)","v":{"$error":"#REF!"}},{"$f":"IF(#REF!=18,3,0)","v":{"$error":"#REF!"}},{"$f":"IF(#REF!=19,2,0)","v":{"$error":"#REF!"}},{"$f":"IF(#REF!=20,1,0)","v":{"$error":"#REF!"}},{"$f":"IF(#REF!>20,0,0)","v":{"$error":"#REF!"}},{"$f":"IF(#REF!=\"сх\",0,0)","v":{"$error":"#REF!"}},{"$f":"SUM(FG10:GB10)","v":{"$error":"#REF!"}},{"$f":"IF(#REF!=1,25,0)","v":{"$error":"#REF!"}},{"$f":"IF(#REF!=2,22,0)","v":{"$error":"#REF!"}},{"$f":"IF(#REF!=3,20,0)","v":{"$error":"#REF!"}},{"$f":"IF(#REF!=4,18,0)","v":{"$error":"#REF!"}},{"$f":"IF(#REF!=5,16,0)","v":{"$error":"#REF!"}},{"$f":"IF(#REF!=6,15,0)","v":{"$error":"#REF!"}},{"$f":"IF(#REF!=7,14,0)","v":{"$error":"#REF!"}},{"$f":"IF(#REF!=8,13,0)","v":{"$error":"#REF!"}},{"$f":"IF(#REF!=9,12,0)","v":{"$error":"#REF!"}},{"$f":"IF(#REF!=10,11,0)","v":{"$error":"#REF!"}},{"$f":"IF(#REF!=11,10,0)","v":{"$error":"#REF!"}},{"$f":"IF(#REF!=12,9,0)","v":{"$error":"#REF!"}},{"$f":"IF(#REF!=13,8,0)","v":{"$error":"#REF!"}},{"$f":"IF(#REF!=14,7,0)","v":{"$error":"#REF!"}},{"$f":"IF(#REF!=15,6,0)","v":{"$error":"#REF!"}},{"$f":"IF(#REF!=16,5,0)","v":{"$error":"#REF!"}},{"$f":"IF(#REF!=17,4,0)","v":{"$error":"#REF!"}},{"$f":"IF(#REF!=18,3,0)","v":{"$error":"#REF!"}},{"$f":"IF(#REF!=19,2,0)","v":{"$error":"#REF!"}},{"$f":"IF(#REF!=20,1,0)","v":{"$error":"#REF!"}},{"$f":"IF(#REF!>20,0,0)","v":{"$error":"#REF!"}},{"$f":"IF(#REF!=\"сх\",0,0)","v":{"$error":"#REF!"}},{"$f":"SUM(GD10:GY10)","v":{"$error":"#REF!"}},{"$f":"IF(#REF!=1,100,0)","v":{"$error":"#REF!"}},{"$f":"IF(#REF!=2,98,0)","v":{"$error":"#REF!"}},{"$f":"IF(#REF!=3,95,0)","v":{"$error":"#REF!"}},{"$f":"IF(#REF!=4,93,0)","v":{"$error":"#REF!"}},{"$f":"IF(#REF!=5,90,0)","v":{"$error":"#REF!"}},{"$f":"IF(#REF!=6,88,0)","v":{"$error":"#REF!"}},{"$f":"IF(#REF!=7,85,0)","v":{"$error":"#REF!"}},{"$f":"IF(#REF!=8,83,0)","v":{"$error":"#REF!"}},{"$f":"IF(#REF!=9,80,0)","v":{"$error":"#REF!"}},{"$f":"IF(#REF!=10,78,0)","v":{"$error":"#REF!"}},{"$f":"IF(#REF!=11,75,0)","v":{"$error":"#REF!"}},{"$f":"IF(#REF!=12,73,0)","v":{"$error":"#REF!"}},{"$f":"IF(#REF!=13,70,0)","v":{"$error":"#REF!"}},{"$f":"IF(#REF!=14,68,0)","v":{"$error":"#REF!"}},{"$f":"IF(#REF!=15,65,0)","v":{"$error":"#REF!"}},{"$f":"IF(#REF!=16,63,0)","v":{"$error":"#REF!"}},{"$f":"IF(#REF!=17,60,0)","v":{"$error":"#REF!"}},{"$f":"IF(#REF!=18,58,0)","v":{"$error":"#REF!"}},{"$f":"IF(#REF!=19,55,0)","v":{"$error":"#REF!"}},{"$f":"IF(#REF!=20,53,0)","v":{"$error":"#REF!"}},{"$f":"IF(#REF!>20,0,0)","v":{"$error":"#REF!"}},{"$f":"IF(#REF!=\"сх\",0,0)","v":{"$error":"#REF!"}},{"$f":"SUM(HA10:HV10)","v":{"$error":"#REF!"}},{"$f":"IF(#REF!=1,100,0)","v":{"$error":"#REF!"}},{"$f":"IF(#REF!=2,98,0)","v":{"$error":"#REF!"}},{"$f":"IF(#REF!=3,95,0)","v":{"$error":"#REF!"}},{"$f":"IF(#REF!=4,93,0)","v":{"$error":"#REF!"}},{"$f":"IF(#REF!=5,90,0)","v":{"$error":"#REF!"}},{"$f":"IF(#REF!=6,88,0)","v":{"$error":"#REF!"}},{"$f":"IF(#REF!=7,85,0)","v":{"$error":"#REF!"}},{"$f":"IF(#REF!=8,83,0)","v":{"$error":"#REF!"}},{"$f":"IF(#REF!=9,80,0)","v":{"$error":"#REF!"}},{"$f":"IF(#REF!=10,78,0)","v":{"$error":"#REF!"}},{"$f":"IF(#REF!=11,75,0)","v":{"$error":"#REF!"}},{"$f":"IF(#REF!=12,73,0)","v":{"$error":"#REF!"}},{"$f":"IF(#REF!=13,70,0)","v":{"$error":"#REF!"}},{"$f":"IF(#REF!=14,68,0)","v":{"$error":"#REF!"}},{"$f":"IF(#REF!=15,65,0)","v":{"$error":"#REF!"}},{"$f":"IF(#REF!=16,63,0)","v":{"$error":"#REF!"}},{"$f":"IF(#REF!=17,60,0)","v":{"$error":"#REF!"}},{"$f":"IF(#REF!=18,58,0)","v":{"$error":"#REF!"}},{"$f":"IF(#REF!=19,55,0)","v":{"$error":"#REF!"}},{"$f":"IF(#REF!=20,53,0)","v":{"$error":"#REF!"}},{"$f":"IF(#REF!>20,0,0)","v":{"$error":"#REF!"}},{"$f":"IF(#REF!=\"сх\",0,0)","v":{"$error":"#REF!"}},{"$f":"SUM(HX10:IS10)","v":{"$error":"#REF!"}}]
[2,19.2,959,"Мартюченко Евгений","мс","г. Тюмень","\"Сборная команда Тюменской области\"","LYNX",2,22,1,25,2,22,69,{"$f":"#REF!+#REF!","v":{"$error":"#REF!"}},null,null,{"$f":"IF(#REF!=1,25,0)","v":{"$error":"#REF!"}},{"$f":"IF(#REF!=2,22,0)","v":{"$error":"#REF!"}},{"$f":"IF(#REF!=3,20,0)","v":{"$error":"#REF!"}},{"$f":"IF(#REF!=4,18,0)","v":{"$error":"#REF!"}},{"$f":"IF(#REF!=5,16,0)","v":{"$error":"#REF!"}},{"$f":"IF(#REF!=6,15,0)","v":{"$error":"#REF!"}},{"$f":"IF(#REF!=7,14,0)","v":{"$error":"#REF!"}},{"$f":"IF(#REF!=8,13,0)","v":{"$error":"#REF!"}},{"$f":"IF(#REF!=9,12,0)","v":{"$error":"#REF!"}},{"$f":"IF(#REF!=10,11,0)","v":{"$error":"#REF!"}},{"$f":"IF(#REF!=11,10,0)","v":{"$error":"#REF!"}},{"$f":"IF(#REF!=12,9,0)","v":{"$error":"#REF!"}},{"$f":"IF(#REF!=13,8,0)","v":{"$error":"#REF!"}},{"$f":"IF(#REF!=14,7,0)","v":{"$error":"#REF!"}},{"$f":"IF(#REF!=15,6,0)","v":{"$error":"#REF!"}},{"$f":"IF(#REF!=16,5,0)","v":{"$error":"#REF!"}},{"$f":"IF(#REF!=17,4,0)","v":{"$error":"#REF!"}},{"$f":"IF(#REF!=18,3,0)","v":{"$error":"#REF!"}},{"$f":"IF(#REF!=19,2,0)","v":{"$error":"#REF!"}},{"$f":"IF(#REF!=20,1,0)","v":{"$error":"#REF!"}},{"$f":"IF(#REF!>20,0,0)","v":{"$error":"#REF!"}},{"$f":"IF(#REF!=\"сх\",0,0)","v":{"$error":"#REF!"}},{"$error":"#REF!"},{"$f":"IF(#REF!=1,25,0)","v":{"$error":"#REF!"}},{"$f":"IF(#REF!=2,22,0)","v":{"$error":"#REF!"}},{"$f":"IF(#REF!=3,20,0)","v":{"$error":"#REF!"}},{"$f":"IF(#REF!=4,18,0)","v":{"$error":"#REF!"}},{"$f":"IF(#REF!=5,16,0)","v":{"$error":"#REF!"}},{"$f":"IF(#REF!=6,15,0)","v":{"$error":"#REF!"}},{"$f":"IF(#REF!=7,14,0)","v":{"$error":"#REF!"}},{"$f":"IF(#REF!=8,13,0)","v":{"$error":"#REF!"}},{"$f":"IF(#REF!=9,12,0)","v":{"$error":"#REF!"}},{"$f":"IF(#REF!=10,11,0)","v":{"$error":"#REF!"}},{"$f":"IF(#REF!=11,10,0)","v":{"$error":"#REF!"}},{"$f":"IF(#REF!=12,9,0)","v":{"$error":"#REF!"}},{"$f":"IF(#REF!=13,8,0)","v":{"$error":"#REF!"}},{"$f":"IF(#REF!=14,7,0)","v":{"$error":"#REF!"}},{"$f":"IF(#REF!=15,6,0)","v":{"$error":"#REF!"}},{"$f":"IF(#REF!=16,5,0)","v":{"$error":"#REF!"}},{"$f":"IF(#REF!=17,4,0)","v":{"$error":"#REF!"}},{"$f":"IF(#REF!=18,3,0)","v":{"$error":"#REF!"}},{"$f":"IF(#REF!=19,2,0)","v":{"$error":"#REF!"}},{"$f":"IF(#REF!=20,1,0)","v":{"$error":"#REF!"}},{"$f":"IF(#REF!>20,0,0)","v":{"$error":"#REF!"}},{"$f":"IF(#REF!=\"сх\",0,0)","v":{"$error":"#REF!"}},{"$error":"#REF!"},{"$f":"IF(#REF!=1,45,0)","v":{"$error":"#REF!"}},{"$f":"IF(#REF!=2,42,0)","v":{"$error":"#REF!"}},{"$f":"IF(#REF!=3,40,0)","v":{"$error":"#REF!"}},{"$f":"IF(#REF!=4,38,0)","v":{"$error":"#REF!"}},{"$f":"IF(#REF!=5,36,0)","v":{"$error":"#REF!"}},{"$f":"IF(#REF!=6,35,0)","v":{"$error":"#REF!"}},{"$f":"IF(#REF!=7,34,0)","v":{"$error":"#REF!"}},{"$f":"IF(#REF!=8,33,0)","v":{"$error":"#REF!"}},{"$f":"IF(#REF!=9,32,0)","v":{"$error":"#REF!"}},{"$f":"IF(#REF!=10,31,0)","v":{"$error":"#REF!"}},{"$f":"IF(#REF!=11,30,0)","v":{"$error":"#REF!"}},{"$f":"IF(#REF!=12,29,0)","v":{"$error":"#REF!"}},{"$f":"IF(#REF!=13,28,0)","v":{"$error":"#REF!"}},{"$f":"IF(#REF!=14,27,0)","v":{"$error":"#REF!"}},{"$f":"IF(#REF!=15,26,0)","v":{"$error":"#REF!"}},{"$f":"IF(#REF!=16,25,0)","v":{"$error":"#REF!"}},{"$f":"IF(#REF!=17,24,0)","v":{"$error":"#REF!"}},{"$f":"IF(#REF!=18,23,0)","v":{"$error":"#REF!"}},{"$f":"IF(#REF!=19,22,0)","v":{"$error":"#REF!"}},{"$f":"IF(#REF!=20,21,0)","v":{"$error":"#REF!"}},{"$f":"IF(#REF!=21,20,0)","v":{"$error":"#REF!"}},{"$f":"IF(#REF!=22,19,0)","v":{"$error":"#REF!"}},{"$f":"IF(#REF!=23,18,0)","v":{"$error":"#REF!"}},{"$f":"IF(#REF!=24,17,0)","v":{"$error":"#REF!"}},{"$f":"IF(#REF!=25,16,0)","v":{"$error":"#REF!"}},{"$f":"IF(#REF!=26,15,0)","v":{"$error":"#REF!"}},{"$f":"IF(#REF!=27,14,0)","v":{"$error":"#REF!"}},{"$f":"IF(#REF!=28,13,0)","v":{"$error":"#REF!"}},{"$f":"IF(#REF!=29,12,0)","v":{"$error":"#REF!"}},{"$f":"IF(#REF!=30,11,0)","v":{"$error":"#REF!"}},{"$f":"IF(#REF!=31,10,0)","v":{"$error":"#REF!"}},{"$f":"IF(#REF!=32,9,0)","v":{"$error":"#REF!"}},{"$f":"IF(#REF!=33,8,0)","v":{"$error":"#REF!"}},{"$f":"IF(#REF!=34,7,0)","v":{"$error":"#REF!"}},{"$f":"IF(#REF!=35,6,0)","v":{"$error":"#REF!"}},{"$f":"IF(#REF!=36,5,0)","v":{"$error":"#REF!"}},{"$f":"IF(#REF!=37,4,0)","v":{"$error":"#REF!"}},{"$f":"IF(#REF!=38,3,0)","v":{"$error":"#REF!"}},{"$f":"IF(#REF!=39,2,0)","v":{"$error":"#REF!"}},{"$f":"IF(#REF!=40,1,0)","v":{"$error":"#REF!"}},{"$f":"IF(#REF!>20,0,0)","v":{"$error":"#REF!"}},{"$f":"IF(#REF!=\"сх\",0,0)","v":{"$error":"#REF!"}},{"$error":"#REF!"},{"$f":"IF(#REF!=1,45,0)","v":{"$error":"#REF!"}},{"$f":"IF(#REF!=2,42,0)","v":{"$error":"#REF!"}},{"$f":"IF(#REF!=3,40,0)","v":{"$error":"#REF!"}},{"$f":"IF(#REF!=4,38,0)","v":{"$error":"#REF!"}},{"$f":"IF(#REF!=5,36,0)","v":{"$error":"#REF!"}},{"$f":"IF(#REF!=6,35,0)","v":{"$error":"#REF!"}},{"$f":"IF(#REF!=7,34,0)","v":{"$error":"#REF!"}},{"$f":"IF(#REF!=8,33,0)","v":{"$error":"#REF!"}},{"$f":"IF(#REF!=9,32,0)","v":{"$error":"#REF!"}},{"$f":"IF(#REF!=10,31,0)","v":{"$error":"#REF!"}},{"$f":"IF(#REF!=11,30,0)","v":{"$error":"#REF!"}},{"$f":"IF(#REF!=12,29,0)","v":{"$error":"#REF!"}},{"$f":"IF(#REF!=13,28,0)","v":{"$error":"#REF!"}},{"$f":"IF(#REF!=14,27,0)","v":{"$error":"#REF!"}},{"$f":"IF(#REF!=15,26,0)","v":{"$error":"#REF!"}},{"$f":"IF(#REF!=16,25,0)","v":{"$error":"#REF!"}},{"$f":"IF(#REF!=17,24,0)","v":{"$error":"#REF!"}},{"$f":"IF(#REF!=18,23,0)","v":{"$error":"#REF!"}},{"$f":"IF(#REF!=19,22,0)","v":{"$error":"#REF!"}},{"$f":"IF(#REF!=20,21,0)","v":{"$error":"#REF!"}},{"$f":"IF(#REF!=21,20,0)","v":{"$error":"#REF!"}},{"$f":"IF(#REF!=22,19,0)","v":{"$error":"#REF!"}},{"$f":"IF(#REF!=23,18,0)","v":{"$error":"#REF!"}},{"$f":"IF(#REF!=24,17,0)","v":{"$error":"#REF!"}},{"$f":"IF(#REF!=25,16,0)","v":{"$error":"#REF!"}},{"$f":"IF(#REF!=26,15,0)","v":{"$error":"#REF!"}},{"$f":"IF(#REF!=27,14,0)","v":{"$error":"#REF!"}},{"$f":"IF(#REF!=28,13,0)","v":{"$error":"#REF!"}},{"$f":"IF(#REF!=29,12,0)","v":{"$error":"#REF!"}},{"$f":"IF(#REF!=30,11,0)","v":{"$error":"#REF!"}},{"$f":"IF(#REF!=31,10,0)","v":{"$error":"#REF!"}},{"$f":"IF(#REF!=32,9,0)","v":{"$error":"#REF!"}},{"$f":"IF(#REF!=33,8,0)","v":{"$error":"#REF!"}},{"$f":"IF(#REF!=34,7,0)","v":{"$error":"#REF!"}},{"$f":"IF(#REF!=35,6,0)","v":{"$error":"#REF!"}},{"$f":"IF(#REF!=36,5,0)","v":{"$error":"#REF!"}},{"$f":"IF(#REF!=37,4,0)","v":{"$error":"#REF!"}},{"$f":"IF(#REF!=38,3,0)","v":{"$error":"#REF!"}},{"$f":"IF(#REF!=39,2,0)","v":{"$error":"#REF!"}},{"$f":"IF(#REF!=40,1,0)","v":{"$error":"#REF!"}},{"$f":"IF(#REF!>20,0,0)","v":{"$error":"#REF!"}},{"$f":"IF(#REF!=\"сх\",0,0)","v":{"$error":"#REF!"}},{"$error":"#REF!"},null,{"$f":"IF(#REF!=\"сх\",\"ноль\",IF(#REF!>0,#REF!,\"Ноль\"))","v":{"$error":"#REF!"}},{"$f":"IF(#REF!=\"сх\",\"ноль\",IF(#REF!>0,#REF!,\"Ноль\"))","v":{"$error":"#REF!"}},null,{"$error":"#REF!"},{"$f":"IF(O11=#REF!,IF(#REF!<#REF!,#REF!,FD11),#REF!)","v":{"$error":"#REF!"}},{"$f":"IF(O11=#REF!,IF(#REF!<#REF!,0,1))","v":{"$error":"#REF!"}},{"$f":"IF(AND(EY11>=21,EY11<>0),EY11,IF(O11<#REF!,\"СТОП\",EZ11+FA11))","v":{"$error":"#REF!"}},null,15,16,null,{"$f":"IF(#REF!=1,25,0)","v":{"$error":"#REF!"}},{"$f":"IF(#REF!=2,22,0)","v":{"$error":"#REF!"}},{"$f":"IF(#REF!=3,20,0)","v":{"$error":"#REF!"}},{"$f":"IF(#REF!=4,18,0)","v":{"$error":"#REF!"}},{"$f":"IF(#REF!=5,16,0)","v":{"$error":"#REF!"}},{"$f":"IF(#REF!=6,15,0)","v":{"$error":"#REF!"}},{"$f":"IF(#REF!=7,14,0)","v":{"$error":"#REF!"}},{"$f":"IF(#REF!=8,13,0)","v":{"$error":"#REF!"}},{"$f":"IF(#REF!=9,12,0)","v":{"$error":"#REF!"}},{"$f":"IF(#REF!=10,11,0)","v":{"$error":"#REF!"}},{"$f":"IF(#REF!=11,10,0)","v":{"$error":"#REF!"}},{"$f":"IF(#REF!=12,9,0)","v":{"$error":"#REF!"}},{"$f":"IF(#REF!=13,8,0)","v":{"$error":"#REF!"}},{"$f":"IF(#REF!=14,7,0)","v":{"$error":"#REF!"}},{"$f":"IF(#REF!=15,6,0)","v":{"$error":"#REF!"}},{"$f":"IF(#REF!=16,5,0)","v":{"$error":"#REF!"}},{"$f":"IF(#REF!=17,4,0)","v":{"$error":"#REF!"}},{"$f":"IF(#REF!=18,3,0)","v":{"$error":"#REF!"}},{"$f":"IF(#REF!=19,2,0)","v":{"$error":"#REF!"}},{"$f":"IF(#REF!=20,1,0)","v":{"$error":"#REF!"}},{"$f":"IF(#REF!>20,0,0)","v":{"$error":"#REF!"}},{"$f":"IF(#REF!=\"сх\",0,0)","v":{"$error":"#REF!"}},{"$error":"#REF!"},{"$f":"IF(#REF!=1,25,0)","v":{"$error":"#REF!"}},{"$f":"IF(#REF!=2,22,0)","v":{"$error":"#REF!"}},{"$f":"IF(#REF!=3,20,0)","v":{"$error":"#REF!"}},{"$f":"IF(#REF!=4,18,0)","v":{"$error":"#REF!"}},{"$f":"IF(#REF!=5,16,0)","v":{"$error":"#REF!"}},{"$f":"IF(#REF!=6,15,0)","v":{"$error":"#REF!"}},{"$f":"IF(#REF!=7,14,0)","v":{"$error":"#REF!"}},{"$f":"IF(#REF!=8,13,0)","v":{"$error":"#REF!"}},{"$f":"IF(#REF!=9,12,0)","v":{"$error":"#REF!"}},{"$f":"IF(#REF!=10,11,0)","v":{"$error":"#REF!"}},{"$f":"IF(#REF!=11,10,0)","v":{"$error":"#REF!"}},{"$f":"IF(#REF!=12,9,0)","v":{"$error":"#REF!"}},{"$f":"IF(#REF!=13,8,0)","v":{"$error":"#REF!"}},{"$f":"IF(#REF!=14,7,0)","v":{"$error":"#REF!"}},{"$f":"IF(#REF!=15,6,0)","v":{"$error":"#REF!"}},{"$f":"IF(#REF!=16,5,0)","v":{"$error":"#REF!"}},{"$f":"IF(#REF!=17,4,0)","v":{"$error":"#REF!"}},{"$f":"IF(#REF!=18,3,0)","v":{"$error":"#REF!"}},{"$f":"IF(#REF!=19,2,0)","v":{"$error":"#REF!"}},{"$f":"IF(#REF!=20,1,0)","v":{"$error":"#REF!"}},{"$f":"IF(#REF!>20,0,0)","v":{"$error":"#REF!"}},{"$f":"IF(#REF!=\"сх\",0,0)","v":{"$error":"#REF!"}},{"$error":"#REF!"},{"$f":"IF(#REF!=1,100,0)","v":{"$error":"#REF!"}},{"$f":"IF(#REF!=2,98,0)","v":{"$error":"#REF!"}},{"$f":"IF(#REF!=3,95,0)","v":{"$error":"#REF!"}},{"$f":"IF(#REF!=4,93,0)","v":{"$error":"#REF!"}},{"$f":"IF(#REF!=5,90,0)","v":{"$error":"#REF!"}},{"$f":"IF(#REF!=6,88,0)","v":{"$error":"#REF!"}},{"$f":"IF(#REF!=7,85,0)","v":{"$error":"#REF!"}},{"$f":"IF(#REF!=8,83,0)","v":{"$error":"#REF!"}},{"$f":"IF(#REF!=9,80,0)","v":{"$error":"#REF!"}},{"$f":"IF(#REF!=10,78,0)","v":{"$error":"#REF!"}},{"$f":"IF(#REF!=11,75,0)","v":{"$error":"#REF!"}},{"$f":"IF(#REF!=12,73,0)","v":{"$error":"#REF!"}},{"$f":"IF(#REF!=13,70,0)","v":{"$error":"#REF!"}},{"$f":"IF(#REF!=14,68,0)","v":{"$error":"#REF!"}},{"$f":"IF(#REF!=15,65,0)","v":{"$error":"#REF!"}},{"$f":"IF(#REF!=16,63,0)","v":{"$error":"#REF!"}},{"$f":"IF(#REF!=17,60,0)","v":{"$error":"#REF!"}},{"$f":"IF(#REF!=18,58,0)","v":{"$error":"#REF!"}},{"$f":"IF(#REF!=19,55,0)","v":{"$error":"#REF!"}},{"$f":"IF(#REF!=20,53,0)","v":{"$error":"#REF!"}},{"$f":"IF(#REF!>20,0,0)","v":{"$error":"#REF!"}},{"$f":"IF(#REF!=\"сх\",0,0)","v":{"$error":"#REF!"}},{"$error":"#REF!"},{"$f":"IF(#REF!=1,100,0)","v":{"$error":"#REF!"}},{"$f":"IF(#REF!=2,98,0)","v":{"$error":"#REF!"}},{"$f":"IF(#REF!=3,95,0)","v":{"$error":"#REF!"}},{"$f":"IF(#REF!=4,93,0)","v":{"$error":"#REF!"}},{"$f":"IF(#REF!=5,90,0)","v":{"$error":"#REF!"}},{"$f":"IF(#REF!=6,88,0)","v":{"$error":"#REF!"}},{"$f":"IF(#REF!=7,85,0)","v":{"$error":"#REF!"}},{"$f":"IF(#REF!=8,83,0)","v":{"$error":"#REF!"}},{"$f":"IF(#REF!=9,80,0)","v":{"$error":"#REF!"}},{"$f":"IF(#REF!=10,78,0)","v":{"$error":"#REF!"}},{"$f":"IF(#REF!=11,75,0)","v":{"$error":"#REF!"}},{"$f":"IF(#REF!=12,73,0)","v":{"$error":"#REF!"}},{"$f":"IF(#REF!=13,70,0)","v":{"$error":"#REF!"}},{"$f":"IF(#REF!=14,68,0)","v":{"$error":"#REF!"}},{"$f":"IF(#REF!=15,65,0)","v":{"$error":"#REF!"}},{"$f":"IF(#REF!=16,63,0)","v":{"$error":"#REF!"}},{"$f":"IF(#REF!=17,60,0)","v":{"$error":"#REF!"}},{"$f":"IF(#REF!=18,58,0)","v":{"$error":"#REF!"}},{"$f":"IF(#REF!=19,55,0)","v":{"$error":"#REF!"}},{"$f":"IF(#REF!=20,53,0)","v":{"$error":"#REF!"}},{"$f":"IF(#REF!>20,0,0)","v":{"$error":"#REF!"}},{"$f":"IF(#REF!=\"сх\",0,0)","v":{"$error":"#REF!"}},{"$error":"#REF!"}]
[3,18.399999999999999,188,"Рязанцев Денис","мс","г. Ярославль","СТК \"Атлант\"","LYNX",3,20,3,20,4,18,58,{"$f":"#REF!+#REF!","v":{"$error":"#REF!"}},null,null,{"$f":"IF(#REF!=1,25,0)","v":{"$error":"#REF!"}},{"$f":"IF(#REF!=2,22,0)","v":{"$error":"#REF!"}},{"$f":"IF(#REF!=3,20,0)","v":{"$error":"#REF!"}},{"$f":"IF(#REF!=4,18,0)","v":{"$error":"#REF!"}},{"$f":"IF(#REF!=5,16,0)","v":{"$error":"#REF!"}},{"$f":"IF(#REF!=6,15,0)","v":{"$error":"#REF!"}},{"$f":"IF(#REF!=7,14,0)","v":{"$error":"#REF!"}},{"$f":"IF(#REF!=8,13,0)","v":{"$error":"#REF!"}},{"$f":"IF(#REF!=9,12,0)","v":{"$error":"#REF!"}},{"$f":"IF(#REF!=10,11,0)","v":{"$error":"#REF!"}},{"$f":"IF(#REF!=11,10,0)","v":{"$error":"#REF!"}},{"$f":"IF(#REF!=12,9,0)","v":{"$error":"#REF!"}},{"$f":"IF(#REF!=13,8,0)","v":{"$error":"#REF!"}},{"$f":"IF(#REF!=14,7,0)","v":{"$error":"#REF!"}},{"$f":"IF(#REF!=15,6,0)","v":{"$error":"#REF!"}},{"$f":"IF(#REF!=16,5,0)","v":{"$error":"#REF!"}},{"$f":"IF(#REF!=17,4,0)","v":{"$error":"#REF!"}},{"$f":"IF(#REF!=18,3,0)","v":{"$error":"#REF!"}},{"$f":"IF(#REF!=19,2,0)","v":{"$error":"#REF!"}},{"$f":"IF(#REF!=20,1,0)","v":{"$error":"#REF!"}},{"$f":"IF(#REF!>20,0,0)","v":{"$error":"#REF!"}},{"$f":"IF(#REF!=\"сх\",0,0)","v":{"$error":"#REF!"}},{"$error":"#REF!"},{"$f":"IF(#REF!=1,25,0)","v":{"$error":"#REF!"}},{"$f":"IF(#REF!=2,22,0)","v":{"$error":"#REF!"}},{"$f":"IF(#REF!=3,20,0)","v":{"$error":"#REF!"}},{"$f":"IF(#REF!=4,18,0)","v":{"$error":"#REF!"}},{"$f":"IF(#REF!=5,16,0)","v":{"$error":"#REF!"}},{"$f":"IF(#REF!=6,15,0)","v":{"$error":"#REF!"}},{"$f":"IF(#REF!=7,14,0)","v":{"$error":"#REF!"}},{"$f":"IF(#REF!=8,13,0)","v":{"$error":"#REF!"}},{"$f":"IF(#REF!=9,12,0)","v":{"$error":"#REF!"}},{"$f":"IF(#REF!=10,11,0)","v":{"$error":"#REF!"}},{"$f":"IF(#REF!=11,10,0)","v":{"$error":"#REF!"}},{"$f":"IF(#REF!=12,9,0)","v":{"$error":"#REF!"}},{"$f":"IF(#REF!=13,8,0)","v":{"$error":"#REF!"}},{"$f":"IF(#REF!=14,7,0)","v":{"$error":"#REF!"}},{"$f":"IF(#REF!=15,6,0)","v":{"$error":"#REF!"}},{"$f":"IF(#REF!=16,5,0)","v":{"$error":"#REF!"}},{"$f":"IF(#REF!=17,4,0)","v":{"$error":"#REF!"}},{"$f":"IF(#REF!=18,3,0)","v":{"$error":"#REF!"}},{"$f":"IF(#REF!=19,2,0)","v":{"$error":"#REF!"}},{"$f":"IF(#REF!=20,1,0)","v":{"$error":"#REF!"}},{"$f":"IF(#REF!>20,0,0)","v":{"$error":"#REF!"}},{"$f":"IF(#REF!=\"сх\",0,0)","v":{"$error":"#REF!"}},{"$error":"#REF!"},{"$f":"IF(#REF!=1,45,0)","v":{"$error":"#REF!"}},{"$f":"IF(#REF!=2,42,0)","v":{"$error":"#REF!"}},{"$f":"IF(#REF!=3,40,0)","v":{"$error":"#REF!"}},{"$f":"IF(#REF!=4,38,0)","v":{"$error":"#REF!"}},{"$f":"IF(#REF!=5,36,0)","v":{"$error":"#REF!"}},{"$f":"IF(#REF!=6,35,0)","v":{"$error":"#REF!"}},{"$f":"IF(#REF!=7,34,0)","v":{"$error":"#REF!"}},{"$f":"IF(#REF!=8,33,0)","v":{"$error":"#REF!"}},{"$f":"IF(#REF!=9,32,0)","v":{"$error":"#REF!"}},{"$f":"IF(#REF!=10,31,0)","v":{"$error":"#REF!"}},{"$f":"IF(#REF!=11,30,0)","v":{"$error":"#REF!"}},{"$f":"IF(#REF!=12,29,0)","v":{"$error":"#REF!"}},{"$f":"IF(#REF!=13,28,0)","v":{"$error":"#REF!"}},{"$f":"IF(#REF!=14,27,0)","v":{"$error":"#REF!"}},{"$f":"IF(#REF!=15,26,0)","v":{"$error":"#REF!"}},{"$f":"IF(#REF!=16,25,0)","v":{"$error":"#REF!"}},{"$f":"IF(#REF!=17,24,0)","v":{"$error":"#REF!"}},{"$f":"IF(#REF!=18,23,0)","v":{"$error":"#REF!"}},{"$f":"IF(#REF!=19,22,0)","v":{"$error":"#REF!"}},{"$f":"IF(#REF!=20,21,0)","v":{"$error":"#REF!"}},{"$f":"IF(#REF!=21,20,0)","v":{"$error":"#REF!"}},{"$f":"IF(#REF!=22,19,0)","v":{"$error":"#REF!"}},{"$f":"IF(#REF!=23,18,0)","v":{"$error":"#REF!"}},{"$f":"IF(#REF!=24,17,0)","v":{"$error":"#REF!"}},{"$f":"IF(#REF!=25,16,0)","v":{"$error":"#REF!"}},{"$f":"IF(#REF!=26,15,0)","v":{"$error":"#REF!"}},{"$f":"IF(#REF!=27,14,0)","v":{"$error":"#REF!"}},{"$f":"IF(#REF!=28,13,0)","v":{"$error":"#REF!"}},{"$f":"IF(#REF!=29,12,0)","v":{"$error":"#REF!"}},{"$f":"IF(#REF!=30,11,0)","v":{"$error":"#REF!"}},{"$f":"IF(#REF!=31,10,0)","v":{"$error":"#REF!"}},{"$f":"IF(#REF!=32,9,0)","v":{"$error":"#REF!"}},{"$f":"IF(#REF!=33,8,0)","v":{"$error":"#REF!"}},{"$f":"IF(#REF!=34,7,0)","v":{"$error":"#REF!"}},{"$f":"IF(#REF!=35,6,0)","v":{"$error":"#REF!"}},{"$f":"IF(#REF!=36,5,0)","v":{"$error":"#REF!"}},{"$f":"IF(#REF!=37,4,0)","v":{"$error":"#REF!"}},{"$f":"IF(#REF!=38,3,0)","v":{"$error":"#REF!"}},{"$f":"IF(#REF!=39,2,0)","v":{"$error":"#REF!"}},{"$f":"IF(#REF!=40,1,0)","v":{"$error":"#REF!"}},{"$f":"IF(#REF!>20,0,0)","v":{"$error":"#REF!"}},{"$f":"IF(#REF!=\"сх\",0,0)","v":{"$error":"#REF!"}},{"$error":"#REF!"},{"$f":"IF(#REF!=1,45,0)","v":{"$error":"#REF!"}},{"$f":"IF(#REF!=2,42,0)","v":{"$error":"#REF!"}},{"$f":"IF(#REF!=3,40,0)","v":{"$error":"#REF!"}},{"$f":"IF(#REF!=4,38,0)","v":{"$error":"#REF!"}},{"$f":"IF(#REF!=5,36,0)","v":{"$error":"#REF!"}},{"$f":"IF(#REF!=6,35,0)","v":{"$error":"#REF!"}},{"$f":"IF(#REF!=7,34,0)","v":{"$error":"#REF!"}},{"$f":"IF(#REF!=8,33,0)","v":{"$error":"#REF!"}},{"$f":"IF(#REF!=9,32,0)","v":{"$error":"#REF!"}},{"$f":"IF(#REF!=10,31,0)","v":{"$error":"#REF!"}},{"$f":"IF(#REF!=11,30,0)","v":{"$error":"#REF!"}},{"$f":"IF(#REF!=12,29,0)","v":{"$error":"#REF!"}},{"$f":"IF(#REF!=13,28,0)","v":{"$error":"#REF!"}},{"$f":"IF(#REF!=14,27,0)","v":{"$error":"#REF!"}},{"$f":"IF(#REF!=15,26,0)","v":{"$error":"#REF!"}},{"$f":"IF(#REF!=16,25,0)","v":{"$error":"#REF!"}},{"$f":"IF(#REF!=17,24,0)","v":{"$error":"#REF!"}},{"$f":"IF(#REF!=18,23,0)","v":{"$error":"#REF!"}},{"$f":"IF(#REF!=19,22,0)","v":{"$error":"#REF!"}},{"$f":"IF(#REF!=20,21,0)","v":{"$error":"#REF!"}},{"$f":"IF(#REF!=21,20,0)","v":{"$error":"#REF!"}},{"$f":"IF(#REF!=22,19,0)","v":{"$error":"#REF!"}},{"$f":"IF(#REF!=23,18,0)","v":{"$error":"#REF!"}},{"$f":"IF(#REF!=24,17,0)","v":{"$error":"#REF!"}},{"$f":"IF(#REF!=25,16,0)","v":{"$error":"#REF!"}},{"$f":"IF(#REF!=26,15,0)","v":{"$error":"#REF!"}},{"$f":"IF(#REF!=27,14,0)","v":{"$error":"#REF!"}},{"$f":"IF(#REF!=28,13,0)","v":{"$error":"#REF!"}},{"$f":"IF(#REF!=29,12,0)","v":{"$error":"#REF!"}},{"$f":"IF(#REF!=30,11,0)","v":{"$error":"#REF!"}},{"$f":"IF(#REF!=31,10,0)","v":{"$error":"#REF!"}},{"$f":"IF(#REF!=32,9,0)","v":{"$error":"#REF!"}},{"$f":"IF(#REF!=33,8,0)","v":{"$error":"#REF!"}},{"$f":"IF(#REF!=34,7,0)","v":{"$error":"#REF!"}},{"$f":"IF(#REF!=35,6,0)","v":{"$error":"#REF!"}},{"$f":"IF(#REF!=36,5,0)","v":{"$error":"#REF!"}},{"$f":"IF(#REF!=37,4,0)","v":{"$error":"#REF!"}},{"$f":"IF(#REF!=38,3,0)","v":{"$error":"#REF!"}},{"$f":"IF(#REF!=39,2,0)","v":{"$error":"#REF!"}},{"$f":"IF(#REF!=40,1,0)","v":{"$error":"#REF!"}},{"$f":"IF(#REF!>20,0,0)","v":{"$error":"#REF!"}},{"$f":"IF(#REF!=\"сх\",0,0)","v":{"$error":"#REF!"}},{"$error":"#REF!"},null,{"$f":"IF(#REF!=\"сх\",\"ноль\",IF(#REF!>0,#REF!,\"Ноль\"))","v":{"$error":"#REF!"}},{"$f":"IF(#REF!=\"сх\",\"ноль\",IF(#REF!>0,#REF!,\"Ноль\"))","v":{"$error":"#REF!"}},null,{"$error":"#REF!"},{"$f":"IF(O12=#REF!,IF(#REF!<#REF!,#REF!,FD12),#REF!)","v":{"$error":"#REF!"}},{"$f":"IF(O12=#REF!,IF(#REF!<#REF!,0,1))","v":{"$error":"#REF!"}},{"$f":"IF(AND(EY12>=21,EY12<>0),EY12,IF(O12<#REF!,\"СТОП\",EZ12+FA12))","v":{"$error":"#REF!"}},null,15,16,null,{"$f":"IF(#REF!=1,25,0)","v":{"$error":"#REF!"}},{"$f":"IF(#REF!=2,22,0)","v":{"$error":"#REF!"}},{"$f":"IF(#REF!=3,20,0)","v":{"$error":"#REF!"}},{"$f":"IF(#REF!=4,18,0)","v":{"$error":"#REF!"}},{"$f":"IF(#REF!=5,16,0)","v":{"$error":"#REF!"}},{"$f":"IF(#REF!=6,15,0)","v":{"$error":"#REF!"}},{"$f":"IF(#REF!=7,14,0)","v":{"$error":"#REF!"}},{"$f":"IF(#REF!=8,13,0)","v":{"$error":"#REF!"}},{"$f":"IF(#REF!=9,12,0)","v":{"$error":"#REF!"}},{"$f":"IF(#REF!=10,11,0)","v":{"$error":"#REF!"}},{"$f":"IF(#REF!=11,10,0)","v":{"$error":"#REF!"}},{"$f":"IF(#REF!=12,9,0)","v":{"$error":"#REF!"}},{"$f":"IF(#REF!=13,8,0)","v":{"$error":"#REF!"}},{"$f":"IF(#REF!=14,7,0)","v":{"$error":"#REF!"}},{"$f":"IF(#REF!=15,6,0)","v":{"$error":"#REF!"}},{"$f":"IF(#REF!=16,5,0)","v":{"$error":"#REF!"}},{"$f":"IF(#REF!=17,4,0)","v":{"$error":"#REF!"}},{"$f":"IF(#REF!=18,3,0)","v":{"$error":"#REF!"}},{"$f":"IF(#REF!=19,2,0)","v":{"$error":"#REF!"}},{"$f":"IF(#REF!=20,1,0)","v":{"$error":"#REF!"}},{"$f":"IF(#REF!>20,0,0)","v":{"$error":"#REF!"}},{"$f":"IF(#REF!=\"сх\",0,0)","v":{"$error":"#REF!"}},{"$error":"#REF!"},{"$f":"IF(#REF!=1,25,0)","v":{"$error":"#REF!"}},{"$f":"IF(#REF!=2,22,0)","v":{"$error":"#REF!"}},{"$f":"IF(#REF!=3,20,0)","v":{"$error":"#REF!"}},{"$f":"IF(#REF!=4,18,0)","v":{"$error":"#REF!"}},{"$f":"IF(#REF!=5,16,0)","v":{"$error":"#REF!"}},{"$f":"IF(#REF!=6,15,0)","v":{"$error":"#REF!"}},{"$f":"IF(#REF!=7,14,0)","v":{"$error":"#REF!"}},{"$f":"IF(#REF!=8,13,0)","v":{"$error":"#REF!"}},{"$f":"IF(#REF!=9,12,0)","v":{"$error":"#REF!"}},{"$f":"IF(#REF!=10,11,0)","v":{"$error":"#REF!"}},{"$f":"IF(#REF!=11,10,0)","v":{"$error":"#REF!"}},{"$f":"IF(#REF!=12,9,0)","v":{"$error":"#REF!"}},{"$f":"IF(#REF!=13,8,0)","v":{"$error":"#REF!"}},{"$f":"IF(#REF!=14,7,0)","v":{"$error":"#REF!"}},{"$f":"IF(#REF!=15,6,0)","v":{"$error":"#REF!"}},{"$f":"IF(#REF!=16,5,0)","v":{"$error":"#REF!"}},{"$f":"IF(#REF!=17,4,0)","v":{"$error":"#REF!"}},{"$f":"IF(#REF!=18,3,0)","v":{"$error":"#REF!"}},{"$f":"IF(#REF!=19,2,0)","v":{"$error":"#REF!"}},{"$f":"IF(#REF!=20,1,0)","v":{"$error":"#REF!"}},{"$f":"IF(#REF!>20,0,0)","v":{"$error":"#REF!"}},{"$f":"IF(#REF!=\"сх\",0,0)","v":{"$error":"#REF!"}},{"$error":"#REF!"},{"$f":"IF(#REF!=1,100,0)","v":{"$error":"#REF!"}},{"$f":"IF(#REF!=2,98,0)","v":{"$error":"#REF!"}},{"$f":"IF(#REF!=3,95,0)","v":{"$error":"#REF!"}},{"$f":"IF(#REF!=4,93,0)","v":{"$error":"#REF!"}},{"$f":"IF(#REF!=5,90,0)","v":{"$error":"#REF!"}},{"$f":"IF(#REF!=6,88,0)","v":{"$error":"#REF!"}},{"$f":"IF(#REF!=7,85,0)","v":{"$error":"#REF!"}},{"$f":"IF(#REF!=8,83,0)","v":{"$error":"#REF!"}},{"$f":"IF(#REF!=9,80,0)","v":{"$error":"#REF!"}},{"$f":"IF(#REF!=10,78,0)","v":{"$error":"#REF!"}},{"$f":"IF(#REF!=11,75,0)","v":{"$error":"#REF!"}},{"$f":"IF(#REF!=12,73,0)","v":{"$error":"#REF!"}},{"$f":"IF(#REF!=13,70,0)","v":{"$error":"#REF!"}},{"$f":"IF(#REF!=14,68,0)","v":{"$error":"#REF!"}},{"$f":"IF(#REF!=15,65,0)","v":{"$error":"#REF!"}},{"$f":"IF(#REF!=16,63,0)","v":{"$error":"#REF!"}},{"$f":"IF(#REF!=17,60,0)","v":{"$error":"#REF!"}},{"$f":"IF(#REF!=18,58,0)","v":{"$error":"#REF!"}},{"$f":"IF(#REF!=19,55,0)","v":{"$error":"#REF!"}},{"$f":"IF(#REF!=20,53,0)","v":{"$error":"#REF!"}},{"$f":"IF(#REF!>20,0,0)","v":{"$error":"#REF!"}},{"$f":"IF(#REF!=\"сх\",0,0)","v":{"$error":"#REF!"}},{"$error":"#REF!"},{"$f":"IF(#REF!=1,100,0)","v":{"$error":"#REF!"}},{"$f":"IF(#REF!=2,98,0)","v":{"$error":"#REF!"}},{"$f":"IF(#REF!=3,95,0)","v":{"$error":"#REF!"}},{"$f":"IF(#REF!=4,93,0)","v":{"$error":"#REF!"}},{"$f":"IF(#REF!=5,90,0)","v":{"$error":"#REF!"}},{"$f":"IF(#REF!=6,88,0)","v":{"$error":"#REF!"}},{"$f":"IF(#REF!=7,85,0)","v":{"$error":"#REF!"}},{"$f":"IF(#REF!=8,83,0)","v":{"$error":"#REF!"}},{"$f":"IF(#REF!=9,80,0)","v":{"$error":"#REF!"}},{"$f":"IF(#REF!=10,78,0)","v":{"$error":"#REF!"}},{"$f":"IF(#REF!=11,75,0)","v":{"$error":"#REF!"}},{"$f":"IF(#REF!=12,73,0)","v":{"$error":"#REF!"}},{"$f":"IF(#REF!=13,70,0)","v":{"$error":"#REF!"}},{"$f":"IF(#REF!=14,68,0)","v":{"$error":"#REF!"}},{"$f":"IF(#REF!=15,65,0)","v":{"$error":"#REF!"}},{"$f":"IF(#REF!=16,63,0)","v":{"$error":"#REF!"}},{"$f":"IF(#REF!=17,60,0)","v":{"$error":"#REF!"}},{"$f":"IF(#REF!=18,58,0)","v":{"$error":"#REF!"}},{"$f":"IF(#REF!=19,55,0)","v":{"$error":"#REF!"}},{"$f":"IF(#REF!=20,53,0)","v":{"$error":"#REF!"}},{"$f":"IF(#REF!>20,0,0)","v":{"$error":"#REF!"}},{"$f":"IF(#REF!=\"сх\",0,0)","v":{"$error":"#REF!"}},{"$error":"#REF!"}]
[4,18,4,"Попов Алексей","мс","г. Ярославль","СТК \"Атлант\"","LYNX",6,15,5,16,3,20,51,{"$f":"#REF!+#REF!","v":{"$error":"#REF!"}},null,null,{"$f":"IF(#REF!=1,25,0)","v":{"$error":"#REF!"}},{"$f":"IF(#REF!=2,22,0)","v":{"$error":"#REF!"}},{"$f":"IF(#REF!=3,20,0)","v":{"$error":"#REF!"}},{"$f":"IF(#REF!=4,18,0)","v":{"$error":"#REF!"}},{"$f":"IF(#REF!=5,16,0)","v":{"$error":"#REF!"}},{"$f":"IF(#REF!=6,15,0)","v":{"$error":"#REF!"}},{"$f":"IF(#REF!=7,14,0)","v":{"$error":"#REF!"}},{"$f":"IF(#REF!=8,13,0)","v":{"$error":"#REF!"}},{"$f":"IF(#REF!=9,12,0)","v":{"$error":"#REF!"}},{"$f":"IF(#REF!=10,11,0)","v":{"$error":"#REF!"}},{"$f":"IF(#REF!=11,10,0)","v":{"$error":"#REF!"}},{"$f":"IF(#REF!=12,9,0)","v":{"$error":"#REF!"}},{"$f":"IF(#REF!=13,8,0)","v":{"$error":"#REF!"}},{"$f":"IF(#REF!=14,7,0)","v":{"$error":"#REF!"}},{"$f":"IF(#REF!=15,6,0)","v":{"$error":"#REF!"}},{"$f":"IF(#REF!=16,5,0)","v":{"$error":"#REF!"}},{"$f":"IF(#REF!=17,4,0)","v":{"$error":"#REF!"}},{"$f":"IF(#REF!=18,3,0)","v":{"$error":"#REF!"}},{"$f":"IF(#REF!=19,2,0)","v":{"$error":"#REF!"}},{"$f":"IF(#REF!=20,1,0)","v":{"$error":"#REF!"}},{"$f":"IF(#REF!>20,0,0)","v":{"$error":"#REF!"}},{"$f":"IF(#REF!=\"сх\",0,0)","v":{"$error":"#REF!"}},{"$error":"#REF!"},{"$f":"IF(#REF!=1,25,0)","v":{"$error":"#REF!"}},{"$f":"IF(#REF!=2,22,0)","v":{"$error":"#REF!"}},{"$f":"IF(#REF!=3,20,0)","v":{"$error":"#REF!"}},{"$f":"IF(#REF!=4,18,0)","v":{"$error":"#REF!"}},{"$f":"IF(#REF!=5,16,0)","v":{"$error":"#REF!"}},{"$f":"IF(#REF!=6,15,0)","v":{"$error":"#REF!"}},{"$f":"IF(#REF!=7,14,0)","v":{"$error":"#REF!"}},{"$f":"IF(#REF!=8,13,0)","v":{"$error":"#REF!"}},{"$f":"IF(#REF!=9,12,0)","v":{"$error":"#REF!"}},{"$f":"IF(#REF!=10,11,0)","v":{"$error":"#REF!"}},{"$f":"IF(#REF!=11,10,0)","v":{"$error":"#REF!"}},{"$f":"IF(#REF!=12,9,0)","v":{"$error":"#REF!"}},{"$f":"IF(#REF!=13,8,0)","v":{"$error":"#REF!"}},{"$f":"IF(#REF!=14,7,0)","v":{"$error":"#REF!"}},{"$f":"IF(#REF!=15,6,0)","v":{"$error":"#REF!"}},{"$f":"IF(#REF!=16,5,0)","v":{"$error":"#REF!"}},{"$f":"IF(#REF!=17,4,0)","v":{"$error":"#REF!"}},{"$f":"IF(#REF!=18,3,0)","v":{"$error":"#REF!"}},{"$f":"IF(#REF!=19,2,0)","v":{"$error":"#REF!"}},{"$f":"IF(#REF!=20,1,0)","v":{"$error":"#REF!"}},{"$f":"IF(#REF!>20,0,0)","v":{"$error":"#REF!"}},{"$f":"IF(#REF!=\"сх\",0,0)","v":{"$error":"#REF!"}},{"$error":"#REF!"},{"$f":"IF(#REF!=1,45,0)","v":{"$error":"#REF!"}},{"$f":"IF(#REF!=2,42,0)","v":{"$error":"#REF!"}},{"$f":"IF(#REF!=3,40,0)","v":{"$error":"#REF!"}},{"$f":"IF(#REF!=4,38,0)","v":{"$error":"#REF!"}},{"$f":"IF(#REF!=5,36,0)","v":{"$error":"#REF!"}},{"$f":"IF(#REF!=6,35,0)","v":{"$error":"#REF!"}},{"$f":"IF(#REF!=7,34,0)","v":{"$error":"#REF!"}},{"$f":"IF(#REF!=8,33,0)","v":{"$error":"#REF!"}},{"$f":"IF(#REF!=9,32,0)","v":{"$error":"#REF!"}},{"$f":"IF(#REF!=10,31,0)","v":{"$error":"#REF!"}},{"$f":"IF(#REF!=11,30,0)","v":{"$error":"#REF!"}},{"$f":"IF(#REF!=12,29,0)","v":{"$error":"#REF!"}},{"$f":"IF(#REF!=13,28,0)","v":{"$error":"#REF!"}},{"$f":"IF(#REF!=14,27,0)","v":{"$error":"#REF!"}},{"$f":"IF(#REF!=15,26,0)","v":{"$error":"#REF!"}},{"$f":"IF(#REF!=16,25,0)","v":{"$error":"#REF!"}},{"$f":"IF(#REF!=17,24,0)","v":{"$error":"#REF!"}},{"$f":"IF(#REF!=18,23,0)","v":{"$error":"#REF!"}},{"$f":"IF(#REF!=19,22,0)","v":{"$error":"#REF!"}},{"$f":"IF(#REF!=20,21,0)","v":{"$error":"#REF!"}},{"$f":"IF(#REF!=21,20,0)","v":{"$error":"#REF!"}},{"$f":"IF(#REF!=22,19,0)","v":{"$error":"#REF!"}},{"$f":"IF(#REF!=23,18,0)","v":{"$error":"#REF!"}},{"$f":"IF(#REF!=24,17,0)","v":{"$error":"#REF!"}},{"$f":"IF(#REF!=25,16,0)","v":{"$error":"#REF!"}},{"$f":"IF(#REF!=26,15,0)","v":{"$error":"#REF!"}},{"$f":"IF(#REF!=27,14,0)","v":{"$error":"#REF!"}},{"$f":"IF(#REF!=28,13,0)","v":{"$error":"#REF!"}},{"$f":"IF(#REF!=29,12,0)","v":{"$error":"#REF!"}},{"$f":"IF(#REF!=30,11,0)","v":{"$error":"#REF!"}},{"$f":"IF(#REF!=31,10,0)","v":{"$error":"#REF!"}},{"$f":"IF(#REF!=32,9,0)","v":{"$error":"#REF!"}},{"$f":"IF(#REF!=33,8,0)","v":{"$error":"#REF!"}},{"$f":"IF(#REF!=34,7,0)","v":{"$error":"#REF!"}},{"$f":"IF(#REF!=35,6,0)","v":{"$error":"#REF!"}},{"$f":"IF(#REF!=36,5,0)","v":{"$error":"#REF!"}},{"$f":"IF(#REF!=37,4,0)","v":{"$error":"#REF!"}},{"$f":"IF(#REF!=38,3,0)","v":{"$error":"#REF!"}},{"$f":"IF(#REF!=39,2,0)","v":{"$error":"#REF!"}},{"$f":"IF(#REF!=40,1,0)","v":{"$error":"#REF!"}},{"$f":"IF(#REF!>20,0,0)","v":{"$error":"#REF!"}},{"$f":"IF(#REF!=\"сх\",0,0)","v":{"$error":"#REF!"}},{"$error":"#REF!"},{"$f":"IF(#REF!=1,45,0)","v":{"$error":"#REF!"}},{"$f":"IF(#REF!=2,42,0)","v":{"$error":"#REF!"}},{"$f":"IF(#REF!=3,40,0)","v":{"$error":"#REF!"}},{"$f":"IF(#REF!=4,38,0)","v":{"$error":"#REF!"}},{"$f":"IF(#REF!=5,36,0)","v":{"$error":"#REF!"}},{"$f":"IF(#REF!=6,35,0)","v":{"$error":"#REF!"}},{"$f":"IF(#REF!=7,34,0)","v":{"$error":"#REF!"}},{"$f":"IF(#REF!=8,33,0)","v":{"$error":"#REF!"}},{"$f":"IF(#REF!=9,32,0)","v":{"$error":"#REF!"}},{"$f":"IF(#REF!=10,31,0)","v":{"$error":"#REF!"}},{"$f":"IF(#REF!=11,30,0)","v":{"$error":"#REF!"}},{"$f":"IF(#REF!=12,29,0)","v":{"$error":"#REF!"}},{"$f":"IF(#REF!=13,28,0)","v":{"$error":"#REF!"}},{"$f":"IF(#REF!=14,27,0)","v":{"$error":"#REF!"}},{"$f":"IF(#REF!=15,26,0)","v":{"$error":"#REF!"}},{"$f":"IF(#REF!=16,25,0)","v":{"$error":"#REF!"}},{"$f":"IF(#REF!=17,24,0)","v":{"$error":"#REF!"}},{"$f":"IF(#REF!=18,23,0)","v":{"$error":"#REF!"}},{"$f":"IF(#REF!=19,22,0)","v":{"$error":"#REF!"}},{"$f":"IF(#REF!=20,21,0)","v":{"$error":"#REF!"}},{"$f":"IF(#REF!=21,20,0)","v":{"$error":"#REF!"}},{"$f":"IF(#REF!=22,19,0)","v":{"$error":"#REF!"}},{"$f":"IF(#REF!=23,18,0)","v":{"$error":"#REF!"}},{"$f":"IF(#REF!=24,17,0)","v":{"$error":"#REF!"}},{"$f":"IF(#REF!=25,16,0)","v":{"$error":"#REF!"}},{"$f":"IF(#REF!=26,15,0)","v":{"$error":"#REF!"}},{"$f":"IF(#REF!=27,14,0)","v":{"$error":"#REF!"}},{"$f":"IF(#REF!=28,13,0)","v":{"$error":"#REF!"}},{"$f":"IF(#REF!=29,12,0)","v":{"$error":"#REF!"}},{"$f":"IF(#REF!=30,11,0)","v":{"$error":"#REF!"}},{"$f":"IF(#REF!=31,10,0)","v":{"$error":"#REF!"}},{"$f":"IF(#REF!=32,9,0)","v":{"$error":"#REF!"}},{"$f":"IF(#REF!=33,8,0)","v":{"$error":"#REF!"}},{"$f":"IF(#REF!=34,7,0)","v":{"$error":"#REF!"}},{"$f":"IF(#REF!=35,6,0)","v":{"$error":"#REF!"}},{"$f":"IF(#REF!=36,5,0)","v":{"$error":"#REF!"}},{"$f":"IF(#REF!=37,4,0)","v":{"$error":"#REF!"}},{"$f":"IF(#REF!=38,3,0)","v":{"$error":"#REF!"}},{"$f":"IF(#REF!=39,2,0)","v":{"$error":"#REF!"}},{"$f":"IF(#REF!=40,1,0)","v":{"$error":"#REF!"}},{"$f":"IF(#REF!>20,0,0)","v":{"$error":"#REF!"}},{"$f":"IF(#REF!=\"сх\",0,0)","v":{"$error":"#REF!"}},{"$error":"#REF!"},null,{"$f":"IF(#REF!=\"сх\",\"ноль\",IF(#REF!>0,#REF!,\"Ноль\"))","v":{"$error":"#REF!"}},{"$f":"IF(#REF!=\"сх\",\"ноль\",IF(#REF!>0,#REF!,\"Ноль\"))","v":{"$error":"#REF!"}},null,{"$error":"#REF!"},{"$f":"IF(O13=#REF!,IF(#REF!<#REF!,#REF!,FD13),#REF!)","v":{"$error":"#REF!"}},{"$f":"IF(O13=#REF!,IF(#REF!<#REF!,0,1))","v":{"$error":"#REF!"}},{"$f":"IF(AND(EY13>=21,EY13<>0),EY13,IF(O13<#REF!,\"СТОП\",EZ13+FA13))","v":{"$error":"#REF!"}},null,15,16,null,{"$f":"IF(#REF!=1,25,0)","v":{"$error":"#REF!"}},{"$f":"IF(#REF!=2,22,0)","v":{"$error":"#REF!"}},{"$f":"IF(#REF!=3,20,0)","v":{"$error":"#REF!"}},{"$f":"IF(#REF!=4,18,0)","v":{"$error":"#REF!"}},{"$f":"IF(#REF!=5,16,0)","v":{"$error":"#REF!"}},{"$f":"IF(#REF!=6,15,0)","v":{"$error":"#REF!"}},{"$f":"IF(#REF!=7,14,0)","v":{"$error":"#REF!"}},{"$f":"IF(#REF!=8,13,0)","v":{"$error":"#REF!"}},{"$f":"IF(#REF!=9,12,0)","v":{"$error":"#REF!"}},{"$f":"IF(#REF!=10,11,0)","v":{"$error":"#REF!"}},{"$f":"IF(#REF!=11,10,0)","v":{"$error":"#REF!"}},{"$f":"IF(#REF!=12,9,0)","v":{"$error":"#REF!"}},{"$f":"IF(#REF!=13,8,0)","v":{"$error":"#REF!"}},{"$f":"IF(#REF!=14,7,0)","v":{"$error":"#REF!"}},{"$f":"IF(#REF!=15,6,0)","v":{"$error":"#REF!"}},{"$f":"IF(#REF!=16,5,0)","v":{"$error":"#REF!"}},{"$f":"IF(#REF!=17,4,0)","v":{"$error":"#REF!"}},{"$f":"IF(#REF!=18,3,0)","v":{"$error":"#REF!"}},{"$f":"IF(#REF!=19,2,0)","v":{"$error":"#REF!"}},{"$f":"IF(#REF!=20,1,0)","v":{"$error":"#REF!"}},{"$f":"IF(#REF!>20,0,0)","v":{"$error":"#REF!"}},{"$f":"IF(#REF!=\"сх\",0,0)","v":{"$error":"#REF!"}},{"$error":"#REF!"},{"$f":"IF(#REF!=1,25,0)","v":{"$error":"#REF!"}},{"$f":"IF(#REF!=2,22,0)","v":{"$error":"#REF!"}},{"$f":"IF(#REF!=3,20,0)","v":{"$error":"#REF!"}},{"$f":"IF(#REF!=4,18,0)","v":{"$error":"#REF!"}},{"$f":"IF(#REF!=5,16,0)","v":{"$error":"#REF!"}},{"$f":"IF(#REF!=6,15,0)","v":{"$error":"#REF!"}},{"$f":"IF(#REF!=7,14,0)","v":{"$error":"#REF!"}},{"$f":"IF(#REF!=8,13,0)","v":{"$error":"#REF!"}},{"$f":"IF(#REF!=9,12,0)","v":{"$error":"#REF!"}},{"$f":"IF(#REF!=10,11,0)","v":{"$error":"#REF!"}},{"$f":"IF(#REF!=11,10,0)","v":{"$error":"#REF!"}},{"$f":"IF(#REF!=12,9,0)","v":{"$error":"#REF!"}},{"$f":"IF(#REF!=13,8,0)","v":{"$error":"#REF!"}},{"$f":"IF(#REF!=14,7,0)","v":{"$error":"#REF!"}},{"$f":"IF(#REF!=15,6,0)","v":{"$error":"#REF!"}},{"$f":"IF(#REF!=16,5,0)","v":{"$error":"#REF!"}},{"$f":"IF(#REF!=17,4,0)","v":{"$error":"#REF!"}},{"$f":"IF(#REF!=18,3,0)","v":{"$error":"#REF!"}},{"$f":"IF(#REF!=19,2,0)","v":{"$error":"#REF!"}},{"$f":"IF(#REF!=20,1,0)","v":{"$error":"#REF!"}},{"$f":"IF(#REF!>20,0,0)","v":{"$error":"#REF!"}},{"$f":"IF(#REF!=\"сх\",0,0)","v":{"$error":"#REF!"}},{"$error":"#REF!"},{"$f":"IF(#REF!=1,100,0)","v":{"$error":"#REF!"}},{"$f":"IF(#REF!=2,98,0)","v":{"$error":"#REF!"}},{"$f":"IF(#REF!=3,95,0)","v":{"$error":"#REF!"}},{"$f":"IF(#REF!=4,93,0)","v":{"$error":"#REF!"}},{"$f":"IF(#REF!=5,90,0)","v":{"$error":"#REF!"}},{"$f":"IF(#REF!=6,88,0)","v":{"$error":"#REF!"}},{"$f":"IF(#REF!=7,85,0)","v":{"$error":"#REF!"}},{"$f":"IF(#REF!=8,83,0)","v":{"$error":"#REF!"}},{"$f":"IF(#REF!=9,80,0)","v":{"$error":"#REF!"}},{"$f":"IF(#REF!=10,78,0)","v":{"$error":"#REF!"}},{"$f":"IF(#REF!=11,75,0)","v":{"$error":"#REF!"}},{"$f":"IF(#REF!=12,73,0)","v":{"$error":"#REF!"}},{"$f":"IF(#REF!=13,70,0)","v":{"$error":"#REF!"}},{"$f":"IF(#REF!=14,68,0)","v":{"$error":"#REF!"}},{"$f":"IF(#REF!=15,65,0)","v":{"$error":"#REF!"}},{"$f":"IF(#REF!=16,63,0)","v":{"$error":"#REF!"}},{"$f":"IF(#REF!=17,60,0)","v":{"$error":"#REF!"}},{"$f":"IF(#REF!=18,58,0)","v":{"$error":"#REF!"}},{"$f":"IF(#REF!=19,55,0)","v":{"$error":"#REF!"}},{"$f":"IF(#REF!=20,53,0)","v":{"$error":"#REF!"}},{"$f":"IF(#REF!>20,0,0)","v":{"$error":"#REF!"}},{"$f":"IF(#REF!=\"сх\",0,0)","v":{"$error":"#REF!"}},{"$error":"#REF!"},{"$f":"IF(#REF!=1,100,0)","v":{"$error":"#REF!"}},{"$f":"IF(#REF!=2,98,0)","v":{"$error":"#REF!"}},{"$f":"IF(#REF!=3,95,0)","v":{"$error":"#REF!"}},{"$f":"IF(#REF!=4,93,0)","v":{"$error":"#REF!"}},{"$f":"IF(#REF!=5,90,0)","v":{"$error":"#REF!"}},{"$f":"IF(#REF!=6,88,0)","v":{"$error":"#REF!"}},{"$f":"IF(#REF!=7,85,0)","v":{"$error":"#REF!"}},{"$f":"IF(#REF!=8,83,0)","v":{"$error":"#REF!"}},{"$f":"IF(#REF!=9,80,0)","v":{"$error":"#REF!"}},{"$f":"IF(#REF!=10,78,0)","v":{"$error":"#REF!"}},{"$f":"IF(#REF!=11,75,0)","v":{"$error":"#REF!"}},{"$f":"IF(#REF!=12,73,0)","v":{"$error":"#REF!"}},{"$f":"IF(#REF!=13,70,0)","v":{"$error":"#REF!"}},{"$f":"IF(#REF!=14,68,0)","v":{"$error":"#REF!"}},{"$f":"IF(#REF!=15,65,0)","v":{"$error":"#REF!"}},{"$f":"IF(#REF!=16,63,0)","v":{"$error":"#REF!"}},{"$f":"IF(#REF!=17,60,0)","v":{"$error":"#REF!"}},{"$f":"IF(#REF!=18,58,0)","v":{"$error":"#REF!"}},{"$f":"IF(#REF!=19,55,0)","v":{"$error":"#REF!"}},{"$f":"IF(#REF!=20,53,0)","v":{"$error":"#REF!"}},{"$f":"IF(#REF!>20,0,0)","v":{"$error":"#REF!"}},{"$f":"IF(#REF!=\"сх\",0,0)","v":{"$error":"#REF!"}},{"$error":"#REF!"}]
[5,17.600000000000001,6,"Знайдюк Александр","I","г. Новый Уренгой, Ямало-Ненецкий АО","СТК \"Ямбург\"","LYNX",4,18,6,15,5,16,49,{"$f":"#REF!+#REF!","v":{"$error":"#REF!"}},null,null,{"$f":"IF(#REF!=1,25,0)","v":{"$error":"#REF!"}},{"$f":"IF(#REF!=2,22,0)","v":{"$error":"#REF!"}},{"$f":"IF(#REF!=3,20,0)","v":{"$error":"#REF!"}},{"$f":"IF(#REF!=4,18,0)","v":{"$error":"#REF!"}},{"$f":"IF(#REF!=5,16,0)","v":{"$error":"#REF!"}},{"$f":"IF(#REF!=6,15,0)","v":{"$error":"#REF!"}},{"$f":"IF(#REF!=7,14,0)","v":{"$error":"#REF!"}},{"$f":"IF(#REF!=8,13,0)","v":{"$error":"#REF!"}},{"$f":"IF(#REF!=9,12,0)","v":{"$error":"#REF!"}},{"$f":"IF(#REF!=10,11,0)","v":{"$error":"#REF!"}},{"$f":"IF(#REF!=11,10,0)","v":{"$error":"#REF!"}},{"$f":"IF(#REF!=12,9,0)","v":{"$error":"#REF!"}},{"$f":"IF(#REF!=13,8,0)","v":{"$error":"#REF!"}},{"$f":"IF(#REF!=14,7,0)","v":{"$error":"#REF!"}},{"$f":"IF(#REF!=15,6,0)","v":{"$error":"#REF!"}},{"$f":"IF(#REF!=16,5,0)","v":{"$error":"#REF!"}},{"$f":"IF(#REF!=17,4,0)","v":{"$error":"#REF!"}},{"$f":"IF(#REF!=18,3,0)","v":{"$error":"#REF!"}},{"$f":"IF(#REF!=19,2,0)","v":{"$error":"#REF!"}},{"$f":"IF(#REF!=20,1,0)","v":{"$error":"#REF!"}},{"$f":"IF(#REF!>20,0,0)","v":{"$error":"#REF!"}},{"$f":"IF(#REF!=\"сх\",0,0)","v":{"$error":"#REF!"}},{"$error":"#REF!"},{"$f":"IF(#REF!=1,25,0)","v":{"$error":"#REF!"}},{"$f":"IF(#REF!=2,22,0)","v":{"$error":"#REF!"}},{"$f":"IF(#REF!=3,20,0)","v":{"$error":"#REF!"}},{"$f":"IF(#REF!=4,18,0)","v":{"$error":"#REF!"}},{"$f":"IF(#REF!=5,16,0)","v":{"$error":"#REF!"}},{"$f":"IF(#REF!=6,15,0)","v":{"$error":"#REF!"}},{"$f":"IF(#REF!=7,14,0)","v":{"$error":"#REF!"}},{"$f":"IF(#REF!=8,13,0)","v":{"$error":"#REF!"}},{"$f":"IF(#REF!=9,12,0)","v":{"$error":"#REF!"}},{"$f":"IF(#REF!=10,11,0)","v":{"$error":"#REF!"}},{"$f":"IF(#REF!=11,10,0)","v":{"$error":"#REF!"}},{"$f":"IF(#REF!=12,9,0)","v":{"$error":"#REF!"}},{"$f":"IF(#REF!=13,8,0)","v":{"$error":"#REF!"}},{"$f":"IF(#REF!=14,7,0)","v":{"$error":"#REF!"}},{"$f":"IF(#REF!=15,6,0)","v":{"$error":"#REF!"}},{"$f":"IF(#REF!=16,5,0)","v":{"$error":"#REF!"}},{"$f":"IF(#REF!=17,4,0)","v":{"$error":"#REF!"}},{"$f":"IF(#REF!=18,3,0)","v":{"$error":"#REF!"}},{"$f":"IF(#REF!=19,2,0)","v":{"$error":"#REF!"}},{"$f":"IF(#REF!=20,1,0)","v":{"$error":"#REF!"}},{"$f":"IF(#REF!>20,0,0)","v":{"$error":"#REF!"}},{"$f":"IF(#REF!=\"сх\",0,0)","v":{"$error":"#REF!"}},{"$error":"#REF!"},{"$f":"IF(#REF!=1,45,0)","v":{"$error":"#REF!"}},{"$f":"IF(#REF!=2,42,0)","v":{"$error":"#REF!"}},{"$f":"IF(#REF!=3,40,0)","v":{"$error":"#REF!"}},{"$f":"IF(#REF!=4,38,0)","v":{"$error":"#REF!"}},{"$f":"IF(#REF!=5,36,0)","v":{"$error":"#REF!"}},{"$f":"IF(#REF!=6,35,0)","v":{"$error":"#REF!"}},{"$f":"IF(#REF!=7,34,0)","v":{"$error":"#REF!"}},{"$f":"IF(#REF!=8,33,0)","v":{"$error":"#REF!"}},{"$f":"IF(#REF!=9,32,0)","v":{"$error":"#REF!"}},{"$f":"IF(#REF!=10,31,0)","v":{"$error":"#REF!"}},{"$f":"IF(#REF!=11,30,0)","v":{"$error":"#REF!"}},{"$f":"IF(#REF!=12,29,0)","v":{"$error":"#REF!"}},{"$f":"IF(#REF!=13,28,0)","v":{"$error":"#REF!"}},{"$f":"IF(#REF!=14,27,0)","v":{"$error":"#REF!"}},{"$f":"IF(#REF!=15,26,0)","v":{"$error":"#REF!"}},{"$f":"IF(#REF!=16,25,0)","v":{"$error":"#REF!"}},{"$f":"IF(#REF!=17,24,0)","v":{"$error":"#REF!"}},{"$f":"IF(#REF!=18,23,0)","v":{"$error":"#REF!"}},{"$f":"IF(#REF!=19,22,0)","v":{"$error":"#REF!"}},{"$f":"IF(#REF!=20,21,0)","v":{"$error":"#REF!"}},{"$f":"IF(#REF!=21,20,0)","v":{"$error":"#REF!"}},{"$f":"IF(#REF!=22,19,0)","v":{"$error":"#REF!"}},{"$f":"IF(#REF!=23,18,0)","v":{"$error":"#REF!"}},{"$f":"IF(#REF!=24,17,0)","v":{"$error":"#REF!"}},{"$f":"IF(#REF!=25,16,0)","v":{"$error":"#REF!"}},{"$f":"IF(#REF!=26,15,0)","v":{"$error":"#REF!"}},{"$f":"IF(#REF!=27,14,0)","v":{"$error":"#REF!"}},{"$f":"IF(#REF!=28,13,0)","v":{"$error":"#REF!"}},{"$f":"IF(#REF!=29,12,0)","v":{"$error":"#REF!"}},{"$f":"IF(#REF!=30,11,0)","v":{"$error":"#REF!"}},{"$f":"IF(#REF!=31,10,0)","v":{"$error":"#REF!"}},{"$f":"IF(#REF!=32,9,0)","v":{"$error":"#REF!"}},{"$f":"IF(#REF!=33,8,0)","v":{"$error":"#REF!"}},{"$f":"IF(#REF!=34,7,0)","v":{"$error":"#REF!"}},{"$f":"IF(#REF!=35,6,0)","v":{"$error":"#REF!"}},{"$f":"IF(#REF!=36,5,0)","v":{"$error":"#REF!"}},{"$f":"IF(#REF!=37,4,0)","v":{"$error":"#REF!"}},{"$f":"IF(#REF!=38,3,0)","v":{"$error":"#REF!"}},{"$f":"IF(#REF!=39,2,0)","v":{"$error":"#REF!"}},{"$f":"IF(#REF!=40,1,0)","v":{"$error":"#REF!"}},{"$f":"IF(#REF!>20,0,0)","v":{"$error":"#REF!"}},{"$f":"IF(#REF!=\"сх\",0,0)","v":{"$error":"#REF!"}},{"$error":"#REF!"},{"$f":"IF(#REF!=1,45,0)","v":{"$error":"#REF!"}},{"$f":"IF(#REF!=2,42,0)","v":{"$error":"#REF!"}},{"$f":"IF(#REF!=3,40,0)","v":{"$error":"#REF!"}},{"$f":"IF(#REF!=4,38,0)","v":{"$error":"#REF!"}},{"$f":"IF(#REF!=5,36,0)","v":{"$error":"#REF!"}},{"$f":"IF(#REF!=6,35,0)","v":{"$error":"#REF!"}},{"$f":"IF(#REF!=7,34,0)","v":{"$error":"#REF!"}},{"$f":"IF(#REF!=8,33,0)","v":{"$error":"#REF!"}},{"$f":"IF(#REF!=9,32,0)","v":{"$error":"#REF!"}},{"$f":"IF(#REF!=10,31,0)","v":{"$error":"#REF!"}},{"$f":"IF(#REF!=11,30,0)","v":{"$error":"#REF!"}},{"$f":"IF(#REF!=12,29,0)","v":{"$error":"#REF!"}},{"$f":"IF(#REF!=13,28,0)","v":{"$error":"#REF!"}},{"$f":"IF(#REF!=14,27,0)","v":{"$error":"#REF!"}},{"$f":"IF(#REF!=15,26,0)","v":{"$error":"#REF!"}},{"$f":"IF(#REF!=16,25,0)","v":{"$error":"#REF!"}},{"$f":"IF(#REF!=17,24,0)","v":{"$error":"#REF!"}},{"$f":"IF(#REF!=18,23,0)","v":{"$error":"#REF!"}},{"$f":"IF(#REF!=19,22,0)","v":{"$error":"#REF!"}},{"$f":"IF(#REF!=20,21,0)","v":{"$error":"#REF!"}},{"$f":"IF(#REF!=21,20,0)","v":{"$error":"#REF!"}},{"$f":"IF(#REF!=22,19,0)","v":{"$error":"#REF!"}},{"$f":"IF(#REF!=23,18,0)","v":{"$error":"#REF!"}},{"$f":"IF(#REF!=24,17,0)","v":{"$error":"#REF!"}},{"$f":"IF(#REF!=25,16,0)","v":{"$error":"#REF!"}},{"$f":"IF(#REF!=26,15,0)","v":{"$error":"#REF!"}},{"$f":"IF(#REF!=27,14,0)","v":{"$error":"#REF!"}},{"$f":"IF(#REF!=28,13,0)","v":{"$error":"#REF!"}},{"$f":"IF(#REF!=29,12,0)","v":{"$error":"#REF!"}},{"$f":"IF(#REF!=30,11,0)","v":{"$error":"#REF!"}},{"$f":"IF(#REF!=31,10,0)","v":{"$error":"#REF!"}},{"$f":"IF(#REF!=32,9,0)","v":{"$error":"#REF!"}},{"$f":"IF(#REF!=33,8,0)","v":{"$error":"#REF!"}},{"$f":"IF(#REF!=34,7,0)","v":{"$error":"#REF!"}},{"$f":"IF(#REF!=35,6,0)","v":{"$error":"#REF!"}},{"$f":"IF(#REF!=36,5,0)","v":{"$error":"#REF!"}},{"$f":"IF(#REF!=37,4,0)","v":{"$error":"#REF!"}},{"$f":"IF(#REF!=38,3,0)","v":{"$error":"#REF!"}},{"$f":"IF(#REF!=39,2,0)","v":{"$error":"#REF!"}},{"$f":"IF(#REF!=40,1,0)","v":{"$error":"#REF!"}},{"$f":"IF(#REF!>20,0,0)","v":{"$error":"#REF!"}},{"$f":"IF(#REF!=\"сх\",0,0)","v":{"$error":"#REF!"}},{"$error":"#REF!"},null,{"$f":"IF(#REF!=\"сх\",\"ноль\",IF(#REF!>0,#REF!,\"Ноль\"))","v":{"$error":"#REF!"}},{"$f":"IF(#REF!=\"сх\",\"ноль\",IF(#REF!>0,#REF!,\"Ноль\"))","v":{"$error":"#REF!"}},null,{"$error":"#REF!"},{"$f":"IF(O14=#REF!,IF(#REF!<#REF!,#REF!,FD14),#REF!)","v":{"$error":"#REF!"}},{"$f":"IF(O14=#REF!,IF(#REF!<#REF!,0,1))","v":{"$error":"#REF!"}},{"$f":"IF(AND(EY14>=21,EY14<>0),EY14,IF(O14<#REF!,\"СТОП\",EZ14+FA14))","v":{"$error":"#REF!"}},null,15,16,null,{"$f":"IF(#REF!=1,25,0)","v":{"$error":"#REF!"}},{"$f":"IF(#REF!=2,22,0)","v":{"$error":"#REF!"}},{"$f":"IF(#REF!=3,20,0)","v":{"$error":"#REF!"}},{"$f":"IF(#REF!=4,18,0)","v":{"$error":"#REF!"}},{"$f":"IF(#REF!=5,16,0)","v":{"$error":"#REF!"}},{"$f":"IF(#REF!=6,15,0)","v":{"$error":"#REF!"}},{"$f":"IF(#REF!=7,14,0)","v":{"$error":"#REF!"}},{"$f":"IF(#REF!=8,13,0)","v":{"$error":"#REF!"}},{"$f":"IF(#REF!=9,12,0)","v":{"$error":"#REF!"}},{"$f":"IF(#REF!=10,11,0)","v":{"$error":"#REF!"}},{"$f":"IF(#REF!=11,10,0)","v":{"$error":"#REF!"}},{"$f":"IF(#REF!=12,9,0)","v":{"$error":"#REF!"}},{"$f":"IF(#REF!=13,8,0)","v":{"$error":"#REF!"}},{"$f":"IF(#REF!=14,7,0)","v":{"$error":"#REF!"}},{"$f":"IF(#REF!=15,6,0)","v":{"$error":"#REF!"}},{"$f":"IF(#REF!=16,5,0)","v":{"$error":"#REF!"}},{"$f":"IF(#REF!=17,4,0)","v":{"$error":"#REF!"}},{"$f":"IF(#REF!=18,3,0)","v":{"$error":"#REF!"}},{"$f":"IF(#REF!=19,2,0)","v":{"$error":"#REF!"}},{"$f":"IF(#REF!=20,1,0)","v":{"$error":"#REF!"}},{"$f":"IF(#REF!>20,0,0)","v":{"$error":"#REF!"}},{"$f":"IF(#REF!=\"сх\",0,0)","v":{"$error":"#REF!"}},{"$error":"#REF!"},{"$f":"IF(#REF!=1,25,0)","v":{"$error":"#REF!"}},{"$f":"IF(#REF!=2,22,0)","v":{"$error":"#REF!"}},{"$f":"IF(#REF!=3,20,0)","v":{"$error":"#REF!"}},{"$f":"IF(#REF!=4,18,0)","v":{"$error":"#REF!"}},{"$f":"IF(#REF!=5,16,0)","v":{"$error":"#REF!"}},{"$f":"IF(#REF!=6,15,0)","v":{"$error":"#REF!"}},{"$f":"IF(#REF!=7,14,0)","v":{"$error":"#REF!"}},{"$f":"IF(#REF!=8,13,0)","v":{"$error":"#REF!"}},{"$f":"IF(#REF!=9,12,0)","v":{"$error":"#REF!"}},{"$f":"IF(#REF!=10,11,0)","v":{"$error":"#REF!"}},{"$f":"IF(#REF!=11,10,0)","v":{"$error":"#REF!"}},{"$f":"IF(#REF!=12,9,0)","v":{"$error":"#REF!"}},{"$f":"IF(#REF!=13,8,0)","v":{"$error":"#REF!"}},{"$f":"IF(#REF!=14,7,0)","v":{"$error":"#REF!"}},{"$f":"IF(#REF!=15,6,0)","v":{"$error":"#REF!"}},{"$f":"IF(#REF!=16,5,0)","v":{"$error":"#REF!"}},{"$f":"IF(#REF!=17,4,0)","v":{"$error":"#REF!"}},{"$f":"IF(#REF!=18,3,0)","v":{"$error":"#REF!"}},{"$f":"IF(#REF!=19,2,0)","v":{"$error":"#REF!"}},{"$f":"IF(#REF!=20,1,0)","v":{"$error":"#REF!"}},{"$f":"IF(#REF!>20,0,0)","v":{"$error":"#REF!"}},{"$f":"IF(#REF!=\"сх\",0,0)","v":{"$error":"#REF!"}},{"$error":"#REF!"},{"$f":"IF(#REF!=1,100,0)","v":{"$error":"#REF!"}},{"$f":"IF(#REF!=2,98,0)","v":{"$error":"#REF!"}},{"$f":"IF(#REF!=3,95,0)","v":{"$error":"#REF!"}},{"$f":"IF(#REF!=4,93,0)","v":{"$error":"#REF!"}},{"$f":"IF(#REF!=5,90,0)","v":{"$error":"#REF!"}},{"$f":"IF(#REF!=6,88,0)","v":{"$error":"#REF!"}},{"$f":"IF(#REF!=7,85,0)","v":{"$error":"#REF!"}},{"$f":"IF(#REF!=8,83,0)","v":{"$error":"#REF!"}},{"$f":"IF(#REF!=9,80,0)","v":{"$error":"#REF!"}},{"$f":"IF(#REF!=10,78,0)","v":{"$error":"#REF!"}},{"$f":"IF(#REF!=11,75,0)","v":{"$error":"#REF!"}},{"$f":"IF(#REF!=12,73,0)","v":{"$error":"#REF!"}},{"$f":"IF(#REF!=13,70,0)","v":{"$error":"#REF!"}},{"$f":"IF(#REF!=14,68,0)","v":{"$error":"#REF!"}},{"$f":"IF(#REF!=15,65,0)","v":{"$error":"#REF!"}},{"$f":"IF(#REF!=16,63,0)","v":{"$error":"#REF!"}},{"$f":"IF(#REF!=17,60,0)","v":{"$error":"#REF!"}},{"$f":"IF(#REF!=18,58,0)","v":{"$error":"#REF!"}},{"$f":"IF(#REF!=19,55,0)","v":{"$error":"#REF!"}},{"$f":"IF(#REF!=20,53,0)","v":{"$error":"#REF!"}},{"$f":"IF(#REF!>20,0,0)","v":{"$error":"#REF!"}},{"$f":"IF(#REF!=\"сх\",0,0)","v":{"$error":"#REF!"}},{"$error":"#REF!"},{"$f":"IF(#REF!=1,100,0)","v":{"$error":"#REF!"}},{"$f":"IF(#REF!=2,98,0)","v":{"$error":"#REF!"}},{"$f":"IF(#REF!=3,95,0)","v":{"$error":"#REF!"}},{"$f":"IF(#REF!=4,93,0)","v":{"$error":"#REF!"}},{"$f":"IF(#REF!=5,90,0)","v":{"$error":"#REF!"}},{"$f":"IF(#REF!=6,88,0)","v":{"$error":"#REF!"}},{"$f":"IF(#REF!=7,85,0)","v":{"$error":"#REF!"}},{"$f":"IF(#REF!=8,83,0)","v":{"$error":"#REF!"}},{"$f":"IF(#REF!=9,80,0)","v":{"$error":"#REF!"}},{"$f":"IF(#REF!=10,78,0)","v":{"$error":"#REF!"}},{"$f":"IF(#REF!=11,75,0)","v":{"$error":"#REF!"}},{"$f":"IF(#REF!=12,73,0)","v":{"$error":"#REF!"}},{"$f":"IF(#REF!=13,70,0)","v":{"$error":"#REF!"}},{"$f":"IF(#REF!=14,68,0)","v":{"$error":"#REF!"}},{"$f":"IF(#REF!=15,65,0)","v":{"$error":"#REF!"}},{"$f":"IF(#REF!=16,63,0)","v":{"$error":"#REF!"}},{"$f":"IF(#REF!=17,60,0)","v":{"$error":"#REF!"}},{"$f":"IF(#REF!=18,58,0)","v":{"$error":"#REF!"}},{"$f":"IF(#REF!=19,55,0)","v":{"$error":"#REF!"}},{"$f":"IF(#REF!=20,53,0)","v":{"$error":"#REF!"}},{"$f":"IF(#REF!>20,0,0)","v":{"$error":"#REF!"}},{"$f":"IF(#REF!=\"сх\",0,0)","v":{"$error":"#REF!"}},{"$error":"#REF!"}]
[6,17.2,16,"Пехтерев Артем","кмс","г. Ярославль","СТК \"Атлант\"","LYNX",5,16,7,14,6,15,45,{"$f":"#REF!+#REF!","v":{"$error":"#REF!"}},null,null,{"$f":"IF(#REF!=1,25,0)","v":{"$error":"#REF!"}},{"$f":"IF(#REF!=2,22,0)","v":{"$error":"#REF!"}},{"$f":"IF(#REF!=3,20,0)","v":{"$error":"#REF!"}},{"$f":"IF(#REF!=4,18,0)","v":{"$error":"#REF!"}},{"$f":"IF(#REF!=5,16,0)","v":{"$error":"#REF!"}},{"$f":"IF(#REF!=6,15,0)","v":{"$error":"#REF!"}},{"$f":"IF(#REF!=7,14,0)","v":{"$error":"#REF!"}},{"$f":"IF(#REF!=8,13,0)","v":{"$error":"#REF!"}},{"$f":"IF(#REF!=9,12,0)","v":{"$error":"#REF!"}},{"$f":"IF(#REF!=10,11,0)","v":{"$error":"#REF!"}},{"$f":"IF(#REF!=11,10,0)","v":{"$error":"#REF!"}},{"$f":"IF(#REF!=12,9,0)","v":{"$error":"#REF!"}},{"$f":"IF(#REF!=13,8,0)","v":{"$error":"#REF!"}},{"$f":"IF(#REF!=14,7,0)","v":{"$error":"#REF!"}},{"$f":"IF(#REF!=15,6,0)","v":{"$error":"#REF!"}},{"$f":"IF(#REF!=16,5,0)","v":{"$error":"#REF!"}},{"$f":"IF(#REF!=17,4,0)","v":{"$error":"#REF!"}},{"$f":"IF(#REF!=18,3,0)","v":{"$error":"#REF!"}},{"$f":"IF(#REF!=19,2,0)","v":{"$error":"#REF!"}},{"$f":"IF(#REF!=20,1,0)","v":{"$error":"#REF!"}},{"$f":"IF(#REF!>20,0,0)","v":{"$error":"#REF!"}},{"$f":"IF(#REF!=\"сх\",0,0)","v":{"$error":"#REF!"}},{"$error":"#REF!"},{"$f":"IF(#REF!=1,25,0)","v":{"$error":"#REF!"}},{"$f":"IF(#REF!=2,22,0)","v":{"$error":"#REF!"}},{"$f":"IF(#REF!=3,20,0)","v":{"$error":"#REF!"}},{"$f":"IF(#REF!=4,18,0)","v":{"$error":"#REF!"}},{"$f":"IF(#REF!=5,16,0)","v":{"$error":"#REF!"}},{"$f":"IF(#REF!=6,15,0)","v":{"$error":"#REF!"}},{"$f":"IF(#REF!=7,14,0)","v":{"$error":"#REF!"}},{"$f":"IF(#REF!=8,13,0)","v":{"$error":"#REF!"}},{"$f":"IF(#REF!=9,12,0)","v":{"$error":"#REF!"}},{"$f":"IF(#REF!=10,11,0)","v":{"$error":"#REF!"}},{"$f":"IF(#REF!=11,10,0)","v":{"$error":"#REF!"}},{"$f":"IF(#REF!=12,9,0)","v":{"$error":"#REF!"}},{"$f":"IF(#REF!=13,8,0)","v":{"$error":"#REF!"}},{"$f":"IF(#REF!=14,7,0)","v":{"$error":"#REF!"}},{"$f":"IF(#REF!=15,6,0)","v":{"$error":"#REF!"}},{"$f":"IF(#REF!=16,5,0)","v":{"$error":"#REF!"}},{"$f":"IF(#REF!=17,4,0)","v":{"$error":"#REF!"}},{"$f":"IF(#REF!=18,3,0)","v":{"$error":"#REF!"}},{"$f":"IF(#REF!=19,2,0)","v":{"$error":"#REF!"}},{"$f":"IF(#REF!=20,1,0)","v":{"$error":"#REF!"}},{"$f":"IF(#REF!>20,0,0)","v":{"$error":"#REF!"}},{"$f":"IF(#REF!=\"сх\",0,0)","v":{"$error":"#REF!"}},{"$error":"#REF!"},{"$f":"IF(#REF!=1,45,0)","v":{"$error":"#REF!"}},{"$f":"IF(#REF!=2,42,0)","v":{"$error":"#REF!"}},{"$f":"IF(#REF!=3,40,0)","v":{"$error":"#REF!"}},{"$f":"IF(#REF!=4,38,0)","v":{"$error":"#REF!"}},{"$f":"IF(#REF!=5,36,0)","v":{"$error":"#REF!"}},{"$f":"IF(#REF!=6,35,0)","v":{"$error":"#REF!"}},{"$f":"IF(#REF!=7,34,0)","v":{"$error":"#REF!"}},{"$f":"IF(#REF!=8,33,0)","v":{"$error":"#REF!"}},{"$f":"IF(#REF!=9,32,0)","v":{"$error":"#REF!"}},{"$f":"IF(#REF!=10,31,0)","v":{"$error":"#REF!"}},{"$f":"IF(#REF!=11,30,0)","v":{"$error":"#REF!"}},{"$f":"IF(#REF!=12,29,0)","v":{"$error":"#REF!"}},{"$f":"IF(#REF!=13,28,0)","v":{"$error":"#REF!"}},{"$f":"IF(#REF!=14,27,0)","v":{"$error":"#REF!"}},{"$f":"IF(#REF!=15,26,0)","v":{"$error":"#REF!"}},{"$f":"IF(#REF!=16,25,0)","v":{"$error":"#REF!"}},{"$f":"IF(#REF!=17,24,0)","v":{"$error":"#REF!"}},{"$f":"IF(#REF!=18,23,0)","v":{"$error":"#REF!"}},{"$f":"IF(#REF!=19,22,0)","v":{"$error":"#REF!"}},{"$f":"IF(#REF!=20,21,0)","v":{"$error":"#REF!"}},{"$f":"IF(#REF!=21,20,0)","v":{"$error":"#REF!"}},{"$f":"IF(#REF!=22,19,0)","v":{"$error":"#REF!"}},{"$f":"IF(#REF!=23,18,0)","v":{"$error":"#REF!"}},{"$f":"IF(#REF!=24,17,0)","v":{"$error":"#REF!"}},{"$f":"IF(#REF!=25,16,0)","v":{"$error":"#REF!"}},{"$f":"IF(#REF!=26,15,0)","v":{"$error":"#REF!"}},{"$f":"IF(#REF!=27,14,0)","v":{"$error":"#REF!"}},{"$f":"IF(#REF!=28,13,0)","v":{"$error":"#REF!"}},{"$f":"IF(#REF!=29,12,0)","v":{"$error":"#REF!"}},{"$f":"IF(#REF!=30,11,0)","v":{"$error":"#REF!"}},{"$f":"IF(#REF!=31,10,0)","v":{"$error":"#REF!"}},{"$f":"IF(#REF!=32,9,0)","v":{"$error":"#REF!"}},{"$f":"IF(#REF!=33,8,0)","v":{"$error":"#REF!"}},{"$f":"IF(#REF!=34,7,0)","v":{"$error":"#REF!"}},{"$f":"IF(#REF!=35,6,0)","v":{"$error":"#REF!"}},{"$f":"IF(#REF!=36,5,0)","v":{"$error":"#REF!"}},{"$f":"IF(#REF!=37,4,0)","v":{"$error":"#REF!"}},{"$f":"IF(#REF!=38,3,0)","v":{"$error":"#REF!"}},{"$f":"IF(#REF!=39,2,0)","v":{"$error":"#REF!"}},{"$f":"IF(#REF!=40,1,0)","v":{"$error":"#REF!"}},{"$f":"IF(#REF!>20,0,0)","v":{"$error":"#REF!"}},{"$f":"IF(#REF!=\"сх\",0,0)","v":{"$error":"#REF!"}},{"$error":"#REF!"},{"$f":"IF(#REF!=1,45,0)","v":{"$error":"#REF!"}},{"$f":"IF(#REF!=2,42,0)","v":{"$error":"#REF!"}},{"$f":"IF(#REF!=3,40,0)","v":{"$error":"#REF!"}},{"$f":"IF(#REF!=4,38,0)","v":{"$error":"#REF!"}},{"$f":"IF(#REF!=5,36,0)","v":{"$error":"#REF!"}},{"$f":"IF(#REF!=6,35,0)","v":{"$error":"#REF!"}},{"$f":"IF(#REF!=7,34,0)","v":{"$error":"#REF!"}},{"$f":"IF(#REF!=8,33,0)","v":{"$error":"#REF!"}},{"$f":"IF(#REF!=9,32,0)","v":{"$error":"#REF!"}},{"$f":"IF(#REF!=10,31,0)","v":{"$error":"#REF!"}},{"$f":"IF(#REF!=11,30,0)","v":{"$error":"#REF!"}},{"$f":"IF(#REF!=12,29,0)","v":{"$error":"#REF!"}},{"$f":"IF(#REF!=13,28,0)","v":{"$error":"#REF!"}},{"$f":"IF(#REF!=14,27,0)","v":{"$error":"#REF!"}},{"$f":"IF(#REF!=15,26,0)","v":{"$error":"#REF!"}},{"$f":"IF(#REF!=16,25,0)","v":{"$error":"#REF!"}},{"$f":"IF(#REF!=17,24,0)","v":{"$error":"#REF!"}},{"$f":"IF(#REF!=18,23,0)","v":{"$error":"#REF!"}},{"$f":"IF(#REF!=19,22,0)","v":{"$error":"#REF!"}},{"$f":"IF(#REF!=20,21,0)","v":{"$error":"#REF!"}},{"$f":"IF(#REF!=21,20,0)","v":{"$error":"#REF!"}},{"$f":"IF(#REF!=22,19,0)","v":{"$error":"#REF!"}},{"$f":"IF(#REF!=23,18,0)","v":{"$error":"#REF!"}},{"$f":"IF(#REF!=24,17,0)","v":{"$error":"#REF!"}},{"$f":"IF(#REF!=25,16,0)","v":{"$error":"#REF!"}},{"$f":"IF(#REF!=26,15,0)","v":{"$error":"#REF!"}},{"$f":"IF(#REF!=27,14,0)","v":{"$error":"#REF!"}},{"$f":"IF(#REF!=28,13,0)","v":{"$error":"#REF!"}},{"$f":"IF(#REF!=29,12,0)","v":{"$error":"#REF!"}},{"$f":"IF(#REF!=30,11,0)","v":{"$error":"#REF!"}},{"$f":"IF(#REF!=31,10,0)","v":{"$error":"#REF!"}},{"$f":"IF(#REF!=32,9,0)","v":{"$error":"#REF!"}},{"$f":"IF(#REF!=33,8,0)","v":{"$error":"#REF!"}},{"$f":"IF(#REF!=34,7,0)","v":{"$error":"#REF!"}},{"$f":"IF(#REF!=35,6,0)","v":{"$error":"#REF!"}},{"$f":"IF(#REF!=36,5,0)","v":{"$error":"#REF!"}},{"$f":"IF(#REF!=37,4,0)","v":{"$error":"#REF!"}},{"$f":"IF(#REF!=38,3,0)","v":{"$error":"#REF!"}},{"$f":"IF(#REF!=39,2,0)","v":{"$error":"#REF!"}},{"$f":"IF(#REF!=40,1,0)","v":{"$error":"#REF!"}},{"$f":"IF(#REF!>20,0,0)","v":{"$error":"#REF!"}},{"$f":"IF(#REF!=\"сх\",0,0)","v":{"$error":"#REF!"}},{"$error":"#REF!"},null,{"$f":"IF(#REF!=\"сх\",\"ноль\",IF(#REF!>0,#REF!,\"Ноль\"))","v":{"$error":"#REF!"}},{"$f":"IF(#REF!=\"сх\",\"ноль\",IF(#REF!>0,#REF!,\"Ноль\"))","v":{"$error":"#REF!"}},null,{"$error":"#REF!"},{"$f":"IF(O15=#REF!,IF(#REF!<#REF!,#REF!,FD15),#REF!)","v":{"$error":"#REF!"}},{"$f":"IF(O15=#REF!,IF(#REF!<#REF!,0,1))","v":{"$error":"#REF!"}},{"$f":"IF(AND(EY15>=21,EY15<>0),EY15,IF(O15<#REF!,\"СТОП\",EZ15+FA15))","v":{"$error":"#REF!"}},null,15,16,null,{"$f":"IF(#REF!=1,25,0)","v":{"$error":"#REF!"}},{"$f":"IF(#REF!=2,22,0)","v":{"$error":"#REF!"}},{"$f":"IF(#REF!=3,20,0)","v":{"$error":"#REF!"}},{"$f":"IF(#REF!=4,18,0)","v":{"$error":"#REF!"}},{"$f":"IF(#REF!=5,16,0)","v":{"$error":"#REF!"}},{"$f":"IF(#REF!=6,15,0)","v":{"$error":"#REF!"}},{"$f":"IF(#REF!=7,14,0)","v":{"$error":"#REF!"}},{"$f":"IF(#REF!=8,13,0)","v":{"$error":"#REF!"}},{"$f":"IF(#REF!=9,12,0)","v":{"$error":"#REF!"}},{"$f":"IF(#REF!=10,11,0)","v":{"$error":"#REF!"}},{"$f":"IF(#REF!=11,10,0)","v":{"$error":"#REF!"}},{"$f":"IF(#REF!=12,9,0)","v":{"$error":"#REF!"}},{"$f":"IF(#REF!=13,8,0)","v":{"$error":"#REF!"}},{"$f":"IF(#REF!=14,7,0)","v":{"$error":"#REF!"}},{"$f":"IF(#REF!=15,6,0)","v":{"$error":"#REF!"}},{"$f":"IF(#REF!=16,5,0)","v":{"$error":"#REF!"}},{"$f":"IF(#REF!=17,4,0)","v":{"$error":"#REF!"}},{"$f":"IF(#REF!=18,3,0)","v":{"$error":"#REF!"}},{"$f":"IF(#REF!=19,2,0)","v":{"$error":"#REF!"}},{"$f":"IF(#REF!=20,1,0)","v":{"$error":"#REF!"}},{"$f":"IF(#REF!>20,0,0)","v":{"$error":"#REF!"}},{"$f":"IF(#REF!=\"сх\",0,0)","v":{"$error":"#REF!"}},{"$error":"#REF!"},{"$f":"IF(#REF!=1,25,0)","v":{"$error":"#REF!"}},{"$f":"IF(#REF!=2,22,0)","v":{"$error":"#REF!"}},{"$f":"IF(#REF!=3,20,0)","v":{"$error":"#REF!"}},{"$f":"IF(#REF!=4,18,0)","v":{"$error":"#REF!"}},{"$f":"IF(#REF!=5,16,0)","v":{"$error":"#REF!"}},{"$f":"IF(#REF!=6,15,0)","v":{"$error":"#REF!"}},{"$f":"IF(#REF!=7,14,0)","v":{"$error":"#REF!"}},{"$f":"IF(#REF!=8,13,0)","v":{"$error":"#REF!"}},{"$f":"IF(#REF!=9,12,0)","v":{"$error":"#REF!"}},{"$f":"IF(#REF!=10,11,0)","v":{"$error":"#REF!"}},{"$f":"IF(#REF!=11,10,0)","v":{"$error":"#REF!"}},{"$f":"IF(#REF!=12,9,0)","v":{"$error":"#REF!"}},{"$f":"IF(#REF!=13,8,0)","v":{"$error":"#REF!"}},{"$f":"IF(#REF!=14,7,0)","v":{"$error":"#REF!"}},{"$f":"IF(#REF!=15,6,0)","v":{"$error":"#REF!"}},{"$f":"IF(#REF!=16,5,0)","v":{"$error":"#REF!"}},{"$f":"IF(#REF!=17,4,0)","v":{"$error":"#REF!"}},{"$f":"IF(#REF!=18,3,0)","v":{"$error":"#REF!"}},{"$f":"IF(#REF!=19,2,0)","v":{"$error":"#REF!"}},{"$f":"IF(#REF!=20,1,0)","v":{"$error":"#REF!"}},{"$f":"IF(#REF!>20,0,0)","v":{"$error":"#REF!"}},{"$f":"IF(#REF!=\"сх\",0,0)","v":{"$error":"#REF!"}},{"$error":"#REF!"},{"$f":"IF(#REF!=1,100,0)","v":{"$error":"#REF!"}},{"$f":"IF(#REF!=2,98,0)","v":{"$error":"#REF!"}},{"$f":"IF(#REF!=3,95,0)","v":{"$error":"#REF!"}},{"$f":"IF(#REF!=4,93,0)","v":{"$error":"#REF!"}},{"$f":"IF(#REF!=5,90,0)","v":{"$error":"#REF!"}},{"$f":"IF(#REF!=6,88,0)","v":{"$error":"#REF!"}},{"$f":"IF(#REF!=7,85,0)","v":{"$error":"#REF!"}},{"$f":"IF(#REF!=8,83,0)","v":{"$error":"#REF!"}},{"$f":"IF(#REF!=9,80,0)","v":{"$error":"#REF!"}},{"$f":"IF(#REF!=10,78,0)","v":{"$error":"#REF!"}},{"$f":"IF(#REF!=11,75,0)","v":{"$error":"#REF!"}},{"$f":"IF(#REF!=12,73,0)","v":{"$error":"#REF!"}},{"$f":"IF(#REF!=13,70,0)","v":{"$error":"#REF!"}},{"$f":"IF(#REF!=14,68,0)","v":{"$error":"#REF!"}},{"$f":"IF(#REF!=15,65,0)","v":{"$error":"#REF!"}},{"$f":"IF(#REF!=16,63,0)","v":{"$error":"#REF!"}},{"$f":"IF(#REF!=17,60,0)","v":{"$error":"#REF!"}},{"$f":"IF(#REF!=18,58,0)","v":{"$error":"#REF!"}},{"$f":"IF(#REF!=19,55,0)","v":{"$error":"#REF!"}},{"$f":"IF(#REF!=20,53,0)","v":{"$error":"#REF!"}},{"$f":"IF(#REF!>20,0,0)","v":{"$error":"#REF!"}},{"$f":"IF(#REF!=\"сх\",0,0)","v":{"$error":"#REF!"}},{"$error":"#REF!"},{"$f":"IF(#REF!=1,100,0)","v":{"$error":"#REF!"}},{"$f":"IF(#REF!=2,98,0)","v":{"$error":"#REF!"}},{"$f":"IF(#REF!=3,95,0)","v":{"$error":"#REF!"}},{"$f":"IF(#REF!=4,93,0)","v":{"$error":"#REF!"}},{"$f":"IF(#REF!=5,90,0)","v":{"$error":"#REF!"}},{"$f":"IF(#REF!=6,88,0)","v":{"$error":"#REF!"}},{"$f":"IF(#REF!=7,85,0)","v":{"$error":"#REF!"}},{"$f":"IF(#REF!=8,83,0)","v":{"$error":"#REF!"}},{"$f":"IF(#REF!=9,80,0)","v":{"$error":"#REF!"}},{"$f":"IF(#REF!=10,78,0)","v":{"$error":"#REF!"}},{"$f":"IF(#REF!=11,75,0)","v":{"$error":"#REF!"}},{"$f":"IF(#REF!=12,73,0)","v":{"$error":"#REF!"}},{"$f":"IF(#REF!=13,70,0)","v":{"$error":"#REF!"}},{"$f":"IF(#REF!=14,68,0)","v":{"$error":"#REF!"}},{"$f":"IF(#REF!=15,65,0)","v":{"$error":"#REF!"}},{"$f":"IF(#REF!=16,63,0)","v":{"$error":"#REF!"}},{"$f":"IF(#REF!=17,60,0)","v":{"$error":"#REF!"}},{"$f":"IF(#REF!=18,58,0)","v":{"$error":"#REF!"}},{"$f":"IF(#REF!=19,55,0)","v":{"$error":"#REF!"}},{"$f":"IF(#REF!=20,53,0)","v":{"$error":"#REF!"}},{"$f":"IF(#REF!>20,0,0)","v":{"$error":"#REF!"}},{"$f":"IF(#REF!=\"сх\",0,0)","v":{"$error":"#REF!"}},{"$error":"#REF!"}]
[7,16.8,1,"Смолин Евгений","кмс","г. Новый Уренгой, Ямало-Ненецкий АО","СТК \"Факел\"","ARCTIC CAT",8,13,4,18,9,12,43,{"$f":"#REF!+#REF!","v":{"$error":"#REF!"}},null,null,{"$f":"IF(#REF!=1,25,0)","v":{"$error":"#REF!"}},{"$f":"IF(#REF!=2,22,0)","v":{"$error":"#REF!"}},{"$f":"IF(#REF!=3,20,0)","v":{"$error":"#REF!"}},{"$f":"IF(#REF!=4,18,0)","v":{"$error":"#REF!"}},{"$f":"IF(#REF!=5,16,0)","v":{"$error":"#REF!"}},{"$f":"IF(#REF!=6,15,0)","v":{"$error":"#REF!"}},{"$f":"IF(#REF!=7,14,0)","v":{"$error":"#REF!"}},{"$f":"IF(#REF!=8,13,0)","v":{"$error":"#REF!"}},{"$f":"IF(#REF!=9,12,0)","v":{"$error":"#REF!"}},{"$f":"IF(#REF!=10,11,0)","v":{"$error":"#REF!"}},{"$f":"IF(#REF!=11,10,0)","v":{"$error":"#REF!"}},{"$f":"IF(#REF!=12,9,0)","v":{"$error":"#REF!"}},{"$f":"IF(#REF!=13,8,0)","v":{"$error":"#REF!"}},{"$f":"IF(#REF!=14,7,0)","v":{"$error":"#REF!"}},{"$f":"IF(#REF!=15,6,0)","v":{"$error":"#REF!"}},{"$f":"IF(#REF!=16,5,0)","v":{"$error":"#REF!"}},{"$f":"IF(#REF!=17,4,0)","v":{"$error":"#REF!"}},{"$f":"IF(#REF!=18,3,0)","v":{"$error":"#REF!"}},{"$f":"IF(#REF!=19,2,0)","v":{"$error":"#REF!"}},{"$f":"IF(#REF!=20,1,0)","v":{"$error":"#REF!"}},{"$f":"IF(#REF!>20,0,0)","v":{"$error":"#REF!"}},{"$f":"IF(#REF!=\"сх\",0,0)","v":{"$error":"#REF!"}},{"$error":"#REF!"},{"$f":"IF(#REF!=1,25,0)","v":{"$error":"#REF!"}},{"$f":"IF(#REF!=2,22,0)","v":{"$error":"#REF!"}},{"$f":"IF(#REF!=3,20,0)","v":{"$error":"#REF!"}},{"$f":"IF(#REF!=4,18,0)","v":{"$error":"#REF!"}},{"$f":"IF(#REF!=5,16,0)","v":{"$error":"#REF!"}},{"$f":"IF(#REF!=6,15,0)","v":{"$error":"#REF!"}},{"$f":"IF(#REF!=7,14,0)","v":{"$error":"#REF!"}},{"$f":"IF(#REF!=8,13,0)","v":{"$error":"#REF!"}},{"$f":"IF(#REF!=9,12,0)","v":{"$error":"#REF!"}},{"$f":"IF(#REF!=10,11,0)","v":{"$error":"#REF!"}},{"$f":"IF(#REF!=11,10,0)","v":{"$error":"#REF!"}},{"$f":"IF(#REF!=12,9,0)","v":{"$error":"#REF!"}},{"$f":"IF(#REF!=13,8,0)","v":{"$error":"#REF!"}},{"$f":"IF(#REF!=14,7,0)","v":{"$error":"#REF!"}},{"$f":"IF(#REF!=15,6,0)","v":{"$error":"#REF!"}},{"$f":"IF(#REF!=16,5,0)","v":{"$error":"#REF!"}},{"$f":"IF(#REF!=17,4,0)","v":{"$error":"#REF!"}},{"$f":"IF(#REF!=18,3,0)","v":{"$error":"#REF!"}},{"$f":"IF(#REF!=19,2,0)","v":{"$error":"#REF!"}},{"$f":"IF(#REF!=20,1,0)","v":{"$error":"#REF!"}},{"$f":"IF(#REF!>20,0,0)","v":{"$error":"#REF!"}},{"$f":"IF(#REF!=\"сх\",0,0)","v":{"$error":"#REF!"}},{"$error":"#REF!"},{"$f":"IF(#REF!=1,45,0)","v":{"$error":"#REF!"}},{"$f":"IF(#REF!=2,42,0)","v":{"$error":"#REF!"}},{"$f":"IF(#REF!=3,40,0)","v":{"$error":"#REF!"}},{"$f":"IF(#REF!=4,38,0)","v":{"$error":"#REF!"}},{"$f":"IF(#REF!=5,36,0)","v":{"$error":"#REF!"}},{"$f":"IF(#REF!=6,35,0)","v":{"$error":"#REF!"}},{"$f":"IF(#REF!=7,34,0)","v":{"$error":"#REF!"}},{"$f":"IF(#REF!=8,33,0)","v":{"$error":"#REF!"}},{"$f":"IF(#REF!=9,32,0)","v":{"$error":"#REF!"}},{"$f":"IF(#REF!=10,31,0)","v":{"$error":"#REF!"}},{"$f":"IF(#REF!=11,30,0)","v":{"$error":"#REF!"}},{"$f":"IF(#REF!=12,29,0)","v":{"$error":"#REF!"}},{"$f":"IF(#REF!=13,28,0)","v":{"$error":"#REF!"}},{"$f":"IF(#REF!=14,27,0)","v":{"$error":"#REF!"}},{"$f":"IF(#REF!=15,26,0)","v":{"$error":"#REF!"}},{"$f":"IF(#REF!=16,25,0)","v":{"$error":"#REF!"}},{"$f":"IF(#REF!=17,24,0)","v":{"$error":"#REF!"}},{"$f":"IF(#REF!=18,23,0)","v":{"$error":"#REF!"}},{"$f":"IF(#REF!=19,22,0)","v":{"$error":"#REF!"}},{"$f":"IF(#REF!=20,21,0)","v":{"$error":"#REF!"}},{"$f":"IF(#REF!=21,20,0)","v":{"$error":"#REF!"}},{"$f":"IF(#REF!=22,19,0)","v":{"$error":"#REF!"}},{"$f":"IF(#REF!=23,18,0)","v":{"$error":"#REF!"}},{"$f":"IF(#REF!=24,17,0)","v":{"$error":"#REF!"}},{"$f":"IF(#REF!=25,16,0)","v":{"$error":"#REF!"}},{"$f":"IF(#REF!=26,15,0)","v":{"$error":"#REF!"}},{"$f":"IF(#REF!=27,14,0)","v":{"$error":"#REF!"}},{"$f":"IF(#REF!=28,13,0)","v":{"$error":"#REF!"}},{"$f":"IF(#REF!=29,12,0)","v":{"$error":"#REF!"}},{"$f":"IF(#REF!=30,11,0)","v":{"$error":"#REF!"}},{"$f":"IF(#REF!=31,10,0)","v":{"$error":"#REF!"}},{"$f":"IF(#REF!=32,9,0)","v":{"$error":"#REF!"}},{"$f":"IF(#REF!=33,8,0)","v":{"$error":"#REF!"}},{"$f":"IF(#REF!=34,7,0)","v":{"$error":"#REF!"}},{"$f":"IF(#REF!=35,6,0)","v":{"$error":"#REF!"}},{"$f":"IF(#REF!=36,5,0)","v":{"$error":"#REF!"}},{"$f":"IF(#REF!=37,4,0)","v":{"$error":"#REF!"}},{"$f":"IF(#REF!=38,3,0)","v":{"$error":"#REF!"}},{"$f":"IF(#REF!=39,2,0)","v":{"$error":"#REF!"}},{"$f":"IF(#REF!=40,1,0)","v":{"$error":"#REF!"}},{"$f":"IF(#REF!>20,0,0)","v":{"$error":"#REF!"}},{"$f":"IF(#REF!=\"сх\",0,0)","v":{"$error":"#REF!"}},{"$error":"#REF!"},{"$f":"IF(#REF!=1,45,0)","v":{"$error":"#REF!"}},{"$f":"IF(#REF!=2,42,0)","v":{"$error":"#REF!"}},{"$f":"IF(#REF!=3,40,0)","v":{"$error":"#REF!"}},{"$f":"IF(#REF!=4,38,0)","v":{"$error":"#REF!"}},{"$f":"IF(#REF!=5,36,0)","v":{"$error":"#REF!"}},{"$f":"IF(#REF!=6,35,0)","v":{"$error":"#REF!"}},{"$f":"IF(#REF!=7,34,0)","v":{"$error":"#REF!"}},{"$f":"IF(#REF!=8,33,0)","v":{"$error":"#REF!"}},{"$f":"IF(#REF!=9,32,0)","v":{"$error":"#REF!"}},{"$f":"IF(#REF!=10,31,0)","v":{"$error":"#REF!"}},{"$f":"IF(#REF!=11,30,0)","v":{"$error":"#REF!"}},{"$f":"IF(#REF!=12,29,0)","v":{"$error":"#REF!"}},{"$f":"IF(#REF!=13,28,0)","v":{"$error":"#REF!"}},{"$f":"IF(#REF!=14,27,0)","v":{"$error":"#REF!"}},{"$f":"IF(#REF!=15,26,0)","v":{"$error":"#REF!"}},{"$f":"IF(#REF!=16,25,0)","v":{"$error":"#REF!"}},{"$f":"IF(#REF!=17,24,0)","v":{"$error":"#REF!"}},{"$f":"IF(#REF!=18,23,0)","v":{"$error":"#REF!"}},{"$f":"IF(#REF!=19,22,0)","v":{"$error":"#REF!"}},{"$f":"IF(#REF!=20,21,0)","v":{"$error":"#REF!"}},{"$f":"IF(#REF!=21,20,0)","v":{"$error":"#REF!"}},{"$f":"IF(#REF!=22,19,0)","v":{"$error":"#REF!"}},{"$f":"IF(#REF!=23,18,0)","v":{"$error":"#REF!"}},{"$f":"IF(#REF!=24,17,0)","v":{"$error":"#REF!"}},{"$f":"IF(#REF!=25,16,0)","v":{"$error":"#REF!"}},{"$f":"IF(#REF!=26,15,0)","v":{"$error":"#REF!"}},{"$f":"IF(#REF!=27,14,0)","v":{"$error":"#REF!"}},{"$f":"IF(#REF!=28,13,0)","v":{"$error":"#REF!"}},{"$f":"IF(#REF!=29,12,0)","v":{"$error":"#REF!"}},{"$f":"IF(#REF!=30,11,0)","v":{"$error":"#REF!"}},{"$f":"IF(#REF!=31,10,0)","v":{"$error":"#REF!"}},{"$f":"IF(#REF!=32,9,0)","v":{"$error":"#REF!"}},{"$f":"IF(#REF!=33,8,0)","v":{"$error":"#REF!"}},{"$f":"IF(#REF!=34,7,0)","v":{"$error":"#REF!"}},{"$f":"IF(#REF!=35,6,0)","v":{"$error":"#REF!"}},{"$f":"IF(#REF!=36,5,0)","v":{"$error":"#REF!"}},{"$f":"IF(#REF!=37,4,0)","v":{"$error":"#REF!"}},{"$f":"IF(#REF!=38,3,0)","v":{"$error":"#REF!"}},{"$f":"IF(#REF!=39,2,0)","v":{"$error":"#REF!"}},{"$f":"IF(#REF!=40,1,0)","v":{"$error":"#REF!"}},{"$f":"IF(#REF!>20,0,0)","v":{"$error":"#REF!"}},{"$f":"IF(#REF!=\"сх\",0,0)","v":{"$error":"#REF!"}},{"$error":"#REF!"},null,{"$f":"IF(#REF!=\"сх\",\"ноль\",IF(#REF!>0,#REF!,\"Ноль\"))","v":{"$error":"#REF!"}},{"$f":"IF(#REF!=\"сх\",\"ноль\",IF(#REF!>0,#REF!,\"Ноль\"))","v":{"$error":"#REF!"}},null,{"$error":"#REF!"},{"$f":"IF(O16=#REF!,IF(#REF!<#REF!,#REF!,FD16),#REF!)","v":{"$error":"#REF!"}},{"$f":"IF(O16=#REF!,IF(#REF!<#REF!,0,1))","v":{"$error":"#REF!"}},{"$f":"IF(AND(EY16>=21,EY16<>0),EY16,IF(O16<#REF!,\"СТОП\",EZ16+FA16))","v":{"$error":"#REF!"}},null,15,16,null,{"$f":"IF(#REF!=1,25,0)","v":{"$error":"#REF!"}},{"$f":"IF(#REF!=2,22,0)","v":{"$error":"#REF!"}},{"$f":"IF(#REF!=3,20,0)","v":{"$error":"#REF!"}},{"$f":"IF(#REF!=4,18,0)","v":{"$error":"#REF!"}},{"$f":"IF(#REF!=5,16,0)","v":{"$error":"#REF!"}},{"$f":"IF(#REF!=6,15,0)","v":{"$error":"#REF!"}},{"$f":"IF(#REF!=7,14,0)","v":{"$error":"#REF!"}},{"$f":"IF(#REF!=8,13,0)","v":{"$error":"#REF!"}},{"$f":"IF(#REF!=9,12,0)","v":{"$error":"#REF!"}},{"$f":"IF(#REF!=10,11,0)","v":{"$error":"#REF!"}},{"$f":"IF(#REF!=11,10,0)","v":{"$error":"#REF!"}},{"$f":"IF(#REF!=12,9,0)","v":{"$error":"#REF!"}},{"$f":"IF(#REF!=13,8,0)","v":{"$error":"#REF!"}},{"$f":"IF(#REF!=14,7,0)","v":{"$error":"#REF!"}},{"$f":"IF(#REF!=15,6,0)","v":{"$error":"#REF!"}},{"$f":"IF(#REF!=16,5,0)","v":{"$error":"#REF!"}},{"$f":"IF(#REF!=17,4,0)","v":{"$error":"#REF!"}},{"$f":"IF(#REF!=18,3,0)","v":{"$error":"#REF!"}},{"$f":"IF(#REF!=19,2,0)","v":{"$error":"#REF!"}},{"$f":"IF(#REF!=20,1,0)","v":{"$error":"#REF!"}},{"$f":"IF(#REF!>20,0,0)","v":{"$error":"#REF!"}},{"$f":"IF(#REF!=\"сх\",0,0)","v":{"$error":"#REF!"}},{"$error":"#REF!"},{"$f":"IF(#REF!=1,25,0)","v":{"$error":"#REF!"}},{"$f":"IF(#REF!=2,22,0)","v":{"$error":"#REF!"}},{"$f":"IF(#REF!=3,20,0)","v":{"$error":"#REF!"}},{"$f":"IF(#REF!=4,18,0)","v":{"$error":"#REF!"}},{"$f":"IF(#REF!=5,16,0)","v":{"$error":"#REF!"}},{"$f":"IF(#REF!=6,15,0)","v":{"$error":"#REF!"}},{"$f":"IF(#REF!=7,14,0)","v":{"$error":"#REF!"}},{"$f":"IF(#REF!=8,13,0)","v":{"$error":"#REF!"}},{"$f":"IF(#REF!=9,12,0)","v":{"$error":"#REF!"}},{"$f":"IF(#REF!=10,11,0)","v":{"$error":"#REF!"}},{"$f":"IF(#REF!=11,10,0)","v":{"$error":"#REF!"}},{"$f":"IF(#REF!=12,9,0)","v":{"$error":"#REF!"}},{"$f":"IF(#REF!=13,8,0)","v":{"$error":"#REF!"}},{"$f":"IF(#REF!=14,7,0)","v":{"$error":"#REF!"}},{"$f":"IF(#REF!=15,6,0)","v":{"$error":"#REF!"}},{"$f":"IF(#REF!=16,5,0)","v":{"$error":"#REF!"}},{"$f":"IF(#REF!=17,4,0)","v":{"$error":"#REF!"}},{"$f":"IF(#REF!=18,3,0)","v":{"$error":"#REF!"}},{"$f":"IF(#REF!=19,2,0)","v":{"$error":"#REF!"}},{"$f":"IF(#REF!=20,1,0)","v":{"$error":"#REF!"}},{"$f":"IF(#REF!>20,0,0)","v":{"$error":"#REF!"}},{"$f":"IF(#REF!=\"сх\",0,0)","v":{"$error":"#REF!"}},{"$error":"#REF!"},{"$f":"IF(#REF!=1,100,0)","v":{"$error":"#REF!"}},{"$f":"IF(#REF!=2,98,0)","v":{"$error":"#REF!"}},{"$f":"IF(#REF!=3,95,0)","v":{"$error":"#REF!"}},{"$f":"IF(#REF!=4,93,0)","v":{"$error":"#REF!"}},{"$f":"IF(#REF!=5,90,0)","v":{"$error":"#REF!"}},{"$f":"IF(#REF!=6,88,0)","v":{"$error":"#REF!"}},{"$f":"IF(#REF!=7,85,0)","v":{"$error":"#REF!"}},{"$f":"IF(#REF!=8,83,0)","v":{"$error":"#REF!"}},{"$f":"IF(#REF!=9,80,0)","v":{"$error":"#REF!"}},{"$f":"IF(#REF!=10,78,0)","v":{"$error":"#REF!"}},{"$f":"IF(#REF!=11,75,0)","v":{"$error":"#REF!"}},{"$f":"IF(#REF!=12,73,0)","v":{"$error":"#REF!"}},{"$f":"IF(#REF!=13,70,0)","v":{"$error":"#REF!"}},{"$f":"IF(#REF!=14,68,0)","v":{"$error":"#REF!"}},{"$f":"IF(#REF!=15,65,0)","v":{"$error":"#REF!"}},{"$f":"IF(#REF!=16,63,0)","v":{"$error":"#REF!"}},{"$f":"IF(#REF!=17,60,0)","v":{"$error":"#REF!"}},{"$f":"IF(#REF!=18,58,0)","v":{"$error":"#REF!"}},{"$f":"IF(#REF!=19,55,0)","v":{"$error":"#REF!"}},{"$f":"IF(#REF!=20,53,0)","v":{"$error":"#REF!"}},{"$f":"IF(#REF!>20,0,0)","v":{"$error":"#REF!"}},{"$f":"IF(#REF!=\"сх\",0,0)","v":{"$error":"#REF!"}},{"$error":"#REF!"},{"$f":"IF(#REF!=1,100,0)","v":{"$error":"#REF!"}},{"$f":"IF(#REF!=2,98,0)","v":{"$error":"#REF!"}},{"$f":"IF(#REF!=3,95,0)","v":{"$error":"#REF!"}},{"$f":"IF(#REF!=4,93,0)","v":{"$error":"#REF!"}},{"$f":"IF(#REF!=5,90,0)","v":{"$error":"#REF!"}},{"$f":"IF(#REF!=6,88,0)","v":{"$error":"#REF!"}},{"$f":"IF(#REF!=7,85,0)","v":{"$error":"#REF!"}},{"$f":"IF(#REF!=8,83,0)","v":{"$error":"#REF!"}},{"$f":"IF(#REF!=9,80,0)","v":{"$error":"#REF!"}},{"$f":"IF(#REF!=10,78,0)","v":{"$error":"#REF!"}},{"$f":"IF(#REF!=11,75,0)","v":{"$error":"#REF!"}},{"$f":"IF(#REF!=12,73,0)","v":{"$error":"#REF!"}},{"$f":"IF(#REF!=13,70,0)","v":{"$error":"#REF!"}},{"$f":"IF(#REF!=14,68,0)","v":{"$error":"#REF!"}},{"$f":"IF(#REF!=15,65,0)","v":{"$error":"#REF!"}},{"$f":"IF(#REF!=16,63,0)","v":{"$error":"#REF!"}},{"$f":"IF(#REF!=17,60,0)","v":{"$error":"#REF!"}},{"$f":"IF(#REF!=18,58,0)","v":{"$error":"#REF!"}},{"$f":"IF(#REF!=19,55,0)","v":{"$error":"#REF!"}},{"$f":"IF(#REF!=20,53,0)","v":{"$error":"#REF!"}},{"$f":"IF(#REF!>20,0,0)","v":{"$error":"#REF!"}},{"$f":"IF(#REF!=\"сх\",0,0)","v":{"$error":"#REF!"}},{"$error":"#REF!"}]
[8,16.399999999999999,3,"Романенко Сергей","мс","г. Новый Уренгой, Ямало-Ненецкий АО","СТК \"Факел\"","ARCTIC CAT",7,14,8,13,10,11,38,{"$f":"#REF!+#REF!","v":{"$error":"#REF!"}},null,null,{"$f":"IF(#REF!=1,25,0)","v":{"$error":"#REF!"}},{"$f":"IF(#REF!=2,22,0)","v":{"$error":"#REF!"}},{"$f":"IF(#REF!=3,20,0)","v":{"$error":"#REF!"}},{"$f":"IF(#REF!=4,18,0)","v":{"$error":"#REF!"}},{"$f":"IF(#REF!=5,16,0)","v":{"$error":"#REF!"}},{"$f":"IF(#REF!=6,15,0)","v":{"$error":"#REF!"}},{"$f":"IF(#REF!=7,14,0)","v":{"$error":"#REF!"}},{"$f":"IF(#REF!=8,13,0)","v":{"$error":"#REF!"}},{"$f":"IF(#REF!=9,12,0)","v":{"$error":"#REF!"}},{"$f":"IF(#REF!=10,11,0)","v":{"$error":"#REF!"}},{"$f":"IF(#REF!=11,10,0)","v":{"$error":"#REF!"}},{"$f":"IF(#REF!=12,9,0)","v":{"$error":"#REF!"}},{"$f":"IF(#REF!=13,8,0)","v":{"$error":"#REF!"}},{"$f":"IF(#REF!=14,7,0)","v":{"$error":"#REF!"}},{"$f":"IF(#REF!=15,6,0)","v":{"$error":"#REF!"}},{"$f":"IF(#REF!=16,5,0)","v":{"$error":"#REF!"}},{"$f":"IF(#REF!=17,4,0)","v":{"$error":"#REF!"}},{"$f":"IF(#REF!=18,3,0)","v":{"$error":"#REF!"}},{"$f":"IF(#REF!=19,2,0)","v":{"$error":"#REF!"}},{"$f":"IF(#REF!=20,1,0)","v":{"$error":"#REF!"}},{"$f":"IF(#REF!>20,0,0)","v":{"$error":"#REF!"}},{"$f":"IF(#REF!=\"сх\",0,0)","v":{"$error":"#REF!"}},{"$error":"#REF!"},{"$f":"IF(#REF!=1,25,0)","v":{"$error":"#REF!"}},{"$f":"IF(#REF!=2,22,0)","v":{"$error":"#REF!"}},{"$f":"IF(#REF!=3,20,0)","v":{"$error":"#REF!"}},{"$f":"IF(#REF!=4,18,0)","v":{"$error":"#REF!"}},{"$f":"IF(#REF!=5,16,0)","v":{"$error":"#REF!"}},{"$f":"IF(#REF!=6,15,0)","v":{"$error":"#REF!"}},{"$f":"IF(#REF!=7,14,0)","v":{"$error":"#REF!"}},{"$f":"IF(#REF!=8,13,0)","v":{"$error":"#REF!"}},{"$f":"IF(#REF!=9,12,0)","v":{"$error":"#REF!"}},{"$f":"IF(#REF!=10,11,0)","v":{"$error":"#REF!"}},{"$f":"IF(#REF!=11,10,0)","v":{"$error":"#REF!"}},{"$f":"IF(#REF!=12,9,0)","v":{"$error":"#REF!"}},{"$f":"IF(#REF!=13,8,0)","v":{"$error":"#REF!"}},{"$f":"IF(#REF!=14,7,0)","v":{"$error":"#REF!"}},{"$f":"IF(#REF!=15,6,0)","v":{"$error":"#REF!"}},{"$f":"IF(#REF!=16,5,0)","v":{"$error":"#REF!"}},{"$f":"IF(#REF!=17,4,0)","v":{"$error":"#REF!"}},{"$f":"IF(#REF!=18,3,0)","v":{"$error":"#REF!"}},{"$f":"IF(#REF!=19,2,0)","v":{"$error":"#REF!"}},{"$f":"IF(#REF!=20,1,0)","v":{"$error":"#REF!"}},{"$f":"IF(#REF!>20,0,0)","v":{"$error":"#REF!"}},{"$f":"IF(#REF!=\"сх\",0,0)","v":{"$error":"#REF!"}},{"$error":"#REF!"},{"$f":"IF(#REF!=1,45,0)","v":{"$error":"#REF!"}},{"$f":"IF(#REF!=2,42,0)","v":{"$error":"#REF!"}},{"$f":"IF(#REF!=3,40,0)","v":{"$error":"#REF!"}},{"$f":"IF(#REF!=4,38,0)","v":{"$error":"#REF!"}},{"$f":"IF(#REF!=5,36,0)","v":{"$error":"#REF!"}},{"$f":"IF(#REF!=6,35,0)","v":{"$error":"#REF!"}},{"$f":"IF(#REF!=7,34,0)","v":{"$error":"#REF!"}},{"$f":"IF(#REF!=8,33,0)","v":{"$error":"#REF!"}},{"$f":"IF(#REF!=9,32,0)","v":{"$error":"#REF!"}},{"$f":"IF(#REF!=10,31,0)","v":{"$error":"#REF!"}},{"$f":"IF(#REF!=11,30,0)","v":{"$error":"#REF!"}},{"$f":"IF(#REF!=12,29,0)","v":{"$error":"#REF!"}},{"$f":"IF(#REF!=13,28,0)","v":{"$error":"#REF!"}},{"$f":"IF(#REF!=14,27,0)","v":{"$error":"#REF!"}},{"$f":"IF(#REF!=15,26,0)","v":{"$error":"#REF!"}},{"$f":"IF(#REF!=16,25,0)","v":{"$error":"#REF!"}},{"$f":"IF(#REF!=17,24,0)","v":{"$error":"#REF!"}},{"$f":"IF(#REF!=18,23,0)","v":{"$error":"#REF!"}},{"$f":"IF(#REF!=19,22,0)","v":{"$error":"#REF!"}},{"$f":"IF(#REF!=20,21,0)","v":{"$error":"#REF!"}},{"$f":"IF(#REF!=21,20,0)","v":{"$error":"#REF!"}},{"$f":"IF(#REF!=22,19,0)","v":{"$error":"#REF!"}},{"$f":"IF(#REF!=23,18,0)","v":{"$error":"#REF!"}},{"$f":"IF(#REF!=24,17,0)","v":{"$error":"#REF!"}},{"$f":"IF(#REF!=25,16,0)","v":{"$error":"#REF!"}},{"$f":"IF(#REF!=26,15,0)","v":{"$error":"#REF!"}},{"$f":"IF(#REF!=27,14,0)","v":{"$error":"#REF!"}},{"$f":"IF(#REF!=28,13,0)","v":{"$error":"#REF!"}},{"$f":"IF(#REF!=29,12,0)","v":{"$error":"#REF!"}},{"$f":"IF(#REF!=30,11,0)","v":{"$error":"#REF!"}},{"$f":"IF(#REF!=31,10,0)","v":{"$error":"#REF!"}},{"$f":"IF(#REF!=32,9,0)","v":{"$error":"#REF!"}},{"$f":"IF(#REF!=33,8,0)","v":{"$error":"#REF!"}},{"$f":"IF(#REF!=34,7,0)","v":{"$error":"#REF!"}},{"$f":"IF(#REF!=35,6,0)","v":{"$error":"#REF!"}},{"$f":"IF(#REF!=36,5,0)","v":{"$error":"#REF!"}},{"$f":"IF(#REF!=37,4,0)","v":{"$error":"#REF!"}},{"$f":"IF(#REF!=38,3,0)","v":{"$error":"#REF!"}},{"$f":"IF(#REF!=39,2,0)","v":{"$error":"#REF!"}},{"$f":"IF(#REF!=40,1,0)","v":{"$error":"#REF!"}},{"$f":"IF(#REF!>20,0,0)","v":{"$error":"#REF!"}},{"$f":"IF(#REF!=\"сх\",0,0)","v":{"$error":"#REF!"}},{"$error":"#REF!"},{"$f":"IF(#REF!=1,45,0)","v":{"$error":"#REF!"}},{"$f":"IF(#REF!=2,42,0)","v":{"$error":"#REF!"}},{"$f":"IF(#REF!=3,40,0)","v":{"$error":"#REF!"}},{"$f":"IF(#REF!=4,38,0)","v":{"$error":"#REF!"}},{"$f":"IF(#REF!=5,36,0)","v":{"$error":"#REF!"}},{"$f":"IF(#REF!=6,35,0)","v":{"$error":"#REF!"}},{"$f":"IF(#REF!=7,34,0)","v":{"$error":"#REF!"}},{"$f":"IF(#REF!=8,33,0)","v":{"$error":"#REF!"}},{"$f":"IF(#REF!=9,32,0)","v":{"$error":"#REF!"}},{"$f":"IF(#REF!=10,31,0)","v":{"$error":"#REF!"}},{"$f":"IF(#REF!=11,30,0)","v":{"$error":"#REF!"}},{"$f":"IF(#REF!=12,29,0)","v":{"$error":"#REF!"}},{"$f":"IF(#REF!=13,28,0)","v":{"$error":"#REF!"}},{"$f":"IF(#REF!=14,27,0)","v":{"$error":"#REF!"}},{"$f":"IF(#REF!=15,26,0)","v":{"$error":"#REF!"}},{"$f":"IF(#REF!=16,25,0)","v":{"$error":"#REF!"}},{"$f":"IF(#REF!=17,24,0)","v":{"$error":"#REF!"}},{"$f":"IF(#REF!=18,23,0)","v":{"$error":"#REF!"}},{"$f":"IF(#REF!=19,22,0)","v":{"$error":"#REF!"}},{"$f":"IF(#REF!=20,21,0)","v":{"$error":"#REF!"}},{"$f":"IF(#REF!=21,20,0)","v":{"$error":"#REF!"}},{"$f":"IF(#REF!=22,19,0)","v":{"$error":"#REF!"}},{"$f":"IF(#REF!=23,18,0)","v":{"$error":"#REF!"}},{"$f":"IF(#REF!=24,17,0)","v":{"$error":"#REF!"}},{"$f":"IF(#REF!=25,16,0)","v":{"$error":"#REF!"}},{"$f":"IF(#REF!=26,15,0)","v":{"$error":"#REF!"}},{"$f":"IF(#REF!=27,14,0)","v":{"$error":"#REF!"}},{"$f":"IF(#REF!=28,13,0)","v":{"$error":"#REF!"}},{"$f":"IF(#REF!=29,12,0)","v":{"$error":"#REF!"}},{"$f":"IF(#REF!=30,11,0)","v":{"$error":"#REF!"}},{"$f":"IF(#REF!=31,10,0)","v":{"$error":"#REF!"}},{"$f":"IF(#REF!=32,9,0)","v":{"$error":"#REF!"}},{"$f":"IF(#REF!=33,8,0)","v":{"$error":"#REF!"}},{"$f":"IF(#REF!=34,7,0)","v":{"$error":"#REF!"}},{"$f":"IF(#REF!=35,6,0)","v":{"$error":"#REF!"}},{"$f":"IF(#REF!=36,5,0)","v":{"$error":"#REF!"}},{"$f":"IF(#REF!=37,4,0)","v":{"$error":"#REF!"}},{"$f":"IF(#REF!=38,3,0)","v":{"$error":"#REF!"}},{"$f":"IF(#REF!=39,2,0)","v":{"$error":"#REF!"}},{"$f":"IF(#REF!=40,1,0)","v":{"$error":"#REF!"}},{"$f":"IF(#REF!>20,0,0)","v":{"$error":"#REF!"}},{"$f":"IF(#REF!=\"сх\",0,0)","v":{"$error":"#REF!"}},{"$error":"#REF!"},null,{"$f":"IF(#REF!=\"сх\",\"ноль\",IF(#REF!>0,#REF!,\"Ноль\"))","v":{"$error":"#REF!"}},{"$f":"IF(#REF!=\"сх\",\"ноль\",IF(#REF!>0,#REF!,\"Ноль\"))","v":{"$error":"#REF!"}},null,{"$error":"#REF!"},{"$f":"IF(O17=#REF!,IF(#REF!<#REF!,#REF!,FD17),#REF!)","v":{"$error":"#REF!"}},{"$f":"IF(O17=#REF!,IF(#REF!<#REF!,0,1))","v":{"$error":"#REF!"}},{"$f":"IF(AND(EY17>=21,EY17<>0),EY17,IF(O17<#REF!,\"СТОП\",EZ17+FA17))","v":{"$error":"#REF!"}},null,15,16,null,{"$f":"IF(#REF!=1,25,0)","v":{"$error":"#REF!"}},{"$f":"IF(#REF!=2,22,0)","v":{"$error":"#REF!"}},{"$f":"IF(#REF!=3,20,0)","v":{"$error":"#REF!"}},{"$f":"IF(#REF!=4,18,0)","v":{"$error":"#REF!"}},{"$f":"IF(#REF!=5,16,0)","v":{"$error":"#REF!"}},{"$f":"IF(#REF!=6,15,0)","v":{"$error":"#REF!"}},{"$f":"IF(#REF!=7,14,0)","v":{"$error":"#REF!"}},{"$f":"IF(#REF!=8,13,0)","v":{"$error":"#REF!"}},{"$f":"IF(#REF!=9,12,0)","v":{"$error":"#REF!"}},{"$f":"IF(#REF!=10,11,0)","v":{"$error":"#REF!"}},{"$f":"IF(#REF!=11,10,0)","v":{"$error":"#REF!"}},{"$f":"IF(#REF!=12,9,0)","v":{"$error":"#REF!"}},{"$f":"IF(#REF!=13,8,0)","v":{"$error":"#REF!"}},{"$f":"IF(#REF!=14,7,0)","v":{"$error":"#REF!"}},{"$f":"IF(#REF!=15,6,0)","v":{"$error":"#REF!"}},{"$f":"IF(#REF!=16,5,0)","v":{"$error":"#REF!"}},{"$f":"IF(#REF!=17,4,0)","v":{"$error":"#REF!"}},{"$f":"IF(#REF!=18,3,0)","v":{"$error":"#REF!"}},{"$f":"IF(#REF!=19,2,0)","v":{"$error":"#REF!"}},{"$f":"IF(#REF!=20,1,0)","v":{"$error":"#REF!"}},{"$f":"IF(#REF!>20,0,0)","v":{"$error":"#REF!"}},{"$f":"IF(#REF!=\"сх\",0,0)","v":{"$error":"#REF!"}},{"$error":"#REF!"},{"$f":"IF(#REF!=1,25,0)","v":{"$error":"#REF!"}},{"$f":"IF(#REF!=2,22,0)","v":{"$error":"#REF!"}},{"$f":"IF(#REF!=3,20,0)","v":{"$error":"#REF!"}},{"$f":"IF(#REF!=4,18,0)","v":{"$error":"#REF!"}},{"$f":"IF(#REF!=5,16,0)","v":{"$error":"#REF!"}},{"$f":"IF(#REF!=6,15,0)","v":{"$error":"#REF!"}},{"$f":"IF(#REF!=7,14,0)","v":{"$error":"#REF!"}},{"$f":"IF(#REF!=8,13,0)","v":{"$error":"#REF!"}},{"$f":"IF(#REF!=9,12,0)","v":{"$error":"#REF!"}},{"$f":"IF(#REF!=10,11,0)","v":{"$error":"#REF!"}},{"$f":"IF(#REF!=11,10,0)","v":{"$error":"#REF!"}},{"$f":"IF(#REF!=12,9,0)","v":{"$error":"#REF!"}},{"$f":"IF(#REF!=13,8,0)","v":{"$error":"#REF!"}},{"$f":"IF(#REF!=14,7,0)","v":{"$error":"#REF!"}},{"$f":"IF(#REF!=15,6,0)","v":{"$error":"#REF!"}},{"$f":"IF(#REF!=16,5,0)","v":{"$error":"#REF!"}},{"$f":"IF(#REF!=17,4,0)","v":{"$error":"#REF!"}},{"$f":"IF(#REF!=18,3,0)","v":{"$error":"#REF!"}},{"$f":"IF(#REF!=19,2,0)","v":{"$error":"#REF!"}},{"$f":"IF(#REF!=20,1,0)","v":{"$error":"#REF!"}},{"$f":"IF(#REF!>20,0,0)","v":{"$error":"#REF!"}},{"$f":"IF(#REF!=\"сх\",0,0)","v":{"$error":"#REF!"}},{"$error":"#REF!"},{"$f":"IF(#REF!=1,100,0)","v":{"$error":"#REF!"}},{"$f":"IF(#REF!=2,98,0)","v":{"$error":"#REF!"}},{"$f":"IF(#REF!=3,95,0)","v":{"$error":"#REF!"}},{"$f":"IF(#REF!=4,93,0)","v":{"$error":"#REF!"}},{"$f":"IF(#REF!=5,90,0)","v":{"$error":"#REF!"}},{"$f":"IF(#REF!=6,88,0)","v":{"$error":"#REF!"}},{"$f":"IF(#REF!=7,85,0)","v":{"$error":"#REF!"}},{"$f":"IF(#REF!=8,83,0)","v":{"$error":"#REF!"}},{"$f":"IF(#REF!=9,80,0)","v":{"$error":"#REF!"}},{"$f":"IF(#REF!=10,78,0)","v":{"$error":"#REF!"}},{"$f":"IF(#REF!=11,75,0)","v":{"$error":"#REF!"}},{"$f":"IF(#REF!=12,73,0)","v":{"$error":"#REF!"}},{"$f":"IF(#REF!=13,70,0)","v":{"$error":"#REF!"}},{"$f":"IF(#REF!=14,68,0)","v":{"$error":"#REF!"}},{"$f":"IF(#REF!=15,65,0)","v":{"$error":"#REF!"}},{"$f":"IF(#REF!=16,63,0)","v":{"$error":"#REF!"}},{"$f":"IF(#REF!=17,60,0)","v":{"$error":"#REF!"}},{"$f":"IF(#REF!=18,58,0)","v":{"$error":"#REF!"}},{"$f":"IF(#REF!=19,55,0)","v":{"$error":"#REF!"}},{"$f":"IF(#REF!=20,53,0)","v":{"$error":"#REF!"}},{"$f":"IF(#REF!>20,0,0)","v":{"$error":"#REF!"}},{"$f":"IF(#REF!=\"сх\",0,0)","v":{"$error":"#REF!"}},{"$error":"#REF!"},{"$f":"IF(#REF!=1,100,0)","v":{"$error":"#REF!"}},{"$f":"IF(#REF!=2,98,0)","v":{"$error":"#REF!"}},{"$f":"IF(#REF!=3,95,0)","v":{"$error":"#REF!"}},{"$f":"IF(#REF!=4,93,0)","v":{"$error":"#REF!"}},{"$f":"IF(#REF!=5,90,0)","v":{"$error":"#REF!"}},{"$f":"IF(#REF!=6,88,0)","v":{"$error":"#REF!"}},{"$f":"IF(#REF!=7,85,0)","v":{"$error":"#REF!"}},{"$f":"IF(#REF!=8,83,0)","v":{"$error":"#REF!"}},{"$f":"IF(#REF!=9,80,0)","v":{"$error":"#REF!"}},{"$f":"IF(#REF!=10,78,0)","v":{"$error":"#REF!"}},{"$f":"IF(#REF!=11,75,0)","v":{"$error":"#REF!"}},{"$f":"IF(#REF!=12,73,0)","v":{"$error":"#REF!"}},{"$f":"IF(#REF!=13,70,0)","v":{"$error":"#REF!"}},{"$f":"IF(#REF!=14,68,0)","v":{"$error":"#REF!"}},{"$f":"IF(#REF!=15,65,0)","v":{"$error":"#REF!"}},{"$f":"IF(#REF!=16,63,0)","v":{"$error":"#REF!"}},{"$f":"IF(#REF!=17,60,0)","v":{"$error":"#REF!"}},{"$f":"IF(#REF!=18,58,0)","v":{"$error":"#REF!"}},{"$f":"IF(#REF!=19,55,0)","v":{"$error":"#REF!"}},{"$f":"IF(#REF!=20,53,0)","v":{"$error":"#REF!"}},{"$f":"IF(#REF!>20,0,0)","v":{"$error":"#REF!"}},{"$f":"IF(#REF!=\"сх\",0,0)","v":{"$error":"#REF!"}},{"$error":"#REF!"}]
[9,16,5,"Хоменко Валерий","кмс","г. Новый Уренгой, Ямало-Ненецкий АО","СТК \"Факел\"","LYNX",9,12,10,11,7,14,37,{"$f":"#REF!+#REF!","v":{"$error":"#REF!"}},null,null,{"$f":"IF(#REF!=1,25,0)","v":{"$error":"#REF!"}},{"$f":"IF(#REF!=2,22,0)","v":{"$error":"#REF!"}},{"$f":"IF(#REF!=3,20,0)","v":{"$error":"#REF!"}},{"$f":"IF(#REF!=4,18,0)","v":{"$error":"#REF!"}},{"$f":"IF(#REF!=5,16,0)","v":{"$error":"#REF!"}},{"$f":"IF(#REF!=6,15,0)","v":{"$error":"#REF!"}},{"$f":"IF(#REF!=7,14,0)","v":{"$error":"#REF!"}},{"$f":"IF(#REF!=8,13,0)","v":{"$error":"#REF!"}},{"$f":"IF(#REF!=9,12,0)","v":{"$error":"#REF!"}},{"$f":"IF(#REF!=10,11,0)","v":{"$error":"#REF!"}},{"$f":"IF(#REF!=11,10,0)","v":{"$error":"#REF!"}},{"$f":"IF(#REF!=12,9,0)","v":{"$error":"#REF!"}},{"$f":"IF(#REF!=13,8,0)","v":{"$error":"#REF!"}},{"$f":"IF(#REF!=14,7,0)","v":{"$error":"#REF!"}},{"$f":"IF(#REF!=15,6,0)","v":{"$error":"#REF!"}},{"$f":"IF(#REF!=16,5,0)","v":{"$error":"#REF!"}},{"$f":"IF(#REF!=17,4,0)","v":{"$error":"#REF!"}},{"$f":"IF(#REF!=18,3,0)","v":{"$error":"#REF!"}},{"$f":"IF(#REF!=19,2,0)","v":{"$error":"#REF!"}},{"$f":"IF(#REF!=20,1,0)","v":{"$error":"#REF!"}},{"$f":"IF(#REF!>20,0,0)","v":{"$error":"#REF!"}},{"$f":"IF(#REF!=\"сх\",0,0)","v":{"$error":"#REF!"}},{"$error":"#REF!"},{"$f":"IF(#REF!=1,25,0)","v":{"$error":"#REF!"}},{"$f":"IF(#REF!=2,22,0)","v":{"$error":"#REF!"}},{"$f":"IF(#REF!=3,20,0)","v":{"$error":"#REF!"}},{"$f":"IF(#REF!=4,18,0)","v":{"$error":"#REF!"}},{"$f":"IF(#REF!=5,16,0)","v":{"$error":"#REF!"}},{"$f":"IF(#REF!=6,15,0)","v":{"$error":"#REF!"}},{"$f":"IF(#REF!=7,14,0)","v":{"$error":"#REF!"}},{"$f":"IF(#REF!=8,13,0)","v":{"$error":"#REF!"}},{"$f":"IF(#REF!=9,12,0)","v":{"$error":"#REF!"}},{"$f":"IF(#REF!=10,11,0)","v":{"$error":"#REF!"}},{"$f":"IF(#REF!=11,10,0)","v":{"$error":"#REF!"}},{"$f":"IF(#REF!=12,9,0)","v":{"$error":"#REF!"}},{"$f":"IF(#REF!=13,8,0)","v":{"$error":"#REF!"}},{"$f":"IF(#REF!=14,7,0)","v":{"$error":"#REF!"}},{"$f":"IF(#REF!=15,6,0)","v":{"$error":"#REF!"}},{"$f":"IF(#REF!=16,5,0)","v":{"$error":"#REF!"}},{"$f":"IF(#REF!=17,4,0)","v":{"$error":"#REF!"}},{"$f":"IF(#REF!=18,3,0)","v":{"$error":"#REF!"}},{"$f":"IF(#REF!=19,2,0)","v":{"$error":"#REF!"}},{"$f":"IF(#REF!=20,1,0)","v":{"$error":"#REF!"}},{"$f":"IF(#REF!>20,0,0)","v":{"$error":"#REF!"}},{"$f":"IF(#REF!=\"сх\",0,0)","v":{"$error":"#REF!"}},{"$error":"#REF!"},{"$f":"IF(#REF!=1,45,0)","v":{"$error":"#REF!"}},{"$f":"IF(#REF!=2,42,0)","v":{"$error":"#REF!"}},{"$f":"IF(#REF!=3,40,0)","v":{"$error":"#REF!"}},{"$f":"IF(#REF!=4,38,0)","v":{"$error":"#REF!"}},{"$f":"IF(#REF!=5,36,0)","v":{"$error":"#REF!"}},{"$f":"IF(#REF!=6,35,0)","v":{"$error":"#REF!"}},{"$f":"IF(#REF!=7,34,0)","v":{"$error":"#REF!"}},{"$f":"IF(#REF!=8,33,0)","v":{"$error":"#REF!"}},{"$f":"IF(#REF!=9,32,0)","v":{"$error":"#REF!"}},{"$f":"IF(#REF!=10,31,0)","v":{"$error":"#REF!"}},{"$f":"IF(#REF!=11,30,0)","v":{"$error":"#REF!"}},{"$f":"IF(#REF!=12,29,0)","v":{"$error":"#REF!"}},{"$f":"IF(#REF!=13,28,0)","v":{"$error":"#REF!"}},{"$f":"IF(#REF!=14,27,0)","v":{"$error":"#REF!"}},{"$f":"IF(#REF!=15,26,0)","v":{"$error":"#REF!"}},{"$f":"IF(#REF!=16,25,0)","v":{"$error":"#REF!"}},{"$f":"IF(#REF!=17,24,0)","v":{"$error":"#REF!"}},{"$f":"IF(#REF!=18,23,0)","v":{"$error":"#REF!"}},{"$f":"IF(#REF!=19,22,0)","v":{"$error":"#REF!"}},{"$f":"IF(#REF!=20,21,0)","v":{"$error":"#REF!"}},{"$f":"IF(#REF!=21,20,0)","v":{"$error":"#REF!"}},{"$f":"IF(#REF!=22,19,0)","v":{"$error":"#REF!"}},{"$f":"IF(#REF!=23,18,0)","v":{"$error":"#REF!"}},{"$f":"IF(#REF!=24,17,0)","v":{"$error":"#REF!"}},{"$f":"IF(#REF!=25,16,0)","v":{"$error":"#REF!"}},{"$f":"IF(#REF!=26,15,0)","v":{"$error":"#REF!"}},{"$f":"IF(#REF!=27,14,0)","v":{"$error":"#REF!"}},{"$f":"IF(#REF!=28,13,0)","v":{"$error":"#REF!"}},{"$f":"IF(#REF!=29,12,0)","v":{"$error":"#REF!"}},{"$f":"IF(#REF!=30,11,0)","v":{"$error":"#REF!"}},{"$f":"IF(#REF!=31,10,0)","v":{"$error":"#REF!"}},{"$f":"IF(#REF!=32,9,0)","v":{"$error":"#REF!"}},{"$f":"IF(#REF!=33,8,0)","v":{"$error":"#REF!"}},{"$f":"IF(#REF!=34,7,0)","v":{"$error":"#REF!"}},{"$f":"IF(#REF!=35,6,0)","v":{"$error":"#REF!"}},{"$f":"IF(#REF!=36,5,0)","v":{"$error":"#REF!"}},{"$f":"IF(#REF!=37,4,0)","v":{"$error":"#REF!"}},{"$f":"IF(#REF!=38,3,0)","v":{"$error":"#REF!"}},{"$f":"IF(#REF!=39,2,0)","v":{"$error":"#REF!"}},{"$f":"IF(#REF!=40,1,0)","v":{"$error":"#REF!"}},{"$f":"IF(#REF!>20,0,0)","v":{"$error":"#REF!"}},{"$f":"IF(#REF!=\"сх\",0,0)","v":{"$error":"#REF!"}},{"$error":"#REF!"},{"$f":"IF(#REF!=1,45,0)","v":{"$error":"#REF!"}},{"$f":"IF(#REF!=2,42,0)","v":{"$error":"#REF!"}},{"$f":"IF(#REF!=3,40,0)","v":{"$error":"#REF!"}},{"$f":"IF(#REF!=4,38,0)","v":{"$error":"#REF!"}},{"$f":"IF(#REF!=5,36,0)","v":{"$error":"#REF!"}},{"$f":"IF(#REF!=6,35,0)","v":{"$error":"#REF!"}},{"$f":"IF(#REF!=7,34,0)","v":{"$error":"#REF!"}},{"$f":"IF(#REF!=8,33,0)","v":{"$error":"#REF!"}},{"$f":"IF(#REF!=9,32,0)","v":{"$error":"#REF!"}},{"$f":"IF(#REF!=10,31,0)","v":{"$error":"#REF!"}},{"$f":"IF(#REF!=11,30,0)","v":{"$error":"#REF!"}},{"$f":"IF(#REF!=12,29,0)","v":{"$error":"#REF!"}},{"$f":"IF(#REF!=13,28,0)","v":{"$error":"#REF!"}},{"$f":"IF(#REF!=14,27,0)","v":{"$error":"#REF!"}},{"$f":"IF(#REF!=15,26,0)","v":{"$error":"#REF!"}},{"$f":"IF(#REF!=16,25,0)","v":{"$error":"#REF!"}},{"$f":"IF(#REF!=17,24,0)","v":{"$error":"#REF!"}},{"$f":"IF(#REF!=18,23,0)","v":{"$error":"#REF!"}},{"$f":"IF(#REF!=19,22,0)","v":{"$error":"#REF!"}},{"$f":"IF(#REF!=20,21,0)","v":{"$error":"#REF!"}},{"$f":"IF(#REF!=21,20,0)","v":{"$error":"#REF!"}},{"$f":"IF(#REF!=22,19,0)","v":{"$error":"#REF!"}},{"$f":"IF(#REF!=23,18,0)","v":{"$error":"#REF!"}},{"$f":"IF(#REF!=24,17,0)","v":{"$error":"#REF!"}},{"$f":"IF(#REF!=25,16,0)","v":{"$error":"#REF!"}},{"$f":"IF(#REF!=26,15,0)","v":{"$error":"#REF!"}},{"$f":"IF(#REF!=27,14,0)","v":{"$error":"#REF!"}},{"$f":"IF(#REF!=28,13,0)","v":{"$error":"#REF!"}},{"$f":"IF(#REF!=29,12,0)","v":{"$error":"#REF!"}},{"$f":"IF(#REF!=30,11,0)","v":{"$error":"#REF!"}},{"$f":"IF(#REF!=31,10,0)","v":{"$error":"#REF!"}},{"$f":"IF(#REF!=32,9,0)","v":{"$error":"#REF!"}},{"$f":"IF(#REF!=33,8,0)","v":{"$error":"#REF!"}},{"$f":"IF(#REF!=34,7,0)","v":{"$error":"#REF!"}},{"$f":"IF(#REF!=35,6,0)","v":{"$error":"#REF!"}},{"$f":"IF(#REF!=36,5,0)","v":{"$error":"#REF!"}},{"$f":"IF(#REF!=37,4,0)","v":{"$error":"#REF!"}},{"$f":"IF(#REF!=38,3,0)","v":{"$error":"#REF!"}},{"$f":"IF(#REF!=39,2,0)","v":{"$error":"#REF!"}},{"$f":"IF(#REF!=40,1,0)","v":{"$error":"#REF!"}},{"$f":"IF(#REF!>20,0,0)","v":{"$error":"#REF!"}},{"$f":"IF(#REF!=\"сх\",0,0)","v":{"$error":"#REF!"}},{"$error":"#REF!"},null,{"$f":"IF(#REF!=\"сх\",\"ноль\",IF(#REF!>0,#REF!,\"Ноль\"))","v":{"$error":"#REF!"}},{"$f":"IF(#REF!=\"сх\",\"ноль\",IF(#REF!>0,#REF!,\"Ноль\"))","v":{"$error":"#REF!"}},null,{"$error":"#REF!"},{"$f":"IF(O18=#REF!,IF(#REF!<#REF!,#REF!,FD18),#REF!)","v":{"$error":"#REF!"}},{"$f":"IF(O18=#REF!,IF(#REF!<#REF!,0,1))","v":{"$error":"#REF!"}},{"$f":"IF(AND(EY18>=21,EY18<>0),EY18,IF(O18<#REF!,\"СТОП\",EZ18+FA18))","v":{"$error":"#REF!"}},null,15,16,null,{"$f":"IF(#REF!=1,25,0)","v":{"$error":"#REF!"}},{"$f":"IF(#REF!=2,22,0)","v":{"$error":"#REF!"}},{"$f":"IF(#REF!=3,20,0)","v":{"$error":"#REF!"}},{"$f":"IF(#REF!=4,18,0)","v":{"$error":"#REF!"}},{"$f":"IF(#REF!=5,16,0)","v":{"$error":"#REF!"}},{"$f":"IF(#REF!=6,15,0)","v":{"$error":"#REF!"}},{"$f":"IF(#REF!=7,14,0)","v":{"$error":"#REF!"}},{"$f":"IF(#REF!=8,13,0)","v":{"$error":"#REF!"}},{"$f":"IF(#REF!=9,12,0)","v":{"$error":"#REF!"}},{"$f":"IF(#REF!=10,11,0)","v":{"$error":"#REF!"}},{"$f":"IF(#REF!=11,10,0)","v":{"$error":"#REF!"}},{"$f":"IF(#REF!=12,9,0)","v":{"$error":"#REF!"}},{"$f":"IF(#REF!=13,8,0)","v":{"$error":"#REF!"}},{"$f":"IF(#REF!=14,7,0)","v":{"$error":"#REF!"}},{"$f":"IF(#REF!=15,6,0)","v":{"$error":"#REF!"}},{"$f":"IF(#REF!=16,5,0)","v":{"$error":"#REF!"}},{"$f":"IF(#REF!=17,4,0)","v":{"$error":"#REF!"}},{"$f":"IF(#REF!=18,3,0)","v":{"$error":"#REF!"}},{"$f":"IF(#REF!=19,2,0)","v":{"$error":"#REF!"}},{"$f":"IF(#REF!=20,1,0)","v":{"$error":"#REF!"}},{"$f":"IF(#REF!>20,0,0)","v":{"$error":"#REF!"}},{"$f":"IF(#REF!=\"сх\",0,0)","v":{"$error":"#REF!"}},{"$error":"#REF!"},{"$f":"IF(#REF!=1,25,0)","v":{"$error":"#REF!"}},{"$f":"IF(#REF!=2,22,0)","v":{"$error":"#REF!"}},{"$f":"IF(#REF!=3,20,0)","v":{"$error":"#REF!"}},{"$f":"IF(#REF!=4,18,0)","v":{"$error":"#REF!"}},{"$f":"IF(#REF!=5,16,0)","v":{"$error":"#REF!"}},{"$f":"IF(#REF!=6,15,0)","v":{"$error":"#REF!"}},{"$f":"IF(#REF!=7,14,0)","v":{"$error":"#REF!"}},{"$f":"IF(#REF!=8,13,0)","v":{"$error":"#REF!"}},{"$f":"IF(#REF!=9,12,0)","v":{"$error":"#REF!"}},{"$f":"IF(#REF!=10,11,0)","v":{"$error":"#REF!"}},{"$f":"IF(#REF!=11,10,0)","v":{"$error":"#REF!"}},{"$f":"IF(#REF!=12,9,0)","v":{"$error":"#REF!"}},{"$f":"IF(#REF!=13,8,0)","v":{"$error":"#REF!"}},{"$f":"IF(#REF!=14,7,0)","v":{"$error":"#REF!"}},{"$f":"IF(#REF!=15,6,0)","v":{"$error":"#REF!"}},{"$f":"IF(#REF!=16,5,0)","v":{"$error":"#REF!"}},{"$f":"IF(#REF!=17,4,0)","v":{"$error":"#REF!"}},{"$f":"IF(#REF!=18,3,0)","v":{"$error":"#REF!"}},{"$f":"IF(#REF!=19,2,0)","v":{"$error":"#REF!"}},{"$f":"IF(#REF!=20,1,0)","v":{"$error":"#REF!"}},{"$f":"IF(#REF!>20,0,0)","v":{"$error":"#REF!"}},{"$f":"IF(#REF!=\"сх\",0,0)","v":{"$error":"#REF!"}},{"$error":"#REF!"},{"$f":"IF(#REF!=1,100,0)","v":{"$error":"#REF!"}},{"$f":"IF(#REF!=2,98,0)","v":{"$error":"#REF!"}},{"$f":"IF(#REF!=3,95,0)","v":{"$error":"#REF!"}},{"$f":"IF(#REF!=4,93,0)","v":{"$error":"#REF!"}},{"$f":"IF(#REF!=5,90,0)","v":{"$error":"#REF!"}},{"$f":"IF(#REF!=6,88,0)","v":{"$error":"#REF!"}},{"$f":"IF(#REF!=7,85,0)","v":{"$error":"#REF!"}},{"$f":"IF(#REF!=8,83,0)","v":{"$error":"#REF!"}},{"$f":"IF(#REF!=9,80,0)","v":{"$error":"#REF!"}},{"$f":"IF(#REF!=10,78,0)","v":{"$error":"#REF!"}},{"$f":"IF(#REF!=11,75,0)","v":{"$error":"#REF!"}},{"$f":"IF(#REF!=12,73,0)","v":{"$error":"#REF!"}},{"$f":"IF(#REF!=13,70,0)","v":{"$error":"#REF!"}},{"$f":"IF(#REF!=14,68,0)","v":{"$error":"#REF!"}},{"$f":"IF(#REF!=15,65,0)","v":{"$error":"#REF!"}},{"$f":"IF(#REF!=16,63,0)","v":{"$error":"#REF!"}},{"$f":"IF(#REF!=17,60,0)","v":{"$error":"#REF!"}},{"$f":"IF(#REF!=18,58,0)","v":{"$error":"#REF!"}},{"$f":"IF(#REF!=19,55,0)","v":{"$error":"#REF!"}},{"$f":"IF(#REF!=20,53,0)","v":{"$error":"#REF!"}},{"$f":"IF(#REF!>20,0,0)","v":{"$error":"#REF!"}},{"$f":"IF(#REF!=\"сх\",0,0)","v":{"$error":"#REF!"}},{"$error":"#REF!"},{"$f":"IF(#REF!=1,100,0)","v":{"$error":"#REF!"}},{"$f":"IF(#REF!=2,98,0)","v":{"$error":"#REF!"}},{"$f":"IF(#REF!=3,95,0)","v":{"$error":"#REF!"}},{"$f":"IF(#REF!=4,93,0)","v":{"$error":"#REF!"}},{"$f":"IF(#REF!=5,90,0)","v":{"$error":"#REF!"}},{"$f":"IF(#REF!=6,88,0)","v":{"$error":"#REF!"}},{"$f":"IF(#REF!=7,85,0)","v":{"$error":"#REF!"}},{"$f":"IF(#REF!=8,83,0)","v":{"$error":"#REF!"}},{"$f":"IF(#REF!=9,80,0)","v":{"$error":"#REF!"}},{"$f":"IF(#REF!=10,78,0)","v":{"$error":"#REF!"}},{"$f":"IF(#REF!=11,75,0)","v":{"$error":"#REF!"}},{"$f":"IF(#REF!=12,73,0)","v":{"$error":"#REF!"}},{"$f":"IF(#REF!=13,70,0)","v":{"$error":"#REF!"}},{"$f":"IF(#REF!=14,68,0)","v":{"$error":"#REF!"}},{"$f":"IF(#REF!=15,65,0)","v":{"$error":"#REF!"}},{"$f":"IF(#REF!=16,63,0)","v":{"$error":"#REF!"}},{"$f":"IF(#REF!=17,60,0)","v":{"$error":"#REF!"}},{"$f":"IF(#REF!=18,58,0)","v":{"$error":"#REF!"}},{"$f":"IF(#REF!=19,55,0)","v":{"$error":"#REF!"}},{"$f":"IF(#REF!=20,53,0)","v":{"$error":"#REF!"}},{"$f":"IF(#REF!>20,0,0)","v":{"$error":"#REF!"}},{"$f":"IF(#REF!=\"сх\",0,0)","v":{"$error":"#REF!"}},{"$error":"#REF!"}]
[10,15.6,7,"Садрисламов Денис","I","г. Новый Уренгой, Ямало-Ненецкий АО","СТК \"Ямбург\"","LYNX",10,11,9,12,8,13,36,{"$f":"#REF!+#REF!","v":{"$error":"#REF!"}},null,null,{"$f":"IF(#REF!=1,25,0)","v":{"$error":"#REF!"}},{"$f":"IF(#REF!=2,22,0)","v":{"$error":"#REF!"}},{"$f":"IF(#REF!=3,20,0)","v":{"$error":"#REF!"}},{"$f":"IF(#REF!=4,18,0)","v":{"$error":"#REF!"}},{"$f":"IF(#REF!=5,16,0)","v":{"$error":"#REF!"}},{"$f":"IF(#REF!=6,15,0)","v":{"$error":"#REF!"}},{"$f":"IF(#REF!=7,14,0)","v":{"$error":"#REF!"}},{"$f":"IF(#REF!=8,13,0)","v":{"$error":"#REF!"}},{"$f":"IF(#REF!=9,12,0)","v":{"$error":"#REF!"}},{"$f":"IF(#REF!=10,11,0)","v":{"$error":"#REF!"}},{"$f":"IF(#REF!=11,10,0)","v":{"$error":"#REF!"}},{"$f":"IF(#REF!=12,9,0)","v":{"$error":"#REF!"}},{"$f":"IF(#REF!=13,8,0)","v":{"$error":"#REF!"}},{"$f":"IF(#REF!=14,7,0)","v":{"$error":"#REF!"}},{"$f":"IF(#REF!=15,6,0)","v":{"$error":"#REF!"}},{"$f":"IF(#REF!=16,5,0)","v":{"$error":"#REF!"}},{"$f":"IF(#REF!=17,4,0)","v":{"$error":"#REF!"}},{"$f":"IF(#REF!=18,3,0)","v":{"$error":"#REF!"}},{"$f":"IF(#REF!=19,2,0)","v":{"$error":"#REF!"}},{"$f":"IF(#REF!=20,1,0)","v":{"$error":"#REF!"}},{"$f":"IF(#REF!>20,0,0)","v":{"$error":"#REF!"}},{"$f":"IF(#REF!=\"сх\",0,0)","v":{"$error":"#REF!"}},{"$error":"#REF!"},{"$f":"IF(#REF!=1,25,0)","v":{"$error":"#REF!"}},{"$f":"IF(#REF!=2,22,0)","v":{"$error":"#REF!"}},{"$f":"IF(#REF!=3,20,0)","v":{"$error":"#REF!"}},{"$f":"IF(#REF!=4,18,0)","v":{"$error":"#REF!"}},{"$f":"IF(#REF!=5,16,0)","v":{"$error":"#REF!"}},{"$f":"IF(#REF!=6,15,0)","v":{"$error":"#REF!"}},{"$f":"IF(#REF!=7,14,0)","v":{"$error":"#REF!"}},{"$f":"IF(#REF!=8,13,0)","v":{"$error":"#REF!"}},{"$f":"IF(#REF!=9,12,0)","v":{"$error":"#REF!"}},{"$f":"IF(#REF!=10,11,0)","v":{"$error":"#REF!"}},{"$f":"IF(#REF!=11,10,0)","v":{"$error":"#REF!"}},{"$f":"IF(#REF!=12,9,0)","v":{"$error":"#REF!"}},{"$f":"IF(#REF!=13,8,0)","v":{"$error":"#REF!"}},{"$f":"IF(#REF!=14,7,0)","v":{"$error":"#REF!"}},{"$f":"IF(#REF!=15,6,0)","v":{"$error":"#REF!"}},{"$f":"IF(#REF!=16,5,0)","v":{"$error":"#REF!"}},{"$f":"IF(#REF!=17,4,0)","v":{"$error":"#REF!"}},{"$f":"IF(#REF!=18,3,0)","v":{"$error":"#REF!"}},{"$f":"IF(#REF!=19,2,0)","v":{"$error":"#REF!"}},{"$f":"IF(#REF!=20,1,0)","v":{"$error":"#REF!"}},{"$f":"IF(#REF!>20,0,0)","v":{"$error":"#REF!"}},{"$f":"IF(#REF!=\"сх\",0,0)","v":{"$error":"#REF!"}},{"$error":"#REF!"},{"$f":"IF(#REF!=1,45,0)","v":{"$error":"#REF!"}},{"$f":"IF(#REF!=2,42,0)","v":{"$error":"#REF!"}},{"$f":"IF(#REF!=3,40,0)","v":{"$error":"#REF!"}},{"$f":"IF(#REF!=4,38,0)","v":{"$error":"#REF!"}},{"$f":"IF(#REF!=5,36,0)","v":{"$error":"#REF!"}},{"$f":"IF(#REF!=6,35,0)","v":{"$error":"#REF!"}},{"$f":"IF(#REF!=7,34,0)","v":{"$error":"#REF!"}},{"$f":"IF(#REF!=8,33,0)","v":{"$error":"#REF!"}},{"$f":"IF(#REF!=9,32,0)","v":{"$error":"#REF!"}},{"$f":"IF(#REF!=10,31,0)","v":{"$error":"#REF!"}},{"$f":"IF(#REF!=11,30,0)","v":{"$error":"#REF!"}},{"$f":"IF(#REF!=12,29,0)","v":{"$error":"#REF!"}},{"$f":"IF(#REF!=13,28,0)","v":{"$error":"#REF!"}},{"$f":"IF(#REF!=14,27,0)","v":{"$error":"#REF!"}},{"$f":"IF(#REF!=15,26,0)","v":{"$error":"#REF!"}},{"$f":"IF(#REF!=16,25,0)","v":{"$error":"#REF!"}},{"$f":"IF(#REF!=17,24,0)","v":{"$error":"#REF!"}},{"$f":"IF(#REF!=18,23,0)","v":{"$error":"#REF!"}},{"$f":"IF(#REF!=19,22,0)","v":{"$error":"#REF!"}},{"$f":"IF(#REF!=20,21,0)","v":{"$error":"#REF!"}},{"$f":"IF(#REF!=21,20,0)","v":{"$error":"#REF!"}},{"$f":"IF(#REF!=22,19,0)","v":{"$error":"#REF!"}},{"$f":"IF(#REF!=23,18,0)","v":{"$error":"#REF!"}},{"$f":"IF(#REF!=24,17,0)","v":{"$error":"#REF!"}},{"$f":"IF(#REF!=25,16,0)","v":{"$error":"#REF!"}},{"$f":"IF(#REF!=26,15,0)","v":{"$error":"#REF!"}},{"$f":"IF(#REF!=27,14,0)","v":{"$error":"#REF!"}},{"$f":"IF(#REF!=28,13,0)","v":{"$error":"#REF!"}},{"$f":"IF(#REF!=29,12,0)","v":{"$error":"#REF!"}},{"$f":"IF(#REF!=30,11,0)","v":{"$error":"#REF!"}},{"$f":"IF(#REF!=31,10,0)","v":{"$error":"#REF!"}},{"$f":"IF(#REF!=32,9,0)","v":{"$error":"#REF!"}},{"$f":"IF(#REF!=33,8,0)","v":{"$error":"#REF!"}},{"$f":"IF(#REF!=34,7,0)","v":{"$error":"#REF!"}},{"$f":"IF(#REF!=35,6,0)","v":{"$error":"#REF!"}},{"$f":"IF(#REF!=36,5,0)","v":{"$error":"#REF!"}},{"$f":"IF(#REF!=37,4,0)","v":{"$error":"#REF!"}},{"$f":"IF(#REF!=38,3,0)","v":{"$error":"#REF!"}},{"$f":"IF(#REF!=39,2,0)","v":{"$error":"#REF!"}},{"$f":"IF(#REF!=40,1,0)","v":{"$error":"#REF!"}},{"$f":"IF(#REF!>20,0,0)","v":{"$error":"#REF!"}},{"$f":"IF(#REF!=\"сх\",0,0)","v":{"$error":"#REF!"}},{"$error":"#REF!"},{"$f":"IF(#REF!=1,45,0)","v":{"$error":"#REF!"}},{"$f":"IF(#REF!=2,42,0)","v":{"$error":"#REF!"}},{"$f":"IF(#REF!=3,40,0)","v":{"$error":"#REF!"}},{"$f":"IF(#REF!=4,38,0)","v":{"$error":"#REF!"}},{"$f":"IF(#REF!=5,36,0)","v":{"$error":"#REF!"}},{"$f":"IF(#REF!=6,35,0)","v":{"$error":"#REF!"}},{"$f":"IF(#REF!=7,34,0)","v":{"$error":"#REF!"}},{"$f":"IF(#REF!=8,33,0)","v":{"$error":"#REF!"}},{"$f":"IF(#REF!=9,32,0)","v":{"$error":"#REF!"}},{"$f":"IF(#REF!=10,31,0)","v":{"$error":"#REF!"}},{"$f":"IF(#REF!=11,30,0)","v":{"$error":"#REF!"}},{"$f":"IF(#REF!=12,29,0)","v":{"$error":"#REF!"}},{"$f":"IF(#REF!=13,28,0)","v":{"$error":"#REF!"}},{"$f":"IF(#REF!=14,27,0)","v":{"$error":"#REF!"}},{"$f":"IF(#REF!=15,26,0)","v":{"$error":"#REF!"}},{"$f":"IF(#REF!=16,25,0)","v":{"$error":"#REF!"}},{"$f":"IF(#REF!=17,24,0)","v":{"$error":"#REF!"}},{"$f":"IF(#REF!=18,23,0)","v":{"$error":"#REF!"}},{"$f":"IF(#REF!=19,22,0)","v":{"$error":"#REF!"}},{"$f":"IF(#REF!=20,21,0)","v":{"$error":"#REF!"}},{"$f":"IF(#REF!=21,20,0)","v":{"$error":"#REF!"}},{"$f":"IF(#REF!=22,19,0)","v":{"$error":"#REF!"}},{"$f":"IF(#REF!=23,18,0)","v":{"$error":"#REF!"}},{"$f":"IF(#REF!=24,17,0)","v":{"$error":"#REF!"}},{"$f":"IF(#REF!=25,16,0)","v":{"$error":"#REF!"}},{"$f":"IF(#REF!=26,15,0)","v":{"$error":"#REF!"}},{"$f":"IF(#REF!=27,14,0)","v":{"$error":"#REF!"}},{"$f":"IF(#REF!=28,13,0)","v":{"$error":"#REF!"}},{"$f":"IF(#REF!=29,12,0)","v":{"$error":"#REF!"}},{"$f":"IF(#REF!=30,11,0)","v":{"$error":"#REF!"}},{"$f":"IF(#REF!=31,10,0)","v":{"$error":"#REF!"}},{"$f":"IF(#REF!=32,9,0)","v":{"$error":"#REF!"}},{"$f":"IF(#REF!=33,8,0)","v":{"$error":"#REF!"}},{"$f":"IF(#REF!=34,7,0)","v":{"$error":"#REF!"}},{"$f":"IF(#REF!=35,6,0)","v":{"$error":"#REF!"}},{"$f":"IF(#REF!=36,5,0)","v":{"$error":"#REF!"}},{"$f":"IF(#REF!=37,4,0)","v":{"$error":"#REF!"}},{"$f":"IF(#REF!=38,3,0)","v":{"$error":"#REF!"}},{"$f":"IF(#REF!=39,2,0)","v":{"$error":"#REF!"}},{"$f":"IF(#REF!=40,1,0)","v":{"$error":"#REF!"}},{"$f":"IF(#REF!>20,0,0)","v":{"$error":"#REF!"}},{"$f":"IF(#REF!=\"сх\",0,0)","v":{"$error":"#REF!"}},{"$error":"#REF!"},null,{"$f":"IF(#REF!=\"сх\",\"ноль\",IF(#REF!>0,#REF!,\"Ноль\"))","v":{"$error":"#REF!"}},{"$f":"IF(#REF!=\"сх\",\"ноль\",IF(#REF!>0,#REF!,\"Ноль\"))","v":{"$error":"#REF!"}},null,{"$error":"#REF!"},{"$f":"IF(O19=#REF!,IF(#REF!<#REF!,#REF!,FD19),#REF!)","v":{"$error":"#REF!"}},{"$f":"IF(O19=#REF!,IF(#REF!<#REF!,0,1))","v":{"$error":"#REF!"}},{"$f":"IF(AND(EY19>=21,EY19<>0),EY19,IF(O19<#REF!,\"СТОП\",EZ19+FA19))","v":{"$error":"#REF!"}},null,15,16,null,{"$f":"IF(#REF!=1,25,0)","v":{"$error":"#REF!"}},{"$f":"IF(#REF!=2,22,0)","v":{"$error":"#REF!"}},{"$f":"IF(#REF!=3,20,0)","v":{"$error":"#REF!"}},{"$f":"IF(#REF!=4,18,0)","v":{"$error":"#REF!"}},{"$f":"IF(#REF!=5,16,0)","v":{"$error":"#REF!"}},{"$f":"IF(#REF!=6,15,0)","v":{"$error":"#REF!"}},{"$f":"IF(#REF!=7,14,0)","v":{"$error":"#REF!"}},{"$f":"IF(#REF!=8,13,0)","v":{"$error":"#REF!"}},{"$f":"IF(#REF!=9,12,0)","v":{"$error":"#REF!"}},{"$f":"IF(#REF!=10,11,0)","v":{"$error":"#REF!"}},{"$f":"IF(#REF!=11,10,0)","v":{"$error":"#REF!"}},{"$f":"IF(#REF!=12,9,0)","v":{"$error":"#REF!"}},{"$f":"IF(#REF!=13,8,0)","v":{"$error":"#REF!"}},{"$f":"IF(#REF!=14,7,0)","v":{"$error":"#REF!"}},{"$f":"IF(#REF!=15,6,0)","v":{"$error":"#REF!"}},{"$f":"IF(#REF!=16,5,0)","v":{"$error":"#REF!"}},{"$f":"IF(#REF!=17,4,0)","v":{"$error":"#REF!"}},{"$f":"IF(#REF!=18,3,0)","v":{"$error":"#REF!"}},{"$f":"IF(#REF!=19,2,0)","v":{"$error":"#REF!"}},{"$f":"IF(#REF!=20,1,0)","v":{"$error":"#REF!"}},{"$f":"IF(#REF!>20,0,0)","v":{"$error":"#REF!"}},{"$f":"IF(#REF!=\"сх\",0,0)","v":{"$error":"#REF!"}},{"$error":"#REF!"},{"$f":"IF(#REF!=1,25,0)","v":{"$error":"#REF!"}},{"$f":"IF(#REF!=2,22,0)","v":{"$error":"#REF!"}},{"$f":"IF(#REF!=3,20,0)","v":{"$error":"#REF!"}},{"$f":"IF(#REF!=4,18,0)","v":{"$error":"#REF!"}},{"$f":"IF(#REF!=5,16,0)","v":{"$error":"#REF!"}},{"$f":"IF(#REF!=6,15,0)","v":{"$error":"#REF!"}},{"$f":"IF(#REF!=7,14,0)","v":{"$error":"#REF!"}},{"$f":"IF(#REF!=8,13,0)","v":{"$error":"#REF!"}},{"$f":"IF(#REF!=9,12,0)","v":{"$error":"#REF!"}},{"$f":"IF(#REF!=10,11,0)","v":{"$error":"#REF!"}},{"$f":"IF(#REF!=11,10,0)","v":{"$error":"#REF!"}},{"$f":"IF(#REF!=12,9,0)","v":{"$error":"#REF!"}},{"$f":"IF(#REF!=13,8,0)","v":{"$error":"#REF!"}},{"$f":"IF(#REF!=14,7,0)","v":{"$error":"#REF!"}},{"$f":"IF(#REF!=15,6,0)","v":{"$error":"#REF!"}},{"$f":"IF(#REF!=16,5,0)","v":{"$error":"#REF!"}},{"$f":"IF(#REF!=17,4,0)","v":{"$error":"#REF!"}},{"$f":"IF(#REF!=18,3,0)","v":{"$error":"#REF!"}},{"$f":"IF(#REF!=19,2,0)","v":{"$error":"#REF!"}},{"$f":"IF(#REF!=20,1,0)","v":{"$error":"#REF!"}},{"$f":"IF(#REF!>20,0,0)","v":{"$error":"#REF!"}},{"$f":"IF(#REF!=\"сх\",0,0)","v":{"$error":"#REF!"}},{"$error":"#REF!"},{"$f":"IF(#REF!=1,100,0)","v":{"$error":"#REF!"}},{"$f":"IF(#REF!=2,98,0)","v":{"$error":"#REF!"}},{"$f":"IF(#REF!=3,95,0)","v":{"$error":"#REF!"}},{"$f":"IF(#REF!=4,93,0)","v":{"$error":"#REF!"}},{"$f":"IF(#REF!=5,90,0)","v":{"$error":"#REF!"}},{"$f":"IF(#REF!=6,88,0)","v":{"$error":"#REF!"}},{"$f":"IF(#REF!=7,85,0)","v":{"$error":"#REF!"}},{"$f":"IF(#REF!=8,83,0)","v":{"$error":"#REF!"}},{"$f":"IF(#REF!=9,80,0)","v":{"$error":"#REF!"}},{"$f":"IF(#REF!=10,78,0)","v":{"$error":"#REF!"}},{"$f":"IF(#REF!=11,75,0)","v":{"$error":"#REF!"}},{"$f":"IF(#REF!=12,73,0)","v":{"$error":"#REF!"}},{"$f":"IF(#REF!=13,70,0)","v":{"$error":"#REF!"}},{"$f":"IF(#REF!=14,68,0)","v":{"$error":"#REF!"}},{"$f":"IF(#REF!=15,65,0)","v":{"$error":"#REF!"}},{"$f":"IF(#REF!=16,63,0)","v":{"$error":"#REF!"}},{"$f":"IF(#REF!=17,60,0)","v":{"$error":"#REF!"}},{"$f":"IF(#REF!=18,58,0)","v":{"$error":"#REF!"}},{"$f":"IF(#REF!=19,55,0)","v":{"$error":"#REF!"}},{"$f":"IF(#REF!=20,53,0)","v":{"$error":"#REF!"}},{"$f":"IF(#REF!>20,0,0)","v":{"$error":"#REF!"}},{"$f":"IF(#REF!=\"сх\",0,0)","v":{"$error":"#REF!"}},{"$error":"#REF!"},{"$f":"IF(#REF!=1,100,0)","v":{"$error":"#REF!"}},{"$f":"IF(#REF!=2,98,0)","v":{"$error":"#REF!"}},{"$f":"IF(#REF!=3,95,0)","v":{"$error":"#REF!"}},{"$f":"IF(#REF!=4,93,0)","v":{"$error":"#REF!"}},{"$f":"IF(#REF!=5,90,0)","v":{"$error":"#REF!"}},{"$f":"IF(#REF!=6,88,0)","v":{"$error":"#REF!"}},{"$f":"IF(#REF!=7,85,0)","v":{"$error":"#REF!"}},{"$f":"IF(#REF!=8,83,0)","v":{"$error":"#REF!"}},{"$f":"IF(#REF!=9,80,0)","v":{"$error":"#REF!"}},{"$f":"IF(#REF!=10,78,0)","v":{"$error":"#REF!"}},{"$f":"IF(#REF!=11,75,0)","v":{"$error":"#REF!"}},{"$f":"IF(#REF!=12,73,0)","v":{"$error":"#REF!"}},{"$f":"IF(#REF!=13,70,0)","v":{"$error":"#REF!"}},{"$f":"IF(#REF!=14,68,0)","v":{"$error":"#REF!"}},{"$f":"IF(#REF!=15,65,0)","v":{"$error":"#REF!"}},{"$f":"IF(#REF!=16,63,0)","v":{"$error":"#REF!"}},{"$f":"IF(#REF!=17,60,0)","v":{"$error":"#REF!"}},{"$f":"IF(#REF!=18,58,0)","v":{"$error":"#REF!"}},{"$f":"IF(#REF!=19,55,0)","v":{"$error":"#REF!"}},{"$f":"IF(#REF!=20,53,0)","v":{"$error":"#REF!"}},{"$f":"IF(#REF!>20,0,0)","v":{"$error":"#REF!"}},{"$f":"IF(#REF!=\"сх\",0,0)","v":{"$error":"#REF!"}},{"$error":"#REF!"}]
["-",0,8,"Карпман Яков","кмс","г. Ярославль","СТК \"Атлант\"","LYNX","н/с",0,"н/с",0,"н/с",0,0,{"$f":"#REF!+#REF!","v":{"$error":"#REF!"}},null,null,{"$f":"IF(#REF!=1,25,0)","v":{"$error":"#REF!"}},{"$f":"IF(#REF!=2,22,0)","v":{"$error":"#REF!"}},{"$f":"IF(#REF!=3,20,0)","v":{"$error":"#REF!"}},{"$f":"IF(#REF!=4,18,0)","v":{"$error":"#REF!"}},{"$f":"IF(#REF!=5,16,0)","v":{"$error":"#REF!"}},{"$f":"IF(#REF!=6,15,0)","v":{"$error":"#REF!"}},{"$f":"IF(#REF!=7,14,0)","v":{"$error":"#REF!"}},{"$f":"IF(#REF!=8,13,0)","v":{"$error":"#REF!"}},{"$f":"IF(#REF!=9,12,0)","v":{"$error":"#REF!"}},{"$f":"IF(#REF!=10,11,0)","v":{"$error":"#REF!"}},{"$f":"IF(#REF!=11,10,0)","v":{"$error":"#REF!"}},{"$f":"IF(#REF!=12,9,0)","v":{"$error":"#REF!"}},{"$f":"IF(#REF!=13,8,0)","v":{"$error":"#REF!"}},{"$f":"IF(#REF!=14,7,0)","v":{"$error":"#REF!"}},{"$f":"IF(#REF!=15,6,0)","v":{"$error":"#REF!"}},{"$f":"IF(#REF!=16,5,0)","v":{"$error":"#REF!"}},{"$f":"IF(#REF!=17,4,0)","v":{"$error":"#REF!"}},{"$f":"IF(#REF!=18,3,0)","v":{"$error":"#REF!"}},{"$f":"IF(#REF!=19,2,0)","v":{"$error":"#REF!"}},{"$f":"IF(#REF!=20,1,0)","v":{"$error":"#REF!"}},{"$f":"IF(#REF!>20,0,0)","v":{"$error":"#REF!"}},{"$f":"IF(#REF!=\"сх\",0,0)","v":{"$error":"#REF!"}},{"$error":"#REF!"},{"$f":"IF(#REF!=1,25,0)","v":{"$error":"#REF!"}},{"$f":"IF(#REF!=2,22,0)","v":{"$error":"#REF!"}},{"$f":"IF(#REF!=3,20,0)","v":{"$error":"#REF!"}},{"$f":"IF(#REF!=4,18,0)","v":{"$error":"#REF!"}},{"$f":"IF(#REF!=5,16,0)","v":{"$error":"#REF!"}},{"$f":"IF(#REF!=6,15,0)","v":{"$error":"#REF!"}},{"$f":"IF(#REF!=7,14,0)","v":{"$error":"#REF!"}},{"$f":"IF(#REF!=8,13,0)","v":{"$error":"#REF!"}},{"$f":"IF(#REF!=9,12,0)","v":{"$error":"#REF!"}},{"$f":"IF(#REF!=10,11,0)","v":{"$error":"#REF!"}},{"$f":"IF(#REF!=11,10,0)","v":{"$error":"#REF!"}},{"$f":"IF(#REF!=12,9,0)","v":{"$error":"#REF!"}},{"$f":"IF(#REF!=13,8,0)","v":{"$error":"#REF!"}},{"$f":"IF(#REF!=14,7,0)","v":{"$error":"#REF!"}},{"$f":"IF(#REF!=15,6,0)","v":{"$error":"#REF!"}},{"$f":"IF(#REF!=16,5,0)","v":{"$error":"#REF!"}},{"$f":"IF(#REF!=17,4,0)","v":{"$error":"#REF!"}},{"$f":"IF(#REF!=18,3,0)","v":{"$error":"#REF!"}},{"$f":"IF(#REF!=19,2,0)","v":{"$error":"#REF!"}},{"$f":"IF(#REF!=20,1,0)","v":{"$error":"#REF!"}},{"$f":"IF(#REF!>20,0,0)","v":{"$error":"#REF!"}},{"$f":"IF(#REF!=\"сх\",0,0)","v":{"$error":"#REF!"}},{"$error":"#REF!"},{"$f":"IF(#REF!=1,45,0)","v":{"$error":"#REF!"}},{"$f":"IF(#REF!=2,42,0)","v":{"$error":"#REF!"}},{"$f":"IF(#REF!=3,40,0)","v":{"$error":"#REF!"}},{"$f":"IF(#REF!=4,38,0)","v":{"$error":"#REF!"}},{"$f":"IF(#REF!=5,36,0)","v":{"$error":"#REF!"}},{"$f":"IF(#REF!=6,35,0)","v":{"$error":"#REF!"}},{"$f":"IF(#REF!=7,34,0)","v":{"$error":"#REF!"}},{"$f":"IF(#REF!=8,33,0)","v":{"$error":"#REF!"}},{"$f":"IF(#REF!=9,32,0)","v":{"$error":"#REF!"}},{"$f":"IF(#REF!=10,31,0)","v":{"$error":"#REF!"}},{"$f":"IF(#REF!=11,30,0)","v":{"$error":"#REF!"}},{"$f":"IF(#REF!=12,29,0)","v":{"$error":"#REF!"}},{"$f":"IF(#REF!=13,28,0)","v":{"$error":"#REF!"}},{"$f":"IF(#REF!=14,27,0)","v":{"$error":"#REF!"}},{"$f":"IF(#REF!=15,26,0)","v":{"$error":"#REF!"}},{"$f":"IF(#REF!=16,25,0)","v":{"$error":"#REF!"}},{"$f":"IF(#REF!=17,24,0)","v":{"$error":"#REF!"}},{"$f":"IF(#REF!=18,23,0)","v":{"$error":"#REF!"}},{"$f":"IF(#REF!=19,22,0)","v":{"$error":"#REF!"}},{"$f":"IF(#REF!=20,21,0)","v":{"$error":"#REF!"}},{"$f":"IF(#REF!=21,20,0)","v":{"$error":"#REF!"}},{"$f":"IF(#REF!=22,19,0)","v":{"$error":"#REF!"}},{"$f":"IF(#REF!=23,18,0)","v":{"$error":"#REF!"}},{"$f":"IF(#REF!=24,17,0)","v":{"$error":"#REF!"}},{"$f":"IF(#REF!=25,16,0)","v":{"$error":"#REF!"}},{"$f":"IF(#REF!=26,15,0)","v":{"$error":"#REF!"}},{"$f":"IF(#REF!=27,14,0)","v":{"$error":"#REF!"}},{"$f":"IF(#REF!=28,13,0)","v":{"$error":"#REF!"}},{"$f":"IF(#REF!=29,12,0)","v":{"$error":"#REF!"}},{"$f":"IF(#REF!=30,11,0)","v":{"$error":"#REF!"}},{"$f":"IF(#REF!=31,10,0)","v":{"$error":"#REF!"}},{"$f":"IF(#REF!=32,9,0)","v":{"$error":"#REF!"}},{"$f":"IF(#REF!=33,8,0)","v":{"$error":"#REF!"}},{"$f":"IF(#REF!=34,7,0)","v":{"$error":"#REF!"}},{"$f":"IF(#REF!=35,6,0)","v":{"$error":"#REF!"}},{"$f":"IF(#REF!=36,5,0)","v":{"$error":"#REF!"}},{"$f":"IF(#REF!=37,4,0)","v":{"$error":"#REF!"}},{"$f":"IF(#REF!=38,3,0)","v":{"$error":"#REF!"}},{"$f":"IF(#REF!=39,2,0)","v":{"$error":"#REF!"}},{"$f":"IF(#REF!=40,1,0)","v":{"$error":"#REF!"}},{"$f":"IF(#REF!>20,0,0)","v":{"$error":"#REF!"}},{"$f":"IF(#REF!=\"сх\",0,0)","v":{"$error":"#REF!"}},{"$error":"#REF!"},{"$f":"IF(#REF!=1,45,0)","v":{"$error":"#REF!"}},{"$f":"IF(#REF!=2,42,0)","v":{"$error":"#REF!"}},{"$f":"IF(#REF!=3,40,0)","v":{"$error":"#REF!"}},{"$f":"IF(#REF!=4,38,0)","v":{"$error":"#REF!"}},{"$f":"IF(#REF!=5,36,0)","v":{"$error":"#REF!"}},{"$f":"IF(#REF!=6,35,0)","v":{"$error":"#REF!"}},{"$f":"IF(#REF!=7,34,0)","v":{"$error":"#REF!"}},{"$f":"IF(#REF!=8,33,0)","v":{"$error":"#REF!"}},{"$f":"IF(#REF!=9,32,0)","v":{"$error":"#REF!"}},{"$f":"IF(#REF!=10,31,0)","v":{"$error":"#REF!"}},{"$f":"IF(#REF!=11,30,0)","v":{"$error":"#REF!"}},{"$f":"IF(#REF!=12,29,0)","v":{"$error":"#REF!"}},{"$f":"IF(#REF!=13,28,0)","v":{"$error":"#REF!"}},{"$f":"IF(#REF!=14,27,0)","v":{"$error":"#REF!"}},{"$f":"IF(#REF!=15,26,0)","v":{"$error":"#REF!"}},{"$f":"IF(#REF!=16,25,0)","v":{"$error":"#REF!"}},{"$f":"IF(#REF!=17,24,0)","v":{"$error":"#REF!"}},{"$f":"IF(#REF!=18,23,0)","v":{"$error":"#REF!"}},{"$f":"IF(#REF!=19,22,0)","v":{"$error":"#REF!"}},{"$f":"IF(#REF!=20,21,0)","v":{"$error":"#REF!"}},{"$f":"IF(#REF!=21,20,0)","v":{"$error":"#REF!"}},{"$f":"IF(#REF!=22,19,0)","v":{"$error":"#REF!"}},{"$f":"IF(#REF!=23,18,0)","v":{"$error":"#REF!"}},{"$f":"IF(#REF!=24,17,0)","v":{"$error":"#REF!"}},{"$f":"IF(#REF!=25,16,0)","v":{"$error":"#REF!"}},{"$f":"IF(#REF!=26,15,0)","v":{"$error":"#REF!"}},{"$f":"IF(#REF!=27,14,0)","v":{"$error":"#REF!"}},{"$f":"IF(#REF!=28,13,0)","v":{"$error":"#REF!"}},{"$f":"IF(#REF!=29,12,0)","v":{"$error":"#REF!"}},{"$f":"IF(#REF!=30,11,0)","v":{"$error":"#REF!"}},{"$f":"IF(#REF!=31,10,0)","v":{"$error":"#REF!"}},{"$f":"IF(#REF!=32,9,0)","v":{"$error":"#REF!"}},{"$f":"IF(#REF!=33,8,0)","v":{"$error":"#REF!"}},{"$f":"IF(#REF!=34,7,0)","v":{"$error":"#REF!"}},{"$f":"IF(#REF!=35,6,0)","v":{"$error":"#REF!"}},{"$f":"IF(#REF!=36,5,0)","v":{"$error":"#REF!"}},{"$f":"IF(#REF!=37,4,0)","v":{"$error":"#REF!"}},{"$f":"IF(#REF!=38,3,0)","v":{"$error":"#REF!"}},{"$f":"IF(#REF!=39,2,0)","v":{"$error":"#REF!"}},{"$f":"IF(#REF!=40,1,0)","v":{"$error":"#REF!"}},{"$f":"IF(#REF!>20,0,0)","v":{"$error":"#REF!"}},{"$f":"IF(#REF!=\"сх\",0,0)","v":{"$error":"#REF!"}},{"$error":"#REF!"},null,{"$f":"IF(#REF!=\"сх\",\"ноль\",IF(#REF!>0,#REF!,\"Ноль\"))","v":{"$error":"#REF!"}},{"$f":"IF(#REF!=\"сх\",\"ноль\",IF(#REF!>0,#REF!,\"Ноль\"))","v":{"$error":"#REF!"}},null,{"$error":"#REF!"},{"$f":"IF(O20=#REF!,IF(#REF!<#REF!,#REF!,FD20),#REF!)","v":{"$error":"#REF!"}},{"$f":"IF(O20=#REF!,IF(#REF!<#REF!,0,1))","v":{"$error":"#REF!"}},{"$f":"IF(AND(EY20>=21,EY20<>0),EY20,IF(O20<#REF!,\"СТОП\",EZ20+FA20))","v":{"$error":"#REF!"}},null,15,16,null,{"$f":"IF(#REF!=1,25,0)","v":{"$error":"#REF!"}},{"$f":"IF(#REF!=2,22,0)","v":{"$error":"#REF!"}},{"$f":"IF(#REF!=3,20,0)","v":{"$error":"#REF!"}},{"$f":"IF(#REF!=4,18,0)","v":{"$error":"#REF!"}},{"$f":"IF(#REF!=5,16,0)","v":{"$error":"#REF!"}},{"$f":"IF(#REF!=6,15,0)","v":{"$error":"#REF!"}},{"$f":"IF(#REF!=7,14,0)","v":{"$error":"#REF!"}},{"$f":"IF(#REF!=8,13,0)","v":{"$error":"#REF!"}},{"$f":"IF(#REF!=9,12,0)","v":{"$error":"#REF!"}},{"$f":"IF(#REF!=10,11,0)","v":{"$error":"#REF!"}},{"$f":"IF(#REF!=11,10,0)","v":{"$error":"#REF!"}},{"$f":"IF(#REF!=12,9,0)","v":{"$error":"#REF!"}},{"$f":"IF(#REF!=13,8,0)","v":{"$error":"#REF!"}},{"$f":"IF(#REF!=14,7,0)","v":{"$error":"#REF!"}},{"$f":"IF(#REF!=15,6,0)","v":{"$error":"#REF!"}},{"$f":"IF(#REF!=16,5,0)","v":{"$error":"#REF!"}},{"$f":"IF(#REF!=17,4,0)","v":{"$error":"#REF!"}},{"$f":"IF(#REF!=18,3,0)","v":{"$error":"#REF!"}},{"$f":"IF(#REF!=19,2,0)","v":{"$error":"#REF!"}},{"$f":"IF(#REF!=20,1,0)","v":{"$error":"#REF!"}},{"$f":"IF(#REF!>20,0,0)","v":{"$error":"#REF!"}},{"$f":"IF(#REF!=\"сх\",0,0)","v":{"$error":"#REF!"}},{"$error":"#REF!"},{"$f":"IF(#REF!=1,25,0)","v":{"$error":"#REF!"}},{"$f":"IF(#REF!=2,22,0)","v":{"$error":"#REF!"}},{"$f":"IF(#REF!=3,20,0)","v":{"$error":"#REF!"}},{"$f":"IF(#REF!=4,18,0)","v":{"$error":"#REF!"}},{"$f":"IF(#REF!=5,16,0)","v":{"$error":"#REF!"}},{"$f":"IF(#REF!=6,15,0)","v":{"$error":"#REF!"}},{"$f":"IF(#REF!=7,14,0)","v":{"$error":"#REF!"}},{"$f":"IF(#REF!=8,13,0)","v":{"$error":"#REF!"}},{"$f":"IF(#REF!=9,12,0)","v":{"$error":"#REF!"}},{"$f":"IF(#REF!=10,11,0)","v":{"$error":"#REF!"}},{"$f":"IF(#REF!=11,10,0)","v":{"$error":"#REF!"}},{"$f":"IF(#REF!=12,9,0)","v":{"$error":"#REF!"}},{"$f":"IF(#REF!=13,8,0)","v":{"$error":"#REF!"}},{"$f":"IF(#REF!=14,7,0)","v":{"$error":"#REF!"}},{"$f":"IF(#REF!=15,6,0)","v":{"$error":"#REF!"}},{"$f":"IF(#REF!=16,5,0)","v":{"$error":"#REF!"}},{"$f":"IF(#REF!=17,4,0)","v":{"$error":"#REF!"}},{"$f":"IF(#REF!=18,3,0)","v":{"$error":"#REF!"}},{"$f":"IF(#REF!=19,2,0)","v":{"$error":"#REF!"}},{"$f":"IF(#REF!=20,1,0)","v":{"$error":"#REF!"}},{"$f":"IF(#REF!>20,0,0)","v":{"$error":"#REF!"}},{"$f":"IF(#REF!=\"сх\",0,0)","v":{"$error":"#REF!"}},{"$error":"#REF!"},{"$f":"IF(#REF!=1,100,0)","v":{"$error":"#REF!"}},{"$f":"IF(#REF!=2,98,0)","v":{"$error":"#REF!"}},{"$f":"IF(#REF!=3,95,0)","v":{"$error":"#REF!"}},{"$f":"IF(#REF!=4,93,0)","v":{"$error":"#REF!"}},{"$f":"IF(#REF!=5,90,0)","v":{"$error":"#REF!"}},{"$f":"IF(#REF!=6,88,0)","v":{"$error":"#REF!"}},{"$f":"IF(#REF!=7,85,0)","v":{"$error":"#REF!"}},{"$f":"IF(#REF!=8,83,0)","v":{"$error":"#REF!"}},{"$f":"IF(#REF!=9,80,0)","v":{"$error":"#REF!"}},{"$f":"IF(#REF!=10,78,0)","v":{"$error":"#REF!"}},{"$f":"IF(#REF!=11,75,0)","v":{"$error":"#REF!"}},{"$f":"IF(#REF!=12,73,0)","v":{"$error":"#REF!"}},{"$f":"IF(#REF!=13,70,0)","v":{"$error":"#REF!"}},{"$f":"IF(#REF!=14,68,0)","v":{"$error":"#REF!"}},{"$f":"IF(#REF!=15,65,0)","v":{"$error":"#REF!"}},{"$f":"IF(#REF!=16,63,0)","v":{"$error":"#REF!"}},{"$f":"IF(#REF!=17,60,0)","v":{"$error":"#REF!"}},{"$f":"IF(#REF!=18,58,0)","v":{"$error":"#REF!"}},{"$f":"IF(#REF!=19,55,0)","v":{"$error":"#REF!"}},{"$f":"IF(#REF!=20,53,0)","v":{"$error":"#REF!"}},{"$f":"IF(#REF!>20,0,0)","v":{"$error":"#REF!"}},{"$f":"IF(#REF!=\"сх\",0,0)","v":{"$error":"#REF!"}},{"$error":"#REF!"},{"$f":"IF(#REF!=1,100,0)","v":{"$error":"#REF!"}},{"$f":"IF(#REF!=2,98,0)","v":{"$error":"#REF!"}},{"$f":"IF(#REF!=3,95,0)","v":{"$error":"#REF!"}},{"$f":"IF(#REF!=4,93,0)","v":{"$error":"#REF!"}},{"$f":"IF(#REF!=5,90,0)","v":{"$error":"#REF!"}},{"$f":"IF(#REF!=6,88,0)","v":{"$error":"#REF!"}},{"$f":"IF(#REF!=7,85,0)","v":{"$error":"#REF!"}},{"$f":"IF(#REF!=8,83,0)","v":{"$error":"#REF!"}},{"$f":"IF(#REF!=9,80,0)","v":{"$error":"#REF!"}},{"$f":"IF(#REF!=10,78,0)","v":{"$error":"#REF!"}},{"$f":"IF(#REF!=11,75,0)","v":{"$error":"#REF!"}},{"$f":"IF(#REF!=12,73,0)","v":{"$error":"#REF!"}},{"$f":"IF(#REF!=13,70,0)","v":{"$error":"#REF!"}},{"$f":"IF(#REF!=14,68,0)","v":{"$error":"#REF!"}},{"$f":"IF(#REF!=15,65,0)","v":{"$error":"#REF!"}},{"$f":"IF(#REF!=16,63,0)","v":{"$error":"#REF!"}},{"$f":"IF(#REF!=17,60,0)","v":{"$error":"#REF!"}},{"$f":"IF(#REF!=18,58,0)","v":{"$error":"#REF!"}},{"$f":"IF(#REF!=19,55,0)","v":{"$error":"#REF!"}},{"$f":"IF(#REF!=20,53,0)","v":{"$error":"#REF!"}},{"$f":"IF(#REF!>20,0,0)","v":{"$error":"#REF!"}},{"$f":"IF(#REF!=\"сх\",0,0)","v":{"$error":"#REF!"}},{"$error":"#REF!"}]
[]
["Главный судья соревнований"]
["судья Всероссийской категории:                                                                                                              А. Б. Стеблинский (г. Тюмень; лицензия МФР А 144)"]
[]
["Главный секретарь соревнований"]
["судья Всероссийской категории:                                                                                              А. Ю. Иванов (г. Москва/лицензия МФР А 105; FIM 11245)"]

{"sheet":"ЮНИОРЫ","index":2,"n_rows":31,"n_cols":258,"rows_kept":31,"cut":false,"hidden":false,"merged":[[5,8,5,10],[0,15,3,15],[1,0,1,14],[2,0,2,14],[4,0,4,14],[3,0,3,14],[6,1,8,1],[6,2,8,2],[6,3,8,3],[6,4,8,4],[6,5,8,5],[26,0,26,7],[29,0,29,7],[6,15,8,15],[7,8,8,8],[7,9,8,9],[7,10,8,10],[7,11,8,11],[7,12,8,12],[7,13,8,13],[6,6,8,6],[6,7,8,7],[6,8,6,9],[6,10,6,11],[6,12,6,13],[6,14,8,14],[6,0,8,0]]}
[]
[" Первенство России по кроссу на снегоходах 2017 года - IV-й этап.                                                            "]
["ПРОТОКОЛ ЛИЧНОГО ЗАЧЕТА",null,null,null,null,null,null,null,null,null,null,null,null,null,null,null,null,null,null,null,null,null,null,null,null,null,null,null,null,null,null,null,null,null,null,null,null,null,null,null,null,null,null,null,null,null,null,null,null,null,null,null,null,null,null,null,null,null,null,null,null,null,null,null,null,null,null,null,null,null,null,null,null,null,null,null,null,null,null,null,null,null,null,null,null,null,null,null,null,null,null,null,null,null,null,null,null,null,null,null,null,null,null,null,null,null,null,null,null,null,null,null,null,null,null,null,null,null,null,null,null,null,null,null,null,null,null,null,null,null,null,null,null,null,null,null,null,null,null,null,null,null,null,null,null,null,null,null,null,null,null,null,null,null,null,null,null,null,null,null,null,null,null,null,null,null,null,null,null,null,null,null,null,null,"первый этап"]
["г. Новый Уренгой, Ямало-Ненецкий АО.                                                                                                                                                                                                       31 марта - 02 апреля 2017 года.",null,null,null,null,null,null,null,null,null,null,null,null,null,null,null,null,null,null,null,null,null,null,null,null,null,null,null,null,null,null,null,null,null,null,null,null,null,null,null,null,null,null,null,null,null,null,null,null,null,null,null,null,null,null,null,null,null,null,null,null,null,null,null,null,null,null,null,null,null,null,null,null,null,null,null,null,null,null,null,null,null,null,null,null,null,null,null,null,null,null,null,null,null,null,null,null,null,null,null,null,null,null,null,null,null,null,null,null,null,null,null,null,null,null,null,null,null,null,null,null,null,null,null,null,null,null,null,null,null,null,null,null,null,null,null,null,null,null,null,null,null,null,null,null,null,null,null,null,null,null,null,null,null,null,null,null,null,null,null,null,null,null,"первый заезд личные очки",null,null,null,null,null,null,null,null,null,null,null,null,null,null,null,null,null,null,null,null,null,"второй заезд личные очки",null,null,null,null,null,null,null,null,null,null,null,null,null,null,null,null,null,null,null,null,null,null,"Первый заезд командные очки",null,null,null,null,null,null,null,null,null,null,null,null,null,null,null,null,null,null,null,null,null,null,"Второй заезд командные очки"]
["Класс \"ЮНИОРЫ\". ",null,null,null,null,null,null,null,null,null,null,null,null,null,null,null,null,null,null,null,null,null,null,null,null,null,null,null,null,null,null,null,null,null,null,null,null,null,null,null,null,null,null,null,null,null,null,null,null,null,null,null,null,null,null,null,null,null,null,null,null,null,null,null,null,null,null,null,null,null,null,null,null,null,null,null,null,null,null,null,null,null,null,null,null,null,null,null,null,null,null,null,null,null,null,null,null,null,null,null,null,null,null,null,null,null,null,null,null,null,null,null,null,null,null,null,null,null,null,null,null,null,null,null,null,null,null,null,null,null,null,null,null,null,null,null,null,null,null,null,null,null,null,null,null,null,null,null,null,null,null,null,null,null,null,null,null,null,null,null,null,null,1,2,3,4,5,6,7,8,9,10,11,12,13,14,15,16,17,18,19,20,21,"сх","Sym",1,2,3,4,5,6,7,8,9,10,11,12,13,14,15,16,17,18,19,20,21,"cx","sym",1,2,3,4,5,6,7,8,9,10,11,12,13,14,15,16,17,18,19,20,21,"сх","очки",1,2,3,4,5,6,7,8,9,10,11,12,13,14,15,16,17,18,19,20,21,"сх","очки",{"$f":"COUNT(FG5:IT5)","v":84},"Н. Стро","В. стро","место"]
[]
["Место ","РЕЙТИНГОВЫЕ ОЧКИ Коэф. 0,8","Ст. №","Фамилия, Имя","Разряд","Город (край, район, область)","Команда","Марка снегохода","1-й заезд",null,"2-й заезд",null,"3-й заезд",null,"Сумма очков              в личном зачете","Сумма очк. в командном зачете"]
[null,null,null,null,null,null,null,null,"место","лич. очки","место","лич. очки","место","лич. очки",null,null,null,null,null,"первый заезд личные очки",null,null,null,null,null,null,null,null,null,null,null,null,null,null,null,null,null,null,null,null,null,"второй заезд личные очки",null,null,null,null,null,null,null,null,null,null,null,null,null,null,null,null,null,null,null,null,null,null,"Первый заезд командные очки",null,null,null,null,null,null,null,null,null,null,null,null,null,null,null,null,null,null,null,null,null,null,null,null,null,null,null,null,null,null,null,null,null,null,null,null,null,null,null,null,null,null,"Второй заезд командные очки",null,null,null,null,null,null,null,null,null,null,null,null,null,null,null,null,null,null,null,null,null,null,null,null,null,null,null,null,null,null,null,null,null,null,null,null,null,null,null,null,null,null,null,1,2,null,null,null,null,null,null,null,null,null,null,null,null,null,null,null,null,null,null,null,null,null,"первый этап"]
[null,null,null,null,null,null,null,null,null,null,null,null,null,null,null,null,null,null,1,2,3,4,5,6,7,8,9,10,11,12,13,14,15,16,17,18,19,20,21,"сх",null,1,2,3,4,5,6,7,8,9,10,11,12,13,14,15,16,17,18,19,20,null,"cx",null,1,2,3,4,5,6,7,8,9,10,11,12,13,14,15,16,17,18,19,20,21,22,23,24,25,26,27,28,29,30,31,32,33,34,35,36,37,38,39,40,null,null,null,1,2,3,4,5,6,7,8,9,10,11,12,13,14,15,16,17,18,19,20,21,22,23,24,25,26,27,28,29,30,31,32,33,34,35,36,37,38,39,40,null,null,null,null,null,null,null,"мин","Н. Стро","В. стро","место",null,"чр1","чр2",null,null,"первый заезд личные очки",null,null,null,null,null,null,null,null,null,null,null,null,null,null,null,null,null,null,null,null,null,"второй заезд личные очки",null,null,null,null,null,null,null,null,null,null,null,null,null,null,null,null,null,null,null,null,null,null,"Первый заезд командные очки",null,null,null,null,null,null,null,null,null,null,null,null,null,null,null,null,null,null,null,null,null,null,"Второй заезд командные очки"]
[1,40,10,"Колегов Михаил","кмс","г. Новый Уренгой, Ямало-Ненецкий АО","СТК \"Ямбург\"","LYNX",1,25,1,25,1,25,{"$f":"SUM(J10+L10+N10)","v":75},{"$f":"#REF!+#REF!","v":{"$error":"#REF!"}},null,null,{"$f":"IF(#REF!=1,25,0)","v":{"$error":"#REF!"}},{"$f":"IF(#REF!=2,22,0)","v":{"$error":"#REF!"}},{"$f":"IF(#REF!=3,20,0)","v":{"$error":"#REF!"}},{"$f":"IF(#REF!=4,18,0)","v":{"$error":"#REF!"}},{"$f":"IF(#REF!=5,16,0)","v":{"$error":"#REF!"}},{"$f":"IF(#REF!=6,15,0)","v":{"$error":"#REF!"}},{"$f":"IF(#REF!=7,14,0)","v":{"$error":"#REF!"}},{"$f":"IF(#REF!=8,13,0)","v":{"$error":"#REF!"}},{"$f":"IF(#REF!=9,12,0)","v":{"$error":"#REF!"}},{"$f":"IF(#REF!=10,11,0)","v":{"$error":"#REF!"}},{"$f":"IF(#REF!=11,10,0)","v":{"$error":"#REF!"}},{"$f":"IF(#REF!=12,9,0)","v":{"$error":"#REF!"}},{"$f":"IF(#REF!=13,8,0)","v":{"$error":"#REF!"}},{"$f":"IF(#REF!=14,7,0)","v":{"$error":"#REF!"}},{"$f":"IF(#REF!=15,6,0)","v":{"$error":"#REF!"}},{"$f":"IF(#REF!=16,5,0)","v":{"$error":"#REF!"}},{"$f":"IF(#REF!=17,4,0)","v":{"$error":"#REF!"}},{"$f":"IF(#REF!=18,3,0)","v":{"$error":"#REF!"}},{"$f":"IF(#REF!=19,2,0)","v":{"$error":"#REF!"}},{"$f":"IF(#REF!=20,1,0)","v":{"$error":"#REF!"}},{"$f":"IF(#REF!>20,0,0)","v":{"$error":"#REF!"}},{"$f":"IF(#REF!=\"сх\",0,0)","v":{"$error":"#REF!"}},{"$f":"SUM(S10:AM10)","v":{"$error":"#REF!"}},{"$f":"IF(#REF!=1,25,0)","v":{"$error":"#REF!"}},{"$f":"IF(#REF!=2,22,0)","v":{"$error":"#REF!"}},{"$f":"IF(#REF!=3,20,0)","v":{"$error":"#REF!"}},{"$f":"IF(#REF!=4,18,0)","v":{"$error":"#REF!"}},{"$f":"IF(#REF!=5,16,0)","v":{"$error":"#REF!"}},{"$f":"IF(#REF!=6,15,0)","v":{"$error":"#REF!"}},{"$f":"IF(#REF!=7,14,0)","v":{"$error":"#REF!"}},{"$f":"IF(#REF!=8,13,0)","v":{"$error":"#REF!"}},{"$f":"IF(#REF!=9,12,0)","v":{"$error":"#REF!"}},{"$f":"IF(#REF!=10,11,0)","v":{"$error":"#REF!"}},{"$f":"IF(#REF!=11,10,0)","v":{"$error":"#REF!"}},{"$f":"IF(#REF!=12,9,0)","v":{"$error":"#REF!"}},{"$f":"IF(#REF!=13,8,0)","v":{"$error":"#REF!"}},{"$f":"IF(#REF!=14,7,0)","v":{"$error":"#REF!"}},{"$f":"IF(#REF!=15,6,0)","v":{"$error":"#REF!"}},{"$f":"IF(#REF!=16,5,0)","v":{"$error":"#REF!"}},{"$f":"IF(#REF!=17,4,0)","v":{"$error":"#REF!"}},{"$f":"IF(#REF!=18,3,0)","v":{"$error":"#REF!"}},{"$f":"IF(#REF!=19,2,0)","v":{"$error":"#REF!"}},{"$f":"IF(#REF!=20,1,0)","v":{"$error":"#REF!"}},{"$f":"IF(#REF!>20,0,0)","v":{"$error":"#REF!"}},{"$f":"IF(#REF!=\"сх\",0,0)","v":{"$error":"#REF!"}},{"$f":"SUM(AP10:BJ10)","v":{"$error":"#REF!"}},{"$f":"IF(#REF!=1,45,0)","v":{"$error":"#REF!"}},{"$f":"IF(#REF!=2,42,0)","v":{"$error":"#REF!"}},{"$f":"IF(#REF!=3,40,0)","v":{"$error":"#REF!"}},{"$f":"IF(#REF!=4,38,0)","v":{"$error":"#REF!"}},{"$f":"IF(#REF!=5,36,0)","v":{"$error":"#REF!"}},{"$f":"IF(#REF!=6,35,0)","v":{"$error":"#REF!"}},{"$f":"IF(#REF!=7,34,0)","v":{"$error":"#REF!"}},{"$f":"IF(#REF!=8,33,0)","v":{"$error":"#REF!"}},{"$f":"IF(#REF!=9,32,0)","v":{"$error":"#REF!"}},{"$f":"IF(#REF!=10,31,0)","v":{"$error":"#REF!"}},{"$f":"IF(#REF!=11,30,0)","v":{"$error":"#REF!"}},{"$f":"IF(#REF!=12,29,0)","v":{"$error":"#REF!"}},{"$f":"IF(#REF!=13,28,0)","v":{"$error":"#REF!"}},{"$f":"IF(#REF!=14,27,0)","v":{"$error":"#REF!"}},{"$f":"IF(#REF!=15,26,0)","v":{"$error":"#REF!"}},{"$f":"IF(#REF!=16,25,0)","v":{"$error":"#REF!"}},{"$f":"IF(#REF!=17,24,0)","v":{"$error":"#REF!"}},{"$f":"IF(#REF!=18,23,0)","v":{"$error":"#REF!"}},{"$f":"IF(#REF!=19,22,0)","v":{"$error":"#REF!"}},{"$f":"IF(#REF!=20,21,0)","v":{"$error":"#REF!"}},{"$f":"IF(#REF!=21,20,0)","v":{"$error":"#REF!"}},{"$f":"IF(#REF!=22,19,0)","v":{"$error":"#REF!"}},{"$f":"IF(#REF!=23,18,0)","v":{"$error":"#REF!"}},{"$f":"IF(#REF!=24,17,0)","v":{"$error":"#REF!"}},{"$f":"IF(#REF!=25,16,0)","v":{"$error":"#REF!"}},{"$f":"IF(#REF!=26,15,0)","v":{"$error":"#REF!"}},{"$f":"IF(#REF!=27,14,0)","v":{"$error":"#REF!"}},{"$f":"IF(#REF!=28,13,0)","v":{"$error":"#REF!"}},{"$f":"IF(#REF!=29,12,0)","v":{"$error":"#REF!"}},{"$f":"IF(#REF!=30,11,0)","v":{"$error":"#REF!"}},{"$f":"IF(#REF!=31,10,0)","v":{"$error":"#REF!"}},{"$f":"IF(#REF!=32,9,0)","v":{"$error":"#REF!"}},{"$f":"IF(#REF!=33,8,0)","v":{"$error":"#REF!"}},{"$f":"IF(#REF!=34,7,0)","v":{"$error":"#REF!"}},{"$f":"IF(#REF!=35,6,0)","v":{"$error":"#REF!"}},{"$f":"IF(#REF!=36,5,0)","v":{"$error":"#REF!"}},{"$f":"IF(#REF!=37,4,0)","v":{"$error":"#REF!"}},{"$f":"IF(#REF!=38,3,0)","v":{"$error":"#REF!"}},{"$f":"IF(#REF!=39,2,0)","v":{"$error":"#REF!"}},{"$f":"IF(#REF!=40,1,0)","v":{"$error":"#REF!"}},{"$f":"IF(#REF!>20,0,0)","v":{"$error":"#REF!"}},{"$f":"IF(#REF!=\"сх\",0,0)","v":{"$error":"#REF!"}},{"$f":"SUM(BM10:DB10)","v":{"$error":"#REF!"}},{"$f":"IF(#REF!=1,45,0)","v":{"$error":"#REF!"}},{"$f":"IF(#REF!=2,42,0)","v":{"$error":"#REF!"}},{"$f":"IF(#REF!=3,40,0)","v":{"$error":"#REF!"}},{"$f":"IF(#REF!=4,38,0)","v":{"$error":"#REF!"}},{"$f":"IF(#REF!=5,36,0)","v":{"$error":"#REF!"}},{"$f":"IF(#REF!=6,35,0)","v":{"$error":"#REF!"}},{"$f":"IF(#REF!=7,34,0)","v":{"$error":"#REF!"}},{"$f":"IF(#REF!=8,33,0)","v":{"$error":"#REF!"}},{"$f":"IF(#REF!=9,32,0)","v":{"$error":"#REF!"}},{"$f":"IF(#REF!=10,31,0)","v":{"$error":"#REF!"}},{"$f":"IF(#REF!=11,30,0)","v":{"$error":"#REF!"}},{"$f":"IF(#REF!=12,29,0)","v":{"$error":"#REF!"}},{"$f":"IF(#REF!=13,28,0)","v":{"$error":"#REF!"}},{"$f":"IF(#REF!=14,27,0)","v":{"$error":"#REF!"}},{"$f":"IF(#REF!=15,26,0)","v":{"$error":"#REF!"}},{"$f":"IF(#REF!=16,25,0)","v":{"$error":"#REF!"}},{"$f":"IF(#REF!=17,24,0)","v":{"$error":"#REF!"}},{"$f":"IF(#REF!=18,23,0)","v":{"$error":"#REF!"}},{"$f":"IF(#REF!=19,22,0)","v":{"$error":"#REF!"}},{"$f":"IF(#REF!=20,21,0)","v":{"$error":"#REF!"}},{"$f":"IF(#REF!=21,20,0)","v":{"$error":"#REF!"}},{"$f":"IF(#REF!=22,19,0)","v":{"$error":"#REF!"}},{"$f":"IF(#REF!=23,18,0)","v":{"$error":"#REF!"}},{"$f":"IF(#REF!=24,17,0)","v":{"$error":"#REF!"}},{"$f":"IF(#REF!=25,16,0)","v":{"$error":"#REF!"}},{"$f":"IF(#REF!=26,15,0)","v":{"$error":"#REF!"}},{"$f":"IF(#REF!=27,14,0)","v":{"$error":"#REF!"}},{"$f":"IF(#REF!=28,13,0)","v":{"$error":"#REF!"}},{"$f":"IF(#REF!=29,12,0)","v":{"$error":"#REF!"}},{"$f":"IF(#REF!=30,11,0)","v":{"$error":"#REF!"}},{"$f":"IF(#REF!=31,10,0)","v":{"$error":"#REF!"}},{"$f":"IF(#REF!=32,9,0)","v":{"$error":"#REF!"}},{"$f":"IF(#REF!=33,8,0)","v":{"$error":"#REF!"}},{"$f":"IF(#REF!=34,7,0)","v":{"$error":"#REF!"}},{"$f":"IF(#REF!=35,6,0)","v":{"$error":"#REF!"}},{"$f":"IF(#REF!=36,5,0)","v":{"$error":"#REF!"}},{"$f":"IF(#REF!=37,4,0)","v":{"$error":"#REF!"}},{"$f":"IF(#REF!=38,3,0)","v":{"$error":"#REF!"}},{"$f":"IF(#REF!=39,2,0)","v":{"$error":"#REF!"}},{"$f":"IF(#REF!=40,1,0)","v":{"$error":"#REF!"}},{"$f":"IF(#REF!>20,0,0)","v":{"$error":"#REF!"}},{"$f":"IF(#REF!=\"сх\",0,0)","v":{"$error":"#REF!"}},{"$f":"SUM(DD10:ES10)","v":{"$error":"#REF!"}},null,{"$f":"IF(#REF!=\"сх\",\"ноль\",IF(#REF!>0,#REF!,\"Ноль\"))","v":{"$error":"#REF!"}},{"$f":"IF(#REF!=\"сх\",\"ноль\",IF(#REF!>0,#REF!,\"Ноль\"))","v":{"$error":"#REF!"}},null,{"$f":"MIN(EV10,EW10)","v":{"$error":"#REF!"}},{"$f":"IF(O10=#REF!,IF(#REF!<#REF!,#REF!,FD10),#REF!)","v":{"$error":"#REF!"}},{"$f":"IF(O10=#REF!,IF(#REF!<#REF!,0,1))","v":{"$error":"#REF!"}},{"$f":"IF(AND(EY10>=21,EY10<>0),EY10,IF(O10<#REF!,\"СТОП\",EZ10+FA10))","v":{"$error":"#REF!"}},null,15,16,null,{"$f":"IF(#REF!=1,25,0)","v":{"$error":"#REF!"}},{"$f":"IF(#REF!=2,22,0)","v":{"$error":"#REF!"}},{"$f":"IF(#REF!=3,20,0)","v":{"$error":"#REF!"}},{"$f":"IF(#REF!=4,18,0)","v":{"$error":"#REF!"}},{"$f":"IF(#REF!=5,16,0)","v":{"$error":"#REF!"}},{"$f":"IF(#REF!=6,15,0)","v":{"$error":"#REF!"}},{"$f":"IF(#REF!=7,14,0)","v":{"$error":"#REF!"}},{"$f":"IF(#REF!=8,13,0)","v":{"$error":"#REF!"}},{"$f":"IF(#REF!=9,12,0)","v":{"$error":"#REF!"}},{"$f":"IF(#REF!=10,11,0)","v":{"$error":"#REF!"}},{"$f":"IF(#REF!=11,10,0)","v":{"$error":"#REF!"}},{"$f":"IF(#REF!=12,9,0)","v":{"$error":"#REF!"}},{"$f":"IF(#REF!=13,8,0)","v":{"$error":"#REF!"}},{"$f":"IF(#REF!=14,7,0)","v":{"$error":"#REF!"}},{"$f":"IF(#REF!=15,6,0)","v":{"$error":"#REF!"}},{"$f":"IF(#REF!=16,5,0)","v":{"$error":"#REF!"}},{"$f":"IF(#REF!=17,4,0)","v":{"$error":"#REF!"}},{"$f":"IF(#REF!=18,3,0)","v":{"$error":"#REF!"}},{"$f":"IF(#REF!=19,2,0)","v":{"$error":"#REF!"}},{"$f":"IF(#REF!=20,1,0)","v":{"$error":"#REF!"}},{"$f":"IF(#REF!>20,0,0)","v":{"$error":"#REF!"}},{"$f":"IF(#REF!=\"сх\",0,0)","v":{"$error":"#REF!"}},{"$f":"SUM(FG10:GB10)","v":{"$error":"#REF!"}},{"$f":"IF(#REF!=1,25,0)","v":{"$error":"#REF!"}},{"$f":"IF(#REF!=2,22,0)","v":{"$error":"#REF!"}},{"$f":"IF(#REF!=3,20,0)","v":{"$error":"#REF!"}},{"$f":"IF(#REF!=4,18,0)","v":{"$error":"#REF!"}},{"$f":"IF(#REF!=5,16,0)","v":{"$error":"#REF!"}},{"$f":"IF(#REF!=6,15,0)","v":{"$error":"#REF!"}},{"$f":"IF(#REF!=7,14,0)","v":{"$error":"#REF!"}},{"$f":"IF(#REF!=8,13,0)","v":{"$error":"#REF!"}},{"$f":"IF(#REF!=9,12,0)","v":{"$error":"#REF!"}},{"$f":"IF(#REF!=10,11,0)","v":{"$error":"#REF!"}},{"$f":"IF(#REF!=11,10,0)","v":{"$error":"#REF!"}},{"$f":"IF(#REF!=12,9,0)","v":{"$error":"#REF!"}},{"$f":"IF(#REF!=13,8,0)","v":{"$error":"#REF!"}},{"$f":"IF(#REF!=14,7,0)","v":{"$error":"#REF!"}},{"$f":"IF(#REF!=15,6,0)","v":{"$error":"#REF!"}},{"$f":"IF(#REF!=16,5,0)","v":{"$error":"#REF!"}},{"$f":"IF(#REF!=17,4,0)","v":{"$error":"#REF!"}},{"$f":"IF(#REF!=18,3,0)","v":{"$error":"#REF!"}},{"$f":"IF(#REF!=19,2,0)","v":{"$error":"#REF!"}},{"$f":"IF(#REF!=20,1,0)","v":{"$error":"#REF!"}},{"$f":"IF(#REF!>20,0,0)","v":{"$error":"#REF!"}},{"$f":"IF(#REF!=\"сх\",0,0)","v":{"$error":"#REF!"}},{"$f":"SUM(GD10:GY10)","v":{"$error":"#REF!"}},{"$f":"IF(#REF!=1,100,0)","v":{"$error":"#REF!"}},{"$f":"IF(#REF!=2,98,0)","v":{"$error":"#REF!"}},{"$f":"IF(#REF!=3,95,0)","v":{"$error":"#REF!"}},{"$f":"IF(#REF!=4,93,0)","v":{"$error":"#REF!"}},{"$f":"IF(#REF!=5,90,0)","v":{"$error":"#REF!"}},{"$f":"IF(#REF!=6,88,0)","v":{"$error":"#REF!"}},{"$f":"IF(#REF!=7,85,0)","v":{"$error":"#REF!"}},{"$f":"IF(#REF!=8,83,0)","v":{"$error":"#REF!"}},{"$f":"IF(#REF!=9,80,0)","v":{"$error":"#REF!"}},{"$f":"IF(#REF!=10,78,0)","v":{"$error":"#REF!"}},{"$f":"IF(#REF!=11,75,0)","v":{"$error":"#REF!"}},{"$f":"IF(#REF!=12,73,0)","v":{"$error":"#REF!"}},{"$f":"IF(#REF!=13,70,0)","v":{"$error":"#REF!"}},{"$f":"IF(#REF!=14,68,0)","v":{"$error":"#REF!"}},{"$f":"IF(#REF!=15,65,0)","v":{"$error":"#REF!"}},{"$f":"IF(#REF!=16,63,0)","v":{"$error":"#REF!"}},{"$f":"IF(#REF!=17,60,0)","v":{"$error":"#REF!"}},{"$f":"IF(#REF!=18,58,0)","v":{"$error":"#REF!"}},{"$f":"IF(#REF!=19,55,0)","v":{"$error":"#REF!"}},{"$f":"IF(#REF!=20,53,0)","v":{"$error":"#REF!"}},{"$f":"IF(#REF!>20,0,0)","v":{"$error":"#REF!"}},{"$f":"IF(#REF!=\"сх\",0,0)","v":{"$error":"#REF!"}},{"$f":"SUM(HA10:HV10)","v":{"$error":"#REF!"}},{"$f":"IF(#REF!=1,100,0)","v":{"$error":"#REF!"}},{"$f":"IF(#REF!=2,98,0)","v":{"$error":"#REF!"}},{"$f":"IF(#REF!=3,95,0)","v":{"$error":"#REF!"}},{"$f":"IF(#REF!=4,93,0)","v":{"$error":"#REF!"}},{"$f":"IF(#REF!=5,90,0)","v":{"$error":"#REF!"}},{"$f":"IF(#REF!=6,88,0)","v":{"$error":"#REF!"}},{"$f":"IF(#REF!=7,85,0)","v":{"$error":"#REF!"}},{"$f":"IF(#REF!=8,83,0)","v":{"$error":"#REF!"}},{"$f":"IF(#REF!=9,80,0)","v":{"$error":"#REF!"}},{"$f":"IF(#REF!=10,78,0)","v":{"$error":"#REF!"}},{"$f":"IF(#REF!=11,75,0)","v":{"$error":"#REF!"}},{"$f":"IF(#REF!=12,73,0)","v":{"$error":"#REF!"}},{"$f":"IF(#REF!=13,70,0)","v":{"$error":"#REF!"}},{"$f":"IF(#REF!=14,68,0)","v":{"$error":"#REF!"}},{"$f":"IF(#REF!=15,65,0)","v":{"$error":"#REF!"}},{"$f":"IF(#REF!=16,63,0)","v":{"$error":"#REF!"}},{"$f":"IF(#REF!=17,60,0)","v":{"$error":"#REF!"}},{"$f":"IF(#REF!=18,58,0)","v":{"$error":"#REF!"}},{"$f":"IF(#REF!=19,55,0)","v":{"$error":"#REF!"}},{"$f":"IF(#REF!=20,53,0)","v":{"$error":"#REF!"}},{"$f":"IF(#REF!>20,0,0)","v":{"$error":"#REF!"}},{"$f":"IF(#REF!=\"сх\",0,0)","v":{"$error":"#REF!"}},{"$f":"SUM(HX10:IS10)","v":{"$error":"#REF!"}}]
[2,38.4,9,"Санин Константин","кмс","г. Новый Уренгой, Ямало-Ненецкий АО","СТК \"Ямбург\"","LYNX",2,22,2,22,2,22,66,{"$f":"#REF!+#REF!","v":{"$error":"#REF!"}},null,null,{"$f":"IF(#REF!=1,25,0)","v":{"$error":"#REF!"}},{"$f":"IF(#REF!=2,22,0)","v":{"$error":"#REF!"}},{"$f":"IF(#REF!=3,20,0)","v":{"$error":"#REF!"}},{"$f":"IF(#REF!=4,18,0)","v":{"$error":"#REF!"}},{"$f":"IF(#REF!=5,16,0)","v":{"$error":"#REF!"}},{"$f":"IF(#REF!=6,15,0)","v":{"$error":"#REF!"}},{"$f":"IF(#REF!=7,14,0)","v":{"$error":"#REF!"}},{"$f":"IF(#REF!=8,13,0)","v":{"$error":"#REF!"}},{"$f":"IF(#REF!=9,12,0)","v":{"$error":"#REF!"}},{"$f":"IF(#REF!=10,11,0)","v":{"$error":"#REF!"}},{"$f":"IF(#REF!=11,10,0)","v":{"$error":"#REF!"}},{"$f":"IF(#REF!=12,9,0)","v":{"$error":"#REF!"}},{"$f":"IF(#REF!=13,8,0)","v":{"$error":"#REF!"}},{"$f":"IF(#REF!=14,7,0)","v":{"$error":"#REF!"}},{"$f":"IF(#REF!=15,6,0)","v":{"$error":"#REF!"}},{"$f":"IF(#REF!=16,5,0)","v":{"$error":"#REF!"}},{"$f":"IF(#REF!=17,4,0)","v":{"$error":"#REF!"}},{"$f":"IF(#REF!=18,3,0)","v":{"$error":"#REF!"}},{"$f":"IF(#REF!=19,2,0)","v":{"$error":"#REF!"}},{"$f":"IF(#REF!=20,1,0)","v":{"$error":"#REF!"}},{"$f":"IF(#REF!>20,0,0)","v":{"$error":"#REF!"}},{"$f":"IF(#REF!=\"сх\",0,0)","v":{"$error":"#REF!"}},{"$f":"SUM(S11:AM11)","v":{"$error":"#REF!"}},{"$f":"IF(#REF!=1,25,0)","v":{"$error":"#REF!"}},{"$f":"IF(#REF!=2,22,0)","v":{"$error":"#REF!"}},{"$f":"IF(#REF!=3,20,0)","v":{"$error":"#REF!"}},{"$f":"IF(#REF!=4,18,0)","v":{"$error":"#REF!"}},{"$f":"IF(#REF!=5,16,0)","v":{"$error":"#REF!"}},{"$f":"IF(#REF!=6,15,0)","v":{"$error":"#REF!"}},{"$f":"IF(#REF!=7,14,0)","v":{"$error":"#REF!"}},{"$f":"IF(#REF!=8,13,0)","v":{"$error":"#REF!"}},{"$f":"IF(#REF!=9,12,0)","v":{"$error":"#REF!"}},{"$f":"IF(#REF!=10,11,0)","v":{"$error":"#REF!"}},{"$f":"IF(#REF!=11,10,0)","v":{"$error":"#REF!"}},{"$f":"IF(#REF!=12,9,0)","v":{"$error":"#REF!"}},{"$f":"IF(#REF!=13,8,0)","v":{"$error":"#REF!"}},{"$f":"IF(#REF!=14,7,0)","v":{"$error":"#REF!"}},{"$f":"IF(#REF!=15,6,0)","v":{"$error":"#REF!"}},{"$f":"IF(#REF!=16,5,0)","v":{"$error":"#REF!"}},{"$f":"IF(#REF!=17,4,0)","v":{"$error":"#REF!"}},{"$f":"IF(#REF!=18,3,0)","v":{"$error":"#REF!"}},{"$f":"IF(#REF!=19,2,0)","v":{"$error":"#REF!"}},{"$f":"IF(#REF!=20,1,0)","v":{"$error":"#REF!"}},{"$f":"IF(#REF!>20,0,0)","v":{"$error":"#REF!"}},{"$f":"IF(#REF!=\"сх\",0,0)","v":{"$error":"#REF!"}},{"$f":"SUM(AP11:BJ11)","v":{"$error":"#REF!"}},{"$f":"IF(#REF!=1,45,0)","v":{"$error":"#REF!"}},{"$f":"IF(#REF!=2,42,0)","v":{"$error":"#REF!"}},{"$f":"IF(#REF!=3,40,0)","v":{"$error":"#REF!"}},{"$f":"IF(#REF!=4,38,0)","v":{"$error":"#REF!"}},{"$f":"IF(#REF!=5,36,0)","v":{"$error":"#REF!"}},{"$f":"IF(#REF!=6,35,0)","v":{"$error":"#REF!"}},{"$f":"IF(#REF!=7,34,0)","v":{"$error":"#REF!"}},{"$f":"IF(#REF!=8,33,0)","v":{"$error":"#REF!"}},{"$f":"IF(#REF!=9,32,0)","v":{"$error":"#REF!"}},{"$f":"IF(#REF!=10,31,0)","v":{"$error":"#REF!"}},{"$f":"IF(#REF!=11,30,0)","v":{"$error":"#REF!"}},{"$f":"IF(#REF!=12,29,0)","v":{"$error":"#REF!"}},{"$f":"IF(#REF!=13,28,0)","v":{"$error":"#REF!"}},{"$f":"IF(#REF!=14,27,0)","v":{"$error":"#REF!"}},{"$f":"IF(#REF!=15,26,0)","v":{"$error":"#REF!"}},{"$f":"IF(#REF!=16,25,0)","v":{"$error":"#REF!"}},{"$f":"IF(#REF!=17,24,0)","v":{"$error":"#REF!"}},{"$f":"IF(#REF!=18,23,0)","v":{"$error":"#REF!"}},{"$f":"IF(#REF!=19,22,0)","v":{"$error":"#REF!"}},{"$f":"IF(#REF!=20,21,0)","v":{"$error":"#REF!"}},{"$f":"IF(#REF!=21,20,0)","v":{"$error":"#REF!"}},{"$f":"IF(#REF!=22,19,0)","v":{"$error":"#REF!"}},{"$f":"IF(#REF!=23,18,0)","v":{"$error":"#REF!"}},{"$f":"IF(#REF!=24,17,0)","v":{"$error":"#REF!"}},{"$f":"IF(#REF!=25,16,0)","v":{"$error":"#REF!"}},{"$f":"IF(#REF!=26,15,0)","v":{"$error":"#REF!"}},{"$f":"IF(#REF!=27,14,0)","v":{"$error":"#REF!"}},{"$f":"IF(#REF!=28,13,0)","v":{"$error":"#REF!"}},{"$f":"IF(#REF!=29,12,0)","v":{"$error":"#REF!"}},{"$f":"IF(#REF!=30,11,0)","v":{"$error":"#REF!"}},{"$f":"IF(#REF!=31,10,0)","v":{"$error":"#REF!"}},{"$f":"IF(#REF!=32,9,0)","v":{"$error":"#REF!"}},{"$f":"IF(#REF!=33,8,0)","v":{"$error":"#REF!"}},{"$f":"IF(#REF!=34,7,0)","v":{"$error":"#REF!"}},{"$f":"IF(#REF!=35,6,0)","v":{"$error":"#REF!"}},{"$f":"IF(#REF!=36,5,0)","v":{"$error":"#REF!"}},{"$f":"IF(#REF!=37,4,0)","v":{"$error":"#REF!"}},{"$f":"IF(#REF!=38,3,0)","v":{"$error":"#REF!"}},{"$f":"IF(#REF!=39,2,0)","v":{"$error":"#REF!"}},{"$f":"IF(#REF!=40,1,0)","v":{"$error":"#REF!"}},{"$f":"IF(#REF!>20,0,0)","v":{"$error":"#REF!"}},{"$f":"IF(#REF!=\"сх\",0,0)","v":{"$error":"#REF!"}},{"$f":"SUM(BM11:DB11)","v":{"$error":"#REF!"}},{"$f":"IF(#REF!=1,45,0)","v":{"$error":"#REF!"}},{"$f":"IF(#REF!=2,42,0)","v":{"$error":"#REF!"}},{"$f":"IF(#REF!=3,40,0)","v":{"$error":"#REF!"}},{"$f":"IF(#REF!=4,38,0)","v":{"$error":"#REF!"}},{"$f":"IF(#REF!=5,36,0)","v":{"$error":"#REF!"}},{"$f":"IF(#REF!=6,35,0)","v":{"$error":"#REF!"}},{"$f":"IF(#REF!=7,34,0)","v":{"$error":"#REF!"}},{"$f":"IF(#REF!=8,33,0)","v":{"$error":"#REF!"}},{"$f":"IF(#REF!=9,32,0)","v":{"$error":"#REF!"}},{"$f":"IF(#REF!=10,31,0)","v":{"$error":"#REF!"}},{"$f":"IF(#REF!=11,30,0)","v":{"$error":"#REF!"}},{"$f":"IF(#REF!=12,29,0)","v":{"$error":"#REF!"}},{"$f":"IF(#REF!=13,28,0)","v":{"$error":"#REF!"}},{"$f":"IF(#REF!=14,27,0)","v":{"$error":"#REF!"}},{"$f":"IF(#REF!=15,26,0)","v":{"$error":"#REF!"}},{"$f":"IF(#REF!=16,25,0)","v":{"$error":"#REF!"}},{"$f":"IF(#REF!=17,24,0)","v":{"$error":"#REF!"}},{"$f":"IF(#REF!=18,23,0)","v":{"$error":"#REF!"}},{"$f":"IF(#REF!=19,22,0)","v":{"$error":"#REF!"}},{"$f":"IF(#REF!=20,21,0)","v":{"$error":"#REF!"}},{"$f":"IF(#REF!=21,20,0)","v":{"$error":"#REF!"}},{"$f":"IF(#REF!=22,19,0)","v":{"$error":"#REF!"}},{"$f":"IF(#REF!=23,18,0)","v":{"$error":"#REF!"}},{"$f":"IF(#REF!=24,17,0)","v":{"$error":"#REF!"}},{"$f":"IF(#REF!=25,16,0)","v":{"$error":"#REF!"}},{"$f":"IF(#REF!=26,15,0)","v":{"$error":"#REF!"}},{"$f":"IF(#REF!=27,14,0)","v":{"$error":"#REF!"}},{"$f":"IF(#REF!=28,13,0)","v":{"$error":"#REF!"}},{"$f":"IF(#REF!=29,12,0)","v":{"$error":"#REF!"}},{"$f":"IF(#REF!=30,11,0)","v":{"$error":"#REF!"}},{"$f":"IF(#REF!=31,10,0)","v":{"$error":"#REF!"}},{"$f":"IF(#REF!=32,9,0)","v":{"$error":"#REF!"}},{"$f":"IF(#REF!=33,8,0)","v":{"$error":"#REF!"}},{"$f":"IF(#REF!=34,7,0)","v":{"$error":"#REF!"}},{"$f":"IF(#REF!=35,6,0)","v":{"$error":"#REF!"}},{"$f":"IF(#REF!=36,5,0)","v":{"$error":"#REF!"}},{"$f":"IF(#REF!=37,4,0)","v":{"$error":"#REF!"}},{"$f":"IF(#REF!=38,3,0)","v":{"$error":"#REF!"}},{"$f":"IF(#REF!=39,2,0)","v":{"$error":"#REF!"}},{"$f":"IF(#REF!=40,1,0)","v":{"$error":"#REF!"}},{"$f":"IF(#REF!>20,0,0)","v":{"$error":"#REF!"}},{"$f":"IF(#REF!=\"сх\",0,0)","v":{"$error":"#REF!"}},{"$f":"SUM(DD11:ES11)","v":{"$error":"#REF!"}},null,{"$f":"IF(#REF!=\"сх\",\"ноль\",IF(#REF!>0,#REF!,\"Ноль\"))","v":{"$error":"#REF!"}},{"$f":"IF(#REF!=\"сх\",\"ноль\",IF(#REF!>0,#REF!,\"Ноль\"))","v":{"$error":"#REF!"}},null,{"$f":"MIN(EV11,EW11)","v":{"$error":"#REF!"}},{"$f":"IF(O11=#REF!,IF(#REF!<#REF!,#REF!,FD11),#REF!)","v":{"$error":"#REF!"}},{"$f":"IF(O11=#REF!,IF(#REF!<#REF!,0,1))","v":{"$error":"#REF!"}},{"$f":"IF(AND(EY11>=21,EY11<>0),EY11,IF(O11<#REF!,\"СТОП\",EZ11+FA11))","v":{"$error":"#REF!"}},null,15,16,null,{"$f":"IF(#REF!=1,25,0)","v":{"$error":"#REF!"}},{"$f":"IF(#REF!=2,22,0)","v":{"$error":"#REF!"}},{"$f":"IF(#REF!=3,20,0)","v":{"$error":"#REF!"}},{"$f":"IF(#REF!=4,18,0)","v":{"$error":"#REF!"}},{"$f":"IF(#REF!=5,16,0)","v":{"$error":"#REF!"}},{"$f":"IF(#REF!=6,15,0)","v":{"$error":"#REF!"}},{"$f":"IF(#REF!=7,14,0)","v":{"$error":"#REF!"}},{"$f":"IF(#REF!=8,13,0)","v":{"$error":"#REF!"}},{"$f":"IF(#REF!=9,12,0)","v":{"$error":"#REF!"}},{"$f":"IF(#REF!=10,11,0)","v":{"$error":"#REF!"}},{"$f":"IF(#REF!=11,10,0)","v":{"$error":"#REF!"}},{"$f":"IF(#REF!=12,9,0)","v":{"$error":"#REF!"}},{"$f":"IF(#REF!=13,8,0)","v":{"$error":"#REF!"}},{"$f":"IF(#REF!=14,7,0)","v":{"$error":"#REF!"}},{"$f":"IF(#REF!=15,6,0)","v":{"$error":"#REF!"}},{"$f":"IF(#REF!=16,5,0)","v":{"$error":"#REF!"}},{"$f":"IF(#REF!=17,4,0)","v":{"$error":"#REF!"}},{"$f":"IF(#REF!=18,3,0)","v":{"$error":"#REF!"}},{"$f":"IF(#REF!=19,2,0)","v":{"$error":"#REF!"}},{"$f":"IF(#REF!=20,1,0)","v":{"$error":"#REF!"}},{"$f":"IF(#REF!>20,0,0)","v":{"$error":"#REF!"}},{"$f":"IF(#REF!=\"сх\",0,0)","v":{"$error":"#REF!"}},{"$f":"SUM(FG11:GB11)","v":{"$error":"#REF!"}},{"$f":"IF(#REF!=1,25,0)","v":{"$error":"#REF!"}},{"$f":"IF(#REF!=2,22,0)","v":{"$error":"#REF!"}},{"$f":"IF(#REF!=3,20,0)","v":{"$error":"#REF!"}},{"$f":"IF(#REF!=4,18,0)","v":{"$error":"#REF!"}},{"$f":"IF(#REF!=5,16,0)","v":{"$error":"#REF!"}},{"$f":"IF(#REF!=6,15,0)","v":{"$error":"#REF!"}},{"$f":"IF(#REF!=7,14,0)","v":{"$error":"#REF!"}},{"$f":"IF(#REF!=8,13,0)","v":{"$error":"#REF!"}},{"$f":"IF(#REF!=9,12,0)","v":{"$error":"#REF!"}},{"$f":"IF(#REF!=10,11,0)","v":{"$error":"#REF!"}},{"$f":"IF(#REF!=11,10,0)","v":{"$error":"#REF!"}},{"$f":"IF(#REF!=12,9,0)","v":{"$error":"#REF!"}},{"$f":"IF(#REF!=13,8,0)","v":{"$error":"#REF!"}},{"$f":"IF(#REF!=14,7,0)","v":{"$error":"#REF!"}},{"$f":"IF(#REF!=15,6,0)","v":{"$error":"#REF!"}},{"$f":"IF(#REF!=16,5,0)","v":{"$error":"#REF!"}},{"$f":"IF(#REF!=17,4,0)","v":{"$error":"#REF!"}},{"$f":"IF(#REF!=18,3,0)","v":{"$error":"#REF!"}},{"$f":"IF(#REF!=19,2,0)","v":{"$error":"#REF!"}},{"$f":"IF(#REF!=20,1,0)","v":{"$error":"#REF!"}},{"$f":"IF(#REF!>20,0,0)","v":{"$error":"#REF!"}},{"$f":"IF(#REF!=\"сх\",0,0)","v":{"$error":"#REF!"}},{"$f":"SUM(GD11:GY11)","v":{"$error":"#REF!"}},{"$f":"IF(#REF!=1,100,0)","v":{"$error":"#REF!"}},{"$f":"IF(#REF!=2,98,0)","v":{"$error":"#REF!"}},{"$f":"IF(#REF!=3,95,0)","v":{"$error":"#REF!"}},{"$f":"IF(#REF!=4,93,0)","v":{"$error":"#REF!"}},{"$f":"IF(#REF!=5,90,0)","v":{"$error":"#REF!"}},{"$f":"IF(#REF!=6,88,0)","v":{"$error":"#REF!"}},{"$f":"IF(#REF!=7,85,0)","v":{"$error":"#REF!"}},{"$f":"IF(#REF!=8,83,0)","v":{"$error":"#REF!"}},{"$f":"IF(#REF!=9,80,0)","v":{"$error":"#REF!"}},{"$f":"IF(#REF!=10,78,0)","v":{"$error":"#REF!"}},{"$f":"IF(#REF!=11,75,0)","v":{"$error":"#REF!"}},{"$f":"IF(#REF!=12,73,0)","v":{"$error":"#REF!"}},{"$f":"IF(#REF!=13,70,0)","v":{"$error":"#REF!"}},{"$f":"IF(#REF!=14,68,0)","v":{"$error":"#REF!"}},{"$f":"IF(#REF!=15,65,0)","v":{"$error":"#REF!"}},{"$f":"IF(#REF!=16,63,0)","v":{"$error":"#REF!"}},{"$f":"IF(#REF!=17,60,0)","v":{"$error":"#REF!"}},{"$f":"IF(#REF!=18,58,0)","v":{"$error":"#REF!"}},{"$f":"IF(#REF!=19,55,0)","v":{"$error":"#REF!"}},{"$f":"IF(#REF!=20,53,0)","v":{"$error":"#REF!"}},{"$f":"IF(#REF!>20,0,0)","v":{"$error":"#REF!"}},{"$f":"IF(#REF!=\"сх\",0,0)","v":{"$error":"#REF!"}},{"$f":"SUM(HA11:HV11)","v":{"$error":"#REF!"}},{"$f":"IF(#REF!=1,100,0)","v":{"$error":"#REF!"}},{"$f":"IF(#REF!=2,98,0)","v":{"$error":"#REF!"}},{"$f":"IF(#REF!=3,95,0)","v":{"$error":"#REF!"}},{"$f":"IF(#REF!=4,93,0)","v":{"$error":"#REF!"}},{"$f":"IF(#REF!=5,90,0)","v":{"$error":"#REF!"}},{"$f":"IF(#REF!=6,88,0)","v":{"$error":"#REF!"}},{"$f":"IF(#REF!=7,85,0)","v":{"$error":"#REF!"}},{"$f":"IF(#REF!=8,83,0)","v":{"$error":"#REF!"}},{"$f":"IF(#REF!=9,80,0)","v":{"$error":"#REF!"}},{"$f":"IF(#REF!=10,78,0)","v":{"$error":"#REF!"}},{"$f":"IF(#REF!=11,75,0)","v":{"$error":"#REF!"}},{"$f":"IF(#REF!=12,73,0)","v":{"$error":"#REF!"}},{"$f":"IF(#REF!=13,70,0)","v":{"$error":"#REF!"}},{"$f":"IF(#REF!=14,68,0)","v":{"$error":"#REF!"}},{"$f":"IF(#REF!=15,65,0)","v":{"$error":"#REF!"}},{"$f":"IF(#REF!=16,63,0)","v":{"$error":"#REF!"}},{"$f":"IF(#REF!=17,60,0)","v":{"$error":"#REF!"}},{"$f":"IF(#REF!=18,58,0)","v":{"$error":"#REF!"}},{"$f":"IF(#REF!=19,55,0)","v":{"$error":"#REF!"}},{"$f":"IF(#REF!=20,53,0)","v":{"$error":"#REF!"}},{"$f":"IF(#REF!>20,0,0)","v":{"$error":"#REF!"}},{"$f":"IF(#REF!=\"сх\",0,0)","v":{"$error":"#REF!"}},{"$f":"SUM(HX11:IS11)","v":{"$error":"#REF!"}}]
[3,36.799999999999997,19,"Рылеев Максим","II","г. Новый Уренгой, Ямало-Ненецкий АО","СТК \"Ямбург\"","LYNX",6,15,4,18,4,18,51,{"$f":"#REF!+#REF!","v":{"$error":"#REF!"}},null,null,{"$f":"IF(#REF!=1,25,0)","v":{"$error":"#REF!"}},{"$f":"IF(#REF!=2,22,0)","v":{"$error":"#REF!"}},{"$f":"IF(#REF!=3,20,0)","v":{"$error":"#REF!"}},{"$f":"IF(#REF!=4,18,0)","v":{"$error":"#REF!"}},{"$f":"IF(#REF!=5,16,0)","v":{"$error":"#REF!"}},{"$f":"IF(#REF!=6,15,0)","v":{"$error":"#REF!"}},{"$f":"IF(#REF!=7,14,0)","v":{"$error":"#REF!"}},{"$f":"IF(#REF!=8,13,0)","v":{"$error":"#REF!"}},{"$f":"IF(#REF!=9,12,0)","v":{"$error":"#REF!"}},{"$f":"IF(#REF!=10,11,0)","v":{"$error":"#REF!"}},{"$f":"IF(#REF!=11,10,0)","v":{"$error":"#REF!"}},{"$f":"IF(#REF!=12,9,0)","v":{"$error":"#REF!"}},{"$f":"IF(#REF!=13,8,0)","v":{"$error":"#REF!"}},{"$f":"IF(#REF!=14,7,0)","v":{"$error":"#REF!"}},{"$f":"IF(#REF!=15,6,0)","v":{"$error":"#REF!"}},{"$f":"IF(#REF!=16,5,0)","v":{"$error":"#REF!"}},{"$f":"IF(#REF!=17,4,0)","v":{"$error":"#REF!"}},{"$f":"IF(#REF!=18,3,0)","v":{"$error":"#REF!"}},{"$f":"IF(#REF!=19,2,0)","v":{"$error":"#REF!"}},{"$f":"IF(#REF!=20,1,0)","v":{"$error":"#REF!"}},{"$f":"IF(#REF!>20,0,0)","v":{"$error":"#REF!"}},{"$f":"IF(#REF!=\"сх\",0,0)","v":{"$error":"#REF!"}},{"$error":"#REF!"},{"$f":"IF(#REF!=1,25,0)","v":{"$error":"#REF!"}},{"$f":"IF(#REF!=2,22,0)","v":{"$error":"#REF!"}},{"$f":"IF(#REF!=3,20,0)","v":{"$error":"#REF!"}},{"$f":"IF(#REF!=4,18,0)","v":{"$error":"#REF!"}},{"$f":"IF(#REF!=5,16,0)","v":{"$error":"#REF!"}},{"$f":"IF(#REF!=6,15,0)","v":{"$error":"#REF!"}},{"$f":"IF(#REF!=7,14,0)","v":{"$error":"#REF!"}},{"$f":"IF(#REF!=8,13,0)","v":{"$error":"#REF!"}},{"$f":"IF(#REF!=9,12,0)","v":{"$error":"#REF!"}},{"$f":"IF(#REF!=10,11,0)","v":{"$error":"#REF!"}},{"$f":"IF(#REF!=11,10,0)","v":{"$error":"#REF!"}},{"$f":"IF(#REF!=12,9,0)","v":{"$error":"#REF!"}},{"$f":"IF(#REF!=13,8,0)","v":{"$error":"#REF!"}},{"$f":"IF(#REF!=14,7,0)","v":{"$error":"#REF!"}},{"$f":"IF(#REF!=15,6,0)","v":{"$error":"#REF!"}},{"$f":"IF(#REF!=16,5,0)","v":{"$error":"#REF!"}},{"$f":"IF(#REF!=17,4,0)","v":{"$error":"#REF!"}},{"$f":"IF(#REF!=18,3,0)","v":{"$error":"#REF!"}},{"$f":"IF(#REF!=19,2,0)","v":{"$error":"#REF!"}},{"$f":"IF(#REF!=20,1,0)","v":{"$error":"#REF!"}},{"$f":"IF(#REF!>20,0,0)","v":{"$error":"#REF!"}},{"$f":"IF(#REF!=\"сх\",0,0)","v":{"$error":"#REF!"}},{"$error":"#REF!"},{"$f":"IF(#REF!=1,45,0)","v":{"$error":"#REF!"}},{"$f":"IF(#REF!=2,42,0)","v":{"$error":"#REF!"}},{"$f":"IF(#REF!=3,40,0)","v":{"$error":"#REF!"}},{"$f":"IF(#REF!=4,38,0)","v":{"$error":"#REF!"}},{"$f":"IF(#REF!=5,36,0)","v":{"$error":"#REF!"}},{"$f":"IF(#REF!=6,35,0)","v":{"$error":"#REF!"}},{"$f":"IF(#REF!=7,34,0)","v":{"$error":"#REF!"}},{"$f":"IF(#REF!=8,33,0)","v":{"$error":"#REF!"}},{"$f":"IF(#REF!=9,32,0)","v":{"$error":"#REF!"}},{"$f":"IF(#REF!=10,31,0)","v":{"$error":"#REF!"}},{"$f":"IF(#REF!=11,30,0)","v":{"$error":"#REF!"}},{"$f":"IF(#REF!=12,29,0)","v":{"$error":"#REF!"}},{"$f":"IF(#REF!=13,28,0)","v":{"$error":"#REF!"}},{"$f":"IF(#REF!=14,27,0)","v":{"$error":"#REF!"}},{"$f":"IF(#REF!=15,26,0)","v":{"$error":"#REF!"}},{"$f":"IF(#REF!=16,25,0)","v":{"$error":"#REF!"}},{"$f":"IF(#REF!=17,24,0)","v":{"$error":"#REF!"}},{"$f":"IF(#REF!=18,23,0)","v":{"$error":"#REF!"}},{"$f":"IF(#REF!=19,22,0)","v":{"$error":"#REF!"}},{"$f":"IF(#REF!=20,21,0)","v":{"$error":"#REF!"}},{"$f":"IF(#REF!=21,20,0)","v":{"$error":"#REF!"}},{"$f":"IF(#REF!=22,19,0)","v":{"$error":"#REF!"}},{"$f":"IF(#REF!=23,18,0)","v":{"$error":"#REF!"}},{"$f":"IF(#REF!=24,17,0)","v":{"$error":"#REF!"}},{"$f":"IF(#REF!=25,16,0)","v":{"$error":"#REF!"}},{"$f":"IF(#REF!=26,15,0)","v":{"$error":"#REF!"}},{"$f":"IF(#REF!=27,14,0)","v":{"$error":"#REF!"}},{"$f":"IF(#REF!=28,13,0)","v":{"$error":"#REF!"}},{"$f":"IF(#REF!=29,12,0)","v":{"$error":"#REF!"}},{"$f":"IF(#REF!=30,11,0)","v":{"$error":"#REF!"}},{"$f":"IF(#REF!=31,10,0)","v":{"$error":"#REF!"}},{"$f":"IF(#REF!=32,9,0)","v":{"$error":"#REF!"}},{"$f":"IF(#REF!=33,8,0)","v":{"$error":"#REF!"}},{"$f":"IF(#REF!=34,7,0)","v":{"$error":"#REF!"}},{"$f":"IF(#REF!=35,6,0)","v":{"$error":"#REF!"}},{"$f":"IF(#REF!=36,5,0)","v":{"$error":"#REF!"}},{"$f":"IF(#REF!=37,4,0)","v":{"$error":"#REF!"}},{"$f":"IF(#REF!=38,3,0)","v":{"$error":"#REF!"}},{"$f":"IF(#REF!=39,2,0)","v":{"$error":"#REF!"}},{"$f":"IF(#REF!=40,1,0)","v":{"$error":"#REF!"}},{"$f":"IF(#REF!>20,0,0)","v":{"$error":"#REF!"}},{"$f":"IF(#REF!=\"сх\",0,0)","v":{"$error":"#REF!"}},{"$error":"#REF!"},{"$f":"IF(#REF!=1,45,0)","v":{"$error":"#REF!"}},{"$f":"IF(#REF!=2,42,0)","v":{"$error":"#REF!"}},{"$f":"IF(#REF!=3,40,0)","v":{"$error":"#REF!"}},{"$f":"IF(#REF!=4,38,0)","v":{"$error":"#REF!"}},{"$f":"IF(#REF!=5,36,0)","v":{"$error":"#REF!"}},{"$f":"IF(#REF!=6,35,0)","v":{"$error":"#REF!"}},{"$f":"IF(#REF!=7,34,0)","v":{"$error":"#REF!"}},{"$f":"IF(#REF!=8,33,0)","v":{"$error":"#REF!"}},{"$f":"IF(#REF!=9,32,0)","v":{"$error":"#REF!"}},{"$f":"IF(#REF!=10,31,0)","v":{"$error":"#REF!"}},{"$f":"IF(#REF!=11,30,0)","v":{"$error":"#REF!"}},{"$f":"IF(#REF!=12,29,0)","v":{"$error":"#REF!"}},{"$f":"IF(#REF!=13,28,0)","v":{"$error":"#REF!"}},{"$f":"IF(#REF!=14,27,0)","v":{"$error":"#REF!"}},{"$f":"IF(#REF!=15,26,0)","v":{"$error":"#REF!"}},{"$f":"IF(#REF!=16,25,0)","v":{"$error":"#REF!"}},{"$f":"IF(#REF!=17,24,0)","v":{"$error":"#REF!"}},{"$f":"IF(#REF!=18,23,0)","v":{"$error":"#REF!"}},{"$f":"IF(#REF!=19,22,0)","v":{"$error":"#REF!"}},{"$f":"IF(#REF!=20,21,0)","v":{"$error":"#REF!"}},{"$f":"IF(#REF!=21,20,0)","v":{"$error":"#REF!"}},{"$f":"IF(#REF!=22,19,0)","v":{"$error":"#REF!"}},{"$f":"IF(#REF!=23,18,0)","v":{"$error":"#REF!"}},{"$f":"IF(#REF!=24,17,0)","v":{"$error":"#REF!"}},{"$f":"IF(#REF!=25,16,0)","v":{"$error":"#REF!"}},{"$f":"IF(#REF!=26,15,0)","v":{"$error":"#REF!"}},{"$f":"IF(#REF!=27,14,0)","v":{"$error":"#REF!"}},{"$f":"IF(#REF!=28,13,0)","v":{"$error":"#REF!"}},{"$f":"IF(#REF!=29,12,0)","v":{"$error":"#REF!"}},{"$f":"IF(#REF!=30,11,0)","v":{"$error":"#REF!"}},{"$f":"IF(#REF!=31,10,0)","v":{"$error":"#REF!"}},{"$f":"IF(#REF!=32,9,0)","v":{"$error":"#REF!"}},{"$f":"IF(#REF!=33,8,0)","v":{"$error":"#REF!"}},{"$f":"IF(#REF!=34,7,0)","v":{"$error":"#REF!"}},{"$f":"IF(#REF!=35,6,0)","v":{"$error":"#REF!"}},{"$f":"IF(#REF!=36,5,0)","v":{"$error":"#REF!"}},{"$f":"IF(#REF!=37,4,0)","v":{"$error":"#REF!"}},{"$f":"IF(#REF!=38,3,0)","v":{"$error":"#REF!"}},{"$f":"IF(#REF!=39,2,0)","v":{"$error":"#REF!"}},{"$f":"IF(#REF!=40,1,0)","v":{"$error":"#REF!"}},{"$f":"IF(#REF!>20,0,0)","v":{"$error":"#REF!"}},{"$f":"IF(#REF!=\"сх\",0,0)","v":{"$error":"#REF!"}},{"$error":"#REF!"},null,{"$f":"IF(#REF!=\"сх\",\"ноль\",IF(#REF!>0,#REF!,\"Ноль\"))","v":{"$error":"#REF!"}},{"$f":"IF(#REF!=\"сх\",\"ноль\",IF(#REF!>0,#REF!,\"Ноль\"))","v":{"$error":"#REF!"}},null,{"$error":"#REF!"},{"$f":"IF(O12=#REF!,IF(#REF!<#REF!,#REF!,FD12),#REF!)","v":{"$error":"#REF!"}},{"$f":"IF(O12=#REF!,IF(#REF!<#REF!,0,1))","v":{"$error":"#REF!"}},{"$f":"IF(AND(EY12>=21,EY12<>0),EY12,IF(O12<#REF!,\"СТОП\",EZ12+FA12))","v":{"$error":"#REF!"}},null,15,16,null,{"$f":"IF(#REF!=1,25,0)","v":{"$error":"#REF!"}},{"$f":"IF(#REF!=2,22,0)","v":{"$error":"#REF!"}},{"$f":"IF(#REF!=3,20,0)","v":{"$error":"#REF!"}},{"$f":"IF(#REF!=4,18,0)","v":{"$error":"#REF!"}},{"$f":"IF(#REF!=5,16,0)","v":{"$error":"#REF!"}},{"$f":"IF(#REF!=6,15,0)","v":{"$error":"#REF!"}},{"$f":"IF(#REF!=7,14,0)","v":{"$error":"#REF!"}},{"$f":"IF(#REF!=8,13,0)","v":{"$error":"#REF!"}},{"$f":"IF(#REF!=9,12,0)","v":{"$error":"#REF!"}},{"$f":"IF(#REF!=10,11,0)","v":{"$error":"#REF!"}},{"$f":"IF(#REF!=11,10,0)","v":{"$error":"#REF!"}},{"$f":"IF(#REF!=12,9,0)","v":{"$error":"#REF!"}},{"$f":"IF(#REF!=13,8,0)","v":{"$error":"#REF!"}},{"$f":"IF(#REF!=14,7,0)","v":{"$error":"#REF!"}},{"$f":"IF(#REF!=15,6,0)","v":{"$error":"#REF!"}},{"$f":"IF(#REF!=16,5,0)","v":{"$error":"#REF!"}},{"$f":"IF(#REF!=17,4,0)","v":{"$error":"#REF!"}},{"$f":"IF(#REF!=18,3,0)","v":{"$error":"#REF!"}},{"$f":"IF(#REF!=19,2,0)","v":{"$error":"#REF!"}},{"$f":"IF(#REF!=20,1,0)","v":{"$error":"#REF!"}},{"$f":"IF(#REF!>20,0,0)","v":{"$error":"#REF!"}},{"$f":"IF(#REF!=\"сх\",0,0)","v":{"$error":"#REF!"}},{"$error":"#REF!"},{"$f":"IF(#REF!=1,25,0)","v":{"$error":"#REF!"}},{"$f":"IF(#REF!=2,22,0)","v":{"$error":"#REF!"}},{"$f":"IF(#REF!=3,20,0)","v":{"$error":"#REF!"}},{"$f":"IF(#REF!=4,18,0)","v":{"$error":"#REF!"}},{"$f":"IF(#REF!=5,16,0)","v":{"$error":"#REF!"}},{"$f":"IF(#REF!=6,15,0)","v":{"$error":"#REF!"}},{"$f":"IF(#REF!=7,14,0)","v":{"$error":"#REF!"}},{"$f":"IF(#REF!=8,13,0)","v":{"$error":"#REF!"}},{"$f":"IF(#REF!=9,12,0)","v":{"$error":"#REF!"}},{"$f":"IF(#REF!=10,11,0)","v":{"$error":"#REF!"}},{"$f":"IF(#REF!=11,10,0)","v":{"$error":"#REF!"}},{"$f":"IF(#REF!=12,9,0)","v":{"$error":"#REF!"}},{"$f":"IF(#REF!=13,8,0)","v":{"$error":"#REF!"}},{"$f":"IF(#REF!=14,7,0)","v":{"$error":"#REF!"}},{"$f":"IF(#REF!=15,6,0)","v":{"$error":"#REF!"}},{"$f":"IF(#REF!=16,5,0)","v":{"$error":"#REF!"}},{"$f":"IF(#REF!=17,4,0)","v":{"$error":"#REF!"}},{"$f":"IF(#REF!=18,3,0)","v":{"$error":"#REF!"}},{"$f":"IF(#REF!=19,2,0)","v":{"$error":"#REF!"}},{"$f":"IF(#REF!=20,1,0)","v":{"$error":"#REF!"}},{"$f":"IF(#REF!>20,0,0)","v":{"$error":"#REF!"}},{"$f":"IF(#REF!=\"сх\",0,0)","v":{"$error":"#REF!"}},{"$error":"#REF!"},{"$f":"IF(#REF!=1,100,0)","v":{"$error":"#REF!"}},{"$f":"IF(#REF!=2,98,0)","v":{"$error":"#REF!"}},{"$f":"IF(#REF!=3,95,0)","v":{"$error":"#REF!"}},{"$f":"IF(#REF!=4,93,0)","v":{"$error":"#REF!"}},{"$f":"IF(#REF!=5,90,0)","v":{"$error":"#REF!"}},{"$f":"IF(#REF!=6,88,0)","v":{"$error":"#REF!"}},{"$f":"IF(#REF!=7,85,0)","v":{"$error":"#REF!"}},{"$f":"IF(#REF!=8,83,0)","v":{"$error":"#REF!"}},{"$f":"IF(#REF!=9,80,0)","v":{"$error":"#REF!"}},{"$f":"IF(#REF!=10,78,0)","v":{"$error":"#REF!"}},{"$f":"IF(#REF!=11,75,0)","v":{"$error":"#REF!"}},{"$f":"IF(#REF!=12,73,0)","v":{"$error":"#REF!"}},{"$f":"IF(#REF!=13,70,0)","v":{"$error":"#REF!"}},{"$f":"IF(#REF!=14,68,0)","v":{"$error":"#REF!"}},{"$f":"IF(#REF!=15,65,0)","v":{"$error":"#REF!"}},{"$f":"IF(#REF!=16,63,0)","v":{"$error":"#REF!"}},{"$f":"IF(#REF!=17,60,0)","v":{"$error":"#REF!"}},{"$f":"IF(#REF!=18,58,0)","v":{"$error":"#REF!"}},{"$f":"IF(#REF!=19,55,0)","v":{"$error":"#REF!"}},{"$f":"IF(#REF!=20,53,0)","v":{"$error":"#REF!"}},{"$f":"IF(#REF!>20,0,0)","v":{"$error":"#REF!"}},{"$f":"IF(#REF!=\"сх\",0,0)","v":{"$error":"#REF!"}},{"$error":"#REF!"},{"$f":"IF(#REF!=1,100,0)","v":{"$error":"#REF!"}},{"$f":"IF(#REF!=2,98,0)","v":{"$error":"#REF!"}},{"$f":"IF(#REF!=3,95,0)","v":{"$error":"#REF!"}},{"$f":"IF(#REF!=4,93,0)","v":{"$error":"#REF!"}},{"$f":"IF(#REF!=5,90,0)","v":{"$error":"#REF!"}},{"$f":"IF(#REF!=6,88,0)","v":{"$error":"#REF!"}},{"$f":"IF(#REF!=7,85,0)","v":{"$error":"#REF!"}},{"$f":"IF(#REF!=8,83,0)","v":{"$error":"#REF!"}},{"$f":"IF(#REF!=9,80,0)","v":{"$error":"#REF!"}},{"$f":"IF(#REF!=10,78,0)","v":{"$error":"#REF!"}},{"$f":"IF(#REF!=11,75,0)","v":{"$error":"#REF!"}},{"$f":"IF(#REF!=12,73,0)","v":{"$error":"#REF!"}},{"$f":"IF(#REF!=13,70,0)","v":{"$error":"#REF!"}},{"$f":"IF(#REF!=14,68,0)","v":{"$error":"#REF!"}},{"$f":"IF(#REF!=15,65,0)","v":{"$error":"#REF!"}},{"$f":"IF(#REF!=16,63,0)","v":{"$error":"#REF!"}},{"$f":"IF(#REF!=17,60,0)","v":{"$error":"#REF!"}},{"$f":"IF(#REF!=18,58,0)","v":{"$error":"#REF!"}},{"$f":"IF(#REF!=19,55,0)","v":{"$error":"#REF!"}},{"$f":"IF(#REF!=20,53,0)","v":{"$error":"#REF!"}},{"$f":"IF(#REF!>20,0,0)","v":{"$error":"#REF!"}},{"$f":"IF(#REF!=\"сх\",0,0)","v":{"$error":"#REF!"}},{"$error":"#REF!"}]
[4,36,14,"Довбуш Евгений","I","г. Новый Уренгой, Ямало-Ненецкий АО","СТК \"Факел\"","LYNX",11,10,3,20,3,20,50,{"$f":"#REF!+#REF!","v":{"$error":"#REF!"}},null,null,{"$f":"IF(#REF!=1,25,0)","v":{"$error":"#REF!"}},{"$f":"IF(#REF!=2,22,0)","v":{"$error":"#REF!"}},{"$f":"IF(#REF!=3,20,0)","v":{"$error":"#REF!"}},{"$f":"IF(#REF!=4,18,0)","v":{"$error":"#REF!"}},{"$f":"IF(#REF!=5,16,0)","v":{"$error":"#REF!"}},{"$f":"IF(#REF!=6,15,0)","v":{"$error":"#REF!"}},{"$f":"IF(#REF!=7,14,0)","v":{"$error":"#REF!"}},{"$f":"IF(#REF!=8,13,0)","v":{"$error":"#REF!"}},{"$f":"IF(#REF!=9,12,0)","v":{"$error":"#REF!"}},{"$f":"IF(#REF!=10,11,0)","v":{"$error":"#REF!"}},{"$f":"IF(#REF!=11,10,0)","v":{"$error":"#REF!"}},{"$f":"IF(#REF!=12,9,0)","v":{"$error":"#REF!"}},{"$f":"IF(#REF!=13,8,0)","v":{"$error":"#REF!"}},{"$f":"IF(#REF!=14,7,0)","v":{"$error":"#REF!"}},{"$f":"IF(#REF!=15,6,0)","v":{"$error":"#REF!"}},{"$f":"IF(#REF!=16,5,0)","v":{"$error":"#REF!"}},{"$f":"IF(#REF!=17,4,0)","v":{"$error":"#REF!"}},{"$f":"IF(#REF!=18,3,0)","v":{"$error":"#REF!"}},{"$f":"IF(#REF!=19,2,0)","v":{"$error":"#REF!"}},{"$f":"IF(#REF!=20,1,0)","v":{"$error":"#REF!"}},{"$f":"IF(#REF!>20,0,0)","v":{"$error":"#REF!"}},{"$f":"IF(#REF!=\"сх\",0,0)","v":{"$error":"#REF!"}},{"$error":"#REF!"},{"$f":"IF(#REF!=1,25,0)","v":{"$error":"#REF!"}},{"$f":"IF(#REF!=2,22,0)","v":{"$error":"#REF!"}},{"$f":"IF(#REF!=3,20,0)","v":{"$error":"#REF!"}},{"$f":"IF(#REF!=4,18,0)","v":{"$error":"#REF!"}},{"$f":"IF(#REF!=5,16,0)","v":{"$error":"#REF!"}},{"$f":"IF(#REF!=6,15,0)","v":{"$error":"#REF!"}},{"$f":"IF(#REF!=7,14,0)","v":{"$error":"#REF!"}},{"$f":"IF(#REF!=8,13,0)","v":{"$error":"#REF!"}},{"$f":"IF(#REF!=9,12,0)","v":{"$error":"#REF!"}},{"$f":"IF(#REF!=10,11,0)","v":{"$error":"#REF!"}},{"$f":"IF(#REF!=11,10,0)","v":{"$error":"#REF!"}},{"$f":"IF(#REF!=12,9,0)","v":{"$error":"#REF!"}},{"$f":"IF(#REF!=13,8,0)","v":{"$error":"#REF!"}},{"$f":"IF(#REF!=14,7,0)","v":{"$error":"#REF!"}},{"$f":"IF(#REF!=15,6,0)","v":{"$error":"#REF!"}},{"$f":"IF(#REF!=16,5,0)","v":{"$error":"#REF!"}},{"$f":"IF(#REF!=17,4,0)","v":{"$error":"#REF!"}},{"$f":"IF(#REF!=18,3,0)","v":{"$error":"#REF!"}},{"$f":"IF(#REF!=19,2,0)","v":{"$error":"#REF!"}},{"$f":"IF(#REF!=20,1,0)","v":{"$error":"#REF!"}},{"$f":"IF(#REF!>20,0,0)","v":{"$error":"#REF!"}},{"$f":"IF(#REF!=\"сх\",0,0)","v":{"$error":"#REF!"}},{"$error":"#REF!"},{"$f":"IF(#REF!=1,45,0)","v":{"$error":"#REF!"}},{"$f":"IF(#REF!=2,42,0)","v":{"$error":"#REF!"}},{"$f":"IF(#REF!=3,40,0)","v":{"$error":"#REF!"}},{"$f":"IF(#REF!=4,38,0)","v":{"$error":"#REF!"}},{"$f":"IF(#REF!=5,36,0)","v":{"$error":"#REF!"}},{"$f":"IF(#REF!=6,35,0)","v":{"$error":"#REF!"}},{"$f":"IF(#REF!=7,34,0)","v":{"$error":"#REF!"}},{"$f":"IF(#REF!=8,33,0)","v":{"$error":"#REF!"}},{"$f":"IF(#REF!=9,32,0)","v":{"$error":"#REF!"}},{"$f":"IF(#REF!=10,31,0)","v":{"$error":"#REF!"}},{"$f":"IF(#REF!=11,30,0)","v":{"$error":"#REF!"}},{"$f":"IF(#REF!=12,29,0)","v":{"$error":"#REF!"}},{"$f":"IF(#REF!=13,28,0)","v":{"$error":"#REF!"}},{"$f":"IF(#REF!=14,27,0)","v":{"$error":"#REF!"}},{"$f":"IF(#REF!=15,26,0)","v":{"$error":"#REF!"}},{"$f":"IF(#REF!=16,25,0)","v":{"$error":"#REF!"}},{"$f":"IF(#REF!=17,24,0)","v":{"$error":"#REF!"}},{"$f":"IF(#REF!=18,23,0)","v":{"$error":"#REF!"}},{"$f":"IF(#REF!=19,22,0)","v":{"$error":"#REF!"}},{"$f":"IF(#REF!=20,21,0)","v":{"$error":"#REF!"}},{"$f":"IF(#REF!=21,20,0)","v":{"$error":"#REF!"}},{"$f":"IF(#REF!=22,19,0)","v":{"$error":"#REF!"}},{"$f":"IF(#REF!=23,18,0)","v":{"$error":"#REF!"}},{"$f":"IF(#REF!=24,17,0)","v":{"$error":"#REF!"}},{"$f":"IF(#REF!=25,16,0)","v":{"$error":"#REF!"}},{"$f":"IF(#REF!=26,15,0)","v":{"$error":"#REF!"}},{"$f":"IF(#REF!=27,14,0)","v":{"$error":"#REF!"}},{"$f":"IF(#REF!=28,13,0)","v":{"$error":"#REF!"}},{"$f":"IF(#REF!=29,12,0)","v":{"$error":"#REF!"}},{"$f":"IF(#REF!=30,11,0)","v":{"$error":"#REF!"}},{"$f":"IF(#REF!=31,10,0)","v":{"$error":"#REF!"}},{"$f":"IF(#REF!=32,9,0)","v":{"$error":"#REF!"}},{"$f":"IF(#REF!=33,8,0)","v":{"$error":"#REF!"}},{"$f":"IF(#REF!=34,7,0)","v":{"$error":"#REF!"}},{"$f":"IF(#REF!=35,6,0)","v":{"$error":"#REF!"}},{"$f":"IF(#REF!=36,5,0)","v":{"$error":"#REF!"}},{"$f":"IF(#REF!=37,4,0)","v":{"$error":"#REF!"}},{"$f":"IF(#REF!=38,3,0)","v":{"$error":"#REF!"}},{"$f":"IF(#REF!=39,2,0)","v":{"$error":"#REF!"}},{"$f":"IF(#REF!=40,1,0)","v":{"$error":"#REF!"}},{"$f":"IF(#REF!>20,0,0)","v":{"$error":"#REF!"}},{"$f":"IF(#REF!=\"сх\",0,0)","v":{"$error":"#REF!"}},{"$error":"#REF!"},{"$f":"IF(#REF!=1,45,0)","v":{"$error":"#REF!"}},{"$f":"IF(#REF!=2,42,0)","v":{"$error":"#REF!"}},{"$f":"IF(#REF!=3,40,0)","v":{"$error":"#REF!"}},{"$f":"IF(#REF!=4,38,0)","v":{"$error":"#REF!"}},{"$f":"IF(#REF!=5,36,0)","v":{"$error":"#REF!"}},{"$f":"IF(#REF!=6,35,0)","v":{"$error":"#REF!"}},{"$f":"IF(#REF!=7,34,0)","v":{"$error":"#REF!"}},{"$f":"IF(#REF!=8,33,0)","v":{"$error":"#REF!"}},{"$f":"IF(#REF!=9,32,0)","v":{"$error":"#REF!"}},{"$f":"IF(#REF!=10,31,0)","v":{"$error":"#REF!"}},{"$f":"IF(#REF!=11,30,0)","v":{"$error":"#REF!"}},{"$f":"IF(#REF!=12,29,0)","v":{"$error":"#REF!"}},{"$f":"IF(#REF!=13,28,0)","v":{"$error":"#REF!"}},{"$f":"IF(#REF!=14,27,0)","v":{"$error":"#REF!"}},{"$f":"IF(#REF!=15,26,0)","v":{"$error":"#REF!"}},{"$f":"IF(#REF!=16,25,0)","v":{"$error":"#REF!"}},{"$f":"IF(#REF!=17,24,0)","v":{"$error":"#REF!"}},{"$f":"IF(#REF!=18,23,0)","v":{"$error":"#REF!"}},{"$f":"IF(#REF!=19,22,0)","v":{"$error":"#REF!"}},{"$f":"IF(#REF!=20,21,0)","v":{"$error":"#REF!"}},{"$f":"IF(#REF!=21,20,0)","v":{"$error":"#REF!"}},{"$f":"IF(#REF!=22,19,0)","v":{"$error":"#REF!"}},{"$f":"IF(#REF!=23,18,0)","v":{"$error":"#REF!"}},{"$f":"IF(#REF!=24,17,0)","v":{"$error":"#REF!"}},{"$f":"IF(#REF!=25,16,0)","v":{"$error":"#REF!"}},{"$f":"IF(#REF!=26,15,0)","v":{"$error":"#REF!"}},{"$f":"IF(#REF!=27,14,0)","v":{"$error":"#REF!"}},{"$f":"IF(#REF!=28,13,0)","v":{"$error":"#REF!"}},{"$f":"IF(#REF!=29,12,0)","v":{"$error":"#REF!"}},{"$f":"IF(#REF!=30,11,0)","v":{"$error":"#REF!"}},{"$f":"IF(#REF!=31,10,0)","v":{"$error":"#REF!"}},{"$f":"IF(#REF!=32,9,0)","v":{"$error":"#REF!"}},{"$f":"IF(#REF!=33,8,0)","v":{"$error":"#REF!"}},{"$f":"IF(#REF!=34,7,0)","v":{"$error":"#REF!"}},{"$f":"IF(#REF!=35,6,0)","v":{"$error":"#REF!"}},{"$f":"IF(#REF!=36,5,0)","v":{"$error":"#REF!"}},{"$f":"IF(#REF!=37,4,0)","v":{"$error":"#REF!"}},{"$f":"IF(#REF!=38,3,0)","v":{"$error":"#REF!"}},{"$f":"IF(#REF!=39,2,0)","v":{"$error":"#REF!"}},{"$f":"IF(#REF!=40,1,0)","v":{"$error":"#REF!"}},{"$f":"IF(#REF!>20,0,0)","v":{"$error":"#REF!"}},{"$f":"IF(#REF!=\"сх\",0,0)","v":{"$error":"#REF!"}},{"$error":"#REF!"},null,{"$f":"IF(#REF!=\"сх\",\"ноль\",IF(#REF!>0,#REF!,\"Ноль\"))","v":{"$error":"#REF!"}},{"$f":"IF(#REF!=\"сх\",\"ноль\",IF(#REF!>0,#REF!,\"Ноль\"))","v":{"$error":"#REF!"}},null,{"$error":"#REF!"},{"$f":"IF(O13=#REF!,IF(#REF!<#REF!,#REF!,FD13),#REF!)","v":{"$error":"#REF!"}},{"$f":"IF(O13=#REF!,IF(#REF!<#REF!,0,1))","v":{"$error":"#REF!"}},{"$f":"IF(AND(EY13>=21,EY13<>0),EY13,IF(O13<#REF!,\"СТОП\",EZ13+FA13))","v":{"$error":"#REF!"}},null,15,16,null,{"$f":"IF(#REF!=1,25,0)","v":{"$error":"#REF!"}},{"$f":"IF(#REF!=2,22,0)","v":{"$error":"#REF!"}},{"$f":"IF(#REF!=3,20,0)","v":{"$error":"#REF!"}},{"$f":"IF(#REF!=4,18,0)","v":{"$error":"#REF!"}},{"$f":"IF(#REF!=5,16,0)","v":{"$error":"#REF!"}},{"$f":"IF(#REF!=6,15,0)","v":{"$error":"#REF!"}},{"$f":"IF(#REF!=7,14,0)","v":{"$error":"#REF!"}},{"$f":"IF(#REF!=8,13,0)","v":{"$error":"#REF!"}},{"$f":"IF(#REF!=9,12,0)","v":{"$error":"#REF!"}},{"$f":"IF(#REF!=10,11,0)","v":{"$error":"#REF!"}},{"$f":"IF(#REF!=11,10,0)","v":{"$error":"#REF!"}},{"$f":"IF(#REF!=12,9,0)","v":{"$error":"#REF!"}},{"$f":"IF(#REF!=13,8,0)","v":{"$error":"#REF!"}},{"$f":"IF(#REF!=14,7,0)","v":{"$error":"#REF!"}},{"$f":"IF(#REF!=15,6,0)","v":{"$error":"#REF!"}},{"$f":"IF(#REF!=16,5,0)","v":{"$error":"#REF!"}},{"$f":"IF(#REF!=17,4,0)","v":{"$error":"#REF!"}},{"$f":"IF(#REF!=18,3,0)","v":{"$error":"#REF!"}},{"$f":"IF(#REF!=19,2,0)","v":{"$error":"#REF!"}},{"$f":"IF(#REF!=20,1,0)","v":{"$error":"#REF!"}},{"$f":"IF(#REF!>20,0,0)","v":{"$error":"#REF!"}},{"$f":"IF(#REF!=\"сх\",0,0)","v":{"$error":"#REF!"}},{"$error":"#REF!"},{"$f":"IF(#REF!=1,25,0)","v":{"$error":"#REF!"}},{"$f":"IF(#REF!=2,22,0)","v":{"$error":"#REF!"}},{"$f":"IF(#REF!=3,20,0)","v":{"$error":"#REF!"}},{"$f":"IF(#REF!=4,18,0)","v":{"$error":"#REF!"}},{"$f":"IF(#REF!=5,16,0)","v":{"$error":"#REF!"}},{"$f":"IF(#REF!=6,15,0)","v":{"$error":"#REF!"}},{"$f":"IF(#REF!=7,14,0)","v":{"$error":"#REF!"}},{"$f":"IF(#REF!=8,13,0)","v":{"$error":"#REF!"}},{"$f":"IF(#REF!=9,12,0)","v":{"$error":"#REF!"}},{"$f":"IF(#REF!=10,11,0)","v":{"$error":"#REF!"}},{"$f":"IF(#REF!=11,10,0)","v":{"$error":"#REF!"}},{"$f":"IF(#REF!=12,9,0)","v":{"$error":"#REF!"}},{"$f":"IF(#REF!=13,8,0)","v":{"$error":"#REF!"}},{"$f":"IF(#REF!=14,7,0)","v":{"$error":"#REF!"}},{"$f":"IF(#REF!=15,6,0)","v":{"$error":"#REF!"}},{"$f":"IF(#REF!=16,5,0)","v":{"$error":"#REF!"}},{"$f":"IF(#REF!=17,4,0)","v":{"$error":"#REF!"}},{"$f":"IF(#REF!=18,3,0)","v":{"$error":"#REF!"}},{"$f":"IF(#REF!=19,2,0)","v":{"$error":"#REF!"}},{"$f":"IF(#REF!=20,1,0)","v":{"$error":"#REF!"}},{"$f":"IF(#REF!>20,0,0)","v":{"$error":"#REF!"}},{"$f":"IF(#REF!=\"сх\",0,0)","v":{"$error":"#REF!"}},{"$error":"#REF!"},{"$f":"IF(#REF!=1,100,0)","v":{"$error":"#REF!"}},{"$f":"IF(#REF!=2,98,0)","v":{"$error":"#REF!"}},{"$f":"IF(#REF!=3,95,0)","v":{"$error":"#REF!"}},{"$f":"IF(#REF!=4,93,0)","v":{"$error":"#REF!"}},{"$f":"IF(#REF!=5,90,0)","v":{"$error":"#REF!"}},{"$f":"IF(#REF!=6,88,0)","v":{"$error":"#REF!"}},{"$f":"IF(#REF!=7,85,0)","v":{"$error":"#REF!"}},{"$f":"IF(#REF!=8,83,0)","v":{"$error":"#REF!"}},{"$f":"IF(#REF!=9,80,0)","v":{"$error":"#REF!"}},{"$f":"IF(#REF!=10,78,0)","v":{"$error":"#REF!"}},{"$f":"IF(#REF!=11,75,0)","v":{"$error":"#REF!"}},{"$f":"IF(#REF!=12,73,0)","v":{"$error":"#REF!"}},{"$f":"IF(#REF!=13,70,0)","v":{"$error":"#REF!"}},{"$f":"IF(#REF!=14,68,0)","v":{"$error":"#REF!"}},{"$f":"IF(#REF!=15,65,0)","v":{"$error":"#REF!"}},{"$f":"IF(#REF!=16,63,0)","v":{"$error":"#REF!"}},{"$f":"IF(#REF!=17,60,0)","v":{"$error":"#REF!"}},{"$f":"IF(#REF!=18,58,0)","v":{"$error":"#REF!"}},{"$f":"IF(#REF!=19,55,0)","v":{"$error":"#REF!"}},{"$f":"IF(#REF!=20,53,0)","v":{"$error":"#REF!"}},{"$f":"IF(#REF!>20,0,0)","v":{"$error":"#REF!"}},{"$f":"IF(#REF!=\"сх\",0,0)","v":{"$error":"#REF!"}},{"$error":"#REF!"},{"$f":"IF(#REF!=1,100,0)","v":{"$error":"#REF!"}},{"$f":"IF(#REF!=2,98,0)","v":{"$error":"#REF!"}},{"$f":"IF(#REF!=3,95,0)","v":{"$error":"#REF!"}},{"$f":"IF(#REF!=4,93,0)","v":{"$error":"#REF!"}},{"$f":"IF(#REF!=5,90,0)","v":{"$error":"#REF!"}},{"$f":"IF(#REF!=6,88,0)","v":{"$error":"#REF!"}},{"$f":"IF(#REF!=7,85,0)","v":{"$error":"#REF!"}},{"$f":"IF(#REF!=8,83,0)","v":{"$error":"#REF!"}},{"$f":"IF(#REF!=9,80,0)","v":{"$error":"#REF!"}},{"$f":"IF(#REF!=10,78,0)","v":{"$error":"#REF!"}},{"$f":"IF(#REF!=11,75,0)","v":{"$error":"#REF!"}},{"$f":"IF(#REF!=12,73,0)","v":{"$error":"#REF!"}},{"$f":"IF(#REF!=13,70,0)","v":{"$error":"#REF!"}},{"$f":"IF(#REF!=14,68,0)","v":{"$error":"#REF!"}},{"$f":"IF(#REF!=15,65,0)","v":{"$error":"#REF!"}},{"$f":"IF(#REF!=16,63,0)","v":{"$error":"#REF!"}},{"$f":"IF(#REF!=17,60,0)","v":{"$error":"#REF!"}},{"$f":"IF(#REF!=18,58,0)","v":{"$error":"#REF!"}},{"$f":"IF(#REF!=19,55,0)","v":{"$error":"#REF!"}},{"$f":"IF(#REF!=20,53,0)","v":{"$error":"#REF!"}},{"$f":"IF(#REF!>20,0,0)","v":{"$error":"#REF!"}},{"$f":"IF(#REF!=\"сх\",0,0)","v":{"$error":"#REF!"}},{"$error":"#REF!"}]
[5,35.200000000000003,18,"Хункаев Булат","II","г. Новый Уренгой, Ямало-Ненецкий АО","СТК \"Ямбург\"","LYNX",7,14,6,15,6,15,44,{"$f":"#REF!+#REF!","v":{"$error":"#REF!"}},null,null,{"$f":"IF(#REF!=1,25,0)","v":{"$error":"#REF!"}},{"$f":"IF(#REF!=2,22,0)","v":{"$error":"#REF!"}},{"$f":"IF(#REF!=3,20,0)","v":{"$error":"#REF!"}},{"$f":"IF(#REF!=4,18,0)","v":{"$error":"#REF!"}},{"$f":"IF(#REF!=5,16,0)","v":{"$error":"#REF!"}},{"$f":"IF(#REF!=6,15,0)","v":{"$error":"#REF!"}},{"$f":"IF(#REF!=7,14,0)","v":{"$error":"#REF!"}},{"$f":"IF(#REF!=8,13,0)","v":{"$error":"#REF!"}},{"$f":"IF(#REF!=9,12,0)","v":{"$error":"#REF!"}},{"$f":"IF(#REF!=10,11,0)","v":{"$error":"#REF!"}},{"$f":"IF(#REF!=11,10,0)","v":{"$error":"#REF!"}},{"$f":"IF(#REF!=12,9,0)","v":{"$error":"#REF!"}},{"$f":"IF(#REF!=13,8,0)","v":{"$error":"#REF!"}},{"$f":"IF(#REF!=14,7,0)","v":{"$error":"#REF!"}},{"$f":"IF(#REF!=15,6,0)","v":{"$error":"#REF!"}},{"$f":"IF(#REF!=16,5,0)","v":{"$error":"#REF!"}},{"$f":"IF(#REF!=17,4,0)","v":{"$error":"#REF!"}},{"$f":"IF(#REF!=18,3,0)","v":{"$error":"#REF!"}},{"$f":"IF(#REF!=19,2,0)","v":{"$error":"#REF!"}},{"$f":"IF(#REF!=20,1,0)","v":{"$error":"#REF!"}},{"$f":"IF(#REF!>20,0,0)","v":{"$error":"#REF!"}},{"$f":"IF(#REF!=\"сх\",0,0)","v":{"$error":"#REF!"}},{"$error":"#REF!"},{"$f":"IF(#REF!=1,25,0)","v":{"$error":"#REF!"}},{"$f":"IF(#REF!=2,22,0)","v":{"$error":"#REF!"}},{"$f":"IF(#REF!=3,20,0)","v":{"$error":"#REF!"}},{"$f":"IF(#REF!=4,18,0)","v":{"$error":"#REF!"}},{"$f":"IF(#REF!=5,16,0)","v":{"$error":"#REF!"}},{"$f":"IF(#REF!=6,15,0)","v":{"$error":"#REF!"}},{"$f":"IF(#REF!=7,14,0)","v":{"$error":"#REF!"}},{"$f":"IF(#REF!=8,13,0)","v":{"$error":"#REF!"}},{"$f":"IF(#REF!=9,12,0)","v":{"$error":"#REF!"}},{"$f":"IF(#REF!=10,11,0)","v":{"$error":"#REF!"}},{"$f":"IF(#REF!=11,10,0)","v":{"$error":"#REF!"}},{"$f":"IF(#REF!=12,9,0)","v":{"$error":"#REF!"}},{"$f":"IF(#REF!=13,8,0)","v":{"$error":"#REF!"}},{"$f":"IF(#REF!=14,7,0)","v":{"$error":"#REF!"}},{"$f":"IF(#REF!=15,6,0)","v":{"$error":"#REF!"}},{"$f":"IF(#REF!=16,5,0)","v":{"$error":"#REF!"}},{"$f":"IF(#REF!=17,4,0)","v":{"$error":"#REF!"}},{"$f":"IF(#REF!=18,3,0)","v":{"$error":"#REF!"}},{"$f":"IF(#REF!=19,2,0)","v":{"$error":"#REF!"}},{"$f":"IF(#REF!=20,1,0)","v":{"$error":"#REF!"}},{"$f":"IF(#REF!>20,0,0)","v":{"$error":"#REF!"}},{"$f":"IF(#REF!=\"сх\",0,0)","v":{"$error":"#REF!"}},{"$error":"#REF!"},{"$f":"IF(#REF!=1,45,0)","v":{"$error":"#REF!"}},{"$f":"IF(#REF!=2,42,0)","v":{"$error":"#REF!"}},{"$f":"IF(#REF!=3,40,0)","v":{"$error":"#REF!"}},{"$f":"IF(#REF!=4,38,0)","v":{"$error":"#REF!"}},{"$f":"IF(#REF!=5,36,0)","v":{"$error":"#REF!"}},{"$f":"IF(#REF!=6,35,0)","v":{"$error":"#REF!"}},{"$f":"IF(#REF!=7,34,0)","v":{"$error":"#REF!"}},{"$f":"IF(#REF!=8,33,0)","v":{"$error":"#REF!"}},{"$f":"IF(#REF!=9,32,0)","v":{"$error":"#REF!"}},{"$f":"IF(#REF!=10,31,0)","v":{"$error":"#REF!"}},{"$f":"IF(#REF!=11,30,0)","v":{"$error":"#REF!"}},{"$f":"IF(#REF!=12,29,0)","v":{"$error":"#REF!"}},{"$f":"IF(#REF!=13,28,0)","v":{"$error":"#REF!"}},{"$f":"IF(#REF!=14,27,0)","v":{"$error":"#REF!"}},{"$f":"IF(#REF!=15,26,0)","v":{"$error":"#REF!"}},{"$f":"IF(#REF!=16,25,0)","v":{"$error":"#REF!"}},{"$f":"IF(#REF!=17,24,0)","v":{"$error":"#REF!"}},{"$f":"IF(#REF!=18,23,0)","v":{"$error":"#REF!"}},{"$f":"IF(#REF!=19,22,0)","v":{"$error":"#REF!"}},{"$f":"IF(#REF!=20,21,0)","v":{"$error":"#REF!"}},{"$f":"IF(#REF!=21,20,0)","v":{"$error":"#REF!"}},{"$f":"IF(#REF!=22,19,0)","v":{"$error":"#REF!"}},{"$f":"IF(#REF!=23,18,0)","v":{"$error":"#REF!"}},{"$f":"IF(#REF!=24,17,0)","v":{"$error":"#REF!"}},{"$f":"IF(#REF!=25,16,0)","v":{"$error":"#REF!"}},{"$f":"IF(#REF!=26,15,0)","v":{"$error":"#REF!"}},{"$f":"IF(#REF!=27,14,0)","v":{"$error":"#REF!"}},{"$f":"IF(#REF!=28,13,0)","v":{"$error":"#REF!"}},{"$f":"IF(#REF!=29,12,0)","v":{"$error":"#REF!"}},{"$f":"IF(#REF!=30,11,0)","v":{"$error":"#REF!"}},{"$f":"IF(#REF!=31,10,0)","v":{"$error":"#REF!"}},{"$f":"IF(#REF!=32,9,0)","v":{"$error":"#REF!"}},{"$f":"IF(#REF!=33,8,0)","v":{"$error":"#REF!"}},{"$f":"IF(#REF!=34,7,0)","v":{"$error":"#REF!"}},{"$f":"IF(#REF!=35,6,0)","v":{"$error":"#REF!"}},{"$f":"IF(#REF!=36,5,0)","v":{"$error":"#REF!"}},{"$f":"IF(#REF!=37,4,0)","v":{"$error":"#REF!"}},{"$f":"IF(#REF!=38,3,0)","v":{"$error":"#REF!"}},{"$f":"IF(#REF!=39,2,0)","v":{"$error":"#REF!"}},{"$f":"IF(#REF!=40,1,0)","v":{"$error":"#REF!"}},{"$f":"IF(#REF!>20,0,0)","v":{"$error":"#REF!"}},{"$f":"IF(#REF!=\"сх\",0,0)","v":{"$error":"#REF!"}},{"$error":"#REF!"},{"$f":"IF(#REF!=1,45,0)","v":{"$error":"#REF!"}},{"$f":"IF(#REF!=2,42,0)","v":{"$error":"#REF!"}},{"$f":"IF(#REF!=3,40,0)","v":{"$error":"#REF!"}},{"$f":"IF(#REF!=4,38,0)","v":{"$error":"#REF!"}},{"$f":"IF(#REF!=5,36,0)","v":{"$error":"#REF!"}},{"$f":"IF(#REF!=6,35,0)","v":{"$error":"#REF!"}},{"$f":"IF(#REF!=7,34,0)","v":{"$error":"#REF!"}},{"$f":"IF(#REF!=8,33,0)","v":{"$error":"#REF!"}},{"$f":"IF(#REF!=9,32,0)","v":{"$error":"#REF!"}},{"$f":"IF(#REF!=10,31,0)","v":{"$error":"#REF!"}},{"$f":"IF(#REF!=11,30,0)","v":{"$error":"#REF!"}},{"$f":"IF(#REF!=12,29,0)","v":{"$error":"#REF!"}},{"$f":"IF(#REF!=13,28,0)","v":{"$error":"#REF!"}},{"$f":"IF(#REF!=14,27,0)","v":{"$error":"#REF!"}},{"$f":"IF(#REF!=15,26,0)","v":{"$error":"#REF!"}},{"$f":"IF(#REF!=16,25,0)","v":{"$error":"#REF!"}},{"$f":"IF(#REF!=17,24,0)","v":{"$error":"#REF!"}},{"$f":"IF(#REF!=18,23,0)","v":{"$error":"#REF!"}},{"$f":"IF(#REF!=19,22,0)","v":{"$error":"#REF!"}},{"$f":"IF(#REF!=20,21,0)","v":{"$error":"#REF!"}},{"$f":"IF(#REF!=21,20,0)","v":{"$error":"#REF!"}},{"$f":"IF(#REF!=22,19,0)","v":{"$error":"#REF!"}},{"$f":"IF(#REF!=23,18,0)","v":{"$error":"#REF!"}},{"$f":"IF(#REF!=24,17,0)","v":{"$error":"#REF!"}},{"$f":"IF(#REF!=25,16,0)","v":{"$error":"#REF!"}},{"$f":"IF(#REF!=26,15,0)","v":{"$error":"#REF!"}},{"$f":"IF(#REF!=27,14,0)","v":{"$error":"#REF!"}},{"$f":"IF(#REF!=28,13,0)","v":{"$error":"#REF!"}},{"$f":"IF(#REF!=29,12,0)","v":{"$error":"#REF!"}},{"$f":"IF(#REF!=30,11,0)","v":{"$error":"#REF!"}},{"$f":"IF(#REF!=31,10,0)","v":{"$error":"#REF!"}},{"$f":"IF(#REF!=32,9,0)","v":{"$error":"#REF!"}},{"$f":"IF(#REF!=33,8,0)","v":{"$error":"#REF!"}},{"$f":"IF(#REF!=34,7,0)","v":{"$error":"#REF!"}},{"$f":"IF(#REF!=35,6,0)","v":{"$error":"#REF!"}},{"$f":"IF(#REF!=36,5,0)","v":{"$error":"#REF!"}},{"$f":"IF(#REF!=37,4,0)","v":{"$error":"#REF!"}},{"$f":"IF(#REF!=38,3,0)","v":{"$error":"#REF!"}},{"$f":"IF(#REF!=39,2,0)","v":{"$error":"#REF!"}},{"$f":"IF(#REF!=40,1,0)","v":{"$error":"#REF!"}},{"$f":"IF(#REF!>20,0,0)","v":{"$error":"#REF!"}},{"$f":"IF(#REF!=\"сх\",0,0)","v":{"$error":"#REF!"}},{"$error":"#REF!"},null,{"$f":"IF(#REF!=\"сх\",\"ноль\",IF(#REF!>0,#REF!,\"Ноль\"))","v":{"$error":"#REF!"}},{"$f":"IF(#REF!=\"сх\",\"ноль\",IF(#REF!>0,#REF!,\"Ноль\"))","v":{"$error":"#REF!"}},null,{"$error":"#REF!"},{"$f":"IF(O14=#REF!,IF(#REF!<#REF!,#REF!,FD14),#REF!)","v":{"$error":"#REF!"}},{"$f":"IF(O14=#REF!,IF(#REF!<#REF!,0,1))","v":{"$error":"#REF!"}},{"$f":"IF(AND(EY14>=21,EY14<>0),EY14,IF(O14<#REF!,\"СТОП\",EZ14+FA14))","v":{"$error":"#REF!"}},null,15,16,null,{"$f":"IF(#REF!=1,25,0)","v":{"$error":"#REF!"}},{"$f":"IF(#REF!=2,22,0)","v":{"$error":"#REF!"}},{"$f":"IF(#REF!=3,20,0)","v":{"$error":"#REF!"}},{"$f":"IF(#REF!=4,18,0)","v":{"$error":"#REF!"}},{"$f":"IF(#REF!=5,16,0)","v":{"$error":"#REF!"}},{"$f":"IF(#REF!=6,15,0)","v":{"$error":"#REF!"}},{"$f":"IF(#REF!=7,14,0)","v":{"$error":"#REF!"}},{"$f":"IF(#REF!=8,13,0)","v":{"$error":"#REF!"}},{"$f":"IF(#REF!=9,12,0)","v":{"$error":"#REF!"}},{"$f":"IF(#REF!=10,11,0)","v":{"$error":"#REF!"}},{"$f":"IF(#REF!=11,10,0)","v":{"$error":"#REF!"}},{"$f":"IF(#REF!=12,9,0)","v":{"$error":"#REF!"}},{"$f":"IF(#REF!=13,8,0)","v":{"$error":"#REF!"}},{"$f":"IF(#REF!=14,7,0)","v":{"$error":"#REF!"}},{"$f":"IF(#REF!=15,6,0)","v":{"$error":"#REF!"}},{"$f":"IF(#REF!=16,5,0)","v":{"$error":"#REF!"}},{"$f":"IF(#REF!=17,4,0)","v":{"$error":"#REF!"}},{"$f":"IF(#REF!=18,3,0)","v":{"$error":"#REF!"}},{"$f":"IF(#REF!=19,2,0)","v":{"$error":"#REF!"}},{"$f":"IF(#REF!=20,1,0)","v":{"$error":"#REF!"}},{"$f":"IF(#REF!>20,0,0)","v":{"$error":"#REF!"}},{"$f":"IF(#REF!=\"сх\",0,0)","v":{"$error":"#REF!"}},{"$error":"#REF!"},{"$f":"IF(#REF!=1,25,0)","v":{"$error":"#REF!"}},{"$f":"IF(#REF!=2,22,0)","v":{"$error":"#REF!"}},{"$f":"IF(#REF!=3,20,0)","v":{"$error":"#REF!"}},{"$f":"IF(#REF!=4,18,0)","v":{"$error":"#REF!"}},{"$f":"IF(#REF!=5,16,0)","v":{"$error":"#REF!"}},{"$f":"IF(#REF!=6,15,0)","v":{"$error":"#REF!"}},{"$f":"IF(#REF!=7,14,0)","v":{"$error":"#REF!"}},{"$f":"IF(#REF!=8,13,0)","v":{"$error":"#REF!"}},{"$f":"IF(#REF!=9,12,0)","v":{"$error":"#REF!"}},{"$f":"IF(#REF!=10,11,0)","v":{"$error":"#REF!"}},{"$f":"IF(#REF!=11,10,0)","v":{"$error":"#REF!"}},{"$f":"IF(#REF!=12,9,0)","v":{"$error":"#REF!"}},{"$f":"IF(#REF!=13,8,0)","v":{"$error":"#REF!"}},{"$f":"IF(#REF!=14,7,0)","v":{"$error":"#REF!"}},{"$f":"IF(#REF!=15,6,0)","v":{"$error":"#REF!"}},{"$f":"IF(#REF!=16,5,0)","v":{"$error":"#REF!"}},{"$f":"IF(#REF!=17,4,0)","v":{"$error":"#REF!"}},{"$f":"IF(#REF!=18,3,0)","v":{"$error":"#REF!"}},{"$f":"IF(#REF!=19,2,0)","v":{"$error":"#REF!"}},{"$f":"IF(#REF!=20,1,0)","v":{"$error":"#REF!"}},{"$f":"IF(#REF!>20,0,0)","v":{"$error":"#REF!"}},{"$f":"IF(#REF!=\"сх\",0,0)","v":{"$error":"#REF!"}},{"$error":"#REF!"},{"$f":"IF(#REF!=1,100,0)","v":{"$error":"#REF!"}},{"$f":"IF(#REF!=2,98,0)","v":{"$error":"#REF!"}},{"$f":"IF(#REF!=3,95,0)","v":{"$error":"#REF!"}},{"$f":"IF(#REF!=4,93,0)","v":{"$error":"#REF!"}},{"$f":"IF(#REF!=5,90,0)","v":{"$error":"#REF!"}},{"$f":"IF(#REF!=6,88,0)","v":{"$error":"#REF!"}},{"$f":"IF(#REF!=7,85,0)","v":{"$error":"#REF!"}},{"$f":"IF(#REF!=8,83,0)","v":{"$error":"#REF!"}},{"$f":"IF(#REF!=9,80,0)","v":{"$error":"#REF!"}},{"$f":"IF(#REF!=10,78,0)","v":{"$error":"#REF!"}},{"$f":"IF(#REF!=11,75,0)","v":{"$error":"#REF!"}},{"$f":"IF(#REF!=12,73,0)","v":{"$error":"#REF!"}},{"$f":"IF(#REF!=13,70,0)","v":{"$error":"#REF!"}},{"$f":"IF(#REF!=14,68,0)","v":{"$error":"#REF!"}},{"$f":"IF(#REF!=15,65,0)","v":{"$error":"#REF!"}},{"$f":"IF(#REF!=16,63,0)","v":{"$error":"#REF!"}},{"$f":"IF(#REF!=17,60,0)","v":{"$error":"#REF!"}},{"$f":"IF(#REF!=18,58,0)","v":{"$error":"#REF!"}},{"$f":"IF(#REF!=19,55,0)","v":{"$error":"#REF!"}},{"$f":"IF(#REF!=20,53,0)","v":{"$error":"#REF!"}},{"$f":"IF(#REF!>20,0,0)","v":{"$error":"#REF!"}},{"$f":"IF(#REF!=\"сх\",0,0)","v":{"$error":"#REF!"}},{"$error":"#REF!"},{"$f":"IF(#REF!=1,100,0)","v":{"$error":"#REF!"}},{"$f":"IF(#REF!=2,98,0)","v":{"$error":"#REF!"}},{"$f":"IF(#REF!=3,95,0)","v":{"$error":"#REF!"}},{"$f":"IF(#REF!=4,93,0)","v":{"$error":"#REF!"}},{"$f":"IF(#REF!=5,90,0)","v":{"$error":"#REF!"}},{"$f":"IF(#REF!=6,88,0)","v":{"$error":"#REF!"}},{"$f":"IF(#REF!=7,85,0)","v":{"$error":"#REF!"}},{"$f":"IF(#REF!=8,83,0)","v":{"$error":"#REF!"}},{"$f":"IF(#REF!=9,80,0)","v":{"$error":"#REF!"}},{"$f":"IF(#REF!=10,78,0)","v":{"$error":"#REF!"}},{"$f":"IF(#REF!=11,75,0)","v":{"$error":"#REF!"}},{"$f":"IF(#REF!=12,73,0)","v":{"$error":"#REF!"}},{"$f":"IF(#REF!=13,70,0)","v":{"$error":"#REF!"}},{"$f":"IF(#REF!=14,68,0)","v":{"$error":"#REF!"}},{"$f":"IF(#REF!=15,65,0)","v":{"$error":"#REF!"}},{"$f":"IF(#REF!=16,63,0)","v":{"$error":"#REF!"}},{"$f":"IF(#REF!=17,60,0)","v":{"$error":"#REF!"}},{"$f":"IF(#REF!=18,58,0)","v":{"$error":"#REF!"}},{"$f":"IF(#REF!=19,55,0)","v":{"$error":"#REF!"}},{"$f":"IF(#REF!=20,53,0)","v":{"$error":"#REF!"}},{"$f":"IF(#REF!>20,0,0)","v":{"$error":"#REF!"}},{"$f":"IF(#REF!=\"сх\",0,0)","v":{"$error":"#REF!"}},{"$error":"#REF!"}]
[6,34.4,33,"Колибаба Богдан","II","г. Новый Уренгой, Ямало-Ненецкий АО","СТК \"Факел\"","LYNX",4,18,7,14,10,11,43,{"$f":"#REF!+#REF!","v":{"$error":"#REF!"}},null,null,{"$f":"IF(#REF!=1,25,0)","v":{"$error":"#REF!"}},{"$f":"IF(#REF!=2,22,0)","v":{"$error":"#REF!"}},{"$f":"IF(#REF!=3,20,0)","v":{"$error":"#REF!"}},{"$f":"IF(#REF!=4,18,0)","v":{"$error":"#REF!"}},{"$f":"IF(#REF!=5,16,0)","v":{"$error":"#REF!"}},{"$f":"IF(#REF!=6,15,0)","v":{"$error":"#REF!"}},{"$f":"IF(#REF!=7,14,0)","v":{"$error":"#REF!"}},{"$f":"IF(#REF!=8,13,0)","v":{"$error":"#REF!"}},{"$f":"IF(#REF!=9,12,0)","v":{"$error":"#REF!"}},{"$f":"IF(#REF!=10,11,0)","v":{"$error":"#REF!"}},{"$f":"IF(#REF!=11,10,0)","v":{"$error":"#REF!"}},{"$f":"IF(#REF!=12,9,0)","v":{"$error":"#REF!"}},{"$f":"IF(#REF!=13,8,0)","v":{"$error":"#REF!"}},{"$f":"IF(#REF!=14,7,0)","v":{"$error":"#REF!"}},{"$f":"IF(#REF!=15,6,0)","v":{"$error":"#REF!"}},{"$f":"IF(#REF!=16,5,0)","v":{"$error":"#REF!"}},{"$f":"IF(#REF!=17,4,0)","v":{"$error":"#REF!"}},{"$f":"IF(#REF!=18,3,0)","v":{"$error":"#REF!"}},{"$f":"IF(#REF!=19,2,0)","v":{"$error":"#REF!"}},{"$f":"IF(#REF!=20,1,0)","v":{"$error":"#REF!"}},{"$f":"IF(#REF!>20,0,0)","v":{"$error":"#REF!"}},{"$f":"IF(#REF!=\"сх\",0,0)","v":{"$error":"#REF!"}},{"$error":"#REF!"},{"$f":"IF(#REF!=1,25,0)","v":{"$error":"#REF!"}},{"$f":"IF(#REF!=2,22,0)","v":{"$error":"#REF!"}},{"$f":"IF(#REF!=3,20,0)","v":{"$error":"#REF!"}},{"$f":"IF(#REF!=4,18,0)","v":{"$error":"#REF!"}},{"$f":"IF(#REF!=5,16,0)","v":{"$error":"#REF!"}},{"$f":"IF(#REF!=6,15,0)","v":{"$error":"#REF!"}},{"$f":"IF(#REF!=7,14,0)","v":{"$error":"#REF!"}},{"$f":"IF(#REF!=8,13,0)","v":{"$error":"#REF!"}},{"$f":"IF(#REF!=9,12,0)","v":{"$error":"#REF!"}},{"$f":"IF(#REF!=10,11,0)","v":{"$error":"#REF!"}},{"$f":"IF(#REF!=11,10,0)","v":{"$error":"#REF!"}},{"$f":"IF(#REF!=12,9,0)","v":{"$error":"#REF!"}},{"$f":"IF(#REF!=13,8,0)","v":{"$error":"#REF!"}},{"$f":"IF(#REF!=14,7,0)","v":{"$error":"#REF!"}},{"$f":"IF(#REF!=15,6,0)","v":{"$error":"#REF!"}},{"$f":"IF(#REF!=16,5,0)","v":{"$error":"#REF!"}},{"$f":"IF(#REF!=17,4,0)","v":{"$error":"#REF!"}},{"$f":"IF(#REF!=18,3,0)","v":{"$error":"#REF!"}},{"$f":"IF(#REF!=19,2,0)","v":{"$error":"#REF!"}},{"$f":"IF(#REF!=20,1,0)","v":{"$error":"#REF!"}},{"$f":"IF(#REF!>20,0,0)","v":{"$error":"#REF!"}},{"$f":"IF(#REF!=\"сх\",0,0)","v":{"$error":"#REF!"}},{"$error":"#REF!"},{"$f":"IF(#REF!=1,45,0)","v":{"$error":"#REF!"}},{"$f":"IF(#REF!=2,42,0)","v":{"$error":"#REF!"}},{"$f":"IF(#REF!=3,40,0)","v":{"$error":"#REF!"}},{"$f":"IF(#REF!=4,38,0)","v":{"$error":"#REF!"}},{"$f":"IF(#REF!=5,36,0)","v":{"$error":"#REF!"}},{"$f":"IF(#REF!=6,35,0)","v":{"$error":"#REF!"}},{"$f":"IF(#REF!=7,34,0)","v":{"$error":"#REF!"}},{"$f":"IF(#REF!=8,33,0)","v":{"$error":"#REF!"}},{"$f":"IF(#REF!=9,32,0)","v":{"$error":"#REF!"}},{"$f":"IF(#REF!=10,31,0)","v":{"$error":"#REF!"}},{"$f":"IF(#REF!=11,30,0)","v":{"$error":"#REF!"}},{"$f":"IF(#REF!=12,29,0)","v":{"$error":"#REF!"}},{"$f":"IF(#REF!=13,28,0)","v":{"$error":"#REF!"}},{"$f":"IF(#REF!=14,27,0)","v":{"$error":"#REF!"}},{"$f":"IF(#REF!=15,26,0)","v":{"$error":"#REF!"}},{"$f":"IF(#REF!=16,25,0)","v":{"$error":"#REF!"}},{"$f":"IF(#REF!=17,24,0)","v":{"$error":"#REF!"}},{"$f":"IF(#REF!=18,23,0)","v":{"$error":"#REF!"}},{"$f":"IF(#REF!=19,22,0)","v":{"$error":"#REF!"}},{"$f":"IF(#REF!=20,21,0)","v":{"$error":"#REF!"}},{"$f":"IF(#REF!=21,20,0)","v":{"$error":"#REF!"}},{"$f":"IF(#REF!=22,19,0)","v":{"$error":"#REF!"}},{"$f":"IF(#REF!=23,18,0)","v":{"$error":"#REF!"}},{"$f":"IF(#REF!=24,17,0)","v":{"$error":"#REF!"}},{"$f":"IF(#REF!=25,16,0)","v":{"$error":"#REF!"}},{"$f":"IF(#REF!=26,15,0)","v":{"$error":"#REF!"}},{"$f":"IF(#REF!=27,14,0)","v":{"$error":"#REF!"}},{"$f":"IF(#REF!=28,13,0)","v":{"$error":"#REF!"}},{"$f":"IF(#REF!=29,12,0)","v":{"$error":"#REF!"}},{"$f":"IF(#REF!=30,11,0)","v":{"$error":"#REF!"}},{"$f":"IF(#REF!=31,10,0)","v":{"$error":"#REF!"}},{"$f":"IF(#REF!=32,9,0)","v":{"$error":"#REF!"}},{"$f":"IF(#REF!=33,8,0)","v":{"$error":"#REF!"}},{"$f":"IF(#REF!=34,7,0)","v":{"$error":"#REF!"}},{"$f":"IF(#REF!=35,6,0)","v":{"$error":"#REF!"}},{"$f":"IF(#REF!=36,5,0)","v":{"$error":"#REF!"}},{"$f":"IF(#REF!=37,4,0)","v":{"$error":"#REF!"}},{"$f":"IF(#REF!=38,3,0)","v":{"$error":"#REF!"}},{"$f":"IF(#REF!=39,2,0)","v":{"$error":"#REF!"}},{"$f":"IF(#REF!=40,1,0)","v":{"$error":"#REF!"}},{"$f":"IF(#REF!>20,0,0)","v":{"$error":"#REF!"}},{"$f":"IF(#REF!=\"сх\",0,0)","v":{"$error":"#REF!"}},{"$error":"#REF!"},{"$f":"IF(#REF!=1,45,0)","v":{"$error":"#REF!"}},{"$f":"IF(#REF!=2,42,0)","v":{"$error":"#REF!"}},{"$f":"IF(#REF!=3,40,0)","v":{"$error":"#REF!"}},{"$f":"IF(#REF!=4,38,0)","v":{"$error":"#REF!"}},{"$f":"IF(#REF!=5,36,0)","v":{"$error":"#REF!"}},{"$f":"IF(#REF!=6,35,0)","v":{"$error":"#REF!"}},{"$f":"IF(#REF!=7,34,0)","v":{"$error":"#REF!"}},{"$f":"IF(#REF!=8,33,0)","v":{"$error":"#REF!"}},{"$f":"IF(#REF!=9,32,0)","v":{"$error":"#REF!"}},{"$f":"IF(#REF!=10,31,0)","v":{"$error":"#REF!"}},{"$f":"IF(#REF!=11,30,0)","v":{"$error":"#REF!"}},{"$f":"IF(#REF!=12,29,0)","v":{"$error":"#REF!"}},{"$f":"IF(#REF!=13,28,0)","v":{"$error":"#REF!"}},{"$f":"IF(#REF!=14,27,0)","v":{"$error":"#REF!"}},{"$f":"IF(#REF!=15,26,0)","v":{"$error":"#REF!"}},{"$f":"IF(#REF!=16,25,0)","v":{"$error":"#REF!"}},{"$f":"IF(#REF!=17,24,0)","v":{"$error":"#REF!"}},{"$f":"IF(#REF!=18,23,0)","v":{"$error":"#REF!"}},{"$f":"IF(#REF!=19,22,0)","v":{"$error":"#REF!"}},{"$f":"IF(#REF!=20,21,0)","v":{"$error":"#REF!"}},{"$f":"IF(#REF!=21,20,0)","v":{"$error":"#REF!"}},{"$f":"IF(#REF!=22,19,0)","v":{"$error":"#REF!"}},{"$f":"IF(#REF!=23,18,0)","v":{"$error":"#REF!"}},{"$f":"IF(#REF!=24,17,0)","v":{"$error":"#REF!"}},{"$f":"IF(#REF!=25,16,0)","v":{"$error":"#REF!"}},{"$f":"IF(#REF!=26,15,0)","v":{"$error":"#REF!"}},{"$f":"IF(#REF!=27,14,0)","v":{"$error":"#REF!"}},{"$f":"IF(#REF!=28,13,0)","v":{"$error":"#REF!"}},{"$f":"IF(#REF!=29,12,0)","v":{"$error":"#REF!"}},{"$f":"IF(#REF!=30,11,0)","v":{"$error":"#REF!"}},{"$f":"IF(#REF!=31,10,0)","v":{"$error":"#REF!"}},{"$f":"IF(#REF!=32,9,0)","v":{"$error":"#REF!"}},{"$f":"IF(#REF!=33,8,0)","v":{"$error":"#REF!"}},{"$f":"IF(#REF!=34,7,0)","v":{"$error":"#REF!"}},{"$f":"IF(#REF!=35,6,0)","v":{"$error":"#REF!"}},{"$f":"IF(#REF!=36,5,0)","v":{"$error":"#REF!"}},{"$f":"IF(#REF!=37,4,0)","v":{"$error":"#REF!"}},{"$f":"IF(#REF!=38,3,0)","v":{"$error":"#REF!"}},{"$f":"IF(#REF!=39,2,0)","v":{"$error":"#REF!"}},{"$f":"IF(#REF!=40,1,0)","v":{"$error":"#REF!"}},{"$f":"IF(#REF!>20,0,0)","v":{"$error":"#REF!"}},{"$f":"IF(#REF!=\"сх\",0,0)","v":{"$error":"#REF!"}},{"$error":"#REF!"},null,{"$f":"IF(#REF!=\"сх\",\"ноль\",IF(#REF!>0,#REF!,\"Ноль\"))","v":{"$error":"#REF!"}},{"$f":"IF(#REF!=\"сх\",\"ноль\",IF(#REF!>0,#REF!,\"Ноль\"))","v":{"$error":"#REF!"}},null,{"$error":"#REF!"},{"$f":"IF(O15=#REF!,IF(#REF!<#REF!,#REF!,FD15),#REF!)","v":{"$error":"#REF!"}},{"$f":"IF(O15=#REF!,IF(#REF!<#REF!,0,1))","v":{"$error":"#REF!"}},{"$f":"IF(AND(EY15>=21,EY15<>0),EY15,IF(O15<#REF!,\"СТОП\",EZ15+FA15))","v":{"$error":"#REF!"}},null,15,16,null,{"$f":"IF(#REF!=1,25,0)","v":{"$error":"#REF!"}},{"$f":"IF(#REF!=2,22,0)","v":{"$error":"#REF!"}},{"$f":"IF(#REF!=3,20,0)","v":{"$error":"#REF!"}},{"$f":"IF(#REF!=4,18,0)","v":{"$error":"#REF!"}},{"$f":"IF(#REF!=5,16,0)","v":{"$error":"#REF!"}},{"$f":"IF(#REF!=6,15,0)","v":{"$error":"#REF!"}},{"$f":"IF(#REF!=7,14,0)","v":{"$error":"#REF!"}},{"$f":"IF(#REF!=8,13,0)","v":{"$error":"#REF!"}},{"$f":"IF(#REF!=9,12,0)","v":{"$error":"#REF!"}},{"$f":"IF(#REF!=10,11,0)","v":{"$error":"#REF!"}},{"$f":"IF(#REF!=11,10,0)","v":{"$error":"#REF!"}},{"$f":"IF(#REF!=12,9,0)","v":{"$error":"#REF!"}},{"$f":"IF(#REF!=13,8,0)","v":{"$error":"#REF!"}},{"$f":"IF(#REF!=14,7,0)","v":{"$error":"#REF!"}},{"$f":"IF(#REF!=15,6,0)","v":{"$error":"#REF!"}},{"$f":"IF(#REF!=16,5,0)","v":{"$error":"#REF!"}},{"$f":"IF(#REF!=17,4,0)","v":{"$error":"#REF!"}},{"$f":"IF(#REF!=18,3,0)","v":{"$error":"#REF!"}},{"$f":"IF(#REF!=19,2,0)","v":{"$error":"#REF!"}},{"$f":"IF(#REF!=20,1,0)","v":{"$error":"#REF!"}},{"$f":"IF(#REF!>20,0,0)","v":{"$error":"#REF!"}},{"$f":"IF(#REF!=\"сх\",0,0)","v":{"$error":"#REF!"}},{"$error":"#REF!"},{"$f":"IF(#REF!=1,25,0)","v":{"$error":"#REF!"}},{"$f":"IF(#REF!=2,22,0)","v":{"$error":"#REF!"}},{"$f":"IF(#REF!=3,20,0)","v":{"$error":"#REF!"}},{"$f":"IF(#REF!=4,18,0)","v":{"$error":"#REF!"}},{"$f":"IF(#REF!=5,16,0)","v":{"$error":"#REF!"}},{"$f":"IF(#REF!=6,15,0)","v":{"$error":"#REF!"}},{"$f":"IF(#REF!=7,14,0)","v":{"$error":"#REF!"}},{"$f":"IF(#REF!=8,13,0)","v":{"$error":"#REF!"}},{"$f":"IF(#REF!=9,12,0)","v":{"$error":"#REF!"}},{"$f":"IF(#REF!=10,11,0)","v":{"$error":"#REF!"}},{"$f":"IF(#REF!=11,10,0)","v":{"$error":"#REF!"}},{"$f":"IF(#REF!=12,9,0)","v":{"$error":"#REF!"}},{"$f":"IF(#REF!=13,8,0)","v":{"$error":"#REF!"}},{"$f":"IF(#REF!=14,7,0)","v":{"$error":"#REF!"}},{"$f":"IF(#REF!=15,6,0)","v":{"$error":"#REF!"}},{"$f":"IF(#REF!=16,5,0)","v":{"$error":"#REF!"}},{"$f":"IF(#REF!=17,4,0)","v":{"$error":"#REF!"}},{"$f":"IF(#REF!=18,3,0)","v":{"$error":"#REF!"}},{"$f":"IF(#REF!=19,2,0)","v":{"$error":"#REF!"}},{"$f":"IF(#REF!=20,1,0)","v":{"$error":"#REF!"}},{"$f":"IF(#REF!>20,0,0)","v":{"$error":"#REF!"}},{"$f":"IF(#REF!=\"сх\",0,0)","v":{"$error":"#REF!"}},{"$error":"#REF!"},{"$f":"IF(#REF!=1,100,0)","v":{"$error":"#REF!"}},{"$f":"IF(#REF!=2,98,0)","v":{"$error":"#REF!"}},{"$f":"IF(#REF!=3,95,0)","v":{"$error":"#REF!"}},{"$f":"IF(#REF!=4,93,0)","v":{"$error":"#REF!"}},{"$f":"IF(#REF!=5,90,0)","v":{"$error":"#REF!"}},{"$f":"IF(#REF!=6,88,0)","v":{"$error":"#REF!"}},{"$f":"IF(#REF!=7,85,0)","v":{"$error":"#REF!"}},{"$f":"IF(#REF!=8,83,0)","v":{"$error":"#REF!"}},{"$f":"IF(#REF!=9,80,0)","v":{"$error":"#REF!"}},{"$f":"IF(#REF!=10,78,0)","v":{"$error":"#REF!"}},{"$f":"IF(#REF!=11,75,0)","v":{"$error":"#REF!"}},{"$f":"IF(#REF!=12,73,0)","v":{"$error":"#REF!"}},{"$f":"IF(#REF!=13,70,0)","v":{"$error":"#REF!"}},{"$f":"IF(#REF!=14,68,0)","v":{"$error":"#REF!"}},{"$f":"IF(#REF!=15,65,0)","v":{"$error":"#REF!"}},{"$f":"IF(#REF!=16,63,0)","v":{"$error":"#REF!"}},{"$f":"IF(#REF!=17,60,0)","v":{"$error":"#REF!"}},{"$f":"IF(#REF!=18,58,0)","v":{"$error":"#REF!"}},{"$f":"IF(#REF!=19,55,0)","v":{"$error":"#REF!"}},{"$f":"IF(#REF!=20,53,0)","v":{"$error":"#REF!"}},{"$f":"IF(#REF!>20,0,0)","v":{"$error":"#REF!"}},{"$f":"IF(#REF!=\"сх\",0,0)","v":{"$error":"#REF!"}},{"$error":"#REF!"},{"$f":"IF(#REF!=1,100,0)","v":{"$error":"#REF!"}},{"$f":"IF(#REF!=2,98,0)","v":{"$error":"#REF!"}},{"$f":"IF(#REF!=3,95,0)","v":{"$error":"#REF!"}},{"$f":"IF(#REF!=4,93,0)","v":{"$error":"#REF!"}},{"$f":"IF(#REF!=5,90,0)","v":{"$error":"#REF!"}},{"$f":"IF(#REF!=6,88,0)","v":{"$error":"#REF!"}},{"$f":"IF(#REF!=7,85,0)","v":{"$error":"#REF!"}},{"$f":"IF(#REF!=8,83,0)","v":{"$error":"#REF!"}},{"$f":"IF(#REF!=9,80,0)","v":{"$error":"#REF!"}},{"$f":"IF(#REF!=10,78,0)","v":{"$error":"#REF!"}},{"$f":"IF(#REF!=11,75,0)","v":{"$error":"#REF!"}},{"$f":"IF(#REF!=12,73,0)","v":{"$error":"#REF!"}},{"$f":"IF(#REF!=13,70,0)","v":{"$error":"#REF!"}},{"$f":"IF(#REF!=14,68,0)","v":{"$error":"#REF!"}},{"$f":"IF(#REF!=15,65,0)","v":{"$error":"#REF!"}},{"$f":"IF(#REF!=16,63,0)","v":{"$error":"#REF!"}},{"$f":"IF(#REF!=17,60,0)","v":{"$error":"#REF!"}},{"$f":"IF(#REF!=18,58,0)","v":{"$error":"#REF!"}},{"$f":"IF(#REF!=19,55,0)","v":{"$error":"#REF!"}},{"$f":"IF(#REF!=20,53,0)","v":{"$error":"#REF!"}},{"$f":"IF(#REF!>20,0,0)","v":{"$error":"#REF!"}},{"$f":"IF(#REF!=\"сх\",0,0)","v":{"$error":"#REF!"}},{"$error":"#REF!"}]
[7,33.6,162,"Пилюгин Антон","II","г. Новый Уренгой, Ямало-Ненецкий АО","СТК \"Ямбург\"","LYNX",10,11,5,16,7,14,41,{"$f":"#REF!+#REF!","v":{"$error":"#REF!"}},null,null,{"$f":"IF(#REF!=1,25,0)","v":{"$error":"#REF!"}},{"$f":"IF(#REF!=2,22,0)","v":{"$error":"#REF!"}},{"$f":"IF(#REF!=3,20,0)","v":{"$error":"#REF!"}},{"$f":"IF(#REF!=4,18,0)","v":{"$error":"#REF!"}},{"$f":"IF(#REF!=5,16,0)","v":{"$error":"#REF!"}},{"$f":"IF(#REF!=6,15,0)","v":{"$error":"#REF!"}},{"$f":"IF(#REF!=7,14,0)","v":{"$error":"#REF!"}},{"$f":"IF(#REF!=8,13,0)","v":{"$error":"#REF!"}},{"$f":"IF(#REF!=9,12,0)","v":{"$error":"#REF!"}},{"$f":"IF(#REF!=10,11,0)","v":{"$error":"#REF!"}},{"$f":"IF(#REF!=11,10,0)","v":{"$error":"#REF!"}},{"$f":"IF(#REF!=12,9,0)","v":{"$error":"#REF!"}},{"$f":"IF(#REF!=13,8,0)","v":{"$error":"#REF!"}},{"$f":"IF(#REF!=14,7,0)","v":{"$error":"#REF!"}},{"$f":"IF(#REF!=15,6,0)","v":{"$error":"#REF!"}},{"$f":"IF(#REF!=16,5,0)","v":{"$error":"#REF!"}},{"$f":"IF(#REF!=17,4,0)","v":{"$error":"#REF!"}},{"$f":"IF(#REF!=18,3,0)","v":{"$error":"#REF!"}},{"$f":"IF(#REF!=19,2,0)","v":{"$error":"#REF!"}},{"$f":"IF(#REF!=20,1,0)","v":{"$error":"#REF!"}},{"$f":"IF(#REF!>20,0,0)","v":{"$error":"#REF!"}},{"$f":"IF(#REF!=\"сх\",0,0)","v":{"$error":"#REF!"}},{"$error":"#REF!"},{"$f":"IF(#REF!=1,25,0)","v":{"$error":"#REF!"}},{"$f":"IF(#REF!=2,22,0)","v":{"$error":"#REF!"}},{"$f":"IF(#REF!=3,20,0)","v":{"$error":"#REF!"}},{"$f":"IF(#REF!=4,18,0)","v":{"$error":"#REF!"}},{"$f":"IF(#REF!=5,16,0)","v":{"$error":"#REF!"}},{"$f":"IF(#REF!=6,15,0)","v":{"$error":"#REF!"}},{"$f":"IF(#REF!=7,14,0)","v":{"$error":"#REF!"}},{"$f":"IF(#REF!=8,13,0)","v":{"$error":"#REF!"}},{"$f":"IF(#REF!=9,12,0)","v":{"$error":"#REF!"}},{"$f":"IF(#REF!=10,11,0)","v":{"$error":"#REF!"}},{"$f":"IF(#REF!=11,10,0)","v":{"$error":"#REF!"}},{"$f":"IF(#REF!=12,9,0)","v":{"$error":"#REF!"}},{"$f":"IF(#REF!=13,8,0)","v":{"$error":"#REF!"}},{"$f":"IF(#REF!=14,7,0)","v":{"$error":"#REF!"}},{"$f":"IF(#REF!=15,6,0)","v":{"$error":"#REF!"}},{"$f":"IF(#REF!=16,5,0)","v":{"$error":"#REF!"}},{"$f":"IF(#REF!=17,4,0)","v":{"$error":"#REF!"}},{"$f":"IF(#REF!=18,3,0)","v":{"$error":"#REF!"}},{"$f":"IF(#REF!=19,2,0)","v":{"$error":"#REF!"}},{"$f":"IF(#REF!=20,1,0)","v":{"$error":"#REF!"}},{"$f":"IF(#REF!>20,0,0)","v":{"$error":"#REF!"}},{"$f":"IF(#REF!=\"сх\",0,0)","v":{"$error":"#REF!"}},{"$error":"#REF!"},{"$f":"IF(#REF!=1,45,0)","v":{"$error":"#REF!"}},{"$f":"IF(#REF!=2,42,0)","v":{"$error":"#REF!"}},{"$f":"IF(#REF!=3,40,0)","v":{"$error":"#REF!"}},{"$f":"IF(#REF!=4,38,0)","v":{"$error":"#REF!"}},{"$f":"IF(#REF!=5,36,0)","v":{"$error":"#REF!"}},{"$f":"IF(#REF!=6,35,0)","v":{"$error":"#REF!"}},{"$f":"IF(#REF!=7,34,0)","v":{"$error":"#REF!"}},{"$f":"IF(#REF!=8,33,0)","v":{"$error":"#REF!"}},{"$f":"IF(#REF!=9,32,0)","v":{"$error":"#REF!"}},{"$f":"IF(#REF!=10,31,0)","v":{"$error":"#REF!"}},{"$f":"IF(#REF!=11,30,0)","v":{"$error":"#REF!"}},{"$f":"IF(#REF!=12,29,0)","v":{"$error":"#REF!"}},{"$f":"IF(#REF!=13,28,0)","v":{"$error":"#REF!"}},{"$f":"IF(#REF!=14,27,0)","v":{"$error":"#REF!"}},{"$f":"IF(#REF!=15,26,0)","v":{"$error":"#REF!"}},{"$f":"IF(#REF!=16,25,0)","v":{"$error":"#REF!"}},{"$f":"IF(#REF!=17,24,0)","v":{"$error":"#REF!"}},{"$f":"IF(#REF!=18,23,0)","v":{"$error":"#REF!"}},{"$f":"IF(#REF!=19,22,0)","v":{"$error":"#REF!"}},{"$f":"IF(#REF!=20,21,0)","v":{"$error":"#REF!"}},{"$f":"IF(#REF!=21,20,0)","v":{"$error":"#REF!"}},{"$f":"IF(#REF!=22,19,0)","v":{"$error":"#REF!"}},{"$f":"IF(#REF!=23,18,0)","v":{"$error":"#REF!"}},{"$f":"IF(#REF!=24,17,0)","v":{"$error":"#REF!"}},{"$f":"IF(#REF!=25,16,0)","v":{"$error":"#REF!"}},{"$f":"IF(#REF!=26,15,0)","v":{"$error":"#REF!"}},{"$f":"IF(#REF!=27,14,0)","v":{"$error":"#REF!"}},{"$f":"IF(#REF!=28,13,0)","v":{"$error":"#REF!"}},{"$f":"IF(#REF!=29,12,0)","v":{"$error":"#REF!"}},{"$f":"IF(#REF!=30,11,0)","v":{"$error":"#REF!"}},{"$f":"IF(#REF!=31,10,0)","v":{"$error":"#REF!"}},{"$f":"IF(#REF!=32,9,0)","v":{"$error":"#REF!"}},{"$f":"IF(#REF!=33,8,0)","v":{"$error":"#REF!"}},{"$f":"IF(#REF!=34,7,0)","v":{"$error":"#REF!"}},{"$f":"IF(#REF!=35,6,0)","v":{"$error":"#REF!"}},{"$f":"IF(#REF!=36,5,0)","v":{"$error":"#REF!"}},{"$f":"IF(#REF!=37,4,0)","v":{"$error":"#REF!"}},{"$f":"IF(#REF!=38,3,0)","v":{"$error":"#REF!"}},{"$f":"IF(#REF!=39,2,0)","v":{"$error":"#REF!"}},{"$f":"IF(#REF!=40,1,0)","v":{"$error":"#REF!"}},{"$f":"IF(#REF!>20,0,0)","v":{"$error":"#REF!"}},{"$f":"IF(#REF!=\"сх\",0,0)","v":{"$error":"#REF!"}},{"$error":"#REF!"},{"$f":"IF(#REF!=1,45,0)","v":{"$error":"#REF!"}},{"$f":"IF(#REF!=2,42,0)","v":{"$error":"#REF!"}},{"$f":"IF(#REF!=3,40,0)","v":{"$error":"#REF!"}},{"$f":"IF(#REF!=4,38,0)","v":{"$error":"#REF!"}},{"$f":"IF(#REF!=5,36,0)","v":{"$error":"#REF!"}},{"$f":"IF(#REF!=6,35,0)","v":{"$error":"#REF!"}},{"$f":"IF(#REF!=7,34,0)","v":{"$error":"#REF!"}},{"$f":"IF(#REF!=8,33,0)","v":{"$error":"#REF!"}},{"$f":"IF(#REF!=9,32,0)","v":{"$error":"#REF!"}},{"$f":"IF(#REF!=10,31,0)","v":{"$error":"#REF!"}},{"$f":"IF(#REF!=11,30,0)","v":{"$error":"#REF!"}},{"$f":"IF(#REF!=12,29,0)","v":{"$error":"#REF!"}},{"$f":"IF(#REF!=13,28,0)","v":{"$error":"#REF!"}},{"$f":"IF(#REF!=14,27,0)","v":{"$error":"#REF!"}},{"$f":"IF(#REF!=15,26,0)","v":{"$error":"#REF!"}},{"$f":"IF(#REF!=16,25,0)","v":{"$error":"#REF!"}},{"$f":"IF(#REF!=17,24,0)","v":{"$error":"#REF!"}},{"$f":"IF(#REF!=18,23,0)","v":{"$error":"#REF!"}},{"$f":"IF(#REF!=19,22,0)","v":{"$error":"#REF!"}},{"$f":"IF(#REF!=20,21,0)","v":{"$error":"#REF!"}},{"$f":"IF(#REF!=21,20,0)","v":{"$error":"#REF!"}},{"$f":"IF(#REF!=22,19,0)","v":{"$error":"#REF!"}},{"$f":"IF(#REF!=23,18,0)","v":{"$error":"#REF!"}},{"$f":"IF(#REF!=24,17,0)","v":{"$error":"#REF!"}},{"$f":"IF(#REF!=25,16,0)","v":{"$error":"#REF!"}},{"$f":"IF(#REF!=26,15,0)","v":{"$error":"#REF!"}},{"$f":"IF(#REF!=27,14,0)","v":{"$error":"#REF!"}},{"$f":"IF(#REF!=28,13,0)","v":{"$error":"#REF!"}},{"$f":"IF(#REF!=29,12,0)","v":{"$error":"#REF!"}},{"$f":"IF(#REF!=30,11,0)","v":{"$error":"#REF!"}},{"$f":"IF(#REF!=31,10,0)","v":{"$error":"#REF!"}},{"$f":"IF(#REF!=32,9,0)","v":{"$error":"#REF!"}},{"$f":"IF(#REF!=33,8,0)","v":{"$error":"#REF!"}},{"$f":"IF(#REF!=34,7,0)","v":{"$error":"#REF!"}},{"$f":"IF(#REF!=35,6,0)","v":{"$error":"#REF!"}},{"$f":"IF(#REF!=36,5,0)","v":{"$error":"#REF!"}},{"$f":"IF(#REF!=37,4,0)","v":{"$error":"#REF!"}},{"$f":"IF(#REF!=38,3,0)","v":{"$error":"#REF!"}},{"$f":"IF(#REF!=39,2,0)","v":{"$error":"#REF!"}},{"$f":"IF(#REF!=40,1,0)","v":{"$error":"#REF!"}},{"$f":"IF(#REF!>20,0,0)","v":{"$error":"#REF!"}},{"$f":"IF(#REF!=\"сх\",0,0)","v":{"$error":"#REF!"}},{"$error":"#REF!"},null,{"$f":"IF(#REF!=\"сх\",\"ноль\",IF(#REF!>0,#REF!,\"Ноль\"))","v":{"$error":"#REF!"}},{"$f":"IF(#REF!=\"сх\",\"ноль\",IF(#REF!>0,#REF!,\"Ноль\"))","v":{"$error":"#REF!"}},null,{"$error":"#REF!"},{"$f":"IF(O16=#REF!,IF(#REF!<#REF!,#REF!,FD16),#REF!)","v":{"$error":"#REF!"}},{"$f":"IF(O16=#REF!,IF(#REF!<#REF!,0,1))","v":{"$error":"#REF!"}},{"$f":"IF(AND(EY16>=21,EY16<>0),EY16,IF(O16<#REF!,\"СТОП\",EZ16+FA16))","v":{"$error":"#REF!"}},null,15,16,null,{"$f":"IF(#REF!=1,25,0)","v":{"$error":"#REF!"}},{"$f":"IF(#REF!=2,22,0)","v":{"$error":"#REF!"}},{"$f":"IF(#REF!=3,20,0)","v":{"$error":"#REF!"}},{"$f":"IF(#REF!=4,18,0)","v":{"$error":"#REF!"}},{"$f":"IF(#REF!=5,16,0)","v":{"$error":"#REF!"}},{"$f":"IF(#REF!=6,15,0)","v":{"$error":"#REF!"}},{"$f":"IF(#REF!=7,14,0)","v":{"$error":"#REF!"}},{"$f":"IF(#REF!=8,13,0)","v":{"$error":"#REF!"}},{"$f":"IF(#REF!=9,12,0)","v":{"$error":"#REF!"}},{"$f":"IF(#REF!=10,11,0)","v":{"$error":"#REF!"}},{"$f":"IF(#REF!=11,10,0)","v":{"$error":"#REF!"}},{"$f":"IF(#REF!=12,9,0)","v":{"$error":"#REF!"}},{"$f":"IF(#REF!=13,8,0)","v":{"$error":"#REF!"}},{"$f":"IF(#REF!=14,7,0)","v":{"$error":"#REF!"}},{"$f":"IF(#REF!=15,6,0)","v":{"$error":"#REF!"}},{"$f":"IF(#REF!=16,5,0)","v":{"$error":"#REF!"}},{"$f":"IF(#REF!=17,4,0)","v":{"$error":"#REF!"}},{"$f":"IF(#REF!=18,3,0)","v":{"$error":"#REF!"}},{"$f":"IF(#REF!=19,2,0)","v":{"$error":"#REF!"}},{"$f":"IF(#REF!=20,1,0)","v":{"$error":"#REF!"}},{"$f":"IF(#REF!>20,0,0)","v":{"$error":"#REF!"}},{"$f":"IF(#REF!=\"сх\",0,0)","v":{"$error":"#REF!"}},{"$error":"#REF!"},{"$f":"IF(#REF!=1,25,0)","v":{"$error":"#REF!"}},{"$f":"IF(#REF!=2,22,0)","v":{"$error":"#REF!"}},{"$f":"IF(#REF!=3,20,0)","v":{"$error":"#REF!"}},{"$f":"IF(#REF!=4,18,0)","v":{"$error":"#REF!"}},{"$f":"IF(#REF!=5,16,0)","v":{"$error":"#REF!"}},{"$f":"IF(#REF!=6,15,0)","v":{"$error":"#REF!"}},{"$f":"IF(#REF!=7,14,0)","v":{"$error":"#REF!"}},{"$f":"IF(#REF!=8,13,0)","v":{"$error":"#REF!"}},{"$f":"IF(#REF!=9,12,0)","v":{"$error":"#REF!"}},{"$f":"IF(#REF!=10,11,0)","v":{"$error":"#REF!"}},{"$f":"IF(#REF!=11,10,0)","v":{"$error":"#REF!"}},{"$f":"IF(#REF!=12,9,0)","v":{"$error":"#REF!"}},{"$f":"IF(#REF!=13,8,0)","v":{"$error":"#REF!"}},{"$f":"IF(#REF!=14,7,0)","v":{"$error":"#REF!"}},{"$f":"IF(#REF!=15,6,0)","v":{"$error":"#REF!"}},{"$f":"IF(#REF!=16,5,0)","v":{"$error":"#REF!"}},{"$f":"IF(#REF!=17,4,0)","v":{"$error":"#REF!"}},{"$f":"IF(#REF!=18,3,0)","v":{"$error":"#REF!"}},{"$f":"IF(#REF!=19,2,0)","v":{"$error":"#REF!"}},{"$f":"IF(#REF!=20,1,0)","v":{"$error":"#REF!"}},{"$f":"IF(#REF!>20,0,0)","v":{"$error":"#REF!"}},{"$f":"IF(#REF!=\"сх\",0,0)","v":{"$error":"#REF!"}},{"$error":"#REF!"},{"$f":"IF(#REF!=1,100,0)","v":{"$error":"#REF!"}},{"$f":"IF(#REF!=2,98,0)","v":{"$error":"#REF!"}},{"$f":"IF(#REF!=3,95,0)","v":{"$error":"#REF!"}},{"$f":"IF(#REF!=4,93,0)","v":{"$error":"#REF!"}},{"$f":"IF(#REF!=5,90,0)","v":{"$error":"#REF!"}},{"$f":"IF(#REF!=6,88,0)","v":{"$error":"#REF!"}},{"$f":"IF(#REF!=7,85,0)","v":{"$error":"#REF!"}},{"$f":"IF(#REF!=8,83,0)","v":{"$error":"#REF!"}},{"$f":"IF(#REF!=9,80,0)","v":{"$error":"#REF!"}},{"$f":"IF(#REF!=10,78,0)","v":{"$error":"#REF!"}},{"$f":"IF(#REF!=11,75,0)","v":{"$error":"#REF!"}},{"$f":"IF(#REF!=12,73,0)","v":{"$error":"#REF!"}},{"$f":"IF(#REF!=13,70,0)","v":{"$error":"#REF!"}},{"$f":"IF(#REF!=14,68,0)","v":{"$error":"#REF!"}},{"$f":"IF(#REF!=15,65,0)","v":{"$error":"#REF!"}},{"$f":"IF(#REF!=16,63,0)","v":{"$error":"#REF!"}},{"$f":"IF(#REF!=17,60,0)","v":{"$error":"#REF!"}},{"$f":"IF(#REF!=18,58,0)","v":{"$error":"#REF!"}},{"$f":"IF(#REF!=19,55,0)","v":{"$error":"#REF!"}},{"$f":"IF(#REF!=20,53,0)","v":{"$error":"#REF!"}},{"$f":"IF(#REF!>20,0,0)","v":{"$error":"#REF!"}},{"$f":"IF(#REF!=\"сх\",0,0)","v":{"$error":"#REF!"}},{"$error":"#REF!"},{"$f":"IF(#REF!=1,100,0)","v":{"$error":"#REF!"}},{"$f":"IF(#REF!=2,98,0)","v":{"$error":"#REF!"}},{"$f":"IF(#REF!=3,95,0)","v":{"$error":"#REF!"}},{"$f":"IF(#REF!=4,93,0)","v":{"$error":"#REF!"}},{"$f":"IF(#REF!=5,90,0)","v":{"$error":"#REF!"}},{"$f":"IF(#REF!=6,88,0)","v":{"$error":"#REF!"}},{"$f":"IF(#REF!=7,85,0)","v":{"$error":"#REF!"}},{"$f":"IF(#REF!=8,83,0)","v":{"$error":"#REF!"}},{"$f":"IF(#REF!=9,80,0)","v":{"$error":"#REF!"}},{"$f":"IF(#REF!=10,78,0)","v":{"$error":"#REF!"}},{"$f":"IF(#REF!=11,75,0)","v":{"$error":"#REF!"}},{"$f":"IF(#REF!=12,73,0)","v":{"$error":"#REF!"}},{"$f":"IF(#REF!=13,70,0)","v":{"$error":"#REF!"}},{"$f":"IF(#REF!=14,68,0)","v":{"$error":"#REF!"}},{"$f":"IF(#REF!=15,65,0)","v":{"$error":"#REF!"}},{"$f":"IF(#REF!=16,63,0)","v":{"$error":"#REF!"}},{"$f":"IF(#REF!=17,60,0)","v":{"$error":"#REF!"}},{"$f":"IF(#REF!=18,58,0)","v":{"$error":"#REF!"}},{"$f":"IF(#REF!=19,55,0)","v":{"$error":"#REF!"}},{"$f":"IF(#REF!=20,53,0)","v":{"$error":"#REF!"}},{"$f":"IF(#REF!>20,0,0)","v":{"$error":"#REF!"}},{"$f":"IF(#REF!=\"сх\",0,0)","v":{"$error":"#REF!"}},{"$error":"#REF!"}]
[8,32.799999999999997,68,"Чернега Максим","II","г. Новый Уренгой, Ямало-Ненецкий АО","СТК \"Факел\"","LYNX",5,16,9,12,9,12,40,{"$f":"#REF!+#REF!","v":{"$error":"#REF!"}},null,null,{"$f":"IF(#REF!=1,25,0)","v":{"$error":"#REF!"}},{"$f":"IF(#REF!=2,22,0)","v":{"$error":"#REF!"}},{"$f":"IF(#REF!=3,20,0)","v":{"$error":"#REF!"}},{"$f":"IF(#REF!=4,18,0)","v":{"$error":"#REF!"}},{"$f":"IF(#REF!=5,16,0)","v":{"$error":"#REF!"}},{"$f":"IF(#REF!=6,15,0)","v":{"$error":"#REF!"}},{"$f":"IF(#REF!=7,14,0)","v":{"$error":"#REF!"}},{"$f":"IF(#REF!=8,13,0)","v":{"$error":"#REF!"}},{"$f":"IF(#REF!=9,12,0)","v":{"$error":"#REF!"}},{"$f":"IF(#REF!=10,11,0)","v":{"$error":"#REF!"}},{"$f":"IF(#REF!=11,10,0)","v":{"$error":"#REF!"}},{"$f":"IF(#REF!=12,9,0)","v":{"$error":"#REF!"}},{"$f":"IF(#REF!=13,8,0)","v":{"$error":"#REF!"}},{"$f":"IF(#REF!=14,7,0)","v":{"$error":"#REF!"}},{"$f":"IF(#REF!=15,6,0)","v":{"$error":"#REF!"}},{"$f":"IF(#REF!=16,5,0)","v":{"$error":"#REF!"}},{"$f":"IF(#REF!=17,4,0)","v":{"$error":"#REF!"}},{"$f":"IF(#REF!=18,3,0)","v":{"$error":"#REF!"}},{"$f":"IF(#REF!=19,2,0)","v":{"$error":"#REF!"}},{"$f":"IF(#REF!=20,1,0)","v":{"$error":"#REF!"}},{"$f":"IF(#REF!>20,0,0)","v":{"$error":"#REF!"}},{"$f":"IF(#REF!=\"сх\",0,0)","v":{"$error":"#REF!"}},{"$error":"#REF!"},{"$f":"IF(#REF!=1,25,0)","v":{"$error":"#REF!"}},{"$f":"IF(#REF!=2,22,0)","v":{"$error":"#REF!"}},{"$f":"IF(#REF!=3,20,0)","v":{"$error":"#REF!"}},{"$f":"IF(#REF!=4,18,0)","v":{"$error":"#REF!"}},{"$f":"IF(#REF!=5,16,0)","v":{"$error":"#REF!"}},{"$f":"IF(#REF!=6,15,0)","v":{"$error":"#REF!"}},{"$f":"IF(#REF!=7,14,0)","v":{"$error":"#REF!"}},{"$f":"IF(#REF!=8,13,0)","v":{"$error":"#REF!"}},{"$f":"IF(#REF!=9,12,0)","v":{"$error":"#REF!"}},{"$f":"IF(#REF!=10,11,0)","v":{"$error":"#REF!"}},{"$f":"IF(#REF!=11,10,0)","v":{"$error":"#REF!"}},{"$f":"IF(#REF!=12,9,0)","v":{"$error":"#REF!"}},{"$f":"IF(#REF!=13,8,0)","v":{"$error":"#REF!"}},{"$f":"IF(#REF!=14,7,0)","v":{"$error":"#REF!"}},{"$f":"IF(#REF!=15,6,0)","v":{"$error":"#REF!"}},{"$f":"IF(#REF!=16,5,0)","v":{"$error":"#REF!"}},{"$f":"IF(#REF!=17,4,0)","v":{"$error":"#REF!"}},{"$f":"IF(#REF!=18,3,0)","v":{"$error":"#REF!"}},{"$f":"IF(#REF!=19,2,0)","v":{"$error":"#REF!"}},{"$f":"IF(#REF!=20,1,0)","v":{"$error":"#REF!"}},{"$f":"IF(#REF!>20,0,0)","v":{"$error":"#REF!"}},{"$f":"IF(#REF!=\"сх\",0,0)","v":{"$error":"#REF!"}},{"$error":"#REF!"},{"$f":"IF(#REF!=1,45,0)","v":{"$error":"#REF!"}},{"$f":"IF(#REF!=2,42,0)","v":{"$error":"#REF!"}},{"$f":"IF(#REF!=3,40,0)","v":{"$error":"#REF!"}},{"$f":"IF(#REF!=4,38,0)","v":{"$error":"#REF!"}},{"$f":"IF(#REF!=5,36,0)","v":{"$error":"#REF!"}},{"$f":"IF(#REF!=6,35,0)","v":{"$error":"#REF!"}},{"$f":"IF(#REF!=7,34,0)","v":{"$error":"#REF!"}},{"$f":"IF(#REF!=8,33,0)","v":{"$error":"#REF!"}},{"$f":"IF(#REF!=9,32,0)","v":{"$error":"#REF!"}},{"$f":"IF(#REF!=10,31,0)","v":{"$error":"#REF!"}},{"$f":"IF(#REF!=11,30,0)","v":{"$error":"#REF!"}},{"$f":"IF(#REF!=12,29,0)","v":{"$error":"#REF!"}},{"$f":"IF(#REF!=13,28,0)","v":{"$error":"#REF!"}},{"$f":"IF(#REF!=14,27,0)","v":{"$error":"#REF!"}},{"$f":"IF(#REF!=15,26,0)","v":{"$error":"#REF!"}},{"$f":"IF(#REF!=16,25,0)","v":{"$error":"#REF!"}},{"$f":"IF(#REF!=17,24,0)","v":{"$error":"#REF!"}},{"$f":"IF(#REF!=18,23,0)","v":{"$error":"#REF!"}},{"$f":"IF(#REF!=19,22,0)","v":{"$error":"#REF!"}},{"$f":"IF(#REF!=20,21,0)","v":{"$error":"#REF!"}},{"$f":"IF(#REF!=21,20,0)","v":{"$error":"#REF!"}},{"$f":"IF(#REF!=22,19,0)","v":{"$error":"#REF!"}},{"$f":"IF(#REF!=23,18,0)","v":{"$error":"#REF!"}},{"$f":"IF(#REF!=24,17,0)","v":{"$error":"#REF!"}},{"$f":"IF(#REF!=25,16,0)","v":{"$error":"#REF!"}},{"$f":"IF(#REF!=26,15,0)","v":{"$error":"#REF!"}},{"$f":"IF(#REF!=27,14,0)","v":{"$error":"#REF!"}},{"$f":"IF(#REF!=28,13,0)","v":{"$error":"#REF!"}},{"$f":"IF(#REF!=29,12,0)","v":{"$error":"#REF!"}},{"$f":"IF(#REF!=30,11,0)","v":{"$error":"#REF!"}},{"$f":"IF(#REF!=31,10,0)","v":{"$error":"#REF!"}},{"$f":"IF(#REF!=32,9,0)","v":{"$error":"#REF!"}},{"$f":"IF(#REF!=33,8,0)","v":{"$error":"#REF!"}},{"$f":"IF(#REF!=34,7,0)","v":{"$error":"#REF!"}},{"$f":"IF(#REF!=35,6,0)","v":{"$error":"#REF!"}},{"$f":"IF(#REF!=36,5,0)","v":{"$error":"#REF!"}},{"$f":"IF(#REF!=37,4,0)","v":{"$error":"#REF!"}},{"$f":"IF(#REF!=38,3,0)","v":{"$error":"#REF!"}},{"$f":"IF(#REF!=39,2,0)","v":{"$error":"#REF!"}},{"$f":"IF(#REF!=40,1,0)","v":{"$error":"#REF!"}},{"$f":"IF(#REF!>20,0,0)","v":{"$error":"#REF!"}},{"$f":"IF(#REF!=\"сх\",0,0)","v":{"$error":"#REF!"}},{"$error":"#REF!"},{"$f":"IF(#REF!=1,45,0)","v":{"$error":"#REF!"}},{"$f":"IF(#REF!=2,42,0)","v":{"$error":"#REF!"}},{"$f":"IF(#REF!=3,40,0)","v":{"$error":"#REF!"}},{"$f":"IF(#REF!=4,38,0)","v":{"$error":"#REF!"}},{"$f":"IF(#REF!=5,36,0)","v":{"$error":"#REF!"}},{"$f":"IF(#REF!=6,35,0)","v":{"$error":"#REF!"}},{"$f":"IF(#REF!=7,34,0)","v":{"$error":"#REF!"}},{"$f":"IF(#REF!=8,33,0)","v":{"$error":"#REF!"}},{"$f":"IF(#REF!=9,32,0)","v":{"$error":"#REF!"}},{"$f":"IF(#REF!=10,31,0)","v":{"$error":"#REF!"}},{"$f":"IF(#REF!=11,30,0)","v":{"$error":"#REF!"}},{"$f":"IF(#REF!=12,29,0)","v":{"$error":"#REF!"}},{"$f":"IF(#REF!=13,28,0)","v":{"$error":"#REF!"}},{"$f":"IF(#REF!=14,27,0)","v":{"$error":"#REF!"}},{"$f":"IF(#REF!=15,26,0)","v":{"$error":"#REF!"}},{"$f":"IF(#REF!=16,25,0)","v":{"$error":"#REF!"}},{"$f":"IF(#REF!=17,24,0)","v":{"$error":"#REF!"}},{"$f":"IF(#REF!=18,23,0)","v":{"$error":"#REF!"}},{"$f":"IF(#REF!=19,22,0)","v":{"$error":"#REF!"}},{"$f":"IF(#REF!=20,21,0)","v":{"$error":"#REF!"}},{"$f":"IF(#REF!=21,20,0)","v":{"$error":"#REF!"}},{"$f":"IF(#REF!=22,19,0)","v":{"$error":"#REF!"}},{"$f":"IF(#REF!=23,18,0)","v":{"$error":"#REF!"}},{"$f":"IF(#REF!=24,17,0)","v":{"$error":"#REF!"}},{"$f":"IF(#REF!=25,16,0)","v":{"$error":"#REF!"}},{"$f":"IF(#REF!=26,15,0)","v":{"$error":"#REF!"}},{"$f":"IF(#REF!=27,14,0)","v":{"$error":"#REF!"}},{"$f":"IF(#REF!=28,13,0)","v":{"$error":"#REF!"}},{"$f":"IF(#REF!=29,12,0)","v":{"$error":"#REF!"}},{"$f":"IF(#REF!=30,11,0)","v":{"$error":"#REF!"}},{"$f":"IF(#REF!=31,10,0)","v":{"$error":"#REF!"}},{"$f":"IF(#REF!=32,9,0)","v":{"$error":"#REF!"}},{"$f":"IF(#REF!=33,8,0)","v":{"$error":"#REF!"}},{"$f":"IF(#REF!=34,7,0)","v":{"$error":"#REF!"}},{"$f":"IF(#REF!=35,6,0)","v":{"$error":"#REF!"}},{"$f":"IF(#REF!=36,5,0)","v":{"$error":"#REF!"}},{"$f":"IF(#REF!=37,4,0)","v":{"$error":"#REF!"}},{"$f":"IF(#REF!=38,3,0)","v":{"$error":"#REF!"}},{"$f":"IF(#REF!=39,2,0)","v":{"$error":"#REF!"}},{"$f":"IF(#REF!=40,1,0)","v":{"$error":"#REF!"}},{"$f":"IF(#REF!>20,0,0)","v":{"$error":"#REF!"}},{"$f":"IF(#REF!=\"сх\",0,0)","v":{"$error":"#REF!"}},{"$error":"#REF!"},null,{"$f":"IF(#REF!=\"сх\",\"ноль\",IF(#REF!>0,#REF!,\"Ноль\"))","v":{"$error":"#REF!"}},{"$f":"IF(#REF!=\"сх\",\"ноль\",IF(#REF!>0,#REF!,\"Ноль\"))","v":{"$error":"#REF!"}},null,{"$error":"#REF!"},{"$f":"IF(O17=#REF!,IF(#REF!<#REF!,#REF!,FD17),#REF!)","v":{"$error":"#REF!"}},{"$f":"IF(O17=#REF!,IF(#REF!<#REF!,0,1))","v":{"$error":"#REF!"}},{"$f":"IF(AND(EY17>=21,EY17<>0),EY17,IF(O17<#REF!,\"СТОП\",EZ17+FA17))","v":{"$error":"#REF!"}},null,15,16,null,{"$f":"IF(#REF!=1,25,0)","v":{"$error":"#REF!"}},{"$f":"IF(#REF!=2,22,0)","v":{"$error":"#REF!"}},{"$f":"IF(#REF!=3,20,0)","v":{"$error":"#REF!"}},{"$f":"IF(#REF!=4,18,0)","v":{"$error":"#REF!"}},{"$f":"IF(#REF!=5,16,0)","v":{"$error":"#REF!"}},{"$f":"IF(#REF!=6,15,0)","v":{"$error":"#REF!"}},{"$f":"IF(#REF!=7,14,0)","v":{"$error":"#REF!"}},{"$f":"IF(#REF!=8,13,0)","v":{"$error":"#REF!"}},{"$f":"IF(#REF!=9,12,0)","v":{"$error":"#REF!"}},{"$f":"IF(#REF!=10,11,0)","v":{"$error":"#REF!"}},{"$f":"IF(#REF!=11,10,0)","v":{"$error":"#REF!"}},{"$f":"IF(#REF!=12,9,0)","v":{"$error":"#REF!"}},{"$f":"IF(#REF!=13,8,0)","v":{"$error":"#REF!"}},{"$f":"IF(#REF!=14,7,0)","v":{"$error":"#REF!"}},{"$f":"IF(#REF!=15,6,0)","v":{"$error":"#REF!"}},{"$f":"IF(#REF!=16,5,0)","v":{"$error":"#REF!"}},{"$f":"IF(#REF!=17,4,0)","v":{"$error":"#REF!"}},{"$f":"IF(#REF!=18,3,0)","v":{"$error":"#REF!"}},{"$f":"IF(#REF!=19,2,0)","v":{"$error":"#REF!"}},{"$f":"IF(#REF!=20,1,0)","v":{"$error":"#REF!"}},{"$f":"IF(#REF!>20,0,0)","v":{"$error":"#REF!"}},{"$f":"IF(#REF!=\"сх\",0,0)","v":{"$error":"#REF!"}},{"$error":"#REF!"},{"$f":"IF(#REF!=1,25,0)","v":{"$error":"#REF!"}},{"$f":"IF(#REF!=2,22,0)","v":{"$error":"#REF!"}},{"$f":"IF(#REF!=3,20,0)","v":{"$error":"#REF!"}},{"$f":"IF(#REF!=4,18,0)","v":{"$error":"#REF!"}},{"$f":"IF(#REF!=5,16,0)","v":{"$error":"#REF!"}},{"$f":"IF(#REF!=6,15,0)","v":{"$error":"#REF!"}},{"$f":"IF(#REF!=7,14,0)","v":{"$error":"#REF!"}},{"$f":"IF(#REF!=8,13,0)","v":{"$error":"#REF!"}},{"$f":"IF(#REF!=9,12,0)","v":{"$error":"#REF!"}},{"$f":"IF(#REF!=10,11,0)","v":{"$error":"#REF!"}},{"$f":"IF(#REF!=11,10,0)","v":{"$error":"#REF!"}},{"$f":"IF(#REF!=12,9,0)","v":{"$error":"#REF!"}},{"$f":"IF(#REF!=13,8,0)","v":{"$error":"#REF!"}},{"$f":"IF(#REF!=14,7,0)","v":{"$error":"#REF!"}},{"$f":"IF(#REF!=15,6,0)","v":{"$error":"#REF!"}},{"$f":"IF(#REF!=16,5,0)","v":{"$error":"#REF!"}},{"$f":"IF(#REF!=17,4,0)","v":{"$error":"#REF!"}},{"$f":"IF(#REF!=18,3,0)","v":{"$error":"#REF!"}},{"$f":"IF(#REF!=19,2,0)","v":{"$error":"#REF!"}},{"$f":"IF(#REF!=20,1,0)","v":{"$error":"#REF!"}},{"$f":"IF(#REF!>20,0,0)","v":{"$error":"#REF!"}},{"$f":"IF(#REF!=\"сх\",0,0)","v":{"$error":"#REF!"}},{"$error":"#REF!"},{"$f":"IF(#REF!=1,100,0)","v":{"$error":"#REF!"}},{"$f":"IF(#REF!=2,98,0)","v":{"$error":"#REF!"}},{"$f":"IF(#REF!=3,95,0)","v":{"$error":"#REF!"}},{"$f":"IF(#REF!=4,93,0)","v":{"$error":"#REF!"}},{"$f":"IF(#REF!=5,90,0)","v":{"$error":"#REF!"}},{"$f":"IF(#REF!=6,88,0)","v":{"$error":"#REF!"}},{"$f":"IF(#REF!=7,85,0)","v":{"$error":"#REF!"}},{"$f":"IF(#REF!=8,83,0)","v":{"$error":"#REF!"}},{"$f":"IF(#REF!=9,80,0)","v":{"$error":"#REF!"}},{"$f":"IF(#REF!=10,78,0)","v":{"$error":"#REF!"}},{"$f":"IF(#REF!=11,75,0)","v":{"$error":"#REF!"}},{"$f":"IF(#REF!=12,73,0)","v":{"$error":"#REF!"}},{"$f":"IF(#REF!=13,70,0)","v":{"$error":"#REF!"}},{"$f":"IF(#REF!=14,68,0)","v":{"$error":"#REF!"}},{"$f":"IF(#REF!=15,65,0)","v":{"$error":"#REF!"}},{"$f":"IF(#REF!=16,63,0)","v":{"$error":"#REF!"}},{"$f":"IF(#REF!=17,60,0)","v":{"$error":"#REF!"}},{"$f":"IF(#REF!=18,58,0)","v":{"$error":"#REF!"}},{"$f":"IF(#REF!=19,55,0)","v":{"$error":"#REF!"}},{"$f":"IF(#REF!=20,53,0)","v":{"$error":"#REF!"}},{"$f":"IF(#REF!>20,0,0)","v":{"$error":"#REF!"}},{"$f":"IF(#REF!=\"сх\",0,0)","v":{"$error":"#REF!"}},{"$error":"#REF!"},{"$f":"IF(#REF!=1,100,0)","v":{"$error":"#REF!"}},{"$f":"IF(#REF!=2,98,0)","v":{"$error":"#REF!"}},{"$f":"IF(#REF!=3,95,0)","v":{"$error":"#REF!"}},{"$f":"IF(#REF!=4,93,0)","v":{"$error":"#REF!"}},{"$f":"IF(#REF!=5,90,0)","v":{"$error":"#REF!"}},{"$f":"IF(#REF!=6,88,0)","v":{"$error":"#REF!"}},{"$f":"IF(#REF!=7,85,0)","v":{"$error":"#REF!"}},{"$f":"IF(#REF!=8,83,0)","v":{"$error":"#REF!"}},{"$f":"IF(#REF!=9,80,0)","v":{"$error":"#REF!"}},{"$f":"IF(#REF!=10,78,0)","v":{"$error":"#REF!"}},{"$f":"IF(#REF!=11,75,0)","v":{"$error":"#REF!"}},{"$f":"IF(#REF!=12,73,0)","v":{"$error":"#REF!"}},{"$f":"IF(#REF!=13,70,0)","v":{"$error":"#REF!"}},{"$f":"IF(#REF!=14,68,0)","v":{"$error":"#REF!"}},{"$f":"IF(#REF!=15,65,0)","v":{"$error":"#REF!"}},{"$f":"IF(#REF!=16,63,0)","v":{"$error":"#REF!"}},{"$f":"IF(#REF!=17,60,0)","v":{"$error":"#REF!"}},{"$f":"IF(#REF!=18,58,0)","v":{"$error":"#REF!"}},{"$f":"IF(#REF!=19,55,0)","v":{"$error":"#REF!"}},{"$f":"IF(#REF!=20,53,0)","v":{"$error":"#REF!"}},{"$f":"IF(#REF!>20,0,0)","v":{"$error":"#REF!"}},{"$f":"IF(#REF!=\"сх\",0,0)","v":{"$error":"#REF!"}},{"$error":"#REF!"}]
[9,32,35,"Садрисламов Данил","II","г. Новый Уренгой, Ямало-Ненецкий АО","СТК \"Ямбург\"","LYNX",8,13,8,13,8,13,39,{"$f":"#REF!+#REF!","v":{"$error":"#REF!"}},null,null,{"$f":"IF(#REF!=1,25,0)","v":{"$error":"#REF!"}},{"$f":"IF(#REF!=2,22,0)","v":{"$error":"#REF!"}},{"$f":"IF(#REF!=3,20,0)","v":{"$error":"#REF!"}},{"$f":"IF(#REF!=4,18,0)","v":{"$error":"#REF!"}},{"$f":"IF(#REF!=5,16,0)","v":{"$error":"#REF!"}},{"$f":"IF(#REF!=6,15,0)","v":{"$error":"#REF!"}},{"$f":"IF(#REF!=7,14,0)","v":{"$error":"#REF!"}},{"$f":"IF(#REF!=8,13,0)","v":{"$error":"#REF!"}},{"$f":"IF(#REF!=9,12,0)","v":{"$error":"#REF!"}},{"$f":"IF(#REF!=10,11,0)","v":{"$error":"#REF!"}},{"$f":"IF(#REF!=11,10,0)","v":{"$error":"#REF!"}},{"$f":"IF(#REF!=12,9,0)","v":{"$error":"#REF!"}},{"$f":"IF(#REF!=13,8,0)","v":{"$error":"#REF!"}},{"$f":"IF(#REF!=14,7,0)","v":{"$error":"#REF!"}},{"$f":"IF(#REF!=15,6,0)","v":{"$error":"#REF!"}},{"$f":"IF(#REF!=16,5,0)","v":{"$error":"#REF!"}},{"$f":"IF(#REF!=17,4,0)","v":{"$error":"#REF!"}},{"$f":"IF(#REF!=18,3,0)","v":{"$error":"#REF!"}},{"$f":"IF(#REF!=19,2,0)","v":{"$error":"#REF!"}},{"$f":"IF(#REF!=20,1,0)","v":{"$error":"#REF!"}},{"$f":"IF(#REF!>20,0,0)","v":{"$error":"#REF!"}},{"$f":"IF(#REF!=\"сх\",0,0)","v":{"$error":"#REF!"}},{"$error":"#REF!"},{"$f":"IF(#REF!=1,25,0)","v":{"$error":"#REF!"}},{"$f":"IF(#REF!=2,22,0)","v":{"$error":"#REF!"}},{"$f":"IF(#REF!=3,20,0)","v":{"$error":"#REF!"}},{"$f":"IF(#REF!=4,18,0)","v":{"$error":"#REF!"}},{"$f":"IF(#REF!=5,16,0)","v":{"$error":"#REF!"}},{"$f":"IF(#REF!=6,15,0)","v":{"$error":"#REF!"}},{"$f":"IF(#REF!=7,14,0)","v":{"$error":"#REF!"}},{"$f":"IF(#REF!=8,13,0)","v":{"$error":"#REF!"}},{"$f":"IF(#REF!=9,12,0)","v":{"$error":"#REF!"}},{"$f":"IF(#REF!=10,11,0)","v":{"$error":"#REF!"}},{"$f":"IF(#REF!=11,10,0)","v":{"$error":"#REF!"}},{"$f":"IF(#REF!=12,9,0)","v":{"$error":"#REF!"}},{"$f":"IF(#REF!=13,8,0)","v":{"$error":"#REF!"}},{"$f":"IF(#REF!=14,7,0)","v":{"$error":"#REF!"}},{"$f":"IF(#REF!=15,6,0)","v":{"$error":"#REF!"}},{"$f":"IF(#REF!=16,5,0)","v":{"$error":"#REF!"}},{"$f":"IF(#REF!=17,4,0)","v":{"$error":"#REF!"}},{"$f":"IF(#REF!=18,3,0)","v":{"$error":"#REF!"}},{"$f":"IF(#REF!=19,2,0)","v":{"$error":"#REF!"}},{"$f":"IF(#REF!=20,1,0)","v":{"$error":"#REF!"}},{"$f":"IF(#REF!>20,0,0)","v":{"$error":"#REF!"}},{"$f":"IF(#REF!=\"сх\",0,0)","v":{"$error":"#REF!"}},{"$error":"#REF!"},{"$f":"IF(#REF!=1,45,0)","v":{"$error":"#REF!"}},{"$f":"IF(#REF!=2,42,0)","v":{"$error":"#REF!"}},{"$f":"IF(#REF!=3,40,0)","v":{"$error":"#REF!"}},{"$f":"IF(#REF!=4,38,0)","v":{"$error":"#REF!"}},{"$f":"IF(#REF!=5,36,0)","v":{"$error":"#REF!"}},{"$f":"IF(#REF!=6,35,0)","v":{"$error":"#REF!"}},{"$f":"IF(#REF!=7,34,0)","v":{"$error":"#REF!"}},{"$f":"IF(#REF!=8,33,0)","v":{"$error":"#REF!"}},{"$f":"IF(#REF!=9,32,0)","v":{"$error":"#REF!"}},{"$f":"IF(#REF!=10,31,0)","v":{"$error":"#REF!"}},{"$f":"IF(#REF!=11,30,0)","v":{"$error":"#REF!"}},{"$f":"IF(#REF!=12,29,0)","v":{"$error":"#REF!"}},{"$f":"IF(#REF!=13,28,0)","v":{"$error":"#REF!"}},{"$f":"IF(#REF!=14,27,0)","v":{"$error":"#REF!"}},{"$f":"IF(#REF!=15,26,0)","v":{"$error":"#REF!"}},{"$f":"IF(#REF!=16,25,0)","v":{"$error":"#REF!"}},{"$f":"IF(#REF!=17,24,0)","v":{"$error":"#REF!"}},{"$f":"IF(#REF!=18,23,0)","v":{"$error":"#REF!"}},{"$f":"IF(#REF!=19,22,0)","v":{"$error":"#REF!"}},{"$f":"IF(#REF!=20,21,0)","v":{"$error":"#REF!"}},{"$f":"IF(#REF!=21,20,0)","v":{"$error":"#REF!"}},{"$f":"IF(#REF!=22,19,0)","v":{"$error":"#REF!"}},{"$f":"IF(#REF!=23,18,0)","v":{"$error":"#REF!"}},{"$f":"IF(#REF!=24,17,0)","v":{"$error":"#REF!"}},{"$f":"IF(#REF!=25,16,0)","v":{"$error":"#REF!"}},{"$f":"IF(#REF!=26,15,0)","v":{"$error":"#REF!"}},{"$f":"IF(#REF!=27,14,0)","v":{"$error":"#REF!"}},{"$f":"IF(#REF!=28,13,0)","v":{"$error":"#REF!"}},{"$f":"IF(#REF!=29,12,0)","v":{"$error":"#REF!"}},{"$f":"IF(#REF!=30,11,0)","v":{"$error":"#REF!"}},{"$f":"IF(#REF!=31,10,0)","v":{"$error":"#REF!"}},{"$f":"IF(#REF!=32,9,0)","v":{"$error":"#REF!"}},{"$f":"IF(#REF!=33,8,0)","v":{"$error":"#REF!"}},{"$f":"IF(#REF!=34,7,0)","v":{"$error":"#REF!"}},{"$f":"IF(#REF!=35,6,0)","v":{"$error":"#REF!"}},{"$f":"IF(#REF!=36,5,0)","v":{"$error":"#REF!"}},{"$f":"IF(#REF!=37,4,0)","v":{"$error":"#REF!"}},{"$f":"IF(#REF!=38,3,0)","v":{"$error":"#REF!"}},{"$f":"IF(#REF!=39,2,0)","v":{"$error":"#REF!"}},{"$f":"IF(#REF!=40,1,0)","v":{"$error":"#REF!"}},{"$f":"IF(#REF!>20,0,0)","v":{"$error":"#REF!"}},{"$f":"IF(#REF!=\"сх\",0,0)","v":{"$error":"#REF!"}},{"$error":"#REF!"},{"$f":"IF(#REF!=1,45,0)","v":{"$error":"#REF!"}},{"$f":"IF(#REF!=2,42,0)","v":{"$error":"#REF!"}},{"$f":"IF(#REF!=3,40,0)","v":{"$error":"#REF!"}},{"$f":"IF(#REF!=4,38,0)","v":{"$error":"#REF!"}},{"$f":"IF(#REF!=5,36,0)","v":{"$error":"#REF!"}},{"$f":"IF(#REF!=6,35,0)","v":{"$error":"#REF!"}},{"$f":"IF(#REF!=7,34,0)","v":{"$error":"#REF!"}},{"$f":"IF(#REF!=8,33,0)","v":{"$error":"#REF!"}},{"$f":"IF(#REF!=9,32,0)","v":{"$error":"#REF!"}},{"$f":"IF(#REF!=10,31,0)","v":{"$error":"#REF!"}},{"$f":"IF(#REF!=11,30,0)","v":{"$error":"#REF!"}},{"$f":"IF(#REF!=12,29,0)","v":{"$error":"#REF!"}},{"$f":"IF(#REF!=13,28,0)","v":{"$error":"#REF!"}},{"$f":"IF(#REF!=14,27,0)","v":{"$error":"#REF!"}},{"$f":"IF(#REF!=15,26,0)","v":{"$error":"#REF!"}},{"$f":"IF(#REF!=16,25,0)","v":{"$error":"#REF!"}},{"$f":"IF(#REF!=17,24,0)","v":{"$error":"#REF!"}},{"$f":"IF(#REF!=18,23,0)","v":{"$error":"#REF!"}},{"$f":"IF(#REF!=19,22,0)","v":{"$error":"#REF!"}},{"$f":"IF(#REF!=20,21,0)","v":{"$error":"#REF!"}},{"$f":"IF(#REF!=21,20,0)","v":{"$error":"#REF!"}},{"$f":"IF(#REF!=22,19,0)","v":{"$error":"#REF!"}},{"$f":"IF(#REF!=23,18,0)","v":{"$error":"#REF!"}},{"$f":"IF(#REF!=24,17,0)","v":{"$error":"#REF!"}},{"$f":"IF(#REF!=25,16,0)","v":{"$error":"#REF!"}},{"$f":"IF(#REF!=26,15,0)","v":{"$error":"#REF!"}},{"$f":"IF(#REF!=27,14,0)","v":{"$error":"#REF!"}},{"$f":"IF(#REF!=28,13,0)","v":{"$error":"#REF!"}},{"$f":"IF(#REF!=29,12,0)","v":{"$error":"#REF!"}},{"$f":"IF(#REF!=30,11,0)","v":{"$error":"#REF!"}},{"$f":"IF(#REF!=31,10,0)","v":{"$error":"#REF!"}},{"$f":"IF(#REF!=32,9,0)","v":{"$error":"#REF!"}},{"$f":"IF(#REF!=33,8,0)","v":{"$error":"#REF!"}},{"$f":"IF(#REF!=34,7,0)","v":{"$error":"#REF!"}},{"$f":"IF(#REF!=35,6,0)","v":{"$error":"#REF!"}},{"$f":"IF(#REF!=36,5,0)","v":{"$error":"#REF!"}},{"$f":"IF(#REF!=37,4,0)","v":{"$error":"#REF!"}},{"$f":"IF(#REF!=38,3,0)","v":{"$error":"#REF!"}},{"$f":"IF(#REF!=39,2,0)","v":{"$error":"#REF!"}},{"$f":"IF(#REF!=40,1,0)","v":{"$error":"#REF!"}},{"$f":"IF(#REF!>20,0,0)","v":{"$error":"#REF!"}},{"$f":"IF(#REF!=\"сх\",0,0)","v":{"$error":"#REF!"}},{"$error":"#REF!"},null,{"$f":"IF(#REF!=\"сх\",\"ноль\",IF(#REF!>0,#REF!,\"Ноль\"))","v":{"$error":"#REF!"}},{"$f":"IF(#REF!=\"сх\",\"ноль\",IF(#REF!>0,#REF!,\"Ноль\"))","v":{"$error":"#REF!"}},null,{"$error":"#REF!"},{"$f":"IF(O18=#REF!,IF(#REF!<#REF!,#REF!,FD18),#REF!)","v":{"$error":"#REF!"}},{"$f":"IF(O18=#REF!,IF(#REF!<#REF!,0,1))","v":{"$error":"#REF!"}},{"$f":"IF(AND(EY18>=21,EY18<>0),EY18,IF(O18<#REF!,\"СТОП\",EZ18+FA18))","v":{"$error":"#REF!"}},null,15,16,null,{"$f":"IF(#REF!=1,25,0)","v":{"$error":"#REF!"}},{"$f":"IF(#REF!=2,22,0)","v":{"$error":"#REF!"}},{"$f":"IF(#REF!=3,20,0)","v":{"$error":"#REF!"}},{"$f":"IF(#REF!=4,18,0)","v":{"$error":"#REF!"}},{"$f":"IF(#REF!=5,16,0)","v":{"$error":"#REF!"}},{"$f":"IF(#REF!=6,15,0)","v":{"$error":"#REF!"}},{"$f":"IF(#REF!=7,14,0)","v":{"$error":"#REF!"}},{"$f":"IF(#REF!=8,13,0)","v":{"$error":"#REF!"}},{"$f":"IF(#REF!=9,12,0)","v":{"$error":"#REF!"}},{"$f":"IF(#REF!=10,11,0)","v":{"$error":"#REF!"}},{"$f":"IF(#REF!=11,10,0)","v":{"$error":"#REF!"}},{"$f":"IF(#REF!=12,9,0)","v":{"$error":"#REF!"}},{"$f":"IF(#REF!=13,8,0)","v":{"$error":"#REF!"}},{"$f":"IF(#REF!=14,7,0)","v":{"$error":"#REF!"}},{"$f":"IF(#REF!=15,6,0)","v":{"$error":"#REF!"}},{"$f":"IF(#REF!=16,5,0)","v":{"$error":"#REF!"}},{"$f":"IF(#REF!=17,4,0)","v":{"$error":"#REF!"}},{"$f":"IF(#REF!=18,3,0)","v":{"$error":"#REF!"}},{"$f":"IF(#REF!=19,2,0)","v":{"$error":"#REF!"}},{"$f":"IF(#REF!=20,1,0)","v":{"$error":"#REF!"}},{"$f":"IF(#REF!>20,0,0)","v":{"$error":"#REF!"}},{"$f":"IF(#REF!=\"сх\",0,0)","v":{"$error":"#REF!"}},{"$error":"#REF!"},{"$f":"IF(#REF!=1,25,0)","v":{"$error":"#REF!"}},{"$f":"IF(#REF!=2,22,0)","v":{"$error":"#REF!"}},{"$f":"IF(#REF!=3,20,0)","v":{"$error":"#REF!"}},{"$f":"IF(#REF!=4,18,0)","v":{"$error":"#REF!"}},{"$f":"IF(#REF!=5,16,0)","v":{"$error":"#REF!"}},{"$f":"IF(#REF!=6,15,0)","v":{"$error":"#REF!"}},{"$f":"IF(#REF!=7,14,0)","v":{"$error":"#REF!"}},{"$f":"IF(#REF!=8,13,0)","v":{"$error":"#REF!"}},{"$f":"IF(#REF!=9,12,0)","v":{"$error":"#REF!"}},{"$f":"IF(#REF!=10,11,0)","v":{"$error":"#REF!"}},{"$f":"IF(#REF!=11,10,0)","v":{"$error":"#REF!"}},{"$f":"IF(#REF!=12,9,0)","v":{"$error":"#REF!"}},{"$f":"IF(#REF!=13,8,0)","v":{"$error":"#REF!"}},{"$f":"IF(#REF!=14,7,0)","v":{"$error":"#REF!"}},{"$f":"IF(#REF!=15,6,0)","v":{"$error":"#REF!"}},{"$f":"IF(#REF!=16,5,0)","v":{"$error":"#REF!"}},{"$f":"IF(#REF!=17,4,0)","v":{"$error":"#REF!"}},{"$f":"IF(#REF!=18,3,0)","v":{"$error":"#REF!"}},{"$f":"IF(#REF!=19,2,0)","v":{"$error":"#REF!"}},{"$f":"IF(#REF!=20,1,0)","v":{"$error":"#REF!"}},{"$f":"IF(#REF!>20,0,0)","v":{"$error":"#REF!"}},{"$f":"IF(#REF!=\"сх\",0,0)","v":{"$error":"#REF!"}},{"$error":"#REF!"},{"$f":"IF(#REF!=1,100,0)","v":{"$error":"#REF!"}},{"$f":"IF(#REF!=2,98,0)","v":{"$error":"#REF!"}},{"$f":"IF(#REF!=3,95,0)","v":{"$error":"#REF!"}},{"$f":"IF(#REF!=4,93,0)","v":{"$error":"#REF!"}},{"$f":"IF(#REF!=5,90,0)","v":{"$error":"#REF!"}},{"$f":"IF(#REF!=6,88,0)","v":{"$error":"#REF!"}},{"$f":"IF(#REF!=7,85,0)","v":{"$error":"#REF!"}},{"$f":"IF(#REF!=8,83,0)","v":{"$error":"#REF!"}},{"$f":"IF(#REF!=9,80,0)","v":{"$error":"#REF!"}},{"$f":"IF(#REF!=10,78,0)","v":{"$error":"#REF!"}},{"$f":"IF(#REF!=11,75,0)","v":{"$error":"#REF!"}},{"$f":"IF(#REF!=12,73,0)","v":{"$error":"#REF!"}},{"$f":"IF(#REF!=13,70,0)","v":{"$error":"#REF!"}},{"$f":"IF(#REF!=14,68,0)","v":{"$error":"#REF!"}},{"$f":"IF(#REF!=15,65,0)","v":{"$error":"#REF!"}},{"$f":"IF(#REF!=16,63,0)","v":{"$error":"#REF!"}},{"$f":"IF(#REF!=17,60,0)","v":{"$error":"#REF!"}},{"$f":"IF(#REF!=18,58,0)","v":{"$error":"#REF!"}},{"$f":"IF(#REF!=19,55,0)","v":{"$error":"#REF!"}},{"$f":"IF(#REF!=20,53,0)","v":{"$error":"#REF!"}},{"$f":"IF(#REF!>20,0,0)","v":{"$error":"#REF!"}},{"$f":"IF(#REF!=\"сх\",0,0)","v":{"$error":"#REF!"}},{"$error":"#REF!"},{"$f":"IF(#REF!=1,100,0)","v":{"$error":"#REF!"}},{"$f":"IF(#REF!=2,98,0)","v":{"$error":"#REF!"}},{"$f":"IF(#REF!=3,95,0)","v":{"$error":"#REF!"}},{"$f":"IF(#REF!=4,93,0)","v":{"$error":"#REF!"}},{"$f":"IF(#REF!=5,90,0)","v":{"$error":"#REF!"}},{"$f":"IF(#REF!=6,88,0)","v":{"$error":"#REF!"}},{"$f":"IF(#REF!=7,85,0)","v":{"$error":"#REF!"}},{"$f":"IF(#REF!=8,83,0)","v":{"$error":"#REF!"}},{"$f":"IF(#REF!=9,80,0)","v":{"$error":"#REF!"}},{"$f":"IF(#REF!=10,78,0)","v":{"$error":"#REF!"}},{"$f":"IF(#REF!=11,75,0)","v":{"$error":"#REF!"}},{"$f":"IF(#REF!=12,73,0)","v":{"$error":"#REF!"}},{"$f":"IF(#REF!=13,70,0)","v":{"$error":"#REF!"}},{"$f":"IF(#REF!=14,68,0)","v":{"$error":"#REF!"}},{"$f":"IF(#REF!=15,65,0)","v":{"$error":"#REF!"}},{"$f":"IF(#REF!=16,63,0)","v":{"$error":"#REF!"}},{"$f":"IF(#REF!=17,60,0)","v":{"$error":"#REF!"}},{"$f":"IF(#REF!=18,58,0)","v":{"$error":"#REF!"}},{"$f":"IF(#REF!=19,55,0)","v":{"$error":"#REF!"}},{"$f":"IF(#REF!=20,53,0)","v":{"$error":"#REF!"}},{"$f":"IF(#REF!>20,0,0)","v":{"$error":"#REF!"}},{"$f":"IF(#REF!=\"сх\",0,0)","v":{"$error":"#REF!"}},{"$error":"#REF!"}]
[10,31.2,62,"Лавров Кирилл","I","г. Новый Уренгой, Ямало-Ненецкий АО","СТК \"Факел\"","LYNX",3,20,"сх",0,5,16,36,{"$f":"#REF!+#REF!","v":{"$error":"#REF!"}},null,null,{"$f":"IF(#REF!=1,25,0)","v":{"$error":"#REF!"}},{"$f":"IF(#REF!=2,22,0)","v":{"$error":"#REF!"}},{"$f":"IF(#REF!=3,20,0)","v":{"$error":"#REF!"}},{"$f":"IF(#REF!=4,18,0)","v":{"$error":"#REF!"}},{"$f":"IF(#REF!=5,16,0)","v":{"$error":"#REF!"}},{"$f":"IF(#REF!=6,15,0)","v":{"$error":"#REF!"}},{"$f":"IF(#REF!=7,14,0)","v":{"$error":"#REF!"}},{"$f":"IF(#REF!=8,13,0)","v":{"$error":"#REF!"}},{"$f":"IF(#REF!=9,12,0)","v":{"$error":"#REF!"}},{"$f":"IF(#REF!=10,11,0)","v":{"$error":"#REF!"}},{"$f":"IF(#REF!=11,10,0)","v":{"$error":"#REF!"}},{"$f":"IF(#REF!=12,9,0)","v":{"$error":"#REF!"}},{"$f":"IF(#REF!=13,8,0)","v":{"$error":"#REF!"}},{"$f":"IF(#REF!=14,7,0)","v":{"$error":"#REF!"}},{"$f":"IF(#REF!=15,6,0)","v":{"$error":"#REF!"}},{"$f":"IF(#REF!=16,5,0)","v":{"$error":"#REF!"}},{"$f":"IF(#REF!=17,4,0)","v":{"$error":"#REF!"}},{"$f":"IF(#REF!=18,3,0)","v":{"$error":"#REF!"}},{"$f":"IF(#REF!=19,2,0)","v":{"$error":"#REF!"}},{"$f":"IF(#REF!=20,1,0)","v":{"$error":"#REF!"}},{"$f":"IF(#REF!>20,0,0)","v":{"$error":"#REF!"}},{"$f":"IF(#REF!=\"сх\",0,0)","v":{"$error":"#REF!"}},{"$error":"#REF!"},{"$f":"IF(#REF!=1,25,0)","v":{"$error":"#REF!"}},{"$f":"IF(#REF!=2,22,0)","v":{"$error":"#REF!"}},{"$f":"IF(#REF!=3,20,0)","v":{"$error":"#REF!"}},{"$f":"IF(#REF!=4,18,0)","v":{"$error":"#REF!"}},{"$f":"IF(#REF!=5,16,0)","v":{"$error":"#REF!"}},{"$f":"IF(#REF!=6,15,0)","v":{"$error":"#REF!"}},{"$f":"IF(#REF!=7,14,0)","v":{"$error":"#REF!"}},{"$f":"IF(#REF!=8,13,0)","v":{"$error":"#REF!"}},{"$f":"IF(#REF!=9,12,0)","v":{"$error":"#REF!"}},{"$f":"IF(#REF!=10,11,0)","v":{"$error":"#REF!"}},{"$f":"IF(#REF!=11,10,0)","v":{"$error":"#REF!"}},{"$f":"IF(#REF!=12,9,0)","v":{"$error":"#REF!"}},{"$f":"IF(#REF!=13,8,0)","v":{"$error":"#REF!"}},{"$f":"IF(#REF!=14,7,0)","v":{"$error":"#REF!"}},{"$f":"IF(#REF!=15,6,0)","v":{"$error":"#REF!"}},{"$f":"IF(#REF!=16,5,0)","v":{"$error":"#REF!"}},{"$f":"IF(#REF!=17,4,0)","v":{"$error":"#REF!"}},{"$f":"IF(#REF!=18,3,0)","v":{"$error":"#REF!"}},{"$f":"IF(#REF!=19,2,0)","v":{"$error":"#REF!"}},{"$f":"IF(#REF!=20,1,0)","v":{"$error":"#REF!"}},{"$f":"IF(#REF!>20,0,0)","v":{"$error":"#REF!"}},{"$f":"IF(#REF!=\"сх\",0,0)","v":{"$error":"#REF!"}},{"$error":"#REF!"},{"$f":"IF(#REF!=1,45,0)","v":{"$error":"#REF!"}},{"$f":"IF(#REF!=2,42,0)","v":{"$error":"#REF!"}},{"$f":"IF(#REF!=3,40,0)","v":{"$error":"#REF!"}},{"$f":"IF(#REF!=4,38,0)","v":{"$error":"#REF!"}},{"$f":"IF(#REF!=5,36,0)","v":{"$error":"#REF!"}},{"$f":"IF(#REF!=6,35,0)","v":{"$error":"#REF!"}},{"$f":"IF(#REF!=7,34,0)","v":{"$error":"#REF!"}},{"$f":"IF(#REF!=8,33,0)","v":{"$error":"#REF!"}},{"$f":"IF(#REF!=9,32,0)","v":{"$error":"#REF!"}},{"$f":"IF(#REF!=10,31,0)","v":{"$error":"#REF!"}},{"$f":"IF(#REF!=11,30,0)","v":{"$error":"#REF!"}},{"$f":"IF(#REF!=12,29,0)","v":{"$error":"#REF!"}},{"$f":"IF(#REF!=13,28,0)","v":{"$error":"#REF!"}},{"$f":"IF(#REF!=14,27,0)","v":{"$error":"#REF!"}},{"$f":"IF(#REF!=15,26,0)","v":{"$error":"#REF!"}},{"$f":"IF(#REF!=16,25,0)","v":{"$error":"#REF!"}},{"$f":"IF(#REF!=17,24,0)","v":{"$error":"#REF!"}},{"$f":"IF(#REF!=18,23,0)","v":{"$error":"#REF!"}},{"$f":"IF(#REF!=19,22,0)","v":{"$error":"#REF!"}},{"$f":"IF(#REF!=20,21,0)","v":{"$error":"#REF!"}},{"$f":"IF(#REF!=21,20,0)","v":{"$error":"#REF!"}},{"$f":"IF(#REF!=22,19,0)","v":{"$error":"#REF!"}},{"$f":"IF(#REF!=23,18,0)","v":{"$error":"#REF!"}},{"$f":"IF(#REF!=24,17,0)","v":{"$error":"#REF!"}},{"$f":"IF(#REF!=25,16,0)","v":{"$error":"#REF!"}},{"$f":"IF(#REF!=26,15,0)","v":{"$error":"#REF!"}},{"$f":"IF(#REF!=27,14,0)","v":{"$error":"#REF!"}},{"$f":"IF(#REF!=28,13,0)","v":{"$error":"#REF!"}},{"$f":"IF(#REF!=29,12,0)","v":{"$error":"#REF!"}},{"$f":"IF(#REF!=30,11,0)","v":{"$error":"#REF!"}},{"$f":"IF(#REF!=31,10,0)","v":{"$error":"#REF!"}},{"$f":"IF(#REF!=32,9,0)","v":{"$error":"#REF!"}},{"$f":"IF(#REF!=33,8,0)","v":{"$error":"#REF!"}},{"$f":"IF(#REF!=34,7,0)","v":{"$error":"#REF!"}},{"$f":"IF(#REF!=35,6,0)","v":{"$error":"#REF!"}},{"$f":"IF(#REF!=36,5,0)","v":{"$error":"#REF!"}},{"$f":"IF(#REF!=37,4,0)","v":{"$error":"#REF!"}},{"$f":"IF(#REF!=38,3,0)","v":{"$error":"#REF!"}},{"$f":"IF(#REF!=39,2,0)","v":{"$error":"#REF!"}},{"$f":"IF(#REF!=40,1,0)","v":{"$error":"#REF!"}},{"$f":"IF(#REF!>20,0,0)","v":{"$error":"#REF!"}},{"$f":"IF(#REF!=\"сх\",0,0)","v":{"$error":"#REF!"}},{"$error":"#REF!"},{"$f":"IF(#REF!=1,45,0)","v":{"$error":"#REF!"}},{"$f":"IF(#REF!=2,42,0)","v":{"$error":"#REF!"}},{"$f":"IF(#REF!=3,40,0)","v":{"$error":"#REF!"}},{"$f":"IF(#REF!=4,38,0)","v":{"$error":"#REF!"}},{"$f":"IF(#REF!=5,36,0)","v":{"$error":"#REF!"}},{"$f":"IF(#REF!=6,35,0)","v":{"$error":"#REF!"}},{"$f":"IF(#REF!=7,34,0)","v":{"$error":"#REF!"}},{"$f":"IF(#REF!=8,33,0)","v":{"$error":"#REF!"}},{"$f":"IF(#REF!=9,32,0)","v":{"$error":"#REF!"}},{"$f":"IF(#REF!=10,31,0)","v":{"$error":"#REF!"}},{"$f":"IF(#REF!=11,30,0)","v":{"$error":"#REF!"}},{"$f":"IF(#REF!=12,29,0)","v":{"$error":"#REF!"}},{"$f":"IF(#REF!=13,28,0)","v":{"$error":"#REF!"}},{"$f":"IF(#REF!=14,27,0)","v":{"$error":"#REF!"}},{"$f":"IF(#REF!=15,26,0)","v":{"$error":"#REF!"}},{"$f":"IF(#REF!=16,25,0)","v":{"$error":"#REF!"}},{"$f":"IF(#REF!=17,24,0)","v":{"$error":"#REF!"}},{"$f":"IF(#REF!=18,23,0)","v":{"$error":"#REF!"}},{"$f":"IF(#REF!=19,22,0)","v":{"$error":"#REF!"}},{"$f":"IF(#REF!=20,21,0)","v":{"$error":"#REF!"}},{"$f":"IF(#REF!=21,20,0)","v":{"$error":"#REF!"}},{"$f":"IF(#REF!=22,19,0)","v":{"$error":"#REF!"}},{"$f":"IF(#REF!=23,18,0)","v":{"$error":"#REF!"}},{"$f":"IF(#REF!=24,17,0)","v":{"$error":"#REF!"}},{"$f":"IF(#REF!=25,16,0)","v":{"$error":"#REF!"}},{"$f":"IF(#REF!=26,15,0)","v":{"$error":"#REF!"}},{"$f":"IF(#REF!=27,14,0)","v":{"$error":"#REF!"}},{"$f":"IF(#REF!=28,13,0)","v":{"$error":"#REF!"}},{"$f":"IF(#REF!=29,12,0)","v":{"$error":"#REF!"}},{"$f":"IF(#REF!=30,11,0)","v":{"$error":"#REF!"}},{"$f":"IF(#REF!=31,10,0)","v":{"$error":"#REF!"}},{"$f":"IF(#REF!=32,9,0)","v":{"$error":"#REF!"}},{"$f":"IF(#REF!=33,8,0)","v":{"$error":"#REF!"}},{"$f":"IF(#REF!=34,7,0)","v":{"$error":"#REF!"}},{"$f":"IF(#REF!=35,6,0)","v":{"$error":"#REF!"}},{"$f":"IF(#REF!=36,5,0)","v":{"$error":"#REF!"}},{"$f":"IF(#REF!=37,4,0)","v":{"$error":"#REF!"}},{"$f":"IF(#REF!=38,3,0)","v":{"$error":"#REF!"}},{"$f":"IF(#REF!=39,2,0)","v":{"$error":"#REF!"}},{"$f":"IF(#REF!=40,1,0)","v":{"$error":"#REF!"}},{"$f":"IF(#REF!>20,0,0)","v":{"$error":"#REF!"}},{"$f":"IF(#REF!=\"сх\",0,0)","v":{"$error":"#REF!"}},{"$error":"#REF!"},null,{"$f":"IF(#REF!=\"сх\",\"ноль\",IF(#REF!>0,#REF!,\"Ноль\"))","v":{"$error":"#REF!"}},{"$f":"IF(#REF!=\"сх\",\"ноль\",IF(#REF!>0,#REF!,\"Ноль\"))","v":{"$error":"#REF!"}},null,{"$error":"#REF!"},{"$f":"IF(O19=#REF!,IF(#REF!<#REF!,#REF!,FD19),#REF!)","v":{"$error":"#REF!"}},{"$f":"IF(O19=#REF!,IF(#REF!<#REF!,0,1))","v":{"$error":"#REF!"}},{"$f":"IF(AND(EY19>=21,EY19<>0),EY19,IF(O19<#REF!,\"СТОП\",EZ19+FA19))","v":{"$error":"#REF!"}},null,15,16,null,{"$f":"IF(#REF!=1,25,0)","v":{"$error":"#REF!"}},{"$f":"IF(#REF!=2,22,0)","v":{"$error":"#REF!"}},{"$f":"IF(#REF!=3,20,0)","v":{"$error":"#REF!"}},{"$f":"IF(#REF!=4,18,0)","v":{"$error":"#REF!"}},{"$f":"IF(#REF!=5,16,0)","v":{"$error":"#REF!"}},{"$f":"IF(#REF!=6,15,0)","v":{"$error":"#REF!"}},{"$f":"IF(#REF!=7,14,0)","v":{"$error":"#REF!"}},{"$f":"IF(#REF!=8,13,0)","v":{"$error":"#REF!"}},{"$f":"IF(#REF!=9,12,0)","v":{"$error":"#REF!"}},{"$f":"IF(#REF!=10,11,0)","v":{"$error":"#REF!"}},{"$f":"IF(#REF!=11,10,0)","v":{"$error":"#REF!"}},{"$f":"IF(#REF!=12,9,0)","v":{"$error":"#REF!"}},{"$f":"IF(#REF!=13,8,0)","v":{"$error":"#REF!"}},{"$f":"IF(#REF!=14,7,0)","v":{"$error":"#REF!"}},{"$f":"IF(#REF!=15,6,0)","v":{"$error":"#REF!"}},{"$f":"IF(#REF!=16,5,0)","v":{"$error":"#REF!"}},{"$f":"IF(#REF!=17,4,0)","v":{"$error":"#REF!"}},{"$f":"IF(#REF!=18,3,0)","v":{"$error":"#REF!"}},{"$f":"IF(#REF!=19,2,0)","v":{"$error":"#REF!"}},{"$f":"IF(#REF!=20,1,0)","v":{"$error":"#REF!"}},{"$f":"IF(#REF!>20,0,0)","v":{"$error":"#REF!"}},{"$f":"IF(#REF!=\"сх\",0,0)","v":{"$error":"#REF!"}},{"$error":"#REF!"},{"$f":"IF(#REF!=1,25,0)","v":{"$error":"#REF!"}},{"$f":"IF(#REF!=2,22,0)","v":{"$error":"#REF!"}},{"$f":"IF(#REF!=3,20,0)","v":{"$error":"#REF!"}},{"$f":"IF(#REF!=4,18,0)","v":{"$error":"#REF!"}},{"$f":"IF(#REF!=5,16,0)","v":{"$error":"#REF!"}},{"$f":"IF(#REF!=6,15,0)","v":{"$error":"#REF!"}},{"$f":"IF(#REF!=7,14,0)","v":{"$error":"#REF!"}},{"$f":"IF(#REF!=8,13,0)","v":{"$error":"#REF!"}},{"$f":"IF(#REF!=9,12,0)","v":{"$error":"#REF!"}},{"$f":"IF(#REF!=10,11,0)","v":{"$error":"#REF!"}},{"$f":"IF(#REF!=11,10,0)","v":{"$error":"#REF!"}},{"$f":"IF(#REF!=12,9,0)","v":{"$error":"#REF!"}},{"$f":"IF(#REF!=13,8,0)","v":{"$error":"#REF!"}},{"$f":"IF(#REF!=14,7,0)","v":{"$error":"#REF!"}},{"$f":"IF(#REF!=15,6,0)","v":{"$error":"#REF!"}},{"$f":"IF(#REF!=16,5,0)","v":{"$error":"#REF!"}},{"$f":"IF(#REF!=17,4,0)","v":{"$error":"#REF!"}},{"$f":"IF(#REF!=18,3,0)","v":{"$error":"#REF!"}},{"$f":"IF(#REF!=19,2,0)","v":{"$error":"#REF!"}},{"$f":"IF(#REF!=20,1,0)","v":{"$error":"#REF!"}},{"$f":"IF(#REF!>20,0,0)","v":{"$error":"#REF!"}},{"$f":"IF(#REF!=\"сх\",0,0)","v":{"$error":"#REF!"}},{"$error":"#REF!"},{"$f":"IF(#REF!=1,100,0)","v":{"$error":"#REF!"}},{"$f":"IF(#REF!=2,98,0)","v":{"$error":"#REF!"}},{"$f":"IF(#REF!=3,95,0)","v":{"$error":"#REF!"}},{"$f":"IF(#REF!=4,93,0)","v":{"$error":"#REF!"}},{"$f":"IF(#REF!=5,90,0)","v":{"$error":"#REF!"}},{"$f":"IF(#REF!=6,88,0)","v":{"$error":"#REF!"}},{"$f":"IF(#REF!=7,85,0)","v":{"$error":"#REF!"}},{"$f":"IF(#REF!=8,83,0)","v":{"$error":"#REF!"}},{"$f":"IF(#REF!=9,80,0)","v":{"$error":"#REF!"}},{"$f":"IF(#REF!=10,78,0)","v":{"$error":"#REF!"}},{"$f":"IF(#REF!=11,75,0)","v":{"$error":"#REF!"}},{"$f":"IF(#REF!=12,73,0)","v":{"$error":"#REF!"}},{"$f":"IF(#REF!=13,70,0)","v":{"$error":"#REF!"}},{"$f":"IF(#REF!=14,68,0)","v":{"$error":"#REF!"}},{"$f":"IF(#REF!=15,65,0)","v":{"$error":"#REF!"}},{"$f":"IF(#REF!=16,63,0)","v":{"$error":"#REF!"}},{"$f":"IF(#REF!=17,60,0)","v":{"$error":"#REF!"}},{"$f":"IF(#REF!=18,58,0)","v":{"$error":"#REF!"}},{"$f":"IF(#REF!=19,55,0)","v":{"$error":"#REF!"}},{"$f":"IF(#REF!=20,53,0)","v":{"$error":"#REF!"}},{"$f":"IF(#REF!>20,0,0)","v":{"$error":"#REF!"}},{"$f":"IF(#REF!=\"сх\",0,0)","v":{"$error":"#REF!"}},{"$error":"#REF!"},{"$f":"IF(#REF!=1,100,0)","v":{"$error":"#REF!"}},{"$f":"IF(#REF!=2,98,0)","v":{"$error":"#REF!"}},{"$f":"IF(#REF!=3,95,0)","v":{"$error":"#REF!"}},{"$f":"IF(#REF!=4,93,0)","v":{"$error":"#REF!"}},{"$f":"IF(#REF!=5,90,0)","v":{"$error":"#REF!"}},{"$f":"IF(#REF!=6,88,0)","v":{"$error":"#REF!"}},{"$f":"IF(#REF!=7,85,0)","v":{"$error":"#REF!"}},{"$f":"IF(#REF!=8,83,0)","v":{"$error":"#REF!"}},{"$f":"IF(#REF!=9,80,0)","v":{"$error":"#REF!"}},{"$f":"IF(#REF!=10,78,0)","v":{"$error":"#REF!"}},{"$f":"IF(#REF!=11,75,0)","v":{"$error":"#REF!"}},{"$f":"IF(#REF!=12,73,0)","v":{"$error":"#REF!"}},{"$f":"IF(#REF!=13,70,0)","v":{"$error":"#REF!"}},{"$f":"IF(#REF!=14,68,0)","v":{"$error":"#REF!"}},{"$f":"IF(#REF!=15,65,0)","v":{"$error":"#REF!"}},{"$f":"IF(#REF!=16,63,0)","v":{"$error":"#REF!"}},{"$f":"IF(#REF!=17,60,0)","v":{"$error":"#REF!"}},{"$f":"IF(#REF!=18,58,0)","v":{"$error":"#REF!"}},{"$f":"IF(#REF!=19,55,0)","v":{"$error":"#REF!"}},{"$f":"IF(#REF!=20,53,0)","v":{"$error":"#REF!"}},{"$f":"IF(#REF!>20,0,0)","v":{"$error":"#REF!"}},{"$f":"IF(#REF!=\"сх\",0,0)","v":{"$error":"#REF!"}},{"$error":"#REF!"}]
[11,30.4,51,"Перфильев Сергей","II","г. Новый Уренгой, Ямало-Ненецкий АО","СТК \"Факел\"","LYNX",9,12,10,11,13,8,31,{"$f":"#REF!+#REF!","v":{"$error":"#REF!"}},null,null,{"$f":"IF(#REF!=1,25,0)","v":{"$error":"#REF!"}},{"$f":"IF(#REF!=2,22,0)","v":{"$error":"#REF!"}},{"$f":"IF(#REF!=3,20,0)","v":{"$error":"#REF!"}},{"$f":"IF(#REF!=4,18,0)","v":{"$error":"#REF!"}},{"$f":"IF(#REF!=5,16,0)","v":{"$error":"#REF!"}},{"$f":"IF(#REF!=6,15,0)","v":{"$error":"#REF!"}},{"$f":"IF(#REF!=7,14,0)","v":{"$error":"#REF!"}},{"$f":"IF(#REF!=8,13,0)","v":{"$error":"#REF!"}},{"$f":"IF(#REF!=9,12,0)","v":{"$error":"#REF!"}},{"$f":"IF(#REF!=10,11,0)","v":{"$error":"#REF!"}},{"$f":"IF(#REF!=11,10,0)","v":{"$error":"#REF!"}},{"$f":"IF(#REF!=12,9,0)","v":{"$error":"#REF!"}},{"$f":"IF(#REF!=13,8,0)","v":{"$error":"#REF!"}},{"$f":"IF(#REF!=14,7,0)","v":{"$error":"#REF!"}},{"$f":"IF(#REF!=15,6,0)","v":{"$error":"#REF!"}},{"$f":"IF(#REF!=16,5,0)","v":{"$error":"#REF!"}},{"$f":"IF(#REF!=17,4,0)","v":{"$error":"#REF!"}},{"$f":"IF(#REF!=18,3,0)","v":{"$error":"#REF!"}},{"$f":"IF(#REF!=19,2,0)","v":{"$error":"#REF!"}},{"$f":"IF(#REF!=20,1,0)","v":{"$error":"#REF!"}},{"$f":"IF(#REF!>20,0,0)","v":{"$error":"#REF!"}},{"$f":"IF(#REF!=\"сх\",0,0)","v":{"$error":"#REF!"}},{"$error":"#REF!"},{"$f":"IF(#REF!=1,25,0)","v":{"$error":"#REF!"}},{"$f":"IF(#REF!=2,22,0)","v":{"$error":"#REF!"}},{"$f":"IF(#REF!=3,20,0)","v":{"$error":"#REF!"}},{"$f":"IF(#REF!=4,18,0)","v":{"$error":"#REF!"}},{"$f":"IF(#REF!=5,16,0)","v":{"$error":"#REF!"}},{"$f":"IF(#REF!=6,15,0)","v":{"$error":"#REF!"}},{"$f":"IF(#REF!=7,14,0)","v":{"$error":"#REF!"}},{"$f":"IF(#REF!=8,13,0)","v":{"$error":"#REF!"}},{"$f":"IF(#REF!=9,12,0)","v":{"$error":"#REF!"}},{"$f":"IF(#REF!=10,11,0)","v":{"$error":"#REF!"}},{"$f":"IF(#REF!=11,10,0)","v":{"$error":"#REF!"}},{"$f":"IF(#REF!=12,9,0)","v":{"$error":"#REF!"}},{"$f":"IF(#REF!=13,8,0)","v":{"$error":"#REF!"}},{"$f":"IF(#REF!=14,7,0)","v":{"$error":"#REF!"}},{"$f":"IF(#REF!=15,6,0)","v":{"$error":"#REF!"}},{"$f":"IF(#REF!=16,5,0)","v":{"$error":"#REF!"}},{"$f":"IF(#REF!=17,4,0)","v":{"$error":"#REF!"}},{"$f":"IF(#REF!=18,3,0)","v":{"$error":"#REF!"}},{"$f":"IF(#REF!=19,2,0)","v":{"$error":"#REF!"}},{"$f":"IF(#REF!=20,1,0)","v":{"$error":"#REF!"}},{"$f":"IF(#REF!>20,0,0)","v":{"$error":"#REF!"}},{"$f":"IF(#REF!=\"сх\",0,0)","v":{"$error":"#REF!"}},{"$error":"#REF!"},{"$f":"IF(#REF!=1,45,0)","v":{"$error":"#REF!"}},{"$f":"IF(#REF!=2,42,0)","v":{"$error":"#REF!"}},{"$f":"IF(#REF!=3,40,0)","v":{"$error":"#REF!"}},{"$f":"IF(#REF!=4,38,0)","v":{"$error":"#REF!"}},{"$f":"IF(#REF!=5,36,0)","v":{"$error":"#REF!"}},{"$f":"IF(#REF!=6,35,0)","v":{"$error":"#REF!"}},{"$f":"IF(#REF!=7,34,0)","v":{"$error":"#REF!"}},{"$f":"IF(#REF!=8,33,0)","v":{"$error":"#REF!"}},{"$f":"IF(#REF!=9,32,0)","v":{"$error":"#REF!"}},{"$f":"IF(#REF!=10,31,0)","v":{"$error":"#REF!"}},{"$f":"IF(#REF!=11,30,0)","v":{"$error":"#REF!"}},{"$f":"IF(#REF!=12,29,0)","v":{"$error":"#REF!"}},{"$f":"IF(#REF!=13,28,0)","v":{"$error":"#REF!"}},{"$f":"IF(#REF!=14,27,0)","v":{"$error":"#REF!"}},{"$f":"IF(#REF!=15,26,0)","v":{"$error":"#REF!"}},{"$f":"IF(#REF!=16,25,0)","v":{"$error":"#REF!"}},{"$f":"IF(#REF!=17,24,0)","v":{"$error":"#REF!"}},{"$f":"IF(#REF!=18,23,0)","v":{"$error":"#REF!"}},{"$f":"IF(#REF!=19,22,0)","v":{"$error":"#REF!"}},{"$f":"IF(#REF!=20,21,0)","v":{"$error":"#REF!"}},{"$f":"IF(#REF!=21,20,0)","v":{"$error":"#REF!"}},{"$f":"IF(#REF!=22,19,0)","v":{"$error":"#REF!"}},{"$f":"IF(#REF!=23,18,0)","v":{"$error":"#REF!"}},{"$f":"IF(#REF!=24,17,0)","v":{"$error":"#REF!"}},{"$f":"IF(#REF!=25,16,0)","v":{"$error":"#REF!"}},{"$f":"IF(#REF!=26,15,0)","v":{"$error":"#REF!"}},{"$f":"IF(#REF!=27,14,0)","v":{"$error":"#REF!"}},{"$f":"IF(#REF!=28,13,0)","v":{"$error":"#REF!"}},{"$f":"IF(#REF!=29,12,0)","v":{"$error":"#REF!"}},{"$f":"IF(#REF!=30,11,0)","v":{"$error":"#REF!"}},{"$f":"IF(#REF!=31,10,0)","v":{"$error":"#REF!"}},{"$f":"IF(#REF!=32,9,0)","v":{"$error":"#REF!"}},{"$f":"IF(#REF!=33,8,0)","v":{"$error":"#REF!"}},{"$f":"IF(#REF!=34,7,0)","v":{"$error":"#REF!"}},{"$f":"IF(#REF!=35,6,0)","v":{"$error":"#REF!"}},{"$f":"IF(#REF!=36,5,0)","v":{"$error":"#REF!"}},{"$f":"IF(#REF!=37,4,0)","v":{"$error":"#REF!"}},{"$f":"IF(#REF!=38,3,0)","v":{"$error":"#REF!"}},{"$f":"IF(#REF!=39,2,0)","v":{"$error":"#REF!"}},{"$f":"IF(#REF!=40,1,0)","v":{"$error":"#REF!"}},{"$f":"IF(#REF!>20,0,0)","v":{"$error":"#REF!"}},{"$f":"IF(#REF!=\"сх\",0,0)","v":{"$error":"#REF!"}},{"$error":"#REF!"},{"$f":"IF(#REF!=1,45,0)","v":{"$error":"#REF!"}},{"$f":"IF(#REF!=2,42,0)","v":{"$error":"#REF!"}},{"$f":"IF(#REF!=3,40,0)","v":{"$error":"#REF!"}},{"$f":"IF(#REF!=4,38,0)","v":{"$error":"#REF!"}},{"$f":"IF(#REF!=5,36,0)","v":{"$error":"#REF!"}},{"$f":"IF(#REF!=6,35,0)","v":{"$error":"#REF!"}},{"$f":"IF(#REF!=7,34,0)","v":{"$error":"#REF!"}},{"$f":"IF(#REF!=8,33,0)","v":{"$error":"#REF!"}},{"$f":"IF(#REF!=9,32,0)","v":{"$error":"#REF!"}},{"$f":"IF(#REF!=10,31,0)","v":{"$error":"#REF!"}},{"$f":"IF(#REF!=11,30,0)","v":{"$error":"#REF!"}},{"$f":"IF(#REF!=12,29,0)","v":{"$error":"#REF!"}},{"$f":"IF(#REF!=13,28,0)","v":{"$error":"#REF!"}},{"$f":"IF(#REF!=14,27,0)","v":{"$error":"#REF!"}},{"$f":"IF(#REF!=15,26,0)","v":{"$error":"#REF!"}},{"$f":"IF(#REF!=16,25,0)","v":{"$error":"#REF!"}},{"$f":"IF(#REF!=17,24,0)","v":{"$error":"#REF!"}},{"$f":"IF(#REF!=18,23,0)","v":{"$error":"#REF!"}},{"$f":"IF(#REF!=19,22,0)","v":{"$error":"#REF!"}},{"$f":"IF(#REF!=20,21,0)","v":{"$error":"#REF!"}},{"$f":"IF(#REF!=21,20,0)","v":{"$error":"#REF!"}},{"$f":"IF(#REF!=22,19,0)","v":{"$error":"#REF!"}},{"$f":"IF(#REF!=23,18,0)","v":{"$error":"#REF!"}},{"$f":"IF(#REF!=24,17,0)","v":{"$error":"#REF!"}},{"$f":"IF(#REF!=25,16,0)","v":{"$error":"#REF!"}},{"$f":"IF(#REF!=26,15,0)","v":{"$error":"#REF!"}},{"$f":"IF(#REF!=27,14,0)","v":{"$error":"#REF!"}},{"$f":"IF(#REF!=28,13,0)","v":{"$error":"#REF!"}},{"$f":"IF(#REF!=29,12,0)","v":{"$error":"#REF!"}},{"$f":"IF(#REF!=30,11,0)","v":{"$error":"#REF!"}},{"$f":"IF(#REF!=31,10,0)","v":{"$error":"#REF!"}},{"$f":"IF(#REF!=32,9,0)","v":{"$error":"#REF!"}},{"$f":"IF(#REF!=33,8,0)","v":{"$error":"#REF!"}},{"$f":"IF(#REF!=34,7,0)","v":{"$error":"#REF!"}},{"$f":"IF(#REF!=35,6,0)","v":{"$error":"#REF!"}},{"$f":"IF(#REF!=36,5,0)","v":{"$error":"#REF!"}},{"$f":"IF(#REF!=37,4,0)","v":{"$error":"#REF!"}},{"$f":"IF(#REF!=38,3,0)","v":{"$error":"#REF!"}},{"$f":"IF(#REF!=39,2,0)","v":{"$error":"#REF!"}},{"$f":"IF(#REF!=40,1,0)","v":{"$error":"#REF!"}},{"$f":"IF(#REF!>20,0,0)","v":{"$error":"#REF!"}},{"$f":"IF(#REF!=\"сх\",0,0)","v":{"$error":"#REF!"}},{"$error":"#REF!"},null,{"$f":"IF(#REF!=\"сх\",\"ноль\",IF(#REF!>0,#REF!,\"Ноль\"))","v":{"$error":"#REF!"}},{"$f":"IF(#REF!=\"сх\",\"ноль\",IF(#REF!>0,#REF!,\"Ноль\"))","v":{"$error":"#REF!"}},null,{"$error":"#REF!"},{"$f":"IF(O20=#REF!,IF(#REF!<#REF!,#REF!,FD20),#REF!)","v":{"$error":"#REF!"}},{"$f":"IF(O20=#REF!,IF(#REF!<#REF!,0,1))","v":{"$error":"#REF!"}},{"$f":"IF(AND(EY20>=21,EY20<>0),EY20,IF(O20<#REF!,\"СТОП\",EZ20+FA20))","v":{"$error":"#REF!"}},null,15,16,null,{"$f":"IF(#REF!=1,25,0)","v":{"$error":"#REF!"}},{"$f":"IF(#REF!=2,22,0)","v":{"$error":"#REF!"}},{"$f":"IF(#REF!=3,20,0)","v":{"$error":"#REF!"}},{"$f":"IF(#REF!=4,18,0)","v":{"$error":"#REF!"}},{"$f":"IF(#REF!=5,16,0)","v":{"$error":"#REF!"}},{"$f":"IF(#REF!=6,15,0)","v":{"$error":"#REF!"}},{"$f":"IF(#REF!=7,14,0)","v":{"$error":"#REF!"}},{"$f":"IF(#REF!=8,13,0)","v":{"$error":"#REF!"}},{"$f":"IF(#REF!=9,12,0)","v":{"$error":"#REF!"}},{"$f":"IF(#REF!=10,11,0)","v":{"$error":"#REF!"}},{"$f":"IF(#REF!=11,10,0)","v":{"$error":"#REF!"}},{"$f":"IF(#REF!=12,9,0)","v":{"$error":"#REF!"}},{"$f":"IF(#REF!=13,8,0)","v":{"$error":"#REF!"}},{"$f":"IF(#REF!=14,7,0)","v":{"$error":"#REF!"}},{"$f":"IF(#REF!=15,6,0)","v":{"$error":"#REF!"}},{"$f":"IF(#REF!=16,5,0)","v":{"$error":"#REF!"}},{"$f":"IF(#REF!=17,4,0)","v":{"$error":"#REF!"}},{"$f":"IF(#REF!=18,3,0)","v":{"$error":"#REF!"}},{"$f":"IF(#REF!=19,2,0)","v":{"$error":"#REF!"}},{"$f":"IF(#REF!=20,1,0)","v":{"$error":"#REF!"}},{"$f":"IF(#REF!>20,0,0)","v":{"$error":"#REF!"}},{"$f":"IF(#REF!=\"сх\",0,0)","v":{"$error":"#REF!"}},{"$error":"#REF!"},{"$f":"IF(#REF!=1,25,0)","v":{"$error":"#REF!"}},{"$f":"IF(#REF!=2,22,0)","v":{"$error":"#REF!"}},{"$f":"IF(#REF!=3,20,0)","v":{"$error":"#REF!"}},{"$f":"IF(#REF!=4,18,0)","v":{"$error":"#REF!"}},{"$f":"IF(#REF!=5,16,0)","v":{"$error":"#REF!"}},{"$f":"IF(#REF!=6,15,0)","v":{"$error":"#REF!"}},{"$f":"IF(#REF!=7,14,0)","v":{"$error":"#REF!"}},{"$f":"IF(#REF!=8,13,0)","v":{"$error":"#REF!"}},{"$f":"IF(#REF!=9,12,0)","v":{"$error":"#REF!"}},{"$f":"IF(#REF!=10,11,0)","v":{"$error":"#REF!"}},{"$f":"IF(#REF!=11,10,0)","v":{"$error":"#REF!"}},{"$f":"IF(#REF!=12,9,0)","v":{"$error":"#REF!"}},{"$f":"IF(#REF!=13,8,0)","v":{"$error":"#REF!"}},{"$f":"IF(#REF!=14,7,0)","v":{"$error":"#REF!"}},{"$f":"IF(#REF!=15,6,0)","v":{"$error":"#REF!"}},{"$f":"IF(#REF!=16,5,0)","v":{"$error":"#REF!"}},{"$f":"IF(#REF!=17,4,0)","v":{"$error":"#REF!"}},{"$f":"IF(#REF!=18,3,0)","v":{"$error":"#REF!"}},{"$f":"IF(#REF!=19,2,0)","v":{"$error":"#REF!"}},{"$f":"IF(#REF!=20,1,0)","v":{"$error":"#REF!"}},{"$f":"IF(#REF!>20,0,0)","v":{"$error":"#REF!"}},{"$f":"IF(#REF!=\"сх\",0,0)","v":{"$error":"#REF!"}},{"$error":"#REF!"},{"$f":"IF(#REF!=1,100,0)","v":{"$error":"#REF!"}},{"$f":"IF(#REF!=2,98,0)","v":{"$error":"#REF!"}},{"$f":"IF(#REF!=3,95,0)","v":{"$error":"#REF!"}},{"$f":"IF(#REF!=4,93,0)","v":{"$error":"#REF!"}},{"$f":"IF(#REF!=5,90,0)","v":{"$error":"#REF!"}},{"$f":"IF(#REF!=6,88,0)","v":{"$error":"#REF!"}},{"$f":"IF(#REF!=7,85,0)","v":{"$error":"#REF!"}},{"$f":"IF(#REF!=8,83,0)","v":{"$error":"#REF!"}},{"$f":"IF(#REF!=9,80,0)","v":{"$error":"#REF!"}},{"$f":"IF(#REF!=10,78,0)","v":{"$error":"#REF!"}},{"$f":"IF(#REF!=11,75,0)","v":{"$error":"#REF!"}},{"$f":"IF(#REF!=12,73,0)","v":{"$error":"#REF!"}},{"$f":"IF(#REF!=13,70,0)","v":{"$error":"#REF!"}},{"$f":"IF(#REF!=14,68,0)","v":{"$error":"#REF!"}},{"$f":"IF(#REF!=15,65,0)","v":{"$error":"#REF!"}},{"$f":"IF(#REF!=16,63,0)","v":{"$error":"#REF!"}},{"$f":"IF(#REF!=17,60,0)","v":{"$error":"#REF!"}},{"$f":"IF(#REF!=18,58,0)","v":{"$error":"#REF!"}},{"$f":"IF(#REF!=19,55,0)","v":{"$error":"#REF!"}},{"$f":"IF(#REF!=20,53,0)","v":{"$error":"#REF!"}},{"$f":"IF(#REF!>20,0,0)","v":{"$error":"#REF!"}},{"$f":"IF(#REF!=\"сх\",0,0)","v":{"$error":"#REF!"}},{"$error":"#REF!"},{"$f":"IF(#REF!=1,100,0)","v":{"$error":"#REF!"}},{"$f":"IF(#REF!=2,98,0)","v":{"$error":"#REF!"}},{"$f":"IF(#REF!=3,95,0)","v":{"$error":"#REF!"}},{"$f":"IF(#REF!=4,93,0)","v":{"$error":"#REF!"}},{"$f":"IF(#REF!=5,90,0)","v":{"$error":"#REF!"}},{"$f":"IF(#REF!=6,88,0)","v":{"$error":"#REF!"}},{"$f":"IF(#REF!=7,85,0)","v":{"$error":"#REF!"}},{"$f":"IF(#REF!=8,83,0)","v":{"$error":"#REF!"}},{"$f":"IF(#REF!=9,80,0)","v":{"$error":"#REF!"}},{"$f":"IF(#REF!=10,78,0)","v":{"$error":"#REF!"}},{"$f":"IF(#REF!=11,75,0)","v":{"$error":"#REF!"}},{"$f":"IF(#REF!=12,73,0)","v":{"$error":"#REF!"}},{"$f":"IF(#REF!=13,70,0)","v":{"$error":"#REF!"}},{"$f":"IF(#REF!=14,68,0)","v":{"$error":"#REF!"}},{"$f":"IF(#REF!=15,65,0)","v":{"$error":"#REF!"}},{"$f":"IF(#REF!=16,63,0)","v":{"$error":"#REF!"}},{"$f":"IF(#REF!=17,60,0)","v":{"$error":"#REF!"}},{"$f":"IF(#REF!=18,58,0)","v":{"$error":"#REF!"}},{"$f":"IF(#REF!=19,55,0)","v":{"$error":"#REF!"}},{"$f":"IF(#REF!=20,53,0)","v":{"$error":"#REF!"}},{"$f":"IF(#REF!>20,0,0)","v":{"$error":"#REF!"}},{"$f":"IF(#REF!=\"сх\",0,0)","v":{"$error":"#REF!"}},{"$error":"#REF!"}]
[12,29.6,29,"Вишняков Илья","II","г. Новый Уренгой, Ямало-Ненецкий АО","СТК \"Ямбург\"","LYNX",12,9,12,9,11,10,28,{"$f":"#REF!+#REF!","v":{"$error":"#REF!"}},null,null,{"$f":"IF(#REF!=1,25,0)","v":{"$error":"#REF!"}},{"$f":"IF(#REF!=2,22,0)","v":{"$error":"#REF!"}},{"$f":"IF(#REF!=3,20,0)","v":{"$error":"#REF!"}},{"$f":"IF(#REF!=4,18,0)","v":{"$error":"#REF!"}},{"$f":"IF(#REF!=5,16,0)","v":{"$error":"#REF!"}},{"$f":"IF(#REF!=6,15,0)","v":{"$error":"#REF!"}},{"$f":"IF(#REF!=7,14,0)","v":{"$error":"#REF!"}},{"$f":"IF(#REF!=8,13,0)","v":{"$error":"#REF!"}},{"$f":"IF(#REF!=9,12,0)","v":{"$error":"#REF!"}},{"$f":"IF(#REF!=10,11,0)","v":{"$error":"#REF!"}},{"$f":"IF(#REF!=11,10,0)","v":{"$error":"#REF!"}},{"$f":"IF(#REF!=12,9,0)","v":{"$error":"#REF!"}},{"$f":"IF(#REF!=13,8,0)","v":{"$error":"#REF!"}},{"$f":"IF(#REF!=14,7,0)","v":{"$error":"#REF!"}},{"$f":"IF(#REF!=15,6,0)","v":{"$error":"#REF!"}},{"$f":"IF(#REF!=16,5,0)","v":{"$error":"#REF!"}},{"$f":"IF(#REF!=17,4,0)","v":{"$error":"#REF!"}},{"$f":"IF(#REF!=18,3,0)","v":{"$error":"#REF!"}},{"$f":"IF(#REF!=19,2,0)","v":{"$error":"#REF!"}},{"$f":"IF(#REF!=20,1,0)","v":{"$error":"#REF!"}},{"$f":"IF(#REF!>20,0,0)","v":{"$error":"#REF!"}},{"$f":"IF(#REF!=\"сх\",0,0)","v":{"$error":"#REF!"}},{"$f":"SUM(S21:AM21)","v":{"$error":"#REF!"}},{"$f":"IF(#REF!=1,25,0)","v":{"$error":"#REF!"}},{"$f":"IF(#REF!=2,22,0)","v":{"$error":"#REF!"}},{"$f":"IF(#REF!=3,20,0)","v":{"$error":"#REF!"}},{"$f":"IF(#REF!=4,18,0)","v":{"$error":"#REF!"}},{"$f":"IF(#REF!=5,16,0)","v":{"$error":"#REF!"}},{"$f":"IF(#REF!=6,15,0)","v":{"$error":"#REF!"}},{"$f":"IF(#REF!=7,14,0)","v":{"$error":"#REF!"}},{"$f":"IF(#REF!=8,13,0)","v":{"$error":"#REF!"}},{"$f":"IF(#REF!=9,12,0)","v":{"$error":"#REF!"}},{"$f":"IF(#REF!=10,11,0)","v":{"$error":"#REF!"}},{"$f":"IF(#REF!=11,10,0)","v":{"$error":"#REF!"}},{"$f":"IF(#REF!=12,9,0)","v":{"$error":"#REF!"}},{"$f":"IF(#REF!=13,8,0)","v":{"$error":"#REF!"}},{"$f":"IF(#REF!=14,7,0)","v":{"$error":"#REF!"}},{"$f":"IF(#REF!=15,6,0)","v":{"$error":"#REF!"}},{"$f":"IF(#REF!=16,5,0)","v":{"$error":"#REF!"}},{"$f":"IF(#REF!=17,4,0)","v":{"$error":"#REF!"}},{"$f":"IF(#REF!=18,3,0)","v":{"$error":"#REF!"}},{"$f":"IF(#REF!=19,2,0)","v":{"$error":"#REF!"}},{"$f":"IF(#REF!=20,1,0)","v":{"$error":"#REF!"}},{"$f":"IF(#REF!>20,0,0)","v":{"$error":"#REF!"}},{"$f":"IF(#REF!=\"сх\",0,0)","v":{"$error":"#REF!"}},{"$f":"SUM(AP21:BJ21)","v":{"$error":"#REF!"}},{"$f":"IF(#REF!=1,45,0)","v":{"$error":"#REF!"}},{"$f":"IF(#REF!=2,42,0)","v":{"$error":"#REF!"}},{"$f":"IF(#REF!=3,40,0)","v":{"$error":"#REF!"}},{"$f":"IF(#REF!=4,38,0)","v":{"$error":"#REF!"}},{"$f":"IF(#REF!=5,36,0)","v":{"$error":"#REF!"}},{"$f":"IF(#REF!=6,35,0)","v":{"$error":"#REF!"}},{"$f":"IF(#REF!=7,34,0)","v":{"$error":"#REF!"}},{"$f":"IF(#REF!=8,33,0)","v":{"$error":"#REF!"}},{"$f":"IF(#REF!=9,32,0)","v":{"$error":"#REF!"}},{"$f":"IF(#REF!=10,31,0)","v":{"$error":"#REF!"}},{"$f":"IF(#REF!=11,30,0)","v":{"$error":"#REF!"}},{"$f":"IF(#REF!=12,29,0)","v":{"$error":"#REF!"}},{"$f":"IF(#REF!=13,28,0)","v":{"$error":"#REF!"}},{"$f":"IF(#REF!=14,27,0)","v":{"$error":"#REF!"}},{"$f":"IF(#REF!=15,26,0)","v":{"$error":"#REF!"}},{"$f":"IF(#REF!=16,25,0)","v":{"$error":"#REF!"}},{"$f":"IF(#REF!=17,24,0)","v":{"$error":"#REF!"}},{"$f":"IF(#REF!=18,23,0)","v":{"$error":"#REF!"}},{"$f":"IF(#REF!=19,22,0)","v":{"$error":"#REF!"}},{"$f":"IF(#REF!=20,21,0)","v":{"$error":"#REF!"}},{"$f":"IF(#REF!=21,20,0)","v":{"$error":"#REF!"}},{"$f":"IF(#REF!=22,19,0)","v":{"$error":"#REF!"}},{"$f":"IF(#REF!=23,18,0)","v":{"$error":"#REF!"}},{"$f":"IF(#REF!=24,17,0)","v":{"$error":"#REF!"}},{"$f":"IF(#REF!=25,16,0)","v":{"$error":"#REF!"}},{"$f":"IF(#REF!=26,15,0)","v":{"$error":"#REF!"}},{"$f":"IF(#REF!=27,14,0)","v":{"$error":"#REF!"}},{"$f":"IF(#REF!=28,13,0)","v":{"$error":"#REF!"}},{"$f":"IF(#REF!=29,12,0)","v":{"$error":"#REF!"}},{"$f":"IF(#REF!=30,11,0)","v":{"$error":"#REF!"}},{"$f":"IF(#REF!=31,10,0)","v":{"$error":"#REF!"}},{"$f":"IF(#REF!=32,9,0)","v":{"$error":"#REF!"}},{"$f":"IF(#REF!=33,8,0)","v":{"$error":"#REF!"}},{"$f":"IF(#REF!=34,7,0)","v":{"$error":"#REF!"}},{"$f":"IF(#REF!=35,6,0)","v":{"$error":"#REF!"}},{"$f":"IF(#REF!=36,5,0)","v":{"$error":"#REF!"}},{"$f":"IF(#REF!=37,4,0)","v":{"$error":"#REF!"}},{"$f":"IF(#REF!=38,3,0)","v":{"$error":"#REF!"}},{"$f":"IF(#REF!=39,2,0)","v":{"$error":"#REF!"}},{"$f":"IF(#REF!=40,1,0)","v":{"$error":"#REF!"}},{"$f":"IF(#REF!>20,0,0)","v":{"$error":"#REF!"}},{"$f":"IF(#REF!=\"сх\",0,0)","v":{"$error":"#REF!"}},{"$f":"SUM(BM21:DB21)","v":{"$error":"#REF!"}},{"$f":"IF(#REF!=1,45,0)","v":{"$error":"#REF!"}},{"$f":"IF(#REF!=2,42,0)","v":{"$error":"#REF!"}},{"$f":"IF(#REF!=3,40,0)","v":{"$error":"#REF!"}},{"$f":"IF(#REF!=4,38,0)","v":{"$error":"#REF!"}},{"$f":"IF(#REF!=5,36,0)","v":{"$error":"#REF!"}},{"$f":"IF(#REF!=6,35,0)","v":{"$error":"#REF!"}},{"$f":"IF(#REF!=7,34,0)","v":{"$error":"#REF!"}},{"$f":"IF(#REF!=8,33,0)","v":{"$error":"#REF!"}},{"$f":"IF(#REF!=9,32,0)","v":{"$error":"#REF!"}},{"$f":"IF(#REF!=10,31,0)","v":{"$error":"#REF!"}},{"$f":"IF(#REF!=11,30,0)","v":{"$error":"#REF!"}},{"$f":"IF(#REF!=12,29,0)","v":{"$error":"#REF!"}},{"$f":"IF(#REF!=13,28,0)","v":{"$error":"#REF!"}},{"$f":"IF(#REF!=14,27,0)","v":{"$error":"#REF!"}},{"$f":"IF(#REF!=15,26,0)","v":{"$error":"#REF!"}},{"$f":"IF(#REF!=16,25,0)","v":{"$error":"#REF!"}},{"$f":"IF(#REF!=17,24,0)","v":{"$error":"#REF!"}},{"$f":"IF(#REF!=18,23,0)","v":{"$error":"#REF!"}},{"$f":"IF(#REF!=19,22,0)","v":{"$error":"#REF!"}},{"$f":"IF(#REF!=20,21,0)","v":{"$error":"#REF!"}},{"$f":"IF(#REF!=21,20,0)","v":{"$error":"#REF!"}},{"$f":"IF(#REF!=22,19,0)","v":{"$error":"#REF!"}},{"$f":"IF(#REF!=23,18,0)","v":{"$error":"#REF!"}},{"$f":"IF(#REF!=24,17,0)","v":{"$error":"#REF!"}},{"$f":"IF(#REF!=25,16,0)","v":{"$error":"#REF!"}},{"$f":"IF(#REF!=26,15,0)","v":{"$error":"#REF!"}},{"$f":"IF(#REF!=27,14,0)","v":{"$error":"#REF!"}},{"$f":"IF(#REF!=28,13,0)","v":{"$error":"#REF!"}},{"$f":"IF(#REF!=29,12,0)","v":{"$error":"#REF!"}},{"$f":"IF(#REF!=30,11,0)","v":{"$error":"#REF!"}},{"$f":"IF(#REF!=31,10,0)","v":{"$error":"#REF!"}},{"$f":"IF(#REF!=32,9,0)","v":{"$error":"#REF!"}},{"$f":"IF(#REF!=33,8,0)","v":{"$error":"#REF!"}},{"$f":"IF(#REF!=34,7,0)","v":{"$error":"#REF!"}},{"$f":"IF(#REF!=35,6,0)","v":{"$error":"#REF!"}},{"$f":"IF(#REF!=36,5,0)","v":{"$error":"#REF!"}},{"$f":"IF(#REF!=37,4,0)","v":{"$error":"#REF!"}},{"$f":"IF(#REF!=38,3,0)","v":{"$error":"#REF!"}},{"$f":"IF(#REF!=39,2,0)","v":{"$error":"#REF!"}},{"$f":"IF(#REF!=40,1,0)","v":{"$error":"#REF!"}},{"$f":"IF(#REF!>20,0,0)","v":{"$error":"#REF!"}},{"$f":"IF(#REF!=\"сх\",0,0)","v":{"$error":"#REF!"}},{"$f":"SUM(DD21:ES21)","v":{"$error":"#REF!"}},null,{"$f":"IF(#REF!=\"сх\",\"ноль\",IF(#REF!>0,#REF!,\"Ноль\"))","v":{"$error":"#REF!"}},{"$f":"IF(#REF!=\"сх\",\"ноль\",IF(#REF!>0,#REF!,\"Ноль\"))","v":{"$error":"#REF!"}},null,{"$f":"MIN(EV21,EW21)","v":{"$error":"#REF!"}},{"$f":"IF(O21=#REF!,IF(#REF!<#REF!,#REF!,FD21),#REF!)","v":{"$error":"#REF!"}},{"$f":"IF(O21=#REF!,IF(#REF!<#REF!,0,1))","v":{"$error":"#REF!"}},{"$f":"IF(AND(EY21>=21,EY21<>0),EY21,IF(O21<#REF!,\"СТОП\",EZ21+FA21))","v":{"$error":"#REF!"}},null,15,16,null,{"$f":"IF(#REF!=1,25,0)","v":{"$error":"#REF!"}},{"$f":"IF(#REF!=2,22,0)","v":{"$error":"#REF!"}},{"$f":"IF(#REF!=3,20,0)","v":{"$error":"#REF!"}},{"$f":"IF(#REF!=4,18,0)","v":{"$error":"#REF!"}},{"$f":"IF(#REF!=5,16,0)","v":{"$error":"#REF!"}},{"$f":"IF(#REF!=6,15,0)","v":{"$error":"#REF!"}},{"$f":"IF(#REF!=7,14,0)","v":{"$error":"#REF!"}},{"$f":"IF(#REF!=8,13,0)","v":{"$error":"#REF!"}},{"$f":"IF(#REF!=9,12,0)","v":{"$error":"#REF!"}},{"$f":"IF(#REF!=10,11,0)","v":{"$error":"#REF!"}},{"$f":"IF(#REF!=11,10,0)","v":{"$error":"#REF!"}},{"$f":"IF(#REF!=12,9,0)","v":{"$error":"#REF!"}},{"$f":"IF(#REF!=13,8,0)","v":{"$error":"#REF!"}},{"$f":"IF(#REF!=14,7,0)","v":{"$error":"#REF!"}},{"$f":"IF(#REF!=15,6,0)","v":{"$error":"#REF!"}},{"$f":"IF(#REF!=16,5,0)","v":{"$error":"#REF!"}},{"$f":"IF(#REF!=17,4,0)","v":{"$error":"#REF!"}},{"$f":"IF(#REF!=18,3,0)","v":{"$error":"#REF!"}},{"$f":"IF(#REF!=19,2,0)","v":{"$error":"#REF!"}},{"$f":"IF(#REF!=20,1,0)","v":{"$error":"#REF!"}},{"$f":"IF(#REF!>20,0,0)","v":{"$error":"#REF!"}},{"$f":"IF(#REF!=\"сх\",0,0)","v":{"$error":"#REF!"}},{"$f":"SUM(FG21:GB21)","v":{"$error":"#REF!"}},{"$f":"IF(#REF!=1,25,0)","v":{"$error":"#REF!"}},{"$f":"IF(#REF!=2,22,0)","v":{"$error":"#REF!"}},{"$f":"IF(#REF!=3,20,0)","v":{"$error":"#REF!"}},{"$f":"IF(#REF!=4,18,0)","v":{"$error":"#REF!"}},{"$f":"IF(#REF!=5,16,0)","v":{"$error":"#REF!"}},{"$f":"IF(#REF!=6,15,0)","v":{"$error":"#REF!"}},{"$f":"IF(#REF!=7,14,0)","v":{"$error":"#REF!"}},{"$f":"IF(#REF!=8,13,0)","v":{"$error":"#REF!"}},{"$f":"IF(#REF!=9,12,0)","v":{"$error":"#REF!"}},{"$f":"IF(#REF!=10,11,0)","v":{"$error":"#REF!"}},{"$f":"IF(#REF!=11,10,0)","v":{"$error":"#REF!"}},{"$f":"IF(#REF!=12,9,0)","v":{"$error":"#REF!"}},{"$f":"IF(#REF!=13,8,0)","v":{"$error":"#REF!"}},{"$f":"IF(#REF!=14,7,0)","v":{"$error":"#REF!"}},{"$f":"IF(#REF!=15,6,0)","v":{"$error":"#REF!"}},{"$f":"IF(#REF!=16,5,0)","v":{"$error":"#REF!"}},{"$f":"IF(#REF!=17,4,0)","v":{"$error":"#REF!"}},{"$f":"IF(#REF!=18,3,0)","v":{"$error":"#REF!"}},{"$f":"IF(#REF!=19,2,0)","v":{"$error":"#REF!"}},{"$f":"IF(#REF!=20,1,0)","v":{"$error":"#REF!"}},{"$f":"IF(#REF!>20,0,0)","v":{"$error":"#REF!"}},{"$f":"IF(#REF!=\"сх\",0,0)","v":{"$error":"#REF!"}},{"$f":"SUM(GD21:GY21)","v":{"$error":"#REF!"}},{"$f":"IF(#REF!=1,100,0)","v":{"$error":"#REF!"}},{"$f":"IF(#REF!=2,98,0)","v":{"$error":"#REF!"}},{"$f":"IF(#REF!=3,95,0)","v":{"$error":"#REF!"}},{"$f":"IF(#REF!=4,93,0)","v":{"$error":"#REF!"}},{"$f":"IF(#REF!=5,90,0)","v":{"$error":"#REF!"}},{"$f":"IF(#REF!=6,88,0)","v":{"$error":"#REF!"}},{"$f":"IF(#REF!=7,85,0)","v":{"$error":"#REF!"}},{"$f":"IF(#REF!=8,83,0)","v":{"$error":"#REF!"}},{"$f":"IF(#REF!=9,80,0)","v":{"$error":"#REF!"}},{"$f":"IF(#REF!=10,78,0)","v":{"$error":"#REF!"}},{"$f":"IF(#REF!=11,75,0)","v":{"$error":"#REF!"}},{"$f":"IF(#REF!=12,73,0)","v":{"$error":"#REF!"}},{"$f":"IF(#REF!=13,70,0)","v":{"$error":"#REF!"}},{"$f":"IF(#REF!=14,68,0)","v":{"$error":"#REF!"}},{"$f":"IF(#REF!=15,65,0)","v":{"$error":"#REF!"}},{"$f":"IF(#REF!=16,63,0)","v":{"$error":"#REF!"}},{"$f":"IF(#REF!=17,60,0)","v":{"$error":"#REF!"}},{"$f":"IF(#REF!=18,58,0)","v":{"$error":"#REF!"}},{"$f":"IF(#REF!=19,55,0)","v":{"$error":"#REF!"}},{"$f":"IF(#REF!=20,53,0)","v":{"$error":"#REF!"}},{"$f":"IF(#REF!>20,0,0)","v":{"$error":"#REF!"}},{"$f":"IF(#REF!=\"сх\",0,0)","v":{"$error":"#REF!"}},{"$f":"SUM(HA21:HV21)","v":{"$error":"#REF!"}},{"$f":"IF(#REF!=1,100,0)","v":{"$error":"#REF!"}},{"$f":"IF(#REF!=2,98,0)","v":{"$error":"#REF!"}},{"$f":"IF(#REF!=3,95,0)","v":{"$error":"#REF!"}},{"$f":"IF(#REF!=4,93,0)","v":{"$error":"#REF!"}},{"$f":"IF(#REF!=5,90,0)","v":{"$error":"#REF!"}},{"$f":"IF(#REF!=6,88,0)","v":{"$error":"#REF!"}},{"$f":"IF(#REF!=7,85,0)","v":{"$error":"#REF!"}},{"$f":"IF(#REF!=8,83,0)","v":{"$error":"#REF!"}},{"$f":"IF(#REF!=9,80,0)","v":{"$error":"#REF!"}},{"$f":"IF(#REF!=10,78,0)","v":{"$error":"#REF!"}},{"$f":"IF(#REF!=11,75,0)","v":{"$error":"#REF!"}},{"$f":"IF(#REF!=12,73,0)","v":{"$error":"#REF!"}},{"$f":"IF(#REF!=13,70,0)","v":{"$error":"#REF!"}},{"$f":"IF(#REF!=14,68,0)","v":{"$error":"#REF!"}},{"$f":"IF(#REF!=15,65,0)","v":{"$error":"#REF!"}},{"$f":"IF(#REF!=16,63,0)","v":{"$error":"#REF!"}},{"$f":"IF(#REF!=17,60,0)","v":{"$error":"#REF!"}},{"$f":"IF(#REF!=18,58,0)","v":{"$error":"#REF!"}},{"$f":"IF(#REF!=19,55,0)","v":{"$error":"#REF!"}},{"$f":"IF(#REF!=20,53,0)","v":{"$error":"#REF!"}},{"$f":"IF(#REF!>20,0,0)","v":{"$error":"#REF!"}},{"$f":"IF(#REF!=\"сх\",0,0)","v":{"$error":"#REF!"}},{"$f":"SUM(HX21:IS21)","v":{"$error":"#REF!"}}]
[13,28.8,16,"Артемьев Алексей","II","г. Надым, Ямало-Ненецкий АО","СТК \"Форсаж\"","Sky-Doo",14,7,11,10,12,9,26,{"$f":"#REF!+#REF!","v":{"$error":"#REF!"}},null,null,{"$f":"IF(#REF!=1,25,0)","v":{"$error":"#REF!"}},{"$f":"IF(#REF!=2,22,0)","v":{"$error":"#REF!"}},{"$f":"IF(#REF!=3,20,0)","v":{"$error":"#REF!"}},{"$f":"IF(#REF!=4,18,0)","v":{"$error":"#REF!"}},{"$f":"IF(#REF!=5,16,0)","v":{"$error":"#REF!"}},{"$f":"IF(#REF!=6,15,0)","v":{"$error":"#REF!"}},{"$f":"IF(#REF!=7,14,0)","v":{"$error":"#REF!"}},{"$f":"IF(#REF!=8,13,0)","v":{"$error":"#REF!"}},{"$f":"IF(#REF!=9,12,0)","v":{"$error":"#REF!"}},{"$f":"IF(#REF!=10,11,0)","v":{"$error":"#REF!"}},{"$f":"IF(#REF!=11,10,0)","v":{"$error":"#REF!"}},{"$f":"IF(#REF!=12,9,0)","v":{"$error":"#REF!"}},{"$f":"IF(#REF!=13,8,0)","v":{"$error":"#REF!"}},{"$f":"IF(#REF!=14,7,0)","v":{"$error":"#REF!"}},{"$f":"IF(#REF!=15,6,0)","v":{"$error":"#REF!"}},{"$f":"IF(#REF!=16,5,0)","v":{"$error":"#REF!"}},{"$f":"IF(#REF!=17,4,0)","v":{"$error":"#REF!"}},{"$f":"IF(#REF!=18,3,0)","v":{"$error":"#REF!"}},{"$f":"IF(#REF!=19,2,0)","v":{"$error":"#REF!"}},{"$f":"IF(#REF!=20,1,0)","v":{"$error":"#REF!"}},{"$f":"IF(#REF!>20,0,0)","v":{"$error":"#REF!"}},{"$f":"IF(#REF!=\"сх\",0,0)","v":{"$error":"#REF!"}},{"$f":"SUM(S22:AM22)","v":{"$error":"#REF!"}},{"$f":"IF(#REF!=1,25,0)","v":{"$error":"#REF!"}},{"$f":"IF(#REF!=2,22,0)","v":{"$error":"#REF!"}},{"$f":"IF(#REF!=3,20,0)","v":{"$error":"#REF!"}},{"$f":"IF(#REF!=4,18,0)","v":{"$error":"#REF!"}},{"$f":"IF(#REF!=5,16,0)","v":{"$error":"#REF!"}},{"$f":"IF(#REF!=6,15,0)","v":{"$error":"#REF!"}},{"$f":"IF(#REF!=7,14,0)","v":{"$error":"#REF!"}},{"$f":"IF(#REF!=8,13,0)","v":{"$error":"#REF!"}},{"$f":"IF(#REF!=9,12,0)","v":{"$error":"#REF!"}},{"$f":"IF(#REF!=10,11,0)","v":{"$error":"#REF!"}},{"$f":"IF(#REF!=11,10,0)","v":{"$error":"#REF!"}},{"$f":"IF(#REF!=12,9,0)","v":{"$error":"#REF!"}},{"$f":"IF(#REF!=13,8,0)","v":{"$error":"#REF!"}},{"$f":"IF(#REF!=14,7,0)","v":{"$error":"#REF!"}},{"$f":"IF(#REF!=15,6,0)","v":{"$error":"#REF!"}},{"$f":"IF(#REF!=16,5,0)","v":{"$error":"#REF!"}},{"$f":"IF(#REF!=17,4,0)","v":{"$error":"#REF!"}},{"$f":"IF(#REF!=18,3,0)","v":{"$error":"#REF!"}},{"$f":"IF(#REF!=19,2,0)","v":{"$error":"#REF!"}},{"$f":"IF(#REF!=20,1,0)","v":{"$error":"#REF!"}},{"$f":"IF(#REF!>20,0,0)","v":{"$error":"#REF!"}},{"$f":"IF(#REF!=\"сх\",0,0)","v":{"$error":"#REF!"}},{"$f":"SUM(AP22:BJ22)","v":{"$error":"#REF!"}},{"$f":"IF(#REF!=1,45,0)","v":{"$error":"#REF!"}},{"$f":"IF(#REF!=2,42,0)","v":{"$error":"#REF!"}},{"$f":"IF(#REF!=3,40,0)","v":{"$error":"#REF!"}},{"$f":"IF(#REF!=4,38,0)","v":{"$error":"#REF!"}},{"$f":"IF(#REF!=5,36,0)","v":{"$error":"#REF!"}},{"$f":"IF(#REF!=6,35,0)","v":{"$error":"#REF!"}},{"$f":"IF(#REF!=7,34,0)","v":{"$error":"#REF!"}},{"$f":"IF(#REF!=8,33,0)","v":{"$error":"#REF!"}},{"$f":"IF(#REF!=9,32,0)","v":{"$error":"#REF!"}},{"$f":"IF(#REF!=10,31,0)","v":{"$error":"#REF!"}},{"$f":"IF(#REF!=11,30,0)","v":{"$error":"#REF!"}},{"$f":"IF(#REF!=12,29,0)","v":{"$error":"#REF!"}},{"$f":"IF(#REF!=13,28,0)","v":{"$error":"#REF!"}},{"$f":"IF(#REF!=14,27,0)","v":{"$error":"#REF!"}},{"$f":"IF(#REF!=15,26,0)","v":{"$error":"#REF!"}},{"$f":"IF(#REF!=16,25,0)","v":{"$error":"#REF!"}},{"$f":"IF(#REF!=17,24,0)","v":{"$error":"#REF!"}},{"$f":"IF(#REF!=18,23,0)","v":{"$error":"#REF!"}},{"$f":"IF(#REF!=19,22,0)","v":{"$error":"#REF!"}},{"$f":"IF(#REF!=20,21,0)","v":{"$error":"#REF!"}},{"$f":"IF(#REF!=21,20,0)","v":{"$error":"#REF!"}},{"$f":"IF(#REF!=22,19,0)","v":{"$error":"#REF!"}},{"$f":"IF(#REF!=23,18,0)","v":{"$error":"#REF!"}},{"$f":"IF(#REF!=24,17,0)","v":{"$error":"#REF!"}},{"$f":"IF(#REF!=25,16,0)","v":{"$error":"#REF!"}},{"$f":"IF(#REF!=26,15,0)","v":{"$error":"#REF!"}},{"$f":"IF(#REF!=27,14,0)","v":{"$error":"#REF!"}},{"$f":"IF(#REF!=28,13,0)","v":{"$error":"#REF!"}},{"$f":"IF(#REF!=29,12,0)","v":{"$error":"#REF!"}},{"$f":"IF(#REF!=30,11,0)","v":{"$error":"#REF!"}},{"$f":"IF(#REF!=31,10,0)","v":{"$error":"#REF!"}},{"$f":"IF(#REF!=32,9,0)","v":{"$error":"#REF!"}},{"$f":"IF(#REF!=33,8,0)","v":{"$error":"#REF!"}},{"$f":"IF(#REF!=34,7,0)","v":{"$error":"#REF!"}},{"$f":"IF(#REF!=35,6,0)","v":{"$error":"#REF!"}},{"$f":"IF(#REF!=36,5,0)","v":{"$error":"#REF!"}},{"$f":"IF(#REF!=37,4,0)","v":{"$error":"#REF!"}},{"$f":"IF(#REF!=38,3,0)","v":{"$error":"#REF!"}},{"$f":"IF(#REF!=39,2,0)","v":{"$error":"#REF!"}},{"$f":"IF(#REF!=40,1,0)","v":{"$error":"#REF!"}},{"$f":"IF(#REF!>20,0,0)","v":{"$error":"#REF!"}},{"$f":"IF(#REF!=\"сх\",0,0)","v":{"$error":"#REF!"}},{"$f":"SUM(BM22:DB22)","v":{"$error":"#REF!"}},{"$f":"IF(#REF!=1,45,0)","v":{"$error":"#REF!"}},{"$f":"IF(#REF!=2,42,0)","v":{"$error":"#REF!"}},{"$f":"IF(#REF!=3,40,0)","v":{"$error":"#REF!"}},{"$f":"IF(#REF!=4,38,0)","v":{"$error":"#REF!"}},{"$f":"IF(#REF!=5,36,0)","v":{"$error":"#REF!"}},{"$f":"IF(#REF!=6,35,0)","v":{"$error":"#REF!"}},{"$f":"IF(#REF!=7,34,0)","v":{"$error":"#REF!"}},{"$f":"IF(#REF!=8,33,0)","v":{"$error":"#REF!"}},{"$f":"IF(#REF!=9,32,0)","v":{"$error":"#REF!"}},{"$f":"IF(#REF!=10,31,0)","v":{"$error":"#REF!"}},{"$f":"IF(#REF!=11,30,0)","v":{"$error":"#REF!"}},{"$f":"IF(#REF!=12,29,0)","v":{"$error":"#REF!"}},{"$f":"IF(#REF!=13,28,0)","v":{"$error":"#REF!"}},{"$f":"IF(#REF!=14,27,0)","v":{"$error":"#REF!"}},{"$f":"IF(#REF!=15,26,0)","v":{"$error":"#REF!"}},{"$f":"IF(#REF!=16,25,0)","v":{"$error":"#REF!"}},{"$f":"IF(#REF!=17,24,0)","v":{"$error":"#REF!"}},{"$f":"IF(#REF!=18,23,0)","v":{"$error":"#REF!"}},{"$f":"IF(#REF!=19,22,0)","v":{"$error":"#REF!"}},{"$f":"IF(#REF!=20,21,0)","v":{"$error":"#REF!"}},{"$f":"IF(#REF!=21,20,0)","v":{"$error":"#REF!"}},{"$f":"IF(#REF!=22,19,0)","v":{"$error":"#REF!"}},{"$f":"IF(#REF!=23,18,0)","v":{"$error":"#REF!"}},{"$f":"IF(#REF!=24,17,0)","v":{"$error":"#REF!"}},{"$f":"IF(#REF!=25,16,0)","v":{"$error":"#REF!"}},{"$f":"IF(#REF!=26,15,0)","v":{"$error":"#REF!"}},{"$f":"IF(#REF!=27,14,0)","v":{"$error":"#REF!"}},{"$f":"IF(#REF!=28,13,0)","v":{"$error":"#REF!"}},{"$f":"IF(#REF!=29,12,0)","v":{"$error":"#REF!"}},{"$f":"IF(#REF!=30,11,0)","v":{"$error":"#REF!"}},{"$f":"IF(#REF!=31,10,0)","v":{"$error":"#REF!"}},{"$f":"IF(#REF!=32,9,0)","v":{"$error":"#REF!"}},{"$f":"IF(#REF!=33,8,0)","v":{"$error":"#REF!"}},{"$f":"IF(#REF!=34,7,0)","v":{"$error":"#REF!"}},{"$f":"IF(#REF!=35,6,0)","v":{"$error":"#REF!"}},{"$f":"IF(#REF!=36,5,0)","v":{"$error":"#REF!"}},{"$f":"IF(#REF!=37,4,0)","v":{"$error":"#REF!"}},{"$f":"IF(#REF!=38,3,0)","v":{"$error":"#REF!"}},{"$f":"IF(#REF!=39,2,0)","v":{"$error":"#REF!"}},{"$f":"IF(#REF!=40,1,0)","v":{"$error":"#REF!"}},{"$f":"IF(#REF!>20,0,0)","v":{"$error":"#REF!"}},{"$f":"IF(#REF!=\"сх\",0,0)","v":{"$error":"#REF!"}},{"$f":"SUM(DD22:ES22)","v":{"$error":"#REF!"}},null,{"$f":"IF(#REF!=\"сх\",\"ноль\",IF(#REF!>0,#REF!,\"Ноль\"))","v":{"$error":"#REF!"}},{"$f":"IF(#REF!=\"сх\",\"ноль\",IF(#REF!>0,#REF!,\"Ноль\"))","v":{"$error":"#REF!"}},null,{"$f":"MIN(EV22,EW22)","v":{"$error":"#REF!"}},{"$f":"IF(O22=#REF!,IF(#REF!<#REF!,#REF!,FD22),#REF!)","v":{"$error":"#REF!"}},{"$f":"IF(O22=#REF!,IF(#REF!<#REF!,0,1))","v":{"$error":"#REF!"}},{"$f":"IF(AND(EY22>=21,EY22<>0),EY22,IF(O22<#REF!,\"СТОП\",EZ22+FA22))","v":{"$error":"#REF!"}},null,15,16,null,{"$f":"IF(#REF!=1,25,0)","v":{"$error":"#REF!"}},{"$f":"IF(#REF!=2,22,0)","v":{"$error":"#REF!"}},{"$f":"IF(#REF!=3,20,0)","v":{"$error":"#REF!"}},{"$f":"IF(#REF!=4,18,0)","v":{"$error":"#REF!"}},{"$f":"IF(#REF!=5,16,0)","v":{"$error":"#REF!"}},{"$f":"IF(#REF!=6,15,0)","v":{"$error":"#REF!"}},{"$f":"IF(#REF!=7,14,0)","v":{"$error":"#REF!"}},{"$f":"IF(#REF!=8,13,0)","v":{"$error":"#REF!"}},{"$f":"IF(#REF!=9,12,0)","v":{"$error":"#REF!"}},{"$f":"IF(#REF!=10,11,0)","v":{"$error":"#REF!"}},{"$f":"IF(#REF!=11,10,0)","v":{"$error":"#REF!"}},{"$f":"IF(#REF!=12,9,0)","v":{"$error":"#REF!"}},{"$f":"IF(#REF!=13,8,0)","v":{"$error":"#REF!"}},{"$f":"IF(#REF!=14,7,0)","v":{"$error":"#REF!"}},{"$f":"IF(#REF!=15,6,0)","v":{"$error":"#REF!"}},{"$f":"IF(#REF!=16,5,0)","v":{"$error":"#REF!"}},{"$f":"IF(#REF!=17,4,0)","v":{"$error":"#REF!"}},{"$f":"IF(#REF!=18,3,0)","v":{"$error":"#REF!"}},{"$f":"IF(#REF!=19,2,0)","v":{"$error":"#REF!"}},{"$f":"IF(#REF!=20,1,0)","v":{"$error":"#REF!"}},{"$f":"IF(#REF!>20,0,0)","v":{"$error":"#REF!"}},{"$f":"IF(#REF!=\"сх\",0,0)","v":{"$error":"#REF!"}},{"$f":"SUM(FG22:GB22)","v":{"$error":"#REF!"}},{"$f":"IF(#REF!=1,25,0)","v":{"$error":"#REF!"}},{"$f":"IF(#REF!=2,22,0)","v":{"$error":"#REF!"}},{"$f":"IF(#REF!=3,20,0)","v":{"$error":"#REF!"}},{"$f":"IF(#REF!=4,18,0)","v":{"$error":"#REF!"}},{"$f":"IF(#REF!=5,16,0)","v":{"$error":"#REF!"}},{"$f":"IF(#REF!=6,15,0)","v":{"$error":"#REF!"}},{"$f":"IF(#REF!=7,14,0)","v":{"$error":"#REF!"}},{"$f":"IF(#REF!=8,13,0)","v":{"$error":"#REF!"}},{"$f":"IF(#REF!=9,12,0)","v":{"$error":"#REF!"}},{"$f":"IF(#REF!=10,11,0)","v":{"$error":"#REF!"}},{"$f":"IF(#REF!=11,10,0)","v":{"$error":"#REF!"}},{"$f":"IF(#REF!=12,9,0)","v":{"$error":"#REF!"}},{"$f":"IF(#REF!=13,8,0)","v":{"$error":"#REF!"}},{"$f":"IF(#REF!=14,7,0)","v":{"$error":"#REF!"}},{"$f":"IF(#REF!=15,6,0)","v":{"$error":"#REF!"}},{"$f":"IF(#REF!=16,5,0)","v":{"$error":"#REF!"}},{"$f":"IF(#REF!=17,4,0)","v":{"$error":"#REF!"}},{"$f":"IF(#REF!=18,3,0)","v":{"$error":"#REF!"}},{"$f":"IF(#REF!=19,2,0)","v":{"$error":"#REF!"}},{"$f":"IF(#REF!=20,1,0)","v":{"$error":"#REF!"}},{"$f":"IF(#REF!>20,0,0)","v":{"$error":"#REF!"}},{"$f":"IF(#REF!=\"сх\",0,0)","v":{"$error":"#REF!"}},{"$f":"SUM(GD22:GY22)","v":{"$error":"#REF!"}},{"$f":"IF(#REF!=1,100,0)","v":{"$error":"#REF!"}},{"$f":"IF(#REF!=2,98,0)","v":{"$error":"#REF!"}},{"$f":"IF(#REF!=3,95,0)","v":{"$error":"#REF!"}},{"$f":"IF(#REF!=4,93,0)","v":{"$error":"#REF!"}},{"$f":"IF(#REF!=5,90,0)","v":{"$error":"#REF!"}},{"$f":"IF(#REF!=6,88,0)","v":{"$error":"#REF!"}},{"$f":"IF(#REF!=7,85,0)","v":{"$error":"#REF!"}},{"$f":"IF(#REF!=8,83,0)","v":{"$error":"#REF!"}},{"$f":"IF(#REF!=9,80,0)","v":{"$error":"#REF!"}},{"$f":"IF(#REF!=10,78,0)","v":{"$error":"#REF!"}},{"$f":"IF(#REF!=11,75,0)","v":{"$error":"#REF!"}},{"$f":"IF(#REF!=12,73,0)","v":{"$error":"#REF!"}},{"$f":"IF(#REF!=13,70,0)","v":{"$error":"#REF!"}},{"$f":"IF(#REF!=14,68,0)","v":{"$error":"#REF!"}},{"$f":"IF(#REF!=15,65,0)","v":{"$error":"#REF!"}},{"$f":"IF(#REF!=16,63,0)","v":{"$error":"#REF!"}},{"$f":"IF(#REF!=17,60,0)","v":{"$error":"#REF!"}},{"$f":"IF(#REF!=18,58,0)","v":{"$error":"#REF!"}},{"$f":"IF(#REF!=19,55,0)","v":{"$error":"#REF!"}},{"$f":"IF(#REF!=20,53,0)","v":{"$error":"#REF!"}},{"$f":"IF(#REF!>20,0,0)","v":{"$error":"#REF!"}},{"$f":"IF(#REF!=\"сх\",0,0)","v":{"$error":"#REF!"}},{"$f":"SUM(HA22:HV22)","v":{"$error":"#REF!"}},{"$f":"IF(#REF!=1,100,0)","v":{"$error":"#REF!"}},{"$f":"IF(#REF!=2,98,0)","v":{"$error":"#REF!"}},{"$f":"IF(#REF!=3,95,0)","v":{"$error":"#REF!"}},{"$f":"IF(#REF!=4,93,0)","v":{"$error":"#REF!"}},{"$f":"IF(#REF!=5,90,0)","v":{"$error":"#REF!"}},{"$f":"IF(#REF!=6,88,0)","v":{"$error":"#REF!"}},{"$f":"IF(#REF!=7,85,0)","v":{"$error":"#REF!"}},{"$f":"IF(#REF!=8,83,0)","v":{"$error":"#REF!"}},{"$f":"IF(#REF!=9,80,0)","v":{"$error":"#REF!"}},{"$f":"IF(#REF!=10,78,0)","v":{"$error":"#REF!"}},{"$f":"IF(#REF!=11,75,0)","v":{"$error":"#REF!"}},{"$f":"IF(#REF!=12,73,0)","v":{"$error":"#REF!"}},{"$f":"IF(#REF!=13,70,0)","v":{"$error":"#REF!"}},{"$f":"IF(#REF!=14,68,0)","v":{"$error":"#REF!"}},{"$f":"IF(#REF!=15,65,0)","v":{"$error":"#REF!"}},{"$f":"IF(#REF!=16,63,0)","v":{"$error":"#REF!"}},{"$f":"IF(#REF!=17,60,0)","v":{"$error":"#REF!"}},{"$f":"IF(#REF!=18,58,0)","v":{"$error":"#REF!"}},{"$f":"IF(#REF!=19,55,0)","v":{"$error":"#REF!"}},{"$f":"IF(#REF!=20,53,0)","v":{"$error":"#REF!"}},{"$f":"IF(#REF!>20,0,0)","v":{"$error":"#REF!"}},{"$f":"IF(#REF!=\"сх\",0,0)","v":{"$error":"#REF!"}},{"$f":"SUM(HX22:IS22)","v":{"$error":"#REF!"}}]
[14,28,71,"Свиридок Максим","II","г. Новый Уренгой, Ямало-Ненецкий АО","СТК \"Факел\"","LYNX",13,8,14,7,15,6,21,{"$f":"#REF!+#REF!","v":{"$error":"#REF!"}},null,null,{"$f":"IF(#REF!=1,25,0)","v":{"$error":"#REF!"}},{"$f":"IF(#REF!=2,22,0)","v":{"$error":"#REF!"}},{"$f":"IF(#REF!=3,20,0)","v":{"$error":"#REF!"}},{"$f":"IF(#REF!=4,18,0)","v":{"$error":"#REF!"}},{"$f":"IF(#REF!=5,16,0)","v":{"$error":"#REF!"}},{"$f":"IF(#REF!=6,15,0)","v":{"$error":"#REF!"}},{"$f":"IF(#REF!=7,14,0)","v":{"$error":"#REF!"}},{"$f":"IF(#REF!=8,13,0)","v":{"$error":"#REF!"}},{"$f":"IF(#REF!=9,12,0)","v":{"$error":"#REF!"}},{"$f":"IF(#REF!=10,11,0)","v":{"$error":"#REF!"}},{"$f":"IF(#REF!=11,10,0)","v":{"$error":"#REF!"}},{"$f":"IF(#REF!=12,9,0)","v":{"$error":"#REF!"}},{"$f":"IF(#REF!=13,8,0)","v":{"$error":"#REF!"}},{"$f":"IF(#REF!=14,7,0)","v":{"$error":"#REF!"}},{"$f":"IF(#REF!=15,6,0)","v":{"$error":"#REF!"}},{"$f":"IF(#REF!=16,5,0)","v":{"$error":"#REF!"}},{"$f":"IF(#REF!=17,4,0)","v":{"$error":"#REF!"}},{"$f":"IF(#REF!=18,3,0)","v":{"$error":"#REF!"}},{"$f":"IF(#REF!=19,2,0)","v":{"$error":"#REF!"}},{"$f":"IF(#REF!=20,1,0)","v":{"$error":"#REF!"}},{"$f":"IF(#REF!>20,0,0)","v":{"$error":"#REF!"}},{"$f":"IF(#REF!=\"сх\",0,0)","v":{"$error":"#REF!"}},{"$f":"SUM(S23:AM23)","v":{"$error":"#REF!"}},{"$f":"IF(#REF!=1,25,0)","v":{"$error":"#REF!"}},{"$f":"IF(#REF!=2,22,0)","v":{"$error":"#REF!"}},{"$f":"IF(#REF!=3,20,0)","v":{"$error":"#REF!"}},{"$f":"IF(#REF!=4,18,0)","v":{"$error":"#REF!"}},{"$f":"IF(#REF!=5,16,0)","v":{"$error":"#REF!"}},{"$f":"IF(#REF!=6,15,0)","v":{"$error":"#REF!"}},{"$f":"IF(#REF!=7,14,0)","v":{"$error":"#REF!"}},{"$f":"IF(#REF!=8,13,0)","v":{"$error":"#REF!"}},{"$f":"IF(#REF!=9,12,0)","v":{"$error":"#REF!"}},{"$f":"IF(#REF!=10,11,0)","v":{"$error":"#REF!"}},{"$f":"IF(#REF!=11,10,0)","v":{"$error":"#REF!"}},{"$f":"IF(#REF!=12,9,0)","v":{"$error":"#REF!"}},{"$f":"IF(#REF!=13,8,0)","v":{"$error":"#REF!"}},{"$f":"IF(#REF!=14,7,0)","v":{"$error":"#REF!"}},{"$f":"IF(#REF!=15,6,0)","v":{"$error":"#REF!"}},{"$f":"IF(#REF!=16,5,0)","v":{"$error":"#REF!"}},{"$f":"IF(#REF!=17,4,0)","v":{"$error":"#REF!"}},{"$f":"IF(#REF!=18,3,0)","v":{"$error":"#REF!"}},{"$f":"IF(#REF!=19,2,0)","v":{"$error":"#REF!"}},{"$f":"IF(#REF!=20,1,0)","v":{"$error":"#REF!"}},{"$f":"IF(#REF!>20,0,0)","v":{"$error":"#REF!"}},{"$f":"IF(#REF!=\"сх\",0,0)","v":{"$error":"#REF!"}},{"$f":"SUM(AP23:BJ23)","v":{"$error":"#REF!"}},{"$f":"IF(#REF!=1,45,0)","v":{"$error":"#REF!"}},{"$f":"IF(#REF!=2,42,0)","v":{"$error":"#REF!"}},{"$f":"IF(#REF!=3,40,0)","v":{"$error":"#REF!"}},{"$f":"IF(#REF!=4,38,0)","v":{"$error":"#REF!"}},{"$f":"IF(#REF!=5,36,0)","v":{"$error":"#REF!"}},{"$f":"IF(#REF!=6,35,0)","v":{"$error":"#REF!"}},{"$f":"IF(#REF!=7,34,0)","v":{"$error":"#REF!"}},{"$f":"IF(#REF!=8,33,0)","v":{"$error":"#REF!"}},{"$f":"IF(#REF!=9,32,0)","v":{"$error":"#REF!"}},{"$f":"IF(#REF!=10,31,0)","v":{"$error":"#REF!"}},{"$f":"IF(#REF!=11,30,0)","v":{"$error":"#REF!"}},{"$f":"IF(#REF!=12,29,0)","v":{"$error":"#REF!"}},{"$f":"IF(#REF!=13,28,0)","v":{"$error":"#REF!"}},{"$f":"IF(#REF!=14,27,0)","v":{"$error":"#REF!"}},{"$f":"IF(#REF!=15,26,0)","v":{"$error":"#REF!"}},{"$f":"IF(#REF!=16,25,0)","v":{"$error":"#REF!"}},{"$f":"IF(#REF!=17,24,0)","v":{"$error":"#REF!"}},{"$f":"IF(#REF!=18,23,0)","v":{"$error":"#REF!"}},{"$f":"IF(#REF!=19,22,0)","v":{"$error":"#REF!"}},{"$f":"IF(#REF!=20,21,0)","v":{"$error":"#REF!"}},{"$f":"IF(#REF!=21,20,0)","v":{"$error":"#REF!"}},{"$f":"IF(#REF!=22,19,0)","v":{"$error":"#REF!"}},{"$f":"IF(#REF!=23,18,0)","v":{"$error":"#REF!"}},{"$f":"IF(#REF!=24,17,0)","v":{"$error":"#REF!"}},{"$f":"IF(#REF!=25,16,0)","v":{"$error":"#REF!"}},{"$f":"IF(#REF!=26,15,0)","v":{"$error":"#REF!"}},{"$f":"IF(#REF!=27,14,0)","v":{"$error":"#REF!"}},{"$f":"IF(#REF!=28,13,0)","v":{"$error":"#REF!"}},{"$f":"IF(#REF!=29,12,0)","v":{"$error":"#REF!"}},{"$f":"IF(#REF!=30,11,0)","v":{"$error":"#REF!"}},{"$f":"IF(#REF!=31,10,0)","v":{"$error":"#REF!"}},{"$f":"IF(#REF!=32,9,0)","v":{"$error":"#REF!"}},{"$f":"IF(#REF!=33,8,0)","v":{"$error":"#REF!"}},{"$f":"IF(#REF!=34,7,0)","v":{"$error":"#REF!"}},{"$f":"IF(#REF!=35,6,0)","v":{"$error":"#REF!"}},{"$f":"IF(#REF!=36,5,0)","v":{"$error":"#REF!"}},{"$f":"IF(#REF!=37,4,0)","v":{"$error":"#REF!"}},{"$f":"IF(#REF!=38,3,0)","v":{"$error":"#REF!"}},{"$f":"IF(#REF!=39,2,0)","v":{"$error":"#REF!"}},{"$f":"IF(#REF!=40,1,0)","v":{"$error":"#REF!"}},{"$f":"IF(#REF!>20,0,0)","v":{"$error":"#REF!"}},{"$f":"IF(#REF!=\"сх\",0,0)","v":{"$error":"#REF!"}},{"$f":"SUM(BM23:DB23)","v":{"$error":"#REF!"}},{"$f":"IF(#REF!=1,45,0)","v":{"$error":"#REF!"}},{"$f":"IF(#REF!=2,42,0)","v":{"$error":"#REF!"}},{"$f":"IF(#REF!=3,40,0)","v":{"$error":"#REF!"}},{"$f":"IF(#REF!=4,38,0)","v":{"$error":"#REF!"}},{"$f":"IF(#REF!=5,36,0)","v":{"$error":"#REF!"}},{"$f":"IF(#REF!=6,35,0)","v":{"$error":"#REF!"}},{"$f":"IF(#REF!=7,34,0)","v":{"$error":"#REF!"}},{"$f":"IF(#REF!=8,33,0)","v":{"$error":"#REF!"}},{"$f":"IF(#REF!=9,32,0)","v":{"$error":"#REF!"}},{"$f":"IF(#REF!=10,31,0)","v":{"$error":"#REF!"}},{"$f":"IF(#REF!=11,30,0)","v":{"$error":"#REF!"}},{"$f":"IF(#REF!=12,29,0)","v":{"$error":"#REF!"}},{"$f":"IF(#REF!=13,28,0)","v":{"$error":"#REF!"}},{"$f":"IF(#REF!=14,27,0)","v":{"$error":"#REF!"}},{"$f":"IF(#REF!=15,26,0)","v":{"$error":"#REF!"}},{"$f":"IF(#REF!=16,25,0)","v":{"$error":"#REF!"}},{"$f":"IF(#REF!=17,24,0)","v":{"$error":"#REF!"}},{"$f":"IF(#REF!=18,23,0)","v":{"$error":"#REF!"}},{"$f":"IF(#REF!=19,22,0)","v":{"$error":"#REF!"}},{"$f":"IF(#REF!=20,21,0)","v":{"$error":"#REF!"}},{"$f":"IF(#REF!=21,20,0)","v":{"$error":"#REF!"}},{"$f":"IF(#REF!=22,19,0)","v":{"$error":"#REF!"}},{"$f":"IF(#REF!=23,18,0)","v":{"$error":"#REF!"}},{"$f":"IF(#REF!=24,17,0)","v":{"$error":"#REF!"}},{"$f":"IF(#REF!=25,16,0)","v":{"$error":"#REF!"}},{"$f":"IF(#REF!=26,15,0)","v":{"$error":"#REF!"}},{"$f":"IF(#REF!=27,14,0)","v":{"$error":"#REF!"}},{"$f":"IF(#REF!=28,13,0)","v":{"$error":"#REF!"}},{"$f":"IF(#REF!=29,12,0)","v":{"$error":"#REF!"}},{"$f":"IF(#REF!=30,11,0)","v":{"$error":"#REF!"}},{"$f":"IF(#REF!=31,10,0)","v":{"$error":"#REF!"}},{"$f":"IF(#REF!=32,9,0)","v":{"$error":"#REF!"}},{"$f":"IF(#REF!=33,8,0)","v":{"$error":"#REF!"}},{"$f":"IF(#REF!=34,7,0)","v":{"$error":"#REF!"}},{"$f":"IF(#REF!=35,6,0)","v":{"$error":"#REF!"}},{"$f":"IF(#REF!=36,5,0)","v":{"$error":"#REF!"}},{"$f":"IF(#REF!=37,4,0)","v":{"$error":"#REF!"}},{"$f":"IF(#REF!=38,3,0)","v":{"$error":"#REF!"}},{"$f":"IF(#REF!=39,2,0)","v":{"$error":"#REF!"}},{"$f":"IF(#REF!=40,1,0)","v":{"$error":"#REF!"}},{"$f":"IF(#REF!>20,0,0)","v":{"$error":"#REF!"}},{"$f":"IF(#REF!=\"сх\",0,0)","v":{"$error":"#REF!"}},{"$f":"SUM(DD23:ES23)","v":{"$error":"#REF!"}},null,{"$f":"IF(#REF!=\"сх\",\"ноль\",IF(#REF!>0,#REF!,\"Ноль\"))","v":{"$error":"#REF!"}},{"$f":"IF(#REF!=\"сх\",\"ноль\",IF(#REF!>0,#REF!,\"Ноль\"))","v":{"$error":"#REF!"}},null,{"$f":"MIN(EV23,EW23)","v":{"$error":"#REF!"}},{"$f":"IF(O23=#REF!,IF(#REF!<#REF!,#REF!,FD23),#REF!)","v":{"$error":"#REF!"}},{"$f":"IF(O23=#REF!,IF(#REF!<#REF!,0,1))","v":{"$error":"#REF!"}},{"$f":"IF(AND(EY23>=21,EY23<>0),EY23,IF(O23<#REF!,\"СТОП\",EZ23+FA23))","v":{"$error":"#REF!"}},null,15,16,null,{"$f":"IF(#REF!=1,25,0)","v":{"$error":"#REF!"}},{"$f":"IF(#REF!=2,22,0)","v":{"$error":"#REF!"}},{"$f":"IF(#REF!=3,20,0)","v":{"$error":"#REF!"}},{"$f":"IF(#REF!=4,18,0)","v":{"$error":"#REF!"}},{"$f":"IF(#REF!=5,16,0)","v":{"$error":"#REF!"}},{"$f":"IF(#REF!=6,15,0)","v":{"$error":"#REF!"}},{"$f":"IF(#REF!=7,14,0)","v":{"$error":"#REF!"}},{"$f":"IF(#REF!=8,13,0)","v":{"$error":"#REF!"}},{"$f":"IF(#REF!=9,12,0)","v":{"$error":"#REF!"}},{"$f":"IF(#REF!=10,11,0)","v":{"$error":"#REF!"}},{"$f":"IF(#REF!=11,10,0)","v":{"$error":"#REF!"}},{"$f":"IF(#REF!=12,9,0)","v":{"$error":"#REF!"}},{"$f":"IF(#REF!=13,8,0)","v":{"$error":"#REF!"}},{"$f":"IF(#REF!=14,7,0)","v":{"$error":"#REF!"}},{"$f":"IF(#REF!=15,6,0)","v":{"$error":"#REF!"}},{"$f":"IF(#REF!=16,5,0)","v":{"$error":"#REF!"}},{"$f":"IF(#REF!=17,4,0)","v":{"$error":"#REF!"}},{"$f":"IF(#REF!=18,3,0)","v":{"$error":"#REF!"}},{"$f":"IF(#REF!=19,2,0)","v":{"$error":"#REF!"}},{"$f":"IF(#REF!=20,1,0)","v":{"$error":"#REF!"}},{"$f":"IF(#REF!>20,0,0)","v":{"$error":"#REF!"}},{"$f":"IF(#REF!=\"сх\",0,0)","v":{"$error":"#REF!"}},{"$f":"SUM(FG23:GB23)","v":{"$error":"#REF!"}},{"$f":"IF(#REF!=1,25,0)","v":{"$error":"#REF!"}},{"$f":"IF(#REF!=2,22,0)","v":{"$error":"#REF!"}},{"$f":"IF(#REF!=3,20,0)","v":{"$error":"#REF!"}},{"$f":"IF(#REF!=4,18,0)","v":{"$error":"#REF!"}},{"$f":"IF(#REF!=5,16,0)","v":{"$error":"#REF!"}},{"$f":"IF(#REF!=6,15,0)","v":{"$error":"#REF!"}},{"$f":"IF(#REF!=7,14,0)","v":{"$error":"#REF!"}},{"$f":"IF(#REF!=8,13,0)","v":{"$error":"#REF!"}},{"$f":"IF(#REF!=9,12,0)","v":{"$error":"#REF!"}},{"$f":"IF(#REF!=10,11,0)","v":{"$error":"#REF!"}},{"$f":"IF(#REF!=11,10,0)","v":{"$error":"#REF!"}},{"$f":"IF(#REF!=12,9,0)","v":{"$error":"#REF!"}},{"$f":"IF(#REF!=13,8,0)","v":{"$error":"#REF!"}},{"$f":"IF(#REF!=14,7,0)","v":{"$error":"#REF!"}},{"$f":"IF(#REF!=15,6,0)","v":{"$error":"#REF!"}},{"$f":"IF(#REF!=16,5,0)","v":{"$error":"#REF!"}},{"$f":"IF(#REF!=17,4,0)","v":{"$error":"#REF!"}},{"$f":"IF(#REF!=18,3,0)","v":{"$error":"#REF!"}},{"$f":"IF(#REF!=19,2,0)","v":{"$error":"#REF!"}},{"$f":"IF(#REF!=20,1,0)","v":{"$error":"#REF!"}},{"$f":"IF(#REF!>20,0,0)","v":{"$error":"#REF!"}},{"$f":"IF(#REF!=\"сх\",0,0)","v":{"$error":"#REF!"}},{"$f":"SUM(GD23:GY23)","v":{"$error":"#REF!"}},{"$f":"IF(#REF!=1,100,0)","v":{"$error":"#REF!"}},{"$f":"IF(#REF!=2,98,0)","v":{"$error":"#REF!"}},{"$f":"IF(#REF!=3,95,0)","v":{"$error":"#REF!"}},{"$f":"IF(#REF!=4,93,0)","v":{"$error":"#REF!"}},{"$f":"IF(#REF!=5,90,0)","v":{"$error":"#REF!"}},{"$f":"IF(#REF!=6,88,0)","v":{"$error":"#REF!"}},{"$f":"IF(#REF!=7,85,0)","v":{"$error":"#REF!"}},{"$f":"IF(#REF!=8,83,0)","v":{"$error":"#REF!"}},{"$f":"IF(#REF!=9,80,0)","v":{"$error":"#REF!"}},{"$f":"IF(#REF!=10,78,0)","v":{"$error":"#REF!"}},{"$f":"IF(#REF!=11,75,0)","v":{"$error":"#REF!"}},{"$f":"IF(#REF!=12,73,0)","v":{"$error":"#REF!"}},{"$f":"IF(#REF!=13,70,0)","v":{"$error":"#REF!"}},{"$f":"IF(#REF!=14,68,0)","v":{"$error":"#REF!"}},{"$f":"IF(#REF!=15,65,0)","v":{"$error":"#REF!"}},{"$f":"IF(#REF!=16,63,0)","v":{"$error":"#REF!"}},{"$f":"IF(#REF!=17,60,0)","v":{"$error":"#REF!"}},{"$f":"IF(#REF!=18,58,0)","v":{"$error":"#REF!"}},{"$f":"IF(#REF!=19,55,0)","v":{"$error":"#REF!"}},{"$f":"IF(#REF!=20,53,0)","v":{"$error":"#REF!"}},{"$f":"IF(#REF!>20,0,0)","v":{"$error":"#REF!"}},{"$f":"IF(#REF!=\"сх\",0,0)","v":{"$error":"#REF!"}},{"$f":"SUM(HA23:HV23)","v":{"$error":"#REF!"}},{"$f":"IF(#REF!=1,100,0)","v":{"$error":"#REF!"}},{"$f":"IF(#REF!=2,98,0)","v":{"$error":"#REF!"}},{"$f":"IF(#REF!=3,95,0)","v":{"$error":"#REF!"}},{"$f":"IF(#REF!=4,93,0)","v":{"$error":"#REF!"}},{"$f":"IF(#REF!=5,90,0)","v":{"$error":"#REF!"}},{"$f":"IF(#REF!=6,88,0)","v":{"$error":"#REF!"}},{"$f":"IF(#REF!=7,85,0)","v":{"$error":"#REF!"}},{"$f":"IF(#REF!=8,83,0)","v":{"$error":"#REF!"}},{"$f":"IF(#REF!=9,80,0)","v":{"$error":"#REF!"}},{"$f":"IF(#REF!=10,78,0)","v":{"$error":"#REF!"}},{"$f":"IF(#REF!=11,75,0)","v":{"$error":"#REF!"}},{"$f":"IF(#REF!=12,73,0)","v":{"$error":"#REF!"}},{"$f":"IF(#REF!=13,70,0)","v":{"$error":"#REF!"}},{"$f":"IF(#REF!=14,68,0)","v":{"$error":"#REF!"}},{"$f":"IF(#REF!=15,65,0)","v":{"$error":"#REF!"}},{"$f":"IF(#REF!=16,63,0)","v":{"$error":"#REF!"}},{"$f":"IF(#REF!=17,60,0)","v":{"$error":"#REF!"}},{"$f":"IF(#REF!=18,58,0)","v":{"$error":"#REF!"}},{"$f":"IF(#REF!=19,55,0)","v":{"$error":"#REF!"}},{"$f":"IF(#REF!=20,53,0)","v":{"$error":"#REF!"}},{"$f":"IF(#REF!>20,0,0)","v":{"$error":"#REF!"}},{"$f":"IF(#REF!=\"сх\",0,0)","v":{"$error":"#REF!"}},{"$f":"SUM(HX23:IS23)","v":{"$error":"#REF!"}}]
[15,27.2,91,"Зиангиров Адам","II","г. Новый Уренгой, Ямало-Ненецкий АО","СТК \"Ямбург\"","LYNX",15,6,13,8,14,7,21,{"$f":"#REF!+#REF!","v":{"$error":"#REF!"}},null,null,{"$f":"IF(#REF!=1,25,0)","v":{"$error":"#REF!"}},{"$f":"IF(#REF!=2,22,0)","v":{"$error":"#REF!"}},{"$f":"IF(#REF!=3,20,0)","v":{"$error":"#REF!"}},{"$f":"IF(#REF!=4,18,0)","v":{"$error":"#REF!"}},{"$f":"IF(#REF!=5,16,0)","v":{"$error":"#REF!"}},{"$f":"IF(#REF!=6,15,0)","v":{"$error":"#REF!"}},{"$f":"IF(#REF!=7,14,0)","v":{"$error":"#REF!"}},{"$f":"IF(#REF!=8,13,0)","v":{"$error":"#REF!"}},{"$f":"IF(#REF!=9,12,0)","v":{"$error":"#REF!"}},{"$f":"IF(#REF!=10,11,0)","v":{"$error":"#REF!"}},{"$f":"IF(#REF!=11,10,0)","v":{"$error":"#REF!"}},{"$f":"IF(#REF!=12,9,0)","v":{"$error":"#REF!"}},{"$f":"IF(#REF!=13,8,0)","v":{"$error":"#REF!"}},{"$f":"IF(#REF!=14,7,0)","v":{"$error":"#REF!"}},{"$f":"IF(#REF!=15,6,0)","v":{"$error":"#REF!"}},{"$f":"IF(#REF!=16,5,0)","v":{"$error":"#REF!"}},{"$f":"IF(#REF!=17,4,0)","v":{"$error":"#REF!"}},{"$f":"IF(#REF!=18,3,0)","v":{"$error":"#REF!"}},{"$f":"IF(#REF!=19,2,0)","v":{"$error":"#REF!"}},{"$f":"IF(#REF!=20,1,0)","v":{"$error":"#REF!"}},{"$f":"IF(#REF!>20,0,0)","v":{"$error":"#REF!"}},{"$f":"IF(#REF!=\"сх\",0,0)","v":{"$error":"#REF!"}},{"$f":"SUM(S24:AM24)","v":{"$error":"#REF!"}},{"$f":"IF(#REF!=1,25,0)","v":{"$error":"#REF!"}},{"$f":"IF(#REF!=2,22,0)","v":{"$error":"#REF!"}},{"$f":"IF(#REF!=3,20,0)","v":{"$error":"#REF!"}},{"$f":"IF(#REF!=4,18,0)","v":{"$error":"#REF!"}},{"$f":"IF(#REF!=5,16,0)","v":{"$error":"#REF!"}},{"$f":"IF(#REF!=6,15,0)","v":{"$error":"#REF!"}},{"$f":"IF(#REF!=7,14,0)","v":{"$error":"#REF!"}},{"$f":"IF(#REF!=8,13,0)","v":{"$error":"#REF!"}},{"$f":"IF(#REF!=9,12,0)","v":{"$error":"#REF!"}},{"$f":"IF(#REF!=10,11,0)","v":{"$error":"#REF!"}},{"$f":"IF(#REF!=11,10,0)","v":{"$error":"#REF!"}},{"$f":"IF(#REF!=12,9,0)","v":{"$error":"#REF!"}},{"$f":"IF(#REF!=13,8,0)","v":{"$error":"#REF!"}},{"$f":"IF(#REF!=14,7,0)","v":{"$error":"#REF!"}},{"$f":"IF(#REF!=15,6,0)","v":{"$error":"#REF!"}},{"$f":"IF(#REF!=16,5,0)","v":{"$error":"#REF!"}},{"$f":"IF(#REF!=17,4,0)","v":{"$error":"#REF!"}},{"$f":"IF(#REF!=18,3,0)","v":{"$error":"#REF!"}},{"$f":"IF(#REF!=19,2,0)","v":{"$error":"#REF!"}},{"$f":"IF(#REF!=20,1,0)","v":{"$error":"#REF!"}},{"$f":"IF(#REF!>20,0,0)","v":{"$error":"#REF!"}},{"$f":"IF(#REF!=\"сх\",0,0)","v":{"$error":"#REF!"}},{"$f":"SUM(AP24:BJ24)","v":{"$error":"#REF!"}},{"$f":"IF(#REF!=1,45,0)","v":{"$error":"#REF!"}},{"$f":"IF(#REF!=2,42,0)","v":{"$error":"#REF!"}},{"$f":"IF(#REF!=3,40,0)","v":{"$error":"#REF!"}},{"$f":"IF(#REF!=4,38,0)","v":{"$error":"#REF!"}},{"$f":"IF(#REF!=5,36,0)","v":{"$error":"#REF!"}},{"$f":"IF(#REF!=6,35,0)","v":{"$error":"#REF!"}},{"$f":"IF(#REF!=7,34,0)","v":{"$error":"#REF!"}},{"$f":"IF(#REF!=8,33,0)","v":{"$error":"#REF!"}},{"$f":"IF(#REF!=9,32,0)","v":{"$error":"#REF!"}},{"$f":"IF(#REF!=10,31,0)","v":{"$error":"#REF!"}},{"$f":"IF(#REF!=11,30,0)","v":{"$error":"#REF!"}},{"$f":"IF(#REF!=12,29,0)","v":{"$error":"#REF!"}},{"$f":"IF(#REF!=13,28,0)","v":{"$error":"#REF!"}},{"$f":"IF(#REF!=14,27,0)","v":{"$error":"#REF!"}},{"$f":"IF(#REF!=15,26,0)","v":{"$error":"#REF!"}},{"$f":"IF(#REF!=16,25,0)","v":{"$error":"#REF!"}},{"$f":"IF(#REF!=17,24,0)","v":{"$error":"#REF!"}},{"$f":"IF(#REF!=18,23,0)","v":{"$error":"#REF!"}},{"$f":"IF(#REF!=19,22,0)","v":{"$error":"#REF!"}},{"$f":"IF(#REF!=20,21,0)","v":{"$error":"#REF!"}},{"$f":"IF(#REF!=21,20,0)","v":{"$error":"#REF!"}},{"$f":"IF(#REF!=22,19,0)","v":{"$error":"#REF!"}},{"$f":"IF(#REF!=23,18,0)","v":{"$error":"#REF!"}},{"$f":"IF(#REF!=24,17,0)","v":{"$error":"#REF!"}},{"$f":"IF(#REF!=25,16,0)","v":{"$error":"#REF!"}},{"$f":"IF(#REF!=26,15,0)","v":{"$error":"#REF!"}},{"$f":"IF(#REF!=27,14,0)","v":{"$error":"#REF!"}},{"$f":"IF(#REF!=28,13,0)","v":{"$error":"#REF!"}},{"$f":"IF(#REF!=29,12,0)","v":{"$error":"#REF!"}},{"$f":"IF(#REF!=30,11,0)","v":{"$error":"#REF!"}},{"$f":"IF(#REF!=31,10,0)","v":{"$error":"#REF!"}},{"$f":"IF(#REF!=32,9,0)","v":{"$error":"#REF!"}},{"$f":"IF(#REF!=33,8,0)","v":{"$error":"#REF!"}},{"$f":"IF(#REF!=34,7,0)","v":{"$error":"#REF!"}},{"$f":"IF(#REF!=35,6,0)","v":{"$error":"#REF!"}},{"$f":"IF(#REF!=36,5,0)","v":{"$error":"#REF!"}},{"$f":"IF(#REF!=37,4,0)","v":{"$error":"#REF!"}},{"$f":"IF(#REF!=38,3,0)","v":{"$error":"#REF!"}},{"$f":"IF(#REF!=39,2,0)","v":{"$error":"#REF!"}},{"$f":"IF(#REF!=40,1,0)","v":{"$error":"#REF!"}},{"$f":"IF(#REF!>20,0,0)","v":{"$error":"#REF!"}},{"$f":"IF(#REF!=\"сх\",0,0)","v":{"$error":"#REF!"}},{"$f":"SUM(BM24:DB24)","v":{"$error":"#REF!"}},{"$f":"IF(#REF!=1,45,0)","v":{"$error":"#REF!"}},{"$f":"IF(#REF!=2,42,0)","v":{"$error":"#REF!"}},{"$f":"IF(#REF!=3,40,0)","v":{"$error":"#REF!"}},{"$f":"IF(#REF!=4,38,0)","v":{"$error":"#REF!"}},{"$f":"IF(#REF!=5,36,0)","v":{"$error":"#REF!"}},{"$f":"IF(#REF!=6,35,0)","v":{"$error":"#REF!"}},{"$f":"IF(#REF!=7,34,0)","v":{"$error":"#REF!"}},{"$f":"IF(#REF!=8,33,0)","v":{"$error":"#REF!"}},{"$f":"IF(#REF!=9,32,0)","v":{"$error":"#REF!"}},{"$f":"IF(#REF!=10,31,0)","v":{"$error":"#REF!"}},{"$f":"IF(#REF!=11,30,0)","v":{"$error":"#REF!"}},{"$f":"IF(#REF!=12,29,0)","v":{"$error":"#REF!"}},{"$f":"IF(#REF!=13,28,0)","v":{"$error":"#REF!"}},{"$f":"IF(#REF!=14,27,0)","v":{"$error":"#REF!"}},{"$f":"IF(#REF!=15,26,0)","v":{"$error":"#REF!"}},{"$f":"IF(#REF!=16,25,0)","v":{"$error":"#REF!"}},{"$f":"IF(#REF!=17,24,0)","v":{"$error":"#REF!"}},{"$f":"IF(#REF!=18,23,0)","v":{"$error":"#REF!"}},{"$f":"IF(#REF!=19,22,0)","v":{"$error":"#REF!"}},{"$f":"IF(#REF!=20,21,0)","v":{"$error":"#REF!"}},{"$f":"IF(#REF!=21,20,0)","v":{"$error":"#REF!"}},{"$f":"IF(#REF!=22,19,0)","v":{"$error":"#REF!"}},{"$f":"IF(#REF!=23,18,0)","v":{"$error":"#REF!"}},{"$f":"IF(#REF!=24,17,0)","v":{"$error":"#REF!"}},{"$f":"IF(#REF!=25,16,0)","v":{"$error":"#REF!"}},{"$f":"IF(#REF!=26,15,0)","v":{"$error":"#REF!"}},{"$f":"IF(#REF!=27,14,0)","v":{"$error":"#REF!"}},{"$f":"IF(#REF!=28,13,0)","v":{"$error":"#REF!"}},{"$f":"IF(#REF!=29,12,0)","v":{"$error":"#REF!"}},{"$f":"IF(#REF!=30,11,0)","v":{"$error":"#REF!"}},{"$f":"IF(#REF!=31,10,0)","v":{"$error":"#REF!"}},{"$f":"IF(#REF!=32,9,0)","v":{"$error":"#REF!"}},{"$f":"IF(#REF!=33,8,0)","v":{"$error":"#REF!"}},{"$f":"IF(#REF!=34,7,0)","v":{"$error":"#REF!"}},{"$f":"IF(#REF!=35,6,0)","v":{"$error":"#REF!"}},{"$f":"IF(#REF!=36,5,0)","v":{"$error":"#REF!"}},{"$f":"IF(#REF!=37,4,0)","v":{"$error":"#REF!"}},{"$f":"IF(#REF!=38,3,0)","v":{"$error":"#REF!"}},{"$f":"IF(#REF!=39,2,0)","v":{"$error":"#REF!"}},{"$f":"IF(#REF!=40,1,0)","v":{"$error":"#REF!"}},{"$f":"IF(#REF!>20,0,0)","v":{"$error":"#REF!"}},{"$f":"IF(#REF!=\"сх\",0,0)","v":{"$error":"#REF!"}},{"$f":"SUM(DD24:ES24)","v":{"$error":"#REF!"}},null,{"$f":"IF(#REF!=\"сх\",\"ноль\",IF(#REF!>0,#REF!,\"Ноль\"))","v":{"$error":"#REF!"}},{"$f":"IF(#REF!=\"сх\",\"ноль\",IF(#REF!>0,#REF!,\"Ноль\"))","v":{"$error":"#REF!"}},null,{"$f":"MIN(EV24,EW24)","v":{"$error":"#REF!"}},{"$f":"IF(O24=#REF!,IF(#REF!<#REF!,#REF!,FD24),#REF!)","v":{"$error":"#REF!"}},{"$f":"IF(O24=#REF!,IF(#REF!<#REF!,0,1))","v":{"$error":"#REF!"}},{"$f":"IF(AND(EY24>=21,EY24<>0),EY24,IF(O24<#REF!,\"СТОП\",EZ24+FA24))","v":{"$error":"#REF!"}},null,15,16,null,{"$f":"IF(#REF!=1,25,0)","v":{"$error":"#REF!"}},{"$f":"IF(#REF!=2,22,0)","v":{"$error":"#REF!"}},{"$f":"IF(#REF!=3,20,0)","v":{"$error":"#REF!"}},{"$f":"IF(#REF!=4,18,0)","v":{"$error":"#REF!"}},{"$f":"IF(#REF!=5,16,0)","v":{"$error":"#REF!"}},{"$f":"IF(#REF!=6,15,0)","v":{"$error":"#REF!"}},{"$f":"IF(#REF!=7,14,0)","v":{"$error":"#REF!"}},{"$f":"IF(#REF!=8,13,0)","v":{"$error":"#REF!"}},{"$f":"IF(#REF!=9,12,0)","v":{"$error":"#REF!"}},{"$f":"IF(#REF!=10,11,0)","v":{"$error":"#REF!"}},{"$f":"IF(#REF!=11,10,0)","v":{"$error":"#REF!"}},{"$f":"IF(#REF!=12,9,0)","v":{"$error":"#REF!"}},{"$f":"IF(#REF!=13,8,0)","v":{"$error":"#REF!"}},{"$f":"IF(#REF!=14,7,0)","v":{"$error":"#REF!"}},{"$f":"IF(#REF!=15,6,0)","v":{"$error":"#REF!"}},{"$f":"IF(#REF!=16,5,0)","v":{"$error":"#REF!"}},{"$f":"IF(#REF!=17,4,0)","v":{"$error":"#REF!"}},{"$f":"IF(#REF!=18,3,0)","v":{"$error":"#REF!"}},{"$f":"IF(#REF!=19,2,0)","v":{"$error":"#REF!"}},{"$f":"IF(#REF!=20,1,0)","v":{"$error":"#REF!"}},{"$f":"IF(#REF!>20,0,0)","v":{"$error":"#REF!"}},{"$f":"IF(#REF!=\"сх\",0,0)","v":{"$error":"#REF!"}},{"$f":"SUM(FG24:GB24)","v":{"$error":"#REF!"}},{"$f":"IF(#REF!=1,25,0)","v":{"$error":"#REF!"}},{"$f":"IF(#REF!=2,22,0)","v":{"$error":"#REF!"}},{"$f":"IF(#REF!=3,20,0)","v":{"$error":"#REF!"}},{"$f":"IF(#REF!=4,18,0)","v":{"$error":"#REF!"}},{"$f":"IF(#REF!=5,16,0)","v":{"$error":"#REF!"}},{"$f":"IF(#REF!=6,15,0)","v":{"$error":"#REF!"}},{"$f":"IF(#REF!=7,14,0)","v":{"$error":"#REF!"}},{"$f":"IF(#REF!=8,13,0)","v":{"$error":"#REF!"}},{"$f":"IF(#REF!=9,12,0)","v":{"$error":"#REF!"}},{"$f":"IF(#REF!=10,11,0)","v":{"$error":"#REF!"}},{"$f":"IF(#REF!=11,10,0)","v":{"$error":"#REF!"}},{"$f":"IF(#REF!=12,9,0)","v":{"$error":"#REF!"}},{"$f":"IF(#REF!=13,8,0)","v":{"$error":"#REF!"}},{"$f":"IF(#REF!=14,7,0)","v":{"$error":"#REF!"}},{"$f":"IF(#REF!=15,6,0)","v":{"$error":"#REF!"}},{"$f":"IF(#REF!=16,5,0)","v":{"$error":"#REF!"}},{"$f":"IF(#REF!=17,4,0)","v":{"$error":"#REF!"}},{"$f":"IF(#REF!=18,3,0)","v":{"$error":"#REF!"}},{"$f":"IF(#REF!=19,2,0)","v":{"$error":"#REF!"}},{"$f":"IF(#REF!=20,1,0)","v":{"$error":"#REF!"}},{"$f":"IF(#REF!>20,0,0)","v":{"$error":"#REF!"}},{"$f":"IF(#REF!=\"сх\",0,0)","v":{"$error":"#REF!"}},{"$f":"SUM(GD24:GY24)","v":{"$error":"#REF!"}},{"$f":"IF(#REF!=1,100,0)","v":{"$error":"#REF!"}},{"$f":"IF(#REF!=2,98,0)","v":{"$error":"#REF!"}},{"$f":"IF(#REF!=3,95,0)","v":{"$error":"#REF!"}},{"$f":"IF(#REF!=4,93,0)","v":{"$error":"#REF!"}},{"$f":"IF(#REF!=5,90,0)","v":{"$error":"#REF!"}},{"$f":"IF(#REF!=6,88,0)","v":{"$error":"#REF!"}},{"$f":"IF(#REF!=7,85,0)","v":{"$error":"#REF!"}},{"$f":"IF(#REF!=8,83,0)","v":{"$error":"#REF!"}},{"$f":"IF(#REF!=9,80,0)","v":{"$error":"#REF!"}},{"$f":"IF(#REF!=10,78,0)","v":{"$error":"#REF!"}},{"$f":"IF(#REF!=11,75,0)","v":{"$error":"#REF!"}},{"$f":"IF(#REF!=12,73,0)","v":{"$error":"#REF!"}},{"$f":"IF(#REF!=13,70,0)","v":{"$error":"#REF!"}},{"$f":"IF(#REF!=14,68,0)","v":{"$error":"#REF!"}},{"$f":"IF(#REF!=15,65,0)","v":{"$error":"#REF!"}},{"$f":"IF(#REF!=16,63,0)","v":{"$error":"#REF!"}},{"$f":"IF(#REF!=17,60,0)","v":{"$error":"#REF!"}},{"$f":"IF(#REF!=18,58,0)","v":{"$error":"#REF!"}},{"$f":"IF(#REF!=19,55,0)","v":{"$error":"#REF!"}},{"$f":"IF(#REF!=20,53,0)","v":{"$error":"#REF!"}},{"$f":"IF(#REF!>20,0,0)","v":{"$error":"#REF!"}},{"$f":"IF(#REF!=\"сх\",0,0)","v":{"$error":"#REF!"}},{"$f":"SUM(HA24:HV24)","v":{"$error":"#REF!"}},{"$f":"IF(#REF!=1,100,0)","v":{"$error":"#REF!"}},{"$f":"IF(#REF!=2,98,0)","v":{"$error":"#REF!"}},{"$f":"IF(#REF!=3,95,0)","v":{"$error":"#REF!"}},{"$f":"IF(#REF!=4,93,0)","v":{"$error":"#REF!"}},{"$f":"IF(#REF!=5,90,0)","v":{"$error":"#REF!"}},{"$f":"IF(#REF!=6,88,0)","v":{"$error":"#REF!"}},{"$f":"IF(#REF!=7,85,0)","v":{"$error":"#REF!"}},{"$f":"IF(#REF!=8,83,0)","v":{"$error":"#REF!"}},{"$f":"IF(#REF!=9,80,0)","v":{"$error":"#REF!"}},{"$f":"IF(#REF!=10,78,0)","v":{"$error":"#REF!"}},{"$f":"IF(#REF!=11,75,0)","v":{"$error":"#REF!"}},{"$f":"IF(#REF!=12,73,0)","v":{"$error":"#REF!"}},{"$f":"IF(#REF!=13,70,0)","v":{"$error":"#REF!"}},{"$f":"IF(#REF!=14,68,0)","v":{"$error":"#REF!"}},{"$f":"IF(#REF!=15,65,0)","v":{"$error":"#REF!"}},{"$f":"IF(#REF!=16,63,0)","v":{"$error":"#REF!"}},{"$f":"IF(#REF!=17,60,0)","v":{"$error":"#REF!"}},{"$f":"IF(#REF!=18,58,0)","v":{"$error":"#REF!"}},{"$f":"IF(#REF!=19,55,0)","v":{"$error":"#REF!"}},{"$f":"IF(#REF!=20,53,0)","v":{"$error":"#REF!"}},{"$f":"IF(#REF!>20,0,0)","v":{"$error":"#REF!"}},{"$f":"IF(#REF!=\"сх\",0,0)","v":{"$error":"#REF!"}},{"$f":"SUM(HX24:IS24)","v":{"$error":"#REF!"}}]
[16,26.4,78,"Шимолин Владислав","II","г. Новый Уренгой, Ямало-Ненецкий АО","СТК \"Ямбург\"","LYNX",16,5,15,6,16,5,16,{"$f":"#REF!+#REF!","v":{"$error":"#REF!"}},null,null,{"$f":"IF(#REF!=1,25,0)","v":{"$error":"#REF!"}},{"$f":"IF(#REF!=2,22,0)","v":{"$error":"#REF!"}},{"$f":"IF(#REF!=3,20,0)","v":{"$error":"#REF!"}},{"$f":"IF(#REF!=4,18,0)","v":{"$error":"#REF!"}},{"$f":"IF(#REF!=5,16,0)","v":{"$error":"#REF!"}},{"$f":"IF(#REF!=6,15,0)","v":{"$error":"#REF!"}},{"$f":"IF(#REF!=7,14,0)","v":{"$error":"#REF!"}},{"$f":"IF(#REF!=8,13,0)","v":{"$error":"#REF!"}},{"$f":"IF(#REF!=9,12,0)","v":{"$error":"#REF!"}},{"$f":"IF(#REF!=10,11,0)","v":{"$error":"#REF!"}},{"$f":"IF(#REF!=11,10,0)","v":{"$error":"#REF!"}},{"$f":"IF(#REF!=12,9,0)","v":{"$error":"#REF!"}},{"$f":"IF(#REF!=13,8,0)","v":{"$error":"#REF!"}},{"$f":"IF(#REF!=14,7,0)","v":{"$error":"#REF!"}},{"$f":"IF(#REF!=15,6,0)","v":{"$error":"#REF!"}},{"$f":"IF(#REF!=16,5,0)","v":{"$error":"#REF!"}},{"$f":"IF(#REF!=17,4,0)","v":{"$error":"#REF!"}},{"$f":"IF(#REF!=18,3,0)","v":{"$error":"#REF!"}},{"$f":"IF(#REF!=19,2,0)","v":{"$error":"#REF!"}},{"$f":"IF(#REF!=20,1,0)","v":{"$error":"#REF!"}},{"$f":"IF(#REF!>20,0,0)","v":{"$error":"#REF!"}},{"$f":"IF(#REF!=\"сх\",0,0)","v":{"$error":"#REF!"}},{"$f":"SUM(S25:AM25)","v":{"$error":"#REF!"}},{"$f":"IF(#REF!=1,25,0)","v":{"$error":"#REF!"}},{"$f":"IF(#REF!=2,22,0)","v":{"$error":"#REF!"}},{"$f":"IF(#REF!=3,20,0)","v":{"$error":"#REF!"}},{"$f":"IF(#REF!=4,18,0)","v":{"$error":"#REF!"}},{"$f":"IF(#REF!=5,16,0)","v":{"$error":"#REF!"}},{"$f":"IF(#REF!=6,15,0)","v":{"$error":"#REF!"}},{"$f":"IF(#REF!=7,14,0)","v":{"$error":"#REF!"}},{"$f":"IF(#REF!=8,13,0)","v":{"$error":"#REF!"}},{"$f":"IF(#REF!=9,12,0)","v":{"$error":"#REF!"}},{"$f":"IF(#REF!=10,11,0)","v":{"$error":"#REF!"}},{"$f":"IF(#REF!=11,10,0)","v":{"$error":"#REF!"}},{"$f":"IF(#REF!=12,9,0)","v":{"$error":"#REF!"}},{"$f":"IF(#REF!=13,8,0)","v":{"$error":"#REF!"}},{"$f":"IF(#REF!=14,7,0)","v":{"$error":"#REF!"}},{"$f":"IF(#REF!=15,6,0)","v":{"$error":"#REF!"}},{"$f":"IF(#REF!=16,5,0)","v":{"$error":"#REF!"}},{"$f":"IF(#REF!=17,4,0)","v":{"$error":"#REF!"}},{"$f":"IF(#REF!=18,3,0)","v":{"$error":"#REF!"}},{"$f":"IF(#REF!=19,2,0)","v":{"$error":"#REF!"}},{"$f":"IF(#REF!=20,1,0)","v":{"$error":"#REF!"}},{"$f":"IF(#REF!>20,0,0)","v":{"$error":"#REF!"}},{"$f":"IF(#REF!=\"сх\",0,0)","v":{"$error":"#REF!"}},{"$f":"SUM(AP25:BJ25)","v":{"$error":"#REF!"}},{"$f":"IF(#REF!=1,45,0)","v":{"$error":"#REF!"}},{"$f":"IF(#REF!=2,42,0)","v":{"$error":"#REF!"}},{"$f":"IF(#REF!=3,40,0)","v":{"$error":"#REF!"}},{"$f":"IF(#REF!=4,38,0)","v":{"$error":"#REF!"}},{"$f":"IF(#REF!=5,36,0)","v":{"$error":"#REF!"}},{"$f":"IF(#REF!=6,35,0)","v":{"$error":"#REF!"}},{"$f":"IF(#REF!=7,34,0)","v":{"$error":"#REF!"}},{"$f":"IF(#REF!=8,33,0)","v":{"$error":"#REF!"}},{"$f":"IF(#REF!=9,32,0)","v":{"$error":"#REF!"}},{"$f":"IF(#REF!=10,31,0)","v":{"$error":"#REF!"}},{"$f":"IF(#REF!=11,30,0)","v":{"$error":"#REF!"}},{"$f":"IF(#REF!=12,29,0)","v":{"$error":"#REF!"}},{"$f":"IF(#REF!=13,28,0)","v":{"$error":"#REF!"}},{"$f":"IF(#REF!=14,27,0)","v":{"$error":"#REF!"}},{"$f":"IF(#REF!=15,26,0)","v":{"$error":"#REF!"}},{"$f":"IF(#REF!=16,25,0)","v":{"$error":"#REF!"}},{"$f":"IF(#REF!=17,24,0)","v":{"$error":"#REF!"}},{"$f":"IF(#REF!=18,23,0)","v":{"$error":"#REF!"}},{"$f":"IF(#REF!=19,22,0)","v":{"$error":"#REF!"}},{"$f":"IF(#REF!=20,21,0)","v":{"$error":"#REF!"}},{"$f":"IF(#REF!=21,20,0)","v":{"$error":"#REF!"}},{"$f":"IF(#REF!=22,19,0)","v":{"$error":"#REF!"}},{"$f":"IF(#REF!=23,18,0)","v":{"$error":"#REF!"}},{"$f":"IF(#REF!=24,17,0)","v":{"$error":"#REF!"}},{"$f":"IF(#REF!=25,16,0)","v":{"$error":"#REF!"}},{"$f":"IF(#REF!=26,15,0)","v":{"$error":"#REF!"}},{"$f":"IF(#REF!=27,14,0)","v":{"$error":"#REF!"}},{"$f":"IF(#REF!=28,13,0)","v":{"$error":"#REF!"}},{"$f":"IF(#REF!=29,12,0)","v":{"$error":"#REF!"}},{"$f":"IF(#REF!=30,11,0)","v":{"$error":"#REF!"}},{"$f":"IF(#REF!=31,10,0)","v":{"$error":"#REF!"}},{"$f":"IF(#REF!=32,9,0)","v":{"$error":"#REF!"}},{"$f":"IF(#REF!=33,8,0)","v":{"$error":"#REF!"}},{"$f":"IF(#REF!=34,7,0)","v":{"$error":"#REF!"}},{"$f":"IF(#REF!=35,6,0)","v":{"$error":"#REF!"}},{"$f":"IF(#REF!=36,5,0)","v":{"$error":"#REF!"}},{"$f":"IF(#REF!=37,4,0)","v":{"$error":"#REF!"}},{"$f":"IF(#REF!=38,3,0)","v":{"$error":"#REF!"}},{"$f":"IF(#REF!=39,2,0)","v":{"$error":"#REF!"}},{"$f":"IF(#REF!=40,1,0)","v":{"$error":"#REF!"}},{"$f":"IF(#REF!>20,0,0)","v":{"$error":"#REF!"}},{"$f":"IF(#REF!=\"сх\",0,0)","v":{"$error":"#REF!"}},{"$f":"SUM(BM25:DB25)","v":{"$error":"#REF!"}},{"$f":"IF(#REF!=1,45,0)","v":{"$error":"#REF!"}},{"$f":"IF(#REF!=2,42,0)","v":{"$error":"#REF!"}},{"$f":"IF(#REF!=3,40,0)","v":{"$error":"#REF!"}},{"$f":"IF(#REF!=4,38,0)","v":{"$error":"#REF!"}},{"$f":"IF(#REF!=5,36,0)","v":{"$error":"#REF!"}},{"$f":"IF(#REF!=6,35,0)","v":{"$error":"#REF!"}},{"$f":"IF(#REF!=7,34,0)","v":{"$error":"#REF!"}},{"$f":"IF(#REF!=8,33,0)","v":{"$error":"#REF!"}},{"$f":"IF(#REF!=9,32,0)","v":{"$error":"#REF!"}},{"$f":"IF(#REF!=10,31,0)","v":{"$error":"#REF!"}},{"$f":"IF(#REF!=11,30,0)","v":{"$error":"#REF!"}},{"$f":"IF(#REF!=12,29,0)","v":{"$error":"#REF!"}},{"$f":"IF(#REF!=13,28,0)","v":{"$error":"#REF!"}},{"$f":"IF(#REF!=14,27,0)","v":{"$error":"#REF!"}},{"$f":"IF(#REF!=15,26,0)","v":{"$error":"#REF!"}},{"$f":"IF(#REF!=16,25,0)","v":{"$error":"#REF!"}},{"$f":"IF(#REF!=17,24,0)","v":{"$error":"#REF!"}},{"$f":"IF(#REF!=18,23,0)","v":{"$error":"#REF!"}},{"$f":"IF(#REF!=19,22,0)","v":{"$error":"#REF!"}},{"$f":"IF(#REF!=20,21,0)","v":{"$error":"#REF!"}},{"$f":"IF(#REF!=21,20,0)","v":{"$error":"#REF!"}},{"$f":"IF(#REF!=22,19,0)","v":{"$error":"#REF!"}},{"$f":"IF(#REF!=23,18,0)","v":{"$error":"#REF!"}},{"$f":"IF(#REF!=24,17,0)","v":{"$error":"#REF!"}},{"$f":"IF(#REF!=25,16,0)","v":{"$error":"#REF!"}},{"$f":"IF(#REF!=26,15,0)","v":{"$error":"#REF!"}},{"$f":"IF(#REF!=27,14,0)","v":{"$error":"#REF!"}},{"$f":"IF(#REF!=28,13,0)","v":{"$error":"#REF!"}},{"$f":"IF(#REF!=29,12,0)","v":{"$error":"#REF!"}},{"$f":"IF(#REF!=30,11,0)","v":{"$error":"#REF!"}},{"$f":"IF(#REF!=31,10,0)","v":{"$error":"#REF!"}},{"$f":"IF(#REF!=32,9,0)","v":{"$error":"#REF!"}},{"$f":"IF(#REF!=33,8,0)","v":{"$error":"#REF!"}},{"$f":"IF(#REF!=34,7,0)","v":{"$error":"#REF!"}},{"$f":"IF(#REF!=35,6,0)","v":{"$error":"#REF!"}},{"$f":"IF(#REF!=36,5,0)","v":{"$error":"#REF!"}},{"$f":"IF(#REF!=37,4,0)","v":{"$error":"#REF!"}},{"$f":"IF(#REF!=38,3,0)","v":{"$error":"#REF!"}},{"$f":"IF(#REF!=39,2,0)","v":{"$error":"#REF!"}},{"$f":"IF(#REF!=40,1,0)","v":{"$error":"#REF!"}},{"$f":"IF(#REF!>20,0,0)","v":{"$error":"#REF!"}},{"$f":"IF(#REF!=\"сх\",0,0)","v":{"$error":"#REF!"}},{"$f":"SUM(DD25:ES25)","v":{"$error":"#REF!"}},null,{"$f":"IF(#REF!=\"сх\",\"ноль\",IF(#REF!>0,#REF!,\"Ноль\"))","v":{"$error":"#REF!"}},{"$f":"IF(#REF!=\"сх\",\"ноль\",IF(#REF!>0,#REF!,\"Ноль\"))","v":{"$error":"#REF!"}},null,{"$f":"MIN(EV25,EW25)","v":{"$error":"#REF!"}},{"$f":"IF(O25=#REF!,IF(#REF!<#REF!,#REF!,FD25),#REF!)","v":{"$error":"#REF!"}},{"$f":"IF(O25=#REF!,IF(#REF!<#REF!,0,1))","v":{"$error":"#REF!"}},{"$f":"IF(AND(EY25>=21,EY25<>0),EY25,IF(O25<#REF!,\"СТОП\",EZ25+FA25))","v":{"$error":"#REF!"}},null,15,16,null,{"$f":"IF(#REF!=1,25,0)","v":{"$error":"#REF!"}},{"$f":"IF(#REF!=2,22,0)","v":{"$error":"#REF!"}},{"$f":"IF(#REF!=3,20,0)","v":{"$error":"#REF!"}},{"$f":"IF(#REF!=4,18,0)","v":{"$error":"#REF!"}},{"$f":"IF(#REF!=5,16,0)","v":{"$error":"#REF!"}},{"$f":"IF(#REF!=6,15,0)","v":{"$error":"#REF!"}},{"$f":"IF(#REF!=7,14,0)","v":{"$error":"#REF!"}},{"$f":"IF(#REF!=8,13,0)","v":{"$error":"#REF!"}},{"$f":"IF(#REF!=9,12,0)","v":{"$error":"#REF!"}},{"$f":"IF(#REF!=10,11,0)","v":{"$error":"#REF!"}},{"$f":"IF(#REF!=11,10,0)","v":{"$error":"#REF!"}},{"$f":"IF(#REF!=12,9,0)","v":{"$error":"#REF!"}},{"$f":"IF(#REF!=13,8,0)","v":{"$error":"#REF!"}},{"$f":"IF(#REF!=14,7,0)","v":{"$error":"#REF!"}},{"$f":"IF(#REF!=15,6,0)","v":{"$error":"#REF!"}},{"$f":"IF(#REF!=16,5,0)","v":{"$error":"#REF!"}},{"$f":"IF(#REF!=17,4,0)","v":{"$error":"#REF!"}},{"$f":"IF(#REF!=18,3,0)","v":{"$error":"#REF!"}},{"$f":"IF(#REF!=19,2,0)","v":{"$error":"#REF!"}},{"$f":"IF(#REF!=20,1,0)","v":{"$error":"#REF!"}},{"$f":"IF(#REF!>20,0,0)","v":{"$error":"#REF!"}},{"$f":"IF(#REF!=\"сх\",0,0)","v":{"$error":"#REF!"}},{"$f":"SUM(FG25:GB25)","v":{"$error":"#REF!"}},{"$f":"IF(#REF!=1,25,0)","v":{"$error":"#REF!"}},{"$f":"IF(#REF!=2,22,0)","v":{"$error":"#REF!"}},{"$f":"IF(#REF!=3,20,0)","v":{"$error":"#REF!"}},{"$f":"IF(#REF!=4,18,0)","v":{"$error":"#REF!"}},{"$f":"IF(#REF!=5,16,0)","v":{"$error":"#REF!"}},{"$f":"IF(#REF!=6,15,0)","v":{"$error":"#REF!"}},{"$f":"IF(#REF!=7,14,0)","v":{"$error":"#REF!"}},{"$f":"IF(#REF!=8,13,0)","v":{"$error":"#REF!"}},{"$f":"IF(#REF!=9,12,0)","v":{"$error":"#REF!"}},{"$f":"IF(#REF!=10,11,0)","v":{"$error":"#REF!"}},{"$f":"IF(#REF!=11,10,0)","v":{"$error":"#REF!"}},{"$f":"IF(#REF!=12,9,0)","v":{"$error":"#REF!"}},{"$f":"IF(#REF!=13,8,0)","v":{"$error":"#REF!"}},{"$f":"IF(#REF!=14,7,0)","v":{"$error":"#REF!"}},{"$f":"IF(#REF!=15,6,0)","v":{"$error":"#REF!"}},{"$f":"IF(#REF!=16,5,0)","v":{"$error":"#REF!"}},{"$f":"IF(#REF!=17,4,0)","v":{"$error":"#REF!"}},{"$f":"IF(#REF!=18,3,0)","v":{"$error":"#REF!"}},{"$f":"IF(#REF!=19,2,0)","v":{"$error":"#REF!"}},{"$f":"IF(#REF!=20,1,0)","v":{"$error":"#REF!"}},{"$f":"IF(#REF!>20,0,0)","v":{"$error":"#REF!"}},{"$f":"IF(#REF!=\"сх\",0,0)","v":{"$error":"#REF!"}},{"$f":"SUM(GD25:GY25)","v":{"$error":"#REF!"}},{"$f":"IF(#REF!=1,100,0)","v":{"$error":"#REF!"}},{"$f":"IF(#REF!=2,98,0)","v":{"$error":"#REF!"}},{"$f":"IF(#REF!=3,95,0)","v":{"$error":"#REF!"}},{"$f":"IF(#REF!=4,93,0)","v":{"$error":"#REF!"}},{"$f":"IF(#REF!=5,90,0)","v":{"$error":"#REF!"}},{"$f":"IF(#REF!=6,88,0)","v":{"$error":"#REF!"}},{"$f":"IF(#REF!=7,85,0)","v":{"$error":"#REF!"}},{"$f":"IF(#REF!=8,83,0)","v":{"$error":"#REF!"}},{"$f":"IF(#REF!=9,80,0)","v":{"$error":"#REF!"}},{"$f":"IF(#REF!=10,78,0)","v":{"$error":"#REF!"}},{"$f":"IF(#REF!=11,75,0)","v":{"$error":"#REF!"}},{"$f":"IF(#REF!=12,73,0)","v":{"$error":"#REF!"}},{"$f":"IF(#REF!=13,70,0)","v":{"$error":"#REF!"}},{"$f":"IF(#REF!=14,68,0)","v":{"$error":"#REF!"}},{"$f":"IF(#REF!=15,65,0)","v":{"$error":"#REF!"}},{"$f":"IF(#REF!=16,63,0)","v":{"$error":"#REF!"}},{"$f":"IF(#REF!=17,60,0)","v":{"$error":"#REF!"}},{"$f":"IF(#REF!=18,58,0)","v":{"$error":"#REF!"}},{"$f":"IF(#REF!=19,55,0)","v":{"$error":"#REF!"}},{"$f":"IF(#REF!=20,53,0)","v":{"$error":"#REF!"}},{"$f":"IF(#REF!>20,0,0)","v":{"$error":"#REF!"}},{"$f":"IF(#REF!=\"сх\",0,0)","v":{"$error":"#REF!"}},{"$f":"SUM(HA25:HV25)","v":{"$error":"#REF!"}},{"$f":"IF(#REF!=1,100,0)","v":{"$error":"#REF!"}},{"$f":"IF(#REF!=2,98,0)","v":{"$error":"#REF!"}},{"$f":"IF(#REF!=3,95,0)","v":{"$error":"#REF!"}},{"$f":"IF(#REF!=4,93,0)","v":{"$error":"#REF!"}},{"$f":"IF(#REF!=5,90,0)","v":{"$error":"#REF!"}},{"$f":"IF(#REF!=6,88,0)","v":{"$error":"#REF!"}},{"$f":"IF(#REF!=7,85,0)","v":{"$error":"#REF!"}},{"$f":"IF(#REF!=8,83,0)","v":{"$error":"#REF!"}},{"$f":"IF(#REF!=9,80,0)","v":{"$error":"#REF!"}},{"$f":"IF(#REF!=10,78,0)","v":{"$error":"#REF!"}},{"$f":"IF(#REF!=11,75,0)","v":{"$error":"#REF!"}},{"$f":"IF(#REF!=12,73,0)","v":{"$error":"#REF!"}},{"$f":"IF(#REF!=13,70,0)","v":{"$error":"#REF!"}},{"$f":"IF(#REF!=14,68,0)","v":{"$error":"#REF!"}},{"$f":"IF(#REF!=15,65,0)","v":{"$error":"#REF!"}},{"$f":"IF(#REF!=16,63,0)","v":{"$error":"#REF!"}},{"$f":"IF(#REF!=17,60,0)","v":{"$error":"#REF!"}},{"$f":"IF(#REF!=18,58,0)","v":{"$error":"#REF!"}},{"$f":"IF(#REF!=19,55,0)","v":{"$error":"#REF!"}},{"$f":"IF(#REF!=20,53,0)","v":{"$error":"#REF!"}},{"$f":"IF(#REF!>20,0,0)","v":{"$error":"#REF!"}},{"$f":"IF(#REF!=\"сх\",0,0)","v":{"$error":"#REF!"}},{"$f":"SUM(HX25:IS25)","v":{"$error":"#REF!"}}]
[]
["Главный судья соревнований"]
["судья Всероссийской категории:                                                                                                              А. Б. Стеблинский (г. Тюмень; лицензия МФР А 144)"]
[]
["Главный секретарь соревнований"]
["судья Всероссийской категории:                                                                                              А. Ю. Иванов (г. Москва/лицензия МФР А 105; FIM 11245)"]

{"sheet":"ЮНИОРЫ ЯНАО","index":3,"n_rows":31,"n_cols":258,"rows_kept":31,"cut":false,"hidden":false,"merged":[[26,0,26,7],[29,0,29,7],[6,15,8,15],[7,8,8,8],[7,9,8,9],[7,10,8,10],[7,11,8,11],[7,12,8,12],[7,13,8,13],[6,6,8,6],[6,7,8,7],[6,8,6,9],[6,10,6,11],[6,12,6,13],[6,14,8,14],[6,0,8,0],[6,1,8,1],[6,2,8,2],[6,3,8,3],[6,4,8,4],[6,5,8,5],[5,8,5,10],[0,15,3,15],[1,0,1,14],[2,0,2,14],[3,0,3,14],[4,0,4,14]]}
[]
[" Кубок ЯНАО по кроссу на снегоходах 2017 года - III-й этап.                                                            "]
["ПРОТОКОЛ ЛИЧНОГО ЗАЧЕТА",null,null,null,null,null,null,null,null,null,null,null,null,null,null,null,null,null,null,null,null,null,null,null,null,null,null,null,null,null,null,null,null,null,null,null,null,null,null,null,null,null,null,null,null,null,null,null,null,null,null,null,null,null,null,null,null,null,null,null,null,null,null,null,null,null,null,null,null,null,null,null,null,null,null,null,null,null,null,null,null,null,null,null,null,null,null,null,null,null,null,null,null,null,null,null,null,null,null,null,null,null,null,null,null,null,null,null,null,null,null,null,null,null,null,null,null,null,null,null,null,null,null,null,null,null,null,null,null,null,null,null,null,null,null,null,null,null,null,null,null,null,null,null,null,null,null,null,null,null,null,null,null,null,null,null,null,null,null,null,null,null,null,null,null,null,null,null,null,null,null,null,null,null,"первый этап"]
["г. Новый Уренгой, Ямало-Ненецкий АО.                                                                                                                                                                                                       31 марта - 02 апреля 2017 года.",null,null,null,null,null,null,null,null,null,null,null,null,null,null,null,null,null,null,null,null,null,null,null,null,null,null,null,null,null,null,null,null,null,null,null,null,null,null,null,null,null,null,null,null,null,null,null,null,null,null,null,null,null,null,null,null,null,null,null,null,null,null,null,null,null,null,null,null,null,null,null,null,null,null,null,null,null,null,null,null,null,null,null,null,null,null,null,null,null,null,null,null,null,null,null,null,null,null,null,null,null,null,null,null,null,null,null,null,null,null,null,null,null,null,null,null,null,null,null,null,null,null,null,null,null,null,null,null,null,null,null,null,null,null,null,null,null,null,null,null,null,null,null,null,null,null,null,null,null,null,null,null,null,null,null,null,null,null,null,null,null,null,"первый заезд личные очки",null,null,null,null,null,null,null,null,null,null,null,null,null,null,null,null,null,null,null,null,null,"второй заезд личные очки",null,null,null,null,null,null,null,null,null,null,null,null,null,null,null,null,null,null,null,null,null,null,"Первый заезд командные очки",null,null,null,null,null,null,null,null,null,null,null,null,null,null,null,null,null,null,null,null,null,null,"Второй заезд командные очки"]
["Класс \"ЮНИОРЫ\". ",null,null,null,null,null,null,null,null,null,null,null,null,null,null,null,null,null,null,null,null,null,null,null,null,null,null,null,null,null,null,null,null,null,null,null,null,null,null,null,null,null,null,null,null,null,null,null,null,null,null,null,null,null,null,null,null,null,null,null,null,null,null,null,null,null,null,null,null,null,null,null,null,null,null,null,null,null,null,null,null,null,null,null,null,null,null,null,null,null,null,null,null,null,null,null,null,null,null,null,null,null,null,null,null,null,null,null,null,null,null,null,null,null,null,null,null,null,null,null,null,null,null,null,null,null,null,null,null,null,null,null,null,null,null,null,null,null,null,null,null,null,null,null,null,null,null,null,null,null,null,null,null,null,null,null,null,null,null,null,null,null,1,2,3,4,5,6,7,8,9,10,11,12,13,14,15,16,17,18,19,20,21,"сх","Sym",1,2,3,4,5,6,7,8,9,10,11,12,13,14,15,16,17,18,19,20,21,"cx","sym",1,2,3,4,5,6,7,8,9,10,11,12,13,14,15,16,17,18,19,20,21,"сх","очки",1,2,3,4,5,6,7,8,9,10,11,12,13,14,15,16,17,18,19,20,21,"сх","очки",{"$f":"COUNT(FG5:IT5)","v":84},"Н. Стро","В. стро","место"]
[]
["Место ","РЕЙТИНГОВЫЕ ОЧКИ Коэф. 0,3","Ст. №","Фамилия, Имя","Разряд","Город (край, район, область)","Команда","Марка снегохода","1-й заезд",null,"2-й заезд",null,"3-й заезд",null,"Сумма очков              в личном зачете","Сумма очк. в командном зачете"]
[null,null,null,null,null,null,null,null,"место","лич. очки","место","лич. очки","место","лич. очки",null,null,null,null,null,"первый заезд личные очки",null,null,null,null,null,null,null,null,null,null,null,null,null,null,null,null,null,null,null,null,null,"второй заезд личные очки",null,null,null,null,null,null,null,null,null,null,null,null,null,null,null,null,null,null,null,null,null,null,"Первый заезд командные очки",null,null,null,null,null,null,null,null,null,null,null,null,null,null,null,null,null,null,null,null,null,null,null,null,null,null,null,null,null,null,null,null,null,null,null,null,null,null,null,null,null,null,"Второй заезд командные очки",null,null,null,null,null,null,null,null,null,null,null,null,null,null,null,null,null,null,null,null,null,null,null,null,null,null,null,null,null,null,null,null,null,null,null,null,null,null,null,null,null,null,null,1,2,null,null,null,null,null,null,null,null,null,null,null,null,null,null,null,null,null,null,null,null,null,"первый этап"]
[null,null,null,null,null,null,null,null,null,null,null,null,null,null,null,null,null,null,1,2,3,4,5,6,7,8,9,10,11,12,13,14,15,16,17,18,19,20,21,"сх",null,1,2,3,4,5,6,7,8,9,10,11,12,13,14,15,16,17,18,19,20,null,"cx",null,1,2,3,4,5,6,7,8,9,10,11,12,13,14,15,16,17,18,19,20,21,22,23,24,25,26,27,28,29,30,31,32,33,34,35,36,37,38,39,40,null,null,null,1,2,3,4,5,6,7,8,9,10,11,12,13,14,15,16,17,18,19,20,21,22,23,24,25,26,27,28,29,30,31,32,33,34,35,36,37,38,39,40,null,null,null,null,null,null,null,"мин","Н. Стро","В. стро","место",null,"чр1","чр2",null,null,"первый заезд личные очки",null,null,null,null,null,null,null,null,null,null,null,null,null,null,null,null,null,null,null,null,null,"второй заезд личные очки",null,null,null,null,null,null,null,null,null,null,null,null,null,null,null,null,null,null,null,null,null,null,"Первый заезд командные очки",null,null,null,null,null,null,null,null,null,null,null,null,null,null,null,null,null,null,null,null,null,null,"Второй заезд командные очки"]
[1,15,10,"Колегов Михаил","кмс","г. Новый Уренгой, Ямало-Ненецкий АО","СТК \"Ямбург\"","LYNX",1,25,1,25,1,25,{"$f":"SUM(J10+L10+N10)","v":75},{"$f":"#REF!+#REF!","v":{"$error":"#REF!"}},null,null,{"$f":"IF(#REF!=1,25,0)","v":{"$error":"#REF!"}},{"$f":"IF(#REF!=2,22,0)","v":{"$error":"#REF!"}},{"$f":"IF(#REF!=3,20,0)","v":{"$error":"#REF!"}},{"$f":"IF(#REF!=4,18,0)","v":{"$error":"#REF!"}},{"$f":"IF(#REF!=5,16,0)","v":{"$error":"#REF!"}},{"$f":"IF(#REF!=6,15,0)","v":{"$error":"#REF!"}},{"$f":"IF(#REF!=7,14,0)","v":{"$error":"#REF!"}},{"$f":"IF(#REF!=8,13,0)","v":{"$error":"#REF!"}},{"$f":"IF(#REF!=9,12,0)","v":{"$error":"#REF!"}},{"$f":"IF(#REF!=10,11,0)","v":{"$error":"#REF!"}},{"$f":"IF(#REF!=11,10,0)","v":{"$error":"#REF!"}},{"$f":"IF(#REF!=12,9,0)","v":{"$error":"#REF!"}},{"$f":"IF(#REF!=13,8,0)","v":{"$error":"#REF!"}},{"$f":"IF(#REF!=14,7,0)","v":{"$error":"#REF!"}},{"$f":"IF(#REF!=15,6,0)","v":{"$error":"#REF!"}},{"$f":"IF(#REF!=16,5,0)","v":{"$error":"#REF!"}},{"$f":"IF(#REF!=17,4,0)","v":{"$error":"#REF!"}},{"$f":"IF(#REF!=18,3,0)","v":{"$error":"#REF!"}},{"$f":"IF(#REF!=19,2,0)","v":{"$error":"#REF!"}},{"$f":"IF(#REF!=20,1,0)","v":{"$error":"#REF!"}},{"$f":"IF(#REF!>20,0,0)","v":{"$error":"#REF!"}},{"$f":"IF(#REF!=\"сх\",0,0)","v":{"$error":"#REF!"}},{"$f":"SUM(S10:AM10)","v":{"$error":"#REF!"}},{"$f":"IF(#REF!=1,25,0)","v":{"$error":"#REF!"}},{"$f":"IF(#REF!=2,22,0)","v":{"$error":"#REF!"}},{"$f":"IF(#REF!=3,20,0)","v":{"$error":"#REF!"}},{"$f":"IF(#REF!=4,18,0)","v":{"$error":"#REF!"}},{"$f":"IF(#REF!=5,16,0)","v":{"$error":"#REF!"}},{"$f":"IF(#REF!=6,15,0)","v":{"$error":"#REF!"}},{"$f":"IF(#REF!=7,14,0)","v":{"$error":"#REF!"}},{"$f":"IF(#REF!=8,13,0)","v":{"$error":"#REF!"}},{"$f":"IF(#REF!=9,12,0)","v":{"$error":"#REF!"}},{"$f":"IF(#REF!=10,11,0)","v":{"$error":"#REF!"}},{"$f":"IF(#REF!=11,10,0)","v":{"$error":"#REF!"}},{"$f":"IF(#REF!=12,9,0)","v":{"$error":"#REF!"}},{"$f":"IF(#REF!=13,8,0)","v":{"$error":"#REF!"}},{"$f":"IF(#REF!=14,7,0)","v":{"$error":"#REF!"}},{"$f":"IF(#REF!=15,6,0)","v":{"$error":"#REF!"}},{"$f":"IF(#REF!=16,5,0)","v":{"$error":"#REF!"}},{"$f":"IF(#REF!=17,4,0)","v":{"$error":"#REF!"}},{"$f":"IF(#REF!=18,3,0)","v":{"$error":"#REF!"}},{"$f":"IF(#REF!=19,2,0)","v":{"$error":"#REF!"}},{"$f":"IF(#REF!=20,1,0)","v":{"$error":"#REF!"}},{"$f":"IF(#REF!>20,0,0)","v":{"$error":"#REF!"}},{"$f":"IF(#REF!=\"сх\",0,0)","v":{"$error":"#REF!"}},{"$f":"SUM(AP10:BJ10)","v":{"$error":"#REF!"}},{"$f":"IF(#REF!=1,45,0)","v":{"$error":"#REF!"}},{"$f":"IF(#REF!=2,42,0)","v":{"$error":"#REF!"}},{"$f":"IF(#REF!=3,40,0)","v":{"$error":"#REF!"}},{"$f":"IF(#REF!=4,38,0)","v":{"$error":"#REF!"}},{"$f":"IF(#REF!=5,36,0)","v":{"$error":"#REF!"}},{"$f":"IF(#REF!=6,35,0)","v":{"$error":"#REF!"}},{"$f":"IF(#REF!=7,34,0)","v":{"$error":"#REF!"}},{"$f":"IF(#REF!=8,33,0)","v":{"$error":"#REF!"}},{"$f":"IF(#REF!=9,32,0)","v":{"$error":"#REF!"}},{"$f":"IF(#REF!=10,31,0)","v":{"$error":"#REF!"}},{"$f":"IF(#REF!=11,30,0)","v":{"$error":"#REF!"}},{"$f":"IF(#REF!=12,29,0)","v":{"$error":"#REF!"}},{"$f":"IF(#REF!=13,28,0)","v":{"$error":"#REF!"}},{"$f":"IF(#REF!=14,27,0)","v":{"$error":"#REF!"}},{"$f":"IF(#REF!=15,26,0)","v":{"$error":"#REF!"}},{"$f":"IF(#REF!=16,25,0)","v":{"$error":"#REF!"}},{"$f":"IF(#REF!=17,24,0)","v":{"$error":"#REF!"}},{"$f":"IF(#REF!=18,23,0)","v":{"$error":"#REF!"}},{"$f":"IF(#REF!=19,22,0)","v":{"$error":"#REF!"}},{"$f":"IF(#REF!=20,21,0)","v":{"$error":"#REF!"}},{"$f":"IF(#REF!=21,20,0)","v":{"$error":"#REF!"}},{"$f":"IF(#REF!=22,19,0)","v":{"$error":"#REF!"}},{"$f":"IF(#REF!=23,18,0)","v":{"$error":"#REF!"}},{"$f":"IF(#REF!=24,17,0)","v":{"$error":"#REF!"}},{"$f":"IF(#REF!=25,16,0)","v":{"$error":"#REF!"}},{"$f":"IF(#REF!=26,15,0)","v":{"$error":"#REF!"}},{"$f":"IF(#REF!=27,14,0)","v":{"$error":"#REF!"}},{"$f":"IF(#REF!=28,13,0)","v":{"$error":"#REF!"}},{"$f":"IF(#REF!=29,12,0)","v":{"$error":"#REF!"}},{"$f":"IF(#REF!=30,11,0)","v":{"$error":"#REF!"}},{"$f":"IF(#REF!=31,10,0)","v":{"$error":"#REF!"}},{"$f":"IF(#REF!=32,9,0)","v":{"$error":"#REF!"}},{"$f":"IF(#REF!=33,8,0)","v":{"$error":"#REF!"}},{"$f":"IF(#REF!=34,7,0)","v":{"$error":"#REF!"}},{"$f":"IF(#REF!=35,6,0)","v":{"$error":"#REF!"}},{"$f":"IF(#REF!=36,5,0)","v":{"$error":"#REF!"}},{"$f":"IF(#REF!=37,4,0)","v":{"$error":"#REF!"}},{"$f":"IF(#REF!=38,3,0)","v":{"$error":"#REF!"}},{"$f":"IF(#REF!=39,2,0)","v":{"$error":"#REF!"}},{"$f":"IF(#REF!=40,1,0)","v":{"$error":"#REF!"}},{"$f":"IF(#REF!>20,0,0)","v":{"$error":"#REF!"}},{"$f":"IF(#REF!=\"сх\",0,0)","v":{"$error":"#REF!"}},{"$f":"SUM(BM10:DB10)","v":{"$error":"#REF!"}},{"$f":"IF(#REF!=1,45,0)","v":{"$error":"#REF!"}},{"$f":"IF(#REF!=2,42,0)","v":{"$error":"#REF!"}},{"$f":"IF(#REF!=3,40,0)","v":{"$error":"#REF!"}},{"$f":"IF(#REF!=4,38,0)","v":{"$error":"#REF!"}},{"$f":"IF(#REF!=5,36,0)","v":{"$error":"#REF!"}},{"$f":"IF(#REF!=6,35,0)","v":{"$error":"#REF!"}},{"$f":"IF(#REF!=7,34,0)","v":{"$error":"#REF!"}},{"$f":"IF(#REF!=8,33,0)","v":{"$error":"#REF!"}},{"$f":"IF(#REF!=9,32,0)","v":{"$error":"#REF!"}},{"$f":"IF(#REF!=10,31,0)","v":{"$error":"#REF!"}},{"$f":"IF(#REF!=11,30,0)","v":{"$error":"#REF!"}},{"$f":"IF(#REF!=12,29,0)","v":{"$error":"#REF!"}},{"$f":"IF(#REF!=13,28,0)","v":{"$error":"#REF!"}},{"$f":"IF(#REF!=14,27,0)","v":{"$error":"#REF!"}},{"$f":"IF(#REF!=15,26,0)","v":{"$error":"#REF!"}},{"$f":"IF(#REF!=16,25,0)","v":{"$error":"#REF!"}},{"$f":"IF(#REF!=17,24,0)","v":{"$error":"#REF!"}},{"$f":"IF(#REF!=18,23,0)","v":{"$error":"#REF!"}},{"$f":"IF(#REF!=19,22,0)","v":{"$error":"#REF!"}},{"$f":"IF(#REF!=20,21,0)","v":{"$error":"#REF!"}},{"$f":"IF(#REF!=21,20,0)","v":{"$error":"#REF!"}},{"$f":"IF(#REF!=22,19,0)","v":{"$error":"#REF!"}},{"$f":"IF(#REF!=23,18,0)","v":{"$error":"#REF!"}},{"$f":"IF(#REF!=24,17,0)","v":{"$error":"#REF!"}},{"$f":"IF(#REF!=25,16,0)","v":{"$error":"#REF!"}},{"$f":"IF(#REF!=26,15,0)","v":{"$error":"#REF!"}},{"$f":"IF(#REF!=27,14,0)","v":{"$error":"#REF!"}},{"$f":"IF(#REF!=28,13,0)","v":{"$error":"#REF!"}},{"$f":"IF(#REF!=29,12,0)","v":{"$error":"#REF!"}},{"$f":"IF(#REF!=30,11,0)","v":{"$error":"#REF!"}},{"$f":"IF(#REF!=31,10,0)","v":{"$error":"#REF!"}},{"$f":"IF(#REF!=32,9,0)","v":{"$error":"#REF!"}},{"$f":"IF(#REF!=33,8,0)","v":{"$error":"#REF!"}},{"$f":"IF(#REF!=34,7,0)","v":{"$error":"#REF!"}},{"$f":"IF(#REF!=35,6,0)","v":{"$error":"#REF!"}},{"$f":"IF(#REF!=36,5,0)","v":{"$error":"#REF!"}},{"$f":"IF(#REF!=37,4,0)","v":{"$error":"#REF!"}},{"$f":"IF(#REF!=38,3,0)","v":{"$error":"#REF!"}},{"$f":"IF(#REF!=39,2,0)","v":{"$error":"#REF!"}},{"$f":"IF(#REF!=40,1,0)","v":{"$error":"#REF!"}},{"$f":"IF(#REF!>20,0,0)","v":{"$error":"#REF!"}},{"$f":"IF(#REF!=\"сх\",0,0)","v":{"$error":"#REF!"}},{"$f":"SUM(DD10:ES10)","v":{"$error":"#REF!"}},null,{"$f":"IF(#REF!=\"сх\",\"ноль\",IF(#REF!>0,#REF!,\"Ноль\"))","v":{"$error":"#REF!"}},{"$f":"IF(#REF!=\"сх\",\"ноль\",IF(#REF!>0,#REF!,\"Ноль\"))","v":{"$error":"#REF!"}},null,{"$f":"MIN(EV10,EW10)","v":{"$error":"#REF!"}},{"$f":"IF(O10=#REF!,IF(#REF!<#REF!,#REF!,FD10),#REF!)","v":{"$error":"#REF!"}},{"$f":"IF(O10=#REF!,IF(#REF!<#REF!,0,1))","v":{"$error":"#REF!"}},{"$f":"IF(AND(EY10>=21,EY10<>0),EY10,IF(O10<#REF!,\"СТОП\",EZ10+FA10))","v":{"$error":"#REF!"}},null,15,16,null,{"$f":"IF(#REF!=1,25,0)","v":{"$error":"#REF!"}},{"$f":"IF(#REF!=2,22,0)","v":{"$error":"#REF!"}},{"$f":"IF(#REF!=3,20,0)","v":{"$error":"#REF!"}},{"$f":"IF(#REF!=4,18,0)","v":{"$error":"#REF!"}},{"$f":"IF(#REF!=5,16,0)","v":{"$error":"#REF!"}},{"$f":"IF(#REF!=6,15,0)","v":{"$error":"#REF!"}},{"$f":"IF(#REF!=7,14,0)","v":{"$error":"#REF!"}},{"$f":"IF(#REF!=8,13,0)","v":{"$error":"#REF!"}},{"$f":"IF(#REF!=9,12,0)","v":{"$error":"#REF!"}},{"$f":"IF(#REF!=10,11,0)","v":{"$error":"#REF!"}},{"$f":"IF(#REF!=11,10,0)","v":{"$error":"#REF!"}},{"$f":"IF(#REF!=12,9,0)","v":{"$error":"#REF!"}},{"$f":"IF(#REF!=13,8,0)","v":{"$error":"#REF!"}},{"$f":"IF(#REF!=14,7,0)","v":{"$error":"#REF!"}},{"$f":"IF(#REF!=15,6,0)","v":{"$error":"#REF!"}},{"$f":"IF(#REF!=16,5,0)","v":{"$error":"#REF!"}},{"$f":"IF(#REF!=17,4,0)","v":{"$error":"#REF!"}},{"$f":"IF(#REF!=18,3,0)","v":{"$error":"#REF!"}},{"$f":"IF(#REF!=19,2,0)","v":{"$error":"#REF!"}},{"$f":"IF(#REF!=20,1,0)","v":{"$error":"#REF!"}},{"$f":"IF(#REF!>20,0,0)","v":{"$error":"#REF!"}},{"$f":"IF(#REF!=\"сх\",0,0)","v":{"$error":"#REF!"}},{"$f":"SUM(FG10:GB10)","v":{"$error":"#REF!"}},{"$f":"IF(#REF!=1,25,0)","v":{"$error":"#REF!"}},{"$f":"IF(#REF!=2,22,0)","v":{"$error":"#REF!"}},{"$f":"IF(#REF!=3,20,0)","v":{"$error":"#REF!"}},{"$f":"IF(#REF!=4,18,0)","v":{"$error":"#REF!"}},{"$f":"IF(#REF!=5,16,0)","v":{"$error":"#REF!"}},{"$f":"IF(#REF!=6,15,0)","v":{"$error":"#REF!"}},{"$f":"IF(#REF!=7,14,0)","v":{"$error":"#REF!"}},{"$f":"IF(#REF!=8,13,0)","v":{"$error":"#REF!"}},{"$f":"IF(#REF!=9,12,0)","v":{"$error":"#REF!"}},{"$f":"IF(#REF!=10,11,0)","v":{"$error":"#REF!"}},{"$f":"IF(#REF!=11,10,0)","v":{"$error":"#REF!"}},{"$f":"IF(#REF!=12,9,0)","v":{"$error":"#REF!"}},{"$f":"IF(#REF!=13,8,0)","v":{"$error":"#REF!"}},{"$f":"IF(#REF!=14,7,0)","v":{"$error":"#REF!"}},{"$f":"IF(#REF!=15,6,0)","v":{"$error":"#REF!"}},{"$f":"IF(#REF!=16,5,0)","v":{"$error":"#REF!"}},{"$f":"IF(#REF!=17,4,0)","v":{"$error":"#REF!"}},{"$f":"IF(#REF!=18,3,0)","v":{"$error":"#REF!"}},{"$f":"IF(#REF!=19,2,0)","v":{"$error":"#REF!"}},{"$f":"IF(#REF!=20,1,0)","v":{"$error":"#REF!"}},{"$f":"IF(#REF!>20,0,0)","v":{"$error":"#REF!"}},{"$f":"IF(#REF!=\"сх\",0,0)","v":{"$error":"#REF!"}},{"$f":"SUM(GD10:GY10)","v":{"$error":"#REF!"}},{"$f":"IF(#REF!=1,100,0)","v":{"$error":"#REF!"}},{"$f":"IF(#REF!=2,98,0)","v":{"$error":"#REF!"}},{"$f":"IF(#REF!=3,95,0)","v":{"$error":"#REF!"}},{"$f":"IF(#REF!=4,93,0)","v":{"$error":"#REF!"}},{"$f":"IF(#REF!=5,90,0)","v":{"$error":"#REF!"}},{"$f":"IF(#REF!=6,88,0)","v":{"$error":"#REF!"}},{"$f":"IF(#REF!=7,85,0)","v":{"$error":"#REF!"}},{"$f":"IF(#REF!=8,83,0)","v":{"$error":"#REF!"}},{"$f":"IF(#REF!=9,80,0)","v":{"$error":"#REF!"}},{"$f":"IF(#REF!=10,78,0)","v":{"$error":"#REF!"}},{"$f":"IF(#REF!=11,75,0)","v":{"$error":"#REF!"}},{"$f":"IF(#REF!=12,73,0)","v":{"$error":"#REF!"}},{"$f":"IF(#REF!=13,70,0)","v":{"$error":"#REF!"}},{"$f":"IF(#REF!=14,68,0)","v":{"$error":"#REF!"}},{"$f":"IF(#REF!=15,65,0)","v":{"$error":"#REF!"}},{"$f":"IF(#REF!=16,63,0)","v":{"$error":"#REF!"}},{"$f":"IF(#REF!=17,60,0)","v":{"$error":"#REF!"}},{"$f":"IF(#REF!=18,58,0)","v":{"$error":"#REF!"}},{"$f":"IF(#REF!=19,55,0)","v":{"$error":"#REF!"}},{"$f":"IF(#REF!=20,53,0)","v":{"$error":"#REF!"}},{"$f":"IF(#REF!>20,0,0)","v":{"$error":"#REF!"}},{"$f":"IF(#REF!=\"сх\",0,0)","v":{"$error":"#REF!"}},{"$f":"SUM(HA10:HV10)","v":{"$error":"#REF!"}},{"$f":"IF(#REF!=1,100,0)","v":{"$error":"#REF!"}},{"$f":"IF(#REF!=2,98,0)","v":{"$error":"#REF!"}},{"$f":"IF(#REF!=3,95,0)","v":{"$error":"#REF!"}},{"$f":"IF(#REF!=4,93,0)","v":{"$error":"#REF!"}},{"$f":"IF(#REF!=5,90,0)","v":{"$error":"#REF!"}},{"$f":"IF(#REF!=6,88,0)","v":{"$error":"#REF!"}},{"$f":"IF(#REF!=7,85,0)","v":{"$error":"#REF!"}},{"$f":"IF(#REF!=8,83,0)","v":{"$error":"#REF!"}},{"$f":"IF(#REF!=9,80,0)","v":{"$error":"#REF!"}},{"$f":"IF(#REF!=10,78,0)","v":{"$error":"#REF!"}},{"$f":"IF(#REF!=11,75,0)","v":{"$error":"#REF!"}},{"$f":"IF(#REF!=12,73,0)","v":{"$error":"#REF!"}},{"$f":"IF(#REF!=13,70,0)","v":{"$error":"#REF!"}},{"$f":"IF(#REF!=14,68,0)","v":{"$error":"#REF!"}},{"$f":"IF(#REF!=15,65,0)","v":{"$error":"#REF!"}},{"$f":"IF(#REF!=16,63,0)","v":{"$error":"#REF!"}},{"$f":"IF(#REF!=17,60,0)","v":{"$error":"#REF!"}},{"$f":"IF(#REF!=18,58,0)","v":{"$error":"#REF!"}},{"$f":"IF(#REF!=19,55,0)","v":{"$error":"#REF!"}},{"$f":"IF(#REF!=20,53,0)","v":{"$error":"#REF!"}},{"$f":"IF(#REF!>20,0,0)","v":{"$error":"#REF!"}},{"$f":"IF(#REF!=\"сх\",0,0)","v":{"$error":"#REF!"}},{"$f":"SUM(HX10:IS10)","v":{"$error":"#REF!"}}]
[2,14.4,9,"Санин Константин","кмс","г. Новый Уренгой, Ямало-Ненецкий АО","СТК \"Ямбург\"","LYNX",2,22,2,22,2,22,66,{"$f":"#REF!+#REF!","v":{"$error":"#REF!"}},null,null,{"$f":"IF(#REF!=1,25,0)","v":{"$error":"#REF!"}},{"$f":"IF(#REF!=2,22,0)","v":{"$error":"#REF!"}},{"$f":"IF(#REF!=3,20,0)","v":{"$error":"#REF!"}},{"$f":"IF(#REF!=4,18,0)","v":{"$error":"#REF!"}},{"$f":"IF(#REF!=5,16,0)","v":{"$error":"#REF!"}},{"$f":"IF(#REF!=6,15,0)","v":{"$error":"#REF!"}},{"$f":"IF(#REF!=7,14,0)","v":{"$error":"#REF!"}},{"$f":"IF(#REF!=8,13,0)","v":{"$error":"#REF!"}},{"$f":"IF(#REF!=9,12,0)","v":{"$error":"#REF!"}},{"$f":"IF(#REF!=10,11,0)","v":{"$error":"#REF!"}},{"$f":"IF(#REF!=11,10,0)","v":{"$error":"#REF!"}},{"$f":"IF(#REF!=12,9,0)","v":{"$error":"#REF!"}},{"$f":"IF(#REF!=13,8,0)","v":{"$error":"#REF!"}},{"$f":"IF(#REF!=14,7,0)","v":{"$error":"#REF!"}},{"$f":"IF(#REF!=15,6,0)","v":{"$error":"#REF!"}},{"$f":"IF(#REF!=16,5,0)","v":{"$error":"#REF!"}},{"$f":"IF(#REF!=17,4,0)","v":{"$error":"#REF!"}},{"$f":"IF(#REF!=18,3,0)","v":{"$error":"#REF!"}},{"$f":"IF(#REF!=19,2,0)","v":{"$error":"#REF!"}},{"$f":"IF(#REF!=20,1,0)","v":{"$error":"#REF!"}},{"$f":"IF(#REF!>20,0,0)","v":{"$error":"#REF!"}},{"$f":"IF(#REF!=\"сх\",0,0)","v":{"$error":"#REF!"}},{"$error":"#REF!"},{"$f":"IF(#REF!=1,25,0)","v":{"$error":"#REF!"}},{"$f":"IF(#REF!=2,22,0)","v":{"$error":"#REF!"}},{"$f":"IF(#REF!=3,20,0)","v":{"$error":"#REF!"}},{"$f":"IF(#REF!=4,18,0)","v":{"$error":"#REF!"}},{"$f":"IF(#REF!=5,16,0)","v":{"$error":"#REF!"}},{"$f":"IF(#REF!=6,15,0)","v":{"$error":"#REF!"}},{"$f":"IF(#REF!=7,14,0)","v":{"$error":"#REF!"}},{"$f":"IF(#REF!=8,13,0)","v":{"$error":"#REF!"}},{"$f":"IF(#REF!=9,12,0)","v":{"$error":"#REF!"}},{"$f":"IF(#REF!=10,11,0)","v":{"$error":"#REF!"}},{"$f":"IF(#REF!=11,10,0)","v":{"$error":"#REF!"}},{"$f":"IF(#REF!=12,9,0)","v":{"$error":"#REF!"}},{"$f":"IF(#REF!=13,8,0)","v":{"$error":"#REF!"}},{"$f":"IF(#REF!=14,7,0)","v":{"$error":"#REF!"}},{"$f":"IF(#REF!=15,6,0)","v":{"$error":"#REF!"}},{"$f":"IF(#REF!=16,5,0)","v":{"$error":"#REF!"}},{"$f":"IF(#REF!=17,4,0)","v":{"$error":"#REF!"}},{"$f":"IF(#REF!=18,3,0)","v":{"$error":"#REF!"}},{"$f":"IF(#REF!=19,2,0)","v":{"$error":"#REF!"}},{"$f":"IF(#REF!=20,1,0)","v":{"$error":"#REF!"}},{"$f":"IF(#REF!>20,0,0)","v":{"$error":"#REF!"}},{"$f":"IF(#REF!=\"сх\",0,0)","v":{"$error":"#REF!"}},{"$error":"#REF!"},{"$f":"IF(#REF!=1,45,0)","v":{"$error":"#REF!"}},{"$f":"IF(#REF!=2,42,0)","v":{"$error":"#REF!"}},{"$f":"IF(#REF!=3,40,0)","v":{"$error":"#REF!"}},{"$f":"IF(#REF!=4,38,0)","v":{"$error":"#REF!"}},{"$f":"IF(#REF!=5,36,0)","v":{"$error":"#REF!"}},{"$f":"IF(#REF!=6,35,0)","v":{"$error":"#REF!"}},{"$f":"IF(#REF!=7,34,0)","v":{"$error":"#REF!"}},{"$f":"IF(#REF!=8,33,0)","v":{"$error":"#REF!"}},{"$f":"IF(#REF!=9,32,0)","v":{"$error":"#REF!"}},{"$f":"IF(#REF!=10,31,0)","v":{"$error":"#REF!"}},{"$f":"IF(#REF!=11,30,0)","v":{"$error":"#REF!"}},{"$f":"IF(#REF!=12,29,0)","v":{"$error":"#REF!"}},{"$f":"IF(#REF!=13,28,0)","v":{"$error":"#REF!"}},{"$f":"IF(#REF!=14,27,0)","v":{"$error":"#REF!"}},{"$f":"IF(#REF!=15,26,0)","v":{"$error":"#REF!"}},{"$f":"IF(#REF!=16,25,0)","v":{"$error":"#REF!"}},{"$f":"IF(#REF!=17,24,0)","v":{"$error":"#REF!"}},{"$f":"IF(#REF!=18,23,0)","v":{"$error":"#REF!"}},{"$f":"IF(#REF!=19,22,0)","v":{"$error":"#REF!"}},{"$f":"IF(#REF!=20,21,0)","v":{"$error":"#REF!"}},{"$f":"IF(#REF!=21,20,0)","v":{"$error":"#REF!"}},{"$f":"IF(#REF!=22,19,0)","v":{"$error":"#REF!"}},{"$f":"IF(#REF!=23,18,0)","v":{"$error":"#REF!"}},{"$f":"IF(#REF!=24,17,0)","v":{"$error":"#REF!"}},{"$f":"IF(#REF!=25,16,0)","v":{"$error":"#REF!"}},{"$f":"IF(#REF!=26,15,0)","v":{"$error":"#REF!"}},{"$f":"IF(#REF!=27,14,0)","v":{"$error":"#REF!"}},{"$f":"IF(#REF!=28,13,0)","v":{"$error":"#REF!"}},{"$f":"IF(#REF!=29,12,0)","v":{"$error":"#REF!"}},{"$f":"IF(#REF!=30,11,0)","v":{"$error":"#REF!"}},{"$f":"IF(#REF!=31,10,0)","v":{"$error":"#REF!"}},{"$f":"IF(#REF!=32,9,0)","v":{"$error":"#REF!"}},{"$f":"IF(#REF!=33,8,0)","v":{"$error":"#REF!"}},{"$f":"IF(#REF!=34,7,0)","v":{"$error":"#REF!"}},{"$f":"IF(#REF!=35,6,0)","v":{"$error":"#REF!"}},{"$f":"IF(#REF!=36,5,0)","v":{"$error":"#REF!"}},{"$f":"IF(#REF!=37,4,0)","v":{"$error":"#REF!"}},{"$f":"IF(#REF!=38,3,0)","v":{"$error":"#REF!"}},{"$f":"IF(#REF!=39,2,0)","v":{"$error":"#REF!"}},{"$f":"IF(#REF!=40,1,0)","v":{"$error":"#REF!"}},{"$f":"IF(#REF!>20,0,0)","v":{"$error":"#REF!"}},{"$f":"IF(#REF!=\"сх\",0,0)","v":{"$error":"#REF!"}},{"$error":"#REF!"},{"$f":"IF(#REF!=1,45,0)","v":{"$error":"#REF!"}},{"$f":"IF(#REF!=2,42,0)","v":{"$error":"#REF!"}},{"$f":"IF(#REF!=3,40,0)","v":{"$error":"#REF!"}},{"$f":"IF(#REF!=4,38,0)","v":{"$error":"#REF!"}},{"$f":"IF(#REF!=5,36,0)","v":{"$error":"#REF!"}},{"$f":"IF(#REF!=6,35,0)","v":{"$error":"#REF!"}},{"$f":"IF(#REF!=7,34,0)","v":{"$error":"#REF!"}},{"$f":"IF(#REF!=8,33,0)","v":{"$error":"#REF!"}},{"$f":"IF(#REF!=9,32,0)","v":{"$error":"#REF!"}},{"$f":"IF(#REF!=10,31,0)","v":{"$error":"#REF!"}},{"$f":"IF(#REF!=11,30,0)","v":{"$error":"#REF!"}},{"$f":"IF(#REF!=12,29,0)","v":{"$error":"#REF!"}},{"$f":"IF(#REF!=13,28,0)","v":{"$error":"#REF!"}},{"$f":"IF(#REF!=14,27,0)","v":{"$error":"#REF!"}},{"$f":"IF(#REF!=15,26,0)","v":{"$error":"#REF!"}},{"$f":"IF(#REF!=16,25,0)","v":{"$error":"#REF!"}},{"$f":"IF(#REF!=17,24,0)","v":{"$error":"#REF!"}},{"$f":"IF(#REF!=18,23,0)","v":{"$error":"#REF!"}},{"$f":"IF(#REF!=19,22,0)","v":{"$error":"#REF!"}},{"$f":"IF(#REF!=20,21,0)","v":{"$error":"#REF!"}},{"$f":"IF(#REF!=21,20,0)","v":{"$error":"#REF!"}},{"$f":"IF(#REF!=22,19,0)","v":{"$error":"#REF!"}},{"$f":"IF(#REF!=23,18,0)","v":{"$error":"#REF!"}},{"$f":"IF(#REF!=24,17,0)","v":{"$error":"#REF!"}},{"$f":"IF(#REF!=25,16,0)","v":{"$error":"#REF!"}},{"$f":"IF(#REF!=26,15,0)","v":{"$error":"#REF!"}},{"$f":"IF(#REF!=27,14,0)","v":{"$error":"#REF!"}},{"$f":"IF(#REF!=28,13,0)","v":{"$error":"#REF!"}},{"$f":"IF(#REF!=29,12,0)","v":{"$error":"#REF!"}},{"$f":"IF(#REF!=30,11,0)","v":{"$error":"#REF!"}},{"$f":"IF(#REF!=31,10,0)","v":{"$error":"#REF!"}},{"$f":"IF(#REF!=32,9,0)","v":{"$error":"#REF!"}},{"$f":"IF(#REF!=33,8,0)","v":{"$error":"#REF!"}},{"$f":"IF(#REF!=34,7,0)","v":{"$error":"#REF!"}},{"$f":"IF(#REF!=35,6,0)","v":{"$error":"#REF!"}},{"$f":"IF(#REF!=36,5,0)","v":{"$error":"#REF!"}},{"$f":"IF(#REF!=37,4,0)","v":{"$error":"#REF!"}},{"$f":"IF(#REF!=38,3,0)","v":{"$error":"#REF!"}},{"$f":"IF(#REF!=39,2,0)","v":{"$error":"#REF!"}},{"$f":"IF(#REF!=40,1,0)","v":{"$error":"#REF!"}},{"$f":"IF(#REF!>20,0,0)","v":{"$error":"#REF!"}},{"$f":"IF(#REF!=\"сх\",0,0)","v":{"$error":"#REF!"}},{"$error":"#REF!"},null,{"$f":"IF(#REF!=\"сх\",\"ноль\",IF(#REF!>0,#REF!,\"Ноль\"))","v":{"$error":"#REF!"}},{"$f":"IF(#REF!=\"сх\",\"ноль\",IF(#REF!>0,#REF!,\"Ноль\"))","v":{"$error":"#REF!"}},null,{"$error":"#REF!"},{"$f":"IF(O11=#REF!,IF(#REF!<#REF!,#REF!,FD11),#REF!)","v":{"$error":"#REF!"}},{"$f":"IF(O11=#REF!,IF(#REF!<#REF!,0,1))","v":{"$error":"#REF!"}},{"$f":"IF(AND(EY11>=21,EY11<>0),EY11,IF(O11<#REF!,\"СТОП\",EZ11+FA11))","v":{"$error":"#REF!"}},null,15,16,null,{"$f":"IF(#REF!=1,25,0)","v":{"$error":"#REF!"}},{"$f":"IF(#REF!=2,22,0)","v":{"$error":"#REF!"}},{"$f":"IF(#REF!=3,20,0)","v":{"$error":"#REF!"}},{"$f":"IF(#REF!=4,18,0)","v":{"$error":"#REF!"}},{"$f":"IF(#REF!=5,16,0)","v":{"$error":"#REF!"}},{"$f":"IF(#REF!=6,15,0)","v":{"$error":"#REF!"}},{"$f":"IF(#REF!=7,14,0)","v":{"$error":"#REF!"}},{"$f":"IF(#REF!=8,13,0)","v":{"$error":"#REF!"}},{"$f":"IF(#REF!=9,12,0)","v":{"$error":"#REF!"}},{"$f":"IF(#REF!=10,11,0)","v":{"$error":"#REF!"}},{"$f":"IF(#REF!=11,10,0)","v":{"$error":"#REF!"}},{"$f":"IF(#REF!=12,9,0)","v":{"$error":"#REF!"}},{"$f":"IF(#REF!=13,8,0)","v":{"$error":"#REF!"}},{"$f":"IF(#REF!=14,7,0)","v":{"$error":"#REF!"}},{"$f":"IF(#REF!=15,6,0)","v":{"$error":"#REF!"}},{"$f":"IF(#REF!=16,5,0)","v":{"$error":"#REF!"}},{"$f":"IF(#REF!=17,4,0)","v":{"$error":"#REF!"}},{"$f":"IF(#REF!=18,3,0)","v":{"$error":"#REF!"}},{"$f":"IF(#REF!=19,2,0)","v":{"$error":"#REF!"}},{"$f":"IF(#REF!=20,1,0)","v":{"$error":"#REF!"}},{"$f":"IF(#REF!>20,0,0)","v":{"$error":"#REF!"}},{"$f":"IF(#REF!=\"сх\",0,0)","v":{"$error":"#REF!"}},{"$error":"#REF!"},{"$f":"IF(#REF!=1,25,0)","v":{"$error":"#REF!"}},{"$f":"IF(#REF!=2,22,0)","v":{"$error":"#REF!"}},{"$f":"IF(#REF!=3,20,0)","v":{"$error":"#REF!"}},{"$f":"IF(#REF!=4,18,0)","v":{"$error":"#REF!"}},{"$f":"IF(#REF!=5,16,0)","v":{"$error":"#REF!"}},{"$f":"IF(#REF!=6,15,0)","v":{"$error":"#REF!"}},{"$f":"IF(#REF!=7,14,0)","v":{"$error":"#REF!"}},{"$f":"IF(#REF!=8,13,0)","v":{"$error":"#REF!"}},{"$f":"IF(#REF!=9,12,0)","v":{"$error":"#REF!"}},{"$f":"IF(#REF!=10,11,0)","v":{"$error":"#REF!"}},{"$f":"IF(#REF!=11,10,0)","v":{"$error":"#REF!"}},{"$f":"IF(#REF!=12,9,0)","v":{"$error":"#REF!"}},{"$f":"IF(#REF!=13,8,0)","v":{"$error":"#REF!"}},{"$f":"IF(#REF!=14,7,0)","v":{"$error":"#REF!"}},{"$f":"IF(#REF!=15,6,0)","v":{"$error":"#REF!"}},{"$f":"IF(#REF!=16,5,0)","v":{"$error":"#REF!"}},{"$f":"IF(#REF!=17,4,0)","v":{"$error":"#REF!"}},{"$f":"IF(#REF!=18,3,0)","v":{"$error":"#REF!"}},{"$f":"IF(#REF!=19,2,0)","v":{"$error":"#REF!"}},{"$f":"IF(#REF!=20,1,0)","v":{"$error":"#REF!"}},{"$f":"IF(#REF!>20,0,0)","v":{"$error":"#REF!"}},{"$f":"IF(#REF!=\"сх\",0,0)","v":{"$error":"#REF!"}},{"$error":"#REF!"},{"$f":"IF(#REF!=1,100,0)","v":{"$error":"#REF!"}},{"$f":"IF(#REF!=2,98,0)","v":{"$error":"#REF!"}},{"$f":"IF(#REF!=3,95,0)","v":{"$error":"#REF!"}},{"$f":"IF(#REF!=4,93,0)","v":{"$error":"#REF!"}},{"$f":"IF(#REF!=5,90,0)","v":{"$error":"#REF!"}},{"$f":"IF(#REF!=6,88,0)","v":{"$error":"#REF!"}},{"$f":"IF(#REF!=7,85,0)","v":{"$error":"#REF!"}},{"$f":"IF(#REF!=8,83,0)","v":{"$error":"#REF!"}},{"$f":"IF(#REF!=9,80,0)","v":{"$error":"#REF!"}},{"$f":"IF(#REF!=10,78,0)","v":{"$error":"#REF!"}},{"$f":"IF(#REF!=11,75,0)","v":{"$error":"#REF!"}},{"$f":"IF(#REF!=12,73,0)","v":{"$error":"#REF!"}},{"$f":"IF(#REF!=13,70,0)","v":{"$error":"#REF!"}},{"$f":"IF(#REF!=14,68,0)","v":{"$error":"#REF!"}},{"$f":"IF(#REF!=15,65,0)","v":{"$error":"#REF!"}},{"$f":"IF(#REF!=16,63,0)","v":{"$error":"#REF!"}},{"$f":"IF(#REF!=17,60,0)","v":{"$error":"#REF!"}},{"$f":"IF(#REF!=18,58,0)","v":{"$error":"#REF!"}},{"$f":"IF(#REF!=19,55,0)","v":{"$error":"#REF!"}},{"$f":"IF(#REF!=20,53,0)","v":{"$error":"#REF!"}},{"$f":"IF(#REF!>20,0,0)","v":{"$error":"#REF!"}},{"$f":"IF(#REF!=\"сх\",0,0)","v":{"$error":"#REF!"}},{"$error":"#REF!"},{"$f":"IF(#REF!=1,100,0)","v":{"$error":"#REF!"}},{"$f":"IF(#REF!=2,98,0)","v":{"$error":"#REF!"}},{"$f":"IF(#REF!=3,95,0)","v":{"$error":"#REF!"}},{"$f":"IF(#REF!=4,93,0)","v":{"$error":"#REF!"}},{"$f":"IF(#REF!=5,90,0)","v":{"$error":"#REF!"}},{"$f":"IF(#REF!=6,88,0)","v":{"$error":"#REF!"}},{"$f":"IF(#REF!=7,85,0)","v":{"$error":"#REF!"}},{"$f":"IF(#REF!=8,83,0)","v":{"$error":"#REF!"}},{"$f":"IF(#REF!=9,80,0)","v":{"$error":"#REF!"}},{"$f":"IF(#REF!=10,78,0)","v":{"$error":"#REF!"}},{"$f":"IF(#REF!=11,75,0)","v":{"$error":"#REF!"}},{"$f":"IF(#REF!=12,73,0)","v":{"$error":"#REF!"}},{"$f":"IF(#REF!=13,70,0)","v":{"$error":"#REF!"}},{"$f":"IF(#REF!=14,68,0)","v":{"$error":"#REF!"}},{"$f":"IF(#REF!=15,65,0)","v":{"$error":"#REF!"}},{"$f":"IF(#REF!=16,63,0)","v":{"$error":"#REF!"}},{"$f":"IF(#REF!=17,60,0)","v":{"$error":"#REF!"}},{"$f":"IF(#REF!=18,58,0)","v":{"$error":"#REF!"}},{"$f":"IF(#REF!=19,55,0)","v":{"$error":"#REF!"}},{"$f":"IF(#REF!=20,53,0)","v":{"$error":"#REF!"}},{"$f":"IF(#REF!>20,0,0)","v":{"$error":"#REF!"}},{"$f":"IF(#REF!=\"сх\",0,0)","v":{"$error":"#REF!"}},{"$error":"#REF!"}]
[3,13.8,19,"Рылеев Максим","II","г. Новый Уренгой, Ямало-Ненецкий АО","СТК \"Ямбург\"","LYNX",6,15,4,18,4,18,51,{"$f":"#REF!+#REF!","v":{"$error":"#REF!"}},null,null,{"$f":"IF(#REF!=1,25,0)","v":{"$error":"#REF!"}},{"$f":"IF(#REF!=2,22,0)","v":{"$error":"#REF!"}},{"$f":"IF(#REF!=3,20,0)","v":{"$error":"#REF!"}},{"$f":"IF(#REF!=4,18,0)","v":{"$error":"#REF!"}},{"$f":"IF(#REF!=5,16,0)","v":{"$error":"#REF!"}},{"$f":"IF(#REF!=6,15,0)","v":{"$error":"#REF!"}},{"$f":"IF(#REF!=7,14,0)","v":{"$error":"#REF!"}},{"$f":"IF(#REF!=8,13,0)","v":{"$error":"#REF!"}},{"$f":"IF(#REF!=9,12,0)","v":{"$error":"#REF!"}},{"$f":"IF(#REF!=10,11,0)","v":{"$error":"#REF!"}},{"$f":"IF(#REF!=11,10,0)","v":{"$error":"#REF!"}},{"$f":"IF(#REF!=12,9,0)","v":{"$error":"#REF!"}},{"$f":"IF(#REF!=13,8,0)","v":{"$error":"#REF!"}},{"$f":"IF(#REF!=14,7,0)","v":{"$error":"#REF!"}},{"$f":"IF(#REF!=15,6,0)","v":{"$error":"#REF!"}},{"$f":"IF(#REF!=16,5,0)","v":{"$error":"#REF!"}},{"$f":"IF(#REF!=17,4,0)","v":{"$error":"#REF!"}},{"$f":"IF(#REF!=18,3,0)","v":{"$error":"#REF!"}},{"$f":"IF(#REF!=19,2,0)","v":{"$error":"#REF!"}},{"$f":"IF(#REF!=20,1,0)","v":{"$error":"#REF!"}},{"$f":"IF(#REF!>20,0,0)","v":{"$error":"#REF!"}},{"$f":"IF(#REF!=\"сх\",0,0)","v":{"$error":"#REF!"}},{"$error":"#REF!"},{"$f":"IF(#REF!=1,25,0)","v":{"$error":"#REF!"}},{"$f":"IF(#REF!=2,22,0)","v":{"$error":"#REF!"}},{"$f":"IF(#REF!=3,20,0)","v":{"$error":"#REF!"}},{"$f":"IF(#REF!=4,18,0)","v":{"$error":"#REF!"}},{"$f":"IF(#REF!=5,16,0)","v":{"$error":"#REF!"}},{"$f":"IF(#REF!=6,15,0)","v":{"$error":"#REF!"}},{"$f":"IF(#REF!=7,14,0)","v":{"$error":"#REF!"}},{"$f":"IF(#REF!=8,13,0)","v":{"$error":"#REF!"}},{"$f":"IF(#REF!=9,12,0)","v":{"$error":"#REF!"}},{"$f":"IF(#REF!=10,11,0)","v":{"$error":"#REF!"}},{"$f":"IF(#REF!=11,10,0)","v":{"$error":"#REF!"}},{"$f":"IF(#REF!=12,9,0)","v":{"$error":"#REF!"}},{"$f":"IF(#REF!=13,8,0)","v":{"$error":"#REF!"}},{"$f":"IF(#REF!=14,7,0)","v":{"$error":"#REF!"}},{"$f":"IF(#REF!=15,6,0)","v":{"$error":"#REF!"}},{"$f":"IF(#REF!=16,5,0)","v":{"$error":"#REF!"}},{"$f":"IF(#REF!=17,4,0)","v":{"$error":"#REF!"}},{"$f":"IF(#REF!=18,3,0)","v":{"$error":"#REF!"}},{"$f":"IF(#REF!=19,2,0)","v":{"$error":"#REF!"}},{"$f":"IF(#REF!=20,1,0)","v":{"$error":"#REF!"}},{"$f":"IF(#REF!>20,0,0)","v":{"$error":"#REF!"}},{"$f":"IF(#REF!=\"сх\",0,0)","v":{"$error":"#REF!"}},{"$error":"#REF!"},{"$f":"IF(#REF!=1,45,0)","v":{"$error":"#REF!"}},{"$f":"IF(#REF!=2,42,0)","v":{"$error":"#REF!"}},{"$f":"IF(#REF!=3,40,0)","v":{"$error":"#REF!"}},{"$f":"IF(#REF!=4,38,0)","v":{"$error":"#REF!"}},{"$f":"IF(#REF!=5,36,0)","v":{"$error":"#REF!"}},{"$f":"IF(#REF!=6,35,0)","v":{"$error":"#REF!"}},{"$f":"IF(#REF!=7,34,0)","v":{"$error":"#REF!"}},{"$f":"IF(#REF!=8,33,0)","v":{"$error":"#REF!"}},{"$f":"IF(#REF!=9,32,0)","v":{"$error":"#REF!"}},{"$f":"IF(#REF!=10,31,0)","v":{"$error":"#REF!"}},{"$f":"IF(#REF!=11,30,0)","v":{"$error":"#REF!"}},{"$f":"IF(#REF!=12,29,0)","v":{"$error":"#REF!"}},{"$f":"IF(#REF!=13,28,0)","v":{"$error":"#REF!"}},{"$f":"IF(#REF!=14,27,0)","v":{"$error":"#REF!"}},{"$f":"IF(#REF!=15,26,0)","v":{"$error":"#REF!"}},{"$f":"IF(#REF!=16,25,0)","v":{"$error":"#REF!"}},{"$f":"IF(#REF!=17,24,0)","v":{"$error":"#REF!"}},{"$f":"IF(#REF!=18,23,0)","v":{"$error":"#REF!"}},{"$f":"IF(#REF!=19,22,0)","v":{"$error":"#REF!"}},{"$f":"IF(#REF!=20,21,0)","v":{"$error":"#REF!"}},{"$f":"IF(#REF!=21,20,0)","v":{"$error":"#REF!"}},{"$f":"IF(#REF!=22,19,0)","v":{"$error":"#REF!"}},{"$f":"IF(#REF!=23,18,0)","v":{"$error":"#REF!"}},{"$f":"IF(#REF!=24,17,0)","v":{"$error":"#REF!"}},{"$f":"IF(#REF!=25,16,0)","v":{"$error":"#REF!"}},{"$f":"IF(#REF!=26,15,0)","v":{"$error":"#REF!"}},{"$f":"IF(#REF!=27,14,0)","v":{"$error":"#REF!"}},{"$f":"IF(#REF!=28,13,0)","v":{"$error":"#REF!"}},{"$f":"IF(#REF!=29,12,0)","v":{"$error":"#REF!"}},{"$f":"IF(#REF!=30,11,0)","v":{"$error":"#REF!"}},{"$f":"IF(#REF!=31,10,0)","v":{"$error":"#REF!"}},{"$f":"IF(#REF!=32,9,0)","v":{"$error":"#REF!"}},{"$f":"IF(#REF!=33,8,0)","v":{"$error":"#REF!"}},{"$f":"IF(#REF!=34,7,0)","v":{"$error":"#REF!"}},{"$f":"IF(#REF!=35,6,0)","v":{"$error":"#REF!"}},{"$f":"IF(#REF!=36,5,0)","v":{"$error":"#REF!"}},{"$f":"IF(#REF!=37,4,0)","v":{"$error":"#REF!"}},{"$f":"IF(#REF!=38,3,0)","v":{"$error":"#REF!"}},{"$f":"IF(#REF!=39,2,0)","v":{"$error":"#REF!"}},{"$f":"IF(#REF!=40,1,0)","v":{"$error":"#REF!"}},{"$f":"IF(#REF!>20,0,0)","v":{"$error":"#REF!"}},{"$f":"IF(#REF!=\"сх\",0,0)","v":{"$error":"#REF!"}},{"$error":"#REF!"},{"$f":"IF(#REF!=1,45,0)","v":{"$error":"#REF!"}},{"$f":"IF(#REF!=2,42,0)","v":{"$error":"#REF!"}},{"$f":"IF(#REF!=3,40,0)","v":{"$error":"#REF!"}},{"$f":"IF(#REF!=4,38,0)","v":{"$error":"#REF!"}},{"$f":"IF(#REF!=5,36,0)","v":{"$error":"#REF!"}},{"$f":"IF(#REF!=6,35,0)","v":{"$error":"#REF!"}},{"$f":"IF(#REF!=7,34,0)","v":{"$error":"#REF!"}},{"$f":"IF(#REF!=8,33,0)","v":{"$error":"#REF!"}},{"$f":"IF(#REF!=9,32,0)","v":{"$error":"#REF!"}},{"$f":"IF(#REF!=10,31,0)","v":{"$error":"#REF!"}},{"$f":"IF(#REF!=11,30,0)","v":{"$error":"#REF!"}},{"$f":"IF(#REF!=12,29,0)","v":{"$error":"#REF!"}},{"$f":"IF(#REF!=13,28,0)","v":{"$error":"#REF!"}},{"$f":"IF(#REF!=14,27,0)","v":{"$error":"#REF!"}},{"$f":"IF(#REF!=15,26,0)","v":{"$error":"#REF!"}},{"$f":"IF(#REF!=16,25,0)","v":{"$error":"#REF!"}},{"$f":"IF(#REF!=17,24,0)","v":{"$error":"#REF!"}},{"$f":"IF(#REF!=18,23,0)","v":{"$error":"#REF!"}},{"$f":"IF(#REF!=19,22,0)","v":{"$error":"#REF!"}},{"$f":"IF(#REF!=20,21,0)","v":{"$error":"#REF!"}},{"$f":"IF(#REF!=21,20,0)","v":{"$error":"#REF!"}},{"$f":"IF(#REF!=22,19,0)","v":{"$error":"#REF!"}},{"$f":"IF(#REF!=23,18,0)","v":{"$error":"#REF!"}},{"$f":"IF(#REF!=24,17,0)","v":{"$error":"#REF!"}},{"$f":"IF(#REF!=25,16,0)","v":{"$error":"#REF!"}},{"$f":"IF(#REF!=26,15,0)","v":{"$error":"#REF!"}},{"$f":"IF(#REF!=27,14,0)","v":{"$error":"#REF!"}},{"$f":"IF(#REF!=28,13,0)","v":{"$error":"#REF!"}},{"$f":"IF(#REF!=29,12,0)","v":{"$error":"#REF!"}},{"$f":"IF(#REF!=30,11,0)","v":{"$error":"#REF!"}},{"$f":"IF(#REF!=31,10,0)","v":{"$error":"#REF!"}},{"$f":"IF(#REF!=32,9,0)","v":{"$error":"#REF!"}},{"$f":"IF(#REF!=33,8,0)","v":{"$error":"#REF!"}},{"$f":"IF(#REF!=34,7,0)","v":{"$error":"#REF!"}},{"$f":"IF(#REF!=35,6,0)","v":{"$error":"#REF!"}},{"$f":"IF(#REF!=36,5,0)","v":{"$error":"#REF!"}},{"$f":"IF(#REF!=37,4,0)","v":{"$error":"#REF!"}},{"$f":"IF(#REF!=38,3,0)","v":{"$error":"#REF!"}},{"$f":"IF(#REF!=39,2,0)","v":{"$error":"#REF!"}},{"$f":"IF(#REF!=40,1,0)","v":{"$error":"#REF!"}},{"$f":"IF(#REF!>20,0,0)","v":{"$error":"#REF!"}},{"$f":"IF(#REF!=\"сх\",0,0)","v":{"$error":"#REF!"}},{"$error":"#REF!"},null,{"$f":"IF(#REF!=\"сх\",\"ноль\",IF(#REF!>0,#REF!,\"Ноль\"))","v":{"$error":"#REF!"}},{"$f":"IF(#REF!=\"сх\",\"ноль\",IF(#REF!>0,#REF!,\"Ноль\"))","v":{"$error":"#REF!"}},null,{"$error":"#REF!"},{"$f":"IF(O12=#REF!,IF(#REF!<#REF!,#REF!,FD12),#REF!)","v":{"$error":"#REF!"}},{"$f":"IF(O12=#REF!,IF(#REF!<#REF!,0,1))","v":{"$error":"#REF!"}},{"$f":"IF(AND(EY12>=21,EY12<>0),EY12,IF(O12<#REF!,\"СТОП\",EZ12+FA12))","v":{"$error":"#REF!"}},null,15,16,null,{"$f":"IF(#REF!=1,25,0)","v":{"$error":"#REF!"}},{"$f":"IF(#REF!=2,22,0)","v":{"$error":"#REF!"}},{"$f":"IF(#REF!=3,20,0)","v":{"$error":"#REF!"}},{"$f":"IF(#REF!=4,18,0)","v":{"$error":"#REF!"}},{"$f":"IF(#REF!=5,16,0)","v":{"$error":"#REF!"}},{"$f":"IF(#REF!=6,15,0)","v":{"$error":"#REF!"}},{"$f":"IF(#REF!=7,14,0)","v":{"$error":"#REF!"}},{"$f":"IF(#REF!=8,13,0)","v":{"$error":"#REF!"}},{"$f":"IF(#REF!=9,12,0)","v":{"$error":"#REF!"}},{"$f":"IF(#REF!=10,11,0)","v":{"$error":"#REF!"}},{"$f":"IF(#REF!=11,10,0)","v":{"$error":"#REF!"}},{"$f":"IF(#REF!=12,9,0)","v":{"$error":"#REF!"}},{"$f":"IF(#REF!=13,8,0)","v":{"$error":"#REF!"}},{"$f":"IF(#REF!=14,7,0)","v":{"$error":"#REF!"}},{"$f":"IF(#REF!=15,6,0)","v":{"$error":"#REF!"}},{"$f":"IF(#REF!=16,5,0)","v":{"$error":"#REF!"}},{"$f":"IF(#REF!=17,4,0)","v":{"$error":"#REF!"}},{"$f":"IF(#REF!=18,3,0)","v":{"$error":"#REF!"}},{"$f":"IF(#REF!=19,2,0)","v":{"$error":"#REF!"}},{"$f":"IF(#REF!=20,1,0)","v":{"$error":"#REF!"}},{"$f":"IF(#REF!>20,0,0)","v":{"$error":"#REF!"}},{"$f":"IF(#REF!=\"сх\",0,0)","v":{"$error":"#REF!"}},{"$error":"#REF!"},{"$f":"IF(#REF!=1,25,0)","v":{"$error":"#REF!"}},{"$f":"IF(#REF!=2,22,0)","v":{"$error":"#REF!"}},{"$f":"IF(#REF!=3,20,0)","v":{"$error":"#REF!"}},{"$f":"IF(#REF!=4,18,0)","v":{"$error":"#REF!"}},{"$f":"IF(#REF!=5,16,0)","v":{"$error":"#REF!"}},{"$f":"IF(#REF!=6,15,0)","v":{"$error":"#REF!"}},{"$f":"IF(#REF!=7,14,0)","v":{"$error":"#REF!"}},{"$f":"IF(#REF!=8,13,0)","v":{"$error":"#REF!"}},{"$f":"IF(#REF!=9,12,0)","v":{"$error":"#REF!"}},{"$f":"IF(#REF!=10,11,0)","v":{"$error":"#REF!"}},{"$f":"IF(#REF!=11,10,0)","v":{"$error":"#REF!"}},{"$f":"IF(#REF!=12,9,0)","v":{"$error":"#REF!"}},{"$f":"IF(#REF!=13,8,0)","v":{"$error":"#REF!"}},{"$f":"IF(#REF!=14,7,0)","v":{"$error":"#REF!"}},{"$f":"IF(#REF!=15,6,0)","v":{"$error":"#REF!"}},{"$f":"IF(#REF!=16,5,0)","v":{"$error":"#REF!"}},{"$f":"IF(#REF!=17,4,0)","v":{"$error":"#REF!"}},{"$f":"IF(#REF!=18,3,0)","v":{"$error":"#REF!"}},{"$f":"IF(#REF!=19,2,0)","v":{"$error":"#REF!"}},{"$f":"IF(#REF!=20,1,0)","v":{"$error":"#REF!"}},{"$f":"IF(#REF!>20,0,0)","v":{"$error":"#REF!"}},{"$f":"IF(#REF!=\"сх\",0,0)","v":{"$error":"#REF!"}},{"$error":"#REF!"},{"$f":"IF(#REF!=1,100,0)","v":{"$error":"#REF!"}},{"$f":"IF(#REF!=2,98,0)","v":{"$error":"#REF!"}},{"$f":"IF(#REF!=3,95,0)","v":{"$error":"#REF!"}},{"$f":"IF(#REF!=4,93,0)","v":{"$error":"#REF!"}},{"$f":"IF(#REF!=5,90,0)","v":{"$error":"#REF!"}},{"$f":"IF(#REF!=6,88,0)","v":{"$error":"#REF!"}},{"$f":"IF(#REF!=7,85,0)","v":{"$error":"#REF!"}},{"$f":"IF(#REF!=8,83,0)","v":{"$error":"#REF!"}},{"$f":"IF(#REF!=9,80,0)","v":{"$error":"#REF!"}},{"$f":"IF(#REF!=10,78,0)","v":{"$error":"#REF!"}},{"$f":"IF(#REF!=11,75,0)","v":{"$error":"#REF!"}},{"$f":"IF(#REF!=12,73,0)","v":{"$error":"#REF!"}},{"$f":"IF(#REF!=13,70,0)","v":{"$error":"#REF!"}},{"$f":"IF(#REF!=14,68,0)","v":{"$error":"#REF!"}},{"$f":"IF(#REF!=15,65,0)","v":{"$error":"#REF!"}},{"$f":"IF(#REF!=16,63,0)","v":{"$error":"#REF!"}},{"$f":"IF(#REF!=17,60,0)","v":{"$error":"#REF!"}},{"$f":"IF(#REF!=18,58,0)","v":{"$error":"#REF!"}},{"$f":"IF(#REF!=19,55,0)","v":{"$error":"#REF!"}},{"$f":"IF(#REF!=20,53,0)","v":{"$error":"#REF!"}},{"$f":"IF(#REF!>20,0,0)","v":{"$error":"#REF!"}},{"$f":"IF(#REF!=\"сх\",0,0)","v":{"$error":"#REF!"}},{"$error":"#REF!"},{"$f":"IF(#REF!=1,100,0)","v":{"$error":"#REF!"}},{"$f":"IF(#REF!=2,98,0)","v":{"$error":"#REF!"}},{"$f":"IF(#REF!=3,95,0)","v":{"$error":"#REF!"}},{"$f":"IF(#REF!=4,93,0)","v":{"$error":"#REF!"}},{"$f":"IF(#REF!=5,90,0)","v":{"$error":"#REF!"}},{"$f":"IF(#REF!=6,88,0)","v":{"$error":"#REF!"}},{"$f":"IF(#REF!=7,85,0)","v":{"$error":"#REF!"}},{"$f":"IF(#REF!=8,83,0)","v":{"$error":"#REF!"}},{"$f":"IF(#REF!=9,80,0)","v":{"$error":"#REF!"}},{"$f":"IF(#REF!=10,78,0)","v":{"$error":"#REF!"}},{"$f":"IF(#REF!=11,75,0)","v":{"$error":"#REF!"}},{"$f":"IF(#REF!=12,73,0)","v":{"$error":"#REF!"}},{"$f":"IF(#REF!=13,70,0)","v":{"$error":"#REF!"}},{"$f":"IF(#REF!=14,68,0)","v":{"$error":"#REF!"}},{"$f":"IF(#REF!=15,65,0)","v":{"$error":"#REF!"}},{"$f":"IF(#REF!=16,63,0)","v":{"$error":"#REF!"}},{"$f":"IF(#REF!=17,60,0)","v":{"$error":"#REF!"}},{"$f":"IF(#REF!=18,58,0)","v":{"$error":"#REF!"}},{"$f":"IF(#REF!=19,55,0)","v":{"$error":"#REF!"}},{"$f":"IF(#REF!=20,53,0)","v":{"$error":"#REF!"}},{"$f":"IF(#REF!>20,0,0)","v":{"$error":"#REF!"}},{"$f":"IF(#REF!=\"сх\",0,0)","v":{"$error":"#REF!"}},{"$error":"#REF!"}]
[4,13.5,14,"Довбуш Евгений","I","г. Новый Уренгой, Ямало-Ненецкий АО","СТК \"Факел\"","LYNX",11,10,3,20,3,20,50,{"$f":"#REF!+#REF!","v":{"$error":"#REF!"}},null,null,{"$f":"IF(#REF!=1,25,0)","v":{"$error":"#REF!"}},{"$f":"IF(#REF!=2,22,0)","v":{"$error":"#REF!"}},{"$f":"IF(#REF!=3,20,0)","v":{"$error":"#REF!"}},{"$f":"IF(#REF!=4,18,0)","v":{"$error":"#REF!"}},{"$f":"IF(#REF!=5,16,0)","v":{"$error":"#REF!"}},{"$f":"IF(#REF!=6,15,0)","v":{"$error":"#REF!"}},{"$f":"IF(#REF!=7,14,0)","v":{"$error":"#REF!"}},{"$f":"IF(#REF!=8,13,0)","v":{"$error":"#REF!"}},{"$f":"IF(#REF!=9,12,0)","v":{"$error":"#REF!"}},{"$f":"IF(#REF!=10,11,0)","v":{"$error":"#REF!"}},{"$f":"IF(#REF!=11,10,0)","v":{"$error":"#REF!"}},{"$f":"IF(#REF!=12,9,0)","v":{"$error":"#REF!"}},{"$f":"IF(#REF!=13,8,0)","v":{"$error":"#REF!"}},{"$f":"IF(#REF!=14,7,0)","v":{"$error":"#REF!"}},{"$f":"IF(#REF!=15,6,0)","v":{"$error":"#REF!"}},{"$f":"IF(#REF!=16,5,0)","v":{"$error":"#REF!"}},{"$f":"IF(#REF!=17,4,0)","v":{"$error":"#REF!"}},{"$f":"IF(#REF!=18,3,0)","v":{"$error":"#REF!"}},{"$f":"IF(#REF!=19,2,0)","v":{"$error":"#REF!"}},{"$f":"IF(#REF!=20,1,0)","v":{"$error":"#REF!"}},{"$f":"IF(#REF!>20,0,0)","v":{"$error":"#REF!"}},{"$f":"IF(#REF!=\"сх\",0,0)","v":{"$error":"#REF!"}},{"$error":"#REF!"},{"$f":"IF(#REF!=1,25,0)","v":{"$error":"#REF!"}},{"$f":"IF(#REF!=2,22,0)","v":{"$error":"#REF!"}},{"$f":"IF(#REF!=3,20,0)","v":{"$error":"#REF!"}},{"$f":"IF(#REF!=4,18,0)","v":{"$error":"#REF!"}},{"$f":"IF(#REF!=5,16,0)","v":{"$error":"#REF!"}},{"$f":"IF(#REF!=6,15,0)","v":{"$error":"#REF!"}},{"$f":"IF(#REF!=7,14,0)","v":{"$error":"#REF!"}},{"$f":"IF(#REF!=8,13,0)","v":{"$error":"#REF!"}},{"$f":"IF(#REF!=9,12,0)","v":{"$error":"#REF!"}},{"$f":"IF(#REF!=10,11,0)","v":{"$error":"#REF!"}},{"$f":"IF(#REF!=11,10,0)","v":{"$error":"#REF!"}},{"$f":"IF(#REF!=12,9,0)","v":{"$error":"#REF!"}},{"$f":"IF(#REF!=13,8,0)","v":{"$error":"#REF!"}},{"$f":"IF(#REF!=14,7,0)","v":{"$error":"#REF!"}},{"$f":"IF(#REF!=15,6,0)","v":{"$error":"#REF!"}},{"$f":"IF(#REF!=16,5,0)","v":{"$error":"#REF!"}},{"$f":"IF(#REF!=17,4,0)","v":{"$error":"#REF!"}},{"$f":"IF(#REF!=18,3,0)","v":{"$error":"#REF!"}},{"$f":"IF(#REF!=19,2,0)","v":{"$error":"#REF!"}},{"$f":"IF(#REF!=20,1,0)","v":{"$error":"#REF!"}},{"$f":"IF(#REF!>20,0,0)","v":{"$error":"#REF!"}},{"$f":"IF(#REF!=\"сх\",0,0)","v":{"$error":"#REF!"}},{"$error":"#REF!"},{"$f":"IF(#REF!=1,45,0)","v":{"$error":"#REF!"}},{"$f":"IF(#REF!=2,42,0)","v":{"$error":"#REF!"}},{"$f":"IF(#REF!=3,40,0)","v":{"$error":"#REF!"}},{"$f":"IF(#REF!=4,38,0)","v":{"$error":"#REF!"}},{"$f":"IF(#REF!=5,36,0)","v":{"$error":"#REF!"}},{"$f":"IF(#REF!=6,35,0)","v":{"$error":"#REF!"}},{"$f":"IF(#REF!=7,34,0)","v":{"$error":"#REF!"}},{"$f":"IF(#REF!=8,33,0)","v":{"$error":"#REF!"}},{"$f":"IF(#REF!=9,32,0)","v":{"$error":"#REF!"}},{"$f":"IF(#REF!=10,31,0)","v":{"$error":"#REF!"}},{"$f":"IF(#REF!=11,30,0)","v":{"$error":"#REF!"}},{"$f":"IF(#REF!=12,29,0)","v":{"$error":"#REF!"}},{"$f":"IF(#REF!=13,28,0)","v":{"$error":"#REF!"}},{"$f":"IF(#REF!=14,27,0)","v":{"$error":"#REF!"}},{"$f":"IF(#REF!=15,26,0)","v":{"$error":"#REF!"}},{"$f":"IF(#REF!=16,25,0)","v":{"$error":"#REF!"}},{"$f":"IF(#REF!=17,24,0)","v":{"$error":"#REF!"}},{"$f":"IF(#REF!=18,23,0)","v":{"$error":"#REF!"}},{"$f":"IF(#REF!=19,22,0)","v":{"$error":"#REF!"}},{"$f":"IF(#REF!=20,21,0)","v":{"$error":"#REF!"}},{"$f":"IF(#REF!=21,20,0)","v":{"$error":"#REF!"}},{"$f":"IF(#REF!=22,19,0)","v":{"$error":"#REF!"}},{"$f":"IF(#REF!=23,18,0)","v":{"$error":"#REF!"}},{"$f":"IF(#REF!=24,17,0)","v":{"$error":"#REF!"}},{"$f":"IF(#REF!=25,16,0)","v":{"$error":"#REF!"}},{"$f":"IF(#REF!=26,15,0)","v":{"$error":"#REF!"}},{"$f":"IF(#REF!=27,14,0)","v":{"$error":"#REF!"}},{"$f":"IF(#REF!=28,13,0)","v":{"$error":"#REF!"}},{"$f":"IF(#REF!=29,12,0)","v":{"$error":"#REF!"}},{"$f":"IF(#REF!=30,11,0)","v":{"$error":"#REF!"}},{"$f":"IF(#REF!=31,10,0)","v":{"$error":"#REF!"}},{"$f":"IF(#REF!=32,9,0)","v":{"$error":"#REF!"}},{"$f":"IF(#REF!=33,8,0)","v":{"$error":"#REF!"}},{"$f":"IF(#REF!=34,7,0)","v":{"$error":"#REF!"}},{"$f":"IF(#REF!=35,6,0)","v":{"$error":"#REF!"}},{"$f":"IF(#REF!=36,5,0)","v":{"$error":"#REF!"}},{"$f":"IF(#REF!=37,4,0)","v":{"$error":"#REF!"}},{"$f":"IF(#REF!=38,3,0)","v":{"$error":"#REF!"}},{"$f":"IF(#REF!=39,2,0)","v":{"$error":"#REF!"}},{"$f":"IF(#REF!=40,1,0)","v":{"$error":"#REF!"}},{"$f":"IF(#REF!>20,0,0)","v":{"$error":"#REF!"}},{"$f":"IF(#REF!=\"сх\",0,0)","v":{"$error":"#REF!"}},{"$error":"#REF!"},{"$f":"IF(#REF!=1,45,0)","v":{"$error":"#REF!"}},{"$f":"IF(#REF!=2,42,0)","v":{"$error":"#REF!"}},{"$f":"IF(#REF!=3,40,0)","v":{"$error":"#REF!"}},{"$f":"IF(#REF!=4,38,0)","v":{"$error":"#REF!"}},{"$f":"IF(#REF!=5,36,0)","v":{"$error":"#REF!"}},{"$f":"IF(#REF!=6,35,0)","v":{"$error":"#REF!"}},{"$f":"IF(#REF!=7,34,0)","v":{"$error":"#REF!"}},{"$f":"IF(#REF!=8,33,0)","v":{"$error":"#REF!"}},{"$f":"IF(#REF!=9,32,0)","v":{"$error":"#REF!"}},{"$f":"IF(#REF!=10,31,0)","v":{"$error":"#REF!"}},{"$f":"IF(#REF!=11,30,0)","v":{"$error":"#REF!"}},{"$f":"IF(#REF!=12,29,0)","v":{"$error":"#REF!"}},{"$f":"IF(#REF!=13,28,0)","v":{"$error":"#REF!"}},{"$f":"IF(#REF!=14,27,0)","v":{"$error":"#REF!"}},{"$f":"IF(#REF!=15,26,0)","v":{"$error":"#REF!"}},{"$f":"IF(#REF!=16,25,0)","v":{"$error":"#REF!"}},{"$f":"IF(#REF!=17,24,0)","v":{"$error":"#REF!"}},{"$f":"IF(#REF!=18,23,0)","v":{"$error":"#REF!"}},{"$f":"IF(#REF!=19,22,0)","v":{"$error":"#REF!"}},{"$f":"IF(#REF!=20,21,0)","v":{"$error":"#REF!"}},{"$f":"IF(#REF!=21,20,0)","v":{"$error":"#REF!"}},{"$f":"IF(#REF!=22,19,0)","v":{"$error":"#REF!"}},{"$f":"IF(#REF!=23,18,0)","v":{"$error":"#REF!"}},{"$f":"IF(#REF!=24,17,0)","v":{"$error":"#REF!"}},{"$f":"IF(#REF!=25,16,0)","v":{"$error":"#REF!"}},{"$f":"IF(#REF!=26,15,0)","v":{"$error":"#REF!"}},{"$f":"IF(#REF!=27,14,0)","v":{"$error":"#REF!"}},{"$f":"IF(#REF!=28,13,0)","v":{"$error":"#REF!"}},{"$f":"IF(#REF!=29,12,0)","v":{"$error":"#REF!"}},{"$f":"IF(#REF!=30,11,0)","v":{"$error":"#REF!"}},{"$f":"IF(#REF!=31,10,0)","v":{"$error":"#REF!"}},{"$f":"IF(#REF!=32,9,0)","v":{"$error":"#REF!"}},{"$f":"IF(#REF!=33,8,0)","v":{"$error":"#REF!"}},{"$f":"IF(#REF!=34,7,0)","v":{"$error":"#REF!"}},{"$f":"IF(#REF!=35,6,0)","v":{"$error":"#REF!"}},{"$f":"IF(#REF!=36,5,0)","v":{"$error":"#REF!"}},{"$f":"IF(#REF!=37,4,0)","v":{"$error":"#REF!"}},{"$f":"IF(#REF!=38,3,0)","v":{"$error":"#REF!"}},{"$f":"IF(#REF!=39,2,0)","v":{"$error":"#REF!"}},{"$f":"IF(#REF!=40,1,0)","v":{"$error":"#REF!"}},{"$f":"IF(#REF!>20,0,0)","v":{"$error":"#REF!"}},{"$f":"IF(#REF!=\"сх\",0,0)","v":{"$error":"#REF!"}},{"$error":"#REF!"},null,{"$f":"IF(#REF!=\"сх\",\"ноль\",IF(#REF!>0,#REF!,\"Ноль\"))","v":{"$error":"#REF!"}},{"$f":"IF(#REF!=\"сх\",\"ноль\",IF(#REF!>0,#REF!,\"Ноль\"))","v":{"$error":"#REF!"}},null,{"$error":"#REF!"},{"$f":"IF(O13=#REF!,IF(#REF!<#REF!,#REF!,FD13),#REF!)","v":{"$error":"#REF!"}},{"$f":"IF(O13=#REF!,IF(#REF!<#REF!,0,1))","v":{"$error":"#REF!"}},{"$f":"IF(AND(EY13>=21,EY13<>0),EY13,IF(O13<#REF!,\"СТОП\",EZ13+FA13))","v":{"$error":"#REF!"}},null,15,16,null,{"$f":"IF(#REF!=1,25,0)","v":{"$error":"#REF!"}},{"$f":"IF(#REF!=2,22,0)","v":{"$error":"#REF!"}},{"$f":"IF(#REF!=3,20,0)","v":{"$error":"#REF!"}},{"$f":"IF(#REF!=4,18,0)","v":{"$error":"#REF!"}},{"$f":"IF(#REF!=5,16,0)","v":{"$error":"#REF!"}},{"$f":"IF(#REF!=6,15,0)","v":{"$error":"#REF!"}},{"$f":"IF(#REF!=7,14,0)","v":{"$error":"#REF!"}},{"$f":"IF(#REF!=8,13,0)","v":{"$error":"#REF!"}},{"$f":"IF(#REF!=9,12,0)","v":{"$error":"#REF!"}},{"$f":"IF(#REF!=10,11,0)","v":{"$error":"#REF!"}},{"$f":"IF(#REF!=11,10,0)","v":{"$error":"#REF!"}},{"$f":"IF(#REF!=12,9,0)","v":{"$error":"#REF!"}},{"$f":"IF(#REF!=13,8,0)","v":{"$error":"#REF!"}},{"$f":"IF(#REF!=14,7,0)","v":{"$error":"#REF!"}},{"$f":"IF(#REF!=15,6,0)","v":{"$error":"#REF!"}},{"$f":"IF(#REF!=16,5,0)","v":{"$error":"#REF!"}},{"$f":"IF(#REF!=17,4,0)","v":{"$error":"#REF!"}},{"$f":"IF(#REF!=18,3,0)","v":{"$error":"#REF!"}},{"$f":"IF(#REF!=19,2,0)","v":{"$error":"#REF!"}},{"$f":"IF(#REF!=20,1,0)","v":{"$error":"#REF!"}},{"$f":"IF(#REF!>20,0,0)","v":{"$error":"#REF!"}},{"$f":"IF(#REF!=\"сх\",0,0)","v":{"$error":"#REF!"}},{"$error":"#REF!"},{"$f":"IF(#REF!=1,25,0)","v":{"$error":"#REF!"}},{"$f":"IF(#REF!=2,22,0)","v":{"$error":"#REF!"}},{"$f":"IF(#REF!=3,20,0)","v":{"$error":"#REF!"}},{"$f":"IF(#REF!=4,18,0)","v":{"$error":"#REF!"}},{"$f":"IF(#REF!=5,16,0)","v":{"$error":"#REF!"}},{"$f":"IF(#REF!=6,15,0)","v":{"$error":"#REF!"}},{"$f":"IF(#REF!=7,14,0)","v":{"$error":"#REF!"}},{"$f":"IF(#REF!=8,13,0)","v":{"$error":"#REF!"}},{"$f":"IF(#REF!=9,12,0)","v":{"$error":"#REF!"}},{"$f":"IF(#REF!=10,11,0)","v":{"$error":"#REF!"}},{"$f":"IF(#REF!=11,10,0)","v":{"$error":"#REF!"}},{"$f":"IF(#REF!=12,9,0)","v":{"$error":"#REF!"}},{"$f":"IF(#REF!=13,8,0)","v":{"$error":"#REF!"}},{"$f":"IF(#REF!=14,7,0)","v":{"$error":"#REF!"}},{"$f":"IF(#REF!=15,6,0)","v":{"$error":"#REF!"}},{"$f":"IF(#REF!=16,5,0)","v":{"$error":"#REF!"}},{"$f":"IF(#REF!=17,4,0)","v":{"$error":"#REF!"}},{"$f":"IF(#REF!=18,3,0)","v":{"$error":"#REF!"}},{"$f":"IF(#REF!=19,2,0)","v":{"$error":"#REF!"}},{"$f":"IF(#REF!=20,1,0)","v":{"$error":"#REF!"}},{"$f":"IF(#REF!>20,0,0)","v":{"$error":"#REF!"}},{"$f":"IF(#REF!=\"сх\",0,0)","v":{"$error":"#REF!"}},{"$error":"#REF!"},{"$f":"IF(#REF!=1,100,0)","v":{"$error":"#REF!"}},{"$f":"IF(#REF!=2,98,0)","v":{"$error":"#REF!"}},{"$f":"IF(#REF!=3,95,0)","v":{"$error":"#REF!"}},{"$f":"IF(#REF!=4,93,0)","v":{"$error":"#REF!"}},{"$f":"IF(#REF!=5,90,0)","v":{"$error":"#REF!"}},{"$f":"IF(#REF!=6,88,0)","v":{"$error":"#REF!"}},{"$f":"IF(#REF!=7,85,0)","v":{"$error":"#REF!"}},{"$f":"IF(#REF!=8,83,0)","v":{"$error":"#REF!"}},{"$f":"IF(#REF!=9,80,0)","v":{"$error":"#REF!"}},{"$f":"IF(#REF!=10,78,0)","v":{"$error":"#REF!"}},{"$f":"IF(#REF!=11,75,0)","v":{"$error":"#REF!"}},{"$f":"IF(#REF!=12,73,0)","v":{"$error":"#REF!"}},{"$f":"IF(#REF!=13,70,0)","v":{"$error":"#REF!"}},{"$f":"IF(#REF!=14,68,0)","v":{"$error":"#REF!"}},{"$f":"IF(#REF!=15,65,0)","v":{"$error":"#REF!"}},{"$f":"IF(#REF!=16,63,0)","v":{"$error":"#REF!"}},{"$f":"IF(#REF!=17,60,0)","v":{"$error":"#REF!"}},{"$f":"IF(#REF!=18,58,0)","v":{"$error":"#REF!"}},{"$f":"IF(#REF!=19,55,0)","v":{"$error":"#REF!"}},{"$f":"IF(#REF!=20,53,0)","v":{"$error":"#REF!"}},{"$f":"IF(#REF!>20,0,0)","v":{"$error":"#REF!"}},{"$f":"IF(#REF!=\"сх\",0,0)","v":{"$error":"#REF!"}},{"$error":"#REF!"},{"$f":"IF(#REF!=1,100,0)","v":{"$error":"#REF!"}},{"$f":"IF(#REF!=2,98,0)","v":{"$error":"#REF!"}},{"$f":"IF(#REF!=3,95,0)","v":{"$error":"#REF!"}},{"$f":"IF(#REF!=4,93,0)","v":{"$error":"#REF!"}},{"$f":"IF(#REF!=5,90,0)","v":{"$error":"#REF!"}},{"$f":"IF(#REF!=6,88,0)","v":{"$error":"#REF!"}},{"$f":"IF(#REF!=7,85,0)","v":{"$error":"#REF!"}},{"$f":"IF(#REF!=8,83,0)","v":{"$error":"#REF!"}},{"$f":"IF(#REF!=9,80,0)","v":{"$error":"#REF!"}},{"$f":"IF(#REF!=10,78,0)","v":{"$error":"#REF!"}},{"$f":"IF(#REF!=11,75,0)","v":{"$error":"#REF!"}},{"$f":"IF(#REF!=12,73,0)","v":{"$error":"#REF!"}},{"$f":"IF(#REF!=13,70,0)","v":{"$error":"#REF!"}},{"$f":"IF(#REF!=14,68,0)","v":{"$error":"#REF!"}},{"$f":"IF(#REF!=15,65,0)","v":{"$error":"#REF!"}},{"$f":"IF(#REF!=16,63,0)","v":{"$error":"#REF!"}},{"$f":"IF(#REF!=17,60,0)","v":{"$error":"#REF!"}},{"$f":"IF(#REF!=18,58,0)","v":{"$error":"#REF!"}},{"$f":"IF(#REF!=19,55,0)","v":{"$error":"#REF!"}},{"$f":"IF(#REF!=20,53,0)","v":{"$error":"#REF!"}},{"$f":"IF(#REF!>20,0,0)","v":{"$error":"#REF!"}},{"$f":"IF(#REF!=\"сх\",0,0)","v":{"$error":"#REF!"}},{"$error":"#REF!"}]
[5,13.2,18,"Хункаев Булат","II","г. Новый Уренгой, Ямало-Ненецкий АО","СТК \"Ямбург\"","LYNX",7,14,6,15,6,15,44,{"$f":"#REF!+#REF!","v":{"$error":"#REF!"}},null,null,{"$f":"IF(#REF!=1,25,0)","v":{"$error":"#REF!"}},{"$f":"IF(#REF!=2,22,0)","v":{"$error":"#REF!"}},{"$f":"IF(#REF!=3,20,0)","v":{"$error":"#REF!"}},{"$f":"IF(#REF!=4,18,0)","v":{"$error":"#REF!"}},{"$f":"IF(#REF!=5,16,0)","v":{"$error":"#REF!"}},{"$f":"IF(#REF!=6,15,0)","v":{"$error":"#REF!"}},{"$f":"IF(#REF!=7,14,0)","v":{"$error":"#REF!"}},{"$f":"IF(#REF!=8,13,0)","v":{"$error":"#REF!"}},{"$f":"IF(#REF!=9,12,0)","v":{"$error":"#REF!"}},{"$f":"IF(#REF!=10,11,0)","v":{"$error":"#REF!"}},{"$f":"IF(#REF!=11,10,0)","v":{"$error":"#REF!"}},{"$f":"IF(#REF!=12,9,0)","v":{"$error":"#REF!"}},{"$f":"IF(#REF!=13,8,0)","v":{"$error":"#REF!"}},{"$f":"IF(#REF!=14,7,0)","v":{"$error":"#REF!"}},{"$f":"IF(#REF!=15,6,0)","v":{"$error":"#REF!"}},{"$f":"IF(#REF!=16,5,0)","v":{"$error":"#REF!"}},{"$f":"IF(#REF!=17,4,0)","v":{"$error":"#REF!"}},{"$f":"IF(#REF!=18,3,0)","v":{"$error":"#REF!"}},{"$f":"IF(#REF!=19,2,0)","v":{"$error":"#REF!"}},{"$f":"IF(#REF!=20,1,0)","v":{"$error":"#REF!"}},{"$f":"IF(#REF!>20,0,0)","v":{"$error":"#REF!"}},{"$f":"IF(#REF!=\"сх\",0,0)","v":{"$error":"#REF!"}},{"$error":"#REF!"},{"$f":"IF(#REF!=1,25,0)","v":{"$error":"#REF!"}},{"$f":"IF(#REF!=2,22,0)","v":{"$error":"#REF!"}},{"$f":"IF(#REF!=3,20,0)","v":{"$error":"#REF!"}},{"$f":"IF(#REF!=4,18,0)","v":{"$error":"#REF!"}},{"$f":"IF(#REF!=5,16,0)","v":{"$error":"#REF!"}},{"$f":"IF(#REF!=6,15,0)","v":{"$error":"#REF!"}},{"$f":"IF(#REF!=7,14,0)","v":{"$error":"#REF!"}},{"$f":"IF(#REF!=8,13,0)","v":{"$error":"#REF!"}},{"$f":"IF(#REF!=9,12,0)","v":{"$error":"#REF!"}},{"$f":"IF(#REF!=10,11,0)","v":{"$error":"#REF!"}},{"$f":"IF(#REF!=11,10,0)","v":{"$error":"#REF!"}},{"$f":"IF(#REF!=12,9,0)","v":{"$error":"#REF!"}},{"$f":"IF(#REF!=13,8,0)","v":{"$error":"#REF!"}},{"$f":"IF(#REF!=14,7,0)","v":{"$error":"#REF!"}},{"$f":"IF(#REF!=15,6,0)","v":{"$error":"#REF!"}},{"$f":"IF(#REF!=16,5,0)","v":{"$error":"#REF!"}},{"$f":"IF(#REF!=17,4,0)","v":{"$error":"#REF!"}},{"$f":"IF(#REF!=18,3,0)","v":{"$error":"#REF!"}},{"$f":"IF(#REF!=19,2,0)","v":{"$error":"#REF!"}},{"$f":"IF(#REF!=20,1,0)","v":{"$error":"#REF!"}},{"$f":"IF(#REF!>20,0,0)","v":{"$error":"#REF!"}},{"$f":"IF(#REF!=\"сх\",0,0)","v":{"$error":"#REF!"}},{"$error":"#REF!"},{"$f":"IF(#REF!=1,45,0)","v":{"$error":"#REF!"}},{"$f":"IF(#REF!=2,42,0)","v":{"$error":"#REF!"}},{"$f":"IF(#REF!=3,40,0)","v":{"$error":"#REF!"}},{"$f":"IF(#REF!=4,38,0)","v":{"$error":"#REF!"}},{"$f":"IF(#REF!=5,36,0)","v":{"$error":"#REF!"}},{"$f":"IF(#REF!=6,35,0)","v":{"$error":"#REF!"}},{"$f":"IF(#REF!=7,34,0)","v":{"$error":"#REF!"}},{"$f":"IF(#REF!=8,33,0)","v":{"$error":"#REF!"}},{"$f":"IF(#REF!=9,32,0)","v":{"$error":"#REF!"}},{"$f":"IF(#REF!=10,31,0)","v":{"$error":"#REF!"}},{"$f":"IF(#REF!=11,30,0)","v":{"$error":"#REF!"}},{"$f":"IF(#REF!=12,29,0)","v":{"$error":"#REF!"}},{"$f":"IF(#REF!=13,28,0)","v":{"$error":"#REF!"}},{"$f":"IF(#REF!=14,27,0)","v":{"$error":"#REF!"}},{"$f":"IF(#REF!=15,26,0)","v":{"$error":"#REF!"}},{"$f":"IF(#REF!=16,25,0)","v":{"$error":"#REF!"}},{"$f":"IF(#REF!=17,24,0)","v":{"$error":"#REF!"}},{"$f":"IF(#REF!=18,23,0)","v":{"$error":"#REF!"}},{"$f":"IF(#REF!=19,22,0)","v":{"$error":"#REF!"}},{"$f":"IF(#REF!=20,21,0)","v":{"$error":"#REF!"}},{"$f":"IF(#REF!=21,20,0)","v":{"$error":"#REF!"}},{"$f":"IF(#REF!=22,19,0)","v":{"$error":"#REF!"}},{"$f":"IF(#REF!=23,18,0)","v":{"$error":"#REF!"}},{"$f":"IF(#REF!=24,17,0)","v":{"$error":"#REF!"}},{"$f":"IF(#REF!=25,16,0)","v":{"$error":"#REF!"}},{"$f":"IF(#REF!=26,15,0)","v":{"$error":"#REF!"}},{"$f":"IF(#REF!=27,14,0)","v":{"$error":"#REF!"}},{"$f":"IF(#REF!=28,13,0)","v":{"$error":"#REF!"}},{"$f":"IF(#REF!=29,12,0)","v":{"$error":"#REF!"}},{"$f":"IF(#REF!=30,11,0)","v":{"$error":"#REF!"}},{"$f":"IF(#REF!=31,10,0)","v":{"$error":"#REF!"}},{"$f":"IF(#REF!=32,9,0)","v":{"$error":"#REF!"}},{"$f":"IF(#REF!=33,8,0)","v":{"$error":"#REF!"}},{"$f":"IF(#REF!=34,7,0)","v":{"$error":"#REF!"}},{"$f":"IF(#REF!=35,6,0)","v":{"$error":"#REF!"}},{"$f":"IF(#REF!=36,5,0)","v":{"$error":"#REF!"}},{"$f":"IF(#REF!=37,4,0)","v":{"$error":"#REF!"}},{"$f":"IF(#REF!=38,3,0)","v":{"$error":"#REF!"}},{"$f":"IF(#REF!=39,2,0)","v":{"$error":"#REF!"}},{"$f":"IF(#REF!=40,1,0)","v":{"$error":"#REF!"}},{"$f":"IF(#REF!>20,0,0)","v":{"$error":"#REF!"}},{"$f":"IF(#REF!=\"сх\",0,0)","v":{"$error":"#REF!"}},{"$error":"#REF!"},{"$f":"IF(#REF!=1,45,0)","v":{"$error":"#REF!"}},{"$f":"IF(#REF!=2,42,0)","v":{"$error":"#REF!"}},{"$f":"IF(#REF!=3,40,0)","v":{"$error":"#REF!"}},{"$f":"IF(#REF!=4,38,0)","v":{"$error":"#REF!"}},{"$f":"IF(#REF!=5,36,0)","v":{"$error":"#REF!"}},{"$f":"IF(#REF!=6,35,0)","v":{"$error":"#REF!"}},{"$f":"IF(#REF!=7,34,0)","v":{"$error":"#REF!"}},{"$f":"IF(#REF!=8,33,0)","v":{"$error":"#REF!"}},{"$f":"IF(#REF!=9,32,0)","v":{"$error":"#REF!"}},{"$f":"IF(#REF!=10,31,0)","v":{"$error":"#REF!"}},{"$f":"IF(#REF!=11,30,0)","v":{"$error":"#REF!"}},{"$f":"IF(#REF!=12,29,0)","v":{"$error":"#REF!"}},{"$f":"IF(#REF!=13,28,0)","v":{"$error":"#REF!"}},{"$f":"IF(#REF!=14,27,0)","v":{"$error":"#REF!"}},{"$f":"IF(#REF!=15,26,0)","v":{"$error":"#REF!"}},{"$f":"IF(#REF!=16,25,0)","v":{"$error":"#REF!"}},{"$f":"IF(#REF!=17,24,0)","v":{"$error":"#REF!"}},{"$f":"IF(#REF!=18,23,0)","v":{"$error":"#REF!"}},{"$f":"IF(#REF!=19,22,0)","v":{"$error":"#REF!"}},{"$f":"IF(#REF!=20,21,0)","v":{"$error":"#REF!"}},{"$f":"IF(#REF!=21,20,0)","v":{"$error":"#REF!"}},{"$f":"IF(#REF!=22,19,0)","v":{"$error":"#REF!"}},{"$f":"IF(#REF!=23,18,0)","v":{"$error":"#REF!"}},{"$f":"IF(#REF!=24,17,0)","v":{"$error":"#REF!"}},{"$f":"IF(#REF!=25,16,0)","v":{"$error":"#REF!"}},{"$f":"IF(#REF!=26,15,0)","v":{"$error":"#REF!"}},{"$f":"IF(#REF!=27,14,0)","v":{"$error":"#REF!"}},{"$f":"IF(#REF!=28,13,0)","v":{"$error":"#REF!"}},{"$f":"IF(#REF!=29,12,0)","v":{"$error":"#REF!"}},{"$f":"IF(#REF!=30,11,0)","v":{"$error":"#REF!"}},{"$f":"IF(#REF!=31,10,0)","v":{"$error":"#REF!"}},{"$f":"IF(#REF!=32,9,0)","v":{"$error":"#REF!"}},{"$f":"IF(#REF!=33,8,0)","v":{"$error":"#REF!"}},{"$f":"IF(#REF!=34,7,0)","v":{"$error":"#REF!"}},{"$f":"IF(#REF!=35,6,0)","v":{"$error":"#REF!"}},{"$f":"IF(#REF!=36,5,0)","v":{"$error":"#REF!"}},{"$f":"IF(#REF!=37,4,0)","v":{"$error":"#REF!"}},{"$f":"IF(#REF!=38,3,0)","v":{"$error":"#REF!"}},{"$f":"IF(#REF!=39,2,0)","v":{"$error":"#REF!"}},{"$f":"IF(#REF!=40,1,0)","v":{"$error":"#REF!"}},{"$f":"IF(#REF!>20,0,0)","v":{"$error":"#REF!"}},{"$f":"IF(#REF!=\"сх\",0,0)","v":{"$error":"#REF!"}},{"$error":"#REF!"},null,{"$f":"IF(#REF!=\"сх\",\"ноль\",IF(#REF!>0,#REF!,\"Ноль\"))","v":{"$error":"#REF!"}},{"$f":"IF(#REF!=\"сх\",\"ноль\",IF(#REF!>0,#REF!,\"Ноль\"))","v":{"$error":"#REF!"}},null,{"$error":"#REF!"},{"$f":"IF(O14=#REF!,IF(#REF!<#REF!,#REF!,FD14),#REF!)","v":{"$error":"#REF!"}},{"$f":"IF(O14=#REF!,IF(#REF!<#REF!,0,1))","v":{"$error":"#REF!"}},{"$f":"IF(AND(EY14>=21,EY14<>0),EY14,IF(O14<#REF!,\"СТОП\",EZ14+FA14))","v":{"$error":"#REF!"}},null,15,16,null,{"$f":"IF(#REF!=1,25,0)","v":{"$error":"#REF!"}},{"$f":"IF(#REF!=2,22,0)","v":{"$error":"#REF!"}},{"$f":"IF(#REF!=3,20,0)","v":{"$error":"#REF!"}},{"$f":"IF(#REF!=4,18,0)","v":{"$error":"#REF!"}},{"$f":"IF(#REF!=5,16,0)","v":{"$error":"#REF!"}},{"$f":"IF(#REF!=6,15,0)","v":{"$error":"#REF!"}},{"$f":"IF(#REF!=7,14,0)","v":{"$error":"#REF!"}},{"$f":"IF(#REF!=8,13,0)","v":{"$error":"#REF!"}},{"$f":"IF(#REF!=9,12,0)","v":{"$error":"#REF!"}},{"$f":"IF(#REF!=10,11,0)","v":{"$error":"#REF!"}},{"$f":"IF(#REF!=11,10,0)","v":{"$error":"#REF!"}},{"$f":"IF(#REF!=12,9,0)","v":{"$error":"#REF!"}},{"$f":"IF(#REF!=13,8,0)","v":{"$error":"#REF!"}},{"$f":"IF(#REF!=14,7,0)","v":{"$error":"#REF!"}},{"$f":"IF(#REF!=15,6,0)","v":{"$error":"#REF!"}},{"$f":"IF(#REF!=16,5,0)","v":{"$error":"#REF!"}},{"$f":"IF(#REF!=17,4,0)","v":{"$error":"#REF!"}},{"$f":"IF(#REF!=18,3,0)","v":{"$error":"#REF!"}},{"$f":"IF(#REF!=19,2,0)","v":{"$error":"#REF!"}},{"$f":"IF(#REF!=20,1,0)","v":{"$error":"#REF!"}},{"$f":"IF(#REF!>20,0,0)","v":{"$error":"#REF!"}},{"$f":"IF(#REF!=\"сх\",0,0)","v":{"$error":"#REF!"}},{"$error":"#REF!"},{"$f":"IF(#REF!=1,25,0)","v":{"$error":"#REF!"}},{"$f":"IF(#REF!=2,22,0)","v":{"$error":"#REF!"}},{"$f":"IF(#REF!=3,20,0)","v":{"$error":"#REF!"}},{"$f":"IF(#REF!=4,18,0)","v":{"$error":"#REF!"}},{"$f":"IF(#REF!=5,16,0)","v":{"$error":"#REF!"}},{"$f":"IF(#REF!=6,15,0)","v":{"$error":"#REF!"}},{"$f":"IF(#REF!=7,14,0)","v":{"$error":"#REF!"}},{"$f":"IF(#REF!=8,13,0)","v":{"$error":"#REF!"}},{"$f":"IF(#REF!=9,12,0)","v":{"$error":"#REF!"}},{"$f":"IF(#REF!=10,11,0)","v":{"$error":"#REF!"}},{"$f":"IF(#REF!=11,10,0)","v":{"$error":"#REF!"}},{"$f":"IF(#REF!=12,9,0)","v":{"$error":"#REF!"}},{"$f":"IF(#REF!=13,8,0)","v":{"$error":"#REF!"}},{"$f":"IF(#REF!=14,7,0)","v":{"$error":"#REF!"}},{"$f":"IF(#REF!=15,6,0)","v":{"$error":"#REF!"}},{"$f":"IF(#REF!=16,5,0)","v":{"$error":"#REF!"}},{"$f":"IF(#REF!=17,4,0)","v":{"$error":"#REF!"}},{"$f":"IF(#REF!=18,3,0)","v":{"$error":"#REF!"}},{"$f":"IF(#REF!=19,2,0)","v":{"$error":"#REF!"}},{"$f":"IF(#REF!=20,1,0)","v":{"$error":"#REF!"}},{"$f":"IF(#REF!>20,0,0)","v":{"$error":"#REF!"}},{"$f":"IF(#REF!=\"сх\",0,0)","v":{"$error":"#REF!"}},{"$error":"#REF!"},{"$f":"IF(#REF!=1,100,0)","v":{"$error":"#REF!"}},{"$f":"IF(#REF!=2,98,0)","v":{"$error":"#REF!"}},{"$f":"IF(#REF!=3,95,0)","v":{"$error":"#REF!"}},{"$f":"IF(#REF!=4,93,0)","v":{"$error":"#REF!"}},{"$f":"IF(#REF!=5,90,0)","v":{"$error":"#REF!"}},{"$f":"IF(#REF!=6,88,0)","v":{"$error":"#REF!"}},{"$f":"IF(#REF!=7,85,0)","v":{"$error":"#REF!"}},{"$f":"IF(#REF!=8,83,0)","v":{"$error":"#REF!"}},{"$f":"IF(#REF!=9,80,0)","v":{"$error":"#REF!"}},{"$f":"IF(#REF!=10,78,0)","v":{"$error":"#REF!"}},{"$f":"IF(#REF!=11,75,0)","v":{"$error":"#REF!"}},{"$f":"IF(#REF!=12,73,0)","v":{"$error":"#REF!"}},{"$f":"IF(#REF!=13,70,0)","v":{"$error":"#REF!"}},{"$f":"IF(#REF!=14,68,0)","v":{"$error":"#REF!"}},{"$f":"IF(#REF!=15,65,0)","v":{"$error":"#REF!"}},{"$f":"IF(#REF!=16,63,0)","v":{"$error":"#REF!"}},{"$f":"IF(#REF!=17,60,0)","v":{"$error":"#REF!"}},{"$f":"IF(#REF!=18,58,0)","v":{"$error":"#REF!"}},{"$f":"IF(#REF!=19,55,0)","v":{"$error":"#REF!"}},{"$f":"IF(#REF!=20,53,0)","v":{"$error":"#REF!"}},{"$f":"IF(#REF!>20,0,0)","v":{"$error":"#REF!"}},{"$f":"IF(#REF!=\"сх\",0,0)","v":{"$error":"#REF!"}},{"$error":"#REF!"},{"$f":"IF(#REF!=1,100,0)","v":{"$error":"#REF!"}},{"$f":"IF(#REF!=2,98,0)","v":{"$error":"#REF!"}},{"$f":"IF(#REF!=3,95,0)","v":{"$error":"#REF!"}},{"$f":"IF(#REF!=4,93,0)","v":{"$error":"#REF!"}},{"$f":"IF(#REF!=5,90,0)","v":{"$error":"#REF!"}},{"$f":"IF(#REF!=6,88,0)","v":{"$error":"#REF!"}},{"$f":"IF(#REF!=7,85,0)","v":{"$error":"#REF!"}},{"$f":"IF(#REF!=8,83,0)","v":{"$error":"#REF!"}},{"$f":"IF(#REF!=9,80,0)","v":{"$error":"#REF!"}},{"$f":"IF(#REF!=10,78,0)","v":{"$error":"#REF!"}},{"$f":"IF(#REF!=11,75,0)","v":{"$error":"#REF!"}},{"$f":"IF(#REF!=12,73,0)","v":{"$error":"#REF!"}},{"$f":"IF(#REF!=13,70,0)","v":{"$error":"#REF!"}},{"$f":"IF(#REF!=14,68,0)","v":{"$error":"#REF!"}},{"$f":"IF(#REF!=15,65,0)","v":{"$error":"#REF!"}},{"$f":"IF(#REF!=16,63,0)","v":{"$error":"#REF!"}},{"$f":"IF(#REF!=17,60,0)","v":{"$error":"#REF!"}},{"$f":"IF(#REF!=18,58,0)","v":{"$error":"#REF!"}},{"$f":"IF(#REF!=19,55,0)","v":{"$error":"#REF!"}},{"$f":"IF(#REF!=20,53,0)","v":{"$error":"#REF!"}},{"$f":"IF(#REF!>20,0,0)","v":{"$error":"#REF!"}},{"$f":"IF(#REF!=\"сх\",0,0)","v":{"$error":"#REF!"}},{"$error":"#REF!"}]
[6,12.9,33,"Колибаба Богдан","II","г. Новый Уренгой, Ямало-Ненецкий АО","СТК \"Факел\"","LYNX",4,18,7,14,10,11,43,{"$f":"#REF!+#REF!","v":{"$error":"#REF!"}},null,null,{"$f":"IF(#REF!=1,25,0)","v":{"$error":"#REF!"}},{"$f":"IF(#REF!=2,22,0)","v":{"$error":"#REF!"}},{"$f":"IF(#REF!=3,20,0)","v":{"$error":"#REF!"}},{"$f":"IF(#REF!=4,18,0)","v":{"$error":"#REF!"}},{"$f":"IF(#REF!=5,16,0)","v":{"$error":"#REF!"}},{"$f":"IF(#REF!=6,15,0)","v":{"$error":"#REF!"}},{"$f":"IF(#REF!=7,14,0)","v":{"$error":"#REF!"}},{"$f":"IF(#REF!=8,13,0)","v":{"$error":"#REF!"}},{"$f":"IF(#REF!=9,12,0)","v":{"$error":"#REF!"}},{"$f":"IF(#REF!=10,11,0)","v":{"$error":"#REF!"}},{"$f":"IF(#REF!=11,10,0)","v":{"$error":"#REF!"}},{"$f":"IF(#REF!=12,9,0)","v":{"$error":"#REF!"}},{"$f":"IF(#REF!=13,8,0)","v":{"$error":"#REF!"}},{"$f":"IF(#REF!=14,7,0)","v":{"$error":"#REF!"}},{"$f":"IF(#REF!=15,6,0)","v":{"$error":"#REF!"}},{"$f":"IF(#REF!=16,5,0)","v":{"$error":"#REF!"}},{"$f":"IF(#REF!=17,4,0)","v":{"$error":"#REF!"}},{"$f":"IF(#REF!=18,3,0)","v":{"$error":"#REF!"}},{"$f":"IF(#REF!=19,2,0)","v":{"$error":"#REF!"}},{"$f":"IF(#REF!=20,1,0)","v":{"$error":"#REF!"}},{"$f":"IF(#REF!>20,0,0)","v":{"$error":"#REF!"}},{"$f":"IF(#REF!=\"сх\",0,0)","v":{"$error":"#REF!"}},{"$error":"#REF!"},{"$f":"IF(#REF!=1,25,0)","v":{"$error":"#REF!"}},{"$f":"IF(#REF!=2,22,0)","v":{"$error":"#REF!"}},{"$f":"IF(#REF!=3,20,0)","v":{"$error":"#REF!"}},{"$f":"IF(#REF!=4,18,0)","v":{"$error":"#REF!"}},{"$f":"IF(#REF!=5,16,0)","v":{"$error":"#REF!"}},{"$f":"IF(#REF!=6,15,0)","v":{"$error":"#REF!"}},{"$f":"IF(#REF!=7,14,0)","v":{"$error":"#REF!"}},{"$f":"IF(#REF!=8,13,0)","v":{"$error":"#REF!"}},{"$f":"IF(#REF!=9,12,0)","v":{"$error":"#REF!"}},{"$f":"IF(#REF!=10,11,0)","v":{"$error":"#REF!"}},{"$f":"IF(#REF!=11,10,0)","v":{"$error":"#REF!"}},{"$f":"IF(#REF!=12,9,0)","v":{"$error":"#REF!"}},{"$f":"IF(#REF!=13,8,0)","v":{"$error":"#REF!"}},{"$f":"IF(#REF!=14,7,0)","v":{"$error":"#REF!"}},{"$f":"IF(#REF!=15,6,0)","v":{"$error":"#REF!"}},{"$f":"IF(#REF!=16,5,0)","v":{"$error":"#REF!"}},{"$f":"IF(#REF!=17,4,0)","v":{"$error":"#REF!"}},{"$f":"IF(#REF!=18,3,0)","v":{"$error":"#REF!"}},{"$f":"IF(#REF!=19,2,0)","v":{"$error":"#REF!"}},{"$f":"IF(#REF!=20,1,0)","v":{"$error":"#REF!"}},{"$f":"IF(#REF!>20,0,0)","v":{"$error":"#REF!"}},{"$f":"IF(#REF!=\"сх\",0,0)","v":{"$error":"#REF!"}},{"$error":"#REF!"},{"$f":"IF(#REF!=1,45,0)","v":{"$error":"#REF!"}},{"$f":"IF(#REF!=2,42,0)","v":{"$error":"#REF!"}},{"$f":"IF(#REF!=3,40,0)","v":{"$error":"#REF!"}},{"$f":"IF(#REF!=4,38,0)","v":{"$error":"#REF!"}},{"$f":"IF(#REF!=5,36,0)","v":{"$error":"#REF!"}},{"$f":"IF(#REF!=6,35,0)","v":{"$error":"#REF!"}},{"$f":"IF(#REF!=7,34,0)","v":{"$error":"#REF!"}},{"$f":"IF(#REF!=8,33,0)","v":{"$error":"#REF!"}},{"$f":"IF(#REF!=9,32,0)","v":{"$error":"#REF!"}},{"$f":"IF(#REF!=10,31,0)","v":{"$error":"#REF!"}},{"$f":"IF(#REF!=11,30,0)","v":{"$error":"#REF!"}},{"$f":"IF(#REF!=12,29,0)","v":{"$error":"#REF!"}},{"$f":"IF(#REF!=13,28,0)","v":{"$error":"#REF!"}},{"$f":"IF(#REF!=14,27,0)","v":{"$error":"#REF!"}},{"$f":"IF(#REF!=15,26,0)","v":{"$error":"#REF!"}},{"$f":"IF(#REF!=16,25,0)","v":{"$error":"#REF!"}},{"$f":"IF(#REF!=17,24,0)","v":{"$error":"#REF!"}},{"$f":"IF(#REF!=18,23,0)","v":{"$error":"#REF!"}},{"$f":"IF(#REF!=19,22,0)","v":{"$error":"#REF!"}},{"$f":"IF(#REF!=20,21,0)","v":{"$error":"#REF!"}},{"$f":"IF(#REF!=21,20,0)","v":{"$error":"#REF!"}},{"$f":"IF(#REF!=22,19,0)","v":{"$error":"#REF!"}},{"$f":"IF(#REF!=23,18,0)","v":{"$error":"#REF!"}},{"$f":"IF(#REF!=24,17,0)","v":{"$error":"#REF!"}},{"$f":"IF(#REF!=25,16,0)","v":{"$error":"#REF!"}},{"$f":"IF(#REF!=26,15,0)","v":{"$error":"#REF!"}},{"$f":"IF(#REF!=27,14,0)","v":{"$error":"#REF!"}},{"$f":"IF(#REF!=28,13,0)","v":{"$error":"#REF!"}},{"$f":"IF(#REF!=29,12,0)","v":{"$error":"#REF!"}},{"$f":"IF(#REF!=30,11,0)","v":{"$error":"#REF!"}},{"$f":"IF(#REF!=31,10,0)","v":{"$error":"#REF!"}},{"$f":"IF(#REF!=32,9,0)","v":{"$error":"#REF!"}},{"$f":"IF(#REF!=33,8,0)","v":{"$error":"#REF!"}},{"$f":"IF(#REF!=34,7,0)","v":{"$error":"#REF!"}},{"$f":"IF(#REF!=35,6,0)","v":{"$error":"#REF!"}},{"$f":"IF(#REF!=36,5,0)","v":{"$error":"#REF!"}},{"$f":"IF(#REF!=37,4,0)","v":{"$error":"#REF!"}},{"$f":"IF(#REF!=38,3,0)","v":{"$error":"#REF!"}},{"$f":"IF(#REF!=39,2,0)","v":{"$error":"#REF!"}},{"$f":"IF(#REF!=40,1,0)","v":{"$error":"#REF!"}},{"$f":"IF(#REF!>20,0,0)","v":{"$error":"#REF!"}},{"$f":"IF(#REF!=\"сх\",0,0)","v":{"$error":"#REF!"}},{"$error":"#REF!"},{"$f":"IF(#REF!=1,45,0)","v":{"$error":"#REF!"}},{"$f":"IF(#REF!=2,42,0)","v":{"$error":"#REF!"}},{"$f":"IF(#REF!=3,40,0)","v":{"$error":"#REF!"}},{"$f":"IF(#REF!=4,38,0)","v":{"$error":"#REF!"}},{"$f":"IF(#REF!=5,36,0)","v":{"$error":"#REF!"}},{"$f":"IF(#REF!=6,35,0)","v":{"$error":"#REF!"}},{"$f":"IF(#REF!=7,34,0)","v":{"$error":"#REF!"}},{"$f":"IF(#REF!=8,33,0)","v":{"$error":"#REF!"}},{"$f":"IF(#REF!=9,32,0)","v":{"$error":"#REF!"}},{"$f":"IF(#REF!=10,31,0)","v":{"$error":"#REF!"}},{"$f":"IF(#REF!=11,30,0)","v":{"$error":"#REF!"}},{"$f":"IF(#REF!=12,29,0)","v":{"$error":"#REF!"}},{"$f":"IF(#REF!=13,28,0)","v":{"$error":"#REF!"}},{"$f":"IF(#REF!=14,27,0)","v":{"$error":"#REF!"}},{"$f":"IF(#REF!=15,26,0)","v":{"$error":"#REF!"}},{"$f":"IF(#REF!=16,25,0)","v":{"$error":"#REF!"}},{"$f":"IF(#REF!=17,24,0)","v":{"$error":"#REF!"}},{"$f":"IF(#REF!=18,23,0)","v":{"$error":"#REF!"}},{"$f":"IF(#REF!=19,22,0)","v":{"$error":"#REF!"}},{"$f":"IF(#REF!=20,21,0)","v":{"$error":"#REF!"}},{"$f":"IF(#REF!=21,20,0)","v":{"$error":"#REF!"}},{"$f":"IF(#REF!=22,19,0)","v":{"$error":"#REF!"}},{"$f":"IF(#REF!=23,18,0)","v":{"$error":"#REF!"}},{"$f":"IF(#REF!=24,17,0)","v":{"$error":"#REF!"}},{"$f":"IF(#REF!=25,16,0)","v":{"$error":"#REF!"}},{"$f":"IF(#REF!=26,15,0)","v":{"$error":"#REF!"}},{"$f":"IF(#REF!=27,14,0)","v":{"$error":"#REF!"}},{"$f":"IF(#REF!=28,13,0)","v":{"$error":"#REF!"}},{"$f":"IF(#REF!=29,12,0)","v":{"$error":"#REF!"}},{"$f":"IF(#REF!=30,11,0)","v":{"$error":"#REF!"}},{"$f":"IF(#REF!=31,10,0)","v":{"$error":"#REF!"}},{"$f":"IF(#REF!=32,9,0)","v":{"$error":"#REF!"}},{"$f":"IF(#REF!=33,8,0)","v":{"$error":"#REF!"}},{"$f":"IF(#REF!=34,7,0)","v":{"$error":"#REF!"}},{"$f":"IF(#REF!=35,6,0)","v":{"$error":"#REF!"}},{"$f":"IF(#REF!=36,5,0)","v":{"$error":"#REF!"}},{"$f":"IF(#REF!=37,4,0)","v":{"$error":"#REF!"}},{"$f":"IF(#REF!=38,3,0)","v":{"$error":"#REF!"}},{"$f":"IF(#REF!=39,2,0)","v":{"$error":"#REF!"}},{"$f":"IF(#REF!=40,1,0)","v":{"$error":"#REF!"}},{"$f":"IF(#REF!>20,0,0)","v":{"$error":"#REF!"}},{"$f":"IF(#REF!=\"сх\",0,0)","v":{"$error":"#REF!"}},{"$error":"#REF!"},null,{"$f":"IF(#REF!=\"сх\",\"ноль\",IF(#REF!>0,#REF!,\"Ноль\"))","v":{"$error":"#REF!"}},{"$f":"IF(#REF!=\"сх\",\"ноль\",IF(#REF!>0,#REF!,\"Ноль\"))","v":{"$error":"#REF!"}},null,{"$error":"#REF!"},{"$f":"IF(O15=#REF!,IF(#REF!<#REF!,#REF!,FD15),#REF!)","v":{"$error":"#REF!"}},{"$f":"IF(O15=#REF!,IF(#REF!<#REF!,0,1))","v":{"$error":"#REF!"}},{"$f":"IF(AND(EY15>=21,EY15<>0),EY15,IF(O15<#REF!,\"СТОП\",EZ15+FA15))","v":{"$error":"#REF!"}},null,15,16,null,{"$f":"IF(#REF!=1,25,0)","v":{"$error":"#REF!"}},{"$f":"IF(#REF!=2,22,0)","v":{"$error":"#REF!"}},{"$f":"IF(#REF!=3,20,0)","v":{"$error":"#REF!"}},{"$f":"IF(#REF!=4,18,0)","v":{"$error":"#REF!"}},{"$f":"IF(#REF!=5,16,0)","v":{"$error":"#REF!"}},{"$f":"IF(#REF!=6,15,0)","v":{"$error":"#REF!"}},{"$f":"IF(#REF!=7,14,0)","v":{"$error":"#REF!"}},{"$f":"IF(#REF!=8,13,0)","v":{"$error":"#REF!"}},{"$f":"IF(#REF!=9,12,0)","v":{"$error":"#REF!"}},{"$f":"IF(#REF!=10,11,0)","v":{"$error":"#REF!"}},{"$f":"IF(#REF!=11,10,0)","v":{"$error":"#REF!"}},{"$f":"IF(#REF!=12,9,0)","v":{"$error":"#REF!"}},{"$f":"IF(#REF!=13,8,0)","v":{"$error":"#REF!"}},{"$f":"IF(#REF!=14,7,0)","v":{"$error":"#REF!"}},{"$f":"IF(#REF!=15,6,0)","v":{"$error":"#REF!"}},{"$f":"IF(#REF!=16,5,0)","v":{"$error":"#REF!"}},{"$f":"IF(#REF!=17,4,0)","v":{"$error":"#REF!"}},{"$f":"IF(#REF!=18,3,0)","v":{"$error":"#REF!"}},{"$f":"IF(#REF!=19,2,0)","v":{"$error":"#REF!"}},{"$f":"IF(#REF!=20,1,0)","v":{"$error":"#REF!"}},{"$f":"IF(#REF!>20,0,0)","v":{"$error":"#REF!"}},{"$f":"IF(#REF!=\"сх\",0,0)","v":{"$error":"#REF!"}},{"$error":"#REF!"},{"$f":"IF(#REF!=1,25,0)","v":{"$error":"#REF!"}},{"$f":"IF(#REF!=2,22,0)","v":{"$error":"#REF!"}},{"$f":"IF(#REF!=3,20,0)","v":{"$error":"#REF!"}},{"$f":"IF(#REF!=4,18,0)","v":{"$error":"#REF!"}},{"$f":"IF(#REF!=5,16,0)","v":{"$error":"#REF!"}},{"$f":"IF(#REF!=6,15,0)","v":{"$error":"#REF!"}},{"$f":"IF(#REF!=7,14,0)","v":{"$error":"#REF!"}},{"$f":"IF(#REF!=8,13,0)","v":{"$error":"#REF!"}},{"$f":"IF(#REF!=9,12,0)","v":{"$error":"#REF!"}},{"$f":"IF(#REF!=10,11,0)","v":{"$error":"#REF!"}},{"$f":"IF(#REF!=11,10,0)","v":{"$error":"#REF!"}},{"$f":"IF(#REF!=12,9,0)","v":{"$error":"#REF!"}},{"$f":"IF(#REF!=13,8,0)","v":{"$error":"#REF!"}},{"$f":"IF(#REF!=14,7,0)","v":{"$error":"#REF!"}},{"$f":"IF(#REF!=15,6,0)","v":{"$error":"#REF!"}},{"$f":"IF(#REF!=16,5,0)","v":{"$error":"#REF!"}},{"$f":"IF(#REF!=17,4,0)","v":{"$error":"#REF!"}},{"$f":"IF(#REF!=18,3,0)","v":{"$error":"#REF!"}},{"$f":"IF(#REF!=19,2,0)","v":{"$error":"#REF!"}},{"$f":"IF(#REF!=20,1,0)","v":{"$error":"#REF!"}},{"$f":"IF(#REF!>20,0,0)","v":{"$error":"#REF!"}},{"$f":"IF(#REF!=\"сх\",0,0)","v":{"$error":"#REF!"}},{"$error":"#REF!"},{"$f":"IF(#REF!=1,100,0)","v":{"$error":"#REF!"}},{"$f":"IF(#REF!=2,98,0)","v":{"$error":"#REF!"}},{"$f":"IF(#REF!=3,95,0)","v":{"$error":"#REF!"}},{"$f":"IF(#REF!=4,93,0)","v":{"$error":"#REF!"}},{"$f":"IF(#REF!=5,90,0)","v":{"$error":"#REF!"}},{"$f":"IF(#REF!=6,88,0)","v":{"$error":"#REF!"}},{"$f":"IF(#REF!=7,85,0)","v":{"$error":"#REF!"}},{"$f":"IF(#REF!=8,83,0)","v":{"$error":"#REF!"}},{"$f":"IF(#REF!=9,80,0)","v":{"$error":"#REF!"}},{"$f":"IF(#REF!=10,78,0)","v":{"$error":"#REF!"}},{"$f":"IF(#REF!=11,75,0)","v":{"$error":"#REF!"}},{"$f":"IF(#REF!=12,73,0)","v":{"$error":"#REF!"}},{"$f":"IF(#REF!=13,70,0)","v":{"$error":"#REF!"}},{"$f":"IF(#REF!=14,68,0)","v":{"$error":"#REF!"}},{"$f":"IF(#REF!=15,65,0)","v":{"$error":"#REF!"}},{"$f":"IF(#REF!=16,63,0)","v":{"$error":"#REF!"}},{"$f":"IF(#REF!=17,60,0)","v":{"$error":"#REF!"}},{"$f":"IF(#REF!=18,58,0)","v":{"$error":"#REF!"}},{"$f":"IF(#REF!=19,55,0)","v":{"$error":"#REF!"}},{"$f":"IF(#REF!=20,53,0)","v":{"$error":"#REF!"}},{"$f":"IF(#REF!>20,0,0)","v":{"$error":"#REF!"}},{"$f":"IF(#REF!=\"сх\",0,0)","v":{"$error":"#REF!"}},{"$error":"#REF!"},{"$f":"IF(#REF!=1,100,0)","v":{"$error":"#REF!"}},{"$f":"IF(#REF!=2,98,0)","v":{"$error":"#REF!"}},{"$f":"IF(#REF!=3,95,0)","v":{"$error":"#REF!"}},{"$f":"IF(#REF!=4,93,0)","v":{"$error":"#REF!"}},{"$f":"IF(#REF!=5,90,0)","v":{"$error":"#REF!"}},{"$f":"IF(#REF!=6,88,0)","v":{"$error":"#REF!"}},{"$f":"IF(#REF!=7,85,0)","v":{"$error":"#REF!"}},{"$f":"IF(#REF!=8,83,0)","v":{"$error":"#REF!"}},{"$f":"IF(#REF!=9,80,0)","v":{"$error":"#REF!"}},{"$f":"IF(#REF!=10,78,0)","v":{"$error":"#REF!"}},{"$f":"IF(#REF!=11,75,0)","v":{"$error":"#REF!"}},{"$f":"IF(#REF!=12,73,0)","v":{"$error":"#REF!"}},{"$f":"IF(#REF!=13,70,0)","v":{"$error":"#REF!"}},{"$f":"IF(#REF!=14,68,0)","v":{"$error":"#REF!"}},{"$f":"IF(#REF!=15,65,0)","v":{"$error":"#REF!"}},{"$f":"IF(#REF!=16,63,0)","v":{"$error":"#REF!"}},{"$f":"IF(#REF!=17,60,0)","v":{"$error":"#REF!"}},{"$f":"IF(#REF!=18,58,0)","v":{"$error":"#REF!"}},{"$f":"IF(#REF!=19,55,0)","v":{"$error":"#REF!"}},{"$f":"IF(#REF!=20,53,0)","v":{"$error":"#REF!"}},{"$f":"IF(#REF!>20,0,0)","v":{"$error":"#REF!"}},{"$f":"IF(#REF!=\"сх\",0,0)","v":{"$error":"#REF!"}},{"$error":"#REF!"}]
[7,12.6,162,"Пилюгин Антон","II","г. Новый Уренгой, Ямало-Ненецкий АО","СТК \"Ямбург\"","LYNX",10,11,5,16,7,14,41,{"$f":"#REF!+#REF!","v":{"$error":"#REF!"}},null,null,{"$f":"IF(#REF!=1,25,0)","v":{"$error":"#REF!"}},{"$f":"IF(#REF!=2,22,0)","v":{"$error":"#REF!"}},{"$f":"IF(#REF!=3,20,0)","v":{"$error":"#REF!"}},{"$f":"IF(#REF!=4,18,0)","v":{"$error":"#REF!"}},{"$f":"IF(#REF!=5,16,0)","v":{"$error":"#REF!"}},{"$f":"IF(#REF!=6,15,0)","v":{"$error":"#REF!"}},{"$f":"IF(#REF!=7,14,0)","v":{"$error":"#REF!"}},{"$f":"IF(#REF!=8,13,0)","v":{"$error":"#REF!"}},{"$f":"IF(#REF!=9,12,0)","v":{"$error":"#REF!"}},{"$f":"IF(#REF!=10,11,0)","v":{"$error":"#REF!"}},{"$f":"IF(#REF!=11,10,0)","v":{"$error":"#REF!"}},{"$f":"IF(#REF!=12,9,0)","v":{"$error":"#REF!"}},{"$f":"IF(#REF!=13,8,0)","v":{"$error":"#REF!"}},{"$f":"IF(#REF!=14,7,0)","v":{"$error":"#REF!"}},{"$f":"IF(#REF!=15,6,0)","v":{"$error":"#REF!"}},{"$f":"IF(#REF!=16,5,0)","v":{"$error":"#REF!"}},{"$f":"IF(#REF!=17,4,0)","v":{"$error":"#REF!"}},{"$f":"IF(#REF!=18,3,0)","v":{"$error":"#REF!"}},{"$f":"IF(#REF!=19,2,0)","v":{"$error":"#REF!"}},{"$f":"IF(#REF!=20,1,0)","v":{"$error":"#REF!"}},{"$f":"IF(#REF!>20,0,0)","v":{"$error":"#REF!"}},{"$f":"IF(#REF!=\"сх\",0,0)","v":{"$error":"#REF!"}},{"$error":"#REF!"},{"$f":"IF(#REF!=1,25,0)","v":{"$error":"#REF!"}},{"$f":"IF(#REF!=2,22,0)","v":{"$error":"#REF!"}},{"$f":"IF(#REF!=3,20,0)","v":{"$error":"#REF!"}},{"$f":"IF(#REF!=4,18,0)","v":{"$error":"#REF!"}},{"$f":"IF(#REF!=5,16,0)","v":{"$error":"#REF!"}},{"$f":"IF(#REF!=6,15,0)","v":{"$error":"#REF!"}},{"$f":"IF(#REF!=7,14,0)","v":{"$error":"#REF!"}},{"$f":"IF(#REF!=8,13,0)","v":{"$error":"#REF!"}},{"$f":"IF(#REF!=9,12,0)","v":{"$error":"#REF!"}},{"$f":"IF(#REF!=10,11,0)","v":{"$error":"#REF!"}},{"$f":"IF(#REF!=11,10,0)","v":{"$error":"#REF!"}},{"$f":"IF(#REF!=12,9,0)","v":{"$error":"#REF!"}},{"$f":"IF(#REF!=13,8,0)","v":{"$error":"#REF!"}},{"$f":"IF(#REF!=14,7,0)","v":{"$error":"#REF!"}},{"$f":"IF(#REF!=15,6,0)","v":{"$error":"#REF!"}},{"$f":"IF(#REF!=16,5,0)","v":{"$error":"#REF!"}},{"$f":"IF(#REF!=17,4,0)","v":{"$error":"#REF!"}},{"$f":"IF(#REF!=18,3,0)","v":{"$error":"#REF!"}},{"$f":"IF(#REF!=19,2,0)","v":{"$error":"#REF!"}},{"$f":"IF(#REF!=20,1,0)","v":{"$error":"#REF!"}},{"$f":"IF(#REF!>20,0,0)","v":{"$error":"#REF!"}},{"$f":"IF(#REF!=\"сх\",0,0)","v":{"$error":"#REF!"}},{"$error":"#REF!"},{"$f":"IF(#REF!=1,45,0)","v":{"$error":"#REF!"}},{"$f":"IF(#REF!=2,42,0)","v":{"$error":"#REF!"}},{"$f":"IF(#REF!=3,40,0)","v":{"$error":"#REF!"}},{"$f":"IF(#REF!=4,38,0)","v":{"$error":"#REF!"}},{"$f":"IF(#REF!=5,36,0)","v":{"$error":"#REF!"}},{"$f":"IF(#REF!=6,35,0)","v":{"$error":"#REF!"}},{"$f":"IF(#REF!=7,34,0)","v":{"$error":"#REF!"}},{"$f":"IF(#REF!=8,33,0)","v":{"$error":"#REF!"}},{"$f":"IF(#REF!=9,32,0)","v":{"$error":"#REF!"}},{"$f":"IF(#REF!=10,31,0)","v":{"$error":"#REF!"}},{"$f":"IF(#REF!=11,30,0)","v":{"$error":"#REF!"}},{"$f":"IF(#REF!=12,29,0)","v":{"$error":"#REF!"}},{"$f":"IF(#REF!=13,28,0)","v":{"$error":"#REF!"}},{"$f":"IF(#REF!=14,27,0)","v":{"$error":"#REF!"}},{"$f":"IF(#REF!=15,26,0)","v":{"$error":"#REF!"}},{"$f":"IF(#REF!=16,25,0)","v":{"$error":"#REF!"}},{"$f":"IF(#REF!=17,24,0)","v":{"$error":"#REF!"}},{"$f":"IF(#REF!=18,23,0)","v":{"$error":"#REF!"}},{"$f":"IF(#REF!=19,22,0)","v":{"$error":"#REF!"}},{"$f":"IF(#REF!=20,21,0)","v":{"$error":"#REF!"}},{"$f":"IF(#REF!=21,20,0)","v":{"$error":"#REF!"}},{"$f":"IF(#REF!=22,19,0)","v":{"$error":"#REF!"}},{"$f":"IF(#REF!=23,18,0)","v":{"$error":"#REF!"}},{"$f":"IF(#REF!=24,17,0)","v":{"$error":"#REF!"}},{"$f":"IF(#REF!=25,16,0)","v":{"$error":"#REF!"}},{"$f":"IF(#REF!=26,15,0)","v":{"$error":"#REF!"}},{"$f":"IF(#REF!=27,14,0)","v":{"$error":"#REF!"}},{"$f":"IF(#REF!=28,13,0)","v":{"$error":"#REF!"}},{"$f":"IF(#REF!=29,12,0)","v":{"$error":"#REF!"}},{"$f":"IF(#REF!=30,11,0)","v":{"$error":"#REF!"}},{"$f":"IF(#REF!=31,10,0)","v":{"$error":"#REF!"}},{"$f":"IF(#REF!=32,9,0)","v":{"$error":"#REF!"}},{"$f":"IF(#REF!=33,8,0)","v":{"$error":"#REF!"}},{"$f":"IF(#REF!=34,7,0)","v":{"$error":"#REF!"}},{"$f":"IF(#REF!=35,6,0)","v":{"$error":"#REF!"}},{"$f":"IF(#REF!=36,5,0)","v":{"$error":"#REF!"}},{"$f":"IF(#REF!=37,4,0)","v":{"$error":"#REF!"}},{"$f":"IF(#REF!=38,3,0)","v":{"$error":"#REF!"}},{"$f":"IF(#REF!=39,2,0)","v":{"$error":"#REF!"}},{"$f":"IF(#REF!=40,1,0)","v":{"$error":"#REF!"}},{"$f":"IF(#REF!>20,0,0)","v":{"$error":"#REF!"}},{"$f":"IF(#REF!=\"сх\",0,0)","v":{"$error":"#REF!"}},{"$error":"#REF!"},{"$f":"IF(#REF!=1,45,0)","v":{"$error":"#REF!"}},{"$f":"IF(#REF!=2,42,0)","v":{"$error":"#REF!"}},{"$f":"IF(#REF!=3,40,0)","v":{"$error":"#REF!"}},{"$f":"IF(#REF!=4,38,0)","v":{"$error":"#REF!"}},{"$f":"IF(#REF!=5,36,0)","v":{"$error":"#REF!"}},{"$f":"IF(#REF!=6,35,0)","v":{"$error":"#REF!"}},{"$f":"IF(#REF!=7,34,0)","v":{"$error":"#REF!"}},{"$f":"IF(#REF!=8,33,0)","v":{"$error":"#REF!"}},{"$f":"IF(#REF!=9,32,0)","v":{"$error":"#REF!"}},{"$f":"IF(#REF!=10,31,0)","v":{"$error":"#REF!"}},{"$f":"IF(#REF!=11,30,0)","v":{"$error":"#REF!"}},{"$f":"IF(#REF!=12,29,0)","v":{"$error":"#REF!"}},{"$f":"IF(#REF!=13,28,0)","v":{"$error":"#REF!"}},{"$f":"IF(#REF!=14,27,0)","v":{"$error":"#REF!"}},{"$f":"IF(#REF!=15,26,0)","v":{"$error":"#REF!"}},{"$f":"IF(#REF!=16,25,0)","v":{"$error":"#REF!"}},{"$f":"IF(#REF!=17,24,0)","v":{"$error":"#REF!"}},{"$f":"IF(#REF!=18,23,0)","v":{"$error":"#REF!"}},{"$f":"IF(#REF!=19,22,0)","v":{"$error":"#REF!"}},{"$f":"IF(#REF!=20,21,0)","v":{"$error":"#REF!"}},{"$f":"IF(#REF!=21,20,0)","v":{"$error":"#REF!"}},{"$f":"IF(#REF!=22,19,0)","v":{"$error":"#REF!"}},{"$f":"IF(#REF!=23,18,0)","v":{"$error":"#REF!"}},{"$f":"IF(#REF!=24,17,0)","v":{"$error":"#REF!"}},{"$f":"IF(#REF!=25,16,0)","v":{"$error":"#REF!"}},{"$f":"IF(#REF!=26,15,0)","v":{"$error":"#REF!"}},{"$f":"IF(#REF!=27,14,0)","v":{"$error":"#REF!"}},{"$f":"IF(#REF!=28,13,0)","v":{"$error":"#REF!"}},{"$f":"IF(#REF!=29,12,0)","v":{"$error":"#REF!"}},{"$f":"IF(#REF!=30,11,0)","v":{"$error":"#REF!"}},{"$f":"IF(#REF!=31,10,0)","v":{"$error":"#REF!"}},{"$f":"IF(#REF!=32,9,0)","v":{"$error":"#REF!"}},{"$f":"IF(#REF!=33,8,0)","v":{"$error":"#REF!"}},{"$f":"IF(#REF!=34,7,0)","v":{"$error":"#REF!"}},{"$f":"IF(#REF!=35,6,0)","v":{"$error":"#REF!"}},{"$f":"IF(#REF!=36,5,0)","v":{"$error":"#REF!"}},{"$f":"IF(#REF!=37,4,0)","v":{"$error":"#REF!"}},{"$f":"IF(#REF!=38,3,0)","v":{"$error":"#REF!"}},{"$f":"IF(#REF!=39,2,0)","v":{"$error":"#REF!"}},{"$f":"IF(#REF!=40,1,0)","v":{"$error":"#REF!"}},{"$f":"IF(#REF!>20,0,0)","v":{"$error":"#REF!"}},{"$f":"IF(#REF!=\"сх\",0,0)","v":{"$error":"#REF!"}},{"$error":"#REF!"},null,{"$f":"IF(#REF!=\"сх\",\"ноль\",IF(#REF!>0,#REF!,\"Ноль\"))","v":{"$error":"#REF!"}},{"$f":"IF(#REF!=\"сх\",\"ноль\",IF(#REF!>0,#REF!,\"Ноль\"))","v":{"$error":"#REF!"}},null,{"$error":"#REF!"},{"$f":"IF(O16=#REF!,IF(#REF!<#REF!,#REF!,FD16),#REF!)","v":{"$error":"#REF!"}},{"$f":"IF(O16=#REF!,IF(#REF!<#REF!,0,1))","v":{"$error":"#REF!"}},{"$f":"IF(AND(EY16>=21,EY16<>0),EY16,IF(O16<#REF!,\"СТОП\",EZ16+FA16))","v":{"$error":"#REF!"}},null,15,16,null,{"$f":"IF(#REF!=1,25,0)","v":{"$error":"#REF!"}},{"$f":"IF(#REF!=2,22,0)","v":{"$error":"#REF!"}},{"$f":"IF(#REF!=3,20,0)","v":{"$error":"#REF!"}},{"$f":"IF(#REF!=4,18,0)","v":{"$error":"#REF!"}},{"$f":"IF(#REF!=5,16,0)","v":{"$error":"#REF!"}},{"$f":"IF(#REF!=6,15,0)","v":{"$error":"#REF!"}},{"$f":"IF(#REF!=7,14,0)","v":{"$error":"#REF!"}},{"$f":"IF(#REF!=8,13,0)","v":{"$error":"#REF!"}},{"$f":"IF(#REF!=9,12,0)","v":{"$error":"#REF!"}},{"$f":"IF(#REF!=10,11,0)","v":{"$error":"#REF!"}},{"$f":"IF(#REF!=11,10,0)","v":{"$error":"#REF!"}},{"$f":"IF(#REF!=12,9,0)","v":{"$error":"#REF!"}},{"$f":"IF(#REF!=13,8,0)","v":{"$error":"#REF!"}},{"$f":"IF(#REF!=14,7,0)","v":{"$error":"#REF!"}},{"$f":"IF(#REF!=15,6,0)","v":{"$error":"#REF!"}},{"$f":"IF(#REF!=16,5,0)","v":{"$error":"#REF!"}},{"$f":"IF(#REF!=17,4,0)","v":{"$error":"#REF!"}},{"$f":"IF(#REF!=18,3,0)","v":{"$error":"#REF!"}},{"$f":"IF(#REF!=19,2,0)","v":{"$error":"#REF!"}},{"$f":"IF(#REF!=20,1,0)","v":{"$error":"#REF!"}},{"$f":"IF(#REF!>20,0,0)","v":{"$error":"#REF!"}},{"$f":"IF(#REF!=\"сх\",0,0)","v":{"$error":"#REF!"}},{"$error":"#REF!"},{"$f":"IF(#REF!=1,25,0)","v":{"$error":"#REF!"}},{"$f":"IF(#REF!=2,22,0)","v":{"$error":"#REF!"}},{"$f":"IF(#REF!=3,20,0)","v":{"$error":"#REF!"}},{"$f":"IF(#REF!=4,18,0)","v":{"$error":"#REF!"}},{"$f":"IF(#REF!=5,16,0)","v":{"$error":"#REF!"}},{"$f":"IF(#REF!=6,15,0)","v":{"$error":"#REF!"}},{"$f":"IF(#REF!=7,14,0)","v":{"$error":"#REF!"}},{"$f":"IF(#REF!=8,13,0)","v":{"$error":"#REF!"}},{"$f":"IF(#REF!=9,12,0)","v":{"$error":"#REF!"}},{"$f":"IF(#REF!=10,11,0)","v":{"$error":"#REF!"}},{"$f":"IF(#REF!=11,10,0)","v":{"$error":"#REF!"}},{"$f":"IF(#REF!=12,9,0)","v":{"$error":"#REF!"}},{"$f":"IF(#REF!=13,8,0)","v":{"$error":"#REF!"}},{"$f":"IF(#REF!=14,7,0)","v":{"$error":"#REF!"}},{"$f":"IF(#REF!=15,6,0)","v":{"$error":"#REF!"}},{"$f":"IF(#REF!=16,5,0)","v":{"$error":"#REF!"}},{"$f":"IF(#REF!=17,4,0)","v":{"$error":"#REF!"}},{"$f":"IF(#REF!=18,3,0)","v":{"$error":"#REF!"}},{"$f":"IF(#REF!=19,2,0)","v":{"$error":"#REF!"}},{"$f":"IF(#REF!=20,1,0)","v":{"$error":"#REF!"}},{"$f":"IF(#REF!>20,0,0)","v":{"$error":"#REF!"}},{"$f":"IF(#REF!=\"сх\",0,0)","v":{"$error":"#REF!"}},{"$error":"#REF!"},{"$f":"IF(#REF!=1,100,0)","v":{"$error":"#REF!"}},{"$f":"IF(#REF!=2,98,0)","v":{"$error":"#REF!"}},{"$f":"IF(#REF!=3,95,0)","v":{"$error":"#REF!"}},{"$f":"IF(#REF!=4,93,0)","v":{"$error":"#REF!"}},{"$f":"IF(#REF!=5,90,0)","v":{"$error":"#REF!"}},{"$f":"IF(#REF!=6,88,0)","v":{"$error":"#REF!"}},{"$f":"IF(#REF!=7,85,0)","v":{"$error":"#REF!"}},{"$f":"IF(#REF!=8,83,0)","v":{"$error":"#REF!"}},{"$f":"IF(#REF!=9,80,0)","v":{"$error":"#REF!"}},{"$f":"IF(#REF!=10,78,0)","v":{"$error":"#REF!"}},{"$f":"IF(#REF!=11,75,0)","v":{"$error":"#REF!"}},{"$f":"IF(#REF!=12,73,0)","v":{"$error":"#REF!"}},{"$f":"IF(#REF!=13,70,0)","v":{"$error":"#REF!"}},{"$f":"IF(#REF!=14,68,0)","v":{"$error":"#REF!"}},{"$f":"IF(#REF!=15,65,0)","v":{"$error":"#REF!"}},{"$f":"IF(#REF!=16,63,0)","v":{"$error":"#REF!"}},{"$f":"IF(#REF!=17,60,0)","v":{"$error":"#REF!"}},{"$f":"IF(#REF!=18,58,0)","v":{"$error":"#REF!"}},{"$f":"IF(#REF!=19,55,0)","v":{"$error":"#REF!"}},{"$f":"IF(#REF!=20,53,0)","v":{"$error":"#REF!"}},{"$f":"IF(#REF!>20,0,0)","v":{"$error":"#REF!"}},{"$f":"IF(#REF!=\"сх\",0,0)","v":{"$error":"#REF!"}},{"$error":"#REF!"},{"$f":"IF(#REF!=1,100,0)","v":{"$error":"#REF!"}},{"$f":"IF(#REF!=2,98,0)","v":{"$error":"#REF!"}},{"$f":"IF(#REF!=3,95,0)","v":{"$error":"#REF!"}},{"$f":"IF(#REF!=4,93,0)","v":{"$error":"#REF!"}},{"$f":"IF(#REF!=5,90,0)","v":{"$error":"#REF!"}},{"$f":"IF(#REF!=6,88,0)","v":{"$error":"#REF!"}},{"$f":"IF(#REF!=7,85,0)","v":{"$error":"#REF!"}},{"$f":"IF(#REF!=8,83,0)","v":{"$error":"#REF!"}},{"$f":"IF(#REF!=9,80,0)","v":{"$error":"#REF!"}},{"$f":"IF(#REF!=10,78,0)","v":{"$error":"#REF!"}},{"$f":"IF(#REF!=11,75,0)","v":{"$error":"#REF!"}},{"$f":"IF(#REF!=12,73,0)","v":{"$error":"#REF!"}},{"$f":"IF(#REF!=13,70,0)","v":{"$error":"#REF!"}},{"$f":"IF(#REF!=14,68,0)","v":{"$error":"#REF!"}},{"$f":"IF(#REF!=15,65,0)","v":{"$error":"#REF!"}},{"$f":"IF(#REF!=16,63,0)","v":{"$error":"#REF!"}},{"$f":"IF(#REF!=17,60,0)","v":{"$error":"#REF!"}},{"$f":"IF(#REF!=18,58,0)","v":{"$error":"#REF!"}},{"$f":"IF(#REF!=19,55,0)","v":{"$error":"#REF!"}},{"$f":"IF(#REF!=20,53,0)","v":{"$error":"#REF!"}},{"$f":"IF(#REF!>20,0,0)","v":{"$error":"#REF!"}},{"$f":"IF(#REF!=\"сх\",0,0)","v":{"$error":"#REF!"}},{"$error":"#REF!"}]
[8,12.3,68,"Чернега Максим","II","г. Новый Уренгой, Ямало-Ненецкий АО","СТК \"Факел\"","LYNX",5,16,9,12,9,12,40,{"$f":"#REF!+#REF!","v":{"$error":"#REF!"}},null,null,{"$f":"IF(#REF!=1,25,0)","v":{"$error":"#REF!"}},{"$f":"IF(#REF!=2,22,0)","v":{"$error":"#REF!"}},{"$f":"IF(#REF!=3,20,0)","v":{"$error":"#REF!"}},{"$f":"IF(#REF!=4,18,0)","v":{"$error":"#REF!"}},{"$f":"IF(#REF!=5,16,0)","v":{"$error":"#REF!"}},{"$f":"IF(#REF!=6,15,0)","v":{"$error":"#REF!"}},{"$f":"IF(#REF!=7,14,0)","v":{"$error":"#REF!"}},{"$f":"IF(#REF!=8,13,0)","v":{"$error":"#REF!"}},{"$f":"IF(#REF!=9,12,0)","v":{"$error":"#REF!"}},{"$f":"IF(#REF!=10,11,0)","v":{"$error":"#REF!"}},{"$f":"IF(#REF!=11,10,0)","v":{"$error":"#REF!"}},{"$f":"IF(#REF!=12,9,0)","v":{"$error":"#REF!"}},{"$f":"IF(#REF!=13,8,0)","v":{"$error":"#REF!"}},{"$f":"IF(#REF!=14,7,0)","v":{"$error":"#REF!"}},{"$f":"IF(#REF!=15,6,0)","v":{"$error":"#REF!"}},{"$f":"IF(#REF!=16,5,0)","v":{"$error":"#REF!"}},{"$f":"IF(#REF!=17,4,0)","v":{"$error":"#REF!"}},{"$f":"IF(#REF!=18,3,0)","v":{"$error":"#REF!"}},{"$f":"IF(#REF!=19,2,0)","v":{"$error":"#REF!"}},{"$f":"IF(#REF!=20,1,0)","v":{"$error":"#REF!"}},{"$f":"IF(#REF!>20,0,0)","v":{"$error":"#REF!"}},{"$f":"IF(#REF!=\"сх\",0,0)","v":{"$error":"#REF!"}},{"$error":"#REF!"},{"$f":"IF(#REF!=1,25,0)","v":{"$error":"#REF!"}},{"$f":"IF(#REF!=2,22,0)","v":{"$error":"#REF!"}},{"$f":"IF(#REF!=3,20,0)","v":{"$error":"#REF!"}},{"$f":"IF(#REF!=4,18,0)","v":{"$error":"#REF!"}},{"$f":"IF(#REF!=5,16,0)","v":{"$error":"#REF!"}},{"$f":"IF(#REF!=6,15,0)","v":{"$error":"#REF!"}},{"$f":"IF(#REF!=7,14,0)","v":{"$error":"#REF!"}},{"$f":"IF(#REF!=8,13,0)","v":{"$error":"#REF!"}},{"$f":"IF(#REF!=9,12,0)","v":{"$error":"#REF!"}},{"$f":"IF(#REF!=10,11,0)","v":{"$error":"#REF!"}},{"$f":"IF(#REF!=11,10,0)","v":{"$error":"#REF!"}},{"$f":"IF(#REF!=12,9,0)","v":{"$error":"#REF!"}},{"$f":"IF(#REF!=13,8,0)","v":{"$error":"#REF!"}},{"$f":"IF(#REF!=14,7,0)","v":{"$error":"#REF!"}},{"$f":"IF(#REF!=15,6,0)","v":{"$error":"#REF!"}},{"$f":"IF(#REF!=16,5,0)","v":{"$error":"#REF!"}},{"$f":"IF(#REF!=17,4,0)","v":{"$error":"#REF!"}},{"$f":"IF(#REF!=18,3,0)","v":{"$error":"#REF!"}},{"$f":"IF(#REF!=19,2,0)","v":{"$error":"#REF!"}},{"$f":"IF(#REF!=20,1,0)","v":{"$error":"#REF!"}},{"$f":"IF(#REF!>20,0,0)","v":{"$error":"#REF!"}},{"$f":"IF(#REF!=\"сх\",0,0)","v":{"$error":"#REF!"}},{"$error":"#REF!"},{"$f":"IF(#REF!=1,45,0)","v":{"$error":"#REF!"}},{"$f":"IF(#REF!=2,42,0)","v":{"$error":"#REF!"}},{"$f":"IF(#REF!=3,40,0)","v":{"$error":"#REF!"}},{"$f":"IF(#REF!=4,38,0)","v":{"$error":"#REF!"}},{"$f":"IF(#REF!=5,36,0)","v":{"$error":"#REF!"}},{"$f":"IF(#REF!=6,35,0)","v":{"$error":"#REF!"}},{"$f":"IF(#REF!=7,34,0)","v":{"$error":"#REF!"}},{"$f":"IF(#REF!=8,33,0)","v":{"$error":"#REF!"}},{"$f":"IF(#REF!=9,32,0)","v":{"$error":"#REF!"}},{"$f":"IF(#REF!=10,31,0)","v":{"$error":"#REF!"}},{"$f":"IF(#REF!=11,30,0)","v":{"$error":"#REF!"}},{"$f":"IF(#REF!=12,29,0)","v":{"$error":"#REF!"}},{"$f":"IF(#REF!=13,28,0)","v":{"$error":"#REF!"}},{"$f":"IF(#REF!=14,27,0)","v":{"$error":"#REF!"}},{"$f":"IF(#REF!=15,26,0)","v":{"$error":"#REF!"}},{"$f":"IF(#REF!=16,25,0)","v":{"$error":"#REF!"}},{"$f":"IF(#REF!=17,24,0)","v":{"$error":"#REF!"}},{"$f":"IF(#REF!=18,23,0)","v":{"$error":"#REF!"}},{"$f":"IF(#REF!=19,22,0)","v":{"$error":"#REF!"}},{"$f":"IF(#REF!=20,21,0)","v":{"$error":"#REF!"}},{"$f":"IF(#REF!=21,20,0)","v":{"$error":"#REF!"}},{"$f":"IF(#REF!=22,19,0)","v":{"$error":"#REF!"}},{"$f":"IF(#REF!=23,18,0)","v":{"$error":"#REF!"}},{"$f":"IF(#REF!=24,17,0)","v":{"$error":"#REF!"}},{"$f":"IF(#REF!=25,16,0)","v":{"$error":"#REF!"}},{"$f":"IF(#REF!=26,15,0)","v":{"$error":"#REF!"}},{"$f":"IF(#REF!=27,14,0)","v":{"$error":"#REF!"}},{"$f":"IF(#REF!=28,13,0)","v":{"$error":"#REF!"}},{"$f":"IF(#REF!=29,12,0)","v":{"$error":"#REF!"}},{"$f":"IF(#REF!=30,11,0)","v":{"$error":"#REF!"}},{"$f":"IF(#REF!=31,10,0)","v":{"$error":"#REF!"}},{"$f":"IF(#REF!=32,9,0)","v":{"$error":"#REF!"}},{"$f":"IF(#REF!=33,8,0)","v":{"$error":"#REF!"}},{"$f":"IF(#REF!=34,7,0)","v":{"$error":"#REF!"}},{"$f":"IF(#REF!=35,6,0)","v":{"$error":"#REF!"}},{"$f":"IF(#REF!=36,5,0)","v":{"$error":"#REF!"}},{"$f":"IF(#REF!=37,4,0)","v":{"$error":"#REF!"}},{"$f":"IF(#REF!=38,3,0)","v":{"$error":"#REF!"}},{"$f":"IF(#REF!=39,2,0)","v":{"$error":"#REF!"}},{"$f":"IF(#REF!=40,1,0)","v":{"$error":"#REF!"}},{"$f":"IF(#REF!>20,0,0)","v":{"$error":"#REF!"}},{"$f":"IF(#REF!=\"сх\",0,0)","v":{"$error":"#REF!"}},{"$error":"#REF!"},{"$f":"IF(#REF!=1,45,0)","v":{"$error":"#REF!"}},{"$f":"IF(#REF!=2,42,0)","v":{"$error":"#REF!"}},{"$f":"IF(#REF!=3,40,0)","v":{"$error":"#REF!"}},{"$f":"IF(#REF!=4,38,0)","v":{"$error":"#REF!"}},{"$f":"IF(#REF!=5,36,0)","v":{"$error":"#REF!"}},{"$f":"IF(#REF!=6,35,0)","v":{"$error":"#REF!"}},{"$f":"IF(#REF!=7,34,0)","v":{"$error":"#REF!"}},{"$f":"IF(#REF!=8,33,0)","v":{"$error":"#REF!"}},{"$f":"IF(#REF!=9,32,0)","v":{"$error":"#REF!"}},{"$f":"IF(#REF!=10,31,0)","v":{"$error":"#REF!"}},{"$f":"IF(#REF!=11,30,0)","v":{"$error":"#REF!"}},{"$f":"IF(#REF!=12,29,0)","v":{"$error":"#REF!"}},{"$f":"IF(#REF!=13,28,0)","v":{"$error":"#REF!"}},{"$f":"IF(#REF!=14,27,0)","v":{"$error":"#REF!"}},{"$f":"IF(#REF!=15,26,0)","v":{"$error":"#REF!"}},{"$f":"IF(#REF!=16,25,0)","v":{"$error":"#REF!"}},{"$f":"IF(#REF!=17,24,0)","v":{"$error":"#REF!"}},{"$f":"IF(#REF!=18,23,0)","v":{"$error":"#REF!"}},{"$f":"IF(#REF!=19,22,0)","v":{"$error":"#REF!"}},{"$f":"IF(#REF!=20,21,0)","v":{"$error":"#REF!"}},{"$f":"IF(#REF!=21,20,0)","v":{"$error":"#REF!"}},{"$f":"IF(#REF!=22,19,0)","v":{"$error":"#REF!"}},{"$f":"IF(#REF!=23,18,0)","v":{"$error":"#REF!"}},{"$f":"IF(#REF!=24,17,0)","v":{"$error":"#REF!"}},{"$f":"IF(#REF!=25,16,0)","v":{"$error":"#REF!"}},{"$f":"IF(#REF!=26,15,0)","v":{"$error":"#REF!"}},{"$f":"IF(#REF!=27,14,0)","v":{"$error":"#REF!"}},{"$f":"IF(#REF!=28,13,0)","v":{"$error":"#REF!"}},{"$f":"IF(#REF!=29,12,0)","v":{"$error":"#REF!"}},{"$f":"IF(#REF!=30,11,0)","v":{"$error":"#REF!"}},{"$f":"IF(#REF!=31,10,0)","v":{"$error":"#REF!"}},{"$f":"IF(#REF!=32,9,0)","v":{"$error":"#REF!"}},{"$f":"IF(#REF!=33,8,0)","v":{"$error":"#REF!"}},{"$f":"IF(#REF!=34,7,0)","v":{"$error":"#REF!"}},{"$f":"IF(#REF!=35,6,0)","v":{"$error":"#REF!"}},{"$f":"IF(#REF!=36,5,0)","v":{"$error":"#REF!"}},{"$f":"IF(#REF!=37,4,0)","v":{"$error":"#REF!"}},{"$f":"IF(#REF!=38,3,0)","v":{"$error":"#REF!"}},{"$f":"IF(#REF!=39,2,0)","v":{"$error":"#REF!"}},{"$f":"IF(#REF!=40,1,0)","v":{"$error":"#REF!"}},{"$f":"IF(#REF!>20,0,0)","v":{"$error":"#REF!"}},{"$f":"IF(#REF!=\"сх\",0,0)","v":{"$error":"#REF!"}},{"$error":"#REF!"},null,{"$f":"IF(#REF!=\"сх\",\"ноль\",IF(#REF!>0,#REF!,\"Ноль\"))","v":{"$error":"#REF!"}},{"$f":"IF(#REF!=\"сх\",\"ноль\",IF(#REF!>0,#REF!,\"Ноль\"))","v":{"$error":"#REF!"}},null,{"$error":"#REF!"},{"$f":"IF(O17=#REF!,IF(#REF!<#REF!,#REF!,FD17),#REF!)","v":{"$error":"#REF!"}},{"$f":"IF(O17=#REF!,IF(#REF!<#REF!,0,1))","v":{"$error":"#REF!"}},{"$f":"IF(AND(EY17>=21,EY17<>0),EY17,IF(O17<#REF!,\"СТОП\",EZ17+FA17))","v":{"$error":"#REF!"}},null,15,16,null,{"$f":"IF(#REF!=1,25,0)","v":{"$error":"#REF!"}},{"$f":"IF(#REF!=2,22,0)","v":{"$error":"#REF!"}},{"$f":"IF(#REF!=3,20,0)","v":{"$error":"#REF!"}},{"$f":"IF(#REF!=4,18,0)","v":{"$error":"#REF!"}},{"$f":"IF(#REF!=5,16,0)","v":{"$error":"#REF!"}},{"$f":"IF(#REF!=6,15,0)","v":{"$error":"#REF!"}},{"$f":"IF(#REF!=7,14,0)","v":{"$error":"#REF!"}},{"$f":"IF(#REF!=8,13,0)","v":{"$error":"#REF!"}},{"$f":"IF(#REF!=9,12,0)","v":{"$error":"#REF!"}},{"$f":"IF(#REF!=10,11,0)","v":{"$error":"#REF!"}},{"$f":"IF(#REF!=11,10,0)","v":{"$error":"#REF!"}},{"$f":"IF(#REF!=12,9,0)","v":{"$error":"#REF!"}},{"$f":"IF(#REF!=13,8,0)","v":{"$error":"#REF!"}},{"$f":"IF(#REF!=14,7,0)","v":{"$error":"#REF!"}},{"$f":"IF(#REF!=15,6,0)","v":{"$error":"#REF!"}},{"$f":"IF(#REF!=16,5,0)","v":{"$error":"#REF!"}},{"$f":"IF(#REF!=17,4,0)","v":{"$error":"#REF!"}},{"$f":"IF(#REF!=18,3,0)","v":{"$error":"#REF!"}},{"$f":"IF(#REF!=19,2,0)","v":{"$error":"#REF!"}},{"$f":"IF(#REF!=20,1,0)","v":{"$error":"#REF!"}},{"$f":"IF(#REF!>20,0,0)","v":{"$error":"#REF!"}},{"$f":"IF(#REF!=\"сх\",0,0)","v":{"$error":"#REF!"}},{"$error":"#REF!"},{"$f":"IF(#REF!=1,25,0)","v":{"$error":"#REF!"}},{"$f":"IF(#REF!=2,22,0)","v":{"$error":"#REF!"}},{"$f":"IF(#REF!=3,20,0)","v":{"$error":"#REF!"}},{"$f":"IF(#REF!=4,18,0)","v":{"$error":"#REF!"}},{"$f":"IF(#REF!=5,16,0)","v":{"$error":"#REF!"}},{"$f":"IF(#REF!=6,15,0)","v":{"$error":"#REF!"}},{"$f":"IF(#REF!=7,14,0)","v":{"$error":"#REF!"}},{"$f":"IF(#REF!=8,13,0)","v":{"$error":"#REF!"}},{"$f":"IF(#REF!=9,12,0)","v":{"$error":"#REF!"}},{"$f":"IF(#REF!=10,11,0)","v":{"$error":"#REF!"}},{"$f":"IF(#REF!=11,10,0)","v":{"$error":"#REF!"}},{"$f":"IF(#REF!=12,9,0)","v":{"$error":"#REF!"}},{"$f":"IF(#REF!=13,8,0)","v":{"$error":"#REF!"}},{"$f":"IF(#REF!=14,7,0)","v":{"$error":"#REF!"}},{"$f":"IF(#REF!=15,6,0)","v":{"$error":"#REF!"}},{"$f":"IF(#REF!=16,5,0)","v":{"$error":"#REF!"}},{"$f":"IF(#REF!=17,4,0)","v":{"$error":"#REF!"}},{"$f":"IF(#REF!=18,3,0)","v":{"$error":"#REF!"}},{"$f":"IF(#REF!=19,2,0)","v":{"$error":"#REF!"}},{"$f":"IF(#REF!=20,1,0)","v":{"$error":"#REF!"}},{"$f":"IF(#REF!>20,0,0)","v":{"$error":"#REF!"}},{"$f":"IF(#REF!=\"сх\",0,0)","v":{"$error":"#REF!"}},{"$error":"#REF!"},{"$f":"IF(#REF!=1,100,0)","v":{"$error":"#REF!"}},{"$f":"IF(#REF!=2,98,0)","v":{"$error":"#REF!"}},{"$f":"IF(#REF!=3,95,0)","v":{"$error":"#REF!"}},{"$f":"IF(#REF!=4,93,0)","v":{"$error":"#REF!"}},{"$f":"IF(#REF!=5,90,0)","v":{"$error":"#REF!"}},{"$f":"IF(#REF!=6,88,0)","v":{"$error":"#REF!"}},{"$f":"IF(#REF!=7,85,0)","v":{"$error":"#REF!"}},{"$f":"IF(#REF!=8,83,0)","v":{"$error":"#REF!"}},{"$f":"IF(#REF!=9,80,0)","v":{"$error":"#REF!"}},{"$f":"IF(#REF!=10,78,0)","v":{"$error":"#REF!"}},{"$f":"IF(#REF!=11,75,0)","v":{"$error":"#REF!"}},{"$f":"IF(#REF!=12,73,0)","v":{"$error":"#REF!"}},{"$f":"IF(#REF!=13,70,0)","v":{"$error":"#REF!"}},{"$f":"IF(#REF!=14,68,0)","v":{"$error":"#REF!"}},{"$f":"IF(#REF!=15,65,0)","v":{"$error":"#REF!"}},{"$f":"IF(#REF!=16,63,0)","v":{"$error":"#REF!"}},{"$f":"IF(#REF!=17,60,0)","v":{"$error":"#REF!"}},{"$f":"IF(#REF!=18,58,0)","v":{"$error":"#REF!"}},{"$f":"IF(#REF!=19,55,0)","v":{"$error":"#REF!"}},{"$f":"IF(#REF!=20,53,0)","v":{"$error":"#REF!"}},{"$f":"IF(#REF!>20,0,0)","v":{"$error":"#REF!"}},{"$f":"IF(#REF!=\"сх\",0,0)","v":{"$error":"#REF!"}},{"$error":"#REF!"},{"$f":"IF(#REF!=1,100,0)","v":{"$error":"#REF!"}},{"$f":"IF(#REF!=2,98,0)","v":{"$error":"#REF!"}},{"$f":"IF(#REF!=3,95,0)","v":{"$error":"#REF!"}},{"$f":"IF(#REF!=4,93,0)","v":{"$error":"#REF!"}},{"$f":"IF(#REF!=5,90,0)","v":{"$error":"#REF!"}},{"$f":"IF(#REF!=6,88,0)","v":{"$error":"#REF!"}},{"$f":"IF(#REF!=7,85,0)","v":{"$error":"#REF!"}},{"$f":"IF(#REF!=8,83,0)","v":{"$error":"#REF!"}},{"$f":"IF(#REF!=9,80,0)","v":{"$error":"#REF!"}},{"$f":"IF(#REF!=10,78,0)","v":{"$error":"#REF!"}},{"$f":"IF(#REF!=11,75,0)","v":{"$error":"#REF!"}},{"$f":"IF(#REF!=12,73,0)","v":{"$error":"#REF!"}},{"$f":"IF(#REF!=13,70,0)","v":{"$error":"#REF!"}},{"$f":"IF(#REF!=14,68,0)","v":{"$error":"#REF!"}},{"$f":"IF(#REF!=15,65,0)","v":{"$error":"#REF!"}},{"$f":"IF(#REF!=16,63,0)","v":{"$error":"#REF!"}},{"$f":"IF(#REF!=17,60,0)","v":{"$error":"#REF!"}},{"$f":"IF(#REF!=18,58,0)","v":{"$error":"#REF!"}},{"$f":"IF(#REF!=19,55,0)","v":{"$error":"#REF!"}},{"$f":"IF(#REF!=20,53,0)","v":{"$error":"#REF!"}},{"$f":"IF(#REF!>20,0,0)","v":{"$error":"#REF!"}},{"$f":"IF(#REF!=\"сх\",0,0)","v":{"$error":"#REF!"}},{"$error":"#REF!"}]
[9,12,35,"Садрисламов Данил","II","г. Новый Уренгой, Ямало-Ненецкий АО","СТК \"Ямбург\"","LYNX",8,13,8,13,8,13,39,{"$f":"#REF!+#REF!","v":{"$error":"#REF!"}},null,null,{"$f":"IF(#REF!=1,25,0)","v":{"$error":"#REF!"}},{"$f":"IF(#REF!=2,22,0)","v":{"$error":"#REF!"}},{"$f":"IF(#REF!=3,20,0)","v":{"$error":"#REF!"}},{"$f":"IF(#REF!=4,18,0)","v":{"$error":"#REF!"}},{"$f":"IF(#REF!=5,16,0)","v":{"$error":"#REF!"}},{"$f":"IF(#REF!=6,15,0)","v":{"$error":"#REF!"}},{"$f":"IF(#REF!=7,14,0)","v":{"$error":"#REF!"}},{"$f":"IF(#REF!=8,13,0)","v":{"$error":"#REF!"}},{"$f":"IF(#REF!=9,12,0)","v":{"$error":"#REF!"}},{"$f":"IF(#REF!=10,11,0)","v":{"$error":"#REF!"}},{"$f":"IF(#REF!=11,10,0)","v":{"$error":"#REF!"}},{"$f":"IF(#REF!=12,9,0)","v":{"$error":"#REF!"}},{"$f":"IF(#REF!=13,8,0)","v":{"$error":"#REF!"}},{"$f":"IF(#REF!=14,7,0)","v":{"$error":"#REF!"}},{"$f":"IF(#REF!=15,6,0)","v":{"$error":"#REF!"}},{"$f":"IF(#REF!=16,5,0)","v":{"$error":"#REF!"}},{"$f":"IF(#REF!=17,4,0)","v":{"$error":"#REF!"}},{"$f":"IF(#REF!=18,3,0)","v":{"$error":"#REF!"}},{"$f":"IF(#REF!=19,2,0)","v":{"$error":"#REF!"}},{"$f":"IF(#REF!=20,1,0)","v":{"$error":"#REF!"}},{"$f":"IF(#REF!>20,0,0)","v":{"$error":"#REF!"}},{"$f":"IF(#REF!=\"сх\",0,0)","v":{"$error":"#REF!"}},{"$error":"#REF!"},{"$f":"IF(#REF!=1,25,0)","v":{"$error":"#REF!"}},{"$f":"IF(#REF!=2,22,0)","v":{"$error":"#REF!"}},{"$f":"IF(#REF!=3,20,0)","v":{"$error":"#REF!"}},{"$f":"IF(#REF!=4,18,0)","v":{"$error":"#REF!"}},{"$f":"IF(#REF!=5,16,0)","v":{"$error":"#REF!"}},{"$f":"IF(#REF!=6,15,0)","v":{"$error":"#REF!"}},{"$f":"IF(#REF!=7,14,0)","v":{"$error":"#REF!"}},{"$f":"IF(#REF!=8,13,0)","v":{"$error":"#REF!"}},{"$f":"IF(#REF!=9,12,0)","v":{"$error":"#REF!"}},{"$f":"IF(#REF!=10,11,0)","v":{"$error":"#REF!"}},{"$f":"IF(#REF!=11,10,0)","v":{"$error":"#REF!"}},{"$f":"IF(#REF!=12,9,0)","v":{"$error":"#REF!"}},{"$f":"IF(#REF!=13,8,0)","v":{"$error":"#REF!"}},{"$f":"IF(#REF!=14,7,0)","v":{"$error":"#REF!"}},{"$f":"IF(#REF!=15,6,0)","v":{"$error":"#REF!"}},{"$f":"IF(#REF!=16,5,0)","v":{"$error":"#REF!"}},{"$f":"IF(#REF!=17,4,0)","v":{"$error":"#REF!"}},{"$f":"IF(#REF!=18,3,0)","v":{"$error":"#REF!"}},{"$f":"IF(#REF!=19,2,0)","v":{"$error":"#REF!"}},{"$f":"IF(#REF!=20,1,0)","v":{"$error":"#REF!"}},{"$f":"IF(#REF!>20,0,0)","v":{"$error":"#REF!"}},{"$f":"IF(#REF!=\"сх\",0,0)","v":{"$error":"#REF!"}},{"$error":"#REF!"},{"$f":"IF(#REF!=1,45,0)","v":{"$error":"#REF!"}},{"$f":"IF(#REF!=2,42,0)","v":{"$error":"#REF!"}},{"$f":"IF(#REF!=3,40,0)","v":{"$error":"#REF!"}},{"$f":"IF(#REF!=4,38,0)","v":{"$error":"#REF!"}},{"$f":"IF(#REF!=5,36,0)","v":{"$error":"#REF!"}},{"$f":"IF(#REF!=6,35,0)","v":{"$error":"#REF!"}},{"$f":"IF(#REF!=7,34,0)","v":{"$error":"#REF!"}},{"$f":"IF(#REF!=8,33,0)","v":{"$error":"#REF!"}},{"$f":"IF(#REF!=9,32,0)","v":{"$error":"#REF!"}},{"$f":"IF(#REF!=10,31,0)","v":{"$error":"#REF!"}},{"$f":"IF(#REF!=11,30,0)","v":{"$error":"#REF!"}},{"$f":"IF(#REF!=12,29,0)","v":{"$error":"#REF!"}},{"$f":"IF(#REF!=13,28,0)","v":{"$error":"#REF!"}},{"$f":"IF(#REF!=14,27,0)","v":{"$error":"#REF!"}},{"$f":"IF(#REF!=15,26,0)","v":{"$error":"#REF!"}},{"$f":"IF(#REF!=16,25,0)","v":{"$error":"#REF!"}},{"$f":"IF(#REF!=17,24,0)","v":{"$error":"#REF!"}},{"$f":"IF(#REF!=18,23,0)","v":{"$error":"#REF!"}},{"$f":"IF(#REF!=19,22,0)","v":{"$error":"#REF!"}},{"$f":"IF(#REF!=20,21,0)","v":{"$error":"#REF!"}},{"$f":"IF(#REF!=21,20,0)","v":{"$error":"#REF!"}},{"$f":"IF(#REF!=22,19,0)","v":{"$error":"#REF!"}},{"$f":"IF(#REF!=23,18,0)","v":{"$error":"#REF!"}},{"$f":"IF(#REF!=24,17,0)","v":{"$error":"#REF!"}},{"$f":"IF(#REF!=25,16,0)","v":{"$error":"#REF!"}},{"$f":"IF(#REF!=26,15,0)","v":{"$error":"#REF!"}},{"$f":"IF(#REF!=27,14,0)","v":{"$error":"#REF!"}},{"$f":"IF(#REF!=28,13,0)","v":{"$error":"#REF!"}},{"$f":"IF(#REF!=29,12,0)","v":{"$error":"#REF!"}},{"$f":"IF(#REF!=30,11,0)","v":{"$error":"#REF!"}},{"$f":"IF(#REF!=31,10,0)","v":{"$error":"#REF!"}},{"$f":"IF(#REF!=32,9,0)","v":{"$error":"#REF!"}},{"$f":"IF(#REF!=33,8,0)","v":{"$error":"#REF!"}},{"$f":"IF(#REF!=34,7,0)","v":{"$error":"#REF!"}},{"$f":"IF(#REF!=35,6,0)","v":{"$error":"#REF!"}},{"$f":"IF(#REF!=36,5,0)","v":{"$error":"#REF!"}},{"$f":"IF(#REF!=37,4,0)","v":{"$error":"#REF!"}},{"$f":"IF(#REF!=38,3,0)","v":{"$error":"#REF!"}},{"$f":"IF(#REF!=39,2,0)","v":{"$error":"#REF!"}},{"$f":"IF(#REF!=40,1,0)","v":{"$error":"#REF!"}},{"$f":"IF(#REF!>20,0,0)","v":{"$error":"#REF!"}},{"$f":"IF(#REF!=\"сх\",0,0)","v":{"$error":"#REF!"}},{"$error":"#REF!"},{"$f":"IF(#REF!=1,45,0)","v":{"$error":"#REF!"}},{"$f":"IF(#REF!=2,42,0)","v":{"$error":"#REF!"}},{"$f":"IF(#REF!=3,40,0)","v":{"$error":"#REF!"}},{"$f":"IF(#REF!=4,38,0)","v":{"$error":"#REF!"}},{"$f":"IF(#REF!=5,36,0)","v":{"$error":"#REF!"}},{"$f":"IF(#REF!=6,35,0)","v":{"$error":"#REF!"}},{"$f":"IF(#REF!=7,34,0)","v":{"$error":"#REF!"}},{"$f":"IF(#REF!=8,33,0)","v":{"$error":"#REF!"}},{"$f":"IF(#REF!=9,32,0)","v":{"$error":"#REF!"}},{"$f":"IF(#REF!=10,31,0)","v":{"$error":"#REF!"}},{"$f":"IF(#REF!=11,30,0)","v":{"$error":"#REF!"}},{"$f":"IF(#REF!=12,29,0)","v":{"$error":"#REF!"}},{"$f":"IF(#REF!=13,28,0)","v":{"$error":"#REF!"}},{"$f":"IF(#REF!=14,27,0)","v":{"$error":"#REF!"}},{"$f":"IF(#REF!=15,26,0)","v":{"$error":"#REF!"}},{"$f":"IF(#REF!=16,25,0)","v":{"$error":"#REF!"}},{"$f":"IF(#REF!=17,24,0)","v":{"$error":"#REF!"}},{"$f":"IF(#REF!=18,23,0)","v":{"$error":"#REF!"}},{"$f":"IF(#REF!=19,22,0)","v":{"$error":"#REF!"}},{"$f":"IF(#REF!=20,21,0)","v":{"$error":"#REF!"}},{"$f":"IF(#REF!=21,20,0)","v":{"$error":"#REF!"}},{"$f":"IF(#REF!=22,19,0)","v":{"$error":"#REF!"}},{"$f":"IF(#REF!=23,18,0)","v":{"$error":"#REF!"}},{"$f":"IF(#REF!=24,17,0)","v":{"$error":"#REF!"}},{"$f":"IF(#REF!=25,16,0)","v":{"$error":"#REF!"}},{"$f":"IF(#REF!=26,15,0)","v":{"$error":"#REF!"}},{"$f":"IF(#REF!=27,14,0)","v":{"$error":"#REF!"}},{"$f":"IF(#REF!=28,13,0)","v":{"$error":"#REF!"}},{"$f":"IF(#REF!=29,12,0)","v":{"$error":"#REF!"}},{"$f":"IF(#REF!=30,11,0)","v":{"$error":"#REF!"}},{"$f":"IF(#REF!=31,10,0)","v":{"$error":"#REF!"}},{"$f":"IF(#REF!=32,9,0)","v":{"$error":"#REF!"}},{"$f":"IF(#REF!=33,8,0)","v":{"$error":"#REF!"}},{"$f":"IF(#REF!=34,7,0)","v":{"$error":"#REF!"}},{"$f":"IF(#REF!=35,6,0)","v":{"$error":"#REF!"}},{"$f":"IF(#REF!=36,5,0)","v":{"$error":"#REF!"}},{"$f":"IF(#REF!=37,4,0)","v":{"$error":"#REF!"}},{"$f":"IF(#REF!=38,3,0)","v":{"$error":"#REF!"}},{"$f":"IF(#REF!=39,2,0)","v":{"$error":"#REF!"}},{"$f":"IF(#REF!=40,1,0)","v":{"$error":"#REF!"}},{"$f":"IF(#REF!>20,0,0)","v":{"$error":"#REF!"}},{"$f":"IF(#REF!=\"сх\",0,0)","v":{"$error":"#REF!"}},{"$error":"#REF!"},null,{"$f":"IF(#REF!=\"сх\",\"ноль\",IF(#REF!>0,#REF!,\"Ноль\"))","v":{"$error":"#REF!"}},{"$f":"IF(#REF!=\"сх\",\"ноль\",IF(#REF!>0,#REF!,\"Ноль\"))","v":{"$error":"#REF!"}},null,{"$error":"#REF!"},{"$f":"IF(O18=#REF!,IF(#REF!<#REF!,#REF!,FD18),#REF!)","v":{"$error":"#REF!"}},{"$f":"IF(O18=#REF!,IF(#REF!<#REF!,0,1))","v":{"$error":"#REF!"}},{"$f":"IF(AND(EY18>=21,EY18<>0),EY18,IF(O18<#REF!,\"СТОП\",EZ18+FA18))","v":{"$error":"#REF!"}},null,15,16,null,{"$f":"IF(#REF!=1,25,0)","v":{"$error":"#REF!"}},{"$f":"IF(#REF!=2,22,0)","v":{"$error":"#REF!"}},{"$f":"IF(#REF!=3,20,0)","v":{"$error":"#REF!"}},{"$f":"IF(#REF!=4,18,0)","v":{"$error":"#REF!"}},{"$f":"IF(#REF!=5,16,0)","v":{"$error":"#REF!"}},{"$f":"IF(#REF!=6,15,0)","v":{"$error":"#REF!"}},{"$f":"IF(#REF!=7,14,0)","v":{"$error":"#REF!"}},{"$f":"IF(#REF!=8,13,0)","v":{"$error":"#REF!"}},{"$f":"IF(#REF!=9,12,0)","v":{"$error":"#REF!"}},{"$f":"IF(#REF!=10,11,0)","v":{"$error":"#REF!"}},{"$f":"IF(#REF!=11,10,0)","v":{"$error":"#REF!"}},{"$f":"IF(#REF!=12,9,0)","v":{"$error":"#REF!"}},{"$f":"IF(#REF!=13,8,0)","v":{"$error":"#REF!"}},{"$f":"IF(#REF!=14,7,0)","v":{"$error":"#REF!"}},{"$f":"IF(#REF!=15,6,0)","v":{"$error":"#REF!"}},{"$f":"IF(#REF!=16,5,0)","v":{"$error":"#REF!"}},{"$f":"IF(#REF!=17,4,0)","v":{"$error":"#REF!"}},{"$f":"IF(#REF!=18,3,0)","v":{"$error":"#REF!"}},{"$f":"IF(#REF!=19,2,0)","v":{"$error":"#REF!"}},{"$f":"IF(#REF!=20,1,0)","v":{"$error":"#REF!"}},{"$f":"IF(#REF!>20,0,0)","v":{"$error":"#REF!"}},{"$f":"IF(#REF!=\"сх\",0,0)","v":{"$error":"#REF!"}},{"$error":"#REF!"},{"$f":"IF(#REF!=1,25,0)","v":{"$error":"#REF!"}},{"$f":"IF(#REF!=2,22,0)","v":{"$error":"#REF!"}},{"$f":"IF(#REF!=3,20,0)","v":{"$error":"#REF!"}},{"$f":"IF(#REF!=4,18,0)","v":{"$error":"#REF!"}},{"$f":"IF(#REF!=5,16,0)","v":{"$error":"#REF!"}},{"$f":"IF(#REF!=6,15,0)","v":{"$error":"#REF!"}},{"$f":"IF(#REF!=7,14,0)","v":{"$error":"#REF!"}},{"$f":"IF(#REF!=8,13,0)","v":{"$error":"#REF!"}},{"$f":"IF(#REF!=9,12,0)","v":{"$error":"#REF!"}},{"$f":"IF(#REF!=10,11,0)","v":{"$error":"#REF!"}},{"$f":"IF(#REF!=11,10,0)","v":{"$error":"#REF!"}},{"$f":"IF(#REF!=12,9,0)","v":{"$error":"#REF!"}},{"$f":"IF(#REF!=13,8,0)","v":{"$error":"#REF!"}},{"$f":"IF(#REF!=14,7,0)","v":{"$error":"#REF!"}},{"$f":"IF(#REF!=15,6,0)","v":{"$error":"#REF!"}},{"$f":"IF(#REF!=16,5,0)","v":{"$error":"#REF!"}},{"$f":"IF(#REF!=17,4,0)","v":{"$error":"#REF!"}},{"$f":"IF(#REF!=18,3,0)","v":{"$error":"#REF!"}},{"$f":"IF(#REF!=19,2,0)","v":{"$error":"#REF!"}},{"$f":"IF(#REF!=20,1,0)","v":{"$error":"#REF!"}},{"$f":"IF(#REF!>20,0,0)","v":{"$error":"#REF!"}},{"$f":"IF(#REF!=\"сх\",0,0)","v":{"$error":"#REF!"}},{"$error":"#REF!"},{"$f":"IF(#REF!=1,100,0)","v":{"$error":"#REF!"}},{"$f":"IF(#REF!=2,98,0)","v":{"$error":"#REF!"}},{"$f":"IF(#REF!=3,95,0)","v":{"$error":"#REF!"}},{"$f":"IF(#REF!=4,93,0)","v":{"$error":"#REF!"}},{"$f":"IF(#REF!=5,90,0)","v":{"$error":"#REF!"}},{"$f":"IF(#REF!=6,88,0)","v":{"$error":"#REF!"}},{"$f":"IF(#REF!=7,85,0)","v":{"$error":"#REF!"}},{"$f":"IF(#REF!=8,83,0)","v":{"$error":"#REF!"}},{"$f":"IF(#REF!=9,80,0)","v":{"$error":"#REF!"}},{"$f":"IF(#REF!=10,78,0)","v":{"$error":"#REF!"}},{"$f":"IF(#REF!=11,75,0)","v":{"$error":"#REF!"}},{"$f":"IF(#REF!=12,73,0)","v":{"$error":"#REF!"}},{"$f":"IF(#REF!=13,70,0)","v":{"$error":"#REF!"}},{"$f":"IF(#REF!=14,68,0)","v":{"$error":"#REF!"}},{"$f":"IF(#REF!=15,65,0)","v":{"$error":"#REF!"}},{"$f":"IF(#REF!=16,63,0)","v":{"$error":"#REF!"}},{"$f":"IF(#REF!=17,60,0)","v":{"$error":"#REF!"}},{"$f":"IF(#REF!=18,58,0)","v":{"$error":"#REF!"}},{"$f":"IF(#REF!=19,55,0)","v":{"$error":"#REF!"}},{"$f":"IF(#REF!=20,53,0)","v":{"$error":"#REF!"}},{"$f":"IF(#REF!>20,0,0)","v":{"$error":"#REF!"}},{"$f":"IF(#REF!=\"сх\",0,0)","v":{"$error":"#REF!"}},{"$error":"#REF!"},{"$f":"IF(#REF!=1,100,0)","v":{"$error":"#REF!"}},{"$f":"IF(#REF!=2,98,0)","v":{"$error":"#REF!"}},{"$f":"IF(#REF!=3,95,0)","v":{"$error":"#REF!"}},{"$f":"IF(#REF!=4,93,0)","v":{"$error":"#REF!"}},{"$f":"IF(#REF!=5,90,0)","v":{"$error":"#REF!"}},{"$f":"IF(#REF!=6,88,0)","v":{"$error":"#REF!"}},{"$f":"IF(#REF!=7,85,0)","v":{"$error":"#REF!"}},{"$f":"IF(#REF!=8,83,0)","v":{"$error":"#REF!"}},{"$f":"IF(#REF!=9,80,0)","v":{"$error":"#REF!"}},{"$f":"IF(#REF!=10,78,0)","v":{"$error":"#REF!"}},{"$f":"IF(#REF!=11,75,0)","v":{"$error":"#REF!"}},{"$f":"IF(#REF!=12,73,0)","v":{"$error":"#REF!"}},{"$f":"IF(#REF!=13,70,0)","v":{"$error":"#REF!"}},{"$f":"IF(#REF!=14,68,0)","v":{"$error":"#REF!"}},{"$f":"IF(#REF!=15,65,0)","v":{"$error":"#REF!"}},{"$f":"IF(#REF!=16,63,0)","v":{"$error":"#REF!"}},{"$f":"IF(#REF!=17,60,0)","v":{"$error":"#REF!"}},{"$f":"IF(#REF!=18,58,0)","v":{"$error":"#REF!"}},{"$f":"IF(#REF!=19,55,0)","v":{"$error":"#REF!"}},{"$f":"IF(#REF!=20,53,0)","v":{"$error":"#REF!"}},{"$f":"IF(#REF!>20,0,0)","v":{"$error":"#REF!"}},{"$f":"IF(#REF!=\"сх\",0,0)","v":{"$error":"#REF!"}},{"$error":"#REF!"}]
[10,11.7,62,"Лавров Кирилл","I","г. Новый Уренгой, Ямало-Ненецкий АО","СТК \"Факел\"","LYNX",3,20,"сх",0,5,16,36,{"$f":"#REF!+#REF!","v":{"$error":"#REF!"}},null,null,{"$f":"IF(#REF!=1,25,0)","v":{"$error":"#REF!"}},{"$f":"IF(#REF!=2,22,0)","v":{"$error":"#REF!"}},{"$f":"IF(#REF!=3,20,0)","v":{"$error":"#REF!"}},{"$f":"IF(#REF!=4,18,0)","v":{"$error":"#REF!"}},{"$f":"IF(#REF!=5,16,0)","v":{"$error":"#REF!"}},{"$f":"IF(#REF!=6,15,0)","v":{"$error":"#REF!"}},{"$f":"IF(#REF!=7,14,0)","v":{"$error":"#REF!"}},{"$f":"IF(#REF!=8,13,0)","v":{"$error":"#REF!"}},{"$f":"IF(#REF!=9,12,0)","v":{"$error":"#REF!"}},{"$f":"IF(#REF!=10,11,0)","v":{"$error":"#REF!"}},{"$f":"IF(#REF!=11,10,0)","v":{"$error":"#REF!"}},{"$f":"IF(#REF!=12,9,0)","v":{"$error":"#REF!"}},{"$f":"IF(#REF!=13,8,0)","v":{"$error":"#REF!"}},{"$f":"IF(#REF!=14,7,0)","v":{"$error":"#REF!"}},{"$f":"IF(#REF!=15,6,0)","v":{"$error":"#REF!"}},{"$f":"IF(#REF!=16,5,0)","v":{"$error":"#REF!"}},{"$f":"IF(#REF!=17,4,0)","v":{"$error":"#REF!"}},{"$f":"IF(#REF!=18,3,0)","v":{"$error":"#REF!"}},{"$f":"IF(#REF!=19,2,0)","v":{"$error":"#REF!"}},{"$f":"IF(#REF!=20,1,0)","v":{"$error":"#REF!"}},{"$f":"IF(#REF!>20,0,0)","v":{"$error":"#REF!"}},{"$f":"IF(#REF!=\"сх\",0,0)","v":{"$error":"#REF!"}},{"$error":"#REF!"},{"$f":"IF(#REF!=1,25,0)","v":{"$error":"#REF!"}},{"$f":"IF(#REF!=2,22,0)","v":{"$error":"#REF!"}},{"$f":"IF(#REF!=3,20,0)","v":{"$error":"#REF!"}},{"$f":"IF(#REF!=4,18,0)","v":{"$error":"#REF!"}},{"$f":"IF(#REF!=5,16,0)","v":{"$error":"#REF!"}},{"$f":"IF(#REF!=6,15,0)","v":{"$error":"#REF!"}},{"$f":"IF(#REF!=7,14,0)","v":{"$error":"#REF!"}},{"$f":"IF(#REF!=8,13,0)","v":{"$error":"#REF!"}},{"$f":"IF(#REF!=9,12,0)","v":{"$error":"#REF!"}},{"$f":"IF(#REF!=10,11,0)","v":{"$error":"#REF!"}},{"$f":"IF(#REF!=11,10,0)","v":{"$error":"#REF!"}},{"$f":"IF(#REF!=12,9,0)","v":{"$error":"#REF!"}},{"$f":"IF(#REF!=13,8,0)","v":{"$error":"#REF!"}},{"$f":"IF(#REF!=14,7,0)","v":{"$error":"#REF!"}},{"$f":"IF(#REF!=15,6,0)","v":{"$error":"#REF!"}},{"$f":"IF(#REF!=16,5,0)","v":{"$error":"#REF!"}},{"$f":"IF(#REF!=17,4,0)","v":{"$error":"#REF!"}},{"$f":"IF(#REF!=18,3,0)","v":{"$error":"#REF!"}},{"$f":"IF(#REF!=19,2,0)","v":{"$error":"#REF!"}},{"$f":"IF(#REF!=20,1,0)","v":{"$error":"#REF!"}},{"$f":"IF(#REF!>20,0,0)","v":{"$error":"#REF!"}},{"$f":"IF(#REF!=\"сх\",0,0)","v":{"$error":"#REF!"}},{"$error":"#REF!"},{"$f":"IF(#REF!=1,45,0)","v":{"$error":"#REF!"}},{"$f":"IF(#REF!=2,42,0)","v":{"$error":"#REF!"}},{"$f":"IF(#REF!=3,40,0)","v":{"$error":"#REF!"}},{"$f":"IF(#REF!=4,38,0)","v":{"$error":"#REF!"}},{"$f":"IF(#REF!=5,36,0)","v":{"$error":"#REF!"}},{"$f":"IF(#REF!=6,35,0)","v":{"$error":"#REF!"}},{"$f":"IF(#REF!=7,34,0)","v":{"$error":"#REF!"}},{"$f":"IF(#REF!=8,33,0)","v":{"$error":"#REF!"}},{"$f":"IF(#REF!=9,32,0)","v":{"$error":"#REF!"}},{"$f":"IF(#REF!=10,31,0)","v":{"$error":"#REF!"}},{"$f":"IF(#REF!=11,30,0)","v":{"$error":"#REF!"}},{"$f":"IF(#REF!=12,29,0)","v":{"$error":"#REF!"}},{"$f":"IF(#REF!=13,28,0)","v":{"$error":"#REF!"}},{"$f":"IF(#REF!=14,27,0)","v":{"$error":"#REF!"}},{"$f":"IF(#REF!=15,26,0)","v":{"$error":"#REF!"}},{"$f":"IF(#REF!=16,25,0)","v":{"$error":"#REF!"}},{"$f":"IF(#REF!=17,24,0)","v":{"$error":"#REF!"}},{"$f":"IF(#REF!=18,23,0)","v":{"$error":"#REF!"}},{"$f":"IF(#REF!=19,22,0)","v":{"$error":"#REF!"}},{"$f":"IF(#REF!=20,21,0)","v":{"$error":"#REF!"}},{"$f":"IF(#REF!=21,20,0)","v":{"$error":"#REF!"}},{"$f":"IF(#REF!=22,19,0)","v":{"$error":"#REF!"}},{"$f":"IF(#REF!=23,18,0)","v":{"$error":"#REF!"}},{"$f":"IF(#REF!=24,17,0)","v":{"$error":"#REF!"}},{"$f":"IF(#REF!=25,16,0)","v":{"$error":"#REF!"}},{"$f":"IF(#REF!=26,15,0)","v":{"$error":"#REF!"}},{"$f":"IF(#REF!=27,14,0)","v":{"$error":"#REF!"}},{"$f":"IF(#REF!=28,13,0)","v":{"$error":"#REF!"}},{"$f":"IF(#REF!=29,12,0)","v":{"$error":"#REF!"}},{"$f":"IF(#REF!=30,11,0)","v":{"$error":"#REF!"}},{"$f":"IF(#REF!=31,10,0)","v":{"$error":"#REF!"}},{"$f":"IF(#REF!=32,9,0)","v":{"$error":"#REF!"}},{"$f":"IF(#REF!=33,8,0)","v":{"$error":"#REF!"}},{"$f":"IF(#REF!=34,7,0)","v":{"$error":"#REF!"}},{"$f":"IF(#REF!=35,6,0)","v":{"$error":"#REF!"}},{"$f":"IF(#REF!=36,5,0)","v":{"$error":"#REF!"}},{"$f":"IF(#REF!=37,4,0)","v":{"$error":"#REF!"}},{"$f":"IF(#REF!=38,3,0)","v":{"$error":"#REF!"}},{"$f":"IF(#REF!=39,2,0)","v":{"$error":"#REF!"}},{"$f":"IF(#REF!=40,1,0)","v":{"$error":"#REF!"}},{"$f":"IF(#REF!>20,0,0)","v":{"$error":"#REF!"}},{"$f":"IF(#REF!=\"сх\",0,0)","v":{"$error":"#REF!"}},{"$error":"#REF!"},{"$f":"IF(#REF!=1,45,0)","v":{"$error":"#REF!"}},{"$f":"IF(#REF!=2,42,0)","v":{"$error":"#REF!"}},{"$f":"IF(#REF!=3,40,0)","v":{"$error":"#REF!"}},{"$f":"IF(#REF!=4,38,0)","v":{"$error":"#REF!"}},{"$f":"IF(#REF!=5,36,0)","v":{"$error":"#REF!"}},{"$f":"IF(#REF!=6,35,0)","v":{"$error":"#REF!"}},{"$f":"IF(#REF!=7,34,0)","v":{"$error":"#REF!"}},{"$f":"IF(#REF!=8,33,0)","v":{"$error":"#REF!"}},{"$f":"IF(#REF!=9,32,0)","v":{"$error":"#REF!"}},{"$f":"IF(#REF!=10,31,0)","v":{"$error":"#REF!"}},{"$f":"IF(#REF!=11,30,0)","v":{"$error":"#REF!"}},{"$f":"IF(#REF!=12,29,0)","v":{"$error":"#REF!"}},{"$f":"IF(#REF!=13,28,0)","v":{"$error":"#REF!"}},{"$f":"IF(#REF!=14,27,0)","v":{"$error":"#REF!"}},{"$f":"IF(#REF!=15,26,0)","v":{"$error":"#REF!"}},{"$f":"IF(#REF!=16,25,0)","v":{"$error":"#REF!"}},{"$f":"IF(#REF!=17,24,0)","v":{"$error":"#REF!"}},{"$f":"IF(#REF!=18,23,0)","v":{"$error":"#REF!"}},{"$f":"IF(#REF!=19,22,0)","v":{"$error":"#REF!"}},{"$f":"IF(#REF!=20,21,0)","v":{"$error":"#REF!"}},{"$f":"IF(#REF!=21,20,0)","v":{"$error":"#REF!"}},{"$f":"IF(#REF!=22,19,0)","v":{"$error":"#REF!"}},{"$f":"IF(#REF!=23,18,0)","v":{"$error":"#REF!"}},{"$f":"IF(#REF!=24,17,0)","v":{"$error":"#REF!"}},{"$f":"IF(#REF!=25,16,0)","v":{"$error":"#REF!"}},{"$f":"IF(#REF!=26,15,0)","v":{"$error":"#REF!"}},{"$f":"IF(#REF!=27,14,0)","v":{"$error":"#REF!"}},{"$f":"IF(#REF!=28,13,0)","v":{"$error":"#REF!"}},{"$f":"IF(#REF!=29,12,0)","v":{"$error":"#REF!"}},{"$f":"IF(#REF!=30,11,0)","v":{"$error":"#REF!"}},{"$f":"IF(#REF!=31,10,0)","v":{"$error":"#REF!"}},{"$f":"IF(#REF!=32,9,0)","v":{"$error":"#REF!"}},{"$f":"IF(#REF!=33,8,0)","v":{"$error":"#REF!"}},{"$f":"IF(#REF!=34,7,0)","v":{"$error":"#REF!"}},{"$f":"IF(#REF!=35,6,0)","v":{"$error":"#REF!"}},{"$f":"IF(#REF!=36,5,0)","v":{"$error":"#REF!"}},{"$f":"IF(#REF!=37,4,0)","v":{"$error":"#REF!"}},{"$f":"IF(#REF!=38,3,0)","v":{"$error":"#REF!"}},{"$f":"IF(#REF!=39,2,0)","v":{"$error":"#REF!"}},{"$f":"IF(#REF!=40,1,0)","v":{"$error":"#REF!"}},{"$f":"IF(#REF!>20,0,0)","v":{"$error":"#REF!"}},{"$f":"IF(#REF!=\"сх\",0,0)","v":{"$error":"#REF!"}},{"$error":"#REF!"},null,{"$f":"IF(#REF!=\"сх\",\"ноль\",IF(#REF!>0,#REF!,\"Ноль\"))","v":{"$error":"#REF!"}},{"$f":"IF(#REF!=\"сх\",\"ноль\",IF(#REF!>0,#REF!,\"Ноль\"))","v":{"$error":"#REF!"}},null,{"$error":"#REF!"},{"$f":"IF(O19=#REF!,IF(#REF!<#REF!,#REF!,FD19),#REF!)","v":{"$error":"#REF!"}},{"$f":"IF(O19=#REF!,IF(#REF!<#REF!,0,1))","v":{"$error":"#REF!"}},{"$f":"IF(AND(EY19>=21,EY19<>0),EY19,IF(O19<#REF!,\"СТОП\",EZ19+FA19))","v":{"$error":"#REF!"}},null,15,16,null,{"$f":"IF(#REF!=1,25,0)","v":{"$error":"#REF!"}},{"$f":"IF(#REF!=2,22,0)","v":{"$error":"#REF!"}},{"$f":"IF(#REF!=3,20,0)","v":{"$error":"#REF!"}},{"$f":"IF(#REF!=4,18,0)","v":{"$error":"#REF!"}},{"$f":"IF(#REF!=5,16,0)","v":{"$error":"#REF!"}},{"$f":"IF(#REF!=6,15,0)","v":{"$error":"#REF!"}},{"$f":"IF(#REF!=7,14,0)","v":{"$error":"#REF!"}},{"$f":"IF(#REF!=8,13,0)","v":{"$error":"#REF!"}},{"$f":"IF(#REF!=9,12,0)","v":{"$error":"#REF!"}},{"$f":"IF(#REF!=10,11,0)","v":{"$error":"#REF!"}},{"$f":"IF(#REF!=11,10,0)","v":{"$error":"#REF!"}},{"$f":"IF(#REF!=12,9,0)","v":{"$error":"#REF!"}},{"$f":"IF(#REF!=13,8,0)","v":{"$error":"#REF!"}},{"$f":"IF(#REF!=14,7,0)","v":{"$error":"#REF!"}},{"$f":"IF(#REF!=15,6,0)","v":{"$error":"#REF!"}},{"$f":"IF(#REF!=16,5,0)","v":{"$error":"#REF!"}},{"$f":"IF(#REF!=17,4,0)","v":{"$error":"#REF!"}},{"$f":"IF(#REF!=18,3,0)","v":{"$error":"#REF!"}},{"$f":"IF(#REF!=19,2,0)","v":{"$error":"#REF!"}},{"$f":"IF(#REF!=20,1,0)","v":{"$error":"#REF!"}},{"$f":"IF(#REF!>20,0,0)","v":{"$error":"#REF!"}},{"$f":"IF(#REF!=\"сх\",0,0)","v":{"$error":"#REF!"}},{"$error":"#REF!"},{"$f":"IF(#REF!=1,25,0)","v":{"$error":"#REF!"}},{"$f":"IF(#REF!=2,22,0)","v":{"$error":"#REF!"}},{"$f":"IF(#REF!=3,20,0)","v":{"$error":"#REF!"}},{"$f":"IF(#REF!=4,18,0)","v":{"$error":"#REF!"}},{"$f":"IF(#REF!=5,16,0)","v":{"$error":"#REF!"}},{"$f":"IF(#REF!=6,15,0)","v":{"$error":"#REF!"}},{"$f":"IF(#REF!=7,14,0)","v":{"$error":"#REF!"}},{"$f":"IF(#REF!=8,13,0)","v":{"$error":"#REF!"}},{"$f":"IF(#REF!=9,12,0)","v":{"$error":"#REF!"}},{"$f":"IF(#REF!=10,11,0)","v":{"$error":"#REF!"}},{"$f":"IF(#REF!=11,10,0)","v":{"$error":"#REF!"}},{"$f":"IF(#REF!=12,9,0)","v":{"$error":"#REF!"}},{"$f":"IF(#REF!=13,8,0)","v":{"$error":"#REF!"}},{"$f":"IF(#REF!=14,7,0)","v":{"$error":"#REF!"}},{"$f":"IF(#REF!=15,6,0)","v":{"$error":"#REF!"}},{"$f":"IF(#REF!=16,5,0)","v":{"$error":"#REF!"}},{"$f":"IF(#REF!=17,4,0)","v":{"$error":"#REF!"}},{"$f":"IF(#REF!=18,3,0)","v":{"$error":"#REF!"}},{"$f":"IF(#REF!=19,2,0)","v":{"$error":"#REF!"}},{"$f":"IF(#REF!=20,1,0)","v":{"$error":"#REF!"}},{"$f":"IF(#REF!>20,0,0)","v":{"$error":"#REF!"}},{"$f":"IF(#REF!=\"сх\",0,0)","v":{"$error":"#REF!"}},{"$error":"#REF!"},{"$f":"IF(#REF!=1,100,0)","v":{"$error":"#REF!"}},{"$f":"IF(#REF!=2,98,0)","v":{"$error":"#REF!"}},{"$f":"IF(#REF!=3,95,0)","v":{"$error":"#REF!"}},{"$f":"IF(#REF!=4,93,0)","v":{"$error":"#REF!"}},{"$f":"IF(#REF!=5,90,0)","v":{"$error":"#REF!"}},{"$f":"IF(#REF!=6,88,0)","v":{"$error":"#REF!"}},{"$f":"IF(#REF!=7,85,0)","v":{"$error":"#REF!"}},{"$f":"IF(#REF!=8,83,0)","v":{"$error":"#REF!"}},{"$f":"IF(#REF!=9,80,0)","v":{"$error":"#REF!"}},{"$f":"IF(#REF!=10,78,0)","v":{"$error":"#REF!"}},{"$f":"IF(#REF!=11,75,0)","v":{"$error":"#REF!"}},{"$f":"IF(#REF!=12,73,0)","v":{"$error":"#REF!"}},{"$f":"IF(#REF!=13,70,0)","v":{"$error":"#REF!"}},{"$f":"IF(#REF!=14,68,0)","v":{"$error":"#REF!"}},{"$f":"IF(#REF!=15,65,0)","v":{"$error":"#REF!"}},{"$f":"IF(#REF!=16,63,0)","v":{"$error":"#REF!"}},{"$f":"IF(#REF!=17,60,0)","v":{"$error":"#REF!"}},{"$f":"IF(#REF!=18,58,0)","v":{"$error":"#REF!"}},{"$f":"IF(#REF!=19,55,0)","v":{"$error":"#REF!"}},{"$f":"IF(#REF!=20,53,0)","v":{"$error":"#REF!"}},{"$f":"IF(#REF!>20,0,0)","v":{"$error":"#REF!"}},{"$f":"IF(#REF!=\"сх\",0,0)","v":{"$error":"#REF!"}},{"$error":"#REF!"},{"$f":"IF(#REF!=1,100,0)","v":{"$error":"#REF!"}},{"$f":"IF(#REF!=2,98,0)","v":{"$error":"#REF!"}},{"$f":"IF(#REF!=3,95,0)","v":{"$error":"#REF!"}},{"$f":"IF(#REF!=4,93,0)","v":{"$error":"#REF!"}},{"$f":"IF(#REF!=5,90,0)","v":{"$error":"#REF!"}},{"$f":"IF(#REF!=6,88,0)","v":{"$error":"#REF!"}},{"$f":"IF(#REF!=7,85,0)","v":{"$error":"#REF!"}},{"$f":"IF(#REF!=8,83,0)","v":{"$error":"#REF!"}},{"$f":"IF(#REF!=9,80,0)","v":{"$error":"#REF!"}},{"$f":"IF(#REF!=10,78,0)","v":{"$error":"#REF!"}},{"$f":"IF(#REF!=11,75,0)","v":{"$error":"#REF!"}},{"$f":"IF(#REF!=12,73,0)","v":{"$error":"#REF!"}},{"$f":"IF(#REF!=13,70,0)","v":{"$error":"#REF!"}},{"$f":"IF(#REF!=14,68,0)","v":{"$error":"#REF!"}},{"$f":"IF(#REF!=15,65,0)","v":{"$error":"#REF!"}},{"$f":"IF(#REF!=16,63,0)","v":{"$error":"#REF!"}},{"$f":"IF(#REF!=17,60,0)","v":{"$error":"#REF!"}},{"$f":"IF(#REF!=18,58,0)","v":{"$error":"#REF!"}},{"$f":"IF(#REF!=19,55,0)","v":{"$error":"#REF!"}},{"$f":"IF(#REF!=20,53,0)","v":{"$error":"#REF!"}},{"$f":"IF(#REF!>20,0,0)","v":{"$error":"#REF!"}},{"$f":"IF(#REF!=\"сх\",0,0)","v":{"$error":"#REF!"}},{"$error":"#REF!"}]
[11,11.4,51,"Перфильев Сергей","II","г. Новый Уренгой, Ямало-Ненецкий АО","СТК \"Факел\"","LYNX",9,12,10,11,13,8,31,{"$f":"#REF!+#REF!","v":{"$error":"#REF!"}},null,null,{"$f":"IF(#REF!=1,25,0)","v":{"$error":"#REF!"}},{"$f":"IF(#REF!=2,22,0)","v":{"$error":"#REF!"}},{"$f":"IF(#REF!=3,20,0)","v":{"$error":"#REF!"}},{"$f":"IF(#REF!=4,18,0)","v":{"$error":"#REF!"}},{"$f":"IF(#REF!=5,16,0)","v":{"$error":"#REF!"}},{"$f":"IF(#REF!=6,15,0)","v":{"$error":"#REF!"}},{"$f":"IF(#REF!=7,14,0)","v":{"$error":"#REF!"}},{"$f":"IF(#REF!=8,13,0)","v":{"$error":"#REF!"}},{"$f":"IF(#REF!=9,12,0)","v":{"$error":"#REF!"}},{"$f":"IF(#REF!=10,11,0)","v":{"$error":"#REF!"}},{"$f":"IF(#REF!=11,10,0)","v":{"$error":"#REF!"}},{"$f":"IF(#REF!=12,9,0)","v":{"$error":"#REF!"}},{"$f":"IF(#REF!=13,8,0)","v":{"$error":"#REF!"}},{"$f":"IF(#REF!=14,7,0)","v":{"$error":"#REF!"}},{"$f":"IF(#REF!=15,6,0)","v":{"$error":"#REF!"}},{"$f":"IF(#REF!=16,5,0)","v":{"$error":"#REF!"}},{"$f":"IF(#REF!=17,4,0)","v":{"$error":"#REF!"}},{"$f":"IF(#REF!=18,3,0)","v":{"$error":"#REF!"}},{"$f":"IF(#REF!=19,2,0)","v":{"$error":"#REF!"}},{"$f":"IF(#REF!=20,1,0)","v":{"$error":"#REF!"}},{"$f":"IF(#REF!>20,0,0)","v":{"$error":"#REF!"}},{"$f":"IF(#REF!=\"сх\",0,0)","v":{"$error":"#REF!"}},{"$error":"#REF!"},{"$f":"IF(#REF!=1,25,0)","v":{"$error":"#REF!"}},{"$f":"IF(#REF!=2,22,0)","v":{"$error":"#REF!"}},{"$f":"IF(#REF!=3,20,0)","v":{"$error":"#REF!"}},{"$f":"IF(#REF!=4,18,0)","v":{"$error":"#REF!"}},{"$f":"IF(#REF!=5,16,0)","v":{"$error":"#REF!"}},{"$f":"IF(#REF!=6,15,0)","v":{"$error":"#REF!"}},{"$f":"IF(#REF!=7,14,0)","v":{"$error":"#REF!"}},{"$f":"IF(#REF!=8,13,0)","v":{"$error":"#REF!"}},{"$f":"IF(#REF!=9,12,0)","v":{"$error":"#REF!"}},{"$f":"IF(#REF!=10,11,0)","v":{"$error":"#REF!"}},{"$f":"IF(#REF!=11,10,0)","v":{"$error":"#REF!"}},{"$f":"IF(#REF!=12,9,0)","v":{"$error":"#REF!"}},{"$f":"IF(#REF!=13,8,0)","v":{"$error":"#REF!"}},{"$f":"IF(#REF!=14,7,0)","v":{"$error":"#REF!"}},{"$f":"IF(#REF!=15,6,0)","v":{"$error":"#REF!"}},{"$f":"IF(#REF!=16,5,0)","v":{"$error":"#REF!"}},{"$f":"IF(#REF!=17,4,0)","v":{"$error":"#REF!"}},{"$f":"IF(#REF!=18,3,0)","v":{"$error":"#REF!"}},{"$f":"IF(#REF!=19,2,0)","v":{"$error":"#REF!"}},{"$f":"IF(#REF!=20,1,0)","v":{"$error":"#REF!"}},{"$f":"IF(#REF!>20,0,0)","v":{"$error":"#REF!"}},{"$f":"IF(#REF!=\"сх\",0,0)","v":{"$error":"#REF!"}},{"$error":"#REF!"},{"$f":"IF(#REF!=1,45,0)","v":{"$error":"#REF!"}},{"$f":"IF(#REF!=2,42,0)","v":{"$error":"#REF!"}},{"$f":"IF(#REF!=3,40,0)","v":{"$error":"#REF!"}},{"$f":"IF(#REF!=4,38,0)","v":{"$error":"#REF!"}},{"$f":"IF(#REF!=5,36,0)","v":{"$error":"#REF!"}},{"$f":"IF(#REF!=6,35,0)","v":{"$error":"#REF!"}},{"$f":"IF(#REF!=7,34,0)","v":{"$error":"#REF!"}},{"$f":"IF(#REF!=8,33,0)","v":{"$error":"#REF!"}},{"$f":"IF(#REF!=9,32,0)","v":{"$error":"#REF!"}},{"$f":"IF(#REF!=10,31,0)","v":{"$error":"#REF!"}},{"$f":"IF(#REF!=11,30,0)","v":{"$error":"#REF!"}},{"$f":"IF(#REF!=12,29,0)","v":{"$error":"#REF!"}},{"$f":"IF(#REF!=13,28,0)","v":{"$error":"#REF!"}},{"$f":"IF(#REF!=14,27,0)","v":{"$error":"#REF!"}},{"$f":"IF(#REF!=15,26,0)","v":{"$error":"#REF!"}},{"$f":"IF(#REF!=16,25,0)","v":{"$error":"#REF!"}},{"$f":"IF(#REF!=17,24,0)","v":{"$error":"#REF!"}},{"$f":"IF(#REF!=18,23,0)","v":{"$error":"#REF!"}},{"$f":"IF(#REF!=19,22,0)","v":{"$error":"#REF!"}},{"$f":"IF(#REF!=20,21,0)","v":{"$error":"#REF!"}},{"$f":"IF(#REF!=21,20,0)","v":{"$error":"#REF!"}},{"$f":"IF(#REF!=22,19,0)","v":{"$error":"#REF!"}},{"$f":"IF(#REF!=23,18,0)","v":{"$error":"#REF!"}},{"$f":"IF(#REF!=24,17,0)","v":{"$error":"#REF!"}},{"$f":"IF(#REF!=25,16,0)","v":{"$error":"#REF!"}},{"$f":"IF(#REF!=26,15,0)","v":{"$error":"#REF!"}},{"$f":"IF(#REF!=27,14,0)","v":{"$error":"#REF!"}},{"$f":"IF(#REF!=28,13,0)","v":{"$error":"#REF!"}},{"$f":"IF(#REF!=29,12,0)","v":{"$error":"#REF!"}},{"$f":"IF(#REF!=30,11,0)","v":{"$error":"#REF!"}},{"$f":"IF(#REF!=31,10,0)","v":{"$error":"#REF!"}},{"$f":"IF(#REF!=32,9,0)","v":{"$error":"#REF!"}},{"$f":"IF(#REF!=33,8,0)","v":{"$error":"#REF!"}},{"$f":"IF(#REF!=34,7,0)","v":{"$error":"#REF!"}},{"$f":"IF(#REF!=35,6,0)","v":{"$error":"#REF!"}},{"$f":"IF(#REF!=36,5,0)","v":{"$error":"#REF!"}},{"$f":"IF(#REF!=37,4,0)","v":{"$error":"#REF!"}},{"$f":"IF(#REF!=38,3,0)","v":{"$error":"#REF!"}},{"$f":"IF(#REF!=39,2,0)","v":{"$error":"#REF!"}},{"$f":"IF(#REF!=40,1,0)","v":{"$error":"#REF!"}},{"$f":"IF(#REF!>20,0,0)","v":{"$error":"#REF!"}},{"$f":"IF(#REF!=\"сх\",0,0)","v":{"$error":"#REF!"}},{"$error":"#REF!"},{"$f":"IF(#REF!=1,45,0)","v":{"$error":"#REF!"}},{"$f":"IF(#REF!=2,42,0)","v":{"$error":"#REF!"}},{"$f":"IF(#REF!=3,40,0)","v":{"$error":"#REF!"}},{"$f":"IF(#REF!=4,38,0)","v":{"$error":"#REF!"}},{"$f":"IF(#REF!=5,36,0)","v":{"$error":"#REF!"}},{"$f":"IF(#REF!=6,35,0)","v":{"$error":"#REF!"}},{"$f":"IF(#REF!=7,34,0)","v":{"$error":"#REF!"}},{"$f":"IF(#REF!=8,33,0)","v":{"$error":"#REF!"}},{"$f":"IF(#REF!=9,32,0)","v":{"$error":"#REF!"}},{"$f":"IF(#REF!=10,31,0)","v":{"$error":"#REF!"}},{"$f":"IF(#REF!=11,30,0)","v":{"$error":"#REF!"}},{"$f":"IF(#REF!=12,29,0)","v":{"$error":"#REF!"}},{"$f":"IF(#REF!=13,28,0)","v":{"$error":"#REF!"}},{"$f":"IF(#REF!=14,27,0)","v":{"$error":"#REF!"}},{"$f":"IF(#REF!=15,26,0)","v":{"$error":"#REF!"}},{"$f":"IF(#REF!=16,25,0)","v":{"$error":"#REF!"}},{"$f":"IF(#REF!=17,24,0)","v":{"$error":"#REF!"}},{"$f":"IF(#REF!=18,23,0)","v":{"$error":"#REF!"}},{"$f":"IF(#REF!=19,22,0)","v":{"$error":"#REF!"}},{"$f":"IF(#REF!=20,21,0)","v":{"$error":"#REF!"}},{"$f":"IF(#REF!=21,20,0)","v":{"$error":"#REF!"}},{"$f":"IF(#REF!=22,19,0)","v":{"$error":"#REF!"}},{"$f":"IF(#REF!=23,18,0)","v":{"$error":"#REF!"}},{"$f":"IF(#REF!=24,17,0)","v":{"$error":"#REF!"}},{"$f":"IF(#REF!=25,16,0)","v":{"$error":"#REF!"}},{"$f":"IF(#REF!=26,15,0)","v":{"$error":"#REF!"}},{"$f":"IF(#REF!=27,14,0)","v":{"$error":"#REF!"}},{"$f":"IF(#REF!=28,13,0)","v":{"$error":"#REF!"}},{"$f":"IF(#REF!=29,12,0)","v":{"$error":"#REF!"}},{"$f":"IF(#REF!=30,11,0)","v":{"$error":"#REF!"}},{"$f":"IF(#REF!=31,10,0)","v":{"$error":"#REF!"}},{"$f":"IF(#REF!=32,9,0)","v":{"$error":"#REF!"}},{"$f":"IF(#REF!=33,8,0)","v":{"$error":"#REF!"}},{"$f":"IF(#REF!=34,7,0)","v":{"$error":"#REF!"}},{"$f":"IF(#REF!=35,6,0)","v":{"$error":"#REF!"}},{"$f":"IF(#REF!=36,5,0)","v":{"$error":"#REF!"}},{"$f":"IF(#REF!=37,4,0)","v":{"$error":"#REF!"}},{"$f":"IF(#REF!=38,3,0)","v":{"$error":"#REF!"}},{"$f":"IF(#REF!=39,2,0)","v":{"$error":"#REF!"}},{"$f":"IF(#REF!=40,1,0)","v":{"$error":"#REF!"}},{"$f":"IF(#REF!>20,0,0)","v":{"$error":"#REF!"}},{"$f":"IF(#REF!=\"сх\",0,0)","v":{"$error":"#REF!"}},{"$error":"#REF!"},null,{"$f":"IF(#REF!=\"сх\",\"ноль\",IF(#REF!>0,#REF!,\"Ноль\"))","v":{"$error":"#REF!"}},{"$f":"IF(#REF!=\"сх\",\"ноль\",IF(#REF!>0,#REF!,\"Ноль\"))","v":{"$error":"#REF!"}},null,{"$error":"#REF!"},{"$f":"IF(O20=#REF!,IF(#REF!<#REF!,#REF!,FD20),#REF!)","v":{"$error":"#REF!"}},{"$f":"IF(O20=#REF!,IF(#REF!<#REF!,0,1))","v":{"$error":"#REF!"}},{"$f":"IF(AND(EY20>=21,EY20<>0),EY20,IF(O20<#REF!,\"СТОП\",EZ20+FA20))","v":{"$error":"#REF!"}},null,15,16,null,{"$f":"IF(#REF!=1,25,0)","v":{"$error":"#REF!"}},{"$f":"IF(#REF!=2,22,0)","v":{"$error":"#REF!"}},{"$f":"IF(#REF!=3,20,0)","v":{"$error":"#REF!"}},{"$f":"IF(#REF!=4,18,0)","v":{"$error":"#REF!"}},{"$f":"IF(#REF!=5,16,0)","v":{"$error":"#REF!"}},{"$f":"IF(#REF!=6,15,0)","v":{"$error":"#REF!"}},{"$f":"IF(#REF!=7,14,0)","v":{"$error":"#REF!"}},{"$f":"IF(#REF!=8,13,0)","v":{"$error":"#REF!"}},{"$f":"IF(#REF!=9,12,0)","v":{"$error":"#REF!"}},{"$f":"IF(#REF!=10,11,0)","v":{"$error":"#REF!"}},{"$f":"IF(#REF!=11,10,0)","v":{"$error":"#REF!"}},{"$f":"IF(#REF!=12,9,0)","v":{"$error":"#REF!"}},{"$f":"IF(#REF!=13,8,0)","v":{"$error":"#REF!"}},{"$f":"IF(#REF!=14,7,0)","v":{"$error":"#REF!"}},{"$f":"IF(#REF!=15,6,0)","v":{"$error":"#REF!"}},{"$f":"IF(#REF!=16,5,0)","v":{"$error":"#REF!"}},{"$f":"IF(#REF!=17,4,0)","v":{"$error":"#REF!"}},{"$f":"IF(#REF!=18,3,0)","v":{"$error":"#REF!"}},{"$f":"IF(#REF!=19,2,0)","v":{"$error":"#REF!"}},{"$f":"IF(#REF!=20,1,0)","v":{"$error":"#REF!"}},{"$f":"IF(#REF!>20,0,0)","v":{"$error":"#REF!"}},{"$f":"IF(#REF!=\"сх\",0,0)","v":{"$error":"#REF!"}},{"$error":"#REF!"},{"$f":"IF(#REF!=1,25,0)","v":{"$error":"#REF!"}},{"$f":"IF(#REF!=2,22,0)","v":{"$error":"#REF!"}},{"$f":"IF(#REF!=3,20,0)","v":{"$error":"#REF!"}},{"$f":"IF(#REF!=4,18,0)","v":{"$error":"#REF!"}},{"$f":"IF(#REF!=5,16,0)","v":{"$error":"#REF!"}},{"$f":"IF(#REF!=6,15,0)","v":{"$error":"#REF!"}},{"$f":"IF(#REF!=7,14,0)","v":{"$error":"#REF!"}},{"$f":"IF(#REF!=8,13,0)","v":{"$error":"#REF!"}},{"$f":"IF(#REF!=9,12,0)","v":{"$error":"#REF!"}},{"$f":"IF(#REF!=10,11,0)","v":{"$error":"#REF!"}},{"$f":"IF(#REF!=11,10,0)","v":{"$error":"#REF!"}},{"$f":"IF(#REF!=12,9,0)","v":{"$error":"#REF!"}},{"$f":"IF(#REF!=13,8,0)","v":{"$error":"#REF!"}},{"$f":"IF(#REF!=14,7,0)","v":{"$error":"#REF!"}},{"$f":"IF(#REF!=15,6,0)","v":{"$error":"#REF!"}},{"$f":"IF(#REF!=16,5,0)","v":{"$error":"#REF!"}},{"$f":"IF(#REF!=17,4,0)","v":{"$error":"#REF!"}},{"$f":"IF(#REF!=18,3,0)","v":{"$error":"#REF!"}},{"$f":"IF(#REF!=19,2,0)","v":{"$error":"#REF!"}},{"$f":"IF(#REF!=20,1,0)","v":{"$error":"#REF!"}},{"$f":"IF(#REF!>20,0,0)","v":{"$error":"#REF!"}},{"$f":"IF(#REF!=\"сх\",0,0)","v":{"$error":"#REF!"}},{"$error":"#REF!"},{"$f":"IF(#REF!=1,100,0)","v":{"$error":"#REF!"}},{"$f":"IF(#REF!=2,98,0)","v":{"$error":"#REF!"}},{"$f":"IF(#REF!=3,95,0)","v":{"$error":"#REF!"}},{"$f":"IF(#REF!=4,93,0)","v":{"$error":"#REF!"}},{"$f":"IF(#REF!=5,90,0)","v":{"$error":"#REF!"}},{"$f":"IF(#REF!=6,88,0)","v":{"$error":"#REF!"}},{"$f":"IF(#REF!=7,85,0)","v":{"$error":"#REF!"}},{"$f":"IF(#REF!=8,83,0)","v":{"$error":"#REF!"}},{"$f":"IF(#REF!=9,80,0)","v":{"$error":"#REF!"}},{"$f":"IF(#REF!=10,78,0)","v":{"$error":"#REF!"}},{"$f":"IF(#REF!=11,75,0)","v":{"$error":"#REF!"}},{"$f":"IF(#REF!=12,73,0)","v":{"$error":"#REF!"}},{"$f":"IF(#REF!=13,70,0)","v":{"$error":"#REF!"}},{"$f":"IF(#REF!=14,68,0)","v":{"$error":"#REF!"}},{"$f":"IF(#REF!=15,65,0)","v":{"$error":"#REF!"}},{"$f":"IF(#REF!=16,63,0)","v":{"$error":"#REF!"}},{"$f":"IF(#REF!=17,60,0)","v":{"$error":"#REF!"}},{"$f":"IF(#REF!=18,58,0)","v":{"$error":"#REF!"}},{"$f":"IF(#REF!=19,55,0)","v":{"$error":"#REF!"}},{"$f":"IF(#REF!=20,53,0)","v":{"$error":"#REF!"}},{"$f":"IF(#REF!>20,0,0)","v":{"$error":"#REF!"}},{"$f":"IF(#REF!=\"сх\",0,0)","v":{"$error":"#REF!"}},{"$error":"#REF!"},{"$f":"IF(#REF!=1,100,0)","v":{"$error":"#REF!"}},{"$f":"IF(#REF!=2,98,0)","v":{"$error":"#REF!"}},{"$f":"IF(#REF!=3,95,0)","v":{"$error":"#REF!"}},{"$f":"IF(#REF!=4,93,0)","v":{"$error":"#REF!"}},{"$f":"IF(#REF!=5,90,0)","v":{"$error":"#REF!"}},{"$f":"IF(#REF!=6,88,0)","v":{"$error":"#REF!"}},{"$f":"IF(#REF!=7,85,0)","v":{"$error":"#REF!"}},{"$f":"IF(#REF!=8,83,0)","v":{"$error":"#REF!"}},{"$f":"IF(#REF!=9,80,0)","v":{"$error":"#REF!"}},{"$f":"IF(#REF!=10,78,0)","v":{"$error":"#REF!"}},{"$f":"IF(#REF!=11,75,0)","v":{"$error":"#REF!"}},{"$f":"IF(#REF!=12,73,0)","v":{"$error":"#REF!"}},{"$f":"IF(#REF!=13,70,0)","v":{"$error":"#REF!"}},{"$f":"IF(#REF!=14,68,0)","v":{"$error":"#REF!"}},{"$f":"IF(#REF!=15,65,0)","v":{"$error":"#REF!"}},{"$f":"IF(#REF!=16,63,0)","v":{"$error":"#REF!"}},{"$f":"IF(#REF!=17,60,0)","v":{"$error":"#REF!"}},{"$f":"IF(#REF!=18,58,0)","v":{"$error":"#REF!"}},{"$f":"IF(#REF!=19,55,0)","v":{"$error":"#REF!"}},{"$f":"IF(#REF!=20,53,0)","v":{"$error":"#REF!"}},{"$f":"IF(#REF!>20,0,0)","v":{"$error":"#REF!"}},{"$f":"IF(#REF!=\"сх\",0,0)","v":{"$error":"#REF!"}},{"$error":"#REF!"}]
[12,11.1,29,"Вишняков Илья","II","г. Новый Уренгой, Ямало-Ненецкий АО","СТК \"Ямбург\"","LYNX",12,9,12,9,11,10,28,{"$f":"#REF!+#REF!","v":{"$error":"#REF!"}},null,null,{"$f":"IF(#REF!=1,25,0)","v":{"$error":"#REF!"}},{"$f":"IF(#REF!=2,22,0)","v":{"$error":"#REF!"}},{"$f":"IF(#REF!=3,20,0)","v":{"$error":"#REF!"}},{"$f":"IF(#REF!=4,18,0)","v":{"$error":"#REF!"}},{"$f":"IF(#REF!=5,16,0)","v":{"$error":"#REF!"}},{"$f":"IF(#REF!=6,15,0)","v":{"$error":"#REF!"}},{"$f":"IF(#REF!=7,14,0)","v":{"$error":"#REF!"}},{"$f":"IF(#REF!=8,13,0)","v":{"$error":"#REF!"}},{"$f":"IF(#REF!=9,12,0)","v":{"$error":"#REF!"}},{"$f":"IF(#REF!=10,11,0)","v":{"$error":"#REF!"}},{"$f":"IF(#REF!=11,10,0)","v":{"$error":"#REF!"}},{"$f":"IF(#REF!=12,9,0)","v":{"$error":"#REF!"}},{"$f":"IF(#REF!=13,8,0)","v":{"$error":"#REF!"}},{"$f":"IF(#REF!=14,7,0)","v":{"$error":"#REF!"}},{"$f":"IF(#REF!=15,6,0)","v":{"$error":"#REF!"}},{"$f":"IF(#REF!=16,5,0)","v":{"$error":"#REF!"}},{"$f":"IF(#REF!=17,4,0)","v":{"$error":"#REF!"}},{"$f":"IF(#REF!=18,3,0)","v":{"$error":"#REF!"}},{"$f":"IF(#REF!=19,2,0)","v":{"$error":"#REF!"}},{"$f":"IF(#REF!=20,1,0)","v":{"$error":"#REF!"}},{"$f":"IF(#REF!>20,0,0)","v":{"$error":"#REF!"}},{"$f":"IF(#REF!=\"сх\",0,0)","v":{"$error":"#REF!"}},{"$error":"#REF!"},{"$f":"IF(#REF!=1,25,0)","v":{"$error":"#REF!"}},{"$f":"IF(#REF!=2,22,0)","v":{"$error":"#REF!"}},{"$f":"IF(#REF!=3,20,0)","v":{"$error":"#REF!"}},{"$f":"IF(#REF!=4,18,0)","v":{"$error":"#REF!"}},{"$f":"IF(#REF!=5,16,0)","v":{"$error":"#REF!"}},{"$f":"IF(#REF!=6,15,0)","v":{"$error":"#REF!"}},{"$f":"IF(#REF!=7,14,0)","v":{"$error":"#REF!"}},{"$f":"IF(#REF!=8,13,0)","v":{"$error":"#REF!"}},{"$f":"IF(#REF!=9,12,0)","v":{"$error":"#REF!"}},{"$f":"IF(#REF!=10,11,0)","v":{"$error":"#REF!"}},{"$f":"IF(#REF!=11,10,0)","v":{"$error":"#REF!"}},{"$f":"IF(#REF!=12,9,0)","v":{"$error":"#REF!"}},{"$f":"IF(#REF!=13,8,0)","v":{"$error":"#REF!"}},{"$f":"IF(#REF!=14,7,0)","v":{"$error":"#REF!"}},{"$f":"IF(#REF!=15,6,0)","v":{"$error":"#REF!"}},{"$f":"IF(#REF!=16,5,0)","v":{"$error":"#REF!"}},{"$f":"IF(#REF!=17,4,0)","v":{"$error":"#REF!"}},{"$f":"IF(#REF!=18,3,0)","v":{"$error":"#REF!"}},{"$f":"IF(#REF!=19,2,0)","v":{"$error":"#REF!"}},{"$f":"IF(#REF!=20,1,0)","v":{"$error":"#REF!"}},{"$f":"IF(#REF!>20,0,0)","v":{"$error":"#REF!"}},{"$f":"IF(#REF!=\"сх\",0,0)","v":{"$error":"#REF!"}},{"$error":"#REF!"},{"$f":"IF(#REF!=1,45,0)","v":{"$error":"#REF!"}},{"$f":"IF(#REF!=2,42,0)","v":{"$error":"#REF!"}},{"$f":"IF(#REF!=3,40,0)","v":{"$error":"#REF!"}},{"$f":"IF(#REF!=4,38,0)","v":{"$error":"#REF!"}},{"$f":"IF(#REF!=5,36,0)","v":{"$error":"#REF!"}},{"$f":"IF(#REF!=6,35,0)","v":{"$error":"#REF!"}},{"$f":"IF(#REF!=7,34,0)","v":{"$error":"#REF!"}},{"$f":"IF(#REF!=8,33,0)","v":{"$error":"#REF!"}},{"$f":"IF(#REF!=9,32,0)","v":{"$error":"#REF!"}},{"$f":"IF(#REF!=10,31,0)","v":{"$error":"#REF!"}},{"$f":"IF(#REF!=11,30,0)","v":{"$error":"#REF!"}},{"$f":"IF(#REF!=12,29,0)","v":{"$error":"#REF!"}},{"$f":"IF(#REF!=13,28,0)","v":{"$error":"#REF!"}},{"$f":"IF(#REF!=14,27,0)","v":{"$error":"#REF!"}},{"$f":"IF(#REF!=15,26,0)","v":{"$error":"#REF!"}},{"$f":"IF(#REF!=16,25,0)","v":{"$error":"#REF!"}},{"$f":"IF(#REF!=17,24,0)","v":{"$error":"#REF!"}},{"$f":"IF(#REF!=18,23,0)","v":{"$error":"#REF!"}},{"$f":"IF(#REF!=19,22,0)","v":{"$error":"#REF!"}},{"$f":"IF(#REF!=20,21,0)","v":{"$error":"#REF!"}},{"$f":"IF(#REF!=21,20,0)","v":{"$error":"#REF!"}},{"$f":"IF(#REF!=22,19,0)","v":{"$error":"#REF!"}},{"$f":"IF(#REF!=23,18,0)","v":{"$error":"#REF!"}},{"$f":"IF(#REF!=24,17,0)","v":{"$error":"#REF!"}},{"$f":"IF(#REF!=25,16,0)","v":{"$error":"#REF!"}},{"$f":"IF(#REF!=26,15,0)","v":{"$error":"#REF!"}},{"$f":"IF(#REF!=27,14,0)","v":{"$error":"#REF!"}},{"$f":"IF(#REF!=28,13,0)","v":{"$error":"#REF!"}},{"$f":"IF(#REF!=29,12,0)","v":{"$error":"#REF!"}},{"$f":"IF(#REF!=30,11,0)","v":{"$error":"#REF!"}},{"$f":"IF(#REF!=31,10,0)","v":{"$error":"#REF!"}},{"$f":"IF(#REF!=32,9,0)","v":{"$error":"#REF!"}},{"$f":"IF(#REF!=33,8,0)","v":{"$error":"#REF!"}},{"$f":"IF(#REF!=34,7,0)","v":{"$error":"#REF!"}},{"$f":"IF(#REF!=35,6,0)","v":{"$error":"#REF!"}},{"$f":"IF(#REF!=36,5,0)","v":{"$error":"#REF!"}},{"$f":"IF(#REF!=37,4,0)","v":{"$error":"#REF!"}},{"$f":"IF(#REF!=38,3,0)","v":{"$error":"#REF!"}},{"$f":"IF(#REF!=39,2,0)","v":{"$error":"#REF!"}},{"$f":"IF(#REF!=40,1,0)","v":{"$error":"#REF!"}},{"$f":"IF(#REF!>20,0,0)","v":{"$error":"#REF!"}},{"$f":"IF(#REF!=\"сх\",0,0)","v":{"$error":"#REF!"}},{"$error":"#REF!"},{"$f":"IF(#REF!=1,45,0)","v":{"$error":"#REF!"}},{"$f":"IF(#REF!=2,42,0)","v":{"$error":"#REF!"}},{"$f":"IF(#REF!=3,40,0)","v":{"$error":"#REF!"}},{"$f":"IF(#REF!=4,38,0)","v":{"$error":"#REF!"}},{"$f":"IF(#REF!=5,36,0)","v":{"$error":"#REF!"}},{"$f":"IF(#REF!=6,35,0)","v":{"$error":"#REF!"}},{"$f":"IF(#REF!=7,34,0)","v":{"$error":"#REF!"}},{"$f":"IF(#REF!=8,33,0)","v":{"$error":"#REF!"}},{"$f":"IF(#REF!=9,32,0)","v":{"$error":"#REF!"}},{"$f":"IF(#REF!=10,31,0)","v":{"$error":"#REF!"}},{"$f":"IF(#REF!=11,30,0)","v":{"$error":"#REF!"}},{"$f":"IF(#REF!=12,29,0)","v":{"$error":"#REF!"}},{"$f":"IF(#REF!=13,28,0)","v":{"$error":"#REF!"}},{"$f":"IF(#REF!=14,27,0)","v":{"$error":"#REF!"}},{"$f":"IF(#REF!=15,26,0)","v":{"$error":"#REF!"}},{"$f":"IF(#REF!=16,25,0)","v":{"$error":"#REF!"}},{"$f":"IF(#REF!=17,24,0)","v":{"$error":"#REF!"}},{"$f":"IF(#REF!=18,23,0)","v":{"$error":"#REF!"}},{"$f":"IF(#REF!=19,22,0)","v":{"$error":"#REF!"}},{"$f":"IF(#REF!=20,21,0)","v":{"$error":"#REF!"}},{"$f":"IF(#REF!=21,20,0)","v":{"$error":"#REF!"}},{"$f":"IF(#REF!=22,19,0)","v":{"$error":"#REF!"}},{"$f":"IF(#REF!=23,18,0)","v":{"$error":"#REF!"}},{"$f":"IF(#REF!=24,17,0)","v":{"$error":"#REF!"}},{"$f":"IF(#REF!=25,16,0)","v":{"$error":"#REF!"}},{"$f":"IF(#REF!=26,15,0)","v":{"$error":"#REF!"}},{"$f":"IF(#REF!=27,14,0)","v":{"$error":"#REF!"}},{"$f":"IF(#REF!=28,13,0)","v":{"$error":"#REF!"}},{"$f":"IF(#REF!=29,12,0)","v":{"$error":"#REF!"}},{"$f":"IF(#REF!=30,11,0)","v":{"$error":"#REF!"}},{"$f":"IF(#REF!=31,10,0)","v":{"$error":"#REF!"}},{"$f":"IF(#REF!=32,9,0)","v":{"$error":"#REF!"}},{"$f":"IF(#REF!=33,8,0)","v":{"$error":"#REF!"}},{"$f":"IF(#REF!=34,7,0)","v":{"$error":"#REF!"}},{"$f":"IF(#REF!=35,6,0)","v":{"$error":"#REF!"}},{"$f":"IF(#REF!=36,5,0)","v":{"$error":"#REF!"}},{"$f":"IF(#REF!=37,4,0)","v":{"$error":"#REF!"}},{"$f":"IF(#REF!=38,3,0)","v":{"$error":"#REF!"}},{"$f":"IF(#REF!=39,2,0)","v":{"$error":"#REF!"}},{"$f":"IF(#REF!=40,1,0)","v":{"$error":"#REF!"}},{"$f":"IF(#REF!>20,0,0)","v":{"$error":"#REF!"}},{"$f":"IF(#REF!=\"сх\",0,0)","v":{"$error":"#REF!"}},{"$error":"#REF!"},null,{"$f":"IF(#REF!=\"сх\",\"ноль\",IF(#REF!>0,#REF!,\"Ноль\"))","v":{"$error":"#REF!"}},{"$f":"IF(#REF!=\"сх\",\"ноль\",IF(#REF!>0,#REF!,\"Ноль\"))","v":{"$error":"#REF!"}},null,{"$error":"#REF!"},{"$f":"IF(O21=#REF!,IF(#REF!<#REF!,#REF!,FD21),#REF!)","v":{"$error":"#REF!"}},{"$f":"IF(O21=#REF!,IF(#REF!<#REF!,0,1))","v":{"$error":"#REF!"}},{"$f":"IF(AND(EY21>=21,EY21<>0),EY21,IF(O21<#REF!,\"СТОП\",EZ21+FA21))","v":{"$error":"#REF!"}},null,15,16,null,{"$f":"IF(#REF!=1,25,0)","v":{"$error":"#REF!"}},{"$f":"IF(#REF!=2,22,0)","v":{"$error":"#REF!"}},{"$f":"IF(#REF!=3,20,0)","v":{"$error":"#REF!"}},{"$f":"IF(#REF!=4,18,0)","v":{"$error":"#REF!"}},{"$f":"IF(#REF!=5,16,0)","v":{"$error":"#REF!"}},{"$f":"IF(#REF!=6,15,0)","v":{"$error":"#REF!"}},{"$f":"IF(#REF!=7,14,0)","v":{"$error":"#REF!"}},{"$f":"IF(#REF!=8,13,0)","v":{"$error":"#REF!"}},{"$f":"IF(#REF!=9,12,0)","v":{"$error":"#REF!"}},{"$f":"IF(#REF!=10,11,0)","v":{"$error":"#REF!"}},{"$f":"IF(#REF!=11,10,0)","v":{"$error":"#REF!"}},{"$f":"IF(#REF!=12,9,0)","v":{"$error":"#REF!"}},{"$f":"IF(#REF!=13,8,0)","v":{"$error":"#REF!"}},{"$f":"IF(#REF!=14,7,0)","v":{"$error":"#REF!"}},{"$f":"IF(#REF!=15,6,0)","v":{"$error":"#REF!"}},{"$f":"IF(#REF!=16,5,0)","v":{"$error":"#REF!"}},{"$f":"IF(#REF!=17,4,0)","v":{"$error":"#REF!"}},{"$f":"IF(#REF!=18,3,0)","v":{"$error":"#REF!"}},{"$f":"IF(#REF!=19,2,0)","v":{"$error":"#REF!"}},{"$f":"IF(#REF!=20,1,0)","v":{"$error":"#REF!"}},{"$f":"IF(#REF!>20,0,0)","v":{"$error":"#REF!"}},{"$f":"IF(#REF!=\"сх\",0,0)","v":{"$error":"#REF!"}},{"$error":"#REF!"},{"$f":"IF(#REF!=1,25,0)","v":{"$error":"#REF!"}},{"$f":"IF(#REF!=2,22,0)","v":{"$error":"#REF!"}},{"$f":"IF(#REF!=3,20,0)","v":{"$error":"#REF!"}},{"$f":"IF(#REF!=4,18,0)","v":{"$error":"#REF!"}},{"$f":"IF(#REF!=5,16,0)","v":{"$error":"#REF!"}},{"$f":"IF(#REF!=6,15,0)","v":{"$error":"#REF!"}},{"$f":"IF(#REF!=7,14,0)","v":{"$error":"#REF!"}},{"$f":"IF(#REF!=8,13,0)","v":{"$error":"#REF!"}},{"$f":"IF(#REF!=9,12,0)","v":{"$error":"#REF!"}},{"$f":"IF(#REF!=10,11,0)","v":{"$error":"#REF!"}},{"$f":"IF(#REF!=11,10,0)","v":{"$error":"#REF!"}},{"$f":"IF(#REF!=12,9,0)","v":{"$error":"#REF!"}},{"$f":"IF(#REF!=13,8,0)","v":{"$error":"#REF!"}},{"$f":"IF(#REF!=14,7,0)","v":{"$error":"#REF!"}},{"$f":"IF(#REF!=15,6,0)","v":{"$error":"#REF!"}},{"$f":"IF(#REF!=16,5,0)","v":{"$error":"#REF!"}},{"$f":"IF(#REF!=17,4,0)","v":{"$error":"#REF!"}},{"$f":"IF(#REF!=18,3,0)","v":{"$error":"#REF!"}},{"$f":"IF(#REF!=19,2,0)","v":{"$error":"#REF!"}},{"$f":"IF(#REF!=20,1,0)","v":{"$error":"#REF!"}},{"$f":"IF(#REF!>20,0,0)","v":{"$error":"#REF!"}},{"$f":"IF(#REF!=\"сх\",0,0)","v":{"$error":"#REF!"}},{"$error":"#REF!"},{"$f":"IF(#REF!=1,100,0)","v":{"$error":"#REF!"}},{"$f":"IF(#REF!=2,98,0)","v":{"$error":"#REF!"}},{"$f":"IF(#REF!=3,95,0)","v":{"$error":"#REF!"}},{"$f":"IF(#REF!=4,93,0)","v":{"$error":"#REF!"}},{"$f":"IF(#REF!=5,90,0)","v":{"$error":"#REF!"}},{"$f":"IF(#REF!=6,88,0)","v":{"$error":"#REF!"}},{"$f":"IF(#REF!=7,85,0)","v":{"$error":"#REF!"}},{"$f":"IF(#REF!=8,83,0)","v":{"$error":"#REF!"}},{"$f":"IF(#REF!=9,80,0)","v":{"$error":"#REF!"}},{"$f":"IF(#REF!=10,78,0)","v":{"$error":"#REF!"}},{"$f":"IF(#REF!=11,75,0)","v":{"$error":"#REF!"}},{"$f":"IF(#REF!=12,73,0)","v":{"$error":"#REF!"}},{"$f":"IF(#REF!=13,70,0)","v":{"$error":"#REF!"}},{"$f":"IF(#REF!=14,68,0)","v":{"$error":"#REF!"}},{"$f":"IF(#REF!=15,65,0)","v":{"$error":"#REF!"}},{"$f":"IF(#REF!=16,63,0)","v":{"$error":"#REF!"}},{"$f":"IF(#REF!=17,60,0)","v":{"$error":"#REF!"}},{"$f":"IF(#REF!=18,58,0)","v":{"$error":"#REF!"}},{"$f":"IF(#REF!=19,55,0)","v":{"$error":"#REF!"}},{"$f":"IF(#REF!=20,53,0)","v":{"$error":"#REF!"}},{"$f":"IF(#REF!>20,0,0)","v":{"$error":"#REF!"}},{"$f":"IF(#REF!=\"сх\",0,0)","v":{"$error":"#REF!"}},{"$error":"#REF!"},{"$f":"IF(#REF!=1,100,0)","v":{"$error":"#REF!"}},{"$f":"IF(#REF!=2,98,0)","v":{"$error":"#REF!"}},{"$f":"IF(#REF!=3,95,0)","v":{"$error":"#REF!"}},{"$f":"IF(#REF!=4,93,0)","v":{"$error":"#REF!"}},{"$f":"IF(#REF!=5,90,0)","v":{"$error":"#REF!"}},{"$f":"IF(#REF!=6,88,0)","v":{"$error":"#REF!"}},{"$f":"IF(#REF!=7,85,0)","v":{"$error":"#REF!"}},{"$f":"IF(#REF!=8,83,0)","v":{"$error":"#REF!"}},{"$f":"IF(#REF!=9,80,0)","v":{"$error":"#REF!"}},{"$f":"IF(#REF!=10,78,0)","v":{"$error":"#REF!"}},{"$f":"IF(#REF!=11,75,0)","v":{"$error":"#REF!"}},{"$f":"IF(#REF!=12,73,0)","v":{"$error":"#REF!"}},{"$f":"IF(#REF!=13,70,0)","v":{"$error":"#REF!"}},{"$f":"IF(#REF!=14,68,0)","v":{"$error":"#REF!"}},{"$f":"IF(#REF!=15,65,0)","v":{"$error":"#REF!"}},{"$f":"IF(#REF!=16,63,0)","v":{"$error":"#REF!"}},{"$f":"IF(#REF!=17,60,0)","v":{"$error":"#REF!"}},{"$f":"IF(#REF!=18,58,0)","v":{"$error":"#REF!"}},{"$f":"IF(#REF!=19,55,0)","v":{"$error":"#REF!"}},{"$f":"IF(#REF!=20,53,0)","v":{"$error":"#REF!"}},{"$f":"IF(#REF!>20,0,0)","v":{"$error":"#REF!"}},{"$f":"IF(#REF!=\"сх\",0,0)","v":{"$error":"#REF!"}},{"$error":"#REF!"}]
[13,10.8,16,"Артемьев Алексей","II","г. Надым, Ямало-Ненецкий АО","СТК \"Форсаж\"","Sky-Doo",14,7,11,10,12,9,26,{"$f":"#REF!+#REF!","v":{"$error":"#REF!"}},null,null,{"$f":"IF(#REF!=1,25,0)","v":{"$error":"#REF!"}},{"$f":"IF(#REF!=2,22,0)","v":{"$error":"#REF!"}},{"$f":"IF(#REF!=3,20,0)","v":{"$error":"#REF!"}},{"$f":"IF(#REF!=4,18,0)","v":{"$error":"#REF!"}},{"$f":"IF(#REF!=5,16,0)","v":{"$error":"#REF!"}},{"$f":"IF(#REF!=6,15,0)","v":{"$error":"#REF!"}},{"$f":"IF(#REF!=7,14,0)","v":{"$error":"#REF!"}},{"$f":"IF(#REF!=8,13,0)","v":{"$error":"#REF!"}},{"$f":"IF(#REF!=9,12,0)","v":{"$error":"#REF!"}},{"$f":"IF(#REF!=10,11,0)","v":{"$error":"#REF!"}},{"$f":"IF(#REF!=11,10,0)","v":{"$error":"#REF!"}},{"$f":"IF(#REF!=12,9,0)","v":{"$error":"#REF!"}},{"$f":"IF(#REF!=13,8,0)","v":{"$error":"#REF!"}},{"$f":"IF(#REF!=14,7,0)","v":{"$error":"#REF!"}},{"$f":"IF(#REF!=15,6,0)","v":{"$error":"#REF!"}},{"$f":"IF(#REF!=16,5,0)","v":{"$error":"#REF!"}},{"$f":"IF(#REF!=17,4,0)","v":{"$error":"#REF!"}},{"$f":"IF(#REF!=18,3,0)","v":{"$error":"#REF!"}},{"$f":"IF(#REF!=19,2,0)","v":{"$error":"#REF!"}},{"$f":"IF(#REF!=20,1,0)","v":{"$error":"#REF!"}},{"$f":"IF(#REF!>20,0,0)","v":{"$error":"#REF!"}},{"$f":"IF(#REF!=\"сх\",0,0)","v":{"$error":"#REF!"}},{"$error":"#REF!"},{"$f":"IF(#REF!=1,25,0)","v":{"$error":"#REF!"}},{"$f":"IF(#REF!=2,22,0)","v":{"$error":"#REF!"}},{"$f":"IF(#REF!=3,20,0)","v":{"$error":"#REF!"}},{"$f":"IF(#REF!=4,18,0)","v":{"$error":"#REF!"}},{"$f":"IF(#REF!=5,16,0)","v":{"$error":"#REF!"}},{"$f":"IF(#REF!=6,15,0)","v":{"$error":"#REF!"}},{"$f":"IF(#REF!=7,14,0)","v":{"$error":"#REF!"}},{"$f":"IF(#REF!=8,13,0)","v":{"$error":"#REF!"}},{"$f":"IF(#REF!=9,12,0)","v":{"$error":"#REF!"}},{"$f":"IF(#REF!=10,11,0)","v":{"$error":"#REF!"}},{"$f":"IF(#REF!=11,10,0)","v":{"$error":"#REF!"}},{"$f":"IF(#REF!=12,9,0)","v":{"$error":"#REF!"}},{"$f":"IF(#REF!=13,8,0)","v":{"$error":"#REF!"}},{"$f":"IF(#REF!=14,7,0)","v":{"$error":"#REF!"}},{"$f":"IF(#REF!=15,6,0)","v":{"$error":"#REF!"}},{"$f":"IF(#REF!=16,5,0)","v":{"$error":"#REF!"}},{"$f":"IF(#REF!=17,4,0)","v":{"$error":"#REF!"}},{"$f":"IF(#REF!=18,3,0)","v":{"$error":"#REF!"}},{"$f":"IF(#REF!=19,2,0)","v":{"$error":"#REF!"}},{"$f":"IF(#REF!=20,1,0)","v":{"$error":"#REF!"}},{"$f":"IF(#REF!>20,0,0)","v":{"$error":"#REF!"}},{"$f":"IF(#REF!=\"сх\",0,0)","v":{"$error":"#REF!"}},{"$error":"#REF!"},{"$f":"IF(#REF!=1,45,0)","v":{"$error":"#REF!"}},{"$f":"IF(#REF!=2,42,0)","v":{"$error":"#REF!"}},{"$f":"IF(#REF!=3,40,0)","v":{"$error":"#REF!"}},{"$f":"IF(#REF!=4,38,0)","v":{"$error":"#REF!"}},{"$f":"IF(#REF!=5,36,0)","v":{"$error":"#REF!"}},{"$f":"IF(#REF!=6,35,0)","v":{"$error":"#REF!"}},{"$f":"IF(#REF!=7,34,0)","v":{"$error":"#REF!"}},{"$f":"IF(#REF!=8,33,0)","v":{"$error":"#REF!"}},{"$f":"IF(#REF!=9,32,0)","v":{"$error":"#REF!"}},{"$f":"IF(#REF!=10,31,0)","v":{"$error":"#REF!"}},{"$f":"IF(#REF!=11,30,0)","v":{"$error":"#REF!"}},{"$f":"IF(#REF!=12,29,0)","v":{"$error":"#REF!"}},{"$f":"IF(#REF!=13,28,0)","v":{"$error":"#REF!"}},{"$f":"IF(#REF!=14,27,0)","v":{"$error":"#REF!"}},{"$f":"IF(#REF!=15,26,0)","v":{"$error":"#REF!"}},{"$f":"IF(#REF!=16,25,0)","v":{"$error":"#REF!"}},{"$f":"IF(#REF!=17,24,0)","v":{"$error":"#REF!"}},{"$f":"IF(#REF!=18,23,0)","v":{"$error":"#REF!"}},{"$f":"IF(#REF!=19,22,0)","v":{"$error":"#REF!"}},{"$f":"IF(#REF!=20,21,0)","v":{"$error":"#REF!"}},{"$f":"IF(#REF!=21,20,0)","v":{"$error":"#REF!"}},{"$f":"IF(#REF!=22,19,0)","v":{"$error":"#REF!"}},{"$f":"IF(#REF!=23,18,0)","v":{"$error":"#REF!"}},{"$f":"IF(#REF!=24,17,0)","v":{"$error":"#REF!"}},{"$f":"IF(#REF!=25,16,0)","v":{"$error":"#REF!"}},{"$f":"IF(#REF!=26,15,0)","v":{"$error":"#REF!"}},{"$f":"IF(#REF!=27,14,0)","v":{"$error":"#REF!"}},{"$f":"IF(#REF!=28,13,0)","v":{"$error":"#REF!"}},{"$f":"IF(#REF!=29,12,0)","v":{"$error":"#REF!"}},{"$f":"IF(#REF!=30,11,0)","v":{"$error":"#REF!"}},{"$f":"IF(#REF!=31,10,0)","v":{"$error":"#REF!"}},{"$f":"IF(#REF!=32,9,0)","v":{"$error":"#REF!"}},{"$f":"IF(#REF!=33,8,0)","v":{"$error":"#REF!"}},{"$f":"IF(#REF!=34,7,0)","v":{"$error":"#REF!"}},{"$f":"IF(#REF!=35,6,0)","v":{"$error":"#REF!"}},{"$f":"IF(#REF!=36,5,0)","v":{"$error":"#REF!"}},{"$f":"IF(#REF!=37,4,0)","v":{"$error":"#REF!"}},{"$f":"IF(#REF!=38,3,0)","v":{"$error":"#REF!"}},{"$f":"IF(#REF!=39,2,0)","v":{"$error":"#REF!"}},{"$f":"IF(#REF!=40,1,0)","v":{"$error":"#REF!"}},{"$f":"IF(#REF!>20,0,0)","v":{"$error":"#REF!"}},{"$f":"IF(#REF!=\"сх\",0,0)","v":{"$error":"#REF!"}},{"$error":"#REF!"},{"$f":"IF(#REF!=1,45,0)","v":{"$error":"#REF!"}},{"$f":"IF(#REF!=2,42,0)","v":{"$error":"#REF!"}},{"$f":"IF(#REF!=3,40,0)","v":{"$error":"#REF!"}},{"$f":"IF(#REF!=4,38,0)","v":{"$error":"#REF!"}},{"$f":"IF(#REF!=5,36,0)","v":{"$error":"#REF!"}},{"$f":"IF(#REF!=6,35,0)","v":{"$error":"#REF!"}},{"$f":"IF(#REF!=7,34,0)","v":{"$error":"#REF!"}},{"$f":"IF(#REF!=8,33,0)","v":{"$error":"#REF!"}},{"$f":"IF(#REF!=9,32,0)","v":{"$error":"#REF!"}},{"$f":"IF(#REF!=10,31,0)","v":{"$error":"#REF!"}},{"$f":"IF(#REF!=11,30,0)","v":{"$error":"#REF!"}},{"$f":"IF(#REF!=12,29,0)","v":{"$error":"#REF!"}},{"$f":"IF(#REF!=13,28,0)","v":{"$error":"#REF!"}},{"$f":"IF(#REF!=14,27,0)","v":{"$error":"#REF!"}},{"$f":"IF(#REF!=15,26,0)","v":{"$error":"#REF!"}},{"$f":"IF(#REF!=16,25,0)","v":{"$error":"#REF!"}},{"$f":"IF(#REF!=17,24,0)","v":{"$error":"#REF!"}},{"$f":"IF(#REF!=18,23,0)","v":{"$error":"#REF!"}},{"$f":"IF(#REF!=19,22,0)","v":{"$error":"#REF!"}},{"$f":"IF(#REF!=20,21,0)","v":{"$error":"#REF!"}},{"$f":"IF(#REF!=21,20,0)","v":{"$error":"#REF!"}},{"$f":"IF(#REF!=22,19,0)","v":{"$error":"#REF!"}},{"$f":"IF(#REF!=23,18,0)","v":{"$error":"#REF!"}},{"$f":"IF(#REF!=24,17,0)","v":{"$error":"#REF!"}},{"$f":"IF(#REF!=25,16,0)","v":{"$error":"#REF!"}},{"$f":"IF(#REF!=26,15,0)","v":{"$error":"#REF!"}},{"$f":"IF(#REF!=27,14,0)","v":{"$error":"#REF!"}},{"$f":"IF(#REF!=28,13,0)","v":{"$error":"#REF!"}},{"$f":"IF(#REF!=29,12,0)","v":{"$error":"#REF!"}},{"$f":"IF(#REF!=30,11,0)","v":{"$error":"#REF!"}},{"$f":"IF(#REF!=31,10,0)","v":{"$error":"#REF!"}},{"$f":"IF(#REF!=32,9,0)","v":{"$error":"#REF!"}},{"$f":"IF(#REF!=33,8,0)","v":{"$error":"#REF!"}},{"$f":"IF(#REF!=34,7,0)","v":{"$error":"#REF!"}},{"$f":"IF(#REF!=35,6,0)","v":{"$error":"#REF!"}},{"$f":"IF(#REF!=36,5,0)","v":{"$error":"#REF!"}},{"$f":"IF(#REF!=37,4,0)","v":{"$error":"#REF!"}},{"$f":"IF(#REF!=38,3,0)","v":{"$error":"#REF!"}},{"$f":"IF(#REF!=39,2,0)","v":{"$error":"#REF!"}},{"$f":"IF(#REF!=40,1,0)","v":{"$error":"#REF!"}},{"$f":"IF(#REF!>20,0,0)","v":{"$error":"#REF!"}},{"$f":"IF(#REF!=\"сх\",0,0)","v":{"$error":"#REF!"}},{"$error":"#REF!"},null,{"$f":"IF(#REF!=\"сх\",\"ноль\",IF(#REF!>0,#REF!,\"Ноль\"))","v":{"$error":"#REF!"}},{"$f":"IF(#REF!=\"сх\",\"ноль\",IF(#REF!>0,#REF!,\"Ноль\"))","v":{"$error":"#REF!"}},null,{"$error":"#REF!"},{"$f":"IF(O22=#REF!,IF(#REF!<#REF!,#REF!,FD22),#REF!)","v":{"$error":"#REF!"}},{"$f":"IF(O22=#REF!,IF(#REF!<#REF!,0,1))","v":{"$error":"#REF!"}},{"$f":"IF(AND(EY22>=21,EY22<>0),EY22,IF(O22<#REF!,\"СТОП\",EZ22+FA22))","v":{"$error":"#REF!"}},null,15,16,null,{"$f":"IF(#REF!=1,25,0)","v":{"$error":"#REF!"}},{"$f":"IF(#REF!=2,22,0)","v":{"$error":"#REF!"}},{"$f":"IF(#REF!=3,20,0)","v":{"$error":"#REF!"}},{"$f":"IF(#REF!=4,18,0)","v":{"$error":"#REF!"}},{"$f":"IF(#REF!=5,16,0)","v":{"$error":"#REF!"}},{"$f":"IF(#REF!=6,15,0)","v":{"$error":"#REF!"}},{"$f":"IF(#REF!=7,14,0)","v":{"$error":"#REF!"}},{"$f":"IF(#REF!=8,13,0)","v":{"$error":"#REF!"}},{"$f":"IF(#REF!=9,12,0)","v":{"$error":"#REF!"}},{"$f":"IF(#REF!=10,11,0)","v":{"$error":"#REF!"}},{"$f":"IF(#REF!=11,10,0)","v":{"$error":"#REF!"}},{"$f":"IF(#REF!=12,9,0)","v":{"$error":"#REF!"}},{"$f":"IF(#REF!=13,8,0)","v":{"$error":"#REF!"}},{"$f":"IF(#REF!=14,7,0)","v":{"$error":"#REF!"}},{"$f":"IF(#REF!=15,6,0)","v":{"$error":"#REF!"}},{"$f":"IF(#REF!=16,5,0)","v":{"$error":"#REF!"}},{"$f":"IF(#REF!=17,4,0)","v":{"$error":"#REF!"}},{"$f":"IF(#REF!=18,3,0)","v":{"$error":"#REF!"}},{"$f":"IF(#REF!=19,2,0)","v":{"$error":"#REF!"}},{"$f":"IF(#REF!=20,1,0)","v":{"$error":"#REF!"}},{"$f":"IF(#REF!>20,0,0)","v":{"$error":"#REF!"}},{"$f":"IF(#REF!=\"сх\",0,0)","v":{"$error":"#REF!"}},{"$error":"#REF!"},{"$f":"IF(#REF!=1,25,0)","v":{"$error":"#REF!"}},{"$f":"IF(#REF!=2,22,0)","v":{"$error":"#REF!"}},{"$f":"IF(#REF!=3,20,0)","v":{"$error":"#REF!"}},{"$f":"IF(#REF!=4,18,0)","v":{"$error":"#REF!"}},{"$f":"IF(#REF!=5,16,0)","v":{"$error":"#REF!"}},{"$f":"IF(#REF!=6,15,0)","v":{"$error":"#REF!"}},{"$f":"IF(#REF!=7,14,0)","v":{"$error":"#REF!"}},{"$f":"IF(#REF!=8,13,0)","v":{"$error":"#REF!"}},{"$f":"IF(#REF!=9,12,0)","v":{"$error":"#REF!"}},{"$f":"IF(#REF!=10,11,0)","v":{"$error":"#REF!"}},{"$f":"IF(#REF!=11,10,0)","v":{"$error":"#REF!"}},{"$f":"IF(#REF!=12,9,0)","v":{"$error":"#REF!"}},{"$f":"IF(#REF!=13,8,0)","v":{"$error":"#REF!"}},{"$f":"IF(#REF!=14,7,0)","v":{"$error":"#REF!"}},{"$f":"IF(#REF!=15,6,0)","v":{"$error":"#REF!"}},{"$f":"IF(#REF!=16,5,0)","v":{"$error":"#REF!"}},{"$f":"IF(#REF!=17,4,0)","v":{"$error":"#REF!"}},{"$f":"IF(#REF!=18,3,0)","v":{"$error":"#REF!"}},{"$f":"IF(#REF!=19,2,0)","v":{"$error":"#REF!"}},{"$f":"IF(#REF!=20,1,0)","v":{"$error":"#REF!"}},{"$f":"IF(#REF!>20,0,0)","v":{"$error":"#REF!"}},{"$f":"IF(#REF!=\"сх\",0,0)","v":{"$error":"#REF!"}},{"$error":"#REF!"},{"$f":"IF(#REF!=1,100,0)","v":{"$error":"#REF!"}},{"$f":"IF(#REF!=2,98,0)","v":{"$error":"#REF!"}},{"$f":"IF(#REF!=3,95,0)","v":{"$error":"#REF!"}},{"$f":"IF(#REF!=4,93,0)","v":{"$error":"#REF!"}},{"$f":"IF(#REF!=5,90,0)","v":{"$error":"#REF!"}},{"$f":"IF(#REF!=6,88,0)","v":{"$error":"#REF!"}},{"$f":"IF(#REF!=7,85,0)","v":{"$error":"#REF!"}},{"$f":"IF(#REF!=8,83,0)","v":{"$error":"#REF!"}},{"$f":"IF(#REF!=9,80,0)","v":{"$error":"#REF!"}},{"$f":"IF(#REF!=10,78,0)","v":{"$error":"#REF!"}},{"$f":"IF(#REF!=11,75,0)","v":{"$error":"#REF!"}},{"$f":"IF(#REF!=12,73,0)","v":{"$error":"#REF!"}},{"$f":"IF(#REF!=13,70,0)","v":{"$error":"#REF!"}},{"$f":"IF(#REF!=14,68,0)","v":{"$error":"#REF!"}},{"$f":"IF(#REF!=15,65,0)","v":{"$error":"#REF!"}},{"$f":"IF(#REF!=16,63,0)","v":{"$error":"#REF!"}},{"$f":"IF(#REF!=17,60,0)","v":{"$error":"#REF!"}},{"$f":"IF(#REF!=18,58,0)","v":{"$error":"#REF!"}},{"$f":"IF(#REF!=19,55,0)","v":{"$error":"#REF!"}},{"$f":"IF(#REF!=20,53,0)","v":{"$error":"#REF!"}},{"$f":"IF(#REF!>20,0,0)","v":{"$error":"#REF!"}},{"$f":"IF(#REF!=\"сх\",0,0)","v":{"$error":"#REF!"}},{"$error":"#REF!"},{"$f":"IF(#REF!=1,100,0)","v":{"$error":"#REF!"}},{"$f":"IF(#REF!=2,98,0)","v":{"$error":"#REF!"}},{"$f":"IF(#REF!=3,95,0)","v":{"$error":"#REF!"}},{"$f":"IF(#REF!=4,93,0)","v":{"$error":"#REF!"}},{"$f":"IF(#REF!=5,90,0)","v":{"$error":"#REF!"}},{"$f":"IF(#REF!=6,88,0)","v":{"$error":"#REF!"}},{"$f":"IF(#REF!=7,85,0)","v":{"$error":"#REF!"}},{"$f":"IF(#REF!=8,83,0)","v":{"$error":"#REF!"}},{"$f":"IF(#REF!=9,80,0)","v":{"$error":"#REF!"}},{"$f":"IF(#REF!=10,78,0)","v":{"$error":"#REF!"}},{"$f":"IF(#REF!=11,75,0)","v":{"$error":"#REF!"}},{"$f":"IF(#REF!=12,73,0)","v":{"$error":"#REF!"}},{"$f":"IF(#REF!=13,70,0)","v":{"$error":"#REF!"}},{"$f":"IF(#REF!=14,68,0)","v":{"$error":"#REF!"}},{"$f":"IF(#REF!=15,65,0)","v":{"$error":"#REF!"}},{"$f":"IF(#REF!=16,63,0)","v":{"$error":"#REF!"}},{"$f":"IF(#REF!=17,60,0)","v":{"$error":"#REF!"}},{"$f":"IF(#REF!=18,58,0)","v":{"$error":"#REF!"}},{"$f":"IF(#REF!=19,55,0)","v":{"$error":"#REF!"}},{"$f":"IF(#REF!=20,53,0)","v":{"$error":"#REF!"}},{"$f":"IF(#REF!>20,0,0)","v":{"$error":"#REF!"}},{"$f":"IF(#REF!=\"сх\",0,0)","v":{"$error":"#REF!"}},{"$error":"#REF!"}]
[14,10.5,71,"Свиридок Максим","II","г. Новый Уренгой, Ямало-Ненецкий АО","СТК \"Факел\"","LYNX",13,8,14,7,15,6,21,{"$f":"#REF!+#REF!","v":{"$error":"#REF!"}},null,null,{"$f":"IF(#REF!=1,25,0)","v":{"$error":"#REF!"}},{"$f":"IF(#REF!=2,22,0)","v":{"$error":"#REF!"}},{"$f":"IF(#REF!=3,20,0)","v":{"$error":"#REF!"}},{"$f":"IF(#REF!=4,18,0)","v":{"$error":"#REF!"}},{"$f":"IF(#REF!=5,16,0)","v":{"$error":"#REF!"}},{"$f":"IF(#REF!=6,15,0)","v":{"$error":"#REF!"}},{"$f":"IF(#REF!=7,14,0)","v":{"$error":"#REF!"}},{"$f":"IF(#REF!=8,13,0)","v":{"$error":"#REF!"}},{"$f":"IF(#REF!=9,12,0)","v":{"$error":"#REF!"}},{"$f":"IF(#REF!=10,11,0)","v":{"$error":"#REF!"}},{"$f":"IF(#REF!=11,10,0)","v":{"$error":"#REF!"}},{"$f":"IF(#REF!=12,9,0)","v":{"$error":"#REF!"}},{"$f":"IF(#REF!=13,8,0)","v":{"$error":"#REF!"}},{"$f":"IF(#REF!=14,7,0)","v":{"$error":"#REF!"}},{"$f":"IF(#REF!=15,6,0)","v":{"$error":"#REF!"}},{"$f":"IF(#REF!=16,5,0)","v":{"$error":"#REF!"}},{"$f":"IF(#REF!=17,4,0)","v":{"$error":"#REF!"}},{"$f":"IF(#REF!=18,3,0)","v":{"$error":"#REF!"}},{"$f":"IF(#REF!=19,2,0)","v":{"$error":"#REF!"}},{"$f":"IF(#REF!=20,1,0)","v":{"$error":"#REF!"}},{"$f":"IF(#REF!>20,0,0)","v":{"$error":"#REF!"}},{"$f":"IF(#REF!=\"сх\",0,0)","v":{"$error":"#REF!"}},{"$error":"#REF!"},{"$f":"IF(#REF!=1,25,0)","v":{"$error":"#REF!"}},{"$f":"IF(#REF!=2,22,0)","v":{"$error":"#REF!"}},{"$f":"IF(#REF!=3,20,0)","v":{"$error":"#REF!"}},{"$f":"IF(#REF!=4,18,0)","v":{"$error":"#REF!"}},{"$f":"IF(#REF!=5,16,0)","v":{"$error":"#REF!"}},{"$f":"IF(#REF!=6,15,0)","v":{"$error":"#REF!"}},{"$f":"IF(#REF!=7,14,0)","v":{"$error":"#REF!"}},{"$f":"IF(#REF!=8,13,0)","v":{"$error":"#REF!"}},{"$f":"IF(#REF!=9,12,0)","v":{"$error":"#REF!"}},{"$f":"IF(#REF!=10,11,0)","v":{"$error":"#REF!"}},{"$f":"IF(#REF!=11,10,0)","v":{"$error":"#REF!"}},{"$f":"IF(#REF!=12,9,0)","v":{"$error":"#REF!"}},{"$f":"IF(#REF!=13,8,0)","v":{"$error":"#REF!"}},{"$f":"IF(#REF!=14,7,0)","v":{"$error":"#REF!"}},{"$f":"IF(#REF!=15,6,0)","v":{"$error":"#REF!"}},{"$f":"IF(#REF!=16,5,0)","v":{"$error":"#REF!"}},{"$f":"IF(#REF!=17,4,0)","v":{"$error":"#REF!"}},{"$f":"IF(#REF!=18,3,0)","v":{"$error":"#REF!"}},{"$f":"IF(#REF!=19,2,0)","v":{"$error":"#REF!"}},{"$f":"IF(#REF!=20,1,0)","v":{"$error":"#REF!"}},{"$f":"IF(#REF!>20,0,0)","v":{"$error":"#REF!"}},{"$f":"IF(#REF!=\"сх\",0,0)","v":{"$error":"#REF!"}},{"$error":"#REF!"},{"$f":"IF(#REF!=1,45,0)","v":{"$error":"#REF!"}},{"$f":"IF(#REF!=2,42,0)","v":{"$error":"#REF!"}},{"$f":"IF(#REF!=3,40,0)","v":{"$error":"#REF!"}},{"$f":"IF(#REF!=4,38,0)","v":{"$error":"#REF!"}},{"$f":"IF(#REF!=5,36,0)","v":{"$error":"#REF!"}},{"$f":"IF(#REF!=6,35,0)","v":{"$error":"#REF!"}},{"$f":"IF(#REF!=7,34,0)","v":{"$error":"#REF!"}},{"$f":"IF(#REF!=8,33,0)","v":{"$error":"#REF!"}},{"$f":"IF(#REF!=9,32,0)","v":{"$error":"#REF!"}},{"$f":"IF(#REF!=10,31,0)","v":{"$error":"#REF!"}},{"$f":"IF(#REF!=11,30,0)","v":{"$error":"#REF!"}},{"$f":"IF(#REF!=12,29,0)","v":{"$error":"#REF!"}},{"$f":"IF(#REF!=13,28,0)","v":{"$error":"#REF!"}},{"$f":"IF(#REF!=14,27,0)","v":{"$error":"#REF!"}},{"$f":"IF(#REF!=15,26,0)","v":{"$error":"#REF!"}},{"$f":"IF(#REF!=16,25,0)","v":{"$error":"#REF!"}},{"$f":"IF(#REF!=17,24,0)","v":{"$error":"#REF!"}},{"$f":"IF(#REF!=18,23,0)","v":{"$error":"#REF!"}},{"$f":"IF(#REF!=19,22,0)","v":{"$error":"#REF!"}},{"$f":"IF(#REF!=20,21,0)","v":{"$error":"#REF!"}},{"$f":"IF(#REF!=21,20,0)","v":{"$error":"#REF!"}},{"$f":"IF(#REF!=22,19,0)","v":{"$error":"#REF!"}},{"$f":"IF(#REF!=23,18,0)","v":{"$error":"#REF!"}},{"$f":"IF(#REF!=24,17,0)","v":{"$error":"#REF!"}},{"$f":"IF(#REF!=25,16,0)","v":{"$error":"#REF!"}},{"$f":"IF(#REF!=26,15,0)","v":{"$error":"#REF!"}},{"$f":"IF(#REF!=27,14,0)","v":{"$error":"#REF!"}},{"$f":"IF(#REF!=28,13,0)","v":{"$error":"#REF!"}},{"$f":"IF(#REF!=29,12,0)","v":{"$error":"#REF!"}},{"$f":"IF(#REF!=30,11,0)","v":{"$error":"#REF!"}},{"$f":"IF(#REF!=31,10,0)","v":{"$error":"#REF!"}},{"$f":"IF(#REF!=32,9,0)","v":{"$error":"#REF!"}},{"$f":"IF(#REF!=33,8,0)","v":{"$error":"#REF!"}},{"$f":"IF(#REF!=34,7,0)","v":{"$error":"#REF!"}},{"$f":"IF(#REF!=35,6,0)","v":{"$error":"#REF!"}},{"$f":"IF(#REF!=36,5,0)","v":{"$error":"#REF!"}},{"$f":"IF(#REF!=37,4,0)","v":{"$error":"#REF!"}},{"$f":"IF(#REF!=38,3,0)","v":{"$error":"#REF!"}},{"$f":"IF(#REF!=39,2,0)","v":{"$error":"#REF!"}},{"$f":"IF(#REF!=40,1,0)","v":{"$error":"#REF!"}},{"$f":"IF(#REF!>20,0,0)","v":{"$error":"#REF!"}},{"$f":"IF(#REF!=\"сх\",0,0)","v":{"$error":"#REF!"}},{"$error":"#REF!"},{"$f":"IF(#REF!=1,45,0)","v":{"$error":"#REF!"}},{"$f":"IF(#REF!=2,42,0)","v":{"$error":"#REF!"}},{"$f":"IF(#REF!=3,40,0)","v":{"$error":"#REF!"}},{"$f":"IF(#REF!=4,38,0)","v":{"$error":"#REF!"}},{"$f":"IF(#REF!=5,36,0)","v":{"$error":"#REF!"}},{"$f":"IF(#REF!=6,35,0)","v":{"$error":"#REF!"}},{"$f":"IF(#REF!=7,34,0)","v":{"$error":"#REF!"}},{"$f":"IF(#REF!=8,33,0)","v":{"$error":"#REF!"}},{"$f":"IF(#REF!=9,32,0)","v":{"$error":"#REF!"}},{"$f":"IF(#REF!=10,31,0)","v":{"$error":"#REF!"}},{"$f":"IF(#REF!=11,30,0)","v":{"$error":"#REF!"}},{"$f":"IF(#REF!=12,29,0)","v":{"$error":"#REF!"}},{"$f":"IF(#REF!=13,28,0)","v":{"$error":"#REF!"}},{"$f":"IF(#REF!=14,27,0)","v":{"$error":"#REF!"}},{"$f":"IF(#REF!=15,26,0)","v":{"$error":"#REF!"}},{"$f":"IF(#REF!=16,25,0)","v":{"$error":"#REF!"}},{"$f":"IF(#REF!=17,24,0)","v":{"$error":"#REF!"}},{"$f":"IF(#REF!=18,23,0)","v":{"$error":"#REF!"}},{"$f":"IF(#REF!=19,22,0)","v":{"$error":"#REF!"}},{"$f":"IF(#REF!=20,21,0)","v":{"$error":"#REF!"}},{"$f":"IF(#REF!=21,20,0)","v":{"$error":"#REF!"}},{"$f":"IF(#REF!=22,19,0)","v":{"$error":"#REF!"}},{"$f":"IF(#REF!=23,18,0)","v":{"$error":"#REF!"}},{"$f":"IF(#REF!=24,17,0)","v":{"$error":"#REF!"}},{"$f":"IF(#REF!=25,16,0)","v":{"$error":"#REF!"}},{"$f":"IF(#REF!=26,15,0)","v":{"$error":"#REF!"}},{"$f":"IF(#REF!=27,14,0)","v":{"$error":"#REF!"}},{"$f":"IF(#REF!=28,13,0)","v":{"$error":"#REF!"}},{"$f":"IF(#REF!=29,12,0)","v":{"$error":"#REF!"}},{"$f":"IF(#REF!=30,11,0)","v":{"$error":"#REF!"}},{"$f":"IF(#REF!=31,10,0)","v":{"$error":"#REF!"}},{"$f":"IF(#REF!=32,9,0)","v":{"$error":"#REF!"}},{"$f":"IF(#REF!=33,8,0)","v":{"$error":"#REF!"}},{"$f":"IF(#REF!=34,7,0)","v":{"$error":"#REF!"}},{"$f":"IF(#REF!=35,6,0)","v":{"$error":"#REF!"}},{"$f":"IF(#REF!=36,5,0)","v":{"$error":"#REF!"}},{"$f":"IF(#REF!=37,4,0)","v":{"$error":"#REF!"}},{"$f":"IF(#REF!=38,3,0)","v":{"$error":"#REF!"}},{"$f":"IF(#REF!=39,2,0)","v":{"$error":"#REF!"}},{"$f":"IF(#REF!=40,1,0)","v":{"$error":"#REF!"}},{"$f":"IF(#REF!>20,0,0)","v":{"$error":"#REF!"}},{"$f":"IF(#REF!=\"сх\",0,0)","v":{"$error":"#REF!"}},{"$error":"#REF!"},null,{"$f":"IF(#REF!=\"сх\",\"ноль\",IF(#REF!>0,#REF!,\"Ноль\"))","v":{"$error":"#REF!"}},{"$f":"IF(#REF!=\"сх\",\"ноль\",IF(#REF!>0,#REF!,\"Ноль\"))","v":{"$error":"#REF!"}},null,{"$error":"#REF!"},{"$f":"IF(O23=#REF!,IF(#REF!<#REF!,#REF!,FD23),#REF!)","v":{"$error":"#REF!"}},{"$f":"IF(O23=#REF!,IF(#REF!<#REF!,0,1))","v":{"$error":"#REF!"}},{"$f":"IF(AND(EY23>=21,EY23<>0),EY23,IF(O23<#REF!,\"СТОП\",EZ23+FA23))","v":{"$error":"#REF!"}},null,15,16,null,{"$f":"IF(#REF!=1,25,0)","v":{"$error":"#REF!"}},{"$f":"IF(#REF!=2,22,0)","v":{"$error":"#REF!"}},{"$f":"IF(#REF!=3,20,0)","v":{"$error":"#REF!"}},{"$f":"IF(#REF!=4,18,0)","v":{"$error":"#REF!"}},{"$f":"IF(#REF!=5,16,0)","v":{"$error":"#REF!"}},{"$f":"IF(#REF!=6,15,0)","v":{"$error":"#REF!"}},{"$f":"IF(#REF!=7,14,0)","v":{"$error":"#REF!"}},{"$f":"IF(#REF!=8,13,0)","v":{"$error":"#REF!"}},{"$f":"IF(#REF!=9,12,0)","v":{"$error":"#REF!"}},{"$f":"IF(#REF!=10,11,0)","v":{"$error":"#REF!"}},{"$f":"IF(#REF!=11,10,0)","v":{"$error":"#REF!"}},{"$f":"IF(#REF!=12,9,0)","v":{"$error":"#REF!"}},{"$f":"IF(#REF!=13,8,0)","v":{"$error":"#REF!"}},{"$f":"IF(#REF!=14,7,0)","v":{"$error":"#REF!"}},{"$f":"IF(#REF!=15,6,0)","v":{"$error":"#REF!"}},{"$f":"IF(#REF!=16,5,0)","v":{"$error":"#REF!"}},{"$f":"IF(#REF!=17,4,0)","v":{"$error":"#REF!"}},{"$f":"IF(#REF!=18,3,0)","v":{"$error":"#REF!"}},{"$f":"IF(#REF!=19,2,0)","v":{"$error":"#REF!"}},{"$f":"IF(#REF!=20,1,0)","v":{"$error":"#REF!"}},{"$f":"IF(#REF!>20,0,0)","v":{"$error":"#REF!"}},{"$f":"IF(#REF!=\"сх\",0,0)","v":{"$error":"#REF!"}},{"$error":"#REF!"},{"$f":"IF(#REF!=1,25,0)","v":{"$error":"#REF!"}},{"$f":"IF(#REF!=2,22,0)","v":{"$error":"#REF!"}},{"$f":"IF(#REF!=3,20,0)","v":{"$error":"#REF!"}},{"$f":"IF(#REF!=4,18,0)","v":{"$error":"#REF!"}},{"$f":"IF(#REF!=5,16,0)","v":{"$error":"#REF!"}},{"$f":"IF(#REF!=6,15,0)","v":{"$error":"#REF!"}},{"$f":"IF(#REF!=7,14,0)","v":{"$error":"#REF!"}},{"$f":"IF(#REF!=8,13,0)","v":{"$error":"#REF!"}},{"$f":"IF(#REF!=9,12,0)","v":{"$error":"#REF!"}},{"$f":"IF(#REF!=10,11,0)","v":{"$error":"#REF!"}},{"$f":"IF(#REF!=11,10,0)","v":{"$error":"#REF!"}},{"$f":"IF(#REF!=12,9,0)","v":{"$error":"#REF!"}},{"$f":"IF(#REF!=13,8,0)","v":{"$error":"#REF!"}},{"$f":"IF(#REF!=14,7,0)","v":{"$error":"#REF!"}},{"$f":"IF(#REF!=15,6,0)","v":{"$error":"#REF!"}},{"$f":"IF(#REF!=16,5,0)","v":{"$error":"#REF!"}},{"$f":"IF(#REF!=17,4,0)","v":{"$error":"#REF!"}},{"$f":"IF(#REF!=18,3,0)","v":{"$error":"#REF!"}},{"$f":"IF(#REF!=19,2,0)","v":{"$error":"#REF!"}},{"$f":"IF(#REF!=20,1,0)","v":{"$error":"#REF!"}},{"$f":"IF(#REF!>20,0,0)","v":{"$error":"#REF!"}},{"$f":"IF(#REF!=\"сх\",0,0)","v":{"$error":"#REF!"}},{"$error":"#REF!"},{"$f":"IF(#REF!=1,100,0)","v":{"$error":"#REF!"}},{"$f":"IF(#REF!=2,98,0)","v":{"$error":"#REF!"}},{"$f":"IF(#REF!=3,95,0)","v":{"$error":"#REF!"}},{"$f":"IF(#REF!=4,93,0)","v":{"$error":"#REF!"}},{"$f":"IF(#REF!=5,90,0)","v":{"$error":"#REF!"}},{"$f":"IF(#REF!=6,88,0)","v":{"$error":"#REF!"}},{"$f":"IF(#REF!=7,85,0)","v":{"$error":"#REF!"}},{"$f":"IF(#REF!=8,83,0)","v":{"$error":"#REF!"}},{"$f":"IF(#REF!=9,80,0)","v":{"$error":"#REF!"}},{"$f":"IF(#REF!=10,78,0)","v":{"$error":"#REF!"}},{"$f":"IF(#REF!=11,75,0)","v":{"$error":"#REF!"}},{"$f":"IF(#REF!=12,73,0)","v":{"$error":"#REF!"}},{"$f":"IF(#REF!=13,70,0)","v":{"$error":"#REF!"}},{"$f":"IF(#REF!=14,68,0)","v":{"$error":"#REF!"}},{"$f":"IF(#REF!=15,65,0)","v":{"$error":"#REF!"}},{"$f":"IF(#REF!=16,63,0)","v":{"$error":"#REF!"}},{"$f":"IF(#REF!=17,60,0)","v":{"$error":"#REF!"}},{"$f":"IF(#REF!=18,58,0)","v":{"$error":"#REF!"}},{"$f":"IF(#REF!=19,55,0)","v":{"$error":"#REF!"}},{"$f":"IF(#REF!=20,53,0)","v":{"$error":"#REF!"}},{"$f":"IF(#REF!>20,0,0)","v":{"$error":"#REF!"}},{"$f":"IF(#REF!=\"сх\",0,0)","v":{"$error":"#REF!"}},{"$error":"#REF!"},{"$f":"IF(#REF!=1,100,0)","v":{"$error":"#REF!"}},{"$f":"IF(#REF!=2,98,0)","v":{"$error":"#REF!"}},{"$f":"IF(#REF!=3,95,0)","v":{"$error":"#REF!"}},{"$f":"IF(#REF!=4,93,0)","v":{"$error":"#REF!"}},{"$f":"IF(#REF!=5,90,0)","v":{"$error":"#REF!"}},{"$f":"IF(#REF!=6,88,0)","v":{"$error":"#REF!"}},{"$f":"IF(#REF!=7,85,0)","v":{"$error":"#REF!"}},{"$f":"IF(#REF!=8,83,0)","v":{"$error":"#REF!"}},{"$f":"IF(#REF!=9,80,0)","v":{"$error":"#REF!"}},{"$f":"IF(#REF!=10,78,0)","v":{"$error":"#REF!"}},{"$f":"IF(#REF!=11,75,0)","v":{"$error":"#REF!"}},{"$f":"IF(#REF!=12,73,0)","v":{"$error":"#REF!"}},{"$f":"IF(#REF!=13,70,0)","v":{"$error":"#REF!"}},{"$f":"IF(#REF!=14,68,0)","v":{"$error":"#REF!"}},{"$f":"IF(#REF!=15,65,0)","v":{"$error":"#REF!"}},{"$f":"IF(#REF!=16,63,0)","v":{"$error":"#REF!"}},{"$f":"IF(#REF!=17,60,0)","v":{"$error":"#REF!"}},{"$f":"IF(#REF!=18,58,0)","v":{"$error":"#REF!"}},{"$f":"IF(#REF!=19,55,0)","v":{"$error":"#REF!"}},{"$f":"IF(#REF!=20,53,0)","v":{"$error":"#REF!"}},{"$f":"IF(#REF!>20,0,0)","v":{"$error":"#REF!"}},{"$f":"IF(#REF!=\"сх\",0,0)","v":{"$error":"#REF!"}},{"$error":"#REF!"}]
[15,10.199999999999999,91,"Зиангиров Адам","II","г. Новый Уренгой, Ямало-Ненецкий АО","СТК \"Ямбург\"","LYNX",15,6,13,8,14,7,21,{"$f":"#REF!+#REF!","v":{"$error":"#REF!"}},null,null,{"$f":"IF(#REF!=1,25,0)","v":{"$error":"#REF!"}},{"$f":"IF(#REF!=2,22,0)","v":{"$error":"#REF!"}},{"$f":"IF(#REF!=3,20,0)","v":{"$error":"#REF!"}},{"$f":"IF(#REF!=4,18,0)","v":{"$error":"#REF!"}},{"$f":"IF(#REF!=5,16,0)","v":{"$error":"#REF!"}},{"$f":"IF(#REF!=6,15,0)","v":{"$error":"#REF!"}},{"$f":"IF(#REF!=7,14,0)","v":{"$error":"#REF!"}},{"$f":"IF(#REF!=8,13,0)","v":{"$error":"#REF!"}},{"$f":"IF(#REF!=9,12,0)","v":{"$error":"#REF!"}},{"$f":"IF(#REF!=10,11,0)","v":{"$error":"#REF!"}},{"$f":"IF(#REF!=11,10,0)","v":{"$error":"#REF!"}},{"$f":"IF(#REF!=12,9,0)","v":{"$error":"#REF!"}},{"$f":"IF(#REF!=13,8,0)","v":{"$error":"#REF!"}},{"$f":"IF(#REF!=14,7,0)","v":{"$error":"#REF!"}},{"$f":"IF(#REF!=15,6,0)","v":{"$error":"#REF!"}},{"$f":"IF(#REF!=16,5,0)","v":{"$error":"#REF!"}},{"$f":"IF(#REF!=17,4,0)","v":{"$error":"#REF!"}},{"$f":"IF(#REF!=18,3,0)","v":{"$error":"#REF!"}},{"$f":"IF(#REF!=19,2,0)","v":{"$error":"#REF!"}},{"$f":"IF(#REF!=20,1,0)","v":{"$error":"#REF!"}},{"$f":"IF(#REF!>20,0,0)","v":{"$error":"#REF!"}},{"$f":"IF(#REF!=\"сх\",0,0)","v":{"$error":"#REF!"}},{"$error":"#REF!"},{"$f":"IF(#REF!=1,25,0)","v":{"$error":"#REF!"}},{"$f":"IF(#REF!=2,22,0)","v":{"$error":"#REF!"}},{"$f":"IF(#REF!=3,20,0)","v":{"$error":"#REF!"}},{"$f":"IF(#REF!=4,18,0)","v":{"$error":"#REF!"}},{"$f":"IF(#REF!=5,16,0)","v":{"$error":"#REF!"}},{"$f":"IF(#REF!=6,15,0)","v":{"$error":"#REF!"}},{"$f":"IF(#REF!=7,14,0)","v":{"$error":"#REF!"}},{"$f":"IF(#REF!=8,13,0)","v":{"$error":"#REF!"}},{"$f":"IF(#REF!=9,12,0)","v":{"$error":"#REF!"}},{"$f":"IF(#REF!=10,11,0)","v":{"$error":"#REF!"}},{"$f":"IF(#REF!=11,10,0)","v":{"$error":"#REF!"}},{"$f":"IF(#REF!=12,9,0)","v":{"$error":"#REF!"}},{"$f":"IF(#REF!=13,8,0)","v":{"$error":"#REF!"}},{"$f":"IF(#REF!=14,7,0)","v":{"$error":"#REF!"}},{"$f":"IF(#REF!=15,6,0)","v":{"$error":"#REF!"}},{"$f":"IF(#REF!=16,5,0)","v":{"$error":"#REF!"}},{"$f":"IF(#REF!=17,4,0)","v":{"$error":"#REF!"}},{"$f":"IF(#REF!=18,3,0)","v":{"$error":"#REF!"}},{"$f":"IF(#REF!=19,2,0)","v":{"$error":"#REF!"}},{"$f":"IF(#REF!=20,1,0)","v":{"$error":"#REF!"}},{"$f":"IF(#REF!>20,0,0)","v":{"$error":"#REF!"}},{"$f":"IF(#REF!=\"сх\",0,0)","v":{"$error":"#REF!"}},{"$error":"#REF!"},{"$f":"IF(#REF!=1,45,0)","v":{"$error":"#REF!"}},{"$f":"IF(#REF!=2,42,0)","v":{"$error":"#REF!"}},{"$f":"IF(#REF!=3,40,0)","v":{"$error":"#REF!"}},{"$f":"IF(#REF!=4,38,0)","v":{"$error":"#REF!"}},{"$f":"IF(#REF!=5,36,0)","v":{"$error":"#REF!"}},{"$f":"IF(#REF!=6,35,0)","v":{"$error":"#REF!"}},{"$f":"IF(#REF!=7,34,0)","v":{"$error":"#REF!"}},{"$f":"IF(#REF!=8,33,0)","v":{"$error":"#REF!"}},{"$f":"IF(#REF!=9,32,0)","v":{"$error":"#REF!"}},{"$f":"IF(#REF!=10,31,0)","v":{"$error":"#REF!"}},{"$f":"IF(#REF!=11,30,0)","v":{"$error":"#REF!"}},{"$f":"IF(#REF!=12,29,0)","v":{"$error":"#REF!"}},{"$f":"IF(#REF!=13,28,0)","v":{"$error":"#REF!"}},{"$f":"IF(#REF!=14,27,0)","v":{"$error":"#REF!"}},{"$f":"IF(#REF!=15,26,0)","v":{"$error":"#REF!"}},{"$f":"IF(#REF!=16,25,0)","v":{"$error":"#REF!"}},{"$f":"IF(#REF!=17,24,0)","v":{"$error":"#REF!"}},{"$f":"IF(#REF!=18,23,0)","v":{"$error":"#REF!"}},{"$f":"IF(#REF!=19,22,0)","v":{"$error":"#REF!"}},{"$f":"IF(#REF!=20,21,0)","v":{"$error":"#REF!"}},{"$f":"IF(#REF!=21,20,0)","v":{"$error":"#REF!"}},{"$f":"IF(#REF!=22,19,0)","v":{"$error":"#REF!"}},{"$f":"IF(#REF!=23,18,0)","v":{"$error":"#REF!"}},{"$f":"IF(#REF!=24,17,0)","v":{"$error":"#REF!"}},{"$f":"IF(#REF!=25,16,0)","v":{"$error":"#REF!"}},{"$f":"IF(#REF!=26,15,0)","v":{"$error":"#REF!"}},{"$f":"IF(#REF!=27,14,0)","v":{"$error":"#REF!"}},{"$f":"IF(#REF!=28,13,0)","v":{"$error":"#REF!"}},{"$f":"IF(#REF!=29,12,0)","v":{"$error":"#REF!"}},{"$f":"IF(#REF!=30,11,0)","v":{"$error":"#REF!"}},{"$f":"IF(#REF!=31,10,0)","v":{"$error":"#REF!"}},{"$f":"IF(#REF!=32,9,0)","v":{"$error":"#REF!"}},{"$f":"IF(#REF!=33,8,0)","v":{"$error":"#REF!"}},{"$f":"IF(#REF!=34,7,0)","v":{"$error":"#REF!"}},{"$f":"IF(#REF!=35,6,0)","v":{"$error":"#REF!"}},{"$f":"IF(#REF!=36,5,0)","v":{"$error":"#REF!"}},{"$f":"IF(#REF!=37,4,0)","v":{"$error":"#REF!"}},{"$f":"IF(#REF!=38,3,0)","v":{"$error":"#REF!"}},{"$f":"IF(#REF!=39,2,0)","v":{"$error":"#REF!"}},{"$f":"IF(#REF!=40,1,0)","v":{"$error":"#REF!"}},{"$f":"IF(#REF!>20,0,0)","v":{"$error":"#REF!"}},{"$f":"IF(#REF!=\"сх\",0,0)","v":{"$error":"#REF!"}},{"$error":"#REF!"},{"$f":"IF(#REF!=1,45,0)","v":{"$error":"#REF!"}},{"$f":"IF(#REF!=2,42,0)","v":{"$error":"#REF!"}},{"$f":"IF(#REF!=3,40,0)","v":{"$error":"#REF!"}},{"$f":"IF(#REF!=4,38,0)","v":{"$error":"#REF!"}},{"$f":"IF(#REF!=5,36,0)","v":{"$error":"#REF!"}},{"$f":"IF(#REF!=6,35,0)","v":{"$error":"#REF!"}},{"$f":"IF(#REF!=7,34,0)","v":{"$error":"#REF!"}},{"$f":"IF(#REF!=8,33,0)","v":{"$error":"#REF!"}},{"$f":"IF(#REF!=9,32,0)","v":{"$error":"#REF!"}},{"$f":"IF(#REF!=10,31,0)","v":{"$error":"#REF!"}},{"$f":"IF(#REF!=11,30,0)","v":{"$error":"#REF!"}},{"$f":"IF(#REF!=12,29,0)","v":{"$error":"#REF!"}},{"$f":"IF(#REF!=13,28,0)","v":{"$error":"#REF!"}},{"$f":"IF(#REF!=14,27,0)","v":{"$error":"#REF!"}},{"$f":"IF(#REF!=15,26,0)","v":{"$error":"#REF!"}},{"$f":"IF(#REF!=16,25,0)","v":{"$error":"#REF!"}},{"$f":"IF(#REF!=17,24,0)","v":{"$error":"#REF!"}},{"$f":"IF(#REF!=18,23,0)","v":{"$error":"#REF!"}},{"$f":"IF(#REF!=19,22,0)","v":{"$error":"#REF!"}},{"$f":"IF(#REF!=20,21,0)","v":{"$error":"#REF!"}},{"$f":"IF(#REF!=21,20,0)","v":{"$error":"#REF!"}},{"$f":"IF(#REF!=22,19,0)","v":{"$error":"#REF!"}},{"$f":"IF(#REF!=23,18,0)","v":{"$error":"#REF!"}},{"$f":"IF(#REF!=24,17,0)","v":{"$error":"#REF!"}},{"$f":"IF(#REF!=25,16,0)","v":{"$error":"#REF!"}},{"$f":"IF(#REF!=26,15,0)","v":{"$error":"#REF!"}},{"$f":"IF(#REF!=27,14,0)","v":{"$error":"#REF!"}},{"$f":"IF(#REF!=28,13,0)","v":{"$error":"#REF!"}},{"$f":"IF(#REF!=29,12,0)","v":{"$error":"#REF!"}},{"$f":"IF(#REF!=30,11,0)","v":{"$error":"#REF!"}},{"$f":"IF(#REF!=31,10,0)","v":{"$error":"#REF!"}},{"$f":"IF(#REF!=32,9,0)","v":{"$error":"#REF!"}},{"$f":"IF(#REF!=33,8,0)","v":{"$error":"#REF!"}},{"$f":"IF(#REF!=34,7,0)","v":{"$error":"#REF!"}},{"$f":"IF(#REF!=35,6,0)","v":{"$error":"#REF!"}},{"$f":"IF(#REF!=36,5,0)","v":{"$error":"#REF!"}},{"$f":"IF(#REF!=37,4,0)","v":{"$error":"#REF!"}},{"$f":"IF(#REF!=38,3,0)","v":{"$error":"#REF!"}},{"$f":"IF(#REF!=39,2,0)","v":{"$error":"#REF!"}},{"$f":"IF(#REF!=40,1,0)","v":{"$error":"#REF!"}},{"$f":"IF(#REF!>20,0,0)","v":{"$error":"#REF!"}},{"$f":"IF(#REF!=\"сх\",0,0)","v":{"$error":"#REF!"}},{"$error":"#REF!"},null,{"$f":"IF(#REF!=\"сх\",\"ноль\",IF(#REF!>0,#REF!,\"Ноль\"))","v":{"$error":"#REF!"}},{"$f":"IF(#REF!=\"сх\",\"ноль\",IF(#REF!>0,#REF!,\"Ноль\"))","v":{"$error":"#REF!"}},null,{"$error":"#REF!"},{"$f":"IF(O24=#REF!,IF(#REF!<#REF!,#REF!,FD24),#REF!)","v":{"$error":"#REF!"}},{"$f":"IF(O24=#REF!,IF(#REF!<#REF!,0,1))","v":{"$error":"#REF!"}},{"$f":"IF(AND(EY24>=21,EY24<>0),EY24,IF(O24<#REF!,\"СТОП\",EZ24+FA24))","v":{"$error":"#REF!"}},null,15,16,null,{"$f":"IF(#REF!=1,25,0)","v":{"$error":"#REF!"}},{"$f":"IF(#REF!=2,22,0)","v":{"$error":"#REF!"}},{"$f":"IF(#REF!=3,20,0)","v":{"$error":"#REF!"}},{"$f":"IF(#REF!=4,18,0)","v":{"$error":"#REF!"}},{"$f":"IF(#REF!=5,16,0)","v":{"$error":"#REF!"}},{"$f":"IF(#REF!=6,15,0)","v":{"$error":"#REF!"}},{"$f":"IF(#REF!=7,14,0)","v":{"$error":"#REF!"}},{"$f":"IF(#REF!=8,13,0)","v":{"$error":"#REF!"}},{"$f":"IF(#REF!=9,12,0)","v":{"$error":"#REF!"}},{"$f":"IF(#REF!=10,11,0)","v":{"$error":"#REF!"}},{"$f":"IF(#REF!=11,10,0)","v":{"$error":"#REF!"}},{"$f":"IF(#REF!=12,9,0)","v":{"$error":"#REF!"}},{"$f":"IF(#REF!=13,8,0)","v":{"$error":"#REF!"}},{"$f":"IF(#REF!=14,7,0)","v":{"$error":"#REF!"}},{"$f":"IF(#REF!=15,6,0)","v":{"$error":"#REF!"}},{"$f":"IF(#REF!=16,5,0)","v":{"$error":"#REF!"}},{"$f":"IF(#REF!=17,4,0)","v":{"$error":"#REF!"}},{"$f":"IF(#REF!=18,3,0)","v":{"$error":"#REF!"}},{"$f":"IF(#REF!=19,2,0)","v":{"$error":"#REF!"}},{"$f":"IF(#REF!=20,1,0)","v":{"$error":"#REF!"}},{"$f":"IF(#REF!>20,0,0)","v":{"$error":"#REF!"}},{"$f":"IF(#REF!=\"сх\",0,0)","v":{"$error":"#REF!"}},{"$error":"#REF!"},{"$f":"IF(#REF!=1,25,0)","v":{"$error":"#REF!"}},{"$f":"IF(#REF!=2,22,0)","v":{"$error":"#REF!"}},{"$f":"IF(#REF!=3,20,0)","v":{"$error":"#REF!"}},{"$f":"IF(#REF!=4,18,0)","v":{"$error":"#REF!"}},{"$f":"IF(#REF!=5,16,0)","v":{"$error":"#REF!"}},{"$f":"IF(#REF!=6,15,0)","v":{"$error":"#REF!"}},{"$f":"IF(#REF!=7,14,0)","v":{"$error":"#REF!"}},{"$f":"IF(#REF!=8,13,0)","v":{"$error":"#REF!"}},{"$f":"IF(#REF!=9,12,0)","v":{"$error":"#REF!"}},{"$f":"IF(#REF!=10,11,0)","v":{"$error":"#REF!"}},{"$f":"IF(#REF!=11,10,0)","v":{"$error":"#REF!"}},{"$f":"IF(#REF!=12,9,0)","v":{"$error":"#REF!"}},{"$f":"IF(#REF!=13,8,0)","v":{"$error":"#REF!"}},{"$f":"IF(#REF!=14,7,0)","v":{"$error":"#REF!"}},{"$f":"IF(#REF!=15,6,0)","v":{"$error":"#REF!"}},{"$f":"IF(#REF!=16,5,0)","v":{"$error":"#REF!"}},{"$f":"IF(#REF!=17,4,0)","v":{"$error":"#REF!"}},{"$f":"IF(#REF!=18,3,0)","v":{"$error":"#REF!"}},{"$f":"IF(#REF!=19,2,0)","v":{"$error":"#REF!"}},{"$f":"IF(#REF!=20,1,0)","v":{"$error":"#REF!"}},{"$f":"IF(#REF!>20,0,0)","v":{"$error":"#REF!"}},{"$f":"IF(#REF!=\"сх\",0,0)","v":{"$error":"#REF!"}},{"$error":"#REF!"},{"$f":"IF(#REF!=1,100,0)","v":{"$error":"#REF!"}},{"$f":"IF(#REF!=2,98,0)","v":{"$error":"#REF!"}},{"$f":"IF(#REF!=3,95,0)","v":{"$error":"#REF!"}},{"$f":"IF(#REF!=4,93,0)","v":{"$error":"#REF!"}},{"$f":"IF(#REF!=5,90,0)","v":{"$error":"#REF!"}},{"$f":"IF(#REF!=6,88,0)","v":{"$error":"#REF!"}},{"$f":"IF(#REF!=7,85,0)","v":{"$error":"#REF!"}},{"$f":"IF(#REF!=8,83,0)","v":{"$error":"#REF!"}},{"$f":"IF(#REF!=9,80,0)","v":{"$error":"#REF!"}},{"$f":"IF(#REF!=10,78,0)","v":{"$error":"#REF!"}},{"$f":"IF(#REF!=11,75,0)","v":{"$error":"#REF!"}},{"$f":"IF(#REF!=12,73,0)","v":{"$error":"#REF!"}},{"$f":"IF(#REF!=13,70,0)","v":{"$error":"#REF!"}},{"$f":"IF(#REF!=14,68,0)","v":{"$error":"#REF!"}},{"$f":"IF(#REF!=15,65,0)","v":{"$error":"#REF!"}},{"$f":"IF(#REF!=16,63,0)","v":{"$error":"#REF!"}},{"$f":"IF(#REF!=17,60,0)","v":{"$error":"#REF!"}},{"$f":"IF(#REF!=18,58,0)","v":{"$error":"#REF!"}},{"$f":"IF(#REF!=19,55,0)","v":{"$error":"#REF!"}},{"$f":"IF(#REF!=20,53,0)","v":{"$error":"#REF!"}},{"$f":"IF(#REF!>20,0,0)","v":{"$error":"#REF!"}},{"$f":"IF(#REF!=\"сх\",0,0)","v":{"$error":"#REF!"}},{"$error":"#REF!"},{"$f":"IF(#REF!=1,100,0)","v":{"$error":"#REF!"}},{"$f":"IF(#REF!=2,98,0)","v":{"$error":"#REF!"}},{"$f":"IF(#REF!=3,95,0)","v":{"$error":"#REF!"}},{"$f":"IF(#REF!=4,93,0)","v":{"$error":"#REF!"}},{"$f":"IF(#REF!=5,90,0)","v":{"$error":"#REF!"}},{"$f":"IF(#REF!=6,88,0)","v":{"$error":"#REF!"}},{"$f":"IF(#REF!=7,85,0)","v":{"$error":"#REF!"}},{"$f":"IF(#REF!=8,83,0)","v":{"$error":"#REF!"}},{"$f":"IF(#REF!=9,80,0)","v":{"$error":"#REF!"}},{"$f":"IF(#REF!=10,78,0)","v":{"$error":"#REF!"}},{"$f":"IF(#REF!=11,75,0)","v":{"$error":"#REF!"}},{"$f":"IF(#REF!=12,73,0)","v":{"$error":"#REF!"}},{"$f":"IF(#REF!=13,70,0)","v":{"$error":"#REF!"}},{"$f":"IF(#REF!=14,68,0)","v":{"$error":"#REF!"}},{"$f":"IF(#REF!=15,65,0)","v":{"$error":"#REF!"}},{"$f":"IF(#REF!=16,63,0)","v":{"$error":"#REF!"}},{"$f":"IF(#REF!=17,60,0)","v":{"$error":"#REF!"}},{"$f":"IF(#REF!=18,58,0)","v":{"$error":"#REF!"}},{"$f":"IF(#REF!=19,55,0)","v":{"$error":"#REF!"}},{"$f":"IF(#REF!=20,53,0)","v":{"$error":"#REF!"}},{"$f":"IF(#REF!>20,0,0)","v":{"$error":"#REF!"}},{"$f":"IF(#REF!=\"сх\",0,0)","v":{"$error":"#REF!"}},{"$error":"#REF!"}]
[16,9.8999999999999897,78,"Шимолин Владислав","II","г. Новый Уренгой, Ямало-Ненецкий АО","СТК \"Ямбург\"","LYNX",16,5,15,6,16,5,16,{"$f":"#REF!+#REF!","v":{"$error":"#REF!"}},null,null,{"$f":"IF(#REF!=1,25,0)","v":{"$error":"#REF!"}},{"$f":"IF(#REF!=2,22,0)","v":{"$error":"#REF!"}},{"$f":"IF(#REF!=3,20,0)","v":{"$error":"#REF!"}},{"$f":"IF(#REF!=4,18,0)","v":{"$error":"#REF!"}},{"$f":"IF(#REF!=5,16,0)","v":{"$error":"#REF!"}},{"$f":"IF(#REF!=6,15,0)","v":{"$error":"#REF!"}},{"$f":"IF(#REF!=7,14,0)","v":{"$error":"#REF!"}},{"$f":"IF(#REF!=8,13,0)","v":{"$error":"#REF!"}},{"$f":"IF(#REF!=9,12,0)","v":{"$error":"#REF!"}},{"$f":"IF(#REF!=10,11,0)","v":{"$error":"#REF!"}},{"$f":"IF(#REF!=11,10,0)","v":{"$error":"#REF!"}},{"$f":"IF(#REF!=12,9,0)","v":{"$error":"#REF!"}},{"$f":"IF(#REF!=13,8,0)","v":{"$error":"#REF!"}},{"$f":"IF(#REF!=14,7,0)","v":{"$error":"#REF!"}},{"$f":"IF(#REF!=15,6,0)","v":{"$error":"#REF!"}},{"$f":"IF(#REF!=16,5,0)","v":{"$error":"#REF!"}},{"$f":"IF(#REF!=17,4,0)","v":{"$error":"#REF!"}},{"$f":"IF(#REF!=18,3,0)","v":{"$error":"#REF!"}},{"$f":"IF(#REF!=19,2,0)","v":{"$error":"#REF!"}},{"$f":"IF(#REF!=20,1,0)","v":{"$error":"#REF!"}},{"$f":"IF(#REF!>20,0,0)","v":{"$error":"#REF!"}},{"$f":"IF(#REF!=\"сх\",0,0)","v":{"$error":"#REF!"}},{"$error":"#REF!"},{"$f":"IF(#REF!=1,25,0)","v":{"$error":"#REF!"}},{"$f":"IF(#REF!=2,22,0)","v":{"$error":"#REF!"}},{"$f":"IF(#REF!=3,20,0)","v":{"$error":"#REF!"}},{"$f":"IF(#REF!=4,18,0)","v":{"$error":"#REF!"}},{"$f":"IF(#REF!=5,16,0)","v":{"$error":"#REF!"}},{"$f":"IF(#REF!=6,15,0)","v":{"$error":"#REF!"}},{"$f":"IF(#REF!=7,14,0)","v":{"$error":"#REF!"}},{"$f":"IF(#REF!=8,13,0)","v":{"$error":"#REF!"}},{"$f":"IF(#REF!=9,12,0)","v":{"$error":"#REF!"}},{"$f":"IF(#REF!=10,11,0)","v":{"$error":"#REF!"}},{"$f":"IF(#REF!=11,10,0)","v":{"$error":"#REF!"}},{"$f":"IF(#REF!=12,9,0)","v":{"$error":"#REF!"}},{"$f":"IF(#REF!=13,8,0)","v":{"$error":"#REF!"}},{"$f":"IF(#REF!=14,7,0)","v":{"$error":"#REF!"}},{"$f":"IF(#REF!=15,6,0)","v":{"$error":"#REF!"}},{"$f":"IF(#REF!=16,5,0)","v":{"$error":"#REF!"}},{"$f":"IF(#REF!=17,4,0)","v":{"$error":"#REF!"}},{"$f":"IF(#REF!=18,3,0)","v":{"$error":"#REF!"}},{"$f":"IF(#REF!=19,2,0)","v":{"$error":"#REF!"}},{"$f":"IF(#REF!=20,1,0)","v":{"$error":"#REF!"}},{"$f":"IF(#REF!>20,0,0)","v":{"$error":"#REF!"}},{"$f":"IF(#REF!=\"сх\",0,0)","v":{"$error":"#REF!"}},{"$error":"#REF!"},{"$f":"IF(#REF!=1,45,0)","v":{"$error":"#REF!"}},{"$f":"IF(#REF!=2,42,0)","v":{"$error":"#REF!"}},{"$f":"IF(#REF!=3,40,0)","v":{"$error":"#REF!"}},{"$f":"IF(#REF!=4,38,0)","v":{"$error":"#REF!"}},{"$f":"IF(#REF!=5,36,0)","v":{"$error":"#REF!"}},{"$f":"IF(#REF!=6,35,0)","v":{"$error":"#REF!"}},{"$f":"IF(#REF!=7,34,0)","v":{"$error":"#REF!"}},{"$f":"IF(#REF!=8,33,0)","v":{"$error":"#REF!"}},{"$f":"IF(#REF!=9,32,0)","v":{"$error":"#REF!"}},{"$f":"IF(#REF!=10,31,0)","v":{"$error":"#REF!"}},{"$f":"IF(#REF!=11,30,0)","v":{"$error":"#REF!"}},{"$f":"IF(#REF!=12,29,0)","v":{"$error":"#REF!"}},{"$f":"IF(#REF!=13,28,0)","v":{"$error":"#REF!"}},{"$f":"IF(#REF!=14,27,0)","v":{"$error":"#REF!"}},{"$f":"IF(#REF!=15,26,0)","v":{"$error":"#REF!"}},{"$f":"IF(#REF!=16,25,0)","v":{"$error":"#REF!"}},{"$f":"IF(#REF!=17,24,0)","v":{"$error":"#REF!"}},{"$f":"IF(#REF!=18,23,0)","v":{"$error":"#REF!"}},{"$f":"IF(#REF!=19,22,0)","v":{"$error":"#REF!"}},{"$f":"IF(#REF!=20,21,0)","v":{"$error":"#REF!"}},{"$f":"IF(#REF!=21,20,0)","v":{"$error":"#REF!"}},{"$f":"IF(#REF!=22,19,0)","v":{"$error":"#REF!"}},{"$f":"IF(#REF!=23,18,0)","v":{"$error":"#REF!"}},{"$f":"IF(#REF!=24,17,0)","v":{"$error":"#REF!"}},{"$f":"IF(#REF!=25,16,0)","v":{"$error":"#REF!"}},{"$f":"IF(#REF!=26,15,0)","v":{"$error":"#REF!"}},{"$f":"IF(#REF!=27,14,0)","v":{"$error":"#REF!"}},{"$f":"IF(#REF!=28,13,0)","v":{"$error":"#REF!"}},{"$f":"IF(#REF!=29,12,0)","v":{"$error":"#REF!"}},{"$f":"IF(#REF!=30,11,0)","v":{"$error":"#REF!"}},{"$f":"IF(#REF!=31,10,0)","v":{"$error":"#REF!"}},{"$f":"IF(#REF!=32,9,0)","v":{"$error":"#REF!"}},{"$f":"IF(#REF!=33,8,0)","v":{"$error":"#REF!"}},{"$f":"IF(#REF!=34,7,0)","v":{"$error":"#REF!"}},{"$f":"IF(#REF!=35,6,0)","v":{"$error":"#REF!"}},{"$f":"IF(#REF!=36,5,0)","v":{"$error":"#REF!"}},{"$f":"IF(#REF!=37,4,0)","v":{"$error":"#REF!"}},{"$f":"IF(#REF!=38,3,0)","v":{"$error":"#REF!"}},{"$f":"IF(#REF!=39,2,0)","v":{"$error":"#REF!"}},{"$f":"IF(#REF!=40,1,0)","v":{"$error":"#REF!"}},{"$f":"IF(#REF!>20,0,0)","v":{"$error":"#REF!"}},{"$f":"IF(#REF!=\"сх\",0,0)","v":{"$error":"#REF!"}},{"$error":"#REF!"},{"$f":"IF(#REF!=1,45,0)","v":{"$error":"#REF!"}},{"$f":"IF(#REF!=2,42,0)","v":{"$error":"#REF!"}},{"$f":"IF(#REF!=3,40,0)","v":{"$error":"#REF!"}},{"$f":"IF(#REF!=4,38,0)","v":{"$error":"#REF!"}},{"$f":"IF(#REF!=5,36,0)","v":{"$error":"#REF!"}},{"$f":"IF(#REF!=6,35,0)","v":{"$error":"#REF!"}},{"$f":"IF(#REF!=7,34,0)","v":{"$error":"#REF!"}},{"$f":"IF(#REF!=8,33,0)","v":{"$error":"#REF!"}},{"$f":"IF(#REF!=9,32,0)","v":{"$error":"#REF!"}},{"$f":"IF(#REF!=10,31,0)","v":{"$error":"#REF!"}},{"$f":"IF(#REF!=11,30,0)","v":{"$error":"#REF!"}},{"$f":"IF(#REF!=12,29,0)","v":{"$error":"#REF!"}},{"$f":"IF(#REF!=13,28,0)","v":{"$error":"#REF!"}},{"$f":"IF(#REF!=14,27,0)","v":{"$error":"#REF!"}},{"$f":"IF(#REF!=15,26,0)","v":{"$error":"#REF!"}},{"$f":"IF(#REF!=16,25,0)","v":{"$error":"#REF!"}},{"$f":"IF(#REF!=17,24,0)","v":{"$error":"#REF!"}},{"$f":"IF(#REF!=18,23,0)","v":{"$error":"#REF!"}},{"$f":"IF(#REF!=19,22,0)","v":{"$error":"#REF!"}},{"$f":"IF(#REF!=20,21,0)","v":{"$error":"#REF!"}},{"$f":"IF(#REF!=21,20,0)","v":{"$error":"#REF!"}},{"$f":"IF(#REF!=22,19,0)","v":{"$error":"#REF!"}},{"$f":"IF(#REF!=23,18,0)","v":{"$error":"#REF!"}},{"$f":"IF(#REF!=24,17,0)","v":{"$error":"#REF!"}},{"$f":"IF(#REF!=25,16,0)","v":{"$error":"#REF!"}},{"$f":"IF(#REF!=26,15,0)","v":{"$error":"#REF!"}},{"$f":"IF(#REF!=27,14,0)","v":{"$error":"#REF!"}},{"$f":"IF(#REF!=28,13,0)","v":{"$error":"#REF!"}},{"$f":"IF(#REF!=29,12,0)","v":{"$error":"#REF!"}},{"$f":"IF(#REF!=30,11,0)","v":{"$error":"#REF!"}},{"$f":"IF(#REF!=31,10,0)","v":{"$error":"#REF!"}},{"$f":"IF(#REF!=32,9,0)","v":{"$error":"#REF!"}},{"$f":"IF(#REF!=33,8,0)","v":{"$error":"#REF!"}},{"$f":"IF(#REF!=34,7,0)","v":{"$error":"#REF!"}},{"$f":"IF(#REF!=35,6,0)","v":{"$error":"#REF!"}},{"$f":"IF(#REF!=36,5,0)","v":{"$error":"#REF!"}},{"$f":"IF(#REF!=37,4,0)","v":{"$error":"#REF!"}},{"$f":"IF(#REF!=38,3,0)","v":{"$error":"#REF!"}},{"$f":"IF(#REF!=39,2,0)","v":{"$error":"#REF!"}},{"$f":"IF(#REF!=40,1,0)","v":{"$error":"#REF!"}},{"$f":"IF(#REF!>20,0,0)","v":{"$error":"#REF!"}},{"$f":"IF(#REF!=\"сх\",0,0)","v":{"$error":"#REF!"}},{"$error":"#REF!"},null,{"$f":"IF(#REF!=\"сх\",\"ноль\",IF(#REF!>0,#REF!,\"Ноль\"))","v":{"$error":"#REF!"}},{"$f":"IF(#REF!=\"сх\",\"ноль\",IF(#REF!>0,#REF!,\"Ноль\"))","v":{"$error":"#REF!"}},null,{"$error":"#REF!"},{"$f":"IF(O25=#REF!,IF(#REF!<#REF!,#REF!,FD25),#REF!)","v":{"$error":"#REF!"}},{"$f":"IF(O25=#REF!,IF(#REF!<#REF!,0,1))","v":{"$error":"#REF!"}},{"$f":"IF(AND(EY25>=21,EY25<>0),EY25,IF(O25<#REF!,\"СТОП\",EZ25+FA25))","v":{"$error":"#REF!"}},null,15,16,null,{"$f":"IF(#REF!=1,25,0)","v":{"$error":"#REF!"}},{"$f":"IF(#REF!=2,22,0)","v":{"$error":"#REF!"}},{"$f":"IF(#REF!=3,20,0)","v":{"$error":"#REF!"}},{"$f":"IF(#REF!=4,18,0)","v":{"$error":"#REF!"}},{"$f":"IF(#REF!=5,16,0)","v":{"$error":"#REF!"}},{"$f":"IF(#REF!=6,15,0)","v":{"$error":"#REF!"}},{"$f":"IF(#REF!=7,14,0)","v":{"$error":"#REF!"}},{"$f":"IF(#REF!=8,13,0)","v":{"$error":"#REF!"}},{"$f":"IF(#REF!=9,12,0)","v":{"$error":"#REF!"}},{"$f":"IF(#REF!=10,11,0)","v":{"$error":"#REF!"}},{"$f":"IF(#REF!=11,10,0)","v":{"$error":"#REF!"}},{"$f":"IF(#REF!=12,9,0)","v":{"$error":"#REF!"}},{"$f":"IF(#REF!=13,8,0)","v":{"$error":"#REF!"}},{"$f":"IF(#REF!=14,7,0)","v":{"$error":"#REF!"}},{"$f":"IF(#REF!=15,6,0)","v":{"$error":"#REF!"}},{"$f":"IF(#REF!=16,5,0)","v":{"$error":"#REF!"}},{"$f":"IF(#REF!=17,4,0)","v":{"$error":"#REF!"}},{"$f":"IF(#REF!=18,3,0)","v":{"$error":"#REF!"}},{"$f":"IF(#REF!=19,2,0)","v":{"$error":"#REF!"}},{"$f":"IF(#REF!=20,1,0)","v":{"$error":"#REF!"}},{"$f":"IF(#REF!>20,0,0)","v":{"$error":"#REF!"}},{"$f":"IF(#REF!=\"сх\",0,0)","v":{"$error":"#REF!"}},{"$error":"#REF!"},{"$f":"IF(#REF!=1,25,0)","v":{"$error":"#REF!"}},{"$f":"IF(#REF!=2,22,0)","v":{"$error":"#REF!"}},{"$f":"IF(#REF!=3,20,0)","v":{"$error":"#REF!"}},{"$f":"IF(#REF!=4,18,0)","v":{"$error":"#REF!"}},{"$f":"IF(#REF!=5,16,0)","v":{"$error":"#REF!"}},{"$f":"IF(#REF!=6,15,0)","v":{"$error":"#REF!"}},{"$f":"IF(#REF!=7,14,0)","v":{"$error":"#REF!"}},{"$f":"IF(#REF!=8,13,0)","v":{"$error":"#REF!"}},{"$f":"IF(#REF!=9,12,0)","v":{"$error":"#REF!"}},{"$f":"IF(#REF!=10,11,0)","v":{"$error":"#REF!"}},{"$f":"IF(#REF!=11,10,0)","v":{"$error":"#REF!"}},{"$f":"IF(#REF!=12,9,0)","v":{"$error":"#REF!"}},{"$f":"IF(#REF!=13,8,0)","v":{"$error":"#REF!"}},{"$f":"IF(#REF!=14,7,0)","v":{"$error":"#REF!"}},{"$f":"IF(#REF!=15,6,0)","v":{"$error":"#REF!"}},{"$f":"IF(#REF!=16,5,0)","v":{"$error":"#REF!"}},{"$f":"IF(#REF!=17,4,0)","v":{"$error":"#REF!"}},{"$f":"IF(#REF!=18,3,0)","v":{"$error":"#REF!"}},{"$f":"IF(#REF!=19,2,0)","v":{"$error":"#REF!"}},{"$f":"IF(#REF!=20,1,0)","v":{"$error":"#REF!"}},{"$f":"IF(#REF!>20,0,0)","v":{"$error":"#REF!"}},{"$f":"IF(#REF!=\"сх\",0,0)","v":{"$error":"#REF!"}},{"$error":"#REF!"},{"$f":"IF(#REF!=1,100,0)","v":{"$error":"#REF!"}},{"$f":"IF(#REF!=2,98,0)","v":{"$error":"#REF!"}},{"$f":"IF(#REF!=3,95,0)","v":{"$error":"#REF!"}},{"$f":"IF(#REF!=4,93,0)","v":{"$error":"#REF!"}},{"$f":"IF(#REF!=5,90,0)","v":{"$error":"#REF!"}},{"$f":"IF(#REF!=6,88,0)","v":{"$error":"#REF!"}},{"$f":"IF(#REF!=7,85,0)","v":{"$error":"#REF!"}},{"$f":"IF(#REF!=8,83,0)","v":{"$error":"#REF!"}},{"$f":"IF(#REF!=9,80,0)","v":{"$error":"#REF!"}},{"$f":"IF(#REF!=10,78,0)","v":{"$error":"#REF!"}},{"$f":"IF(#REF!=11,75,0)","v":{"$error":"#REF!"}},{"$f":"IF(#REF!=12,73,0)","v":{"$error":"#REF!"}},{"$f":"IF(#REF!=13,70,0)","v":{"$error":"#REF!"}},{"$f":"IF(#REF!=14,68,0)","v":{"$error":"#REF!"}},{"$f":"IF(#REF!=15,65,0)","v":{"$error":"#REF!"}},{"$f":"IF(#REF!=16,63,0)","v":{"$error":"#REF!"}},{"$f":"IF(#REF!=17,60,0)","v":{"$error":"#REF!"}},{"$f":"IF(#REF!=18,58,0)","v":{"$error":"#REF!"}},{"$f":"IF(#REF!=19,55,0)","v":{"$error":"#REF!"}},{"$f":"IF(#REF!=20,53,0)","v":{"$error":"#REF!"}},{"$f":"IF(#REF!>20,0,0)","v":{"$error":"#REF!"}},{"$f":"IF(#REF!=\"сх\",0,0)","v":{"$error":"#REF!"}},{"$error":"#REF!"},{"$f":"IF(#REF!=1,100,0)","v":{"$error":"#REF!"}},{"$f":"IF(#REF!=2,98,0)","v":{"$error":"#REF!"}},{"$f":"IF(#REF!=3,95,0)","v":{"$error":"#REF!"}},{"$f":"IF(#REF!=4,93,0)","v":{"$error":"#REF!"}},{"$f":"IF(#REF!=5,90,0)","v":{"$error":"#REF!"}},{"$f":"IF(#REF!=6,88,0)","v":{"$error":"#REF!"}},{"$f":"IF(#REF!=7,85,0)","v":{"$error":"#REF!"}},{"$f":"IF(#REF!=8,83,0)","v":{"$error":"#REF!"}},{"$f":"IF(#REF!=9,80,0)","v":{"$error":"#REF!"}},{"$f":"IF(#REF!=10,78,0)","v":{"$error":"#REF!"}},{"$f":"IF(#REF!=11,75,0)","v":{"$error":"#REF!"}},{"$f":"IF(#REF!=12,73,0)","v":{"$error":"#REF!"}},{"$f":"IF(#REF!=13,70,0)","v":{"$error":"#REF!"}},{"$f":"IF(#REF!=14,68,0)","v":{"$error":"#REF!"}},{"$f":"IF(#REF!=15,65,0)","v":{"$error":"#REF!"}},{"$f":"IF(#REF!=16,63,0)","v":{"$error":"#REF!"}},{"$f":"IF(#REF!=17,60,0)","v":{"$error":"#REF!"}},{"$f":"IF(#REF!=18,58,0)","v":{"$error":"#REF!"}},{"$f":"IF(#REF!=19,55,0)","v":{"$error":"#REF!"}},{"$f":"IF(#REF!=20,53,0)","v":{"$error":"#REF!"}},{"$f":"IF(#REF!>20,0,0)","v":{"$error":"#REF!"}},{"$f":"IF(#REF!=\"сх\",0,0)","v":{"$error":"#REF!"}},{"$error":"#REF!"}]
[]
["Главный судья соревнований"]
["судья Всероссийской категории:                                                                                                              А. Б. Стеблинский (г. Тюмень; лицензия МФР А 144)"]
[]
["Главный секретарь соревнований"]
["судья Всероссийской категории:                                                                                              А. Ю. Иванов (г. Москва/лицензия МФР А 105; FIM 11245)"]

{"sheet":"СПОРТ","index":4,"n_rows":22,"n_cols":256,"rows_kept":22,"cut":false,"hidden":false,"merged":[[5,8,5,10],[0,13,3,13],[1,0,1,12],[2,0,2,12],[3,0,3,12],[4,0,4,12],[6,12,8,12],[6,13,8,13],[7,8,8,8],[7,9,8,9],[7,10,8,10],[7,11,8,11],[17,0,17,7],[20,0,20,10],[6,6,8,6],[6,7,8,7],[6,8,6,9],[6,10,6,11],[6,0,8,0],[6,1,8,1],[6,2,8,2],[6,3,8,3],[6,4,8,4],[6,5,8,5]]}
[]
[" Чемпионат МФР по кроссу на снегоходах 2017 года - IV-й этап.   "]
["ПРОТОКОЛ ЛИЧНОГО ЗАЧЕТА",null,null,null,null,null,null,null,null,null,null,null,null,null,null,null,null,null,null,null,null,null,null,null,null,null,null,null,null,null,null,null,null,null,null,null,null,null,null,null,null,null,null,null,null,null,null,null,null,null,null,null,null,null,null,null,null,null,null,null,null,null,null,null,null,null,null,null,null,null,null,null,null,null,null,null,null,null,null,null,null,null,null,null,null,null,null,null,null,null,null,null,null,null,null,null,null,null,null,null,null,null,null,null,null,null,null,null,null,null,null,null,null,null,null,null,null,null,null,null,null,null,null,null,null,null,null,null,null,null,null,null,null,null,null,null,null,null,null,null,null,null,null,null,null,null,null,null,null,null,null,null,null,null,null,null,null,null,null,null,null,null,null,null,null,null,null,null,null,null,null,null,"первый этап"]
["г. Новый Уренгой, Ямало-Ненецкий АО.                                                                                                                                                  31 марта - 02 апреля 2017 года.",null,null,null,null,null,null,null,null,null,null,null,null,null,null,null,null,null,null,null,null,null,null,null,null,null,null,null,null,null,null,null,null,null,null,null,null,null,null,null,null,null,null,null,null,null,null,null,null,null,null,null,null,null,null,null,null,null,null,null,null,null,null,null,null,null,null,null,null,null,null,null,null,null,null,null,null,null,null,null,null,null,null,null,null,null,null,null,null,null,null,null,null,null,null,null,null,null,null,null,null,null,null,null,null,null,null,null,null,null,null,null,null,null,null,null,null,null,null,null,null,null,null,null,null,null,null,null,null,null,null,null,null,null,null,null,null,null,null,null,null,null,null,null,null,null,null,null,null,null,null,null,null,null,null,null,null,null,null,null,null,"первый заезд личные очки",null,null,null,null,null,null,null,null,null,null,null,null,null,null,null,null,null,null,null,null,null,"второй заезд личные очки",null,null,null,null,null,null,null,null,null,null,null,null,null,null,null,null,null,null,null,null,null,null,"Первый заезд командные очки",null,null,null,null,null,null,null,null,null,null,null,null,null,null,null,null,null,null,null,null,null,null,"Второй заезд командные очки"]
["Класс \"Спорт\".",null,null,null,null,null,null,null,null,null,null,null,null,null,null,null,null,null,null,null,null,null,null,null,null,null,null,null,null,null,null,null,null,null,null,null,null,null,null,null,null,null,null,null,null,null,null,null,null,null,null,null,null,null,null,null,null,null,null,null,null,null,null,null,null,null,null,null,null,null,null,null,null,null,null,null,null,null,null,null,null,null,null,null,null,null,null,null,null,null,null,null,null,null,null,null,null,null,null,null,null,null,null,null,null,null,null,null,null,null,null,null,null,null,null,null,null,null,null,null,null,null,null,null,null,null,null,null,null,null,null,null,null,null,null,null,null,null,null,null,null,null,null,null,null,null,null,null,null,null,null,null,null,null,null,null,null,null,null,null,1,2,3,4,5,6,7,8,9,10,11,12,13,14,15,16,17,18,19,20,21,"сх","Sym",1,2,3,4,5,6,7,8,9,10,11,12,13,14,15,16,17,18,19,20,21,"cx","sym",1,2,3,4,5,6,7,8,9,10,11,12,13,14,15,16,17,18,19,20,21,"сх","очки",1,2,3,4,5,6,7,8,9,10,11,12,13,14,15,16,17,18,19,20,21,"сх","очки",{"$f":"COUNT(FE5:IR5)","v":84},"Н. Стро","В. стро","место"]
[]
["Место ","РЕЙТИНГОВЫЕ ОЧКИ Коэф. 0,5","Ст. №","Фамилия","Разряд","Город (край, район, область)","Команда","Марка снегохода","1-й заезд",null,"2-й заезд",null,"Сумма очков              в личном зачете","Сумма очк. в командном зачете"]
[null,null,null,null,null,null,null,null,"место","лич. очки","место","лич. очки",null,null,null,null,null,"первый заезд личные очки",null,null,null,null,null,null,null,null,null,null,null,null,null,null,null,null,null,null,null,null,null,"второй заезд личные очки",null,null,null,null,null,null,null,null,null,null,null,null,null,null,null,null,null,null,null,null,null,null,"Первый заезд командные очки",null,null,null,null,null,null,null,null,null,null,null,null,null,null,null,null,null,null,null,null,null,null,null,null,null,null,null,null,null,null,null,null,null,null,null,null,null,null,null,null,null,null,"Второй заезд командные очки",null,null,null,null,null,null,null,null,null,null,null,null,null,null,null,null,null,null,null,null,null,null,null,null,null,null,null,null,null,null,null,null,null,null,null,null,null,null,null,null,null,null,null,1,2,null,null,null,null,null,null,null,null,null,null,null,null,null,null,null,null,null,null,null,null,null,"первый этап"]
[null,null,null,null,null,null,null,null,null,null,null,null,null,null,null,null,1,2,3,4,5,6,7,8,9,10,11,12,13,14,15,16,17,18,19,20,21,"сх",null,1,2,3,4,5,6,7,8,9,10,11,12,13,14,15,16,17,18,19,20,null,"cx",null,1,2,3,4,5,6,7,8,9,10,11,12,13,14,15,16,17,18,19,20,21,22,23,24,25,26,27,28,29,30,31,32,33,34,35,36,37,38,39,40,null,null,null,1,2,3,4,5,6,7,8,9,10,11,12,13,14,15,16,17,18,19,20,21,22,23,24,25,26,27,28,29,30,31,32,33,34,35,36,37,38,39,40,null,null,null,null,null,null,null,"мин","Н. Стро","В. стро","место",null,"чр1","чр2",null,null,"первый заезд личные очки",null,null,null,null,null,null,null,null,null,null,null,null,null,null,null,null,null,null,null,null,null,"второй заезд личные очки",null,null,null,null,null,null,null,null,null,null,null,null,null,null,null,null,null,null,null,null,null,null,"Первый заезд командные очки",null,null,null,null,null,null,null,null,null,null,null,null,null,null,null,null,null,null,null,null,null,null,"Второй заезд командные очки"]
[1,25,117,"Красников Николай","змс","г. Уфа, Республика Башкортостан","ЦТВС \"Имени Г. Кадырова\"","LYNX",1,25,1,25,{"$f":"SUM(J10+L10)","v":50},{"$f":"#REF!+#REF!","v":{"$error":"#REF!"}},null,null,{"$f":"IF(#REF!=1,25,0)","v":{"$error":"#REF!"}},{"$f":"IF(#REF!=2,22,0)","v":{"$error":"#REF!"}},{"$f":"IF(#REF!=3,20,0)","v":{"$error":"#REF!"}},{"$f":"IF(#REF!=4,18,0)","v":{"$error":"#REF!"}},{"$f":"IF(#REF!=5,16,0)","v":{"$error":"#REF!"}},{"$f":"IF(#REF!=6,15,0)","v":{"$error":"#REF!"}},{"$f":"IF(#REF!=7,14,0)","v":{"$error":"#REF!"}},{"$f":"IF(#REF!=8,13,0)","v":{"$error":"#REF!"}},{"$f":"IF(#REF!=9,12,0)","v":{"$error":"#REF!"}},{"$f":"IF(#REF!=10,11,0)","v":{"$error":"#REF!"}},{"$f":"IF(#REF!=11,10,0)","v":{"$error":"#REF!"}},{"$f":"IF(#REF!=12,9,0)","v":{"$error":"#REF!"}},{"$f":"IF(#REF!=13,8,0)","v":{"$error":"#REF!"}},{"$f":"IF(#REF!=14,7,0)","v":{"$error":"#REF!"}},{"$f":"IF(#REF!=15,6,0)","v":{"$error":"#REF!"}},{"$f":"IF(#REF!=16,5,0)","v":{"$error":"#REF!"}},{"$f":"IF(#REF!=17,4,0)","v":{"$error":"#REF!"}},{"$f":"IF(#REF!=18,3,0)","v":{"$error":"#REF!"}},{"$f":"IF(#REF!=19,2,0)","v":{"$error":"#REF!"}},{"$f":"IF(#REF!=20,1,0)","v":{"$error":"#REF!"}},{"$f":"IF(#REF!>20,0,0)","v":{"$error":"#REF!"}},{"$f":"IF(#REF!=\"сх\",0,0)","v":{"$error":"#REF!"}},{"$f":"SUM(Q10:AK10)","v":{"$error":"#REF!"}},{"$f":"IF(#REF!=1,25,0)","v":{"$error":"#REF!"}},{"$f":"IF(#REF!=2,22,0)","v":{"$error":"#REF!"}},{"$f":"IF(#REF!=3,20,0)","v":{"$error":"#REF!"}},{"$f":"IF(#REF!=4,18,0)","v":{"$error":"#REF!"}},{"$f":"IF(#REF!=5,16,0)","v":{"$error":"#REF!"}},{"$f":"IF(#REF!=6,15,0)","v":{"$error":"#REF!"}},{"$f":"IF(#REF!=7,14,0)","v":{"$error":"#REF!"}},{"$f":"IF(#REF!=8,13,0)","v":{"$error":"#REF!"}},{"$f":"IF(#REF!=9,12,0)","v":{"$error":"#REF!"}},{"$f":"IF(#REF!=10,11,0)","v":{"$error":"#REF!"}},{"$f":"IF(#REF!=11,10,0)","v":{"$error":"#REF!"}},{"$f":"IF(#REF!=12,9,0)","v":{"$error":"#REF!"}},{"$f":"IF(#REF!=13,8,0)","v":{"$error":"#REF!"}},{"$f":"IF(#REF!=14,7,0)","v":{"$error":"#REF!"}},{"$f":"IF(#REF!=15,6,0)","v":{"$error":"#REF!"}},{"$f":"IF(#REF!=16,5,0)","v":{"$error":"#REF!"}},{"$f":"IF(#REF!=17,4,0)","v":{"$error":"#REF!"}},{"$f":"IF(#REF!=18,3,0)","v":{"$error":"#REF!"}},{"$f":"IF(#REF!=19,2,0)","v":{"$error":"#REF!"}},{"$f":"IF(#REF!=20,1,0)","v":{"$error":"#REF!"}},{"$f":"IF(#REF!>20,0,0)","v":{"$error":"#REF!"}},{"$f":"IF(#REF!=\"сх\",0,0)","v":{"$error":"#REF!"}},{"$f":"SUM(AN10:BH10)","v":{"$error":"#REF!"}},{"$f":"IF(#REF!=1,45,0)","v":{"$error":"#REF!"}},{"$f":"IF(#REF!=2,42,0)","v":{"$error":"#REF!"}},{"$f":"IF(#REF!=3,40,0)","v":{"$error":"#REF!"}},{"$f":"IF(#REF!=4,38,0)","v":{"$error":"#REF!"}},{"$f":"IF(#REF!=5,36,0)","v":{"$error":"#REF!"}},{"$f":"IF(#REF!=6,35,0)","v":{"$error":"#REF!"}},{"$f":"IF(#REF!=7,34,0)","v":{"$error":"#REF!"}},{"$f":"IF(#REF!=8,33,0)","v":{"$error":"#REF!"}},{"$f":"IF(#REF!=9,32,0)","v":{"$error":"#REF!"}},{"$f":"IF(#REF!=10,31,0)","v":{"$error":"#REF!"}},{"$f":"IF(#REF!=11,30,0)","v":{"$error":"#REF!"}},{"$f":"IF(#REF!=12,29,0)","v":{"$error":"#REF!"}},{"$f":"IF(#REF!=13,28,0)","v":{"$error":"#REF!"}},{"$f":"IF(#REF!=14,27,0)","v":{"$error":"#REF!"}},{"$f":"IF(#REF!=15,26,0)","v":{"$error":"#REF!"}},{"$f":"IF(#REF!=16,25,0)","v":{"$error":"#REF!"}},{"$f":"IF(#REF!=17,24,0)","v":{"$error":"#REF!"}},{"$f":"IF(#REF!=18,23,0)","v":{"$error":"#REF!"}},{"$f":"IF(#REF!=19,22,0)","v":{"$error":"#REF!"}},{"$f":"IF(#REF!=20,21,0)","v":{"$error":"#REF!"}},{"$f":"IF(#REF!=21,20,0)","v":{"$error":"#REF!"}},{"$f":"IF(#REF!=22,19,0)","v":{"$error":"#REF!"}},{"$f":"IF(#REF!=23,18,0)","v":{"$error":"#REF!"}},{"$f":"IF(#REF!=24,17,0)","v":{"$error":"#REF!"}},{"$f":"IF(#REF!=25,16,0)","v":{"$error":"#REF!"}},{"$f":"IF(#REF!=26,15,0)","v":{"$error":"#REF!"}},{"$f":"IF(#REF!=27,14,0)","v":{"$error":"#REF!"}},{"$f":"IF(#REF!=28,13,0)","v":{"$error":"#REF!"}},{"$f":"IF(#REF!=29,12,0)","v":{"$error":"#REF!"}},{"$f":"IF(#REF!=30,11,0)","v":{"$error":"#REF!"}},{"$f":"IF(#REF!=31,10,0)","v":{"$error":"#REF!"}},{"$f":"IF(#REF!=32,9,0)","v":{"$error":"#REF!"}},{"$f":"IF(#REF!=33,8,0)","v":{"$error":"#REF!"}},{"$f":"IF(#REF!=34,7,0)","v":{"$error":"#REF!"}},{"$f":"IF(#REF!=35,6,0)","v":{"$error":"#REF!"}},{"$f":"IF(#REF!=36,5,0)","v":{"$error":"#REF!"}},{"$f":"IF(#REF!=37,4,0)","v":{"$error":"#REF!"}},{"$f":"IF(#REF!=38,3,0)","v":{"$error":"#REF!"}},{"$f":"IF(#REF!=39,2,0)","v":{"$error":"#REF!"}},{"$f":"IF(#REF!=40,1,0)","v":{"$error":"#REF!"}},{"$f":"IF(#REF!>20,0,0)","v":{"$error":"#REF!"}},{"$f":"IF(#REF!=\"сх\",0,0)","v":{"$error":"#REF!"}},{"$f":"SUM(BK10:CZ10)","v":{"$error":"#REF!"}},{"$f":"IF(#REF!=1,45,0)","v":{"$error":"#REF!"}},{"$f":"IF(#REF!=2,42,0)","v":{"$error":"#REF!"}},{"$f":"IF(#REF!=3,40,0)","v":{"$error":"#REF!"}},{"$f":"IF(#REF!=4,38,0)","v":{"$error":"#REF!"}},{"$f":"IF(#REF!=5,36,0)","v":{"$error":"#REF!"}},{"$f":"IF(#REF!=6,35,0)","v":{"$error":"#REF!"}},{"$f":"IF(#REF!=7,34,0)","v":{"$error":"#REF!"}},{"$f":"IF(#REF!=8,33,0)","v":{"$error":"#REF!"}},{"$f":"IF(#REF!=9,32,0)","v":{"$error":"#REF!"}},{"$f":"IF(#REF!=10,31,0)","v":{"$error":"#REF!"}},{"$f":"IF(#REF!=11,30,0)","v":{"$error":"#REF!"}},{"$f":"IF(#REF!=12,29,0)","v":{"$error":"#REF!"}},{"$f":"IF(#REF!=13,28,0)","v":{"$error":"#REF!"}},{"$f":"IF(#REF!=14,27,0)","v":{"$error":"#REF!"}},{"$f":"IF(#REF!=15,26,0)","v":{"$error":"#REF!"}},{"$f":"IF(#REF!=16,25,0)","v":{"$error":"#REF!"}},{"$f":"IF(#REF!=17,24,0)","v":{"$error":"#REF!"}},{"$f":"IF(#REF!=18,23,0)","v":{"$error":"#REF!"}},{"$f":"IF(#REF!=19,22,0)","v":{"$error":"#REF!"}},{"$f":"IF(#REF!=20,21,0)","v":{"$error":"#REF!"}},{"$f":"IF(#REF!=21,20,0)","v":{"$error":"#REF!"}},{"$f":"IF(#REF!=22,19,0)","v":{"$error":"#REF!"}},{"$f":"IF(#REF!=23,18,0)","v":{"$error":"#REF!"}},{"$f":"IF(#REF!=24,17,0)","v":{"$error":"#REF!"}},{"$f":"IF(#REF!=25,16,0)","v":{"$error":"#REF!"}},{"$f":"IF(#REF!=26,15,0)","v":{"$error":"#REF!"}},{"$f":"IF(#REF!=27,14,0)","v":{"$error":"#REF!"}},{"$f":"IF(#REF!=28,13,0)","v":{"$error":"#REF!"}},{"$f":"IF(#REF!=29,12,0)","v":{"$error":"#REF!"}},{"$f":"IF(#REF!=30,11,0)","v":{"$error":"#REF!"}},{"$f":"IF(#REF!=31,10,0)","v":{"$error":"#REF!"}},{"$f":"IF(#REF!=32,9,0)","v":{"$error":"#REF!"}},{"$f":"IF(#REF!=33,8,0)","v":{"$error":"#REF!"}},{"$f":"IF(#REF!=34,7,0)","v":{"$error":"#REF!"}},{"$f":"IF(#REF!=35,6,0)","v":{"$error":"#REF!"}},{"$f":"IF(#REF!=36,5,0)","v":{"$error":"#REF!"}},{"$f":"IF(#REF!=37,4,0)","v":{"$error":"#REF!"}},{"$f":"IF(#REF!=38,3,0)","v":{"$error":"#REF!"}},{"$f":"IF(#REF!=39,2,0)","v":{"$error":"#REF!"}},{"$f":"IF(#REF!=40,1,0)","v":{"$error":"#REF!"}},{"$f":"IF(#REF!>20,0,0)","v":{"$error":"#REF!"}},{"$f":"IF(#REF!=\"сх\",0,0)","v":{"$error":"#REF!"}},{"$f":"SUM(DB10:EQ10)","v":{"$error":"#REF!"}},null,{"$f":"IF(#REF!=\"сх\",\"ноль\",IF(#REF!>0,#REF!,\"Ноль\"))","v":{"$error":"#REF!"}},{"$f":"IF(#REF!=\"сх\",\"ноль\",IF(#REF!>0,#REF!,\"Ноль\"))","v":{"$error":"#REF!"}},null,{"$f":"MIN(ET10,EU10)","v":{"$error":"#REF!"}},{"$f":"IF(M10=#REF!,IF(#REF!<#REF!,#REF!,FB10),#REF!)","v":{"$error":"#REF!"}},{"$f":"IF(M10=#REF!,IF(#REF!<#REF!,0,1))","v":{"$error":"#REF!"}},{"$f":"IF(AND(EW10>=21,EW10<>0),EW10,IF(M10<#REF!,\"СТОП\",EX10+EY10))","v":{"$error":"#REF!"}},null,15,16,null,{"$f":"IF(#REF!=1,25,0)","v":{"$error":"#REF!"}},{"$f":"IF(#REF!=2,22,0)","v":{"$error":"#REF!"}},{"$f":"IF(#REF!=3,20,0)","v":{"$error":"#REF!"}},{"$f":"IF(#REF!=4,18,0)","v":{"$error":"#REF!"}},{"$f":"IF(#REF!=5,16,0)","v":{"$error":"#REF!"}},{"$f":"IF(#REF!=6,15,0)","v":{"$error":"#REF!"}},{"$f":"IF(#REF!=7,14,0)","v":{"$error":"#REF!"}},{"$f":"IF(#REF!=8,13,0)","v":{"$error":"#REF!"}},{"$f":"IF(#REF!=9,12,0)","v":{"$error":"#REF!"}},{"$f":"IF(#REF!=10,11,0)","v":{"$error":"#REF!"}},{"$f":"IF(#REF!=11,10,0)","v":{"$error":"#REF!"}},{"$f":"IF(#REF!=12,9,0)","v":{"$error":"#REF!"}},{"$f":"IF(#REF!=13,8,0)","v":{"$error":"#REF!"}},{"$f":"IF(#REF!=14,7,0)","v":{"$error":"#REF!"}},{"$f":"IF(#REF!=15,6,0)","v":{"$error":"#REF!"}},{"$f":"IF(#REF!=16,5,0)","v":{"$error":"#REF!"}},{"$f":"IF(#REF!=17,4,0)","v":{"$error":"#REF!"}},{"$f":"IF(#REF!=18,3,0)","v":{"$error":"#REF!"}},{"$f":"IF(#REF!=19,2,0)","v":{"$error":"#REF!"}},{"$f":"IF(#REF!=20,1,0)","v":{"$error":"#REF!"}},{"$f":"IF(#REF!>20,0,0)","v":{"$error":"#REF!"}},{"$f":"IF(#REF!=\"сх\",0,0)","v":{"$error":"#REF!"}},{"$f":"SUM(FE10:FZ10)","v":{"$error":"#REF!"}},{"$f":"IF(#REF!=1,25,0)","v":{"$error":"#REF!"}},{"$f":"IF(#REF!=2,22,0)","v":{"$error":"#REF!"}},{"$f":"IF(#REF!=3,20,0)","v":{"$error":"#REF!"}},{"$f":"IF(#REF!=4,18,0)","v":{"$error":"#REF!"}},{"$f":"IF(#REF!=5,16,0)","v":{"$error":"#REF!"}},{"$f":"IF(#REF!=6,15,0)","v":{"$error":"#REF!"}},{"$f":"IF(#REF!=7,14,0)","v":{"$error":"#REF!"}},{"$f":"IF(#REF!=8,13,0)","v":{"$error":"#REF!"}},{"$f":"IF(#REF!=9,12,0)","v":{"$error":"#REF!"}},{"$f":"IF(#REF!=10,11,0)","v":{"$error":"#REF!"}},{"$f":"IF(#REF!=11,10,0)","v":{"$error":"#REF!"}},{"$f":"IF(#REF!=12,9,0)","v":{"$error":"#REF!"}},{"$f":"IF(#REF!=13,8,0)","v":{"$error":"#REF!"}},{"$f":"IF(#REF!=14,7,0)","v":{"$error":"#REF!"}},{"$f":"IF(#REF!=15,6,0)","v":{"$error":"#REF!"}},{"$f":"IF(#REF!=16,5,0)","v":{"$error":"#REF!"}},{"$f":"IF(#REF!=17,4,0)","v":{"$error":"#REF!"}},{"$f":"IF(#REF!=18,3,0)","v":{"$error":"#REF!"}},{"$f":"IF(#REF!=19,2,0)","v":{"$error":"#REF!"}},{"$f":"IF(#REF!=20,1,0)","v":{"$error":"#REF!"}},{"$f":"IF(#REF!>20,0,0)","v":{"$error":"#REF!"}},{"$f":"IF(#REF!=\"сх\",0,0)","v":{"$error":"#REF!"}},{"$f":"SUM(GB10:GW10)","v":{"$error":"#REF!"}},{"$f":"IF(#REF!=1,100,0)","v":{"$error":"#REF!"}},{"$f":"IF(#REF!=2,98,0)","v":{"$error":"#REF!"}},{"$f":"IF(#REF!=3,95,0)","v":{"$error":"#REF!"}},{"$f":"IF(#REF!=4,93,0)","v":{"$error":"#REF!"}},{"$f":"IF(#REF!=5,90,0)","v":{"$error":"#REF!"}},{"$f":"IF(#REF!=6,88,0)","v":{"$error":"#REF!"}},{"$f":"IF(#REF!=7,85,0)","v":{"$error":"#REF!"}},{"$f":"IF(#REF!=8,83,0)","v":{"$error":"#REF!"}},{"$f":"IF(#REF!=9,80,0)","v":{"$error":"#REF!"}},{"$f":"IF(#REF!=10,78,0)","v":{"$error":"#REF!"}},{"$f":"IF(#REF!=11,75,0)","v":{"$error":"#REF!"}},{"$f":"IF(#REF!=12,73,0)","v":{"$error":"#REF!"}},{"$f":"IF(#REF!=13,70,0)","v":{"$error":"#REF!"}},{"$f":"IF(#REF!=14,68,0)","v":{"$error":"#REF!"}},{"$f":"IF(#REF!=15,65,0)","v":{"$error":"#REF!"}},{"$f":"IF(#REF!=16,63,0)","v":{"$error":"#REF!"}},{"$f":"IF(#REF!=17,60,0)","v":{"$error":"#REF!"}},{"$f":"IF(#REF!=18,58,0)","v":{"$error":"#REF!"}},{"$f":"IF(#REF!=19,55,0)","v":{"$error":"#REF!"}},{"$f":"IF(#REF!=20,53,0)","v":{"$error":"#REF!"}},{"$f":"IF(#REF!>20,0,0)","v":{"$error":"#REF!"}},{"$f":"IF(#REF!=\"сх\",0,0)","v":{"$error":"#REF!"}},{"$f":"SUM(GY10:HT10)","v":{"$error":"#REF!"}},{"$f":"IF(#REF!=1,100,0)","v":{"$error":"#REF!"}},{"$f":"IF(#REF!=2,98,0)","v":{"$error":"#REF!"}},{"$f":"IF(#REF!=3,95,0)","v":{"$error":"#REF!"}},{"$f":"IF(#REF!=4,93,0)","v":{"$error":"#REF!"}},{"$f":"IF(#REF!=5,90,0)","v":{"$error":"#REF!"}},{"$f":"IF(#REF!=6,88,0)","v":{"$error":"#REF!"}},{"$f":"IF(#REF!=7,85,0)","v":{"$error":"#REF!"}},{"$f":"IF(#REF!=8,83,0)","v":{"$error":"#REF!"}},{"$f":"IF(#REF!=9,80,0)","v":{"$error":"#REF!"}},{"$f":"IF(#REF!=10,78,0)","v":{"$error":"#REF!"}},{"$f":"IF(#REF!=11,75,0)","v":{"$error":"#REF!"}},{"$f":"IF(#REF!=12,73,0)","v":{"$error":"#REF!"}},{"$f":"IF(#REF!=13,70,0)","v":{"$error":"#REF!"}},{"$f":"IF(#REF!=14,68,0)","v":{"$error":"#REF!"}},{"$f":"IF(#REF!=15,65,0)","v":{"$error":"#REF!"}},{"$f":"IF(#REF!=16,63,0)","v":{"$error":"#REF!"}},{"$f":"IF(#REF!=17,60,0)","v":{"$error":"#REF!"}},{"$f":"IF(#REF!=18,58,0)","v":{"$error":"#REF!"}},{"$f":"IF(#REF!=19,55,0)","v":{"$error":"#REF!"}},{"$f":"IF(#REF!=20,53,0)","v":{"$error":"#REF!"}},{"$f":"IF(#REF!>20,0,0)","v":{"$error":"#REF!"}},{"$f":"IF(#REF!=\"сх\",0,0)","v":{"$error":"#REF!"}},{"$f":"SUM(HV10:IQ10)","v":{"$error":"#REF!"}}]
[2,24,10,"Караченцев Владимир","б/р","г. Новый Уренгой, Ямало-Ненецкий АО","СТК \"Ямбург\"","LYNX",4,18,2,22,40,{"$f":"#REF!+#REF!","v":{"$error":"#REF!"}},null,null,{"$f":"IF(#REF!=1,25,0)","v":{"$error":"#REF!"}},{"$f":"IF(#REF!=2,22,0)","v":{"$error":"#REF!"}},{"$f":"IF(#REF!=3,20,0)","v":{"$error":"#REF!"}},{"$f":"IF(#REF!=4,18,0)","v":{"$error":"#REF!"}},{"$f":"IF(#REF!=5,16,0)","v":{"$error":"#REF!"}},{"$f":"IF(#REF!=6,15,0)","v":{"$error":"#REF!"}},{"$f":"IF(#REF!=7,14,0)","v":{"$error":"#REF!"}},{"$f":"IF(#REF!=8,13,0)","v":{"$error":"#REF!"}},{"$f":"IF(#REF!=9,12,0)","v":{"$error":"#REF!"}},{"$f":"IF(#REF!=10,11,0)","v":{"$error":"#REF!"}},{"$f":"IF(#REF!=11,10,0)","v":{"$error":"#REF!"}},{"$f":"IF(#REF!=12,9,0)","v":{"$error":"#REF!"}},{"$f":"IF(#REF!=13,8,0)","v":{"$error":"#REF!"}},{"$f":"IF(#REF!=14,7,0)","v":{"$error":"#REF!"}},{"$f":"IF(#REF!=15,6,0)","v":{"$error":"#REF!"}},{"$f":"IF(#REF!=16,5,0)","v":{"$error":"#REF!"}},{"$f":"IF(#REF!=17,4,0)","v":{"$error":"#REF!"}},{"$f":"IF(#REF!=18,3,0)","v":{"$error":"#REF!"}},{"$f":"IF(#REF!=19,2,0)","v":{"$error":"#REF!"}},{"$f":"IF(#REF!=20,1,0)","v":{"$error":"#REF!"}},{"$f":"IF(#REF!>20,0,0)","v":{"$error":"#REF!"}},{"$f":"IF(#REF!=\"сх\",0,0)","v":{"$error":"#REF!"}},{"$error":"#REF!"},{"$f":"IF(#REF!=1,25,0)","v":{"$error":"#REF!"}},{"$f":"IF(#REF!=2,22,0)","v":{"$error":"#REF!"}},{"$f":"IF(#REF!=3,20,0)","v":{"$error":"#REF!"}},{"$f":"IF(#REF!=4,18,0)","v":{"$error":"#REF!"}},{"$f":"IF(#REF!=5,16,0)","v":{"$error":"#REF!"}},{"$f":"IF(#REF!=6,15,0)","v":{"$error":"#REF!"}},{"$f":"IF(#REF!=7,14,0)","v":{"$error":"#REF!"}},{"$f":"IF(#REF!=8,13,0)","v":{"$error":"#REF!"}},{"$f":"IF(#REF!=9,12,0)","v":{"$error":"#REF!"}},{"$f":"IF(#REF!=10,11,0)","v":{"$error":"#REF!"}},{"$f":"IF(#REF!=11,10,0)","v":{"$error":"#REF!"}},{"$f":"IF(#REF!=12,9,0)","v":{"$error":"#REF!"}},{"$f":"IF(#REF!=13,8,0)","v":{"$error":"#REF!"}},{"$f":"IF(#REF!=14,7,0)","v":{"$error":"#REF!"}},{"$f":"IF(#REF!=15,6,0)","v":{"$error":"#REF!"}},{"$f":"IF(#REF!=16,5,0)","v":{"$error":"#REF!"}},{"$f":"IF(#REF!=17,4,0)","v":{"$error":"#REF!"}},{"$f":"IF(#REF!=18,3,0)","v":{"$error":"#REF!"}},{"$f":"IF(#REF!=19,2,0)","v":{"$error":"#REF!"}},{"$f":"IF(#REF!=20,1,0)","v":{"$error":"#REF!"}},{"$f":"IF(#REF!>20,0,0)","v":{"$error":"#REF!"}},{"$f":"IF(#REF!=\"сх\",0,0)","v":{"$error":"#REF!"}},{"$error":"#REF!"},{"$f":"IF(#REF!=1,45,0)","v":{"$error":"#REF!"}},{"$f":"IF(#REF!=2,42,0)","v":{"$error":"#REF!"}},{"$f":"IF(#REF!=3,40,0)","v":{"$error":"#REF!"}},{"$f":"IF(#REF!=4,38,0)","v":{"$error":"#REF!"}},{"$f":"IF(#REF!=5,36,0)","v":{"$error":"#REF!"}},{"$f":"IF(#REF!=6,35,0)","v":{"$error":"#REF!"}},{"$f":"IF(#REF!=7,34,0)","v":{"$error":"#REF!"}},{"$f":"IF(#REF!=8,33,0)","v":{"$error":"#REF!"}},{"$f":"IF(#REF!=9,32,0)","v":{"$error":"#REF!"}},{"$f":"IF(#REF!=10,31,0)","v":{"$error":"#REF!"}},{"$f":"IF(#REF!=11,30,0)","v":{"$error":"#REF!"}},{"$f":"IF(#REF!=12,29,0)","v":{"$error":"#REF!"}},{"$f":"IF(#REF!=13,28,0)","v":{"$error":"#REF!"}},{"$f":"IF(#REF!=14,27,0)","v":{"$error":"#REF!"}},{"$f":"IF(#REF!=15,26,0)","v":{"$error":"#REF!"}},{"$f":"IF(#REF!=16,25,0)","v":{"$error":"#REF!"}},{"$f":"IF(#REF!=17,24,0)","v":{"$error":"#REF!"}},{"$f":"IF(#REF!=18,23,0)","v":{"$error":"#REF!"}},{"$f":"IF(#REF!=19,22,0)","v":{"$error":"#REF!"}},{"$f":"IF(#REF!=20,21,0)","v":{"$error":"#REF!"}},{"$f":"IF(#REF!=21,20,0)","v":{"$error":"#REF!"}},{"$f":"IF(#REF!=22,19,0)","v":{"$error":"#REF!"}},{"$f":"IF(#REF!=23,18,0)","v":{"$error":"#REF!"}},{"$f":"IF(#REF!=24,17,0)","v":{"$error":"#REF!"}},{"$f":"IF(#REF!=25,16,0)","v":{"$error":"#REF!"}},{"$f":"IF(#REF!=26,15,0)","v":{"$error":"#REF!"}},{"$f":"IF(#REF!=27,14,0)","v":{"$error":"#REF!"}},{"$f":"IF(#REF!=28,13,0)","v":{"$error":"#REF!"}},{"$f":"IF(#REF!=29,12,0)","v":{"$error":"#REF!"}},{"$f":"IF(#REF!=30,11,0)","v":{"$error":"#REF!"}},{"$f":"IF(#REF!=31,10,0)","v":{"$error":"#REF!"}},{"$f":"IF(#REF!=32,9,0)","v":{"$error":"#REF!"}},{"$f":"IF(#REF!=33,8,0)","v":{"$error":"#REF!"}},{"$f":"IF(#REF!=34,7,0)","v":{"$error":"#REF!"}},{"$f":"IF(#REF!=35,6,0)","v":{"$error":"#REF!"}},{"$f":"IF(#REF!=36,5,0)","v":{"$error":"#REF!"}},{"$f":"IF(#REF!=37,4,0)","v":{"$error":"#REF!"}},{"$f":"IF(#REF!=38,3,0)","v":{"$error":"#REF!"}},{"$f":"IF(#REF!=39,2,0)","v":{"$error":"#REF!"}},{"$f":"IF(#REF!=40,1,0)","v":{"$error":"#REF!"}},{"$f":"IF(#REF!>20,0,0)","v":{"$error":"#REF!"}},{"$f":"IF(#REF!=\"сх\",0,0)","v":{"$error":"#REF!"}},{"$error":"#REF!"},{"$f":"IF(#REF!=1,45,0)","v":{"$error":"#REF!"}},{"$f":"IF(#REF!=2,42,0)","v":{"$error":"#REF!"}},{"$f":"IF(#REF!=3,40,0)","v":{"$error":"#REF!"}},{"$f":"IF(#REF!=4,38,0)","v":{"$error":"#REF!"}},{"$f":"IF(#REF!=5,36,0)","v":{"$error":"#REF!"}},{"$f":"IF(#REF!=6,35,0)","v":{"$error":"#REF!"}},{"$f":"IF(#REF!=7,34,0)","v":{"$error":"#REF!"}},{"$f":"IF(#REF!=8,33,0)","v":{"$error":"#REF!"}},{"$f":"IF(#REF!=9,32,0)","v":{"$error":"#REF!"}},{"$f":"IF(#REF!=10,31,0)","v":{"$error":"#REF!"}},{"$f":"IF(#REF!=11,30,0)","v":{"$error":"#REF!"}},{"$f":"IF(#REF!=12,29,0)","v":{"$error":"#REF!"}},{"$f":"IF(#REF!=13,28,0)","v":{"$error":"#REF!"}},{"$f":"IF(#REF!=14,27,0)","v":{"$error":"#REF!"}},{"$f":"IF(#REF!=15,26,0)","v":{"$error":"#REF!"}},{"$f":"IF(#REF!=16,25,0)","v":{"$error":"#REF!"}},{"$f":"IF(#REF!=17,24,0)","v":{"$error":"#REF!"}},{"$f":"IF(#REF!=18,23,0)","v":{"$error":"#REF!"}},{"$f":"IF(#REF!=19,22,0)","v":{"$error":"#REF!"}},{"$f":"IF(#REF!=20,21,0)","v":{"$error":"#REF!"}},{"$f":"IF(#REF!=21,20,0)","v":{"$error":"#REF!"}},{"$f":"IF(#REF!=22,19,0)","v":{"$error":"#REF!"}},{"$f":"IF(#REF!=23,18,0)","v":{"$error":"#REF!"}},{"$f":"IF(#REF!=24,17,0)","v":{"$error":"#REF!"}},{"$f":"IF(#REF!=25,16,0)","v":{"$error":"#REF!"}},{"$f":"IF(#REF!=26,15,0)","v":{"$error":"#REF!"}},{"$f":"IF(#REF!=27,14,0)","v":{"$error":"#REF!"}},{"$f":"IF(#REF!=28,13,0)","v":{"$error":"#REF!"}},{"$f":"IF(#REF!=29,12,0)","v":{"$error":"#REF!"}},{"$f":"IF(#REF!=30,11,0)","v":{"$error":"#REF!"}},{"$f":"IF(#REF!=31,10,0)","v":{"$error":"#REF!"}},{"$f":"IF(#REF!=32,9,0)","v":{"$error":"#REF!"}},{"$f":"IF(#REF!=33,8,0)","v":{"$error":"#REF!"}},{"$f":"IF(#REF!=34,7,0)","v":{"$error":"#REF!"}},{"$f":"IF(#REF!=35,6,0)","v":{"$error":"#REF!"}},{"$f":"IF(#REF!=36,5,0)","v":{"$error":"#REF!"}},{"$f":"IF(#REF!=37,4,0)","v":{"$error":"#REF!"}},{"$f":"IF(#REF!=38,3,0)","v":{"$error":"#REF!"}},{"$f":"IF(#REF!=39,2,0)","v":{"$error":"#REF!"}},{"$f":"IF(#REF!=40,1,0)","v":{"$error":"#REF!"}},{"$f":"IF(#REF!>20,0,0)","v":{"$error":"#REF!"}},{"$f":"IF(#REF!=\"сх\",0,0)","v":{"$error":"#REF!"}},{"$error":"#REF!"},null,{"$f":"IF(#REF!=\"сх\",\"ноль\",IF(#REF!>0,#REF!,\"Ноль\"))","v":{"$error":"#REF!"}},{"$f":"IF(#REF!=\"сх\",\"ноль\",IF(#REF!>0,#REF!,\"Ноль\"))","v":{"$error":"#REF!"}},null,{"$error":"#REF!"},{"$f":"IF(M11=#REF!,IF(#REF!<#REF!,#REF!,FB11),#REF!)","v":{"$error":"#REF!"}},{"$f":"IF(M11=#REF!,IF(#REF!<#REF!,0,1))","v":{"$error":"#REF!"}},{"$f":"IF(AND(EW11>=21,EW11<>0),EW11,IF(M11<#REF!,\"СТОП\",EX11+EY11))","v":{"$error":"#REF!"}},null,15,16,null,{"$f":"IF(#REF!=1,25,0)","v":{"$error":"#REF!"}},{"$f":"IF(#REF!=2,22,0)","v":{"$error":"#REF!"}},{"$f":"IF(#REF!=3,20,0)","v":{"$error":"#REF!"}},{"$f":"IF(#REF!=4,18,0)","v":{"$error":"#REF!"}},{"$f":"IF(#REF!=5,16,0)","v":{"$error":"#REF!"}},{"$f":"IF(#REF!=6,15,0)","v":{"$error":"#REF!"}},{"$f":"IF(#REF!=7,14,0)","v":{"$error":"#REF!"}},{"$f":"IF(#REF!=8,13,0)","v":{"$error":"#REF!"}},{"$f":"IF(#REF!=9,12,0)","v":{"$error":"#REF!"}},{"$f":"IF(#REF!=10,11,0)","v":{"$error":"#REF!"}},{"$f":"IF(#REF!=11,10,0)","v":{"$error":"#REF!"}},{"$f":"IF(#REF!=12,9,0)","v":{"$error":"#REF!"}},{"$f":"IF(#REF!=13,8,0)","v":{"$error":"#REF!"}},{"$f":"IF(#REF!=14,7,0)","v":{"$error":"#REF!"}},{"$f":"IF(#REF!=15,6,0)","v":{"$error":"#REF!"}},{"$f":"IF(#REF!=16,5,0)","v":{"$error":"#REF!"}},{"$f":"IF(#REF!=17,4,0)","v":{"$error":"#REF!"}},{"$f":"IF(#REF!=18,3,0)","v":{"$error":"#REF!"}},{"$f":"IF(#REF!=19,2,0)","v":{"$error":"#REF!"}},{"$f":"IF(#REF!=20,1,0)","v":{"$error":"#REF!"}},{"$f":"IF(#REF!>20,0,0)","v":{"$error":"#REF!"}},{"$f":"IF(#REF!=\"сх\",0,0)","v":{"$error":"#REF!"}},{"$error":"#REF!"},{"$f":"IF(#REF!=1,25,0)","v":{"$error":"#REF!"}},{"$f":"IF(#REF!=2,22,0)","v":{"$error":"#REF!"}},{"$f":"IF(#REF!=3,20,0)","v":{"$error":"#REF!"}},{"$f":"IF(#REF!=4,18,0)","v":{"$error":"#REF!"}},{"$f":"IF(#REF!=5,16,0)","v":{"$error":"#REF!"}},{"$f":"IF(#REF!=6,15,0)","v":{"$error":"#REF!"}},{"$f":"IF(#REF!=7,14,0)","v":{"$error":"#REF!"}},{"$f":"IF(#REF!=8,13,0)","v":{"$error":"#REF!"}},{"$f":"IF(#REF!=9,12,0)","v":{"$error":"#REF!"}},{"$f":"IF(#REF!=10,11,0)","v":{"$error":"#REF!"}},{"$f":"IF(#REF!=11,10,0)","v":{"$error":"#REF!"}},{"$f":"IF(#REF!=12,9,0)","v":{"$error":"#REF!"}},{"$f":"IF(#REF!=13,8,0)","v":{"$error":"#REF!"}},{"$f":"IF(#REF!=14,7,0)","v":{"$error":"#REF!"}},{"$f":"IF(#REF!=15,6,0)","v":{"$error":"#REF!"}},{"$f":"IF(#REF!=16,5,0)","v":{"$error":"#REF!"}},{"$f":"IF(#REF!=17,4,0)","v":{"$error":"#REF!"}},{"$f":"IF(#REF!=18,3,0)","v":{"$error":"#REF!"}},{"$f":"IF(#REF!=19,2,0)","v":{"$error":"#REF!"}},{"$f":"IF(#REF!=20,1,0)","v":{"$error":"#REF!"}},{"$f":"IF(#REF!>20,0,0)","v":{"$error":"#REF!"}},{"$f":"IF(#REF!=\"сх\",0,0)","v":{"$error":"#REF!"}},{"$error":"#REF!"},{"$f":"IF(#REF!=1,100,0)","v":{"$error":"#REF!"}},{"$f":"IF(#REF!=2,98,0)","v":{"$error":"#REF!"}},{"$f":"IF(#REF!=3,95,0)","v":{"$error":"#REF!"}},{"$f":"IF(#REF!=4,93,0)","v":{"$error":"#REF!"}},{"$f":"IF(#REF!=5,90,0)","v":{"$error":"#REF!"}},{"$f":"IF(#REF!=6,88,0)","v":{"$error":"#REF!"}},{"$f":"IF(#REF!=7,85,0)","v":{"$error":"#REF!"}},{"$f":"IF(#REF!=8,83,0)","v":{"$error":"#REF!"}},{"$f":"IF(#REF!=9,80,0)","v":{"$error":"#REF!"}},{"$f":"IF(#REF!=10,78,0)","v":{"$error":"#REF!"}},{"$f":"IF(#REF!=11,75,0)","v":{"$error":"#REF!"}},{"$f":"IF(#REF!=12,73,0)","v":{"$error":"#REF!"}},{"$f":"IF(#REF!=13,70,0)","v":{"$error":"#REF!"}},{"$f":"IF(#REF!=14,68,0)","v":{"$error":"#REF!"}},{"$f":"IF(#REF!=15,65,0)","v":{"$error":"#REF!"}},{"$f":"IF(#REF!=16,63,0)","v":{"$error":"#REF!"}},{"$f":"IF(#REF!=17,60,0)","v":{"$error":"#REF!"}},{"$f":"IF(#REF!=18,58,0)","v":{"$error":"#REF!"}},{"$f":"IF(#REF!=19,55,0)","v":{"$error":"#REF!"}},{"$f":"IF(#REF!=20,53,0)","v":{"$error":"#REF!"}},{"$f":"IF(#REF!>20,0,0)","v":{"$error":"#REF!"}},{"$f":"IF(#REF!=\"сх\",0,0)","v":{"$error":"#REF!"}},{"$error":"#REF!"},{"$f":"IF(#REF!=1,100,0)","v":{"$error":"#REF!"}},{"$f":"IF(#REF!=2,98,0)","v":{"$error":"#REF!"}},{"$f":"IF(#REF!=3,95,0)","v":{"$error":"#REF!"}},{"$f":"IF(#REF!=4,93,0)","v":{"$error":"#REF!"}},{"$f":"IF(#REF!=5,90,0)","v":{"$error":"#REF!"}},{"$f":"IF(#REF!=6,88,0)","v":{"$error":"#REF!"}},{"$f":"IF(#REF!=7,85,0)","v":{"$error":"#REF!"}},{"$f":"IF(#REF!=8,83,0)","v":{"$error":"#REF!"}},{"$f":"IF(#REF!=9,80,0)","v":{"$error":"#REF!"}},{"$f":"IF(#REF!=10,78,0)","v":{"$error":"#REF!"}},{"$f":"IF(#REF!=11,75,0)","v":{"$error":"#REF!"}},{"$f":"IF(#REF!=12,73,0)","v":{"$error":"#REF!"}},{"$f":"IF(#REF!=13,70,0)","v":{"$error":"#REF!"}},{"$f":"IF(#REF!=14,68,0)","v":{"$error":"#REF!"}},{"$f":"IF(#REF!=15,65,0)","v":{"$error":"#REF!"}},{"$f":"IF(#REF!=16,63,0)","v":{"$error":"#REF!"}},{"$f":"IF(#REF!=17,60,0)","v":{"$error":"#REF!"}},{"$f":"IF(#REF!=18,58,0)","v":{"$error":"#REF!"}},{"$f":"IF(#REF!=19,55,0)","v":{"$error":"#REF!"}},{"$f":"IF(#REF!=20,53,0)","v":{"$error":"#REF!"}},{"$f":"IF(#REF!>20,0,0)","v":{"$error":"#REF!"}},{"$f":"IF(#REF!=\"сх\",0,0)","v":{"$error":"#REF!"}},{"$error":"#REF!"}]
[3,23,333,"Куклин Вадим","кмс","г. Новый Уренгой, Ямало-Ненецкий АО","СТК \"Факел\"","LYNX",3,20,3,20,40,{"$f":"#REF!+#REF!","v":{"$error":"#REF!"}},null,null,{"$f":"IF(#REF!=1,25,0)","v":{"$error":"#REF!"}},{"$f":"IF(#REF!=2,22,0)","v":{"$error":"#REF!"}},{"$f":"IF(#REF!=3,20,0)","v":{"$error":"#REF!"}},{"$f":"IF(#REF!=4,18,0)","v":{"$error":"#REF!"}},{"$f":"IF(#REF!=5,16,0)","v":{"$error":"#REF!"}},{"$f":"IF(#REF!=6,15,0)","v":{"$error":"#REF!"}},{"$f":"IF(#REF!=7,14,0)","v":{"$error":"#REF!"}},{"$f":"IF(#REF!=8,13,0)","v":{"$error":"#REF!"}},{"$f":"IF(#REF!=9,12,0)","v":{"$error":"#REF!"}},{"$f":"IF(#REF!=10,11,0)","v":{"$error":"#REF!"}},{"$f":"IF(#REF!=11,10,0)","v":{"$error":"#REF!"}},{"$f":"IF(#REF!=12,9,0)","v":{"$error":"#REF!"}},{"$f":"IF(#REF!=13,8,0)","v":{"$error":"#REF!"}},{"$f":"IF(#REF!=14,7,0)","v":{"$error":"#REF!"}},{"$f":"IF(#REF!=15,6,0)","v":{"$error":"#REF!"}},{"$f":"IF(#REF!=16,5,0)","v":{"$error":"#REF!"}},{"$f":"IF(#REF!=17,4,0)","v":{"$error":"#REF!"}},{"$f":"IF(#REF!=18,3,0)","v":{"$error":"#REF!"}},{"$f":"IF(#REF!=19,2,0)","v":{"$error":"#REF!"}},{"$f":"IF(#REF!=20,1,0)","v":{"$error":"#REF!"}},{"$f":"IF(#REF!>20,0,0)","v":{"$error":"#REF!"}},{"$f":"IF(#REF!=\"сх\",0,0)","v":{"$error":"#REF!"}},{"$error":"#REF!"},{"$f":"IF(#REF!=1,25,0)","v":{"$error":"#REF!"}},{"$f":"IF(#REF!=2,22,0)","v":{"$error":"#REF!"}},{"$f":"IF(#REF!=3,20,0)","v":{"$error":"#REF!"}},{"$f":"IF(#REF!=4,18,0)","v":{"$error":"#REF!"}},{"$f":"IF(#REF!=5,16,0)","v":{"$error":"#REF!"}},{"$f":"IF(#REF!=6,15,0)","v":{"$error":"#REF!"}},{"$f":"IF(#REF!=7,14,0)","v":{"$error":"#REF!"}},{"$f":"IF(#REF!=8,13,0)","v":{"$error":"#REF!"}},{"$f":"IF(#REF!=9,12,0)","v":{"$error":"#REF!"}},{"$f":"IF(#REF!=10,11,0)","v":{"$error":"#REF!"}},{"$f":"IF(#REF!=11,10,0)","v":{"$error":"#REF!"}},{"$f":"IF(#REF!=12,9,0)","v":{"$error":"#REF!"}},{"$f":"IF(#REF!=13,8,0)","v":{"$error":"#REF!"}},{"$f":"IF(#REF!=14,7,0)","v":{"$error":"#REF!"}},{"$f":"IF(#REF!=15,6,0)","v":{"$error":"#REF!"}},{"$f":"IF(#REF!=16,5,0)","v":{"$error":"#REF!"}},{"$f":"IF(#REF!=17,4,0)","v":{"$error":"#REF!"}},{"$f":"IF(#REF!=18,3,0)","v":{"$error":"#REF!"}},{"$f":"IF(#REF!=19,2,0)","v":{"$error":"#REF!"}},{"$f":"IF(#REF!=20,1,0)","v":{"$error":"#REF!"}},{"$f":"IF(#REF!>20,0,0)","v":{"$error":"#REF!"}},{"$f":"IF(#REF!=\"сх\",0,0)","v":{"$error":"#REF!"}},{"$error":"#REF!"},{"$f":"IF(#REF!=1,45,0)","v":{"$error":"#REF!"}},{"$f":"IF(#REF!=2,42,0)","v":{"$error":"#REF!"}},{"$f":"IF(#REF!=3,40,0)","v":{"$error":"#REF!"}},{"$f":"IF(#REF!=4,38,0)","v":{"$error":"#REF!"}},{"$f":"IF(#REF!=5,36,0)","v":{"$error":"#REF!"}},{"$f":"IF(#REF!=6,35,0)","v":{"$error":"#REF!"}},{"$f":"IF(#REF!=7,34,0)","v":{"$error":"#REF!"}},{"$f":"IF(#REF!=8,33,0)","v":{"$error":"#REF!"}},{"$f":"IF(#REF!=9,32,0)","v":{"$error":"#REF!"}},{"$f":"IF(#REF!=10,31,0)","v":{"$error":"#REF!"}},{"$f":"IF(#REF!=11,30,0)","v":{"$error":"#REF!"}},{"$f":"IF(#REF!=12,29,0)","v":{"$error":"#REF!"}},{"$f":"IF(#REF!=13,28,0)","v":{"$error":"#REF!"}},{"$f":"IF(#REF!=14,27,0)","v":{"$error":"#REF!"}},{"$f":"IF(#REF!=15,26,0)","v":{"$error":"#REF!"}},{"$f":"IF(#REF!=16,25,0)","v":{"$error":"#REF!"}},{"$f":"IF(#REF!=17,24,0)","v":{"$error":"#REF!"}},{"$f":"IF(#REF!=18,23,0)","v":{"$error":"#REF!"}},{"$f":"IF(#REF!=19,22,0)","v":{"$error":"#REF!"}},{"$f":"IF(#REF!=20,21,0)","v":{"$error":"#REF!"}},{"$f":"IF(#REF!=21,20,0)","v":{"$error":"#REF!"}},{"$f":"IF(#REF!=22,19,0)","v":{"$error":"#REF!"}},{"$f":"IF(#REF!=23,18,0)","v":{"$error":"#REF!"}},{"$f":"IF(#REF!=24,17,0)","v":{"$error":"#REF!"}},{"$f":"IF(#REF!=25,16,0)","v":{"$error":"#REF!"}},{"$f":"IF(#REF!=26,15,0)","v":{"$error":"#REF!"}},{"$f":"IF(#REF!=27,14,0)","v":{"$error":"#REF!"}},{"$f":"IF(#REF!=28,13,0)","v":{"$error":"#REF!"}},{"$f":"IF(#REF!=29,12,0)","v":{"$error":"#REF!"}},{"$f":"IF(#REF!=30,11,0)","v":{"$error":"#REF!"}},{"$f":"IF(#REF!=31,10,0)","v":{"$error":"#REF!"}},{"$f":"IF(#REF!=32,9,0)","v":{"$error":"#REF!"}},{"$f":"IF(#REF!=33,8,0)","v":{"$error":"#REF!"}},{"$f":"IF(#REF!=34,7,0)","v":{"$error":"#REF!"}},{"$f":"IF(#REF!=35,6,0)","v":{"$error":"#REF!"}},{"$f":"IF(#REF!=36,5,0)","v":{"$error":"#REF!"}},{"$f":"IF(#REF!=37,4,0)","v":{"$error":"#REF!"}},{"$f":"IF(#REF!=38,3,0)","v":{"$error":"#REF!"}},{"$f":"IF(#REF!=39,2,0)","v":{"$error":"#REF!"}},{"$f":"IF(#REF!=40,1,0)","v":{"$error":"#REF!"}},{"$f":"IF(#REF!>20,0,0)","v":{"$error":"#REF!"}},{"$f":"IF(#REF!=\"сх\",0,0)","v":{"$error":"#REF!"}},{"$error":"#REF!"},{"$f":"IF(#REF!=1,45,0)","v":{"$error":"#REF!"}},{"$f":"IF(#REF!=2,42,0)","v":{"$error":"#REF!"}},{"$f":"IF(#REF!=3,40,0)","v":{"$error":"#REF!"}},{"$f":"IF(#REF!=4,38,0)","v":{"$error":"#REF!"}},{"$f":"IF(#REF!=5,36,0)","v":{"$error":"#REF!"}},{"$f":"IF(#REF!=6,35,0)","v":{"$error":"#REF!"}},{"$f":"IF(#REF!=7,34,0)","v":{"$error":"#REF!"}},{"$f":"IF(#REF!=8,33,0)","v":{"$error":"#REF!"}},{"$f":"IF(#REF!=9,32,0)","v":{"$error":"#REF!"}},{"$f":"IF(#REF!=10,31,0)","v":{"$error":"#REF!"}},{"$f":"IF(#REF!=11,30,0)","v":{"$error":"#REF!"}},{"$f":"IF(#REF!=12,29,0)","v":{"$error":"#REF!"}},{"$f":"IF(#REF!=13,28,0)","v":{"$error":"#REF!"}},{"$f":"IF(#REF!=14,27,0)","v":{"$error":"#REF!"}},{"$f":"IF(#REF!=15,26,0)","v":{"$error":"#REF!"}},{"$f":"IF(#REF!=16,25,0)","v":{"$error":"#REF!"}},{"$f":"IF(#REF!=17,24,0)","v":{"$error":"#REF!"}},{"$f":"IF(#REF!=18,23,0)","v":{"$error":"#REF!"}},{"$f":"IF(#REF!=19,22,0)","v":{"$error":"#REF!"}},{"$f":"IF(#REF!=20,21,0)","v":{"$error":"#REF!"}},{"$f":"IF(#REF!=21,20,0)","v":{"$error":"#REF!"}},{"$f":"IF(#REF!=22,19,0)","v":{"$error":"#REF!"}},{"$f":"IF(#REF!=23,18,0)","v":{"$error":"#REF!"}},{"$f":"IF(#REF!=24,17,0)","v":{"$error":"#REF!"}},{"$f":"IF(#REF!=25,16,0)","v":{"$error":"#REF!"}},{"$f":"IF(#REF!=26,15,0)","v":{"$error":"#REF!"}},{"$f":"IF(#REF!=27,14,0)","v":{"$error":"#REF!"}},{"$f":"IF(#REF!=28,13,0)","v":{"$error":"#REF!"}},{"$f":"IF(#REF!=29,12,0)","v":{"$error":"#REF!"}},{"$f":"IF(#REF!=30,11,0)","v":{"$error":"#REF!"}},{"$f":"IF(#REF!=31,10,0)","v":{"$error":"#REF!"}},{"$f":"IF(#REF!=32,9,0)","v":{"$error":"#REF!"}},{"$f":"IF(#REF!=33,8,0)","v":{"$error":"#REF!"}},{"$f":"IF(#REF!=34,7,0)","v":{"$error":"#REF!"}},{"$f":"IF(#REF!=35,6,0)","v":{"$error":"#REF!"}},{"$f":"IF(#REF!=36,5,0)","v":{"$error":"#REF!"}},{"$f":"IF(#REF!=37,4,0)","v":{"$error":"#REF!"}},{"$f":"IF(#REF!=38,3,0)","v":{"$error":"#REF!"}},{"$f":"IF(#REF!=39,2,0)","v":{"$error":"#REF!"}},{"$f":"IF(#REF!=40,1,0)","v":{"$error":"#REF!"}},{"$f":"IF(#REF!>20,0,0)","v":{"$error":"#REF!"}},{"$f":"IF(#REF!=\"сх\",0,0)","v":{"$error":"#REF!"}},{"$error":"#REF!"},null,{"$f":"IF(#REF!=\"сх\",\"ноль\",IF(#REF!>0,#REF!,\"Ноль\"))","v":{"$error":"#REF!"}},{"$f":"IF(#REF!=\"сх\",\"ноль\",IF(#REF!>0,#REF!,\"Ноль\"))","v":{"$error":"#REF!"}},null,{"$error":"#REF!"},{"$f":"IF(M12=#REF!,IF(#REF!<#REF!,#REF!,FB12),#REF!)","v":{"$error":"#REF!"}},{"$f":"IF(M12=#REF!,IF(#REF!<#REF!,0,1))","v":{"$error":"#REF!"}},{"$f":"IF(AND(EW12>=21,EW12<>0),EW12,IF(M12<#REF!,\"СТОП\",EX12+EY12))","v":{"$error":"#REF!"}},null,15,16,null,{"$f":"IF(#REF!=1,25,0)","v":{"$error":"#REF!"}},{"$f":"IF(#REF!=2,22,0)","v":{"$error":"#REF!"}},{"$f":"IF(#REF!=3,20,0)","v":{"$error":"#REF!"}},{"$f":"IF(#REF!=4,18,0)","v":{"$error":"#REF!"}},{"$f":"IF(#REF!=5,16,0)","v":{"$error":"#REF!"}},{"$f":"IF(#REF!=6,15,0)","v":{"$error":"#REF!"}},{"$f":"IF(#REF!=7,14,0)","v":{"$error":"#REF!"}},{"$f":"IF(#REF!=8,13,0)","v":{"$error":"#REF!"}},{"$f":"IF(#REF!=9,12,0)","v":{"$error":"#REF!"}},{"$f":"IF(#REF!=10,11,0)","v":{"$error":"#REF!"}},{"$f":"IF(#REF!=11,10,0)","v":{"$error":"#REF!"}},{"$f":"IF(#REF!=12,9,0)","v":{"$error":"#REF!"}},{"$f":"IF(#REF!=13,8,0)","v":{"$error":"#REF!"}},{"$f":"IF(#REF!=14,7,0)","v":{"$error":"#REF!"}},{"$f":"IF(#REF!=15,6,0)","v":{"$error":"#REF!"}},{"$f":"IF(#REF!=16,5,0)","v":{"$error":"#REF!"}},{"$f":"IF(#REF!=17,4,0)","v":{"$error":"#REF!"}},{"$f":"IF(#REF!=18,3,0)","v":{"$error":"#REF!"}},{"$f":"IF(#REF!=19,2,0)","v":{"$error":"#REF!"}},{"$f":"IF(#REF!=20,1,0)","v":{"$error":"#REF!"}},{"$f":"IF(#REF!>20,0,0)","v":{"$error":"#REF!"}},{"$f":"IF(#REF!=\"сх\",0,0)","v":{"$error":"#REF!"}},{"$error":"#REF!"},{"$f":"IF(#REF!=1,25,0)","v":{"$error":"#REF!"}},{"$f":"IF(#REF!=2,22,0)","v":{"$error":"#REF!"}},{"$f":"IF(#REF!=3,20,0)","v":{"$error":"#REF!"}},{"$f":"IF(#REF!=4,18,0)","v":{"$error":"#REF!"}},{"$f":"IF(#REF!=5,16,0)","v":{"$error":"#REF!"}},{"$f":"IF(#REF!=6,15,0)","v":{"$error":"#REF!"}},{"$f":"IF(#REF!=7,14,0)","v":{"$error":"#REF!"}},{"$f":"IF(#REF!=8,13,0)","v":{"$error":"#REF!"}},{"$f":"IF(#REF!=9,12,0)","v":{"$error":"#REF!"}},{"$f":"IF(#REF!=10,11,0)","v":{"$error":"#REF!"}},{"$f":"IF(#REF!=11,10,0)","v":{"$error":"#REF!"}},{"$f":"IF(#REF!=12,9,0)","v":{"$error":"#REF!"}},{"$f":"IF(#REF!=13,8,0)","v":{"$error":"#REF!"}},{"$f":"IF(#REF!=14,7,0)","v":{"$error":"#REF!"}},{"$f":"IF(#REF!=15,6,0)","v":{"$error":"#REF!"}},{"$f":"IF(#REF!=16,5,0)","v":{"$error":"#REF!"}},{"$f":"IF(#REF!=17,4,0)","v":{"$error":"#REF!"}},{"$f":"IF(#REF!=18,3,0)","v":{"$error":"#REF!"}},{"$f":"IF(#REF!=19,2,0)","v":{"$error":"#REF!"}},{"$f":"IF(#REF!=20,1,0)","v":{"$error":"#REF!"}},{"$f":"IF(#REF!>20,0,0)","v":{"$error":"#REF!"}},{"$f":"IF(#REF!=\"сх\",0,0)","v":{"$error":"#REF!"}},{"$error":"#REF!"},{"$f":"IF(#REF!=1,100,0)","v":{"$error":"#REF!"}},{"$f":"IF(#REF!=2,98,0)","v":{"$error":"#REF!"}},{"$f":"IF(#REF!=3,95,0)","v":{"$error":"#REF!"}},{"$f":"IF(#REF!=4,93,0)","v":{"$error":"#REF!"}},{"$f":"IF(#REF!=5,90,0)","v":{"$error":"#REF!"}},{"$f":"IF(#REF!=6,88,0)","v":{"$error":"#REF!"}},{"$f":"IF(#REF!=7,85,0)","v":{"$error":"#REF!"}},{"$f":"IF(#REF!=8,83,0)","v":{"$error":"#REF!"}},{"$f":"IF(#REF!=9,80,0)","v":{"$error":"#REF!"}},{"$f":"IF(#REF!=10,78,0)","v":{"$error":"#REF!"}},{"$f":"IF(#REF!=11,75,0)","v":{"$error":"#REF!"}},{"$f":"IF(#REF!=12,73,0)","v":{"$error":"#REF!"}},{"$f":"IF(#REF!=13,70,0)","v":{"$error":"#REF!"}},{"$f":"IF(#REF!=14,68,0)","v":{"$error":"#REF!"}},{"$f":"IF(#REF!=15,65,0)","v":{"$error":"#REF!"}},{"$f":"IF(#REF!=16,63,0)","v":{"$error":"#REF!"}},{"$f":"IF(#REF!=17,60,0)","v":{"$error":"#REF!"}},{"$f":"IF(#REF!=18,58,0)","v":{"$error":"#REF!"}},{"$f":"IF(#REF!=19,55,0)","v":{"$error":"#REF!"}},{"$f":"IF(#REF!=20,53,0)","v":{"$error":"#REF!"}},{"$f":"IF(#REF!>20,0,0)","v":{"$error":"#REF!"}},{"$f":"IF(#REF!=\"сх\",0,0)","v":{"$error":"#REF!"}},{"$error":"#REF!"},{"$f":"IF(#REF!=1,100,0)","v":{"$error":"#REF!"}},{"$f":"IF(#REF!=2,98,0)","v":{"$error":"#REF!"}},{"$f":"IF(#REF!=3,95,0)","v":{"$error":"#REF!"}},{"$f":"IF(#REF!=4,93,0)","v":{"$error":"#REF!"}},{"$f":"IF(#REF!=5,90,0)","v":{"$error":"#REF!"}},{"$f":"IF(#REF!=6,88,0)","v":{"$error":"#REF!"}},{"$f":"IF(#REF!=7,85,0)","v":{"$error":"#REF!"}},{"$f":"IF(#REF!=8,83,0)","v":{"$error":"#REF!"}},{"$f":"IF(#REF!=9,80,0)","v":{"$error":"#REF!"}},{"$f":"IF(#REF!=10,78,0)","v":{"$error":"#REF!"}},{"$f":"IF(#REF!=11,75,0)","v":{"$error":"#REF!"}},{"$f":"IF(#REF!=12,73,0)","v":{"$error":"#REF!"}},{"$f":"IF(#REF!=13,70,0)","v":{"$error":"#REF!"}},{"$f":"IF(#REF!=14,68,0)","v":{"$error":"#REF!"}},{"$f":"IF(#REF!=15,65,0)","v":{"$error":"#REF!"}},{"$f":"IF(#REF!=16,63,0)","v":{"$error":"#REF!"}},{"$f":"IF(#REF!=17,60,0)","v":{"$error":"#REF!"}},{"$f":"IF(#REF!=18,58,0)","v":{"$error":"#REF!"}},{"$f":"IF(#REF!=19,55,0)","v":{"$error":"#REF!"}},{"$f":"IF(#REF!=20,53,0)","v":{"$error":"#REF!"}},{"$f":"IF(#REF!>20,0,0)","v":{"$error":"#REF!"}},{"$f":"IF(#REF!=\"сх\",0,0)","v":{"$error":"#REF!"}},{"$error":"#REF!"}]
[4,22.5,37,"Богомолов Никита","б/р","г. Новый Уренгой, Ямало-Ненецкий АО","СТК \"Факел\"","LYNX",2,22,7,14,36,{"$f":"#REF!+#REF!","v":{"$error":"#REF!"}},null,null,{"$f":"IF(#REF!=1,25,0)","v":{"$error":"#REF!"}},{"$f":"IF(#REF!=2,22,0)","v":{"$error":"#REF!"}},{"$f":"IF(#REF!=3,20,0)","v":{"$error":"#REF!"}},{"$f":"IF(#REF!=4,18,0)","v":{"$error":"#REF!"}},{"$f":"IF(#REF!=5,16,0)","v":{"$error":"#REF!"}},{"$f":"IF(#REF!=6,15,0)","v":{"$error":"#REF!"}},{"$f":"IF(#REF!=7,14,0)","v":{"$error":"#REF!"}},{"$f":"IF(#REF!=8,13,0)","v":{"$error":"#REF!"}},{"$f":"IF(#REF!=9,12,0)","v":{"$error":"#REF!"}},{"$f":"IF(#REF!=10,11,0)","v":{"$error":"#REF!"}},{"$f":"IF(#REF!=11,10,0)","v":{"$error":"#REF!"}},{"$f":"IF(#REF!=12,9,0)","v":{"$error":"#REF!"}},{"$f":"IF(#REF!=13,8,0)","v":{"$error":"#REF!"}},{"$f":"IF(#REF!=14,7,0)","v":{"$error":"#REF!"}},{"$f":"IF(#REF!=15,6,0)","v":{"$error":"#REF!"}},{"$f":"IF(#REF!=16,5,0)","v":{"$error":"#REF!"}},{"$f":"IF(#REF!=17,4,0)","v":{"$error":"#REF!"}},{"$f":"IF(#REF!=18,3,0)","v":{"$error":"#REF!"}},{"$f":"IF(#REF!=19,2,0)","v":{"$error":"#REF!"}},{"$f":"IF(#REF!=20,1,0)","v":{"$error":"#REF!"}},{"$f":"IF(#REF!>20,0,0)","v":{"$error":"#REF!"}},{"$f":"IF(#REF!=\"сх\",0,0)","v":{"$error":"#REF!"}},{"$error":"#REF!"},{"$f":"IF(#REF!=1,25,0)","v":{"$error":"#REF!"}},{"$f":"IF(#REF!=2,22,0)","v":{"$error":"#REF!"}},{"$f":"IF(#REF!=3,20,0)","v":{"$error":"#REF!"}},{"$f":"IF(#REF!=4,18,0)","v":{"$error":"#REF!"}},{"$f":"IF(#REF!=5,16,0)","v":{"$error":"#REF!"}},{"$f":"IF(#REF!=6,15,0)","v":{"$error":"#REF!"}},{"$f":"IF(#REF!=7,14,0)","v":{"$error":"#REF!"}},{"$f":"IF(#REF!=8,13,0)","v":{"$error":"#REF!"}},{"$f":"IF(#REF!=9,12,0)","v":{"$error":"#REF!"}},{"$f":"IF(#REF!=10,11,0)","v":{"$error":"#REF!"}},{"$f":"IF(#REF!=11,10,0)","v":{"$error":"#REF!"}},{"$f":"IF(#REF!=12,9,0)","v":{"$error":"#REF!"}},{"$f":"IF(#REF!=13,8,0)","v":{"$error":"#REF!"}},{"$f":"IF(#REF!=14,7,0)","v":{"$error":"#REF!"}},{"$f":"IF(#REF!=15,6,0)","v":{"$error":"#REF!"}},{"$f":"IF(#REF!=16,5,0)","v":{"$error":"#REF!"}},{"$f":"IF(#REF!=17,4,0)","v":{"$error":"#REF!"}},{"$f":"IF(#REF!=18,3,0)","v":{"$error":"#REF!"}},{"$f":"IF(#REF!=19,2,0)","v":{"$error":"#REF!"}},{"$f":"IF(#REF!=20,1,0)","v":{"$error":"#REF!"}},{"$f":"IF(#REF!>20,0,0)","v":{"$error":"#REF!"}},{"$f":"IF(#REF!=\"сх\",0,0)","v":{"$error":"#REF!"}},{"$error":"#REF!"},{"$f":"IF(#REF!=1,45,0)","v":{"$error":"#REF!"}},{"$f":"IF(#REF!=2,42,0)","v":{"$error":"#REF!"}},{"$f":"IF(#REF!=3,40,0)","v":{"$error":"#REF!"}},{"$f":"IF(#REF!=4,38,0)","v":{"$error":"#REF!"}},{"$f":"IF(#REF!=5,36,0)","v":{"$error":"#REF!"}},{"$f":"IF(#REF!=6,35,0)","v":{"$error":"#REF!"}},{"$f":"IF(#REF!=7,34,0)","v":{"$error":"#REF!"}},{"$f":"IF(#REF!=8,33,0)","v":{"$error":"#REF!"}},{"$f":"IF(#REF!=9,32,0)","v":{"$error":"#REF!"}},{"$f":"IF(#REF!=10,31,0)","v":{"$error":"#REF!"}},{"$f":"IF(#REF!=11,30,0)","v":{"$error":"#REF!"}},{"$f":"IF(#REF!=12,29,0)","v":{"$error":"#REF!"}},{"$f":"IF(#REF!=13,28,0)","v":{"$error":"#REF!"}},{"$f":"IF(#REF!=14,27,0)","v":{"$error":"#REF!"}},{"$f":"IF(#REF!=15,26,0)","v":{"$error":"#REF!"}},{"$f":"IF(#REF!=16,25,0)","v":{"$error":"#REF!"}},{"$f":"IF(#REF!=17,24,0)","v":{"$error":"#REF!"}},{"$f":"IF(#REF!=18,23,0)","v":{"$error":"#REF!"}},{"$f":"IF(#REF!=19,22,0)","v":{"$error":"#REF!"}},{"$f":"IF(#REF!=20,21,0)","v":{"$error":"#REF!"}},{"$f":"IF(#REF!=21,20,0)","v":{"$error":"#REF!"}},{"$f":"IF(#REF!=22,19,0)","v":{"$error":"#REF!"}},{"$f":"IF(#REF!=23,18,0)","v":{"$error":"#REF!"}},{"$f":"IF(#REF!=24,17,0)","v":{"$error":"#REF!"}},{"$f":"IF(#REF!=25,16,0)","v":{"$error":"#REF!"}},{"$f":"IF(#REF!=26,15,0)","v":{"$error":"#REF!"}},{"$f":"IF(#REF!=27,14,0)","v":{"$error":"#REF!"}},{"$f":"IF(#REF!=28,13,0)","v":{"$error":"#REF!"}},{"$f":"IF(#REF!=29,12,0)","v":{"$error":"#REF!"}},{"$f":"IF(#REF!=30,11,0)","v":{"$error":"#REF!"}},{"$f":"IF(#REF!=31,10,0)","v":{"$error":"#REF!"}},{"$f":"IF(#REF!=32,9,0)","v":{"$error":"#REF!"}},{"$f":"IF(#REF!=33,8,0)","v":{"$error":"#REF!"}},{"$f":"IF(#REF!=34,7,0)","v":{"$error":"#REF!"}},{"$f":"IF(#REF!=35,6,0)","v":{"$error":"#REF!"}},{"$f":"IF(#REF!=36,5,0)","v":{"$error":"#REF!"}},{"$f":"IF(#REF!=37,4,0)","v":{"$error":"#REF!"}},{"$f":"IF(#REF!=38,3,0)","v":{"$error":"#REF!"}},{"$f":"IF(#REF!=39,2,0)","v":{"$error":"#REF!"}},{"$f":"IF(#REF!=40,1,0)","v":{"$error":"#REF!"}},{"$f":"IF(#REF!>20,0,0)","v":{"$error":"#REF!"}},{"$f":"IF(#REF!=\"сх\",0,0)","v":{"$error":"#REF!"}},{"$error":"#REF!"},{"$f":"IF(#REF!=1,45,0)","v":{"$error":"#REF!"}},{"$f":"IF(#REF!=2,42,0)","v":{"$error":"#REF!"}},{"$f":"IF(#REF!=3,40,0)","v":{"$error":"#REF!"}},{"$f":"IF(#REF!=4,38,0)","v":{"$error":"#REF!"}},{"$f":"IF(#REF!=5,36,0)","v":{"$error":"#REF!"}},{"$f":"IF(#REF!=6,35,0)","v":{"$error":"#REF!"}},{"$f":"IF(#REF!=7,34,0)","v":{"$error":"#REF!"}},{"$f":"IF(#REF!=8,33,0)","v":{"$error":"#REF!"}},{"$f":"IF(#REF!=9,32,0)","v":{"$error":"#REF!"}},{"$f":"IF(#REF!=10,31,0)","v":{"$error":"#REF!"}},{"$f":"IF(#REF!=11,30,0)","v":{"$error":"#REF!"}},{"$f":"IF(#REF!=12,29,0)","v":{"$error":"#REF!"}},{"$f":"IF(#REF!=13,28,0)","v":{"$error":"#REF!"}},{"$f":"IF(#REF!=14,27,0)","v":{"$error":"#REF!"}},{"$f":"IF(#REF!=15,26,0)","v":{"$error":"#REF!"}},{"$f":"IF(#REF!=16,25,0)","v":{"$error":"#REF!"}},{"$f":"IF(#REF!=17,24,0)","v":{"$error":"#REF!"}},{"$f":"IF(#REF!=18,23,0)","v":{"$error":"#REF!"}},{"$f":"IF(#REF!=19,22,0)","v":{"$error":"#REF!"}},{"$f":"IF(#REF!=20,21,0)","v":{"$error":"#REF!"}},{"$f":"IF(#REF!=21,20,0)","v":{"$error":"#REF!"}},{"$f":"IF(#REF!=22,19,0)","v":{"$error":"#REF!"}},{"$f":"IF(#REF!=23,18,0)","v":{"$error":"#REF!"}},{"$f":"IF(#REF!=24,17,0)","v":{"$error":"#REF!"}},{"$f":"IF(#REF!=25,16,0)","v":{"$error":"#REF!"}},{"$f":"IF(#REF!=26,15,0)","v":{"$error":"#REF!"}},{"$f":"IF(#REF!=27,14,0)","v":{"$error":"#REF!"}},{"$f":"IF(#REF!=28,13,0)","v":{"$error":"#REF!"}},{"$f":"IF(#REF!=29,12,0)","v":{"$error":"#REF!"}},{"$f":"IF(#REF!=30,11,0)","v":{"$error":"#REF!"}},{"$f":"IF(#REF!=31,10,0)","v":{"$error":"#REF!"}},{"$f":"IF(#REF!=32,9,0)","v":{"$error":"#REF!"}},{"$f":"IF(#REF!=33,8,0)","v":{"$error":"#REF!"}},{"$f":"IF(#REF!=34,7,0)","v":{"$error":"#REF!"}},{"$f":"IF(#REF!=35,6,0)","v":{"$error":"#REF!"}},{"$f":"IF(#REF!=36,5,0)","v":{"$error":"#REF!"}},{"$f":"IF(#REF!=37,4,0)","v":{"$error":"#REF!"}},{"$f":"IF(#REF!=38,3,0)","v":{"$error":"#REF!"}},{"$f":"IF(#REF!=39,2,0)","v":{"$error":"#REF!"}},{"$f":"IF(#REF!=40,1,0)","v":{"$error":"#REF!"}},{"$f":"IF(#REF!>20,0,0)","v":{"$error":"#REF!"}},{"$f":"IF(#REF!=\"сх\",0,0)","v":{"$error":"#REF!"}},{"$error":"#REF!"},null,{"$f":"IF(#REF!=\"сх\",\"ноль\",IF(#REF!>0,#REF!,\"Ноль\"))","v":{"$error":"#REF!"}},{"$f":"IF(#REF!=\"сх\",\"ноль\",IF(#REF!>0,#REF!,\"Ноль\"))","v":{"$error":"#REF!"}},null,{"$error":"#REF!"},{"$f":"IF(M13=#REF!,IF(#REF!<#REF!,#REF!,FB13),#REF!)","v":{"$error":"#REF!"}},{"$f":"IF(M13=#REF!,IF(#REF!<#REF!,0,1))","v":{"$error":"#REF!"}},{"$f":"IF(AND(EW13>=21,EW13<>0),EW13,IF(M13<#REF!,\"СТОП\",EX13+EY13))","v":{"$error":"#REF!"}},null,15,16,null,{"$f":"IF(#REF!=1,25,0)","v":{"$error":"#REF!"}},{"$f":"IF(#REF!=2,22,0)","v":{"$error":"#REF!"}},{"$f":"IF(#REF!=3,20,0)","v":{"$error":"#REF!"}},{"$f":"IF(#REF!=4,18,0)","v":{"$error":"#REF!"}},{"$f":"IF(#REF!=5,16,0)","v":{"$error":"#REF!"}},{"$f":"IF(#REF!=6,15,0)","v":{"$error":"#REF!"}},{"$f":"IF(#REF!=7,14,0)","v":{"$error":"#REF!"}},{"$f":"IF(#REF!=8,13,0)","v":{"$error":"#REF!"}},{"$f":"IF(#REF!=9,12,0)","v":{"$error":"#REF!"}},{"$f":"IF(#REF!=10,11,0)","v":{"$error":"#REF!"}},{"$f":"IF(#REF!=11,10,0)","v":{"$error":"#REF!"}},{"$f":"IF(#REF!=12,9,0)","v":{"$error":"#REF!"}},{"$f":"IF(#REF!=13,8,0)","v":{"$error":"#REF!"}},{"$f":"IF(#REF!=14,7,0)","v":{"$error":"#REF!"}},{"$f":"IF(#REF!=15,6,0)","v":{"$error":"#REF!"}},{"$f":"IF(#REF!=16,5,0)","v":{"$error":"#REF!"}},{"$f":"IF(#REF!=17,4,0)","v":{"$error":"#REF!"}},{"$f":"IF(#REF!=18,3,0)","v":{"$error":"#REF!"}},{"$f":"IF(#REF!=19,2,0)","v":{"$error":"#REF!"}},{"$f":"IF(#REF!=20,1,0)","v":{"$error":"#REF!"}},{"$f":"IF(#REF!>20,0,0)","v":{"$error":"#REF!"}},{"$f":"IF(#REF!=\"сх\",0,0)","v":{"$error":"#REF!"}},{"$error":"#REF!"},{"$f":"IF(#REF!=1,25,0)","v":{"$error":"#REF!"}},{"$f":"IF(#REF!=2,22,0)","v":{"$error":"#REF!"}},{"$f":"IF(#REF!=3,20,0)","v":{"$error":"#REF!"}},{"$f":"IF(#REF!=4,18,0)","v":{"$error":"#REF!"}},{"$f":"IF(#REF!=5,16,0)","v":{"$error":"#REF!"}},{"$f":"IF(#REF!=6,15,0)","v":{"$error":"#REF!"}},{"$f":"IF(#REF!=7,14,0)","v":{"$error":"#REF!"}},{"$f":"IF(#REF!=8,13,0)","v":{"$error":"#REF!"}},{"$f":"IF(#REF!=9,12,0)","v":{"$error":"#REF!"}},{"$f":"IF(#REF!=10,11,0)","v":{"$error":"#REF!"}},{"$f":"IF(#REF!=11,10,0)","v":{"$error":"#REF!"}},{"$f":"IF(#REF!=12,9,0)","v":{"$error":"#REF!"}},{"$f":"IF(#REF!=13,8,0)","v":{"$error":"#REF!"}},{"$f":"IF(#REF!=14,7,0)","v":{"$error":"#REF!"}},{"$f":"IF(#REF!=15,6,0)","v":{"$error":"#REF!"}},{"$f":"IF(#REF!=16,5,0)","v":{"$error":"#REF!"}},{"$f":"IF(#REF!=17,4,0)","v":{"$error":"#REF!"}},{"$f":"IF(#REF!=18,3,0)","v":{"$error":"#REF!"}},{"$f":"IF(#REF!=19,2,0)","v":{"$error":"#REF!"}},{"$f":"IF(#REF!=20,1,0)","v":{"$error":"#REF!"}},{"$f":"IF(#REF!>20,0,0)","v":{"$error":"#REF!"}},{"$f":"IF(#REF!=\"сх\",0,0)","v":{"$error":"#REF!"}},{"$error":"#REF!"},{"$f":"IF(#REF!=1,100,0)","v":{"$error":"#REF!"}},{"$f":"IF(#REF!=2,98,0)","v":{"$error":"#REF!"}},{"$f":"IF(#REF!=3,95,0)","v":{"$error":"#REF!"}},{"$f":"IF(#REF!=4,93,0)","v":{"$error":"#REF!"}},{"$f":"IF(#REF!=5,90,0)","v":{"$error":"#REF!"}},{"$f":"IF(#REF!=6,88,0)","v":{"$error":"#REF!"}},{"$f":"IF(#REF!=7,85,0)","v":{"$error":"#REF!"}},{"$f":"IF(#REF!=8,83,0)","v":{"$error":"#REF!"}},{"$f":"IF(#REF!=9,80,0)","v":{"$error":"#REF!"}},{"$f":"IF(#REF!=10,78,0)","v":{"$error":"#REF!"}},{"$f":"IF(#REF!=11,75,0)","v":{"$error":"#REF!"}},{"$f":"IF(#REF!=12,73,0)","v":{"$error":"#REF!"}},{"$f":"IF(#REF!=13,70,0)","v":{"$error":"#REF!"}},{"$f":"IF(#REF!=14,68,0)","v":{"$error":"#REF!"}},{"$f":"IF(#REF!=15,65,0)","v":{"$error":"#REF!"}},{"$f":"IF(#REF!=16,63,0)","v":{"$error":"#REF!"}},{"$f":"IF(#REF!=17,60,0)","v":{"$error":"#REF!"}},{"$f":"IF(#REF!=18,58,0)","v":{"$error":"#REF!"}},{"$f":"IF(#REF!=19,55,0)","v":{"$error":"#REF!"}},{"$f":"IF(#REF!=20,53,0)","v":{"$error":"#REF!"}},{"$f":"IF(#REF!>20,0,0)","v":{"$error":"#REF!"}},{"$f":"IF(#REF!=\"сх\",0,0)","v":{"$error":"#REF!"}},{"$error":"#REF!"},{"$f":"IF(#REF!=1,100,0)","v":{"$error":"#REF!"}},{"$f":"IF(#REF!=2,98,0)","v":{"$error":"#REF!"}},{"$f":"IF(#REF!=3,95,0)","v":{"$error":"#REF!"}},{"$f":"IF(#REF!=4,93,0)","v":{"$error":"#REF!"}},{"$f":"IF(#REF!=5,90,0)","v":{"$error":"#REF!"}},{"$f":"IF(#REF!=6,88,0)","v":{"$error":"#REF!"}},{"$f":"IF(#REF!=7,85,0)","v":{"$error":"#REF!"}},{"$f":"IF(#REF!=8,83,0)","v":{"$error":"#REF!"}},{"$f":"IF(#REF!=9,80,0)","v":{"$error":"#REF!"}},{"$f":"IF(#REF!=10,78,0)","v":{"$error":"#REF!"}},{"$f":"IF(#REF!=11,75,0)","v":{"$error":"#REF!"}},{"$f":"IF(#REF!=12,73,0)","v":{"$error":"#REF!"}},{"$f":"IF(#REF!=13,70,0)","v":{"$error":"#REF!"}},{"$f":"IF(#REF!=14,68,0)","v":{"$error":"#REF!"}},{"$f":"IF(#REF!=15,65,0)","v":{"$error":"#REF!"}},{"$f":"IF(#REF!=16,63,0)","v":{"$error":"#REF!"}},{"$f":"IF(#REF!=17,60,0)","v":{"$error":"#REF!"}},{"$f":"IF(#REF!=18,58,0)","v":{"$error":"#REF!"}},{"$f":"IF(#REF!=19,55,0)","v":{"$error":"#REF!"}},{"$f":"IF(#REF!=20,53,0)","v":{"$error":"#REF!"}},{"$f":"IF(#REF!>20,0,0)","v":{"$error":"#REF!"}},{"$f":"IF(#REF!=\"сх\",0,0)","v":{"$error":"#REF!"}},{"$error":"#REF!"}]
[5,22,23,"Дмитриев Виталий","б/р","г. Новый Уренгой, Ямало-Ненецкий АО","МАУ МЦ \"НОРД\"","KTM",5,16,5,16,32,{"$f":"#REF!+#REF!","v":{"$error":"#REF!"}},null,null,{"$f":"IF(#REF!=1,25,0)","v":{"$error":"#REF!"}},{"$f":"IF(#REF!=2,22,0)","v":{"$error":"#REF!"}},{"$f":"IF(#REF!=3,20,0)","v":{"$error":"#REF!"}},{"$f":"IF(#REF!=4,18,0)","v":{"$error":"#REF!"}},{"$f":"IF(#REF!=5,16,0)","v":{"$error":"#REF!"}},{"$f":"IF(#REF!=6,15,0)","v":{"$error":"#REF!"}},{"$f":"IF(#REF!=7,14,0)","v":{"$error":"#REF!"}},{"$f":"IF(#REF!=8,13,0)","v":{"$error":"#REF!"}},{"$f":"IF(#REF!=9,12,0)","v":{"$error":"#REF!"}},{"$f":"IF(#REF!=10,11,0)","v":{"$error":"#REF!"}},{"$f":"IF(#REF!=11,10,0)","v":{"$error":"#REF!"}},{"$f":"IF(#REF!=12,9,0)","v":{"$error":"#REF!"}},{"$f":"IF(#REF!=13,8,0)","v":{"$error":"#REF!"}},{"$f":"IF(#REF!=14,7,0)","v":{"$error":"#REF!"}},{"$f":"IF(#REF!=15,6,0)","v":{"$error":"#REF!"}},{"$f":"IF(#REF!=16,5,0)","v":{"$error":"#REF!"}},{"$f":"IF(#REF!=17,4,0)","v":{"$error":"#REF!"}},{"$f":"IF(#REF!=18,3,0)","v":{"$error":"#REF!"}},{"$f":"IF(#REF!=19,2,0)","v":{"$error":"#REF!"}},{"$f":"IF(#REF!=20,1,0)","v":{"$error":"#REF!"}},{"$f":"IF(#REF!>20,0,0)","v":{"$error":"#REF!"}},{"$f":"IF(#REF!=\"сх\",0,0)","v":{"$error":"#REF!"}},{"$error":"#REF!"},{"$f":"IF(#REF!=1,25,0)","v":{"$error":"#REF!"}},{"$f":"IF(#REF!=2,22,0)","v":{"$error":"#REF!"}},{"$f":"IF(#REF!=3,20,0)","v":{"$error":"#REF!"}},{"$f":"IF(#REF!=4,18,0)","v":{"$error":"#REF!"}},{"$f":"IF(#REF!=5,16,0)","v":{"$error":"#REF!"}},{"$f":"IF(#REF!=6,15,0)","v":{"$error":"#REF!"}},{"$f":"IF(#REF!=7,14,0)","v":{"$error":"#REF!"}},{"$f":"IF(#REF!=8,13,0)","v":{"$error":"#REF!"}},{"$f":"IF(#REF!=9,12,0)","v":{"$error":"#REF!"}},{"$f":"IF(#REF!=10,11,0)","v":{"$error":"#REF!"}},{"$f":"IF(#REF!=11,10,0)","v":{"$error":"#REF!"}},{"$f":"IF(#REF!=12,9,0)","v":{"$error":"#REF!"}},{"$f":"IF(#REF!=13,8,0)","v":{"$error":"#REF!"}},{"$f":"IF(#REF!=14,7,0)","v":{"$error":"#REF!"}},{"$f":"IF(#REF!=15,6,0)","v":{"$error":"#REF!"}},{"$f":"IF(#REF!=16,5,0)","v":{"$error":"#REF!"}},{"$f":"IF(#REF!=17,4,0)","v":{"$error":"#REF!"}},{"$f":"IF(#REF!=18,3,0)","v":{"$error":"#REF!"}},{"$f":"IF(#REF!=19,2,0)","v":{"$error":"#REF!"}},{"$f":"IF(#REF!=20,1,0)","v":{"$error":"#REF!"}},{"$f":"IF(#REF!>20,0,0)","v":{"$error":"#REF!"}},{"$f":"IF(#REF!=\"сх\",0,0)","v":{"$error":"#REF!"}},{"$error":"#REF!"},{"$f":"IF(#REF!=1,45,0)","v":{"$error":"#REF!"}},{"$f":"IF(#REF!=2,42,0)","v":{"$error":"#REF!"}},{"$f":"IF(#REF!=3,40,0)","v":{"$error":"#REF!"}},{"$f":"IF(#REF!=4,38,0)","v":{"$error":"#REF!"}},{"$f":"IF(#REF!=5,36,0)","v":{"$error":"#REF!"}},{"$f":"IF(#REF!=6,35,0)","v":{"$error":"#REF!"}},{"$f":"IF(#REF!=7,34,0)","v":{"$error":"#REF!"}},{"$f":"IF(#REF!=8,33,0)","v":{"$error":"#REF!"}},{"$f":"IF(#REF!=9,32,0)","v":{"$error":"#REF!"}},{"$f":"IF(#REF!=10,31,0)","v":{"$error":"#REF!"}},{"$f":"IF(#REF!=11,30,0)","v":{"$error":"#REF!"}},{"$f":"IF(#REF!=12,29,0)","v":{"$error":"#REF!"}},{"$f":"IF(#REF!=13,28,0)","v":{"$error":"#REF!"}},{"$f":"IF(#REF!=14,27,0)","v":{"$error":"#REF!"}},{"$f":"IF(#REF!=15,26,0)","v":{"$error":"#REF!"}},{"$f":"IF(#REF!=16,25,0)","v":{"$error":"#REF!"}},{"$f":"IF(#REF!=17,24,0)","v":{"$error":"#REF!"}},{"$f":"IF(#REF!=18,23,0)","v":{"$error":"#REF!"}},{"$f":"IF(#REF!=19,22,0)","v":{"$error":"#REF!"}},{"$f":"IF(#REF!=20,21,0)","v":{"$error":"#REF!"}},{"$f":"IF(#REF!=21,20,0)","v":{"$error":"#REF!"}},{"$f":"IF(#REF!=22,19,0)","v":{"$error":"#REF!"}},{"$f":"IF(#REF!=23,18,0)","v":{"$error":"#REF!"}},{"$f":"IF(#REF!=24,17,0)","v":{"$error":"#REF!"}},{"$f":"IF(#REF!=25,16,0)","v":{"$error":"#REF!"}},{"$f":"IF(#REF!=26,15,0)","v":{"$error":"#REF!"}},{"$f":"IF(#REF!=27,14,0)","v":{"$error":"#REF!"}},{"$f":"IF(#REF!=28,13,0)","v":{"$error":"#REF!"}},{"$f":"IF(#REF!=29,12,0)","v":{"$error":"#REF!"}},{"$f":"IF(#REF!=30,11,0)","v":{"$error":"#REF!"}},{"$f":"IF(#REF!=31,10,0)","v":{"$error":"#REF!"}},{"$f":"IF(#REF!=32,9,0)","v":{"$error":"#REF!"}},{"$f":"IF(#REF!=33,8,0)","v":{"$error":"#REF!"}},{"$f":"IF(#REF!=34,7,0)","v":{"$error":"#REF!"}},{"$f":"IF(#REF!=35,6,0)","v":{"$error":"#REF!"}},{"$f":"IF(#REF!=36,5,0)","v":{"$error":"#REF!"}},{"$f":"IF(#REF!=37,4,0)","v":{"$error":"#REF!"}},{"$f":"IF(#REF!=38,3,0)","v":{"$error":"#REF!"}},{"$f":"IF(#REF!=39,2,0)","v":{"$error":"#REF!"}},{"$f":"IF(#REF!=40,1,0)","v":{"$error":"#REF!"}},{"$f":"IF(#REF!>20,0,0)","v":{"$error":"#REF!"}},{"$f":"IF(#REF!=\"сх\",0,0)","v":{"$error":"#REF!"}},{"$error":"#REF!"},{"$f":"IF(#REF!=1,45,0)","v":{"$error":"#REF!"}},{"$f":"IF(#REF!=2,42,0)","v":{"$error":"#REF!"}},{"$f":"IF(#REF!=3,40,0)","v":{"$error":"#REF!"}},{"$f":"IF(#REF!=4,38,0)","v":{"$error":"#REF!"}},{"$f":"IF(#REF!=5,36,0)","v":{"$error":"#REF!"}},{"$f":"IF(#REF!=6,35,0)","v":{"$error":"#REF!"}},{"$f":"IF(#REF!=7,34,0)","v":{"$error":"#REF!"}},{"$f":"IF(#REF!=8,33,0)","v":{"$error":"#REF!"}},{"$f":"IF(#REF!=9,32,0)","v":{"$error":"#REF!"}},{"$f":"IF(#REF!=10,31,0)","v":{"$error":"#REF!"}},{"$f":"IF(#REF!=11,30,0)","v":{"$error":"#REF!"}},{"$f":"IF(#REF!=12,29,0)","v":{"$error":"#REF!"}},{"$f":"IF(#REF!=13,28,0)","v":{"$error":"#REF!"}},{"$f":"IF(#REF!=14,27,0)","v":{"$error":"#REF!"}},{"$f":"IF(#REF!=15,26,0)","v":{"$error":"#REF!"}},{"$f":"IF(#REF!=16,25,0)","v":{"$error":"#REF!"}},{"$f":"IF(#REF!=17,24,0)","v":{"$error":"#REF!"}},{"$f":"IF(#REF!=18,23,0)","v":{"$error":"#REF!"}},{"$f":"IF(#REF!=19,22,0)","v":{"$error":"#REF!"}},{"$f":"IF(#REF!=20,21,0)","v":{"$error":"#REF!"}},{"$f":"IF(#REF!=21,20,0)","v":{"$error":"#REF!"}},{"$f":"IF(#REF!=22,19,0)","v":{"$error":"#REF!"}},{"$f":"IF(#REF!=23,18,0)","v":{"$error":"#REF!"}},{"$f":"IF(#REF!=24,17,0)","v":{"$error":"#REF!"}},{"$f":"IF(#REF!=25,16,0)","v":{"$error":"#REF!"}},{"$f":"IF(#REF!=26,15,0)","v":{"$error":"#REF!"}},{"$f":"IF(#REF!=27,14,0)","v":{"$error":"#REF!"}},{"$f":"IF(#REF!=28,13,0)","v":{"$error":"#REF!"}},{"$f":"IF(#REF!=29,12,0)","v":{"$error":"#REF!"}},{"$f":"IF(#REF!=30,11,0)","v":{"$error":"#REF!"}},{"$f":"IF(#REF!=31,10,0)","v":{"$error":"#REF!"}},{"$f":"IF(#REF!=32,9,0)","v":{"$error":"#REF!"}},{"$f":"IF(#REF!=33,8,0)","v":{"$error":"#REF!"}},{"$f":"IF(#REF!=34,7,0)","v":{"$error":"#REF!"}},{"$f":"IF(#REF!=35,6,0)","v":{"$error":"#REF!"}},{"$f":"IF(#REF!=36,5,0)","v":{"$error":"#REF!"}},{"$f":"IF(#REF!=37,4,0)","v":{"$error":"#REF!"}},{"$f":"IF(#REF!=38,3,0)","v":{"$error":"#REF!"}},{"$f":"IF(#REF!=39,2,0)","v":{"$error":"#REF!"}},{"$f":"IF(#REF!=40,1,0)","v":{"$error":"#REF!"}},{"$f":"IF(#REF!>20,0,0)","v":{"$error":"#REF!"}},{"$f":"IF(#REF!=\"сх\",0,0)","v":{"$error":"#REF!"}},{"$error":"#REF!"},null,{"$f":"IF(#REF!=\"сх\",\"ноль\",IF(#REF!>0,#REF!,\"Ноль\"))","v":{"$error":"#REF!"}},{"$f":"IF(#REF!=\"сх\",\"ноль\",IF(#REF!>0,#REF!,\"Ноль\"))","v":{"$error":"#REF!"}},null,{"$error":"#REF!"},{"$f":"IF(M14=#REF!,IF(#REF!<#REF!,#REF!,FB14),#REF!)","v":{"$error":"#REF!"}},{"$f":"IF(M14=#REF!,IF(#REF!<#REF!,0,1))","v":{"$error":"#REF!"}},{"$f":"IF(AND(EW14>=21,EW14<>0),EW14,IF(M14<#REF!,\"СТОП\",EX14+EY14))","v":{"$error":"#REF!"}},null,15,16,null,{"$f":"IF(#REF!=1,25,0)","v":{"$error":"#REF!"}},{"$f":"IF(#REF!=2,22,0)","v":{"$error":"#REF!"}},{"$f":"IF(#REF!=3,20,0)","v":{"$error":"#REF!"}},{"$f":"IF(#REF!=4,18,0)","v":{"$error":"#REF!"}},{"$f":"IF(#REF!=5,16,0)","v":{"$error":"#REF!"}},{"$f":"IF(#REF!=6,15,0)","v":{"$error":"#REF!"}},{"$f":"IF(#REF!=7,14,0)","v":{"$error":"#REF!"}},{"$f":"IF(#REF!=8,13,0)","v":{"$error":"#REF!"}},{"$f":"IF(#REF!=9,12,0)","v":{"$error":"#REF!"}},{"$f":"IF(#REF!=10,11,0)","v":{"$error":"#REF!"}},{"$f":"IF(#REF!=11,10,0)","v":{"$error":"#REF!"}},{"$f":"IF(#REF!=12,9,0)","v":{"$error":"#REF!"}},{"$f":"IF(#REF!=13,8,0)","v":{"$error":"#REF!"}},{"$f":"IF(#REF!=14,7,0)","v":{"$error":"#REF!"}},{"$f":"IF(#REF!=15,6,0)","v":{"$error":"#REF!"}},{"$f":"IF(#REF!=16,5,0)","v":{"$error":"#REF!"}},{"$f":"IF(#REF!=17,4,0)","v":{"$error":"#REF!"}},{"$f":"IF(#REF!=18,3,0)","v":{"$error":"#REF!"}},{"$f":"IF(#REF!=19,2,0)","v":{"$error":"#REF!"}},{"$f":"IF(#REF!=20,1,0)","v":{"$error":"#REF!"}},{"$f":"IF(#REF!>20,0,0)","v":{"$error":"#REF!"}},{"$f":"IF(#REF!=\"сх\",0,0)","v":{"$error":"#REF!"}},{"$error":"#REF!"},{"$f":"IF(#REF!=1,25,0)","v":{"$error":"#REF!"}},{"$f":"IF(#REF!=2,22,0)","v":{"$error":"#REF!"}},{"$f":"IF(#REF!=3,20,0)","v":{"$error":"#REF!"}},{"$f":"IF(#REF!=4,18,0)","v":{"$error":"#REF!"}},{"$f":"IF(#REF!=5,16,0)","v":{"$error":"#REF!"}},{"$f":"IF(#REF!=6,15,0)","v":{"$error":"#REF!"}},{"$f":"IF(#REF!=7,14,0)","v":{"$error":"#REF!"}},{"$f":"IF(#REF!=8,13,0)","v":{"$error":"#REF!"}},{"$f":"IF(#REF!=9,12,0)","v":{"$error":"#REF!"}},{"$f":"IF(#REF!=10,11,0)","v":{"$error":"#REF!"}},{"$f":"IF(#REF!=11,10,0)","v":{"$error":"#REF!"}},{"$f":"IF(#REF!=12,9,0)","v":{"$error":"#REF!"}},{"$f":"IF(#REF!=13,8,0)","v":{"$error":"#REF!"}},{"$f":"IF(#REF!=14,7,0)","v":{"$error":"#REF!"}},{"$f":"IF(#REF!=15,6,0)","v":{"$error":"#REF!"}},{"$f":"IF(#REF!=16,5,0)","v":{"$error":"#REF!"}},{"$f":"IF(#REF!=17,4,0)","v":{"$error":"#REF!"}},{"$f":"IF(#REF!=18,3,0)","v":{"$error":"#REF!"}},{"$f":"IF(#REF!=19,2,0)","v":{"$error":"#REF!"}},{"$f":"IF(#REF!=20,1,0)","v":{"$error":"#REF!"}},{"$f":"IF(#REF!>20,0,0)","v":{"$error":"#REF!"}},{"$f":"IF(#REF!=\"сх\",0,0)","v":{"$error":"#REF!"}},{"$error":"#REF!"},{"$f":"IF(#REF!=1,100,0)","v":{"$error":"#REF!"}},{"$f":"IF(#REF!=2,98,0)","v":{"$error":"#REF!"}},{"$f":"IF(#REF!=3,95,0)","v":{"$error":"#REF!"}},{"$f":"IF(#REF!=4,93,0)","v":{"$error":"#REF!"}},{"$f":"IF(#REF!=5,90,0)","v":{"$error":"#REF!"}},{"$f":"IF(#REF!=6,88,0)","v":{"$error":"#REF!"}},{"$f":"IF(#REF!=7,85,0)","v":{"$error":"#REF!"}},{"$f":"IF(#REF!=8,83,0)","v":{"$error":"#REF!"}},{"$f":"IF(#REF!=9,80,0)","v":{"$error":"#REF!"}},{"$f":"IF(#REF!=10,78,0)","v":{"$error":"#REF!"}},{"$f":"IF(#REF!=11,75,0)","v":{"$error":"#REF!"}},{"$f":"IF(#REF!=12,73,0)","v":{"$error":"#REF!"}},{"$f":"IF(#REF!=13,70,0)","v":{"$error":"#REF!"}},{"$f":"IF(#REF!=14,68,0)","v":{"$error":"#REF!"}},{"$f":"IF(#REF!=15,65,0)","v":{"$error":"#REF!"}},{"$f":"IF(#REF!=16,63,0)","v":{"$error":"#REF!"}},{"$f":"IF(#REF!=17,60,0)","v":{"$error":"#REF!"}},{"$f":"IF(#REF!=18,58,0)","v":{"$error":"#REF!"}},{"$f":"IF(#REF!=19,55,0)","v":{"$error":"#REF!"}},{"$f":"IF(#REF!=20,53,0)","v":{"$error":"#REF!"}},{"$f":"IF(#REF!>20,0,0)","v":{"$error":"#REF!"}},{"$f":"IF(#REF!=\"сх\",0,0)","v":{"$error":"#REF!"}},{"$error":"#REF!"},{"$f":"IF(#REF!=1,100,0)","v":{"$error":"#REF!"}},{"$f":"IF(#REF!=2,98,0)","v":{"$error":"#REF!"}},{"$f":"IF(#REF!=3,95,0)","v":{"$error":"#REF!"}},{"$f":"IF(#REF!=4,93,0)","v":{"$error":"#REF!"}},{"$f":"IF(#REF!=5,90,0)","v":{"$error":"#REF!"}},{"$f":"IF(#REF!=6,88,0)","v":{"$error":"#REF!"}},{"$f":"IF(#REF!=7,85,0)","v":{"$error":"#REF!"}},{"$f":"IF(#REF!=8,83,0)","v":{"$error":"#REF!"}},{"$f":"IF(#REF!=9,80,0)","v":{"$error":"#REF!"}},{"$f":"IF(#REF!=10,78,0)","v":{"$error":"#REF!"}},{"$f":"IF(#REF!=11,75,0)","v":{"$error":"#REF!"}},{"$f":"IF(#REF!=12,73,0)","v":{"$error":"#REF!"}},{"$f":"IF(#REF!=13,70,0)","v":{"$error":"#REF!"}},{"$f":"IF(#REF!=14,68,0)","v":{"$error":"#REF!"}},{"$f":"IF(#REF!=15,65,0)","v":{"$error":"#REF!"}},{"$f":"IF(#REF!=16,63,0)","v":{"$error":"#REF!"}},{"$f":"IF(#REF!=17,60,0)","v":{"$error":"#REF!"}},{"$f":"IF(#REF!=18,58,0)","v":{"$error":"#REF!"}},{"$f":"IF(#REF!=19,55,0)","v":{"$error":"#REF!"}},{"$f":"IF(#REF!=20,53,0)","v":{"$error":"#REF!"}},{"$f":"IF(#REF!>20,0,0)","v":{"$error":"#REF!"}},{"$f":"IF(#REF!=\"сх\",0,0)","v":{"$error":"#REF!"}},{"$error":"#REF!"}]
[6,21.5,174,"Сахаров Григорий","б/р","г. Новый Уренгой, Ямало-Ненецкий АО","МАУ МЦ \"НОРД\"","SKY-DOO",6,15,6,15,30,{"$f":"#REF!+#REF!","v":{"$error":"#REF!"}},null,null,{"$f":"IF(#REF!=1,25,0)","v":{"$error":"#REF!"}},{"$f":"IF(#REF!=2,22,0)","v":{"$error":"#REF!"}},{"$f":"IF(#REF!=3,20,0)","v":{"$error":"#REF!"}},{"$f":"IF(#REF!=4,18,0)","v":{"$error":"#REF!"}},{"$f":"IF(#REF!=5,16,0)","v":{"$error":"#REF!"}},{"$f":"IF(#REF!=6,15,0)","v":{"$error":"#REF!"}},{"$f":"IF(#REF!=7,14,0)","v":{"$error":"#REF!"}},{"$f":"IF(#REF!=8,13,0)","v":{"$error":"#REF!"}},{"$f":"IF(#REF!=9,12,0)","v":{"$error":"#REF!"}},{"$f":"IF(#REF!=10,11,0)","v":{"$error":"#REF!"}},{"$f":"IF(#REF!=11,10,0)","v":{"$error":"#REF!"}},{"$f":"IF(#REF!=12,9,0)","v":{"$error":"#REF!"}},{"$f":"IF(#REF!=13,8,0)","v":{"$error":"#REF!"}},{"$f":"IF(#REF!=14,7,0)","v":{"$error":"#REF!"}},{"$f":"IF(#REF!=15,6,0)","v":{"$error":"#REF!"}},{"$f":"IF(#REF!=16,5,0)","v":{"$error":"#REF!"}},{"$f":"IF(#REF!=17,4,0)","v":{"$error":"#REF!"}},{"$f":"IF(#REF!=18,3,0)","v":{"$error":"#REF!"}},{"$f":"IF(#REF!=19,2,0)","v":{"$error":"#REF!"}},{"$f":"IF(#REF!=20,1,0)","v":{"$error":"#REF!"}},{"$f":"IF(#REF!>20,0,0)","v":{"$error":"#REF!"}},{"$f":"IF(#REF!=\"сх\",0,0)","v":{"$error":"#REF!"}},{"$error":"#REF!"},{"$f":"IF(#REF!=1,25,0)","v":{"$error":"#REF!"}},{"$f":"IF(#REF!=2,22,0)","v":{"$error":"#REF!"}},{"$f":"IF(#REF!=3,20,0)","v":{"$error":"#REF!"}},{"$f":"IF(#REF!=4,18,0)","v":{"$error":"#REF!"}},{"$f":"IF(#REF!=5,16,0)","v":{"$error":"#REF!"}},{"$f":"IF(#REF!=6,15,0)","v":{"$error":"#REF!"}},{"$f":"IF(#REF!=7,14,0)","v":{"$error":"#REF!"}},{"$f":"IF(#REF!=8,13,0)","v":{"$error":"#REF!"}},{"$f":"IF(#REF!=9,12,0)","v":{"$error":"#REF!"}},{"$f":"IF(#REF!=10,11,0)","v":{"$error":"#REF!"}},{"$f":"IF(#REF!=11,10,0)","v":{"$error":"#REF!"}},{"$f":"IF(#REF!=12,9,0)","v":{"$error":"#REF!"}},{"$f":"IF(#REF!=13,8,0)","v":{"$error":"#REF!"}},{"$f":"IF(#REF!=14,7,0)","v":{"$error":"#REF!"}},{"$f":"IF(#REF!=15,6,0)","v":{"$error":"#REF!"}},{"$f":"IF(#REF!=16,5,0)","v":{"$error":"#REF!"}},{"$f":"IF(#REF!=17,4,0)","v":{"$error":"#REF!"}},{"$f":"IF(#REF!=18,3,0)","v":{"$error":"#REF!"}},{"$f":"IF(#REF!=19,2,0)","v":{"$error":"#REF!"}},{"$f":"IF(#REF!=20,1,0)","v":{"$error":"#REF!"}},{"$f":"IF(#REF!>20,0,0)","v":{"$error":"#REF!"}},{"$f":"IF(#REF!=\"сх\",0,0)","v":{"$error":"#REF!"}},{"$error":"#REF!"},{"$f":"IF(#REF!=1,45,0)","v":{"$error":"#REF!"}},{"$f":"IF(#REF!=2,42,0)","v":{"$error":"#REF!"}},{"$f":"IF(#REF!=3,40,0)","v":{"$error":"#REF!"}},{"$f":"IF(#REF!=4,38,0)","v":{"$error":"#REF!"}},{"$f":"IF(#REF!=5,36,0)","v":{"$error":"#REF!"}},{"$f":"IF(#REF!=6,35,0)","v":{"$error":"#REF!"}},{"$f":"IF(#REF!=7,34,0)","v":{"$error":"#REF!"}},{"$f":"IF(#REF!=8,33,0)","v":{"$error":"#REF!"}},{"$f":"IF(#REF!=9,32,0)","v":{"$error":"#REF!"}},{"$f":"IF(#REF!=10,31,0)","v":{"$error":"#REF!"}},{"$f":"IF(#REF!=11,30,0)","v":{"$error":"#REF!"}},{"$f":"IF(#REF!=12,29,0)","v":{"$error":"#REF!"}},{"$f":"IF(#REF!=13,28,0)","v":{"$error":"#REF!"}},{"$f":"IF(#REF!=14,27,0)","v":{"$error":"#REF!"}},{"$f":"IF(#REF!=15,26,0)","v":{"$error":"#REF!"}},{"$f":"IF(#REF!=16,25,0)","v":{"$error":"#REF!"}},{"$f":"IF(#REF!=17,24,0)","v":{"$error":"#REF!"}},{"$f":"IF(#REF!=18,23,0)","v":{"$error":"#REF!"}},{"$f":"IF(#REF!=19,22,0)","v":{"$error":"#REF!"}},{"$f":"IF(#REF!=20,21,0)","v":{"$error":"#REF!"}},{"$f":"IF(#REF!=21,20,0)","v":{"$error":"#REF!"}},{"$f":"IF(#REF!=22,19,0)","v":{"$error":"#REF!"}},{"$f":"IF(#REF!=23,18,0)","v":{"$error":"#REF!"}},{"$f":"IF(#REF!=24,17,0)","v":{"$error":"#REF!"}},{"$f":"IF(#REF!=25,16,0)","v":{"$error":"#REF!"}},{"$f":"IF(#REF!=26,15,0)","v":{"$error":"#REF!"}},{"$f":"IF(#REF!=27,14,0)","v":{"$error":"#REF!"}},{"$f":"IF(#REF!=28,13,0)","v":{"$error":"#REF!"}},{"$f":"IF(#REF!=29,12,0)","v":{"$error":"#REF!"}},{"$f":"IF(#REF!=30,11,0)","v":{"$error":"#REF!"}},{"$f":"IF(#REF!=31,10,0)","v":{"$error":"#REF!"}},{"$f":"IF(#REF!=32,9,0)","v":{"$error":"#REF!"}},{"$f":"IF(#REF!=33,8,0)","v":{"$error":"#REF!"}},{"$f":"IF(#REF!=34,7,0)","v":{"$error":"#REF!"}},{"$f":"IF(#REF!=35,6,0)","v":{"$error":"#REF!"}},{"$f":"IF(#REF!=36,5,0)","v":{"$error":"#REF!"}},{"$f":"IF(#REF!=37,4,0)","v":{"$error":"#REF!"}},{"$f":"IF(#REF!=38,3,0)","v":{"$error":"#REF!"}},{"$f":"IF(#REF!=39,2,0)","v":{"$error":"#REF!"}},{"$f":"IF(#REF!=40,1,0)","v":{"$error":"#REF!"}},{"$f":"IF(#REF!>20,0,0)","v":{"$error":"#REF!"}},{"$f":"IF(#REF!=\"сх\",0,0)","v":{"$error":"#REF!"}},{"$error":"#REF!"},{"$f":"IF(#REF!=1,45,0)","v":{"$error":"#REF!"}},{"$f":"IF(#REF!=2,42,0)","v":{"$error":"#REF!"}},{"$f":"IF(#REF!=3,40,0)","v":{"$error":"#REF!"}},{"$f":"IF(#REF!=4,38,0)","v":{"$error":"#REF!"}},{"$f":"IF(#REF!=5,36,0)","v":{"$error":"#REF!"}},{"$f":"IF(#REF!=6,35,0)","v":{"$error":"#REF!"}},{"$f":"IF(#REF!=7,34,0)","v":{"$error":"#REF!"}},{"$f":"IF(#REF!=8,33,0)","v":{"$error":"#REF!"}},{"$f":"IF(#REF!=9,32,0)","v":{"$error":"#REF!"}},{"$f":"IF(#REF!=10,31,0)","v":{"$error":"#REF!"}},{"$f":"IF(#REF!=11,30,0)","v":{"$error":"#REF!"}},{"$f":"IF(#REF!=12,29,0)","v":{"$error":"#REF!"}},{"$f":"IF(#REF!=13,28,0)","v":{"$error":"#REF!"}},{"$f":"IF(#REF!=14,27,0)","v":{"$error":"#REF!"}},{"$f":"IF(#REF!=15,26,0)","v":{"$error":"#REF!"}},{"$f":"IF(#REF!=16,25,0)","v":{"$error":"#REF!"}},{"$f":"IF(#REF!=17,24,0)","v":{"$error":"#REF!"}},{"$f":"IF(#REF!=18,23,0)","v":{"$error":"#REF!"}},{"$f":"IF(#REF!=19,22,0)","v":{"$error":"#REF!"}},{"$f":"IF(#REF!=20,21,0)","v":{"$error":"#REF!"}},{"$f":"IF(#REF!=21,20,0)","v":{"$error":"#REF!"}},{"$f":"IF(#REF!=22,19,0)","v":{"$error":"#REF!"}},{"$f":"IF(#REF!=23,18,0)","v":{"$error":"#REF!"}},{"$f":"IF(#REF!=24,17,0)","v":{"$error":"#REF!"}},{"$f":"IF(#REF!=25,16,0)","v":{"$error":"#REF!"}},{"$f":"IF(#REF!=26,15,0)","v":{"$error":"#REF!"}},{"$f":"IF(#REF!=27,14,0)","v":{"$error":"#REF!"}},{"$f":"IF(#REF!=28,13,0)","v":{"$error":"#REF!"}},{"$f":"IF(#REF!=29,12,0)","v":{"$error":"#REF!"}},{"$f":"IF(#REF!=30,11,0)","v":{"$error":"#REF!"}},{"$f":"IF(#REF!=31,10,0)","v":{"$error":"#REF!"}},{"$f":"IF(#REF!=32,9,0)","v":{"$error":"#REF!"}},{"$f":"IF(#REF!=33,8,0)","v":{"$error":"#REF!"}},{"$f":"IF(#REF!=34,7,0)","v":{"$error":"#REF!"}},{"$f":"IF(#REF!=35,6,0)","v":{"$error":"#REF!"}},{"$f":"IF(#REF!=36,5,0)","v":{"$error":"#REF!"}},{"$f":"IF(#REF!=37,4,0)","v":{"$error":"#REF!"}},{"$f":"IF(#REF!=38,3,0)","v":{"$error":"#REF!"}},{"$f":"IF(#REF!=39,2,0)","v":{"$error":"#REF!"}},{"$f":"IF(#REF!=40,1,0)","v":{"$error":"#REF!"}},{"$f":"IF(#REF!>20,0,0)","v":{"$error":"#REF!"}},{"$f":"IF(#REF!=\"сх\",0,0)","v":{"$error":"#REF!"}},{"$error":"#REF!"},null,{"$f":"IF(#REF!=\"сх\",\"ноль\",IF(#REF!>0,#REF!,\"Ноль\"))","v":{"$error":"#REF!"}},{"$f":"IF(#REF!=\"сх\",\"ноль\",IF(#REF!>0,#REF!,\"Ноль\"))","v":{"$error":"#REF!"}},null,{"$error":"#REF!"},{"$f":"IF(M15=#REF!,IF(#REF!<#REF!,#REF!,FB15),#REF!)","v":{"$error":"#REF!"}},{"$f":"IF(M15=#REF!,IF(#REF!<#REF!,0,1))","v":{"$error":"#REF!"}},{"$f":"IF(AND(EW15>=21,EW15<>0),EW15,IF(M15<#REF!,\"СТОП\",EX15+EY15))","v":{"$error":"#REF!"}},null,15,16,null,{"$f":"IF(#REF!=1,25,0)","v":{"$error":"#REF!"}},{"$f":"IF(#REF!=2,22,0)","v":{"$error":"#REF!"}},{"$f":"IF(#REF!=3,20,0)","v":{"$error":"#REF!"}},{"$f":"IF(#REF!=4,18,0)","v":{"$error":"#REF!"}},{"$f":"IF(#REF!=5,16,0)","v":{"$error":"#REF!"}},{"$f":"IF(#REF!=6,15,0)","v":{"$error":"#REF!"}},{"$f":"IF(#REF!=7,14,0)","v":{"$error":"#REF!"}},{"$f":"IF(#REF!=8,13,0)","v":{"$error":"#REF!"}},{"$f":"IF(#REF!=9,12,0)","v":{"$error":"#REF!"}},{"$f":"IF(#REF!=10,11,0)","v":{"$error":"#REF!"}},{"$f":"IF(#REF!=11,10,0)","v":{"$error":"#REF!"}},{"$f":"IF(#REF!=12,9,0)","v":{"$error":"#REF!"}},{"$f":"IF(#REF!=13,8,0)","v":{"$error":"#REF!"}},{"$f":"IF(#REF!=14,7,0)","v":{"$error":"#REF!"}},{"$f":"IF(#REF!=15,6,0)","v":{"$error":"#REF!"}},{"$f":"IF(#REF!=16,5,0)","v":{"$error":"#REF!"}},{"$f":"IF(#REF!=17,4,0)","v":{"$error":"#REF!"}},{"$f":"IF(#REF!=18,3,0)","v":{"$error":"#REF!"}},{"$f":"IF(#REF!=19,2,0)","v":{"$error":"#REF!"}},{"$f":"IF(#REF!=20,1,0)","v":{"$error":"#REF!"}},{"$f":"IF(#REF!>20,0,0)","v":{"$error":"#REF!"}},{"$f":"IF(#REF!=\"сх\",0,0)","v":{"$error":"#REF!"}},{"$error":"#REF!"},{"$f":"IF(#REF!=1,25,0)","v":{"$error":"#REF!"}},{"$f":"IF(#REF!=2,22,0)","v":{"$error":"#REF!"}},{"$f":"IF(#REF!=3,20,0)","v":{"$error":"#REF!"}},{"$f":"IF(#REF!=4,18,0)","v":{"$error":"#REF!"}},{"$f":"IF(#REF!=5,16,0)","v":{"$error":"#REF!"}},{"$f":"IF(#REF!=6,15,0)","v":{"$error":"#REF!"}},{"$f":"IF(#REF!=7,14,0)","v":{"$error":"#REF!"}},{"$f":"IF(#REF!=8,13,0)","v":{"$error":"#REF!"}},{"$f":"IF(#REF!=9,12,0)","v":{"$error":"#REF!"}},{"$f":"IF(#REF!=10,11,0)","v":{"$error":"#REF!"}},{"$f":"IF(#REF!=11,10,0)","v":{"$error":"#REF!"}},{"$f":"IF(#REF!=12,9,0)","v":{"$error":"#REF!"}},{"$f":"IF(#REF!=13,8,0)","v":{"$error":"#REF!"}},{"$f":"IF(#REF!=14,7,0)","v":{"$error":"#REF!"}},{"$f":"IF(#REF!=15,6,0)","v":{"$error":"#REF!"}},{"$f":"IF(#REF!=16,5,0)","v":{"$error":"#REF!"}},{"$f":"IF(#REF!=17,4,0)","v":{"$error":"#REF!"}},{"$f":"IF(#REF!=18,3,0)","v":{"$error":"#REF!"}},{"$f":"IF(#REF!=19,2,0)","v":{"$error":"#REF!"}},{"$f":"IF(#REF!=20,1,0)","v":{"$error":"#REF!"}},{"$f":"IF(#REF!>20,0,0)","v":{"$error":"#REF!"}},{"$f":"IF(#REF!=\"сх\",0,0)","v":{"$error":"#REF!"}},{"$error":"#REF!"},{"$f":"IF(#REF!=1,100,0)","v":{"$error":"#REF!"}},{"$f":"IF(#REF!=2,98,0)","v":{"$error":"#REF!"}},{"$f":"IF(#REF!=3,95,0)","v":{"$error":"#REF!"}},{"$f":"IF(#REF!=4,93,0)","v":{"$error":"#REF!"}},{"$f":"IF(#REF!=5,90,0)","v":{"$error":"#REF!"}},{"$f":"IF(#REF!=6,88,0)","v":{"$error":"#REF!"}},{"$f":"IF(#REF!=7,85,0)","v":{"$error":"#REF!"}},{"$f":"IF(#REF!=8,83,0)","v":{"$error":"#REF!"}},{"$f":"IF(#REF!=9,80,0)","v":{"$error":"#REF!"}},{"$f":"IF(#REF!=10,78,0)","v":{"$error":"#REF!"}},{"$f":"IF(#REF!=11,75,0)","v":{"$error":"#REF!"}},{"$f":"IF(#REF!=12,73,0)","v":{"$error":"#REF!"}},{"$f":"IF(#REF!=13,70,0)","v":{"$error":"#REF!"}},{"$f":"IF(#REF!=14,68,0)","v":{"$error":"#REF!"}},{"$f":"IF(#REF!=15,65,0)","v":{"$error":"#REF!"}},{"$f":"IF(#REF!=16,63,0)","v":{"$error":"#REF!"}},{"$f":"IF(#REF!=17,60,0)","v":{"$error":"#REF!"}},{"$f":"IF(#REF!=18,58,0)","v":{"$error":"#REF!"}},{"$f":"IF(#REF!=19,55,0)","v":{"$error":"#REF!"}},{"$f":"IF(#REF!=20,53,0)","v":{"$error":"#REF!"}},{"$f":"IF(#REF!>20,0,0)","v":{"$error":"#REF!"}},{"$f":"IF(#REF!=\"сх\",0,0)","v":{"$error":"#REF!"}},{"$error":"#REF!"},{"$f":"IF(#REF!=1,100,0)","v":{"$error":"#REF!"}},{"$f":"IF(#REF!=2,98,0)","v":{"$error":"#REF!"}},{"$f":"IF(#REF!=3,95,0)","v":{"$error":"#REF!"}},{"$f":"IF(#REF!=4,93,0)","v":{"$error":"#REF!"}},{"$f":"IF(#REF!=5,90,0)","v":{"$error":"#REF!"}},{"$f":"IF(#REF!=6,88,0)","v":{"$error":"#REF!"}},{"$f":"IF(#REF!=7,85,0)","v":{"$error":"#REF!"}},{"$f":"IF(#REF!=8,83,0)","v":{"$error":"#REF!"}},{"$f":"IF(#REF!=9,80,0)","v":{"$error":"#REF!"}},{"$f":"IF(#REF!=10,78,0)","v":{"$error":"#REF!"}},{"$f":"IF(#REF!=11,75,0)","v":{"$error":"#REF!"}},{"$f":"IF(#REF!=12,73,0)","v":{"$error":"#REF!"}},{"$f":"IF(#REF!=13,70,0)","v":{"$error":"#REF!"}},{"$f":"IF(#REF!=14,68,0)","v":{"$error":"#REF!"}},{"$f":"IF(#REF!=15,65,0)","v":{"$error":"#REF!"}},{"$f":"IF(#REF!=16,63,0)","v":{"$error":"#REF!"}},{"$f":"IF(#REF!=17,60,0)","v":{"$error":"#REF!"}},{"$f":"IF(#REF!=18,58,0)","v":{"$error":"#REF!"}},{"$f":"IF(#REF!=19,55,0)","v":{"$error":"#REF!"}},{"$f":"IF(#REF!=20,53,0)","v":{"$error":"#REF!"}},{"$f":"IF(#REF!>20,0,0)","v":{"$error":"#REF!"}},{"$f":"IF(#REF!=\"сх\",0,0)","v":{"$error":"#REF!"}},{"$error":"#REF!"}]
[7,20,838,"Степура Владислав","б/р","г. Новый Уренгой, Ямало-Ненецкий АО","СТК \"Факел\"","SKY-DOO","сх",0,4,18,18,{"$f":"#REF!+#REF!","v":{"$error":"#REF!"}},null,null,{"$f":"IF(#REF!=1,25,0)","v":{"$error":"#REF!"}},{"$f":"IF(#REF!=2,22,0)","v":{"$error":"#REF!"}},{"$f":"IF(#REF!=3,20,0)","v":{"$error":"#REF!"}},{"$f":"IF(#REF!=4,18,0)","v":{"$error":"#REF!"}},{"$f":"IF(#REF!=5,16,0)","v":{"$error":"#REF!"}},{"$f":"IF(#REF!=6,15,0)","v":{"$error":"#REF!"}},{"$f":"IF(#REF!=7,14,0)","v":{"$error":"#REF!"}},{"$f":"IF(#REF!=8,13,0)","v":{"$error":"#REF!"}},{"$f":"IF(#REF!=9,12,0)","v":{"$error":"#REF!"}},{"$f":"IF(#REF!=10,11,0)","v":{"$error":"#REF!"}},{"$f":"IF(#REF!=11,10,0)","v":{"$error":"#REF!"}},{"$f":"IF(#REF!=12,9,0)","v":{"$error":"#REF!"}},{"$f":"IF(#REF!=13,8,0)","v":{"$error":"#REF!"}},{"$f":"IF(#REF!=14,7,0)","v":{"$error":"#REF!"}},{"$f":"IF(#REF!=15,6,0)","v":{"$error":"#REF!"}},{"$f":"IF(#REF!=16,5,0)","v":{"$error":"#REF!"}},{"$f":"IF(#REF!=17,4,0)","v":{"$error":"#REF!"}},{"$f":"IF(#REF!=18,3,0)","v":{"$error":"#REF!"}},{"$f":"IF(#REF!=19,2,0)","v":{"$error":"#REF!"}},{"$f":"IF(#REF!=20,1,0)","v":{"$error":"#REF!"}},{"$f":"IF(#REF!>20,0,0)","v":{"$error":"#REF!"}},{"$f":"IF(#REF!=\"сх\",0,0)","v":{"$error":"#REF!"}},{"$error":"#REF!"},{"$f":"IF(#REF!=1,25,0)","v":{"$error":"#REF!"}},{"$f":"IF(#REF!=2,22,0)","v":{"$error":"#REF!"}},{"$f":"IF(#REF!=3,20,0)","v":{"$error":"#REF!"}},{"$f":"IF(#REF!=4,18,0)","v":{"$error":"#REF!"}},{"$f":"IF(#REF!=5,16,0)","v":{"$error":"#REF!"}},{"$f":"IF(#REF!=6,15,0)","v":{"$error":"#REF!"}},{"$f":"IF(#REF!=7,14,0)","v":{"$error":"#REF!"}},{"$f":"IF(#REF!=8,13,0)","v":{"$error":"#REF!"}},{"$f":"IF(#REF!=9,12,0)","v":{"$error":"#REF!"}},{"$f":"IF(#REF!=10,11,0)","v":{"$error":"#REF!"}},{"$f":"IF(#REF!=11,10,0)","v":{"$error":"#REF!"}},{"$f":"IF(#REF!=12,9,0)","v":{"$error":"#REF!"}},{"$f":"IF(#REF!=13,8,0)","v":{"$error":"#REF!"}},{"$f":"IF(#REF!=14,7,0)","v":{"$error":"#REF!"}},{"$f":"IF(#REF!=15,6,0)","v":{"$error":"#REF!"}},{"$f":"IF(#REF!=16,5,0)","v":{"$error":"#REF!"}},{"$f":"IF(#REF!=17,4,0)","v":{"$error":"#REF!"}},{"$f":"IF(#REF!=18,3,0)","v":{"$error":"#REF!"}},{"$f":"IF(#REF!=19,2,0)","v":{"$error":"#REF!"}},{"$f":"IF(#REF!=20,1,0)","v":{"$error":"#REF!"}},{"$f":"IF(#REF!>20,0,0)","v":{"$error":"#REF!"}},{"$f":"IF(#REF!=\"сх\",0,0)","v":{"$error":"#REF!"}},{"$error":"#REF!"},{"$f":"IF(#REF!=1,45,0)","v":{"$error":"#REF!"}},{"$f":"IF(#REF!=2,42,0)","v":{"$error":"#REF!"}},{"$f":"IF(#REF!=3,40,0)","v":{"$error":"#REF!"}},{"$f":"IF(#REF!=4,38,0)","v":{"$error":"#REF!"}},{"$f":"IF(#REF!=5,36,0)","v":{"$error":"#REF!"}},{"$f":"IF(#REF!=6,35,0)","v":{"$error":"#REF!"}},{"$f":"IF(#REF!=7,34,0)","v":{"$error":"#REF!"}},{"$f":"IF(#REF!=8,33,0)","v":{"$error":"#REF!"}},{"$f":"IF(#REF!=9,32,0)","v":{"$error":"#REF!"}},{"$f":"IF(#REF!=10,31,0)","v":{"$error":"#REF!"}},{"$f":"IF(#REF!=11,30,0)","v":{"$error":"#REF!"}},{"$f":"IF(#REF!=12,29,0)","v":{"$error":"#REF!"}},{"$f":"IF(#REF!=13,28,0)","v":{"$error":"#REF!"}},{"$f":"IF(#REF!=14,27,0)","v":{"$error":"#REF!"}},{"$f":"IF(#REF!=15,26,0)","v":{"$error":"#REF!"}},{"$f":"IF(#REF!=16,25,0)","v":{"$error":"#REF!"}},{"$f":"IF(#REF!=17,24,0)","v":{"$error":"#REF!"}},{"$f":"IF(#REF!=18,23,0)","v":{"$error":"#REF!"}},{"$f":"IF(#REF!=19,22,0)","v":{"$error":"#REF!"}},{"$f":"IF(#REF!=20,21,0)","v":{"$error":"#REF!"}},{"$f":"IF(#REF!=21,20,0)","v":{"$error":"#REF!"}},{"$f":"IF(#REF!=22,19,0)","v":{"$error":"#REF!"}},{"$f":"IF(#REF!=23,18,0)","v":{"$error":"#REF!"}},{"$f":"IF(#REF!=24,17,0)","v":{"$error":"#REF!"}},{"$f":"IF(#REF!=25,16,0)","v":{"$error":"#REF!"}},{"$f":"IF(#REF!=26,15,0)","v":{"$error":"#REF!"}},{"$f":"IF(#REF!=27,14,0)","v":{"$error":"#REF!"}},{"$f":"IF(#REF!=28,13,0)","v":{"$error":"#REF!"}},{"$f":"IF(#REF!=29,12,0)","v":{"$error":"#REF!"}},{"$f":"IF(#REF!=30,11,0)","v":{"$error":"#REF!"}},{"$f":"IF(#REF!=31,10,0)","v":{"$error":"#REF!"}},{"$f":"IF(#REF!=32,9,0)","v":{"$error":"#REF!"}},{"$f":"IF(#REF!=33,8,0)","v":{"$error":"#REF!"}},{"$f":"IF(#REF!=34,7,0)","v":{"$error":"#REF!"}},{"$f":"IF(#REF!=35,6,0)","v":{"$error":"#REF!"}},{"$f":"IF(#REF!=36,5,0)","v":{"$error":"#REF!"}},{"$f":"IF(#REF!=37,4,0)","v":{"$error":"#REF!"}},{"$f":"IF(#REF!=38,3,0)","v":{"$error":"#REF!"}},{"$f":"IF(#REF!=39,2,0)","v":{"$error":"#REF!"}},{"$f":"IF(#REF!=40,1,0)","v":{"$error":"#REF!"}},{"$f":"IF(#REF!>20,0,0)","v":{"$error":"#REF!"}},{"$f":"IF(#REF!=\"сх\",0,0)","v":{"$error":"#REF!"}},{"$error":"#REF!"},{"$f":"IF(#REF!=1,45,0)","v":{"$error":"#REF!"}},{"$f":"IF(#REF!=2,42,0)","v":{"$error":"#REF!"}},{"$f":"IF(#REF!=3,40,0)","v":{"$error":"#REF!"}},{"$f":"IF(#REF!=4,38,0)","v":{"$error":"#REF!"}},{"$f":"IF(#REF!=5,36,0)","v":{"$error":"#REF!"}},{"$f":"IF(#REF!=6,35,0)","v":{"$error":"#REF!"}},{"$f":"IF(#REF!=7,34,0)","v":{"$error":"#REF!"}},{"$f":"IF(#REF!=8,33,0)","v":{"$error":"#REF!"}},{"$f":"IF(#REF!=9,32,0)","v":{"$error":"#REF!"}},{"$f":"IF(#REF!=10,31,0)","v":{"$error":"#REF!"}},{"$f":"IF(#REF!=11,30,0)","v":{"$error":"#REF!"}},{"$f":"IF(#REF!=12,29,0)","v":{"$error":"#REF!"}},{"$f":"IF(#REF!=13,28,0)","v":{"$error":"#REF!"}},{"$f":"IF(#REF!=14,27,0)","v":{"$error":"#REF!"}},{"$f":"IF(#REF!=15,26,0)","v":{"$error":"#REF!"}},{"$f":"IF(#REF!=16,25,0)","v":{"$error":"#REF!"}},{"$f":"IF(#REF!=17,24,0)","v":{"$error":"#REF!"}},{"$f":"IF(#REF!=18,23,0)","v":{"$error":"#REF!"}},{"$f":"IF(#REF!=19,22,0)","v":{"$error":"#REF!"}},{"$f":"IF(#REF!=20,21,0)","v":{"$error":"#REF!"}},{"$f":"IF(#REF!=21,20,0)","v":{"$error":"#REF!"}},{"$f":"IF(#REF!=22,19,0)","v":{"$error":"#REF!"}},{"$f":"IF(#REF!=23,18,0)","v":{"$error":"#REF!"}},{"$f":"IF(#REF!=24,17,0)","v":{"$error":"#REF!"}},{"$f":"IF(#REF!=25,16,0)","v":{"$error":"#REF!"}},{"$f":"IF(#REF!=26,15,0)","v":{"$error":"#REF!"}},{"$f":"IF(#REF!=27,14,0)","v":{"$error":"#REF!"}},{"$f":"IF(#REF!=28,13,0)","v":{"$error":"#REF!"}},{"$f":"IF(#REF!=29,12,0)","v":{"$error":"#REF!"}},{"$f":"IF(#REF!=30,11,0)","v":{"$error":"#REF!"}},{"$f":"IF(#REF!=31,10,0)","v":{"$error":"#REF!"}},{"$f":"IF(#REF!=32,9,0)","v":{"$error":"#REF!"}},{"$f":"IF(#REF!=33,8,0)","v":{"$error":"#REF!"}},{"$f":"IF(#REF!=34,7,0)","v":{"$error":"#REF!"}},{"$f":"IF(#REF!=35,6,0)","v":{"$error":"#REF!"}},{"$f":"IF(#REF!=36,5,0)","v":{"$error":"#REF!"}},{"$f":"IF(#REF!=37,4,0)","v":{"$error":"#REF!"}},{"$f":"IF(#REF!=38,3,0)","v":{"$error":"#REF!"}},{"$f":"IF(#REF!=39,2,0)","v":{"$error":"#REF!"}},{"$f":"IF(#REF!=40,1,0)","v":{"$error":"#REF!"}},{"$f":"IF(#REF!>20,0,0)","v":{"$error":"#REF!"}},{"$f":"IF(#REF!=\"сх\",0,0)","v":{"$error":"#REF!"}},{"$error":"#REF!"},null,{"$f":"IF(#REF!=\"сх\",\"ноль\",IF(#REF!>0,#REF!,\"Ноль\"))","v":{"$error":"#REF!"}},{"$f":"IF(#REF!=\"сх\",\"ноль\",IF(#REF!>0,#REF!,\"Ноль\"))","v":{"$error":"#REF!"}},null,{"$error":"#REF!"},{"$f":"IF(M16=#REF!,IF(#REF!<#REF!,#REF!,FB16),#REF!)","v":{"$error":"#REF!"}},{"$f":"IF(M16=#REF!,IF(#REF!<#REF!,0,1))","v":{"$error":"#REF!"}},{"$f":"IF(AND(EW16>=21,EW16<>0),EW16,IF(M16<#REF!,\"СТОП\",EX16+EY16))","v":{"$error":"#REF!"}},null,15,16,null,{"$f":"IF(#REF!=1,25,0)","v":{"$error":"#REF!"}},{"$f":"IF(#REF!=2,22,0)","v":{"$error":"#REF!"}},{"$f":"IF(#REF!=3,20,0)","v":{"$error":"#REF!"}},{"$f":"IF(#REF!=4,18,0)","v":{"$error":"#REF!"}},{"$f":"IF(#REF!=5,16,0)","v":{"$error":"#REF!"}},{"$f":"IF(#REF!=6,15,0)","v":{"$error":"#REF!"}},{"$f":"IF(#REF!=7,14,0)","v":{"$error":"#REF!"}},{"$f":"IF(#REF!=8,13,0)","v":{"$error":"#REF!"}},{"$f":"IF(#REF!=9,12,0)","v":{"$error":"#REF!"}},{"$f":"IF(#REF!=10,11,0)","v":{"$error":"#REF!"}},{"$f":"IF(#REF!=11,10,0)","v":{"$error":"#REF!"}},{"$f":"IF(#REF!=12,9,0)","v":{"$error":"#REF!"}},{"$f":"IF(#REF!=13,8,0)","v":{"$error":"#REF!"}},{"$f":"IF(#REF!=14,7,0)","v":{"$error":"#REF!"}},{"$f":"IF(#REF!=15,6,0)","v":{"$error":"#REF!"}},{"$f":"IF(#REF!=16,5,0)","v":{"$error":"#REF!"}},{"$f":"IF(#REF!=17,4,0)","v":{"$error":"#REF!"}},{"$f":"IF(#REF!=18,3,0)","v":{"$error":"#REF!"}},{"$f":"IF(#REF!=19,2,0)","v":{"$error":"#REF!"}},{"$f":"IF(#REF!=20,1,0)","v":{"$error":"#REF!"}},{"$f":"IF(#REF!>20,0,0)","v":{"$error":"#REF!"}},{"$f":"IF(#REF!=\"сх\",0,0)","v":{"$error":"#REF!"}},{"$error":"#REF!"},{"$f":"IF(#REF!=1,25,0)","v":{"$error":"#REF!"}},{"$f":"IF(#REF!=2,22,0)","v":{"$error":"#REF!"}},{"$f":"IF(#REF!=3,20,0)","v":{"$error":"#REF!"}},{"$f":"IF(#REF!=4,18,0)","v":{"$error":"#REF!"}},{"$f":"IF(#REF!=5,16,0)","v":{"$error":"#REF!"}},{"$f":"IF(#REF!=6,15,0)","v":{"$error":"#REF!"}},{"$f":"IF(#REF!=7,14,0)","v":{"$error":"#REF!"}},{"$f":"IF(#REF!=8,13,0)","v":{"$error":"#REF!"}},{"$f":"IF(#REF!=9,12,0)","v":{"$error":"#REF!"}},{"$f":"IF(#REF!=10,11,0)","v":{"$error":"#REF!"}},{"$f":"IF(#REF!=11,10,0)","v":{"$error":"#REF!"}},{"$f":"IF(#REF!=12,9,0)","v":{"$error":"#REF!"}},{"$f":"IF(#REF!=13,8,0)","v":{"$error":"#REF!"}},{"$f":"IF(#REF!=14,7,0)","v":{"$error":"#REF!"}},{"$f":"IF(#REF!=15,6,0)","v":{"$error":"#REF!"}},{"$f":"IF(#REF!=16,5,0)","v":{"$error":"#REF!"}},{"$f":"IF(#REF!=17,4,0)","v":{"$error":"#REF!"}},{"$f":"IF(#REF!=18,3,0)","v":{"$error":"#REF!"}},{"$f":"IF(#REF!=19,2,0)","v":{"$error":"#REF!"}},{"$f":"IF(#REF!=20,1,0)","v":{"$error":"#REF!"}},{"$f":"IF(#REF!>20,0,0)","v":{"$error":"#REF!"}},{"$f":"IF(#REF!=\"сх\",0,0)","v":{"$error":"#REF!"}},{"$error":"#REF!"},{"$f":"IF(#REF!=1,100,0)","v":{"$error":"#REF!"}},{"$f":"IF(#REF!=2,98,0)","v":{"$error":"#REF!"}},{"$f":"IF(#REF!=3,95,0)","v":{"$error":"#REF!"}},{"$f":"IF(#REF!=4,93,0)","v":{"$error":"#REF!"}},{"$f":"IF(#REF!=5,90,0)","v":{"$error":"#REF!"}},{"$f":"IF(#REF!=6,88,0)","v":{"$error":"#REF!"}},{"$f":"IF(#REF!=7,85,0)","v":{"$error":"#REF!"}},{"$f":"IF(#REF!=8,83,0)","v":{"$error":"#REF!"}},{"$f":"IF(#REF!=9,80,0)","v":{"$error":"#REF!"}},{"$f":"IF(#REF!=10,78,0)","v":{"$error":"#REF!"}},{"$f":"IF(#REF!=11,75,0)","v":{"$error":"#REF!"}},{"$f":"IF(#REF!=12,73,0)","v":{"$error":"#REF!"}},{"$f":"IF(#REF!=13,70,0)","v":{"$error":"#REF!"}},{"$f":"IF(#REF!=14,68,0)","v":{"$error":"#REF!"}},{"$f":"IF(#REF!=15,65,0)","v":{"$error":"#REF!"}},{"$f":"IF(#REF!=16,63,0)","v":{"$error":"#REF!"}},{"$f":"IF(#REF!=17,60,0)","v":{"$error":"#REF!"}},{"$f":"IF(#REF!=18,58,0)","v":{"$error":"#REF!"}},{"$f":"IF(#REF!=19,55,0)","v":{"$error":"#REF!"}},{"$f":"IF(#REF!=20,53,0)","v":{"$error":"#REF!"}},{"$f":"IF(#REF!>20,0,0)","v":{"$error":"#REF!"}},{"$f":"IF(#REF!=\"сх\",0,0)","v":{"$error":"#REF!"}},{"$error":"#REF!"},{"$f":"IF(#REF!=1,100,0)","v":{"$error":"#REF!"}},{"$f":"IF(#REF!=2,98,0)","v":{"$error":"#REF!"}},{"$f":"IF(#REF!=3,95,0)","v":{"$error":"#REF!"}},{"$f":"IF(#REF!=4,93,0)","v":{"$error":"#REF!"}},{"$f":"IF(#REF!=5,90,0)","v":{"$error":"#REF!"}},{"$f":"IF(#REF!=6,88,0)","v":{"$error":"#REF!"}},{"$f":"IF(#REF!=7,85,0)","v":{"$error":"#REF!"}},{"$f":"IF(#REF!=8,83,0)","v":{"$error":"#REF!"}},{"$f":"IF(#REF!=9,80,0)","v":{"$error":"#REF!"}},{"$f":"IF(#REF!=10,78,0)","v":{"$error":"#REF!"}},{"$f":"IF(#REF!=11,75,0)","v":{"$error":"#REF!"}},{"$f":"IF(#REF!=12,73,0)","v":{"$error":"#REF!"}},{"$f":"IF(#REF!=13,70,0)","v":{"$error":"#REF!"}},{"$f":"IF(#REF!=14,68,0)","v":{"$error":"#REF!"}},{"$f":"IF(#REF!=15,65,0)","v":{"$error":"#REF!"}},{"$f":"IF(#REF!=16,63,0)","v":{"$error":"#REF!"}},{"$f":"IF(#REF!=17,60,0)","v":{"$error":"#REF!"}},{"$f":"IF(#REF!=18,58,0)","v":{"$error":"#REF!"}},{"$f":"IF(#REF!=19,55,0)","v":{"$error":"#REF!"}},{"$f":"IF(#REF!=20,53,0)","v":{"$error":"#REF!"}},{"$f":"IF(#REF!>20,0,0)","v":{"$error":"#REF!"}},{"$f":"IF(#REF!=\"сх\",0,0)","v":{"$error":"#REF!"}},{"$error":"#REF!"}]
[]
["Главный судья соревнований"]
["судья Всероссийской категории:                                                                                                              А. Б. Стеблинский (г. Тюмень; лицензия МФР А 144)"]
[]
["Главный секретарь соревнований"]
["судья Всероссийской категории:                                                                                              А. Ю. Иванов (г. Москва/лицензия МФР А 105; FIM 11245)"]

{"sheet":"СПОРТ ЯНАО","index":5,"n_rows":22,"n_cols":256,"rows_kept":22,"cut":false,"hidden":false,"merged":[[17,0,17,7],[20,0,20,10],[6,6,8,6],[6,7,8,7],[6,8,6,9],[6,10,6,11],[6,0,8,0],[6,1,8,1],[6,2,8,2],[6,3,8,3],[6,4,8,4],[6,5,8,5],[6,12,8,12],[6,13,8,13],[7,8,8,8],[7,9,8,9],[7,10,8,10],[7,11,8,11],[5,8,5,10],[0,13,3,13],[1,0,1,12],[2,0,2,12],[3,0,3,12],[4,0,4,12]]}
[]
[" Кубок ЯНАО по кроссу на снегоходах 2017 года - III-й этап.   "]
["ПРОТОКОЛ ЛИЧНОГО ЗАЧЕТА",null,null,null,null,null,null,null,null,null,null,null,null,null,null,null,null,null,null,null,null,null,null,null,null,null,null,null,null,null,null,null,null,null,null,null,null,null,null,null,null,null,null,null,null,null,null,null,null,null,null,null,null,null,null,null,null,null,null,null,null,null,null,null,null,null,null,null,null,null,null,null,null,null,null,null,null,null,null,null,null,null,null,null,null,null,null,null,null,null,null,null,null,null,null,null,null,null,null,null,null,null,null,null,null,null,null,null,null,null,null,null,null,null,null,null,null,null,null,null,null,null,null,null,null,null,null,null,null,null,null,null,null,null,null,null,null,null,null,null,null,null,null,null,null,null,null,null,null,null,null,null,null,null,null,null,null,null,null,null,null,null,null,null,null,null,null,null,null,null,null,null,"первый этап"]
["г. Новый Уренгой, Ямало-Ненецкий АО.                                                                                                                                                  31 марта - 02 апреля 2017 года.",null,null,null,null,null,null,null,null,null,null,null,null,null,null,null,null,null,null,null,null,null,null,null,null,null,null,null,null,null,null,null,null,null,null,null,null,null,null,null,null,null,null,null,null,null,null,null,null,null,null,null,null,null,null,null,null,null,null,null,null,null,null,null,null,null,null,null,null,null,null,null,null,null,null,null,null,null,null,null,null,null,null,null,null,null,null,null,null,null,null,null,null,null,null,null,null,null,null,null,null,null,null,null,null,null,null,null,null,null,null,null,null,null,null,null,null,null,null,null,null,null,null,null,null,null,null,null,null,null,null,null,null,null,null,null,null,null,null,null,null,null,null,null,null,null,null,null,null,null,null,null,null,null,null,null,null,null,null,null,null,"первый заезд личные очки",null,null,null,null,null,null,null,null,null,null,null,null,null,null,null,null,null,null,null,null,null,"второй заезд личные очки",null,null,null,null,null,null,null,null,null,null,null,null,null,null,null,null,null,null,null,null,null,null,"Первый заезд командные очки",null,null,null,null,null,null,null,null,null,null,null,null,null,null,null,null,null,null,null,null,null,null,"Второй заезд командные очки"]
["Класс \"Спорт\".",null,null,null,null,null,null,null,null,null,null,null,null,null,null,null,null,null,null,null,null,null,null,null,null,null,null,null,null,null,null,null,null,null,null,null,null,null,null,null,null,null,null,null,null,null,null,null,null,null,null,null,null,null,null,null,null,null,null,null,null,null,null,null,null,null,null,null,null,null,null,null,null,null,null,null,null,null,null,null,null,null,null,null,null,null,null,null,null,null,null,null,null,null,null,null,null,null,null,null,null,null,null,null,null,null,null,null,null,null,null,null,null,null,null,null,null,null,null,null,null,null,null,null,null,null,null,null,null,null,null,null,null,null,null,null,null,null,null,null,null,null,null,null,null,null,null,null,null,null,null,null,null,null,null,null,null,null,null,null,1,2,3,4,5,6,7,8,9,10,11,12,13,14,15,16,17,18,19,20,21,"сх","Sym",1,2,3,4,5,6,7,8,9,10,11,12,13,14,15,16,17,18,19,20,21,"cx","sym",1,2,3,4,5,6,7,8,9,10,11,12,13,14,15,16,17,18,19,20,21,"сх","очки",1,2,3,4,5,6,7,8,9,10,11,12,13,14,15,16,17,18,19,20,21,"сх","очки",{"$f":"COUNT(FE5:IR5)","v":84},"Н. Стро","В. стро","место"]
[]
["Место ","РЕЙТИНГОВЫЕ ОЧКИ Коэф. 0,2","Ст. №","Фамилия","Разряд","Город (край, район, область)","Команда","Марка снегохода","1-й заезд",null,"2-й заезд",null,"Сумма очков              в личном зачете","Сумма очк. в командном зачете"]
[null,null,null,null,null,null,null,null,"место","лич. очки","место","лич. очки",null,null,null,null,null,"первый заезд личные очки",null,null,null,null,null,null,null,null,null,null,null,null,null,null,null,null,null,null,null,null,null,"второй заезд личные очки",null,null,null,null,null,null,null,null,null,null,null,null,null,null,null,null,null,null,null,null,null,null,"Первый заезд командные очки",null,null,null,null,null,null,null,null,null,null,null,null,null,null,null,null,null,null,null,null,null,null,null,null,null,null,null,null,null,null,null,null,null,null,null,null,null,null,null,null,null,null,"Второй заезд командные очки",null,null,null,null,null,null,null,null,null,null,null,null,null,null,null,null,null,null,null,null,null,null,null,null,null,null,null,null,null,null,null,null,null,null,null,null,null,null,null,null,null,null,null,1,2,null,null,null,null,null,null,null,null,null,null,null,null,null,null,null,null,null,null,null,null,null,"первый этап"]
[null,null,null,null,null,null,null,null,null,null,null,null,null,null,null,null,1,2,3,4,5,6,7,8,9,10,11,12,13,14,15,16,17,18,19,20,21,"сх",null,1,2,3,4,5,6,7,8,9,10,11,12,13,14,15,16,17,18,19,20,null,"cx",null,1,2,3,4,5,6,7,8,9,10,11,12,13,14,15,16,17,18,19,20,21,22,23,24,25,26,27,28,29,30,31,32,33,34,35,36,37,38,39,40,null,null,null,1,2,3,4,5,6,7,8,9,10,11,12,13,14,15,16,17,18,19,20,21,22,23,24,25,26,27,28,29,30,31,32,33,34,35,36,37,38,39,40,null,null,null,null,null,null,null,"мин","Н. Стро","В. стро","место",null,"чр1","чр2",null,null,"первый заезд личные очки",null,null,null,null,null,null,null,null,null,null,null,null,null,null,null,null,null,null,null,null,null,"второй заезд личные очки",null,null,null,null,null,null,null,null,null,null,null,null,null,null,null,null,null,null,null,null,null,null,"Первый заезд командные очки",null,null,null,null,null,null,null,null,null,null,null,null,null,null,null,null,null,null,null,null,null,null,"Второй заезд командные очки"]
[1,10,117,"Красников Николай","змс","г. Уфа, Республика Башкортостан","ЦТВС \"Имени Г. Кадырова\"","LYNX",1,25,1,25,{"$f":"SUM(J10+L10)","v":50},{"$f":"#REF!+#REF!","v":{"$error":"#REF!"}},null,null,{"$f":"IF(#REF!=1,25,0)","v":{"$error":"#REF!"}},{"$f":"IF(#REF!=2,22,0)","v":{"$error":"#REF!"}},{"$f":"IF(#REF!=3,20,0)","v":{"$error":"#REF!"}},{"$f":"IF(#REF!=4,18,0)","v":{"$error":"#REF!"}},{"$f":"IF(#REF!=5,16,0)","v":{"$error":"#REF!"}},{"$f":"IF(#REF!=6,15,0)","v":{"$error":"#REF!"}},{"$f":"IF(#REF!=7,14,0)","v":{"$error":"#REF!"}},{"$f":"IF(#REF!=8,13,0)","v":{"$error":"#REF!"}},{"$f":"IF(#REF!=9,12,0)","v":{"$error":"#REF!"}},{"$f":"IF(#REF!=10,11,0)","v":{"$error":"#REF!"}},{"$f":"IF(#REF!=11,10,0)","v":{"$error":"#REF!"}},{"$f":"IF(#REF!=12,9,0)","v":{"$error":"#REF!"}},{"$f":"IF(#REF!=13,8,0)","v":{"$error":"#REF!"}},{"$f":"IF(#REF!=14,7,0)","v":{"$error":"#REF!"}},{"$f":"IF(#REF!=15,6,0)","v":{"$error":"#REF!"}},{"$f":"IF(#REF!=16,5,0)","v":{"$error":"#REF!"}},{"$f":"IF(#REF!=17,4,0)","v":{"$error":"#REF!"}},{"$f":"IF(#REF!=18,3,0)","v":{"$error":"#REF!"}},{"$f":"IF(#REF!=19,2,0)","v":{"$error":"#REF!"}},{"$f":"IF(#REF!=20,1,0)","v":{"$error":"#REF!"}},{"$f":"IF(#REF!>20,0,0)","v":{"$error":"#REF!"}},{"$f":"IF(#REF!=\"сх\",0,0)","v":{"$error":"#REF!"}},{"$f":"SUM(Q10:AK10)","v":{"$error":"#REF!"}},{"$f":"IF(#REF!=1,25,0)","v":{"$error":"#REF!"}},{"$f":"IF(#REF!=2,22,0)","v":{"$error":"#REF!"}},{"$f":"IF(#REF!=3,20,0)","v":{"$error":"#REF!"}},{"$f":"IF(#REF!=4,18,0)","v":{"$error":"#REF!"}},{"$f":"IF(#REF!=5,16,0)","v":{"$error":"#REF!"}},{"$f":"IF(#REF!=6,15,0)","v":{"$error":"#REF!"}},{"$f":"IF(#REF!=7,14,0)","v":{"$error":"#REF!"}},{"$f":"IF(#REF!=8,13,0)","v":{"$error":"#REF!"}},{"$f":"IF(#REF!=9,12,0)","v":{"$error":"#REF!"}},{"$f":"IF(#REF!=10,11,0)","v":{"$error":"#REF!"}},{"$f":"IF(#REF!=11,10,0)","v":{"$error":"#REF!"}},{"$f":"IF(#REF!=12,9,0)","v":{"$error":"#REF!"}},{"$f":"IF(#REF!=13,8,0)","v":{"$error":"#REF!"}},{"$f":"IF(#REF!=14,7,0)","v":{"$error":"#REF!"}},{"$f":"IF(#REF!=15,6,0)","v":{"$error":"#REF!"}},{"$f":"IF(#REF!=16,5,0)","v":{"$error":"#REF!"}},{"$f":"IF(#REF!=17,4,0)","v":{"$error":"#REF!"}},{"$f":"IF(#REF!=18,3,0)","v":{"$error":"#REF!"}},{"$f":"IF(#REF!=19,2,0)","v":{"$error":"#REF!"}},{"$f":"IF(#REF!=20,1,0)","v":{"$error":"#REF!"}},{"$f":"IF(#REF!>20,0,0)","v":{"$error":"#REF!"}},{"$f":"IF(#REF!=\"сх\",0,0)","v":{"$error":"#REF!"}},{"$f":"SUM(AN10:BH10)","v":{"$error":"#REF!"}},{"$f":"IF(#REF!=1,45,0)","v":{"$error":"#REF!"}},{"$f":"IF(#REF!=2,42,0)","v":{"$error":"#REF!"}},{"$f":"IF(#REF!=3,40,0)","v":{"$error":"#REF!"}},{"$f":"IF(#REF!=4,38,0)","v":{"$error":"#REF!"}},{"$f":"IF(#REF!=5,36,0)","v":{"$error":"#REF!"}},{"$f":"IF(#REF!=6,35,0)","v":{"$error":"#REF!"}},{"$f":"IF(#REF!=7,34,0)","v":{"$error":"#REF!"}},{"$f":"IF(#REF!=8,33,0)","v":{"$error":"#REF!"}},{"$f":"IF(#REF!=9,32,0)","v":{"$error":"#REF!"}},{"$f":"IF(#REF!=10,31,0)","v":{"$error":"#REF!"}},{"$f":"IF(#REF!=11,30,0)","v":{"$error":"#REF!"}},{"$f":"IF(#REF!=12,29,0)","v":{"$error":"#REF!"}},{"$f":"IF(#REF!=13,28,0)","v":{"$error":"#REF!"}},{"$f":"IF(#REF!=14,27,0)","v":{"$error":"#REF!"}},{"$f":"IF(#REF!=15,26,0)","v":{"$error":"#REF!"}},{"$f":"IF(#REF!=16,25,0)","v":{"$error":"#REF!"}},{"$f":"IF(#REF!=17,24,0)","v":{"$error":"#REF!"}},{"$f":"IF(#REF!=18,23,0)","v":{"$error":"#REF!"}},{"$f":"IF(#REF!=19,22,0)","v":{"$error":"#REF!"}},{"$f":"IF(#REF!=20,21,0)","v":{"$error":"#REF!"}},{"$f":"IF(#REF!=21,20,0)","v":{"$error":"#REF!"}},{"$f":"IF(#REF!=22,19,0)","v":{"$error":"#REF!"}},{"$f":"IF(#REF!=23,18,0)","v":{"$error":"#REF!"}},{"$f":"IF(#REF!=24,17,0)","v":{"$error":"#REF!"}},{"$f":"IF(#REF!=25,16,0)","v":{"$error":"#REF!"}},{"$f":"IF(#REF!=26,15,0)","v":{"$error":"#REF!"}},{"$f":"IF(#REF!=27,14,0)","v":{"$error":"#REF!"}},{"$f":"IF(#REF!=28,13,0)","v":{"$error":"#REF!"}},{"$f":"IF(#REF!=29,12,0)","v":{"$error":"#REF!"}},{"$f":"IF(#REF!=30,11,0)","v":{"$error":"#REF!"}},{"$f":"IF(#REF!=31,10,0)","v":{"$error":"#REF!"}},{"$f":"IF(#REF!=32,9,0)","v":{"$error":"#REF!"}},{"$f":"IF(#REF!=33,8,0)","v":{"$error":"#REF!"}},{"$f":"IF(#REF!=34,7,0)","v":{"$error":"#REF!"}},{"$f":"IF(#REF!=35,6,0)","v":{"$error":"#REF!"}},{"$f":"IF(#REF!=36,5,0)","v":{"$error":"#REF!"}},{"$f":"IF(#REF!=37,4,0)","v":{"$error":"#REF!"}},{"$f":"IF(#REF!=38,3,0)","v":{"$error":"#REF!"}},{"$f":"IF(#REF!=39,2,0)","v":{"$error":"#REF!"}},{"$f":"IF(#REF!=40,1,0)","v":{"$error":"#REF!"}},{"$f":"IF(#REF!>20,0,0)","v":{"$error":"#REF!"}},{"$f":"IF(#REF!=\"сх\",0,0)","v":{"$error":"#REF!"}},{"$f":"SUM(BK10:CZ10)","v":{"$error":"#REF!"}},{"$f":"IF(#REF!=1,45,0)","v":{"$error":"#REF!"}},{"$f":"IF(#REF!=2,42,0)","v":{"$error":"#REF!"}},{"$f":"IF(#REF!=3,40,0)","v":{"$error":"#REF!"}},{"$f":"IF(#REF!=4,38,0)","v":{"$error":"#REF!"}},{"$f":"IF(#REF!=5,36,0)","v":{"$error":"#REF!"}},{"$f":"IF(#REF!=6,35,0)","v":{"$error":"#REF!"}},{"$f":"IF(#REF!=7,34,0)","v":{"$error":"#REF!"}},{"$f":"IF(#REF!=8,33,0)","v":{"$error":"#REF!"}},{"$f":"IF(#REF!=9,32,0)","v":{"$error":"#REF!"}},{"$f":"IF(#REF!=10,31,0)","v":{"$error":"#REF!"}},{"$f":"IF(#REF!=11,30,0)","v":{"$error":"#REF!"}},{"$f":"IF(#REF!=12,29,0)","v":{"$error":"#REF!"}},{"$f":"IF(#REF!=13,28,0)","v":{"$error":"#REF!"}},{"$f":"IF(#REF!=14,27,0)","v":{"$error":"#REF!"}},{"$f":"IF(#REF!=15,26,0)","v":{"$error":"#REF!"}},{"$f":"IF(#REF!=16,25,0)","v":{"$error":"#REF!"}},{"$f":"IF(#REF!=17,24,0)","v":{"$error":"#REF!"}},{"$f":"IF(#REF!=18,23,0)","v":{"$error":"#REF!"}},{"$f":"IF(#REF!=19,22,0)","v":{"$error":"#REF!"}},{"$f":"IF(#REF!=20,21,0)","v":{"$error":"#REF!"}},{"$f":"IF(#REF!=21,20,0)","v":{"$error":"#REF!"}},{"$f":"IF(#REF!=22,19,0)","v":{"$error":"#REF!"}},{"$f":"IF(#REF!=23,18,0)","v":{"$error":"#REF!"}},{"$f":"IF(#REF!=24,17,0)","v":{"$error":"#REF!"}},{"$f":"IF(#REF!=25,16,0)","v":{"$error":"#REF!"}},{"$f":"IF(#REF!=26,15,0)","v":{"$error":"#REF!"}},{"$f":"IF(#REF!=27,14,0)","v":{"$error":"#REF!"}},{"$f":"IF(#REF!=28,13,0)","v":{"$error":"#REF!"}},{"$f":"IF(#REF!=29,12,0)","v":{"$error":"#REF!"}},{"$f":"IF(#REF!=30,11,0)","v":{"$error":"#REF!"}},{"$f":"IF(#REF!=31,10,0)","v":{"$error":"#REF!"}},{"$f":"IF(#REF!=32,9,0)","v":{"$error":"#REF!"}},{"$f":"IF(#REF!=33,8,0)","v":{"$error":"#REF!"}},{"$f":"IF(#REF!=34,7,0)","v":{"$error":"#REF!"}},{"$f":"IF(#REF!=35,6,0)","v":{"$error":"#REF!"}},{"$f":"IF(#REF!=36,5,0)","v":{"$error":"#REF!"}},{"$f":"IF(#REF!=37,4,0)","v":{"$error":"#REF!"}},{"$f":"IF(#REF!=38,3,0)","v":{"$error":"#REF!"}},{"$f":"IF(#REF!=39,2,0)","v":{"$error":"#REF!"}},{"$f":"IF(#REF!=40,1,0)","v":{"$error":"#REF!"}},{"$f":"IF(#REF!>20,0,0)","v":{"$error":"#REF!"}},{"$f":"IF(#REF!=\"сх\",0,0)","v":{"$error":"#REF!"}},{"$f":"SUM(DB10:EQ10)","v":{"$error":"#REF!"}},null,{"$f":"IF(#REF!=\"сх\",\"ноль\",IF(#REF!>0,#REF!,\"Ноль\"))","v":{"$error":"#REF!"}},{"$f":"IF(#REF!=\"сх\",\"ноль\",IF(#REF!>0,#REF!,\"Ноль\"))","v":{"$error":"#REF!"}},null,{"$f":"MIN(ET10,EU10)","v":{"$error":"#REF!"}},{"$f":"IF(M10=#REF!,IF(#REF!<#REF!,#REF!,FB10),#REF!)","v":{"$error":"#REF!"}},{"$f":"IF(M10=#REF!,IF(#REF!<#REF!,0,1))","v":{"$error":"#REF!"}},{"$f":"IF(AND(EW10>=21,EW10<>0),EW10,IF(M10<#REF!,\"СТОП\",EX10+EY10))","v":{"$error":"#REF!"}},null,15,16,null,{"$f":"IF(#REF!=1,25,0)","v":{"$error":"#REF!"}},{"$f":"IF(#REF!=2,22,0)","v":{"$error":"#REF!"}},{"$f":"IF(#REF!=3,20,0)","v":{"$error":"#REF!"}},{"$f":"IF(#REF!=4,18,0)","v":{"$error":"#REF!"}},{"$f":"IF(#REF!=5,16,0)","v":{"$error":"#REF!"}},{"$f":"IF(#REF!=6,15,0)","v":{"$error":"#REF!"}},{"$f":"IF(#REF!=7,14,0)","v":{"$error":"#REF!"}},{"$f":"IF(#REF!=8,13,0)","v":{"$error":"#REF!"}},{"$f":"IF(#REF!=9,12,0)","v":{"$error":"#REF!"}},{"$f":"IF(#REF!=10,11,0)","v":{"$error":"#REF!"}},{"$f":"IF(#REF!=11,10,0)","v":{"$error":"#REF!"}},{"$f":"IF(#REF!=12,9,0)","v":{"$error":"#REF!"}},{"$f":"IF(#REF!=13,8,0)","v":{"$error":"#REF!"}},{"$f":"IF(#REF!=14,7,0)","v":{"$error":"#REF!"}},{"$f":"IF(#REF!=15,6,0)","v":{"$error":"#REF!"}},{"$f":"IF(#REF!=16,5,0)","v":{"$error":"#REF!"}},{"$f":"IF(#REF!=17,4,0)","v":{"$error":"#REF!"}},{"$f":"IF(#REF!=18,3,0)","v":{"$error":"#REF!"}},{"$f":"IF(#REF!=19,2,0)","v":{"$error":"#REF!"}},{"$f":"IF(#REF!=20,1,0)","v":{"$error":"#REF!"}},{"$f":"IF(#REF!>20,0,0)","v":{"$error":"#REF!"}},{"$f":"IF(#REF!=\"сх\",0,0)","v":{"$error":"#REF!"}},{"$f":"SUM(FE10:FZ10)","v":{"$error":"#REF!"}},{"$f":"IF(#REF!=1,25,0)","v":{"$error":"#REF!"}},{"$f":"IF(#REF!=2,22,0)","v":{"$error":"#REF!"}},{"$f":"IF(#REF!=3,20,0)","v":{"$error":"#REF!"}},{"$f":"IF(#REF!=4,18,0)","v":{"$error":"#REF!"}},{"$f":"IF(#REF!=5,16,0)","v":{"$error":"#REF!"}},{"$f":"IF(#REF!=6,15,0)","v":{"$error":"#REF!"}},{"$f":"IF(#REF!=7,14,0)","v":{"$error":"#REF!"}},{"$f":"IF(#REF!=8,13,0)","v":{"$error":"#REF!"}},{"$f":"IF(#REF!=9,12,0)","v":{"$error":"#REF!"}},{"$f":"IF(#REF!=10,11,0)","v":{"$error":"#REF!"}},{"$f":"IF(#REF!=11,10,0)","v":{"$error":"#REF!"}},{"$f":"IF(#REF!=12,9,0)","v":{"$error":"#REF!"}},{"$f":"IF(#REF!=13,8,0)","v":{"$error":"#REF!"}},{"$f":"IF(#REF!=14,7,0)","v":{"$error":"#REF!"}},{"$f":"IF(#REF!=15,6,0)","v":{"$error":"#REF!"}},{"$f":"IF(#REF!=16,5,0)","v":{"$error":"#REF!"}},{"$f":"IF(#REF!=17,4,0)","v":{"$error":"#REF!"}},{"$f":"IF(#REF!=18,3,0)","v":{"$error":"#REF!"}},{"$f":"IF(#REF!=19,2,0)","v":{"$error":"#REF!"}},{"$f":"IF(#REF!=20,1,0)","v":{"$error":"#REF!"}},{"$f":"IF(#REF!>20,0,0)","v":{"$error":"#REF!"}},{"$f":"IF(#REF!=\"сх\",0,0)","v":{"$error":"#REF!"}},{"$f":"SUM(GB10:GW10)","v":{"$error":"#REF!"}},{"$f":"IF(#REF!=1,100,0)","v":{"$error":"#REF!"}},{"$f":"IF(#REF!=2,98,0)","v":{"$error":"#REF!"}},{"$f":"IF(#REF!=3,95,0)","v":{"$error":"#REF!"}},{"$f":"IF(#REF!=4,93,0)","v":{"$error":"#REF!"}},{"$f":"IF(#REF!=5,90,0)","v":{"$error":"#REF!"}},{"$f":"IF(#REF!=6,88,0)","v":{"$error":"#REF!"}},{"$f":"IF(#REF!=7,85,0)","v":{"$error":"#REF!"}},{"$f":"IF(#REF!=8,83,0)","v":{"$error":"#REF!"}},{"$f":"IF(#REF!=9,80,0)","v":{"$error":"#REF!"}},{"$f":"IF(#REF!=10,78,0)","v":{"$error":"#REF!"}},{"$f":"IF(#REF!=11,75,0)","v":{"$error":"#REF!"}},{"$f":"IF(#REF!=12,73,0)","v":{"$error":"#REF!"}},{"$f":"IF(#REF!=13,70,0)","v":{"$error":"#REF!"}},{"$f":"IF(#REF!=14,68,0)","v":{"$error":"#REF!"}},{"$f":"IF(#REF!=15,65,0)","v":{"$error":"#REF!"}},{"$f":"IF(#REF!=16,63,0)","v":{"$error":"#REF!"}},{"$f":"IF(#REF!=17,60,0)","v":{"$error":"#REF!"}},{"$f":"IF(#REF!=18,58,0)","v":{"$error":"#REF!"}},{"$f":"IF(#REF!=19,55,0)","v":{"$error":"#REF!"}},{"$f":"IF(#REF!=20,53,0)","v":{"$error":"#REF!"}},{"$f":"IF(#REF!>20,0,0)","v":{"$error":"#REF!"}},{"$f":"IF(#REF!=\"сх\",0,0)","v":{"$error":"#REF!"}},{"$f":"SUM(GY10:HT10)","v":{"$error":"#REF!"}},{"$f":"IF(#REF!=1,100,0)","v":{"$error":"#REF!"}},{"$f":"IF(#REF!=2,98,0)","v":{"$error":"#REF!"}},{"$f":"IF(#REF!=3,95,0)","v":{"$error":"#REF!"}},{"$f":"IF(#REF!=4,93,0)","v":{"$error":"#REF!"}},{"$f":"IF(#REF!=5,90,0)","v":{"$error":"#REF!"}},{"$f":"IF(#REF!=6,88,0)","v":{"$error":"#REF!"}},{"$f":"IF(#REF!=7,85,0)","v":{"$error":"#REF!"}},{"$f":"IF(#REF!=8,83,0)","v":{"$error":"#REF!"}},{"$f":"IF(#REF!=9,80,0)","v":{"$error":"#REF!"}},{"$f":"IF(#REF!=10,78,0)","v":{"$error":"#REF!"}},{"$f":"IF(#REF!=11,75,0)","v":{"$error":"#REF!"}},{"$f":"IF(#REF!=12,73,0)","v":{"$error":"#REF!"}},{"$f":"IF(#REF!=13,70,0)","v":{"$error":"#REF!"}},{"$f":"IF(#REF!=14,68,0)","v":{"$error":"#REF!"}},{"$f":"IF(#REF!=15,65,0)","v":{"$error":"#REF!"}},{"$f":"IF(#REF!=16,63,0)","v":{"$error":"#REF!"}},{"$f":"IF(#REF!=17,60,0)","v":{"$error":"#REF!"}},{"$f":"IF(#REF!=18,58,0)","v":{"$error":"#REF!"}},{"$f":"IF(#REF!=19,55,0)","v":{"$error":"#REF!"}},{"$f":"IF(#REF!=20,53,0)","v":{"$error":"#REF!"}},{"$f":"IF(#REF!>20,0,0)","v":{"$error":"#REF!"}},{"$f":"IF(#REF!=\"сх\",0,0)","v":{"$error":"#REF!"}},{"$f":"SUM(HV10:IQ10)","v":{"$error":"#REF!"}}]
[2,9.6,10,"Караченцев Владимир","б/р","г. Новый Уренгой, Ямало-Ненецкий АО","СТК \"Ямбург\"","LYNX",4,18,2,22,40,{"$f":"#REF!+#REF!","v":{"$error":"#REF!"}},null,null,{"$f":"IF(#REF!=1,25,0)","v":{"$error":"#REF!"}},{"$f":"IF(#REF!=2,22,0)","v":{"$error":"#REF!"}},{"$f":"IF(#REF!=3,20,0)","v":{"$error":"#REF!"}},{"$f":"IF(#REF!=4,18,0)","v":{"$error":"#REF!"}},{"$f":"IF(#REF!=5,16,0)","v":{"$error":"#REF!"}},{"$f":"IF(#REF!=6,15,0)","v":{"$error":"#REF!"}},{"$f":"IF(#REF!=7,14,0)","v":{"$error":"#REF!"}},{"$f":"IF(#REF!=8,13,0)","v":{"$error":"#REF!"}},{"$f":"IF(#REF!=9,12,0)","v":{"$error":"#REF!"}},{"$f":"IF(#REF!=10,11,0)","v":{"$error":"#REF!"}},{"$f":"IF(#REF!=11,10,0)","v":{"$error":"#REF!"}},{"$f":"IF(#REF!=12,9,0)","v":{"$error":"#REF!"}},{"$f":"IF(#REF!=13,8,0)","v":{"$error":"#REF!"}},{"$f":"IF(#REF!=14,7,0)","v":{"$error":"#REF!"}},{"$f":"IF(#REF!=15,6,0)","v":{"$error":"#REF!"}},{"$f":"IF(#REF!=16,5,0)","v":{"$error":"#REF!"}},{"$f":"IF(#REF!=17,4,0)","v":{"$error":"#REF!"}},{"$f":"IF(#REF!=18,3,0)","v":{"$error":"#REF!"}},{"$f":"IF(#REF!=19,2,0)","v":{"$error":"#REF!"}},{"$f":"IF(#REF!=20,1,0)","v":{"$error":"#REF!"}},{"$f":"IF(#REF!>20,0,0)","v":{"$error":"#REF!"}},{"$f":"IF(#REF!=\"сх\",0,0)","v":{"$error":"#REF!"}},{"$error":"#REF!"},{"$f":"IF(#REF!=1,25,0)","v":{"$error":"#REF!"}},{"$f":"IF(#REF!=2,22,0)","v":{"$error":"#REF!"}},{"$f":"IF(#REF!=3,20,0)","v":{"$error":"#REF!"}},{"$f":"IF(#REF!=4,18,0)","v":{"$error":"#REF!"}},{"$f":"IF(#REF!=5,16,0)","v":{"$error":"#REF!"}},{"$f":"IF(#REF!=6,15,0)","v":{"$error":"#REF!"}},{"$f":"IF(#REF!=7,14,0)","v":{"$error":"#REF!"}},{"$f":"IF(#REF!=8,13,0)","v":{"$error":"#REF!"}},{"$f":"IF(#REF!=9,12,0)","v":{"$error":"#REF!"}},{"$f":"IF(#REF!=10,11,0)","v":{"$error":"#REF!"}},{"$f":"IF(#REF!=11,10,0)","v":{"$error":"#REF!"}},{"$f":"IF(#REF!=12,9,0)","v":{"$error":"#REF!"}},{"$f":"IF(#REF!=13,8,0)","v":{"$error":"#REF!"}},{"$f":"IF(#REF!=14,7,0)","v":{"$error":"#REF!"}},{"$f":"IF(#REF!=15,6,0)","v":{"$error":"#REF!"}},{"$f":"IF(#REF!=16,5,0)","v":{"$error":"#REF!"}},{"$f":"IF(#REF!=17,4,0)","v":{"$error":"#REF!"}},{"$f":"IF(#REF!=18,3,0)","v":{"$error":"#REF!"}},{"$f":"IF(#REF!=19,2,0)","v":{"$error":"#REF!"}},{"$f":"IF(#REF!=20,1,0)","v":{"$error":"#REF!"}},{"$f":"IF(#REF!>20,0,0)","v":{"$error":"#REF!"}},{"$f":"IF(#REF!=\"сх\",0,0)","v":{"$error":"#REF!"}},{"$error":"#REF!"},{"$f":"IF(#REF!=1,45,0)","v":{"$error":"#REF!"}},{"$f":"IF(#REF!=2,42,0)","v":{"$error":"#REF!"}},{"$f":"IF(#REF!=3,40,0)","v":{"$error":"#REF!"}},{"$f":"IF(#REF!=4,38,0)","v":{"$error":"#REF!"}},{"$f":"IF(#REF!=5,36,0)","v":{"$error":"#REF!"}},{"$f":"IF(#REF!=6,35,0)","v":{"$error":"#REF!"}},{"$f":"IF(#REF!=7,34,0)","v":{"$error":"#REF!"}},{"$f":"IF(#REF!=8,33,0)","v":{"$error":"#REF!"}},{"$f":"IF(#REF!=9,32,0)","v":{"$error":"#REF!"}},{"$f":"IF(#REF!=10,31,0)","v":{"$error":"#REF!"}},{"$f":"IF(#REF!=11,30,0)","v":{"$error":"#REF!"}},{"$f":"IF(#REF!=12,29,0)","v":{"$error":"#REF!"}},{"$f":"IF(#REF!=13,28,0)","v":{"$error":"#REF!"}},{"$f":"IF(#REF!=14,27,0)","v":{"$error":"#REF!"}},{"$f":"IF(#REF!=15,26,0)","v":{"$error":"#REF!"}},{"$f":"IF(#REF!=16,25,0)","v":{"$error":"#REF!"}},{"$f":"IF(#REF!=17,24,0)","v":{"$error":"#REF!"}},{"$f":"IF(#REF!=18,23,0)","v":{"$error":"#REF!"}},{"$f":"IF(#REF!=19,22,0)","v":{"$error":"#REF!"}},{"$f":"IF(#REF!=20,21,0)","v":{"$error":"#REF!"}},{"$f":"IF(#REF!=21,20,0)","v":{"$error":"#REF!"}},{"$f":"IF(#REF!=22,19,0)","v":{"$error":"#REF!"}},{"$f":"IF(#REF!=23,18,0)","v":{"$error":"#REF!"}},{"$f":"IF(#REF!=24,17,0)","v":{"$error":"#REF!"}},{"$f":"IF(#REF!=25,16,0)","v":{"$error":"#REF!"}},{"$f":"IF(#REF!=26,15,0)","v":{"$error":"#REF!"}},{"$f":"IF(#REF!=27,14,0)","v":{"$error":"#REF!"}},{"$f":"IF(#REF!=28,13,0)","v":{"$error":"#REF!"}},{"$f":"IF(#REF!=29,12,0)","v":{"$error":"#REF!"}},{"$f":"IF(#REF!=30,11,0)","v":{"$error":"#REF!"}},{"$f":"IF(#REF!=31,10,0)","v":{"$error":"#REF!"}},{"$f":"IF(#REF!=32,9,0)","v":{"$error":"#REF!"}},{"$f":"IF(#REF!=33,8,0)","v":{"$error":"#REF!"}},{"$f":"IF(#REF!=34,7,0)","v":{"$error":"#REF!"}},{"$f":"IF(#REF!=35,6,0)","v":{"$error":"#REF!"}},{"$f":"IF(#REF!=36,5,0)","v":{"$error":"#REF!"}},{"$f":"IF(#REF!=37,4,0)","v":{"$error":"#REF!"}},{"$f":"IF(#REF!=38,3,0)","v":{"$error":"#REF!"}},{"$f":"IF(#REF!=39,2,0)","v":{"$error":"#REF!"}},{"$f":"IF(#REF!=40,1,0)","v":{"$error":"#REF!"}},{"$f":"IF(#REF!>20,0,0)","v":{"$error":"#REF!"}},{"$f":"IF(#REF!=\"сх\",0,0)","v":{"$error":"#REF!"}},{"$error":"#REF!"},{"$f":"IF(#REF!=1,45,0)","v":{"$error":"#REF!"}},{"$f":"IF(#REF!=2,42,0)","v":{"$error":"#REF!"}},{"$f":"IF(#REF!=3,40,0)","v":{"$error":"#REF!"}},{"$f":"IF(#REF!=4,38,0)","v":{"$error":"#REF!"}},{"$f":"IF(#REF!=5,36,0)","v":{"$error":"#REF!"}},{"$f":"IF(#REF!=6,35,0)","v":{"$error":"#REF!"}},{"$f":"IF(#REF!=7,34,0)","v":{"$error":"#REF!"}},{"$f":"IF(#REF!=8,33,0)","v":{"$error":"#REF!"}},{"$f":"IF(#REF!=9,32,0)","v":{"$error":"#REF!"}},{"$f":"IF(#REF!=10,31,0)","v":{"$error":"#REF!"}},{"$f":"IF(#REF!=11,30,0)","v":{"$error":"#REF!"}},{"$f":"IF(#REF!=12,29,0)","v":{"$error":"#REF!"}},{"$f":"IF(#REF!=13,28,0)","v":{"$error":"#REF!"}},{"$f":"IF(#REF!=14,27,0)","v":{"$error":"#REF!"}},{"$f":"IF(#REF!=15,26,0)","v":{"$error":"#REF!"}},{"$f":"IF(#REF!=16,25,0)","v":{"$error":"#REF!"}},{"$f":"IF(#REF!=17,24,0)","v":{"$error":"#REF!"}},{"$f":"IF(#REF!=18,23,0)","v":{"$error":"#REF!"}},{"$f":"IF(#REF!=19,22,0)","v":{"$error":"#REF!"}},{"$f":"IF(#REF!=20,21,0)","v":{"$error":"#REF!"}},{"$f":"IF(#REF!=21,20,0)","v":{"$error":"#REF!"}},{"$f":"IF(#REF!=22,19,0)","v":{"$error":"#REF!"}},{"$f":"IF(#REF!=23,18,0)","v":{"$error":"#REF!"}},{"$f":"IF(#REF!=24,17,0)","v":{"$error":"#REF!"}},{"$f":"IF(#REF!=25,16,0)","v":{"$error":"#REF!"}},{"$f":"IF(#REF!=26,15,0)","v":{"$error":"#REF!"}},{"$f":"IF(#REF!=27,14,0)","v":{"$error":"#REF!"}},{"$f":"IF(#REF!=28,13,0)","v":{"$error":"#REF!"}},{"$f":"IF(#REF!=29,12,0)","v":{"$error":"#REF!"}},{"$f":"IF(#REF!=30,11,0)","v":{"$error":"#REF!"}},{"$f":"IF(#REF!=31,10,0)","v":{"$error":"#REF!"}},{"$f":"IF(#REF!=32,9,0)","v":{"$error":"#REF!"}},{"$f":"IF(#REF!=33,8,0)","v":{"$error":"#REF!"}},{"$f":"IF(#REF!=34,7,0)","v":{"$error":"#REF!"}},{"$f":"IF(#REF!=35,6,0)","v":{"$error":"#REF!"}},{"$f":"IF(#REF!=36,5,0)","v":{"$error":"#REF!"}},{"$f":"IF(#REF!=37,4,0)","v":{"$error":"#REF!"}},{"$f":"IF(#REF!=38,3,0)","v":{"$error":"#REF!"}},{"$f":"IF(#REF!=39,2,0)","v":{"$error":"#REF!"}},{"$f":"IF(#REF!=40,1,0)","v":{"$error":"#REF!"}},{"$f":"IF(#REF!>20,0,0)","v":{"$error":"#REF!"}},{"$f":"IF(#REF!=\"сх\",0,0)","v":{"$error":"#REF!"}},{"$error":"#REF!"},null,{"$f":"IF(#REF!=\"сх\",\"ноль\",IF(#REF!>0,#REF!,\"Ноль\"))","v":{"$error":"#REF!"}},{"$f":"IF(#REF!=\"сх\",\"ноль\",IF(#REF!>0,#REF!,\"Ноль\"))","v":{"$error":"#REF!"}},null,{"$error":"#REF!"},{"$f":"IF(M11=#REF!,IF(#REF!<#REF!,#REF!,FB11),#REF!)","v":{"$error":"#REF!"}},{"$f":"IF(M11=#REF!,IF(#REF!<#REF!,0,1))","v":{"$error":"#REF!"}},{"$f":"IF(AND(EW11>=21,EW11<>0),EW11,IF(M11<#REF!,\"СТОП\",EX11+EY11))","v":{"$error":"#REF!"}},null,15,16,null,{"$f":"IF(#REF!=1,25,0)","v":{"$error":"#REF!"}},{"$f":"IF(#REF!=2,22,0)","v":{"$error":"#REF!"}},{"$f":"IF(#REF!=3,20,0)","v":{"$error":"#REF!"}},{"$f":"IF(#REF!=4,18,0)","v":{"$error":"#REF!"}},{"$f":"IF(#REF!=5,16,0)","v":{"$error":"#REF!"}},{"$f":"IF(#REF!=6,15,0)","v":{"$error":"#REF!"}},{"$f":"IF(#REF!=7,14,0)","v":{"$error":"#REF!"}},{"$f":"IF(#REF!=8,13,0)","v":{"$error":"#REF!"}},{"$f":"IF(#REF!=9,12,0)","v":{"$error":"#REF!"}},{"$f":"IF(#REF!=10,11,0)","v":{"$error":"#REF!"}},{"$f":"IF(#REF!=11,10,0)","v":{"$error":"#REF!"}},{"$f":"IF(#REF!=12,9,0)","v":{"$error":"#REF!"}},{"$f":"IF(#REF!=13,8,0)","v":{"$error":"#REF!"}},{"$f":"IF(#REF!=14,7,0)","v":{"$error":"#REF!"}},{"$f":"IF(#REF!=15,6,0)","v":{"$error":"#REF!"}},{"$f":"IF(#REF!=16,5,0)","v":{"$error":"#REF!"}},{"$f":"IF(#REF!=17,4,0)","v":{"$error":"#REF!"}},{"$f":"IF(#REF!=18,3,0)","v":{"$error":"#REF!"}},{"$f":"IF(#REF!=19,2,0)","v":{"$error":"#REF!"}},{"$f":"IF(#REF!=20,1,0)","v":{"$error":"#REF!"}},{"$f":"IF(#REF!>20,0,0)","v":{"$error":"#REF!"}},{"$f":"IF(#REF!=\"сх\",0,0)","v":{"$error":"#REF!"}},{"$error":"#REF!"},{"$f":"IF(#REF!=1,25,0)","v":{"$error":"#REF!"}},{"$f":"IF(#REF!=2,22,0)","v":{"$error":"#REF!"}},{"$f":"IF(#REF!=3,20,0)","v":{"$error":"#REF!"}},{"$f":"IF(#REF!=4,18,0)","v":{"$error":"#REF!"}},{"$f":"IF(#REF!=5,16,0)","v":{"$error":"#REF!"}},{"$f":"IF(#REF!=6,15,0)","v":{"$error":"#REF!"}},{"$f":"IF(#REF!=7,14,0)","v":{"$error":"#REF!"}},{"$f":"IF(#REF!=8,13,0)","v":{"$error":"#REF!"}},{"$f":"IF(#REF!=9,12,0)","v":{"$error":"#REF!"}},{"$f":"IF(#REF!=10,11,0)","v":{"$error":"#REF!"}},{"$f":"IF(#REF!=11,10,0)","v":{"$error":"#REF!"}},{"$f":"IF(#REF!=12,9,0)","v":{"$error":"#REF!"}},{"$f":"IF(#REF!=13,8,0)","v":{"$error":"#REF!"}},{"$f":"IF(#REF!=14,7,0)","v":{"$error":"#REF!"}},{"$f":"IF(#REF!=15,6,0)","v":{"$error":"#REF!"}},{"$f":"IF(#REF!=16,5,0)","v":{"$error":"#REF!"}},{"$f":"IF(#REF!=17,4,0)","v":{"$error":"#REF!"}},{"$f":"IF(#REF!=18,3,0)","v":{"$error":"#REF!"}},{"$f":"IF(#REF!=19,2,0)","v":{"$error":"#REF!"}},{"$f":"IF(#REF!=20,1,0)","v":{"$error":"#REF!"}},{"$f":"IF(#REF!>20,0,0)","v":{"$error":"#REF!"}},{"$f":"IF(#REF!=\"сх\",0,0)","v":{"$error":"#REF!"}},{"$error":"#REF!"},{"$f":"IF(#REF!=1,100,0)","v":{"$error":"#REF!"}},{"$f":"IF(#REF!=2,98,0)","v":{"$error":"#REF!"}},{"$f":"IF(#REF!=3,95,0)","v":{"$error":"#REF!"}},{"$f":"IF(#REF!=4,93,0)","v":{"$error":"#REF!"}},{"$f":"IF(#REF!=5,90,0)","v":{"$error":"#REF!"}},{"$f":"IF(#REF!=6,88,0)","v":{"$error":"#REF!"}},{"$f":"IF(#REF!=7,85,0)","v":{"$error":"#REF!"}},{"$f":"IF(#REF!=8,83,0)","v":{"$error":"#REF!"}},{"$f":"IF(#REF!=9,80,0)","v":{"$error":"#REF!"}},{"$f":"IF(#REF!=10,78,0)","v":{"$error":"#REF!"}},{"$f":"IF(#REF!=11,75,0)","v":{"$error":"#REF!"}},{"$f":"IF(#REF!=12,73,0)","v":{"$error":"#REF!"}},{"$f":"IF(#REF!=13,70,0)","v":{"$error":"#REF!"}},{"$f":"IF(#REF!=14,68,0)","v":{"$error":"#REF!"}},{"$f":"IF(#REF!=15,65,0)","v":{"$error":"#REF!"}},{"$f":"IF(#REF!=16,63,0)","v":{"$error":"#REF!"}},{"$f":"IF(#REF!=17,60,0)","v":{"$error":"#REF!"}},{"$f":"IF(#REF!=18,58,0)","v":{"$error":"#REF!"}},{"$f":"IF(#REF!=19,55,0)","v":{"$error":"#REF!"}},{"$f":"IF(#REF!=20,53,0)","v":{"$error":"#REF!"}},{"$f":"IF(#REF!>20,0,0)","v":{"$error":"#REF!"}},{"$f":"IF(#REF!=\"сх\",0,0)","v":{"$error":"#REF!"}},{"$error":"#REF!"},{"$f":"IF(#REF!=1,100,0)","v":{"$error":"#REF!"}},{"$f":"IF(#REF!=2,98,0)","v":{"$error":"#REF!"}},{"$f":"IF(#REF!=3,95,0)","v":{"$error":"#REF!"}},{"$f":"IF(#REF!=4,93,0)","v":{"$error":"#REF!"}},{"$f":"IF(#REF!=5,90,0)","v":{"$error":"#REF!"}},{"$f":"IF(#REF!=6,88,0)","v":{"$error":"#REF!"}},{"$f":"IF(#REF!=7,85,0)","v":{"$error":"#REF!"}},{"$f":"IF(#REF!=8,83,0)","v":{"$error":"#REF!"}},{"$f":"IF(#REF!=9,80,0)","v":{"$error":"#REF!"}},{"$f":"IF(#REF!=10,78,0)","v":{"$error":"#REF!"}},{"$f":"IF(#REF!=11,75,0)","v":{"$error":"#REF!"}},{"$f":"IF(#REF!=12,73,0)","v":{"$error":"#REF!"}},{"$f":"IF(#REF!=13,70,0)","v":{"$error":"#REF!"}},{"$f":"IF(#REF!=14,68,0)","v":{"$error":"#REF!"}},{"$f":"IF(#REF!=15,65,0)","v":{"$error":"#REF!"}},{"$f":"IF(#REF!=16,63,0)","v":{"$error":"#REF!"}},{"$f":"IF(#REF!=17,60,0)","v":{"$error":"#REF!"}},{"$f":"IF(#REF!=18,58,0)","v":{"$error":"#REF!"}},{"$f":"IF(#REF!=19,55,0)","v":{"$error":"#REF!"}},{"$f":"IF(#REF!=20,53,0)","v":{"$error":"#REF!"}},{"$f":"IF(#REF!>20,0,0)","v":{"$error":"#REF!"}},{"$f":"IF(#REF!=\"сх\",0,0)","v":{"$error":"#REF!"}},{"$error":"#REF!"}]
[3,9.1999999999999993,333,"Куклин Вадим","кмс","г. Новый Уренгой, Ямало-Ненецкий АО","СТК \"Факел\"","LYNX",3,20,3,20,40,{"$f":"#REF!+#REF!","v":{"$error":"#REF!"}},null,null,{"$f":"IF(#REF!=1,25,0)","v":{"$error":"#REF!"}},{"$f":"IF(#REF!=2,22,0)","v":{"$error":"#REF!"}},{"$f":"IF(#REF!=3,20,0)","v":{"$error":"#REF!"}},{"$f":"IF(#REF!=4,18,0)","v":{"$error":"#REF!"}},{"$f":"IF(#REF!=5,16,0)","v":{"$error":"#REF!"}},{"$f":"IF(#REF!=6,15,0)","v":{"$error":"#REF!"}},{"$f":"IF(#REF!=7,14,0)","v":{"$error":"#REF!"}},{"$f":"IF(#REF!=8,13,0)","v":{"$error":"#REF!"}},{"$f":"IF(#REF!=9,12,0)","v":{"$error":"#REF!"}},{"$f":"IF(#REF!=10,11,0)","v":{"$error":"#REF!"}},{"$f":"IF(#REF!=11,10,0)","v":{"$error":"#REF!"}},{"$f":"IF(#REF!=12,9,0)","v":{"$error":"#REF!"}},{"$f":"IF(#REF!=13,8,0)","v":{"$error":"#REF!"}},{"$f":"IF(#REF!=14,7,0)","v":{"$error":"#REF!"}},{"$f":"IF(#REF!=15,6,0)","v":{"$error":"#REF!"}},{"$f":"IF(#REF!=16,5,0)","v":{"$error":"#REF!"}},{"$f":"IF(#REF!=17,4,0)","v":{"$error":"#REF!"}},{"$f":"IF(#REF!=18,3,0)","v":{"$error":"#REF!"}},{"$f":"IF(#REF!=19,2,0)","v":{"$error":"#REF!"}},{"$f":"IF(#REF!=20,1,0)","v":{"$error":"#REF!"}},{"$f":"IF(#REF!>20,0,0)","v":{"$error":"#REF!"}},{"$f":"IF(#REF!=\"сх\",0,0)","v":{"$error":"#REF!"}},{"$error":"#REF!"},{"$f":"IF(#REF!=1,25,0)","v":{"$error":"#REF!"}},{"$f":"IF(#REF!=2,22,0)","v":{"$error":"#REF!"}},{"$f":"IF(#REF!=3,20,0)","v":{"$error":"#REF!"}},{"$f":"IF(#REF!=4,18,0)","v":{"$error":"#REF!"}},{"$f":"IF(#REF!=5,16,0)","v":{"$error":"#REF!"}},{"$f":"IF(#REF!=6,15,0)","v":{"$error":"#REF!"}},{"$f":"IF(#REF!=7,14,0)","v":{"$error":"#REF!"}},{"$f":"IF(#REF!=8,13,0)","v":{"$error":"#REF!"}},{"$f":"IF(#REF!=9,12,0)","v":{"$error":"#REF!"}},{"$f":"IF(#REF!=10,11,0)","v":{"$error":"#REF!"}},{"$f":"IF(#REF!=11,10,0)","v":{"$error":"#REF!"}},{"$f":"IF(#REF!=12,9,0)","v":{"$error":"#REF!"}},{"$f":"IF(#REF!=13,8,0)","v":{"$error":"#REF!"}},{"$f":"IF(#REF!=14,7,0)","v":{"$error":"#REF!"}},{"$f":"IF(#REF!=15,6,0)","v":{"$error":"#REF!"}},{"$f":"IF(#REF!=16,5,0)","v":{"$error":"#REF!"}},{"$f":"IF(#REF!=17,4,0)","v":{"$error":"#REF!"}},{"$f":"IF(#REF!=18,3,0)","v":{"$error":"#REF!"}},{"$f":"IF(#REF!=19,2,0)","v":{"$error":"#REF!"}},{"$f":"IF(#REF!=20,1,0)","v":{"$error":"#REF!"}},{"$f":"IF(#REF!>20,0,0)","v":{"$error":"#REF!"}},{"$f":"IF(#REF!=\"сх\",0,0)","v":{"$error":"#REF!"}},{"$error":"#REF!"},{"$f":"IF(#REF!=1,45,0)","v":{"$error":"#REF!"}},{"$f":"IF(#REF!=2,42,0)","v":{"$error":"#REF!"}},{"$f":"IF(#REF!=3,40,0)","v":{"$error":"#REF!"}},{"$f":"IF(#REF!=4,38,0)","v":{"$error":"#REF!"}},{"$f":"IF(#REF!=5,36,0)","v":{"$error":"#REF!"}},{"$f":"IF(#REF!=6,35,0)","v":{"$error":"#REF!"}},{"$f":"IF(#REF!=7,34,0)","v":{"$error":"#REF!"}},{"$f":"IF(#REF!=8,33,0)","v":{"$error":"#REF!"}},{"$f":"IF(#REF!=9,32,0)","v":{"$error":"#REF!"}},{"$f":"IF(#REF!=10,31,0)","v":{"$error":"#REF!"}},{"$f":"IF(#REF!=11,30,0)","v":{"$error":"#REF!"}},{"$f":"IF(#REF!=12,29,0)","v":{"$error":"#REF!"}},{"$f":"IF(#REF!=13,28,0)","v":{"$error":"#REF!"}},{"$f":"IF(#REF!=14,27,0)","v":{"$error":"#REF!"}},{"$f":"IF(#REF!=15,26,0)","v":{"$error":"#REF!"}},{"$f":"IF(#REF!=16,25,0)","v":{"$error":"#REF!"}},{"$f":"IF(#REF!=17,24,0)","v":{"$error":"#REF!"}},{"$f":"IF(#REF!=18,23,0)","v":{"$error":"#REF!"}},{"$f":"IF(#REF!=19,22,0)","v":{"$error":"#REF!"}},{"$f":"IF(#REF!=20,21,0)","v":{"$error":"#REF!"}},{"$f":"IF(#REF!=21,20,0)","v":{"$error":"#REF!"}},{"$f":"IF(#REF!=22,19,0)","v":{"$error":"#REF!"}},{"$f":"IF(#REF!=23,18,0)","v":{"$error":"#REF!"}},{"$f":"IF(#REF!=24,17,0)","v":{"$error":"#REF!"}},{"$f":"IF(#REF!=25,16,0)","v":{"$error":"#REF!"}},{"$f":"IF(#REF!=26,15,0)","v":{"$error":"#REF!"}},{"$f":"IF(#REF!=27,14,0)","v":{"$error":"#REF!"}},{"$f":"IF(#REF!=28,13,0)","v":{"$error":"#REF!"}},{"$f":"IF(#REF!=29,12,0)","v":{"$error":"#REF!"}},{"$f":"IF(#REF!=30,11,0)","v":{"$error":"#REF!"}},{"$f":"IF(#REF!=31,10,0)","v":{"$error":"#REF!"}},{"$f":"IF(#REF!=32,9,0)","v":{"$error":"#REF!"}},{"$f":"IF(#REF!=33,8,0)","v":{"$error":"#REF!"}},{"$f":"IF(#REF!=34,7,0)","v":{"$error":"#REF!"}},{"$f":"IF(#REF!=35,6,0)","v":{"$error":"#REF!"}},{"$f":"IF(#REF!=36,5,0)","v":{"$error":"#REF!"}},{"$f":"IF(#REF!=37,4,0)","v":{"$error":"#REF!"}},{"$f":"IF(#REF!=38,3,0)","v":{"$error":"#REF!"}},{"$f":"IF(#REF!=39,2,0)","v":{"$error":"#REF!"}},{"$f":"IF(#REF!=40,1,0)","v":{"$error":"#REF!"}},{"$f":"IF(#REF!>20,0,0)","v":{"$error":"#REF!"}},{"$f":"IF(#REF!=\"сх\",0,0)","v":{"$error":"#REF!"}},{"$error":"#REF!"},{"$f":"IF(#REF!=1,45,0)","v":{"$error":"#REF!"}},{"$f":"IF(#REF!=2,42,0)","v":{"$error":"#REF!"}},{"$f":"IF(#REF!=3,40,0)","v":{"$error":"#REF!"}},{"$f":"IF(#REF!=4,38,0)","v":{"$error":"#REF!"}},{"$f":"IF(#REF!=5,36,0)","v":{"$error":"#REF!"}},{"$f":"IF(#REF!=6,35,0)","v":{"$error":"#REF!"}},{"$f":"IF(#REF!=7,34,0)","v":{"$error":"#REF!"}},{"$f":"IF(#REF!=8,33,0)","v":{"$error":"#REF!"}},{"$f":"IF(#REF!=9,32,0)","v":{"$error":"#REF!"}},{"$f":"IF(#REF!=10,31,0)","v":{"$error":"#REF!"}},{"$f":"IF(#REF!=11,30,0)","v":{"$error":"#REF!"}},{"$f":"IF(#REF!=12,29,0)","v":{"$error":"#REF!"}},{"$f":"IF(#REF!=13,28,0)","v":{"$error":"#REF!"}},{"$f":"IF(#REF!=14,27,0)","v":{"$error":"#REF!"}},{"$f":"IF(#REF!=15,26,0)","v":{"$error":"#REF!"}},{"$f":"IF(#REF!=16,25,0)","v":{"$error":"#REF!"}},{"$f":"IF(#REF!=17,24,0)","v":{"$error":"#REF!"}},{"$f":"IF(#REF!=18,23,0)","v":{"$error":"#REF!"}},{"$f":"IF(#REF!=19,22,0)","v":{"$error":"#REF!"}},{"$f":"IF(#REF!=20,21,0)","v":{"$error":"#REF!"}},{"$f":"IF(#REF!=21,20,0)","v":{"$error":"#REF!"}},{"$f":"IF(#REF!=22,19,0)","v":{"$error":"#REF!"}},{"$f":"IF(#REF!=23,18,0)","v":{"$error":"#REF!"}},{"$f":"IF(#REF!=24,17,0)","v":{"$error":"#REF!"}},{"$f":"IF(#REF!=25,16,0)","v":{"$error":"#REF!"}},{"$f":"IF(#REF!=26,15,0)","v":{"$error":"#REF!"}},{"$f":"IF(#REF!=27,14,0)","v":{"$error":"#REF!"}},{"$f":"IF(#REF!=28,13,0)","v":{"$error":"#REF!"}},{"$f":"IF(#REF!=29,12,0)","v":{"$error":"#REF!"}},{"$f":"IF(#REF!=30,11,0)","v":{"$error":"#REF!"}},{"$f":"IF(#REF!=31,10,0)","v":{"$error":"#REF!"}},{"$f":"IF(#REF!=32,9,0)","v":{"$error":"#REF!"}},{"$f":"IF(#REF!=33,8,0)","v":{"$error":"#REF!"}},{"$f":"IF(#REF!=34,7,0)","v":{"$error":"#REF!"}},{"$f":"IF(#REF!=35,6,0)","v":{"$error":"#REF!"}},{"$f":"IF(#REF!=36,5,0)","v":{"$error":"#REF!"}},{"$f":"IF(#REF!=37,4,0)","v":{"$error":"#REF!"}},{"$f":"IF(#REF!=38,3,0)","v":{"$error":"#REF!"}},{"$f":"IF(#REF!=39,2,0)","v":{"$error":"#REF!"}},{"$f":"IF(#REF!=40,1,0)","v":{"$error":"#REF!"}},{"$f":"IF(#REF!>20,0,0)","v":{"$error":"#REF!"}},{"$f":"IF(#REF!=\"сх\",0,0)","v":{"$error":"#REF!"}},{"$error":"#REF!"},null,{"$f":"IF(#REF!=\"сх\",\"ноль\",IF(#REF!>0,#REF!,\"Ноль\"))","v":{"$error":"#REF!"}},{"$f":"IF(#REF!=\"сх\",\"ноль\",IF(#REF!>0,#REF!,\"Ноль\"))","v":{"$error":"#REF!"}},null,{"$error":"#REF!"},{"$f":"IF(M12=#REF!,IF(#REF!<#REF!,#REF!,FB12),#REF!)","v":{"$error":"#REF!"}},{"$f":"IF(M12=#REF!,IF(#REF!<#REF!,0,1))","v":{"$error":"#REF!"}},{"$f":"IF(AND(EW12>=21,EW12<>0),EW12,IF(M12<#REF!,\"СТОП\",EX12+EY12))","v":{"$error":"#REF!"}},null,15,16,null,{"$f":"IF(#REF!=1,25,0)","v":{"$error":"#REF!"}},{"$f":"IF(#REF!=2,22,0)","v":{"$error":"#REF!"}},{"$f":"IF(#REF!=3,20,0)","v":{"$error":"#REF!"}},{"$f":"IF(#REF!=4,18,0)","v":{"$error":"#REF!"}},{"$f":"IF(#REF!=5,16,0)","v":{"$error":"#REF!"}},{"$f":"IF(#REF!=6,15,0)","v":{"$error":"#REF!"}},{"$f":"IF(#REF!=7,14,0)","v":{"$error":"#REF!"}},{"$f":"IF(#REF!=8,13,0)","v":{"$error":"#REF!"}},{"$f":"IF(#REF!=9,12,0)","v":{"$error":"#REF!"}},{"$f":"IF(#REF!=10,11,0)","v":{"$error":"#REF!"}},{"$f":"IF(#REF!=11,10,0)","v":{"$error":"#REF!"}},{"$f":"IF(#REF!=12,9,0)","v":{"$error":"#REF!"}},{"$f":"IF(#REF!=13,8,0)","v":{"$error":"#REF!"}},{"$f":"IF(#REF!=14,7,0)","v":{"$error":"#REF!"}},{"$f":"IF(#REF!=15,6,0)","v":{"$error":"#REF!"}},{"$f":"IF(#REF!=16,5,0)","v":{"$error":"#REF!"}},{"$f":"IF(#REF!=17,4,0)","v":{"$error":"#REF!"}},{"$f":"IF(#REF!=18,3,0)","v":{"$error":"#REF!"}},{"$f":"IF(#REF!=19,2,0)","v":{"$error":"#REF!"}},{"$f":"IF(#REF!=20,1,0)","v":{"$error":"#REF!"}},{"$f":"IF(#REF!>20,0,0)","v":{"$error":"#REF!"}},{"$f":"IF(#REF!=\"сх\",0,0)","v":{"$error":"#REF!"}},{"$error":"#REF!"},{"$f":"IF(#REF!=1,25,0)","v":{"$error":"#REF!"}},{"$f":"IF(#REF!=2,22,0)","v":{"$error":"#REF!"}},{"$f":"IF(#REF!=3,20,0)","v":{"$error":"#REF!"}},{"$f":"IF(#REF!=4,18,0)","v":{"$error":"#REF!"}},{"$f":"IF(#REF!=5,16,0)","v":{"$error":"#REF!"}},{"$f":"IF(#REF!=6,15,0)","v":{"$error":"#REF!"}},{"$f":"IF(#REF!=7,14,0)","v":{"$error":"#REF!"}},{"$f":"IF(#REF!=8,13,0)","v":{"$error":"#REF!"}},{"$f":"IF(#REF!=9,12,0)","v":{"$error":"#REF!"}},{"$f":"IF(#REF!=10,11,0)","v":{"$error":"#REF!"}},{"$f":"IF(#REF!=11,10,0)","v":{"$error":"#REF!"}},{"$f":"IF(#REF!=12,9,0)","v":{"$error":"#REF!"}},{"$f":"IF(#REF!=13,8,0)","v":{"$error":"#REF!"}},{"$f":"IF(#REF!=14,7,0)","v":{"$error":"#REF!"}},{"$f":"IF(#REF!=15,6,0)","v":{"$error":"#REF!"}},{"$f":"IF(#REF!=16,5,0)","v":{"$error":"#REF!"}},{"$f":"IF(#REF!=17,4,0)","v":{"$error":"#REF!"}},{"$f":"IF(#REF!=18,3,0)","v":{"$error":"#REF!"}},{"$f":"IF(#REF!=19,2,0)","v":{"$error":"#REF!"}},{"$f":"IF(#REF!=20,1,0)","v":{"$error":"#REF!"}},{"$f":"IF(#REF!>20,0,0)","v":{"$error":"#REF!"}},{"$f":"IF(#REF!=\"сх\",0,0)","v":{"$error":"#REF!"}},{"$error":"#REF!"},{"$f":"IF(#REF!=1,100,0)","v":{"$error":"#REF!"}},{"$f":"IF(#REF!=2,98,0)","v":{"$error":"#REF!"}},{"$f":"IF(#REF!=3,95,0)","v":{"$error":"#REF!"}},{"$f":"IF(#REF!=4,93,0)","v":{"$error":"#REF!"}},{"$f":"IF(#REF!=5,90,0)","v":{"$error":"#REF!"}},{"$f":"IF(#REF!=6,88,0)","v":{"$error":"#REF!"}},{"$f":"IF(#REF!=7,85,0)","v":{"$error":"#REF!"}},{"$f":"IF(#REF!=8,83,0)","v":{"$error":"#REF!"}},{"$f":"IF(#REF!=9,80,0)","v":{"$error":"#REF!"}},{"$f":"IF(#REF!=10,78,0)","v":{"$error":"#REF!"}},{"$f":"IF(#REF!=11,75,0)","v":{"$error":"#REF!"}},{"$f":"IF(#REF!=12,73,0)","v":{"$error":"#REF!"}},{"$f":"IF(#REF!=13,70,0)","v":{"$error":"#REF!"}},{"$f":"IF(#REF!=14,68,0)","v":{"$error":"#REF!"}},{"$f":"IF(#REF!=15,65,0)","v":{"$error":"#REF!"}},{"$f":"IF(#REF!=16,63,0)","v":{"$error":"#REF!"}},{"$f":"IF(#REF!=17,60,0)","v":{"$error":"#REF!"}},{"$f":"IF(#REF!=18,58,0)","v":{"$error":"#REF!"}},{"$f":"IF(#REF!=19,55,0)","v":{"$error":"#REF!"}},{"$f":"IF(#REF!=20,53,0)","v":{"$error":"#REF!"}},{"$f":"IF(#REF!>20,0,0)","v":{"$error":"#REF!"}},{"$f":"IF(#REF!=\"сх\",0,0)","v":{"$error":"#REF!"}},{"$error":"#REF!"},{"$f":"IF(#REF!=1,100,0)","v":{"$error":"#REF!"}},{"$f":"IF(#REF!=2,98,0)","v":{"$error":"#REF!"}},{"$f":"IF(#REF!=3,95,0)","v":{"$error":"#REF!"}},{"$f":"IF(#REF!=4,93,0)","v":{"$error":"#REF!"}},{"$f":"IF(#REF!=5,90,0)","v":{"$error":"#REF!"}},{"$f":"IF(#REF!=6,88,0)","v":{"$error":"#REF!"}},{"$f":"IF(#REF!=7,85,0)","v":{"$error":"#REF!"}},{"$f":"IF(#REF!=8,83,0)","v":{"$error":"#REF!"}},{"$f":"IF(#REF!=9,80,0)","v":{"$error":"#REF!"}},{"$f":"IF(#REF!=10,78,0)","v":{"$error":"#REF!"}},{"$f":"IF(#REF!=11,75,0)","v":{"$error":"#REF!"}},{"$f":"IF(#REF!=12,73,0)","v":{"$error":"#REF!"}},{"$f":"IF(#REF!=13,70,0)","v":{"$error":"#REF!"}},{"$f":"IF(#REF!=14,68,0)","v":{"$error":"#REF!"}},{"$f":"IF(#REF!=15,65,0)","v":{"$error":"#REF!"}},{"$f":"IF(#REF!=16,63,0)","v":{"$error":"#REF!"}},{"$f":"IF(#REF!=17,60,0)","v":{"$error":"#REF!"}},{"$f":"IF(#REF!=18,58,0)","v":{"$error":"#REF!"}},{"$f":"IF(#REF!=19,55,0)","v":{"$error":"#REF!"}},{"$f":"IF(#REF!=20,53,0)","v":{"$error":"#REF!"}},{"$f":"IF(#REF!>20,0,0)","v":{"$error":"#REF!"}},{"$f":"IF(#REF!=\"сх\",0,0)","v":{"$error":"#REF!"}},{"$error":"#REF!"}]
[4,9,37,"Богомолов Никита","б/р","г. Новый Уренгой, Ямало-Ненецкий АО","СТК \"Факел\"","LYNX",2,22,7,14,36,{"$f":"#REF!+#REF!","v":{"$error":"#REF!"}},null,null,{"$f":"IF(#REF!=1,25,0)","v":{"$error":"#REF!"}},{"$f":"IF(#REF!=2,22,0)","v":{"$error":"#REF!"}},{"$f":"IF(#REF!=3,20,0)","v":{"$error":"#REF!"}},{"$f":"IF(#REF!=4,18,0)","v":{"$error":"#REF!"}},{"$f":"IF(#REF!=5,16,0)","v":{"$error":"#REF!"}},{"$f":"IF(#REF!=6,15,0)","v":{"$error":"#REF!"}},{"$f":"IF(#REF!=7,14,0)","v":{"$error":"#REF!"}},{"$f":"IF(#REF!=8,13,0)","v":{"$error":"#REF!"}},{"$f":"IF(#REF!=9,12,0)","v":{"$error":"#REF!"}},{"$f":"IF(#REF!=10,11,0)","v":{"$error":"#REF!"}},{"$f":"IF(#REF!=11,10,0)","v":{"$error":"#REF!"}},{"$f":"IF(#REF!=12,9,0)","v":{"$error":"#REF!"}},{"$f":"IF(#REF!=13,8,0)","v":{"$error":"#REF!"}},{"$f":"IF(#REF!=14,7,0)","v":{"$error":"#REF!"}},{"$f":"IF(#REF!=15,6,0)","v":{"$error":"#REF!"}},{"$f":"IF(#REF!=16,5,0)","v":{"$error":"#REF!"}},{"$f":"IF(#REF!=17,4,0)","v":{"$error":"#REF!"}},{"$f":"IF(#REF!=18,3,0)","v":{"$error":"#REF!"}},{"$f":"IF(#REF!=19,2,0)","v":{"$error":"#REF!"}},{"$f":"IF(#REF!=20,1,0)","v":{"$error":"#REF!"}},{"$f":"IF(#REF!>20,0,0)","v":{"$error":"#REF!"}},{"$f":"IF(#REF!=\"сх\",0,0)","v":{"$error":"#REF!"}},{"$error":"#REF!"},{"$f":"IF(#REF!=1,25,0)","v":{"$error":"#REF!"}},{"$f":"IF(#REF!=2,22,0)","v":{"$error":"#REF!"}},{"$f":"IF(#REF!=3,20,0)","v":{"$error":"#REF!"}},{"$f":"IF(#REF!=4,18,0)","v":{"$error":"#REF!"}},{"$f":"IF(#REF!=5,16,0)","v":{"$error":"#REF!"}},{"$f":"IF(#REF!=6,15,0)","v":{"$error":"#REF!"}},{"$f":"IF(#REF!=7,14,0)","v":{"$error":"#REF!"}},{"$f":"IF(#REF!=8,13,0)","v":{"$error":"#REF!"}},{"$f":"IF(#REF!=9,12,0)","v":{"$error":"#REF!"}},{"$f":"IF(#REF!=10,11,0)","v":{"$error":"#REF!"}},{"$f":"IF(#REF!=11,10,0)","v":{"$error":"#REF!"}},{"$f":"IF(#REF!=12,9,0)","v":{"$error":"#REF!"}},{"$f":"IF(#REF!=13,8,0)","v":{"$error":"#REF!"}},{"$f":"IF(#REF!=14,7,0)","v":{"$error":"#REF!"}},{"$f":"IF(#REF!=15,6,0)","v":{"$error":"#REF!"}},{"$f":"IF(#REF!=16,5,0)","v":{"$error":"#REF!"}},{"$f":"IF(#REF!=17,4,0)","v":{"$error":"#REF!"}},{"$f":"IF(#REF!=18,3,0)","v":{"$error":"#REF!"}},{"$f":"IF(#REF!=19,2,0)","v":{"$error":"#REF!"}},{"$f":"IF(#REF!=20,1,0)","v":{"$error":"#REF!"}},{"$f":"IF(#REF!>20,0,0)","v":{"$error":"#REF!"}},{"$f":"IF(#REF!=\"сх\",0,0)","v":{"$error":"#REF!"}},{"$error":"#REF!"},{"$f":"IF(#REF!=1,45,0)","v":{"$error":"#REF!"}},{"$f":"IF(#REF!=2,42,0)","v":{"$error":"#REF!"}},{"$f":"IF(#REF!=3,40,0)","v":{"$error":"#REF!"}},{"$f":"IF(#REF!=4,38,0)","v":{"$error":"#REF!"}},{"$f":"IF(#REF!=5,36,0)","v":{"$error":"#REF!"}},{"$f":"IF(#REF!=6,35,0)","v":{"$error":"#REF!"}},{"$f":"IF(#REF!=7,34,0)","v":{"$error":"#REF!"}},{"$f":"IF(#REF!=8,33,0)","v":{"$error":"#REF!"}},{"$f":"IF(#REF!=9,32,0)","v":{"$error":"#REF!"}},{"$f":"IF(#REF!=10,31,0)","v":{"$error":"#REF!"}},{"$f":"IF(#REF!=11,30,0)","v":{"$error":"#REF!"}},{"$f":"IF(#REF!=12,29,0)","v":{"$error":"#REF!"}},{"$f":"IF(#REF!=13,28,0)","v":{"$error":"#REF!"}},{"$f":"IF(#REF!=14,27,0)","v":{"$error":"#REF!"}},{"$f":"IF(#REF!=15,26,0)","v":{"$error":"#REF!"}},{"$f":"IF(#REF!=16,25,0)","v":{"$error":"#REF!"}},{"$f":"IF(#REF!=17,24,0)","v":{"$error":"#REF!"}},{"$f":"IF(#REF!=18,23,0)","v":{"$error":"#REF!"}},{"$f":"IF(#REF!=19,22,0)","v":{"$error":"#REF!"}},{"$f":"IF(#REF!=20,21,0)","v":{"$error":"#REF!"}},{"$f":"IF(#REF!=21,20,0)","v":{"$error":"#REF!"}},{"$f":"IF(#REF!=22,19,0)","v":{"$error":"#REF!"}},{"$f":"IF(#REF!=23,18,0)","v":{"$error":"#REF!"}},{"$f":"IF(#REF!=24,17,0)","v":{"$error":"#REF!"}},{"$f":"IF(#REF!=25,16,0)","v":{"$error":"#REF!"}},{"$f":"IF(#REF!=26,15,0)","v":{"$error":"#REF!"}},{"$f":"IF(#REF!=27,14,0)","v":{"$error":"#REF!"}},{"$f":"IF(#REF!=28,13,0)","v":{"$error":"#REF!"}},{"$f":"IF(#REF!=29,12,0)","v":{"$error":"#REF!"}},{"$f":"IF(#REF!=30,11,0)","v":{"$error":"#REF!"}},{"$f":"IF(#REF!=31,10,0)","v":{"$error":"#REF!"}},{"$f":"IF(#REF!=32,9,0)","v":{"$error":"#REF!"}},{"$f":"IF(#REF!=33,8,0)","v":{"$error":"#REF!"}},{"$f":"IF(#REF!=34,7,0)","v":{"$error":"#REF!"}},{"$f":"IF(#REF!=35,6,0)","v":{"$error":"#REF!"}},{"$f":"IF(#REF!=36,5,0)","v":{"$error":"#REF!"}},{"$f":"IF(#REF!=37,4,0)","v":{"$error":"#REF!"}},{"$f":"IF(#REF!=38,3,0)","v":{"$error":"#REF!"}},{"$f":"IF(#REF!=39,2,0)","v":{"$error":"#REF!"}},{"$f":"IF(#REF!=40,1,0)","v":{"$error":"#REF!"}},{"$f":"IF(#REF!>20,0,0)","v":{"$error":"#REF!"}},{"$f":"IF(#REF!=\"сх\",0,0)","v":{"$error":"#REF!"}},{"$error":"#REF!"},{"$f":"IF(#REF!=1,45,0)","v":{"$error":"#REF!"}},{"$f":"IF(#REF!=2,42,0)","v":{"$error":"#REF!"}},{"$f":"IF(#REF!=3,40,0)","v":{"$error":"#REF!"}},{"$f":"IF(#REF!=4,38,0)","v":{"$error":"#REF!"}},{"$f":"IF(#REF!=5,36,0)","v":{"$error":"#REF!"}},{"$f":"IF(#REF!=6,35,0)","v":{"$error":"#REF!"}},{"$f":"IF(#REF!=7,34,0)","v":{"$error":"#REF!"}},{"$f":"IF(#REF!=8,33,0)","v":{"$error":"#REF!"}},{"$f":"IF(#REF!=9,32,0)","v":{"$error":"#REF!"}},{"$f":"IF(#REF!=10,31,0)","v":{"$error":"#REF!"}},{"$f":"IF(#REF!=11,30,0)","v":{"$error":"#REF!"}},{"$f":"IF(#REF!=12,29,0)","v":{"$error":"#REF!"}},{"$f":"IF(#REF!=13,28,0)","v":{"$error":"#REF!"}},{"$f":"IF(#REF!=14,27,0)","v":{"$error":"#REF!"}},{"$f":"IF(#REF!=15,26,0)","v":{"$error":"#REF!"}},{"$f":"IF(#REF!=16,25,0)","v":{"$error":"#REF!"}},{"$f":"IF(#REF!=17,24,0)","v":{"$error":"#REF!"}},{"$f":"IF(#REF!=18,23,0)","v":{"$error":"#REF!"}},{"$f":"IF(#REF!=19,22,0)","v":{"$error":"#REF!"}},{"$f":"IF(#REF!=20,21,0)","v":{"$error":"#REF!"}},{"$f":"IF(#REF!=21,20,0)","v":{"$error":"#REF!"}},{"$f":"IF(#REF!=22,19,0)","v":{"$error":"#REF!"}},{"$f":"IF(#REF!=23,18,0)","v":{"$error":"#REF!"}},{"$f":"IF(#REF!=24,17,0)","v":{"$error":"#REF!"}},{"$f":"IF(#REF!=25,16,0)","v":{"$error":"#REF!"}},{"$f":"IF(#REF!=26,15,0)","v":{"$error":"#REF!"}},{"$f":"IF(#REF!=27,14,0)","v":{"$error":"#REF!"}},{"$f":"IF(#REF!=28,13,0)","v":{"$error":"#REF!"}},{"$f":"IF(#REF!=29,12,0)","v":{"$error":"#REF!"}},{"$f":"IF(#REF!=30,11,0)","v":{"$error":"#REF!"}},{"$f":"IF(#REF!=31,10,0)","v":{"$error":"#REF!"}},{"$f":"IF(#REF!=32,9,0)","v":{"$error":"#REF!"}},{"$f":"IF(#REF!=33,8,0)","v":{"$error":"#REF!"}},{"$f":"IF(#REF!=34,7,0)","v":{"$error":"#REF!"}},{"$f":"IF(#REF!=35,6,0)","v":{"$error":"#REF!"}},{"$f":"IF(#REF!=36,5,0)","v":{"$error":"#REF!"}},{"$f":"IF(#REF!=37,4,0)","v":{"$error":"#REF!"}},{"$f":"IF(#REF!=38,3,0)","v":{"$error":"#REF!"}},{"$f":"IF(#REF!=39,2,0)","v":{"$error":"#REF!"}},{"$f":"IF(#REF!=40,1,0)","v":{"$error":"#REF!"}},{"$f":"IF(#REF!>20,0,0)","v":{"$error":"#REF!"}},{"$f":"IF(#REF!=\"сх\",0,0)","v":{"$error":"#REF!"}},{"$error":"#REF!"},null,{"$f":"IF(#REF!=\"сх\",\"ноль\",IF(#REF!>0,#REF!,\"Ноль\"))","v":{"$error":"#REF!"}},{"$f":"IF(#REF!=\"сх\",\"ноль\",IF(#REF!>0,#REF!,\"Ноль\"))","v":{"$error":"#REF!"}},null,{"$error":"#REF!"},{"$f":"IF(M13=#REF!,IF(#REF!<#REF!,#REF!,FB13),#REF!)","v":{"$error":"#REF!"}},{"$f":"IF(M13=#REF!,IF(#REF!<#REF!,0,1))","v":{"$error":"#REF!"}},{"$f":"IF(AND(EW13>=21,EW13<>0),EW13,IF(M13<#REF!,\"СТОП\",EX13+EY13))","v":{"$error":"#REF!"}},null,15,16,null,{"$f":"IF(#REF!=1,25,0)","v":{"$error":"#REF!"}},{"$f":"IF(#REF!=2,22,0)","v":{"$error":"#REF!"}},{"$f":"IF(#REF!=3,20,0)","v":{"$error":"#REF!"}},{"$f":"IF(#REF!=4,18,0)","v":{"$error":"#REF!"}},{"$f":"IF(#REF!=5,16,0)","v":{"$error":"#REF!"}},{"$f":"IF(#REF!=6,15,0)","v":{"$error":"#REF!"}},{"$f":"IF(#REF!=7,14,0)","v":{"$error":"#REF!"}},{"$f":"IF(#REF!=8,13,0)","v":{"$error":"#REF!"}},{"$f":"IF(#REF!=9,12,0)","v":{"$error":"#REF!"}},{"$f":"IF(#REF!=10,11,0)","v":{"$error":"#REF!"}},{"$f":"IF(#REF!=11,10,0)","v":{"$error":"#REF!"}},{"$f":"IF(#REF!=12,9,0)","v":{"$error":"#REF!"}},{"$f":"IF(#REF!=13,8,0)","v":{"$error":"#REF!"}},{"$f":"IF(#REF!=14,7,0)","v":{"$error":"#REF!"}},{"$f":"IF(#REF!=15,6,0)","v":{"$error":"#REF!"}},{"$f":"IF(#REF!=16,5,0)","v":{"$error":"#REF!"}},{"$f":"IF(#REF!=17,4,0)","v":{"$error":"#REF!"}},{"$f":"IF(#REF!=18,3,0)","v":{"$error":"#REF!"}},{"$f":"IF(#REF!=19,2,0)","v":{"$error":"#REF!"}},{"$f":"IF(#REF!=20,1,0)","v":{"$error":"#REF!"}},{"$f":"IF(#REF!>20,0,0)","v":{"$error":"#REF!"}},{"$f":"IF(#REF!=\"сх\",0,0)","v":{"$error":"#REF!"}},{"$error":"#REF!"},{"$f":"IF(#REF!=1,25,0)","v":{"$error":"#REF!"}},{"$f":"IF(#REF!=2,22,0)","v":{"$error":"#REF!"}},{"$f":"IF(#REF!=3,20,0)","v":{"$error":"#REF!"}},{"$f":"IF(#REF!=4,18,0)","v":{"$error":"#REF!"}},{"$f":"IF(#REF!=5,16,0)","v":{"$error":"#REF!"}},{"$f":"IF(#REF!=6,15,0)","v":{"$error":"#REF!"}},{"$f":"IF(#REF!=7,14,0)","v":{"$error":"#REF!"}},{"$f":"IF(#REF!=8,13,0)","v":{"$error":"#REF!"}},{"$f":"IF(#REF!=9,12,0)","v":{"$error":"#REF!"}},{"$f":"IF(#REF!=10,11,0)","v":{"$error":"#REF!"}},{"$f":"IF(#REF!=11,10,0)","v":{"$error":"#REF!"}},{"$f":"IF(#REF!=12,9,0)","v":{"$error":"#REF!"}},{"$f":"IF(#REF!=13,8,0)","v":{"$error":"#REF!"}},{"$f":"IF(#REF!=14,7,0)","v":{"$error":"#REF!"}},{"$f":"IF(#REF!=15,6,0)","v":{"$error":"#REF!"}},{"$f":"IF(#REF!=16,5,0)","v":{"$error":"#REF!"}},{"$f":"IF(#REF!=17,4,0)","v":{"$error":"#REF!"}},{"$f":"IF(#REF!=18,3,0)","v":{"$error":"#REF!"}},{"$f":"IF(#REF!=19,2,0)","v":{"$error":"#REF!"}},{"$f":"IF(#REF!=20,1,0)","v":{"$error":"#REF!"}},{"$f":"IF(#REF!>20,0,0)","v":{"$error":"#REF!"}},{"$f":"IF(#REF!=\"сх\",0,0)","v":{"$error":"#REF!"}},{"$error":"#REF!"},{"$f":"IF(#REF!=1,100,0)","v":{"$error":"#REF!"}},{"$f":"IF(#REF!=2,98,0)","v":{"$error":"#REF!"}},{"$f":"IF(#REF!=3,95,0)","v":{"$error":"#REF!"}},{"$f":"IF(#REF!=4,93,0)","v":{"$error":"#REF!"}},{"$f":"IF(#REF!=5,90,0)","v":{"$error":"#REF!"}},{"$f":"IF(#REF!=6,88,0)","v":{"$error":"#REF!"}},{"$f":"IF(#REF!=7,85,0)","v":{"$error":"#REF!"}},{"$f":"IF(#REF!=8,83,0)","v":{"$error":"#REF!"}},{"$f":"IF(#REF!=9,80,0)","v":{"$error":"#REF!"}},{"$f":"IF(#REF!=10,78,0)","v":{"$error":"#REF!"}},{"$f":"IF(#REF!=11,75,0)","v":{"$error":"#REF!"}},{"$f":"IF(#REF!=12,73,0)","v":{"$error":"#REF!"}},{"$f":"IF(#REF!=13,70,0)","v":{"$error":"#REF!"}},{"$f":"IF(#REF!=14,68,0)","v":{"$error":"#REF!"}},{"$f":"IF(#REF!=15,65,0)","v":{"$error":"#REF!"}},{"$f":"IF(#REF!=16,63,0)","v":{"$error":"#REF!"}},{"$f":"IF(#REF!=17,60,0)","v":{"$error":"#REF!"}},{"$f":"IF(#REF!=18,58,0)","v":{"$error":"#REF!"}},{"$f":"IF(#REF!=19,55,0)","v":{"$error":"#REF!"}},{"$f":"IF(#REF!=20,53,0)","v":{"$error":"#REF!"}},{"$f":"IF(#REF!>20,0,0)","v":{"$error":"#REF!"}},{"$f":"IF(#REF!=\"сх\",0,0)","v":{"$error":"#REF!"}},{"$error":"#REF!"},{"$f":"IF(#REF!=1,100,0)","v":{"$error":"#REF!"}},{"$f":"IF(#REF!=2,98,0)","v":{"$error":"#REF!"}},{"$f":"IF(#REF!=3,95,0)","v":{"$error":"#REF!"}},{"$f":"IF(#REF!=4,93,0)","v":{"$error":"#REF!"}},{"$f":"IF(#REF!=5,90,0)","v":{"$error":"#REF!"}},{"$f":"IF(#REF!=6,88,0)","v":{"$error":"#REF!"}},{"$f":"IF(#REF!=7,85,0)","v":{"$error":"#REF!"}},{"$f":"IF(#REF!=8,83,0)","v":{"$error":"#REF!"}},{"$f":"IF(#REF!=9,80,0)","v":{"$error":"#REF!"}},{"$f":"IF(#REF!=10,78,0)","v":{"$error":"#REF!"}},{"$f":"IF(#REF!=11,75,0)","v":{"$error":"#REF!"}},{"$f":"IF(#REF!=12,73,0)","v":{"$error":"#REF!"}},{"$f":"IF(#REF!=13,70,0)","v":{"$error":"#REF!"}},{"$f":"IF(#REF!=14,68,0)","v":{"$error":"#REF!"}},{"$f":"IF(#REF!=15,65,0)","v":{"$error":"#REF!"}},{"$f":"IF(#REF!=16,63,0)","v":{"$error":"#REF!"}},{"$f":"IF(#REF!=17,60,0)","v":{"$error":"#REF!"}},{"$f":"IF(#REF!=18,58,0)","v":{"$error":"#REF!"}},{"$f":"IF(#REF!=19,55,0)","v":{"$error":"#REF!"}},{"$f":"IF(#REF!=20,53,0)","v":{"$error":"#REF!"}},{"$f":"IF(#REF!>20,0,0)","v":{"$error":"#REF!"}},{"$f":"IF(#REF!=\"сх\",0,0)","v":{"$error":"#REF!"}},{"$error":"#REF!"}]
[5,8.8000000000000007,23,"Дмитриев Виталий","б/р","г. Новый Уренгой, Ямало-Ненецкий АО","МАУ МЦ \"НОРД\"","KTM",5,16,5,16,32,{"$f":"#REF!+#REF!","v":{"$error":"#REF!"}},null,null,{"$f":"IF(#REF!=1,25,0)","v":{"$error":"#REF!"}},{"$f":"IF(#REF!=2,22,0)","v":{"$error":"#REF!"}},{"$f":"IF(#REF!=3,20,0)","v":{"$error":"#REF!"}},{"$f":"IF(#REF!=4,18,0)","v":{"$error":"#REF!"}},{"$f":"IF(#REF!=5,16,0)","v":{"$error":"#REF!"}},{"$f":"IF(#REF!=6,15,0)","v":{"$error":"#REF!"}},{"$f":"IF(#REF!=7,14,0)","v":{"$error":"#REF!"}},{"$f":"IF(#REF!=8,13,0)","v":{"$error":"#REF!"}},{"$f":"IF(#REF!=9,12,0)","v":{"$error":"#REF!"}},{"$f":"IF(#REF!=10,11,0)","v":{"$error":"#REF!"}},{"$f":"IF(#REF!=11,10,0)","v":{"$error":"#REF!"}},{"$f":"IF(#REF!=12,9,0)","v":{"$error":"#REF!"}},{"$f":"IF(#REF!=13,8,0)","v":{"$error":"#REF!"}},{"$f":"IF(#REF!=14,7,0)","v":{"$error":"#REF!"}},{"$f":"IF(#REF!=15,6,0)","v":{"$error":"#REF!"}},{"$f":"IF(#REF!=16,5,0)","v":{"$error":"#REF!"}},{"$f":"IF(#REF!=17,4,0)","v":{"$error":"#REF!"}},{"$f":"IF(#REF!=18,3,0)","v":{"$error":"#REF!"}},{"$f":"IF(#REF!=19,2,0)","v":{"$error":"#REF!"}},{"$f":"IF(#REF!=20,1,0)","v":{"$error":"#REF!"}},{"$f":"IF(#REF!>20,0,0)","v":{"$error":"#REF!"}},{"$f":"IF(#REF!=\"сх\",0,0)","v":{"$error":"#REF!"}},{"$error":"#REF!"},{"$f":"IF(#REF!=1,25,0)","v":{"$error":"#REF!"}},{"$f":"IF(#REF!=2,22,0)","v":{"$error":"#REF!"}},{"$f":"IF(#REF!=3,20,0)","v":{"$error":"#REF!"}},{"$f":"IF(#REF!=4,18,0)","v":{"$error":"#REF!"}},{"$f":"IF(#REF!=5,16,0)","v":{"$error":"#REF!"}},{"$f":"IF(#REF!=6,15,0)","v":{"$error":"#REF!"}},{"$f":"IF(#REF!=7,14,0)","v":{"$error":"#REF!"}},{"$f":"IF(#REF!=8,13,0)","v":{"$error":"#REF!"}},{"$f":"IF(#REF!=9,12,0)","v":{"$error":"#REF!"}},{"$f":"IF(#REF!=10,11,0)","v":{"$error":"#REF!"}},{"$f":"IF(#REF!=11,10,0)","v":{"$error":"#REF!"}},{"$f":"IF(#REF!=12,9,0)","v":{"$error":"#REF!"}},{"$f":"IF(#REF!=13,8,0)","v":{"$error":"#REF!"}},{"$f":"IF(#REF!=14,7,0)","v":{"$error":"#REF!"}},{"$f":"IF(#REF!=15,6,0)","v":{"$error":"#REF!"}},{"$f":"IF(#REF!=16,5,0)","v":{"$error":"#REF!"}},{"$f":"IF(#REF!=17,4,0)","v":{"$error":"#REF!"}},{"$f":"IF(#REF!=18,3,0)","v":{"$error":"#REF!"}},{"$f":"IF(#REF!=19,2,0)","v":{"$error":"#REF!"}},{"$f":"IF(#REF!=20,1,0)","v":{"$error":"#REF!"}},{"$f":"IF(#REF!>20,0,0)","v":{"$error":"#REF!"}},{"$f":"IF(#REF!=\"сх\",0,0)","v":{"$error":"#REF!"}},{"$error":"#REF!"},{"$f":"IF(#REF!=1,45,0)","v":{"$error":"#REF!"}},{"$f":"IF(#REF!=2,42,0)","v":{"$error":"#REF!"}},{"$f":"IF(#REF!=3,40,0)","v":{"$error":"#REF!"}},{"$f":"IF(#REF!=4,38,0)","v":{"$error":"#REF!"}},{"$f":"IF(#REF!=5,36,0)","v":{"$error":"#REF!"}},{"$f":"IF(#REF!=6,35,0)","v":{"$error":"#REF!"}},{"$f":"IF(#REF!=7,34,0)","v":{"$error":"#REF!"}},{"$f":"IF(#REF!=8,33,0)","v":{"$error":"#REF!"}},{"$f":"IF(#REF!=9,32,0)","v":{"$error":"#REF!"}},{"$f":"IF(#REF!=10,31,0)","v":{"$error":"#REF!"}},{"$f":"IF(#REF!=11,30,0)","v":{"$error":"#REF!"}},{"$f":"IF(#REF!=12,29,0)","v":{"$error":"#REF!"}},{"$f":"IF(#REF!=13,28,0)","v":{"$error":"#REF!"}},{"$f":"IF(#REF!=14,27,0)","v":{"$error":"#REF!"}},{"$f":"IF(#REF!=15,26,0)","v":{"$error":"#REF!"}},{"$f":"IF(#REF!=16,25,0)","v":{"$error":"#REF!"}},{"$f":"IF(#REF!=17,24,0)","v":{"$error":"#REF!"}},{"$f":"IF(#REF!=18,23,0)","v":{"$error":"#REF!"}},{"$f":"IF(#REF!=19,22,0)","v":{"$error":"#REF!"}},{"$f":"IF(#REF!=20,21,0)","v":{"$error":"#REF!"}},{"$f":"IF(#REF!=21,20,0)","v":{"$error":"#REF!"}},{"$f":"IF(#REF!=22,19,0)","v":{"$error":"#REF!"}},{"$f":"IF(#REF!=23,18,0)","v":{"$error":"#REF!"}},{"$f":"IF(#REF!=24,17,0)","v":{"$error":"#REF!"}},{"$f":"IF(#REF!=25,16,0)","v":{"$error":"#REF!"}},{"$f":"IF(#REF!=26,15,0)","v":{"$error":"#REF!"}},{"$f":"IF(#REF!=27,14,0)","v":{"$error":"#REF!"}},{"$f":"IF(#REF!=28,13,0)","v":{"$error":"#REF!"}},{"$f":"IF(#REF!=29,12,0)","v":{"$error":"#REF!"}},{"$f":"IF(#REF!=30,11,0)","v":{"$error":"#REF!"}},{"$f":"IF(#REF!=31,10,0)","v":{"$error":"#REF!"}},{"$f":"IF(#REF!=32,9,0)","v":{"$error":"#REF!"}},{"$f":"IF(#REF!=33,8,0)","v":{"$error":"#REF!"}},{"$f":"IF(#REF!=34,7,0)","v":{"$error":"#REF!"}},{"$f":"IF(#REF!=35,6,0)","v":{"$error":"#REF!"}},{"$f":"IF(#REF!=36,5,0)","v":{"$error":"#REF!"}},{"$f":"IF(#REF!=37,4,0)","v":{"$error":"#REF!"}},{"$f":"IF(#REF!=38,3,0)","v":{"$error":"#REF!"}},{"$f":"IF(#REF!=39,2,0)","v":{"$error":"#REF!"}},{"$f":"IF(#REF!=40,1,0)","v":{"$error":"#REF!"}},{"$f":"IF(#REF!>20,0,0)","v":{"$error":"#REF!"}},{"$f":"IF(#REF!=\"сх\",0,0)","v":{"$error":"#REF!"}},{"$error":"#REF!"},{"$f":"IF(#REF!=1,45,0)","v":{"$error":"#REF!"}},{"$f":"IF(#REF!=2,42,0)","v":{"$error":"#REF!"}},{"$f":"IF(#REF!=3,40,0)","v":{"$error":"#REF!"}},{"$f":"IF(#REF!=4,38,0)","v":{"$error":"#REF!"}},{"$f":"IF(#REF!=5,36,0)","v":{"$error":"#REF!"}},{"$f":"IF(#REF!=6,35,0)","v":{"$error":"#REF!"}},{"$f":"IF(#REF!=7,34,0)","v":{"$error":"#REF!"}},{"$f":"IF(#REF!=8,33,0)","v":{"$error":"#REF!"}},{"$f":"IF(#REF!=9,32,0)","v":{"$error":"#REF!"}},{"$f":"IF(#REF!=10,31,0)","v":{"$error":"#REF!"}},{"$f":"IF(#REF!=11,30,0)","v":{"$error":"#REF!"}},{"$f":"IF(#REF!=12,29,0)","v":{"$error":"#REF!"}},{"$f":"IF(#REF!=13,28,0)","v":{"$error":"#REF!"}},{"$f":"IF(#REF!=14,27,0)","v":{"$error":"#REF!"}},{"$f":"IF(#REF!=15,26,0)","v":{"$error":"#REF!"}},{"$f":"IF(#REF!=16,25,0)","v":{"$error":"#REF!"}},{"$f":"IF(#REF!=17,24,0)","v":{"$error":"#REF!"}},{"$f":"IF(#REF!=18,23,0)","v":{"$error":"#REF!"}},{"$f":"IF(#REF!=19,22,0)","v":{"$error":"#REF!"}},{"$f":"IF(#REF!=20,21,0)","v":{"$error":"#REF!"}},{"$f":"IF(#REF!=21,20,0)","v":{"$error":"#REF!"}},{"$f":"IF(#REF!=22,19,0)","v":{"$error":"#REF!"}},{"$f":"IF(#REF!=23,18,0)","v":{"$error":"#REF!"}},{"$f":"IF(#REF!=24,17,0)","v":{"$error":"#REF!"}},{"$f":"IF(#REF!=25,16,0)","v":{"$error":"#REF!"}},{"$f":"IF(#REF!=26,15,0)","v":{"$error":"#REF!"}},{"$f":"IF(#REF!=27,14,0)","v":{"$error":"#REF!"}},{"$f":"IF(#REF!=28,13,0)","v":{"$error":"#REF!"}},{"$f":"IF(#REF!=29,12,0)","v":{"$error":"#REF!"}},{"$f":"IF(#REF!=30,11,0)","v":{"$error":"#REF!"}},{"$f":"IF(#REF!=31,10,0)","v":{"$error":"#REF!"}},{"$f":"IF(#REF!=32,9,0)","v":{"$error":"#REF!"}},{"$f":"IF(#REF!=33,8,0)","v":{"$error":"#REF!"}},{"$f":"IF(#REF!=34,7,0)","v":{"$error":"#REF!"}},{"$f":"IF(#REF!=35,6,0)","v":{"$error":"#REF!"}},{"$f":"IF(#REF!=36,5,0)","v":{"$error":"#REF!"}},{"$f":"IF(#REF!=37,4,0)","v":{"$error":"#REF!"}},{"$f":"IF(#REF!=38,3,0)","v":{"$error":"#REF!"}},{"$f":"IF(#REF!=39,2,0)","v":{"$error":"#REF!"}},{"$f":"IF(#REF!=40,1,0)","v":{"$error":"#REF!"}},{"$f":"IF(#REF!>20,0,0)","v":{"$error":"#REF!"}},{"$f":"IF(#REF!=\"сх\",0,0)","v":{"$error":"#REF!"}},{"$error":"#REF!"},null,{"$f":"IF(#REF!=\"сх\",\"ноль\",IF(#REF!>0,#REF!,\"Ноль\"))","v":{"$error":"#REF!"}},{"$f":"IF(#REF!=\"сх\",\"ноль\",IF(#REF!>0,#REF!,\"Ноль\"))","v":{"$error":"#REF!"}},null,{"$error":"#REF!"},{"$f":"IF(M14=#REF!,IF(#REF!<#REF!,#REF!,FB14),#REF!)","v":{"$error":"#REF!"}},{"$f":"IF(M14=#REF!,IF(#REF!<#REF!,0,1))","v":{"$error":"#REF!"}},{"$f":"IF(AND(EW14>=21,EW14<>0),EW14,IF(M14<#REF!,\"СТОП\",EX14+EY14))","v":{"$error":"#REF!"}},null,15,16,null,{"$f":"IF(#REF!=1,25,0)","v":{"$error":"#REF!"}},{"$f":"IF(#REF!=2,22,0)","v":{"$error":"#REF!"}},{"$f":"IF(#REF!=3,20,0)","v":{"$error":"#REF!"}},{"$f":"IF(#REF!=4,18,0)","v":{"$error":"#REF!"}},{"$f":"IF(#REF!=5,16,0)","v":{"$error":"#REF!"}},{"$f":"IF(#REF!=6,15,0)","v":{"$error":"#REF!"}},{"$f":"IF(#REF!=7,14,0)","v":{"$error":"#REF!"}},{"$f":"IF(#REF!=8,13,0)","v":{"$error":"#REF!"}},{"$f":"IF(#REF!=9,12,0)","v":{"$error":"#REF!"}},{"$f":"IF(#REF!=10,11,0)","v":{"$error":"#REF!"}},{"$f":"IF(#REF!=11,10,0)","v":{"$error":"#REF!"}},{"$f":"IF(#REF!=12,9,0)","v":{"$error":"#REF!"}},{"$f":"IF(#REF!=13,8,0)","v":{"$error":"#REF!"}},{"$f":"IF(#REF!=14,7,0)","v":{"$error":"#REF!"}},{"$f":"IF(#REF!=15,6,0)","v":{"$error":"#REF!"}},{"$f":"IF(#REF!=16,5,0)","v":{"$error":"#REF!"}},{"$f":"IF(#REF!=17,4,0)","v":{"$error":"#REF!"}},{"$f":"IF(#REF!=18,3,0)","v":{"$error":"#REF!"}},{"$f":"IF(#REF!=19,2,0)","v":{"$error":"#REF!"}},{"$f":"IF(#REF!=20,1,0)","v":{"$error":"#REF!"}},{"$f":"IF(#REF!>20,0,0)","v":{"$error":"#REF!"}},{"$f":"IF(#REF!=\"сх\",0,0)","v":{"$error":"#REF!"}},{"$error":"#REF!"},{"$f":"IF(#REF!=1,25,0)","v":{"$error":"#REF!"}},{"$f":"IF(#REF!=2,22,0)","v":{"$error":"#REF!"}},{"$f":"IF(#REF!=3,20,0)","v":{"$error":"#REF!"}},{"$f":"IF(#REF!=4,18,0)","v":{"$error":"#REF!"}},{"$f":"IF(#REF!=5,16,0)","v":{"$error":"#REF!"}},{"$f":"IF(#REF!=6,15,0)","v":{"$error":"#REF!"}},{"$f":"IF(#REF!=7,14,0)","v":{"$error":"#REF!"}},{"$f":"IF(#REF!=8,13,0)","v":{"$error":"#REF!"}},{"$f":"IF(#REF!=9,12,0)","v":{"$error":"#REF!"}},{"$f":"IF(#REF!=10,11,0)","v":{"$error":"#REF!"}},{"$f":"IF(#REF!=11,10,0)","v":{"$error":"#REF!"}},{"$f":"IF(#REF!=12,9,0)","v":{"$error":"#REF!"}},{"$f":"IF(#REF!=13,8,0)","v":{"$error":"#REF!"}},{"$f":"IF(#REF!=14,7,0)","v":{"$error":"#REF!"}},{"$f":"IF(#REF!=15,6,0)","v":{"$error":"#REF!"}},{"$f":"IF(#REF!=16,5,0)","v":{"$error":"#REF!"}},{"$f":"IF(#REF!=17,4,0)","v":{"$error":"#REF!"}},{"$f":"IF(#REF!=18,3,0)","v":{"$error":"#REF!"}},{"$f":"IF(#REF!=19,2,0)","v":{"$error":"#REF!"}},{"$f":"IF(#REF!=20,1,0)","v":{"$error":"#REF!"}},{"$f":"IF(#REF!>20,0,0)","v":{"$error":"#REF!"}},{"$f":"IF(#REF!=\"сх\",0,0)","v":{"$error":"#REF!"}},{"$error":"#REF!"},{"$f":"IF(#REF!=1,100,0)","v":{"$error":"#REF!"}},{"$f":"IF(#REF!=2,98,0)","v":{"$error":"#REF!"}},{"$f":"IF(#REF!=3,95,0)","v":{"$error":"#REF!"}},{"$f":"IF(#REF!=4,93,0)","v":{"$error":"#REF!"}},{"$f":"IF(#REF!=5,90,0)","v":{"$error":"#REF!"}},{"$f":"IF(#REF!=6,88,0)","v":{"$error":"#REF!"}},{"$f":"IF(#REF!=7,85,0)","v":{"$error":"#REF!"}},{"$f":"IF(#REF!=8,83,0)","v":{"$error":"#REF!"}},{"$f":"IF(#REF!=9,80,0)","v":{"$error":"#REF!"}},{"$f":"IF(#REF!=10,78,0)","v":{"$error":"#REF!"}},{"$f":"IF(#REF!=11,75,0)","v":{"$error":"#REF!"}},{"$f":"IF(#REF!=12,73,0)","v":{"$error":"#REF!"}},{"$f":"IF(#REF!=13,70,0)","v":{"$error":"#REF!"}},{"$f":"IF(#REF!=14,68,0)","v":{"$error":"#REF!"}},{"$f":"IF(#REF!=15,65,0)","v":{"$error":"#REF!"}},{"$f":"IF(#REF!=16,63,0)","v":{"$error":"#REF!"}},{"$f":"IF(#REF!=17,60,0)","v":{"$error":"#REF!"}},{"$f":"IF(#REF!=18,58,0)","v":{"$error":"#REF!"}},{"$f":"IF(#REF!=19,55,0)","v":{"$error":"#REF!"}},{"$f":"IF(#REF!=20,53,0)","v":{"$error":"#REF!"}},{"$f":"IF(#REF!>20,0,0)","v":{"$error":"#REF!"}},{"$f":"IF(#REF!=\"сх\",0,0)","v":{"$error":"#REF!"}},{"$error":"#REF!"},{"$f":"IF(#REF!=1,100,0)","v":{"$error":"#REF!"}},{"$f":"IF(#REF!=2,98,0)","v":{"$error":"#REF!"}},{"$f":"IF(#REF!=3,95,0)","v":{"$error":"#REF!"}},{"$f":"IF(#REF!=4,93,0)","v":{"$error":"#REF!"}},{"$f":"IF(#REF!=5,90,0)","v":{"$error":"#REF!"}},{"$f":"IF(#REF!=6,88,0)","v":{"$error":"#REF!"}},{"$f":"IF(#REF!=7,85,0)","v":{"$error":"#REF!"}},{"$f":"IF(#REF!=8,83,0)","v":{"$error":"#REF!"}},{"$f":"IF(#REF!=9,80,0)","v":{"$error":"#REF!"}},{"$f":"IF(#REF!=10,78,0)","v":{"$error":"#REF!"}},{"$f":"IF(#REF!=11,75,0)","v":{"$error":"#REF!"}},{"$f":"IF(#REF!=12,73,0)","v":{"$error":"#REF!"}},{"$f":"IF(#REF!=13,70,0)","v":{"$error":"#REF!"}},{"$f":"IF(#REF!=14,68,0)","v":{"$error":"#REF!"}},{"$f":"IF(#REF!=15,65,0)","v":{"$error":"#REF!"}},{"$f":"IF(#REF!=16,63,0)","v":{"$error":"#REF!"}},{"$f":"IF(#REF!=17,60,0)","v":{"$error":"#REF!"}},{"$f":"IF(#REF!=18,58,0)","v":{"$error":"#REF!"}},{"$f":"IF(#REF!=19,55,0)","v":{"$error":"#REF!"}},{"$f":"IF(#REF!=20,53,0)","v":{"$error":"#REF!"}},{"$f":"IF(#REF!>20,0,0)","v":{"$error":"#REF!"}},{"$f":"IF(#REF!=\"сх\",0,0)","v":{"$error":"#REF!"}},{"$error":"#REF!"}]
[6,8.6,174,"Сахаров Григорий","б/р","г. Новый Уренгой, Ямало-Ненецкий АО","МАУ МЦ \"НОРД\"","SKY-DOO",6,15,6,15,30,{"$f":"#REF!+#REF!","v":{"$error":"#REF!"}},null,null,{"$f":"IF(#REF!=1,25,0)","v":{"$error":"#REF!"}},{"$f":"IF(#REF!=2,22,0)","v":{"$error":"#REF!"}},{"$f":"IF(#REF!=3,20,0)","v":{"$error":"#REF!"}},{"$f":"IF(#REF!=4,18,0)","v":{"$error":"#REF!"}},{"$f":"IF(#REF!=5,16,0)","v":{"$error":"#REF!"}},{"$f":"IF(#REF!=6,15,0)","v":{"$error":"#REF!"}},{"$f":"IF(#REF!=7,14,0)","v":{"$error":"#REF!"}},{"$f":"IF(#REF!=8,13,0)","v":{"$error":"#REF!"}},{"$f":"IF(#REF!=9,12,0)","v":{"$error":"#REF!"}},{"$f":"IF(#REF!=10,11,0)","v":{"$error":"#REF!"}},{"$f":"IF(#REF!=11,10,0)","v":{"$error":"#REF!"}},{"$f":"IF(#REF!=12,9,0)","v":{"$error":"#REF!"}},{"$f":"IF(#REF!=13,8,0)","v":{"$error":"#REF!"}},{"$f":"IF(#REF!=14,7,0)","v":{"$error":"#REF!"}},{"$f":"IF(#REF!=15,6,0)","v":{"$error":"#REF!"}},{"$f":"IF(#REF!=16,5,0)","v":{"$error":"#REF!"}},{"$f":"IF(#REF!=17,4,0)","v":{"$error":"#REF!"}},{"$f":"IF(#REF!=18,3,0)","v":{"$error":"#REF!"}},{"$f":"IF(#REF!=19,2,0)","v":{"$error":"#REF!"}},{"$f":"IF(#REF!=20,1,0)","v":{"$error":"#REF!"}},{"$f":"IF(#REF!>20,0,0)","v":{"$error":"#REF!"}},{"$f":"IF(#REF!=\"сх\",0,0)","v":{"$error":"#REF!"}},{"$error":"#REF!"},{"$f":"IF(#REF!=1,25,0)","v":{"$error":"#REF!"}},{"$f":"IF(#REF!=2,22,0)","v":{"$error":"#REF!"}},{"$f":"IF(#REF!=3,20,0)","v":{"$error":"#REF!"}},{"$f":"IF(#REF!=4,18,0)","v":{"$error":"#REF!"}},{"$f":"IF(#REF!=5,16,0)","v":{"$error":"#REF!"}},{"$f":"IF(#REF!=6,15,0)","v":{"$error":"#REF!"}},{"$f":"IF(#REF!=7,14,0)","v":{"$error":"#REF!"}},{"$f":"IF(#REF!=8,13,0)","v":{"$error":"#REF!"}},{"$f":"IF(#REF!=9,12,0)","v":{"$error":"#REF!"}},{"$f":"IF(#REF!=10,11,0)","v":{"$error":"#REF!"}},{"$f":"IF(#REF!=11,10,0)","v":{"$error":"#REF!"}},{"$f":"IF(#REF!=12,9,0)","v":{"$error":"#REF!"}},{"$f":"IF(#REF!=13,8,0)","v":{"$error":"#REF!"}},{"$f":"IF(#REF!=14,7,0)","v":{"$error":"#REF!"}},{"$f":"IF(#REF!=15,6,0)","v":{"$error":"#REF!"}},{"$f":"IF(#REF!=16,5,0)","v":{"$error":"#REF!"}},{"$f":"IF(#REF!=17,4,0)","v":{"$error":"#REF!"}},{"$f":"IF(#REF!=18,3,0)","v":{"$error":"#REF!"}},{"$f":"IF(#REF!=19,2,0)","v":{"$error":"#REF!"}},{"$f":"IF(#REF!=20,1,0)","v":{"$error":"#REF!"}},{"$f":"IF(#REF!>20,0,0)","v":{"$error":"#REF!"}},{"$f":"IF(#REF!=\"сх\",0,0)","v":{"$error":"#REF!"}},{"$error":"#REF!"},{"$f":"IF(#REF!=1,45,0)","v":{"$error":"#REF!"}},{"$f":"IF(#REF!=2,42,0)","v":{"$error":"#REF!"}},{"$f":"IF(#REF!=3,40,0)","v":{"$error":"#REF!"}},{"$f":"IF(#REF!=4,38,0)","v":{"$error":"#REF!"}},{"$f":"IF(#REF!=5,36,0)","v":{"$error":"#REF!"}},{"$f":"IF(#REF!=6,35,0)","v":{"$error":"#REF!"}},{"$f":"IF(#REF!=7,34,0)","v":{"$error":"#REF!"}},{"$f":"IF(#REF!=8,33,0)","v":{"$error":"#REF!"}},{"$f":"IF(#REF!=9,32,0)","v":{"$error":"#REF!"}},{"$f":"IF(#REF!=10,31,0)","v":{"$error":"#REF!"}},{"$f":"IF(#REF!=11,30,0)","v":{"$error":"#REF!"}},{"$f":"IF(#REF!=12,29,0)","v":{"$error":"#REF!"}},{"$f":"IF(#REF!=13,28,0)","v":{"$error":"#REF!"}},{"$f":"IF(#REF!=14,27,0)","v":{"$error":"#REF!"}},{"$f":"IF(#REF!=15,26,0)","v":{"$error":"#REF!"}},{"$f":"IF(#REF!=16,25,0)","v":{"$error":"#REF!"}},{"$f":"IF(#REF!=17,24,0)","v":{"$error":"#REF!"}},{"$f":"IF(#REF!=18,23,0)","v":{"$error":"#REF!"}},{"$f":"IF(#REF!=19,22,0)","v":{"$error":"#REF!"}},{"$f":"IF(#REF!=20,21,0)","v":{"$error":"#REF!"}},{"$f":"IF(#REF!=21,20,0)","v":{"$error":"#REF!"}},{"$f":"IF(#REF!=22,19,0)","v":{"$error":"#REF!"}},{"$f":"IF(#REF!=23,18,0)","v":{"$error":"#REF!"}},{"$f":"IF(#REF!=24,17,0)","v":{"$error":"#REF!"}},{"$f":"IF(#REF!=25,16,0)","v":{"$error":"#REF!"}},{"$f":"IF(#REF!=26,15,0)","v":{"$error":"#REF!"}},{"$f":"IF(#REF!=27,14,0)","v":{"$error":"#REF!"}},{"$f":"IF(#REF!=28,13,0)","v":{"$error":"#REF!"}},{"$f":"IF(#REF!=29,12,0)","v":{"$error":"#REF!"}},{"$f":"IF(#REF!=30,11,0)","v":{"$error":"#REF!"}},{"$f":"IF(#REF!=31,10,0)","v":{"$error":"#REF!"}},{"$f":"IF(#REF!=32,9,0)","v":{"$error":"#REF!"}},{"$f":"IF(#REF!=33,8,0)","v":{"$error":"#REF!"}},{"$f":"IF(#REF!=34,7,0)","v":{"$error":"#REF!"}},{"$f":"IF(#REF!=35,6,0)","v":{"$error":"#REF!"}},{"$f":"IF(#REF!=36,5,0)","v":{"$error":"#REF!"}},{"$f":"IF(#REF!=37,4,0)","v":{"$error":"#REF!"}},{"$f":"IF(#REF!=38,3,0)","v":{"$error":"#REF!"}},{"$f":"IF(#REF!=39,2,0)","v":{"$error":"#REF!"}},{"$f":"IF(#REF!=40,1,0)","v":{"$error":"#REF!"}},{"$f":"IF(#REF!>20,0,0)","v":{"$error":"#REF!"}},{"$f":"IF(#REF!=\"сх\",0,0)","v":{"$error":"#REF!"}},{"$error":"#REF!"},{"$f":"IF(#REF!=1,45,0)","v":{"$error":"#REF!"}},{"$f":"IF(#REF!=2,42,0)","v":{"$error":"#REF!"}},{"$f":"IF(#REF!=3,40,0)","v":{"$error":"#REF!"}},{"$f":"IF(#REF!=4,38,0)","v":{"$error":"#REF!"}},{"$f":"IF(#REF!=5,36,0)","v":{"$error":"#REF!"}},{"$f":"IF(#REF!=6,35,0)","v":{"$error":"#REF!"}},{"$f":"IF(#REF!=7,34,0)","v":{"$error":"#REF!"}},{"$f":"IF(#REF!=8,33,0)","v":{"$error":"#REF!"}},{"$f":"IF(#REF!=9,32,0)","v":{"$error":"#REF!"}},{"$f":"IF(#REF!=10,31,0)","v":{"$error":"#REF!"}},{"$f":"IF(#REF!=11,30,0)","v":{"$error":"#REF!"}},{"$f":"IF(#REF!=12,29,0)","v":{"$error":"#REF!"}},{"$f":"IF(#REF!=13,28,0)","v":{"$error":"#REF!"}},{"$f":"IF(#REF!=14,27,0)","v":{"$error":"#REF!"}},{"$f":"IF(#REF!=15,26,0)","v":{"$error":"#REF!"}},{"$f":"IF(#REF!=16,25,0)","v":{"$error":"#REF!"}},{"$f":"IF(#REF!=17,24,0)","v":{"$error":"#REF!"}},{"$f":"IF(#REF!=18,23,0)","v":{"$error":"#REF!"}},{"$f":"IF(#REF!=19,22,0)","v":{"$error":"#REF!"}},{"$f":"IF(#REF!=20,21,0)","v":{"$error":"#REF!"}},{"$f":"IF(#REF!=21,20,0)","v":{"$error":"#REF!"}},{"$f":"IF(#REF!=22,19,0)","v":{"$error":"#REF!"}},{"$f":"IF(#REF!=23,18,0)","v":{"$error":"#REF!"}},{"$f":"IF(#REF!=24,17,0)","v":{"$error":"#REF!"}},{"$f":"IF(#REF!=25,16,0)","v":{"$error":"#REF!"}},{"$f":"IF(#REF!=26,15,0)","v":{"$error":"#REF!"}},{"$f":"IF(#REF!=27,14,0)","v":{"$error":"#REF!"}},{"$f":"IF(#REF!=28,13,0)","v":{"$error":"#REF!"}},{"$f":"IF(#REF!=29,12,0)","v":{"$error":"#REF!"}},{"$f":"IF(#REF!=30,11,0)","v":{"$error":"#REF!"}},{"$f":"IF(#REF!=31,10,0)","v":{"$error":"#REF!"}},{"$f":"IF(#REF!=32,9,0)","v":{"$error":"#REF!"}},{"$f":"IF(#REF!=33,8,0)","v":{"$error":"#REF!"}},{"$f":"IF(#REF!=34,7,0)","v":{"$error":"#REF!"}},{"$f":"IF(#REF!=35,6,0)","v":{"$error":"#REF!"}},{"$f":"IF(#REF!=36,5,0)","v":{"$error":"#REF!"}},{"$f":"IF(#REF!=37,4,0)","v":{"$error":"#REF!"}},{"$f":"IF(#REF!=38,3,0)","v":{"$error":"#REF!"}},{"$f":"IF(#REF!=39,2,0)","v":{"$error":"#REF!"}},{"$f":"IF(#REF!=40,1,0)","v":{"$error":"#REF!"}},{"$f":"IF(#REF!>20,0,0)","v":{"$error":"#REF!"}},{"$f":"IF(#REF!=\"сх\",0,0)","v":{"$error":"#REF!"}},{"$error":"#REF!"},null,{"$f":"IF(#REF!=\"сх\",\"ноль\",IF(#REF!>0,#REF!,\"Ноль\"))","v":{"$error":"#REF!"}},{"$f":"IF(#REF!=\"сх\",\"ноль\",IF(#REF!>0,#REF!,\"Ноль\"))","v":{"$error":"#REF!"}},null,{"$error":"#REF!"},{"$f":"IF(M15=#REF!,IF(#REF!<#REF!,#REF!,FB15),#REF!)","v":{"$error":"#REF!"}},{"$f":"IF(M15=#REF!,IF(#REF!<#REF!,0,1))","v":{"$error":"#REF!"}},{"$f":"IF(AND(EW15>=21,EW15<>0),EW15,IF(M15<#REF!,\"СТОП\",EX15+EY15))","v":{"$error":"#REF!"}},null,15,16,null,{"$f":"IF(#REF!=1,25,0)","v":{"$error":"#REF!"}},{"$f":"IF(#REF!=2,22,0)","v":{"$error":"#REF!"}},{"$f":"IF(#REF!=3,20,0)","v":{"$error":"#REF!"}},{"$f":"IF(#REF!=4,18,0)","v":{"$error":"#REF!"}},{"$f":"IF(#REF!=5,16,0)","v":{"$error":"#REF!"}},{"$f":"IF(#REF!=6,15,0)","v":{"$error":"#REF!"}},{"$f":"IF(#REF!=7,14,0)","v":{"$error":"#REF!"}},{"$f":"IF(#REF!=8,13,0)","v":{"$error":"#REF!"}},{"$f":"IF(#REF!=9,12,0)","v":{"$error":"#REF!"}},{"$f":"IF(#REF!=10,11,0)","v":{"$error":"#REF!"}},{"$f":"IF(#REF!=11,10,0)","v":{"$error":"#REF!"}},{"$f":"IF(#REF!=12,9,0)","v":{"$error":"#REF!"}},{"$f":"IF(#REF!=13,8,0)","v":{"$error":"#REF!"}},{"$f":"IF(#REF!=14,7,0)","v":{"$error":"#REF!"}},{"$f":"IF(#REF!=15,6,0)","v":{"$error":"#REF!"}},{"$f":"IF(#REF!=16,5,0)","v":{"$error":"#REF!"}},{"$f":"IF(#REF!=17,4,0)","v":{"$error":"#REF!"}},{"$f":"IF(#REF!=18,3,0)","v":{"$error":"#REF!"}},{"$f":"IF(#REF!=19,2,0)","v":{"$error":"#REF!"}},{"$f":"IF(#REF!=20,1,0)","v":{"$error":"#REF!"}},{"$f":"IF(#REF!>20,0,0)","v":{"$error":"#REF!"}},{"$f":"IF(#REF!=\"сх\",0,0)","v":{"$error":"#REF!"}},{"$error":"#REF!"},{"$f":"IF(#REF!=1,25,0)","v":{"$error":"#REF!"}},{"$f":"IF(#REF!=2,22,0)","v":{"$error":"#REF!"}},{"$f":"IF(#REF!=3,20,0)","v":{"$error":"#REF!"}},{"$f":"IF(#REF!=4,18,0)","v":{"$error":"#REF!"}},{"$f":"IF(#REF!=5,16,0)","v":{"$error":"#REF!"}},{"$f":"IF(#REF!=6,15,0)","v":{"$error":"#REF!"}},{"$f":"IF(#REF!=7,14,0)","v":{"$error":"#REF!"}},{"$f":"IF(#REF!=8,13,0)","v":{"$error":"#REF!"}},{"$f":"IF(#REF!=9,12,0)","v":{"$error":"#REF!"}},{"$f":"IF(#REF!=10,11,0)","v":{"$error":"#REF!"}},{"$f":"IF(#REF!=11,10,0)","v":{"$error":"#REF!"}},{"$f":"IF(#REF!=12,9,0)","v":{"$error":"#REF!"}},{"$f":"IF(#REF!=13,8,0)","v":{"$error":"#REF!"}},{"$f":"IF(#REF!=14,7,0)","v":{"$error":"#REF!"}},{"$f":"IF(#REF!=15,6,0)","v":{"$error":"#REF!"}},{"$f":"IF(#REF!=16,5,0)","v":{"$error":"#REF!"}},{"$f":"IF(#REF!=17,4,0)","v":{"$error":"#REF!"}},{"$f":"IF(#REF!=18,3,0)","v":{"$error":"#REF!"}},{"$f":"IF(#REF!=19,2,0)","v":{"$error":"#REF!"}},{"$f":"IF(#REF!=20,1,0)","v":{"$error":"#REF!"}},{"$f":"IF(#REF!>20,0,0)","v":{"$error":"#REF!"}},{"$f":"IF(#REF!=\"сх\",0,0)","v":{"$error":"#REF!"}},{"$error":"#REF!"},{"$f":"IF(#REF!=1,100,0)","v":{"$error":"#REF!"}},{"$f":"IF(#REF!=2,98,0)","v":{"$error":"#REF!"}},{"$f":"IF(#REF!=3,95,0)","v":{"$error":"#REF!"}},{"$f":"IF(#REF!=4,93,0)","v":{"$error":"#REF!"}},{"$f":"IF(#REF!=5,90,0)","v":{"$error":"#REF!"}},{"$f":"IF(#REF!=6,88,0)","v":{"$error":"#REF!"}},{"$f":"IF(#REF!=7,85,0)","v":{"$error":"#REF!"}},{"$f":"IF(#REF!=8,83,0)","v":{"$error":"#REF!"}},{"$f":"IF(#REF!=9,80,0)","v":{"$error":"#REF!"}},{"$f":"IF(#REF!=10,78,0)","v":{"$error":"#REF!"}},{"$f":"IF(#REF!=11,75,0)","v":{"$error":"#REF!"}},{"$f":"IF(#REF!=12,73,0)","v":{"$error":"#REF!"}},{"$f":"IF(#REF!=13,70,0)","v":{"$error":"#REF!"}},{"$f":"IF(#REF!=14,68,0)","v":{"$error":"#REF!"}},{"$f":"IF(#REF!=15,65,0)","v":{"$error":"#REF!"}},{"$f":"IF(#REF!=16,63,0)","v":{"$error":"#REF!"}},{"$f":"IF(#REF!=17,60,0)","v":{"$error":"#REF!"}},{"$f":"IF(#REF!=18,58,0)","v":{"$error":"#REF!"}},{"$f":"IF(#REF!=19,55,0)","v":{"$error":"#REF!"}},{"$f":"IF(#REF!=20,53,0)","v":{"$error":"#REF!"}},{"$f":"IF(#REF!>20,0,0)","v":{"$error":"#REF!"}},{"$f":"IF(#REF!=\"сх\",0,0)","v":{"$error":"#REF!"}},{"$error":"#REF!"},{"$f":"IF(#REF!=1,100,0)","v":{"$error":"#REF!"}},{"$f":"IF(#REF!=2,98,0)","v":{"$error":"#REF!"}},{"$f":"IF(#REF!=3,95,0)","v":{"$error":"#REF!"}},{"$f":"IF(#REF!=4,93,0)","v":{"$error":"#REF!"}},{"$f":"IF(#REF!=5,90,0)","v":{"$error":"#REF!"}},{"$f":"IF(#REF!=6,88,0)","v":{"$error":"#REF!"}},{"$f":"IF(#REF!=7,85,0)","v":{"$error":"#REF!"}},{"$f":"IF(#REF!=8,83,0)","v":{"$error":"#REF!"}},{"$f":"IF(#REF!=9,80,0)","v":{"$error":"#REF!"}},{"$f":"IF(#REF!=10,78,0)","v":{"$error":"#REF!"}},{"$f":"IF(#REF!=11,75,0)","v":{"$error":"#REF!"}},{"$f":"IF(#REF!=12,73,0)","v":{"$error":"#REF!"}},{"$f":"IF(#REF!=13,70,0)","v":{"$error":"#REF!"}},{"$f":"IF(#REF!=14,68,0)","v":{"$error":"#REF!"}},{"$f":"IF(#REF!=15,65,0)","v":{"$error":"#REF!"}},{"$f":"IF(#REF!=16,63,0)","v":{"$error":"#REF!"}},{"$f":"IF(#REF!=17,60,0)","v":{"$error":"#REF!"}},{"$f":"IF(#REF!=18,58,0)","v":{"$error":"#REF!"}},{"$f":"IF(#REF!=19,55,0)","v":{"$error":"#REF!"}},{"$f":"IF(#REF!=20,53,0)","v":{"$error":"#REF!"}},{"$f":"IF(#REF!>20,0,0)","v":{"$error":"#REF!"}},{"$f":"IF(#REF!=\"сх\",0,0)","v":{"$error":"#REF!"}},{"$error":"#REF!"}]
[7,8.4,838,"Степура Владислав","б/р","г. Новый Уренгой, Ямало-Ненецкий АО","СТК \"Факел\"","SKY-DOO","сх",0,4,18,18,{"$f":"#REF!+#REF!","v":{"$error":"#REF!"}},null,null,{"$f":"IF(#REF!=1,25,0)","v":{"$error":"#REF!"}},{"$f":"IF(#REF!=2,22,0)","v":{"$error":"#REF!"}},{"$f":"IF(#REF!=3,20,0)","v":{"$error":"#REF!"}},{"$f":"IF(#REF!=4,18,0)","v":{"$error":"#REF!"}},{"$f":"IF(#REF!=5,16,0)","v":{"$error":"#REF!"}},{"$f":"IF(#REF!=6,15,0)","v":{"$error":"#REF!"}},{"$f":"IF(#REF!=7,14,0)","v":{"$error":"#REF!"}},{"$f":"IF(#REF!=8,13,0)","v":{"$error":"#REF!"}},{"$f":"IF(#REF!=9,12,0)","v":{"$error":"#REF!"}},{"$f":"IF(#REF!=10,11,0)","v":{"$error":"#REF!"}},{"$f":"IF(#REF!=11,10,0)","v":{"$error":"#REF!"}},{"$f":"IF(#REF!=12,9,0)","v":{"$error":"#REF!"}},{"$f":"IF(#REF!=13,8,0)","v":{"$error":"#REF!"}},{"$f":"IF(#REF!=14,7,0)","v":{"$error":"#REF!"}},{"$f":"IF(#REF!=15,6,0)","v":{"$error":"#REF!"}},{"$f":"IF(#REF!=16,5,0)","v":{"$error":"#REF!"}},{"$f":"IF(#REF!=17,4,0)","v":{"$error":"#REF!"}},{"$f":"IF(#REF!=18,3,0)","v":{"$error":"#REF!"}},{"$f":"IF(#REF!=19,2,0)","v":{"$error":"#REF!"}},{"$f":"IF(#REF!=20,1,0)","v":{"$error":"#REF!"}},{"$f":"IF(#REF!>20,0,0)","v":{"$error":"#REF!"}},{"$f":"IF(#REF!=\"сх\",0,0)","v":{"$error":"#REF!"}},{"$error":"#REF!"},{"$f":"IF(#REF!=1,25,0)","v":{"$error":"#REF!"}},{"$f":"IF(#REF!=2,22,0)","v":{"$error":"#REF!"}},{"$f":"IF(#REF!=3,20,0)","v":{"$error":"#REF!"}},{"$f":"IF(#REF!=4,18,0)","v":{"$error":"#REF!"}},{"$f":"IF(#REF!=5,16,0)","v":{"$error":"#REF!"}},{"$f":"IF(#REF!=6,15,0)","v":{"$error":"#REF!"}},{"$f":"IF(#REF!=7,14,0)","v":{"$error":"#REF!"}},{"$f":"IF(#REF!=8,13,0)","v":{"$error":"#REF!"}},{"$f":"IF(#REF!=9,12,0)","v":{"$error":"#REF!"}},{"$f":"IF(#REF!=10,11,0)","v":{"$error":"#REF!"}},{"$f":"IF(#REF!=11,10,0)","v":{"$error":"#REF!"}},{"$f":"IF(#REF!=12,9,0)","v":{"$error":"#REF!"}},{"$f":"IF(#REF!=13,8,0)","v":{"$error":"#REF!"}},{"$f":"IF(#REF!=14,7,0)","v":{"$error":"#REF!"}},{"$f":"IF(#REF!=15,6,0)","v":{"$error":"#REF!"}},{"$f":"IF(#REF!=16,5,0)","v":{"$error":"#REF!"}},{"$f":"IF(#REF!=17,4,0)","v":{"$error":"#REF!"}},{"$f":"IF(#REF!=18,3,0)","v":{"$error":"#REF!"}},{"$f":"IF(#REF!=19,2,0)","v":{"$error":"#REF!"}},{"$f":"IF(#REF!=20,1,0)","v":{"$error":"#REF!"}},{"$f":"IF(#REF!>20,0,0)","v":{"$error":"#REF!"}},{"$f":"IF(#REF!=\"сх\",0,0)","v":{"$error":"#REF!"}},{"$error":"#REF!"},{"$f":"IF(#REF!=1,45,0)","v":{"$error":"#REF!"}},{"$f":"IF(#REF!=2,42,0)","v":{"$error":"#REF!"}},{"$f":"IF(#REF!=3,40,0)","v":{"$error":"#REF!"}},{"$f":"IF(#REF!=4,38,0)","v":{"$error":"#REF!"}},{"$f":"IF(#REF!=5,36,0)","v":{"$error":"#REF!"}},{"$f":"IF(#REF!=6,35,0)","v":{"$error":"#REF!"}},{"$f":"IF(#REF!=7,34,0)","v":{"$error":"#REF!"}},{"$f":"IF(#REF!=8,33,0)","v":{"$error":"#REF!"}},{"$f":"IF(#REF!=9,32,0)","v":{"$error":"#REF!"}},{"$f":"IF(#REF!=10,31,0)","v":{"$error":"#REF!"}},{"$f":"IF(#REF!=11,30,0)","v":{"$error":"#REF!"}},{"$f":"IF(#REF!=12,29,0)","v":{"$error":"#REF!"}},{"$f":"IF(#REF!=13,28,0)","v":{"$error":"#REF!"}},{"$f":"IF(#REF!=14,27,0)","v":{"$error":"#REF!"}},{"$f":"IF(#REF!=15,26,0)","v":{"$error":"#REF!"}},{"$f":"IF(#REF!=16,25,0)","v":{"$error":"#REF!"}},{"$f":"IF(#REF!=17,24,0)","v":{"$error":"#REF!"}},{"$f":"IF(#REF!=18,23,0)","v":{"$error":"#REF!"}},{"$f":"IF(#REF!=19,22,0)","v":{"$error":"#REF!"}},{"$f":"IF(#REF!=20,21,0)","v":{"$error":"#REF!"}},{"$f":"IF(#REF!=21,20,0)","v":{"$error":"#REF!"}},{"$f":"IF(#REF!=22,19,0)","v":{"$error":"#REF!"}},{"$f":"IF(#REF!=23,18,0)","v":{"$error":"#REF!"}},{"$f":"IF(#REF!=24,17,0)","v":{"$error":"#REF!"}},{"$f":"IF(#REF!=25,16,0)","v":{"$error":"#REF!"}},{"$f":"IF(#REF!=26,15,0)","v":{"$error":"#REF!"}},{"$f":"IF(#REF!=27,14,0)","v":{"$error":"#REF!"}},{"$f":"IF(#REF!=28,13,0)","v":{"$error":"#REF!"}},{"$f":"IF(#REF!=29,12,0)","v":{"$error":"#REF!"}},{"$f":"IF(#REF!=30,11,0)","v":{"$error":"#REF!"}},{"$f":"IF(#REF!=31,10,0)","v":{"$error":"#REF!"}},{"$f":"IF(#REF!=32,9,0)","v":{"$error":"#REF!"}},{"$f":"IF(#REF!=33,8,0)","v":{"$error":"#REF!"}},{"$f":"IF(#REF!=34,7,0)","v":{"$error":"#REF!"}},{"$f":"IF(#REF!=35,6,0)","v":{"$error":"#REF!"}},{"$f":"IF(#REF!=36,5,0)","v":{"$error":"#REF!"}},{"$f":"IF(#REF!=37,4,0)","v":{"$error":"#REF!"}},{"$f":"IF(#REF!=38,3,0)","v":{"$error":"#REF!"}},{"$f":"IF(#REF!=39,2,0)","v":{"$error":"#REF!"}},{"$f":"IF(#REF!=40,1,0)","v":{"$error":"#REF!"}},{"$f":"IF(#REF!>20,0,0)","v":{"$error":"#REF!"}},{"$f":"IF(#REF!=\"сх\",0,0)","v":{"$error":"#REF!"}},{"$error":"#REF!"},{"$f":"IF(#REF!=1,45,0)","v":{"$error":"#REF!"}},{"$f":"IF(#REF!=2,42,0)","v":{"$error":"#REF!"}},{"$f":"IF(#REF!=3,40,0)","v":{"$error":"#REF!"}},{"$f":"IF(#REF!=4,38,0)","v":{"$error":"#REF!"}},{"$f":"IF(#REF!=5,36,0)","v":{"$error":"#REF!"}},{"$f":"IF(#REF!=6,35,0)","v":{"$error":"#REF!"}},{"$f":"IF(#REF!=7,34,0)","v":{"$error":"#REF!"}},{"$f":"IF(#REF!=8,33,0)","v":{"$error":"#REF!"}},{"$f":"IF(#REF!=9,32,0)","v":{"$error":"#REF!"}},{"$f":"IF(#REF!=10,31,0)","v":{"$error":"#REF!"}},{"$f":"IF(#REF!=11,30,0)","v":{"$error":"#REF!"}},{"$f":"IF(#REF!=12,29,0)","v":{"$error":"#REF!"}},{"$f":"IF(#REF!=13,28,0)","v":{"$error":"#REF!"}},{"$f":"IF(#REF!=14,27,0)","v":{"$error":"#REF!"}},{"$f":"IF(#REF!=15,26,0)","v":{"$error":"#REF!"}},{"$f":"IF(#REF!=16,25,0)","v":{"$error":"#REF!"}},{"$f":"IF(#REF!=17,24,0)","v":{"$error":"#REF!"}},{"$f":"IF(#REF!=18,23,0)","v":{"$error":"#REF!"}},{"$f":"IF(#REF!=19,22,0)","v":{"$error":"#REF!"}},{"$f":"IF(#REF!=20,21,0)","v":{"$error":"#REF!"}},{"$f":"IF(#REF!=21,20,0)","v":{"$error":"#REF!"}},{"$f":"IF(#REF!=22,19,0)","v":{"$error":"#REF!"}},{"$f":"IF(#REF!=23,18,0)","v":{"$error":"#REF!"}},{"$f":"IF(#REF!=24,17,0)","v":{"$error":"#REF!"}},{"$f":"IF(#REF!=25,16,0)","v":{"$error":"#REF!"}},{"$f":"IF(#REF!=26,15,0)","v":{"$error":"#REF!"}},{"$f":"IF(#REF!=27,14,0)","v":{"$error":"#REF!"}},{"$f":"IF(#REF!=28,13,0)","v":{"$error":"#REF!"}},{"$f":"IF(#REF!=29,12,0)","v":{"$error":"#REF!"}},{"$f":"IF(#REF!=30,11,0)","v":{"$error":"#REF!"}},{"$f":"IF(#REF!=31,10,0)","v":{"$error":"#REF!"}},{"$f":"IF(#REF!=32,9,0)","v":{"$error":"#REF!"}},{"$f":"IF(#REF!=33,8,0)","v":{"$error":"#REF!"}},{"$f":"IF(#REF!=34,7,0)","v":{"$error":"#REF!"}},{"$f":"IF(#REF!=35,6,0)","v":{"$error":"#REF!"}},{"$f":"IF(#REF!=36,5,0)","v":{"$error":"#REF!"}},{"$f":"IF(#REF!=37,4,0)","v":{"$error":"#REF!"}},{"$f":"IF(#REF!=38,3,0)","v":{"$error":"#REF!"}},{"$f":"IF(#REF!=39,2,0)","v":{"$error":"#REF!"}},{"$f":"IF(#REF!=40,1,0)","v":{"$error":"#REF!"}},{"$f":"IF(#REF!>20,0,0)","v":{"$error":"#REF!"}},{"$f":"IF(#REF!=\"сх\",0,0)","v":{"$error":"#REF!"}},{"$error":"#REF!"},null,{"$f":"IF(#REF!=\"сх\",\"ноль\",IF(#REF!>0,#REF!,\"Ноль\"))","v":{"$error":"#REF!"}},{"$f":"IF(#REF!=\"сх\",\"ноль\",IF(#REF!>0,#REF!,\"Ноль\"))","v":{"$error":"#REF!"}},null,{"$error":"#REF!"},{"$f":"IF(M16=#REF!,IF(#REF!<#REF!,#REF!,FB16),#REF!)","v":{"$error":"#REF!"}},{"$f":"IF(M16=#REF!,IF(#REF!<#REF!,0,1))","v":{"$error":"#REF!"}},{"$f":"IF(AND(EW16>=21,EW16<>0),EW16,IF(M16<#REF!,\"СТОП\",EX16+EY16))","v":{"$error":"#REF!"}},null,15,16,null,{"$f":"IF(#REF!=1,25,0)","v":{"$error":"#REF!"}},{"$f":"IF(#REF!=2,22,0)","v":{"$error":"#REF!"}},{"$f":"IF(#REF!=3,20,0)","v":{"$error":"#REF!"}},{"$f":"IF(#REF!=4,18,0)","v":{"$error":"#REF!"}},{"$f":"IF(#REF!=5,16,0)","v":{"$error":"#REF!"}},{"$f":"IF(#REF!=6,15,0)","v":{"$error":"#REF!"}},{"$f":"IF(#REF!=7,14,0)","v":{"$error":"#REF!"}},{"$f":"IF(#REF!=8,13,0)","v":{"$error":"#REF!"}},{"$f":"IF(#REF!=9,12,0)","v":{"$error":"#REF!"}},{"$f":"IF(#REF!=10,11,0)","v":{"$error":"#REF!"}},{"$f":"IF(#REF!=11,10,0)","v":{"$error":"#REF!"}},{"$f":"IF(#REF!=12,9,0)","v":{"$error":"#REF!"}},{"$f":"IF(#REF!=13,8,0)","v":{"$error":"#REF!"}},{"$f":"IF(#REF!=14,7,0)","v":{"$error":"#REF!"}},{"$f":"IF(#REF!=15,6,0)","v":{"$error":"#REF!"}},{"$f":"IF(#REF!=16,5,0)","v":{"$error":"#REF!"}},{"$f":"IF(#REF!=17,4,0)","v":{"$error":"#REF!"}},{"$f":"IF(#REF!=18,3,0)","v":{"$error":"#REF!"}},{"$f":"IF(#REF!=19,2,0)","v":{"$error":"#REF!"}},{"$f":"IF(#REF!=20,1,0)","v":{"$error":"#REF!"}},{"$f":"IF(#REF!>20,0,0)","v":{"$error":"#REF!"}},{"$f":"IF(#REF!=\"сх\",0,0)","v":{"$error":"#REF!"}},{"$error":"#REF!"},{"$f":"IF(#REF!=1,25,0)","v":{"$error":"#REF!"}},{"$f":"IF(#REF!=2,22,0)","v":{"$error":"#REF!"}},{"$f":"IF(#REF!=3,20,0)","v":{"$error":"#REF!"}},{"$f":"IF(#REF!=4,18,0)","v":{"$error":"#REF!"}},{"$f":"IF(#REF!=5,16,0)","v":{"$error":"#REF!"}},{"$f":"IF(#REF!=6,15,0)","v":{"$error":"#REF!"}},{"$f":"IF(#REF!=7,14,0)","v":{"$error":"#REF!"}},{"$f":"IF(#REF!=8,13,0)","v":{"$error":"#REF!"}},{"$f":"IF(#REF!=9,12,0)","v":{"$error":"#REF!"}},{"$f":"IF(#REF!=10,11,0)","v":{"$error":"#REF!"}},{"$f":"IF(#REF!=11,10,0)","v":{"$error":"#REF!"}},{"$f":"IF(#REF!=12,9,0)","v":{"$error":"#REF!"}},{"$f":"IF(#REF!=13,8,0)","v":{"$error":"#REF!"}},{"$f":"IF(#REF!=14,7,0)","v":{"$error":"#REF!"}},{"$f":"IF(#REF!=15,6,0)","v":{"$error":"#REF!"}},{"$f":"IF(#REF!=16,5,0)","v":{"$error":"#REF!"}},{"$f":"IF(#REF!=17,4,0)","v":{"$error":"#REF!"}},{"$f":"IF(#REF!=18,3,0)","v":{"$error":"#REF!"}},{"$f":"IF(#REF!=19,2,0)","v":{"$error":"#REF!"}},{"$f":"IF(#REF!=20,1,0)","v":{"$error":"#REF!"}},{"$f":"IF(#REF!>20,0,0)","v":{"$error":"#REF!"}},{"$f":"IF(#REF!=\"сх\",0,0)","v":{"$error":"#REF!"}},{"$error":"#REF!"},{"$f":"IF(#REF!=1,100,0)","v":{"$error":"#REF!"}},{"$f":"IF(#REF!=2,98,0)","v":{"$error":"#REF!"}},{"$f":"IF(#REF!=3,95,0)","v":{"$error":"#REF!"}},{"$f":"IF(#REF!=4,93,0)","v":{"$error":"#REF!"}},{"$f":"IF(#REF!=5,90,0)","v":{"$error":"#REF!"}},{"$f":"IF(#REF!=6,88,0)","v":{"$error":"#REF!"}},{"$f":"IF(#REF!=7,85,0)","v":{"$error":"#REF!"}},{"$f":"IF(#REF!=8,83,0)","v":{"$error":"#REF!"}},{"$f":"IF(#REF!=9,80,0)","v":{"$error":"#REF!"}},{"$f":"IF(#REF!=10,78,0)","v":{"$error":"#REF!"}},{"$f":"IF(#REF!=11,75,0)","v":{"$error":"#REF!"}},{"$f":"IF(#REF!=12,73,0)","v":{"$error":"#REF!"}},{"$f":"IF(#REF!=13,70,0)","v":{"$error":"#REF!"}},{"$f":"IF(#REF!=14,68,0)","v":{"$error":"#REF!"}},{"$f":"IF(#REF!=15,65,0)","v":{"$error":"#REF!"}},{"$f":"IF(#REF!=16,63,0)","v":{"$error":"#REF!"}},{"$f":"IF(#REF!=17,60,0)","v":{"$error":"#REF!"}},{"$f":"IF(#REF!=18,58,0)","v":{"$error":"#REF!"}},{"$f":"IF(#REF!=19,55,0)","v":{"$error":"#REF!"}},{"$f":"IF(#REF!=20,53,0)","v":{"$error":"#REF!"}},{"$f":"IF(#REF!>20,0,0)","v":{"$error":"#REF!"}},{"$f":"IF(#REF!=\"сх\",0,0)","v":{"$error":"#REF!"}},{"$error":"#REF!"},{"$f":"IF(#REF!=1,100,0)","v":{"$error":"#REF!"}},{"$f":"IF(#REF!=2,98,0)","v":{"$error":"#REF!"}},{"$f":"IF(#REF!=3,95,0)","v":{"$error":"#REF!"}},{"$f":"IF(#REF!=4,93,0)","v":{"$error":"#REF!"}},{"$f":"IF(#REF!=5,90,0)","v":{"$error":"#REF!"}},{"$f":"IF(#REF!=6,88,0)","v":{"$error":"#REF!"}},{"$f":"IF(#REF!=7,85,0)","v":{"$error":"#REF!"}},{"$f":"IF(#REF!=8,83,0)","v":{"$error":"#REF!"}},{"$f":"IF(#REF!=9,80,0)","v":{"$error":"#REF!"}},{"$f":"IF(#REF!=10,78,0)","v":{"$error":"#REF!"}},{"$f":"IF(#REF!=11,75,0)","v":{"$error":"#REF!"}},{"$f":"IF(#REF!=12,73,0)","v":{"$error":"#REF!"}},{"$f":"IF(#REF!=13,70,0)","v":{"$error":"#REF!"}},{"$f":"IF(#REF!=14,68,0)","v":{"$error":"#REF!"}},{"$f":"IF(#REF!=15,65,0)","v":{"$error":"#REF!"}},{"$f":"IF(#REF!=16,63,0)","v":{"$error":"#REF!"}},{"$f":"IF(#REF!=17,60,0)","v":{"$error":"#REF!"}},{"$f":"IF(#REF!=18,58,0)","v":{"$error":"#REF!"}},{"$f":"IF(#REF!=19,55,0)","v":{"$error":"#REF!"}},{"$f":"IF(#REF!=20,53,0)","v":{"$error":"#REF!"}},{"$f":"IF(#REF!>20,0,0)","v":{"$error":"#REF!"}},{"$f":"IF(#REF!=\"сх\",0,0)","v":{"$error":"#REF!"}},{"$error":"#REF!"}]
[]
["Главный судья соревнований"]
["судья Всероссийской категории:                                                                                                              А. Б. Стеблинский (г. Тюмень; лицензия МФР А 144)"]
[]
["Главный секретарь соревнований"]
["судья Всероссийской категории:                                                                                              А. Ю. Иванов (г. Москва/лицензия МФР А 105; FIM 11245)"]

{"sheet":"ЛЮБИТЕЛИ","index":6,"n_rows":21,"n_cols":256,"rows_kept":21,"cut":false,"hidden":false,"merged":[[6,4,8,4],[6,5,8,5],[0,13,3,13],[1,0,1,12],[2,0,2,12],[3,0,3,12],[4,0,4,12],[5,8,5,10],[16,0,16,7],[19,0,19,7],[6,13,8,13],[7,8,8,8],[7,9,8,9],[7,10,8,10],[7,11,8,11],[6,6,8,6],[6,7,8,7],[6,8,6,9],[6,10,6,11],[6,12,8,12],[6,0,8,0],[6,1,8,1],[6,2,8,2],[6,3,8,3]]}
[]
["Чемпионат МФР по кроссу на снегоходах 2017 года - IV-й этап.                                                             "]
["ПРОТОКОЛ ЛИЧНОГО ЗАЧЕТА",null,null,null,null,null,null,null,null,null,null,null,null,null,null,null,null,null,null,null,null,null,null,null,null,null,null,null,null,null,null,null,null,null,null,null,null,null,null,null,null,null,null,null,null,null,null,null,null,null,null,null,null,null,null,null,null,null,null,null,null,null,null,null,null,null,null,null,null,null,null,null,null,null,null,null,null,null,null,null,null,null,null,null,null,null,null,null,null,null,null,null,null,null,null,null,null,null,null,null,null,null,null,null,null,null,null,null,null,null,null,null,null,null,null,null,null,null,null,null,null,null,null,null,null,null,null,null,null,null,null,null,null,null,null,null,null,null,null,null,null,null,null,null,null,null,null,null,null,null,null,null,null,null,null,null,null,null,null,null,null,null,null,null,null,null,null,null,null,null,null,null,"первый этап"]
["г. Новый Уренгой, Ямало-Ненецкий АО.                                                                                                                                                                                                              31 марта - 02 апреля 2017 года.",null,null,null,null,null,null,null,null,null,null,null,null,null,null,null,null,null,null,null,null,null,null,null,null,null,null,null,null,null,null,null,null,null,null,null,null,null,null,null,null,null,null,null,null,null,null,null,null,null,null,null,null,null,null,null,null,null,null,null,null,null,null,null,null,null,null,null,null,null,null,null,null,null,null,null,null,null,null,null,null,null,null,null,null,null,null,null,null,null,null,null,null,null,null,null,null,null,null,null,null,null,null,null,null,null,null,null,null,null,null,null,null,null,null,null,null,null,null,null,null,null,null,null,null,null,null,null,null,null,null,null,null,null,null,null,null,null,null,null,null,null,null,null,null,null,null,null,null,null,null,null,null,null,null,null,null,null,null,null,null,"первый заезд личные очки",null,null,null,null,null,null,null,null,null,null,null,null,null,null,null,null,null,null,null,null,null,"второй заезд личные очки",null,null,null,null,null,null,null,null,null,null,null,null,null,null,null,null,null,null,null,null,null,null,"Первый заезд командные очки",null,null,null,null,null,null,null,null,null,null,null,null,null,null,null,null,null,null,null,null,null,null,"Второй заезд командные очки"]
["Класс \"ЛЮБИТЕЛИ\". ",null,null,null,null,null,null,null,null,null,null,null,null,null,null,null,null,null,null,null,null,null,null,null,null,null,null,null,null,null,null,null,null,null,null,null,null,null,null,null,null,null,null,null,null,null,null,null,null,null,null,null,null,null,null,null,null,null,null,null,null,null,null,null,null,null,null,null,null,null,null,null,null,null,null,null,null,null,null,null,null,null,null,null,null,null,null,null,null,null,null,null,null,null,null,null,null,null,null,null,null,null,null,null,null,null,null,null,null,null,null,null,null,null,null,null,null,null,null,null,null,null,null,null,null,null,null,null,null,null,null,null,null,null,null,null,null,null,null,null,null,null,null,null,null,null,null,null,null,null,null,null,null,null,null,null,null,null,null,null,1,2,3,4,5,6,7,8,9,10,11,12,13,14,15,16,17,18,19,20,21,"сх","Sym",1,2,3,4,5,6,7,8,9,10,11,12,13,14,15,16,17,18,19,20,21,"cx","sym",1,2,3,4,5,6,7,8,9,10,11,12,13,14,15,16,17,18,19,20,21,"сх","очки",1,2,3,4,5,6,7,8,9,10,11,12,13,14,15,16,17,18,19,20,21,"сх","очки",{"$f":"COUNT(FE5:IR5)","v":84},"Н. Стро","В. стро","место"]
[]
["Место ","РЕЙТИНГОВЫЕ ОЧКИ Коэф. 0,5 ","Ст. №","Фамилия, Имя","Разряд","Город (край, район, область)","Команда","Марка снегохода","1-й заезд",null,"2-й заезд",null,"Сумма очков              в личном зачете","Сумма очк. в командном зачете"]
[null,null,null,null,null,null,null,null,"место","лич. очки","место","лич. очки",null,null,null,null,null,"первый заезд личные очки",null,null,null,null,null,null,null,null,null,null,null,null,null,null,null,null,null,null,null,null,null,"второй заезд личные очки",null,null,null,null,null,null,null,null,null,null,null,null,null,null,null,null,null,null,null,null,null,null,"Первый заезд командные очки",null,null,null,null,null,null,null,null,null,null,null,null,null,null,null,null,null,null,null,null,null,null,null,null,null,null,null,null,null,null,null,null,null,null,null,null,null,null,null,null,null,null,"Второй заезд командные очки",null,null,null,null,null,null,null,null,null,null,null,null,null,null,null,null,null,null,null,null,null,null,null,null,null,null,null,null,null,null,null,null,null,null,null,null,null,null,null,null,null,null,null,1,2,null,null,null,null,null,null,null,null,null,null,null,null,null,null,null,null,null,null,null,null,null,"первый этап"]
[null,null,null,null,null,null,null,null,null,null,null,null,null,null,null,null,1,2,3,4,5,6,7,8,9,10,11,12,13,14,15,16,17,18,19,20,21,"сх",null,1,2,3,4,5,6,7,8,9,10,11,12,13,14,15,16,17,18,19,20,null,"cx",null,1,2,3,4,5,6,7,8,9,10,11,12,13,14,15,16,17,18,19,20,21,22,23,24,25,26,27,28,29,30,31,32,33,34,35,36,37,38,39,40,null,null,null,1,2,3,4,5,6,7,8,9,10,11,12,13,14,15,16,17,18,19,20,21,22,23,24,25,26,27,28,29,30,31,32,33,34,35,36,37,38,39,40,null,null,null,null,null,null,null,"мин","Н. Стро","В. стро","место",null,"чр1","чр2",null,null,"первый заезд личные очки",null,null,null,null,null,null,null,null,null,null,null,null,null,null,null,null,null,null,null,null,null,"второй заезд личные очки",null,null,null,null,null,null,null,null,null,null,null,null,null,null,null,null,null,null,null,null,null,null,"Первый заезд командные очки",null,null,null,null,null,null,null,null,null,null,null,null,null,null,null,null,null,null,null,null,null,null,"Второй заезд командные очки"]
[1,25,789,"Дубовик Дмитрий","б/р","г. Муравленко, Ямало-Ненецкий АО","лично","Arctic - Cat",1,25,1,25,{"$f":"SUM(J10+L10)","v":50},{"$f":"#REF!+#REF!","v":{"$error":"#REF!"}},null,null,{"$f":"IF(#REF!=1,25,0)","v":{"$error":"#REF!"}},{"$f":"IF(#REF!=2,22,0)","v":{"$error":"#REF!"}},{"$f":"IF(#REF!=3,20,0)","v":{"$error":"#REF!"}},{"$f":"IF(#REF!=4,18,0)","v":{"$error":"#REF!"}},{"$f":"IF(#REF!=5,16,0)","v":{"$error":"#REF!"}},{"$f":"IF(#REF!=6,15,0)","v":{"$error":"#REF!"}},{"$f":"IF(#REF!=7,14,0)","v":{"$error":"#REF!"}},{"$f":"IF(#REF!=8,13,0)","v":{"$error":"#REF!"}},{"$f":"IF(#REF!=9,12,0)","v":{"$error":"#REF!"}},{"$f":"IF(#REF!=10,11,0)","v":{"$error":"#REF!"}},{"$f":"IF(#REF!=11,10,0)","v":{"$error":"#REF!"}},{"$f":"IF(#REF!=12,9,0)","v":{"$error":"#REF!"}},{"$f":"IF(#REF!=13,8,0)","v":{"$error":"#REF!"}},{"$f":"IF(#REF!=14,7,0)","v":{"$error":"#REF!"}},{"$f":"IF(#REF!=15,6,0)","v":{"$error":"#REF!"}},{"$f":"IF(#REF!=16,5,0)","v":{"$error":"#REF!"}},{"$f":"IF(#REF!=17,4,0)","v":{"$error":"#REF!"}},{"$f":"IF(#REF!=18,3,0)","v":{"$error":"#REF!"}},{"$f":"IF(#REF!=19,2,0)","v":{"$error":"#REF!"}},{"$f":"IF(#REF!=20,1,0)","v":{"$error":"#REF!"}},{"$f":"IF(#REF!>20,0,0)","v":{"$error":"#REF!"}},{"$f":"IF(#REF!=\"сх\",0,0)","v":{"$error":"#REF!"}},{"$f":"SUM(Q10:AK10)","v":{"$error":"#REF!"}},{"$f":"IF(#REF!=1,25,0)","v":{"$error":"#REF!"}},{"$f":"IF(#REF!=2,22,0)","v":{"$error":"#REF!"}},{"$f":"IF(#REF!=3,20,0)","v":{"$error":"#REF!"}},{"$f":"IF(#REF!=4,18,0)","v":{"$error":"#REF!"}},{"$f":"IF(#REF!=5,16,0)","v":{"$error":"#REF!"}},{"$f":"IF(#REF!=6,15,0)","v":{"$error":"#REF!"}},{"$f":"IF(#REF!=7,14,0)","v":{"$error":"#REF!"}},{"$f":"IF(#REF!=8,13,0)","v":{"$error":"#REF!"}},{"$f":"IF(#REF!=9,12,0)","v":{"$error":"#REF!"}},{"$f":"IF(#REF!=10,11,0)","v":{"$error":"#REF!"}},{"$f":"IF(#REF!=11,10,0)","v":{"$error":"#REF!"}},{"$f":"IF(#REF!=12,9,0)","v":{"$error":"#REF!"}},{"$f":"IF(#REF!=13,8,0)","v":{"$error":"#REF!"}},{"$f":"IF(#REF!=14,7,0)","v":{"$error":"#REF!"}},{"$f":"IF(#REF!=15,6,0)","v":{"$error":"#REF!"}},{"$f":"IF(#REF!=16,5,0)","v":{"$error":"#REF!"}},{"$f":"IF(#REF!=17,4,0)","v":{"$error":"#REF!"}},{"$f":"IF(#REF!=18,3,0)","v":{"$error":"#REF!"}},{"$f":"IF(#REF!=19,2,0)","v":{"$error":"#REF!"}},{"$f":"IF(#REF!=20,1,0)","v":{"$error":"#REF!"}},{"$f":"IF(#REF!>20,0,0)","v":{"$error":"#REF!"}},{"$f":"IF(#REF!=\"сх\",0,0)","v":{"$error":"#REF!"}},{"$f":"SUM(AN10:BH10)","v":{"$error":"#REF!"}},{"$f":"IF(#REF!=1,45,0)","v":{"$error":"#REF!"}},{"$f":"IF(#REF!=2,42,0)","v":{"$error":"#REF!"}},{"$f":"IF(#REF!=3,40,0)","v":{"$error":"#REF!"}},{"$f":"IF(#REF!=4,38,0)","v":{"$error":"#REF!"}},{"$f":"IF(#REF!=5,36,0)","v":{"$error":"#REF!"}},{"$f":"IF(#REF!=6,35,0)","v":{"$error":"#REF!"}},{"$f":"IF(#REF!=7,34,0)","v":{"$error":"#REF!"}},{"$f":"IF(#REF!=8,33,0)","v":{"$error":"#REF!"}},{"$f":"IF(#REF!=9,32,0)","v":{"$error":"#REF!"}},{"$f":"IF(#REF!=10,31,0)","v":{"$error":"#REF!"}},{"$f":"IF(#REF!=11,30,0)","v":{"$error":"#REF!"}},{"$f":"IF(#REF!=12,29,0)","v":{"$error":"#REF!"}},{"$f":"IF(#REF!=13,28,0)","v":{"$error":"#REF!"}},{"$f":"IF(#REF!=14,27,0)","v":{"$error":"#REF!"}},{"$f":"IF(#REF!=15,26,0)","v":{"$error":"#REF!"}},{"$f":"IF(#REF!=16,25,0)","v":{"$error":"#REF!"}},{"$f":"IF(#REF!=17,24,0)","v":{"$error":"#REF!"}},{"$f":"IF(#REF!=18,23,0)","v":{"$error":"#REF!"}},{"$f":"IF(#REF!=19,22,0)","v":{"$error":"#REF!"}},{"$f":"IF(#REF!=20,21,0)","v":{"$error":"#REF!"}},{"$f":"IF(#REF!=21,20,0)","v":{"$error":"#REF!"}},{"$f":"IF(#REF!=22,19,0)","v":{"$error":"#REF!"}},{"$f":"IF(#REF!=23,18,0)","v":{"$error":"#REF!"}},{"$f":"IF(#REF!=24,17,0)","v":{"$error":"#REF!"}},{"$f":"IF(#REF!=25,16,0)","v":{"$error":"#REF!"}},{"$f":"IF(#REF!=26,15,0)","v":{"$error":"#REF!"}},{"$f":"IF(#REF!=27,14,0)","v":{"$error":"#REF!"}},{"$f":"IF(#REF!=28,13,0)","v":{"$error":"#REF!"}},{"$f":"IF(#REF!=29,12,0)","v":{"$error":"#REF!"}},{"$f":"IF(#REF!=30,11,0)","v":{"$error":"#REF!"}},{"$f":"IF(#REF!=31,10,0)","v":{"$error":"#REF!"}},{"$f":"IF(#REF!=32,9,0)","v":{"$error":"#REF!"}},{"$f":"IF(#REF!=33,8,0)","v":{"$error":"#REF!"}},{"$f":"IF(#REF!=34,7,0)","v":{"$error":"#REF!"}},{"$f":"IF(#REF!=35,6,0)","v":{"$error":"#REF!"}},{"$f":"IF(#REF!=36,5,0)","v":{"$error":"#REF!"}},{"$f":"IF(#REF!=37,4,0)","v":{"$error":"#REF!"}},{"$f":"IF(#REF!=38,3,0)","v":{"$error":"#REF!"}},{"$f":"IF(#REF!=39,2,0)","v":{"$error":"#REF!"}},{"$f":"IF(#REF!=40,1,0)","v":{"$error":"#REF!"}},{"$f":"IF(#REF!>20,0,0)","v":{"$error":"#REF!"}},{"$f":"IF(#REF!=\"сх\",0,0)","v":{"$error":"#REF!"}},{"$f":"SUM(BK10:CZ10)","v":{"$error":"#REF!"}},{"$f":"IF(#REF!=1,45,0)","v":{"$error":"#REF!"}},{"$f":"IF(#REF!=2,42,0)","v":{"$error":"#REF!"}},{"$f":"IF(#REF!=3,40,0)","v":{"$error":"#REF!"}},{"$f":"IF(#REF!=4,38,0)","v":{"$error":"#REF!"}},{"$f":"IF(#REF!=5,36,0)","v":{"$error":"#REF!"}},{"$f":"IF(#REF!=6,35,0)","v":{"$error":"#REF!"}},{"$f":"IF(#REF!=7,34,0)","v":{"$error":"#REF!"}},{"$f":"IF(#REF!=8,33,0)","v":{"$error":"#REF!"}},{"$f":"IF(#REF!=9,32,0)","v":{"$error":"#REF!"}},{"$f":"IF(#REF!=10,31,0)","v":{"$error":"#REF!"}},{"$f":"IF(#REF!=11,30,0)","v":{"$error":"#REF!"}},{"$f":"IF(#REF!=12,29,0)","v":{"$error":"#REF!"}},{"$f":"IF(#REF!=13,28,0)","v":{"$error":"#REF!"}},{"$f":"IF(#REF!=14,27,0)","v":{"$error":"#REF!"}},{"$f":"IF(#REF!=15,26,0)","v":{"$error":"#REF!"}},{"$f":"IF(#REF!=16,25,0)","v":{"$error":"#REF!"}},{"$f":"IF(#REF!=17,24,0)","v":{"$error":"#REF!"}},{"$f":"IF(#REF!=18,23,0)","v":{"$error":"#REF!"}},{"$f":"IF(#REF!=19,22,0)","v":{"$error":"#REF!"}},{"$f":"IF(#REF!=20,21,0)","v":{"$error":"#REF!"}},{"$f":"IF(#REF!=21,20,0)","v":{"$error":"#REF!"}},{"$f":"IF(#REF!=22,19,0)","v":{"$error":"#REF!"}},{"$f":"IF(#REF!=23,18,0)","v":{"$error":"#REF!"}},{"$f":"IF(#REF!=24,17,0)","v":{"$error":"#REF!"}},{"$f":"IF(#REF!=25,16,0)","v":{"$error":"#REF!"}},{"$f":"IF(#REF!=26,15,0)","v":{"$error":"#REF!"}},{"$f":"IF(#REF!=27,14,0)","v":{"$error":"#REF!"}},{"$f":"IF(#REF!=28,13,0)","v":{"$error":"#REF!"}},{"$f":"IF(#REF!=29,12,0)","v":{"$error":"#REF!"}},{"$f":"IF(#REF!=30,11,0)","v":{"$error":"#REF!"}},{"$f":"IF(#REF!=31,10,0)","v":{"$error":"#REF!"}},{"$f":"IF(#REF!=32,9,0)","v":{"$error":"#REF!"}},{"$f":"IF(#REF!=33,8,0)","v":{"$error":"#REF!"}},{"$f":"IF(#REF!=34,7,0)","v":{"$error":"#REF!"}},{"$f":"IF(#REF!=35,6,0)","v":{"$error":"#REF!"}},{"$f":"IF(#REF!=36,5,0)","v":{"$error":"#REF!"}},{"$f":"IF(#REF!=37,4,0)","v":{"$error":"#REF!"}},{"$f":"IF(#REF!=38,3,0)","v":{"$error":"#REF!"}},{"$f":"IF(#REF!=39,2,0)","v":{"$error":"#REF!"}},{"$f":"IF(#REF!=40,1,0)","v":{"$error":"#REF!"}},{"$f":"IF(#REF!>20,0,0)","v":{"$error":"#REF!"}},{"$f":"IF(#REF!=\"сх\",0,0)","v":{"$error":"#REF!"}},{"$f":"SUM(DB10:EQ10)","v":{"$error":"#REF!"}},null,{"$f":"IF(#REF!=\"сх\",\"ноль\",IF(#REF!>0,#REF!,\"Ноль\"))","v":{"$error":"#REF!"}},{"$f":"IF(#REF!=\"сх\",\"ноль\",IF(#REF!>0,#REF!,\"Ноль\"))","v":{"$error":"#REF!"}},null,{"$f":"MIN(ET10,EU10)","v":{"$error":"#REF!"}},{"$f":"IF(M10=#REF!,IF(#REF!<#REF!,#REF!,FB10),#REF!)","v":{"$error":"#REF!"}},{"$f":"IF(M10=#REF!,IF(#REF!<#REF!,0,1))","v":{"$error":"#REF!"}},{"$f":"IF(AND(EW10>=21,EW10<>0),EW10,IF(M10<#REF!,\"СТОП\",EX10+EY10))","v":{"$error":"#REF!"}},null,15,16,null,{"$f":"IF(#REF!=1,25,0)","v":{"$error":"#REF!"}},{"$f":"IF(#REF!=2,22,0)","v":{"$error":"#REF!"}},{"$f":"IF(#REF!=3,20,0)","v":{"$error":"#REF!"}},{"$f":"IF(#REF!=4,18,0)","v":{"$error":"#REF!"}},{"$f":"IF(#REF!=5,16,0)","v":{"$error":"#REF!"}},{"$f":"IF(#REF!=6,15,0)","v":{"$error":"#REF!"}},{"$f":"IF(#REF!=7,14,0)","v":{"$error":"#REF!"}},{"$f":"IF(#REF!=8,13,0)","v":{"$error":"#REF!"}},{"$f":"IF(#REF!=9,12,0)","v":{"$error":"#REF!"}},{"$f":"IF(#REF!=10,11,0)","v":{"$error":"#REF!"}},{"$f":"IF(#REF!=11,10,0)","v":{"$error":"#REF!"}},{"$f":"IF(#REF!=12,9,0)","v":{"$error":"#REF!"}},{"$f":"IF(#REF!=13,8,0)","v":{"$error":"#REF!"}},{"$f":"IF(#REF!=14,7,0)","v":{"$error":"#REF!"}},{"$f":"IF(#REF!=15,6,0)","v":{"$error":"#REF!"}},{"$f":"IF(#REF!=16,5,0)","v":{"$error":"#REF!"}},{"$f":"IF(#REF!=17,4,0)","v":{"$error":"#REF!"}},{"$f":"IF(#REF!=18,3,0)","v":{"$error":"#REF!"}},{"$f":"IF(#REF!=19,2,0)","v":{"$error":"#REF!"}},{"$f":"IF(#REF!=20,1,0)","v":{"$error":"#REF!"}},{"$f":"IF(#REF!>20,0,0)","v":{"$error":"#REF!"}},{"$f":"IF(#REF!=\"сх\",0,0)","v":{"$error":"#REF!"}},{"$f":"SUM(FE10:FZ10)","v":{"$error":"#REF!"}},{"$f":"IF(#REF!=1,25,0)","v":{"$error":"#REF!"}},{"$f":"IF(#REF!=2,22,0)","v":{"$error":"#REF!"}},{"$f":"IF(#REF!=3,20,0)","v":{"$error":"#REF!"}},{"$f":"IF(#REF!=4,18,0)","v":{"$error":"#REF!"}},{"$f":"IF(#REF!=5,16,0)","v":{"$error":"#REF!"}},{"$f":"IF(#REF!=6,15,0)","v":{"$error":"#REF!"}},{"$f":"IF(#REF!=7,14,0)","v":{"$error":"#REF!"}},{"$f":"IF(#REF!=8,13,0)","v":{"$error":"#REF!"}},{"$f":"IF(#REF!=9,12,0)","v":{"$error":"#REF!"}},{"$f":"IF(#REF!=10,11,0)","v":{"$error":"#REF!"}},{"$f":"IF(#REF!=11,10,0)","v":{"$error":"#REF!"}},{"$f":"IF(#REF!=12,9,0)","v":{"$error":"#REF!"}},{"$f":"IF(#REF!=13,8,0)","v":{"$error":"#REF!"}},{"$f":"IF(#REF!=14,7,0)","v":{"$error":"#REF!"}},{"$f":"IF(#REF!=15,6,0)","v":{"$error":"#REF!"}},{"$f":"IF(#REF!=16,5,0)","v":{"$error":"#REF!"}},{"$f":"IF(#REF!=17,4,0)","v":{"$error":"#REF!"}},{"$f":"IF(#REF!=18,3,0)","v":{"$error":"#REF!"}},{"$f":"IF(#REF!=19,2,0)","v":{"$error":"#REF!"}},{"$f":"IF(#REF!=20,1,0)","v":{"$error":"#REF!"}},{"$f":"IF(#REF!>20,0,0)","v":{"$error":"#REF!"}},{"$f":"IF(#REF!=\"сх\",0,0)","v":{"$error":"#REF!"}},{"$f":"SUM(GB10:GW10)","v":{"$error":"#REF!"}},{"$f":"IF(#REF!=1,100,0)","v":{"$error":"#REF!"}},{"$f":"IF(#REF!=2,98,0)","v":{"$error":"#REF!"}},{"$f":"IF(#REF!=3,95,0)","v":{"$error":"#REF!"}},{"$f":"IF(#REF!=4,93,0)","v":{"$error":"#REF!"}},{"$f":"IF(#REF!=5,90,0)","v":{"$error":"#REF!"}},{"$f":"IF(#REF!=6,88,0)","v":{"$error":"#REF!"}},{"$f":"IF(#REF!=7,85,0)","v":{"$error":"#REF!"}},{"$f":"IF(#REF!=8,83,0)","v":{"$error":"#REF!"}},{"$f":"IF(#REF!=9,80,0)","v":{"$error":"#REF!"}},{"$f":"IF(#REF!=10,78,0)","v":{"$error":"#REF!"}},{"$f":"IF(#REF!=11,75,0)","v":{"$error":"#REF!"}},{"$f":"IF(#REF!=12,73,0)","v":{"$error":"#REF!"}},{"$f":"IF(#REF!=13,70,0)","v":{"$error":"#REF!"}},{"$f":"IF(#REF!=14,68,0)","v":{"$error":"#REF!"}},{"$f":"IF(#REF!=15,65,0)","v":{"$error":"#REF!"}},{"$f":"IF(#REF!=16,63,0)","v":{"$error":"#REF!"}},{"$f":"IF(#REF!=17,60,0)","v":{"$error":"#REF!"}},{"$f":"IF(#REF!=18,58,0)","v":{"$error":"#REF!"}},{"$f":"IF(#REF!=19,55,0)","v":{"$error":"#REF!"}},{"$f":"IF(#REF!=20,53,0)","v":{"$error":"#REF!"}},{"$f":"IF(#REF!>20,0,0)","v":{"$error":"#REF!"}},{"$f":"IF(#REF!=\"сх\",0,0)","v":{"$error":"#REF!"}},{"$f":"SUM(GY10:HT10)","v":{"$error":"#REF!"}},{"$f":"IF(#REF!=1,100,0)","v":{"$error":"#REF!"}},{"$f":"IF(#REF!=2,98,0)","v":{"$error":"#REF!"}},{"$f":"IF(#REF!=3,95,0)","v":{"$error":"#REF!"}},{"$f":"IF(#REF!=4,93,0)","v":{"$error":"#REF!"}},{"$f":"IF(#REF!=5,90,0)","v":{"$error":"#REF!"}},{"$f":"IF(#REF!=6,88,0)","v":{"$error":"#REF!"}},{"$f":"IF(#REF!=7,85,0)","v":{"$error":"#REF!"}},{"$f":"IF(#REF!=8,83,0)","v":{"$error":"#REF!"}},{"$f":"IF(#REF!=9,80,0)","v":{"$error":"#REF!"}},{"$f":"IF(#REF!=10,78,0)","v":{"$error":"#REF!"}},{"$f":"IF(#REF!=11,75,0)","v":{"$error":"#REF!"}},{"$f":"IF(#REF!=12,73,0)","v":{"$error":"#REF!"}},{"$f":"IF(#REF!=13,70,0)","v":{"$error":"#REF!"}},{"$f":"IF(#REF!=14,68,0)","v":{"$error":"#REF!"}},{"$f":"IF(#REF!=15,65,0)","v":{"$error":"#REF!"}},{"$f":"IF(#REF!=16,63,0)","v":{"$error":"#REF!"}},{"$f":"IF(#REF!=17,60,0)","v":{"$error":"#REF!"}},{"$f":"IF(#REF!=18,58,0)","v":{"$error":"#REF!"}},{"$f":"IF(#REF!=19,55,0)","v":{"$error":"#REF!"}},{"$f":"IF(#REF!=20,53,0)","v":{"$error":"#REF!"}},{"$f":"IF(#REF!>20,0,0)","v":{"$error":"#REF!"}},{"$f":"IF(#REF!=\"сх\",0,0)","v":{"$error":"#REF!"}},{"$f":"SUM(HV10:IQ10)","v":{"$error":"#REF!"}}]
[2,24,228,"Синявин Александр","б/р","г. Сургут, Ханты-Мансийский АО-Югра","лично","LYNX",3,20,2,22,42,{"$f":"#REF!+#REF!","v":{"$error":"#REF!"}},null,null,{"$f":"IF(#REF!=1,25,0)","v":{"$error":"#REF!"}},{"$f":"IF(#REF!=2,22,0)","v":{"$error":"#REF!"}},{"$f":"IF(#REF!=3,20,0)","v":{"$error":"#REF!"}},{"$f":"IF(#REF!=4,18,0)","v":{"$error":"#REF!"}},{"$f":"IF(#REF!=5,16,0)","v":{"$error":"#REF!"}},{"$f":"IF(#REF!=6,15,0)","v":{"$error":"#REF!"}},{"$f":"IF(#REF!=7,14,0)","v":{"$error":"#REF!"}},{"$f":"IF(#REF!=8,13,0)","v":{"$error":"#REF!"}},{"$f":"IF(#REF!=9,12,0)","v":{"$error":"#REF!"}},{"$f":"IF(#REF!=10,11,0)","v":{"$error":"#REF!"}},{"$f":"IF(#REF!=11,10,0)","v":{"$error":"#REF!"}},{"$f":"IF(#REF!=12,9,0)","v":{"$error":"#REF!"}},{"$f":"IF(#REF!=13,8,0)","v":{"$error":"#REF!"}},{"$f":"IF(#REF!=14,7,0)","v":{"$error":"#REF!"}},{"$f":"IF(#REF!=15,6,0)","v":{"$error":"#REF!"}},{"$f":"IF(#REF!=16,5,0)","v":{"$error":"#REF!"}},{"$f":"IF(#REF!=17,4,0)","v":{"$error":"#REF!"}},{"$f":"IF(#REF!=18,3,0)","v":{"$error":"#REF!"}},{"$f":"IF(#REF!=19,2,0)","v":{"$error":"#REF!"}},{"$f":"IF(#REF!=20,1,0)","v":{"$error":"#REF!"}},{"$f":"IF(#REF!>20,0,0)","v":{"$error":"#REF!"}},{"$f":"IF(#REF!=\"сх\",0,0)","v":{"$error":"#REF!"}},{"$error":"#REF!"},{"$f":"IF(#REF!=1,25,0)","v":{"$error":"#REF!"}},{"$f":"IF(#REF!=2,22,0)","v":{"$error":"#REF!"}},{"$f":"IF(#REF!=3,20,0)","v":{"$error":"#REF!"}},{"$f":"IF(#REF!=4,18,0)","v":{"$error":"#REF!"}},{"$f":"IF(#REF!=5,16,0)","v":{"$error":"#REF!"}},{"$f":"IF(#REF!=6,15,0)","v":{"$error":"#REF!"}},{"$f":"IF(#REF!=7,14,0)","v":{"$error":"#REF!"}},{"$f":"IF(#REF!=8,13,0)","v":{"$error":"#REF!"}},{"$f":"IF(#REF!=9,12,0)","v":{"$error":"#REF!"}},{"$f":"IF(#REF!=10,11,0)","v":{"$error":"#REF!"}},{"$f":"IF(#REF!=11,10,0)","v":{"$error":"#REF!"}},{"$f":"IF(#REF!=12,9,0)","v":{"$error":"#REF!"}},{"$f":"IF(#REF!=13,8,0)","v":{"$error":"#REF!"}},{"$f":"IF(#REF!=14,7,0)","v":{"$error":"#REF!"}},{"$f":"IF(#REF!=15,6,0)","v":{"$error":"#REF!"}},{"$f":"IF(#REF!=16,5,0)","v":{"$error":"#REF!"}},{"$f":"IF(#REF!=17,4,0)","v":{"$error":"#REF!"}},{"$f":"IF(#REF!=18,3,0)","v":{"$error":"#REF!"}},{"$f":"IF(#REF!=19,2,0)","v":{"$error":"#REF!"}},{"$f":"IF(#REF!=20,1,0)","v":{"$error":"#REF!"}},{"$f":"IF(#REF!>20,0,0)","v":{"$error":"#REF!"}},{"$f":"IF(#REF!=\"сх\",0,0)","v":{"$error":"#REF!"}},{"$error":"#REF!"},{"$f":"IF(#REF!=1,45,0)","v":{"$error":"#REF!"}},{"$f":"IF(#REF!=2,42,0)","v":{"$error":"#REF!"}},{"$f":"IF(#REF!=3,40,0)","v":{"$error":"#REF!"}},{"$f":"IF(#REF!=4,38,0)","v":{"$error":"#REF!"}},{"$f":"IF(#REF!=5,36,0)","v":{"$error":"#REF!"}},{"$f":"IF(#REF!=6,35,0)","v":{"$error":"#REF!"}},{"$f":"IF(#REF!=7,34,0)","v":{"$error":"#REF!"}},{"$f":"IF(#REF!=8,33,0)","v":{"$error":"#REF!"}},{"$f":"IF(#REF!=9,32,0)","v":{"$error":"#REF!"}},{"$f":"IF(#REF!=10,31,0)","v":{"$error":"#REF!"}},{"$f":"IF(#REF!=11,30,0)","v":{"$error":"#REF!"}},{"$f":"IF(#REF!=12,29,0)","v":{"$error":"#REF!"}},{"$f":"IF(#REF!=13,28,0)","v":{"$error":"#REF!"}},{"$f":"IF(#REF!=14,27,0)","v":{"$error":"#REF!"}},{"$f":"IF(#REF!=15,26,0)","v":{"$error":"#REF!"}},{"$f":"IF(#REF!=16,25,0)","v":{"$error":"#REF!"}},{"$f":"IF(#REF!=17,24,0)","v":{"$error":"#REF!"}},{"$f":"IF(#REF!=18,23,0)","v":{"$error":"#REF!"}},{"$f":"IF(#REF!=19,22,0)","v":{"$error":"#REF!"}},{"$f":"IF(#REF!=20,21,0)","v":{"$error":"#REF!"}},{"$f":"IF(#REF!=21,20,0)","v":{"$error":"#REF!"}},{"$f":"IF(#REF!=22,19,0)","v":{"$error":"#REF!"}},{"$f":"IF(#REF!=23,18,0)","v":{"$error":"#REF!"}},{"$f":"IF(#REF!=24,17,0)","v":{"$error":"#REF!"}},{"$f":"IF(#REF!=25,16,0)","v":{"$error":"#REF!"}},{"$f":"IF(#REF!=26,15,0)","v":{"$error":"#REF!"}},{"$f":"IF(#REF!=27,14,0)","v":{"$error":"#REF!"}},{"$f":"IF(#REF!=28,13,0)","v":{"$error":"#REF!"}},{"$f":"IF(#REF!=29,12,0)","v":{"$error":"#REF!"}},{"$f":"IF(#REF!=30,11,0)","v":{"$error":"#REF!"}},{"$f":"IF(#REF!=31,10,0)","v":{"$error":"#REF!"}},{"$f":"IF(#REF!=32,9,0)","v":{"$error":"#REF!"}},{"$f":"IF(#REF!=33,8,0)","v":{"$error":"#REF!"}},{"$f":"IF(#REF!=34,7,0)","v":{"$error":"#REF!"}},{"$f":"IF(#REF!=35,6,0)","v":{"$error":"#REF!"}},{"$f":"IF(#REF!=36,5,0)","v":{"$error":"#REF!"}},{"$f":"IF(#REF!=37,4,0)","v":{"$error":"#REF!"}},{"$f":"IF(#REF!=38,3,0)","v":{"$error":"#REF!"}},{"$f":"IF(#REF!=39,2,0)","v":{"$error":"#REF!"}},{"$f":"IF(#REF!=40,1,0)","v":{"$error":"#REF!"}},{"$f":"IF(#REF!>20,0,0)","v":{"$error":"#REF!"}},{"$f":"IF(#REF!=\"сх\",0,0)","v":{"$error":"#REF!"}},{"$error":"#REF!"},{"$f":"IF(#REF!=1,45,0)","v":{"$error":"#REF!"}},{"$f":"IF(#REF!=2,42,0)","v":{"$error":"#REF!"}},{"$f":"IF(#REF!=3,40,0)","v":{"$error":"#REF!"}},{"$f":"IF(#REF!=4,38,0)","v":{"$error":"#REF!"}},{"$f":"IF(#REF!=5,36,0)","v":{"$error":"#REF!"}},{"$f":"IF(#REF!=6,35,0)","v":{"$error":"#REF!"}},{"$f":"IF(#REF!=7,34,0)","v":{"$error":"#REF!"}},{"$f":"IF(#REF!=8,33,0)","v":{"$error":"#REF!"}},{"$f":"IF(#REF!=9,32,0)","v":{"$error":"#REF!"}},{"$f":"IF(#REF!=10,31,0)","v":{"$error":"#REF!"}},{"$f":"IF(#REF!=11,30,0)","v":{"$error":"#REF!"}},{"$f":"IF(#REF!=12,29,0)","v":{"$error":"#REF!"}},{"$f":"IF(#REF!=13,28,0)","v":{"$error":"#REF!"}},{"$f":"IF(#REF!=14,27,0)","v":{"$error":"#REF!"}},{"$f":"IF(#REF!=15,26,0)","v":{"$error":"#REF!"}},{"$f":"IF(#REF!=16,25,0)","v":{"$error":"#REF!"}},{"$f":"IF(#REF!=17,24,0)","v":{"$error":"#REF!"}},{"$f":"IF(#REF!=18,23,0)","v":{"$error":"#REF!"}},{"$f":"IF(#REF!=19,22,0)","v":{"$error":"#REF!"}},{"$f":"IF(#REF!=20,21,0)","v":{"$error":"#REF!"}},{"$f":"IF(#REF!=21,20,0)","v":{"$error":"#REF!"}},{"$f":"IF(#REF!=22,19,0)","v":{"$error":"#REF!"}},{"$f":"IF(#REF!=23,18,0)","v":{"$error":"#REF!"}},{"$f":"IF(#REF!=24,17,0)","v":{"$error":"#REF!"}},{"$f":"IF(#REF!=25,16,0)","v":{"$error":"#REF!"}},{"$f":"IF(#REF!=26,15,0)","v":{"$error":"#REF!"}},{"$f":"IF(#REF!=27,14,0)","v":{"$error":"#REF!"}},{"$f":"IF(#REF!=28,13,0)","v":{"$error":"#REF!"}},{"$f":"IF(#REF!=29,12,0)","v":{"$error":"#REF!"}},{"$f":"IF(#REF!=30,11,0)","v":{"$error":"#REF!"}},{"$f":"IF(#REF!=31,10,0)","v":{"$error":"#REF!"}},{"$f":"IF(#REF!=32,9,0)","v":{"$error":"#REF!"}},{"$f":"IF(#REF!=33,8,0)","v":{"$error":"#REF!"}},{"$f":"IF(#REF!=34,7,0)","v":{"$error":"#REF!"}},{"$f":"IF(#REF!=35,6,0)","v":{"$error":"#REF!"}},{"$f":"IF(#REF!=36,5,0)","v":{"$error":"#REF!"}},{"$f":"IF(#REF!=37,4,0)","v":{"$error":"#REF!"}},{"$f":"IF(#REF!=38,3,0)","v":{"$error":"#REF!"}},{"$f":"IF(#REF!=39,2,0)","v":{"$error":"#REF!"}},{"$f":"IF(#REF!=40,1,0)","v":{"$error":"#REF!"}},{"$f":"IF(#REF!>20,0,0)","v":{"$error":"#REF!"}},{"$f":"IF(#REF!=\"сх\",0,0)","v":{"$error":"#REF!"}},{"$error":"#REF!"},null,{"$f":"IF(#REF!=\"сх\",\"ноль\",IF(#REF!>0,#REF!,\"Ноль\"))","v":{"$error":"#REF!"}},{"$f":"IF(#REF!=\"сх\",\"ноль\",IF(#REF!>0,#REF!,\"Ноль\"))","v":{"$error":"#REF!"}},null,{"$error":"#REF!"},{"$f":"IF(M11=#REF!,IF(#REF!<#REF!,#REF!,FB11),#REF!)","v":{"$error":"#REF!"}},{"$f":"IF(M11=#REF!,IF(#REF!<#REF!,0,1))","v":{"$error":"#REF!"}},{"$f":"IF(AND(EW11>=21,EW11<>0),EW11,IF(M11<#REF!,\"СТОП\",EX11+EY11))","v":{"$error":"#REF!"}},null,15,16,null,{"$f":"IF(#REF!=1,25,0)","v":{"$error":"#REF!"}},{"$f":"IF(#REF!=2,22,0)","v":{"$error":"#REF!"}},{"$f":"IF(#REF!=3,20,0)","v":{"$error":"#REF!"}},{"$f":"IF(#REF!=4,18,0)","v":{"$error":"#REF!"}},{"$f":"IF(#REF!=5,16,0)","v":{"$error":"#REF!"}},{"$f":"IF(#REF!=6,15,0)","v":{"$error":"#REF!"}},{"$f":"IF(#REF!=7,14,0)","v":{"$error":"#REF!"}},{"$f":"IF(#REF!=8,13,0)","v":{"$error":"#REF!"}},{"$f":"IF(#REF!=9,12,0)","v":{"$error":"#REF!"}},{"$f":"IF(#REF!=10,11,0)","v":{"$error":"#REF!"}},{"$f":"IF(#REF!=11,10,0)","v":{"$error":"#REF!"}},{"$f":"IF(#REF!=12,9,0)","v":{"$error":"#REF!"}},{"$f":"IF(#REF!=13,8,0)","v":{"$error":"#REF!"}},{"$f":"IF(#REF!=14,7,0)","v":{"$error":"#REF!"}},{"$f":"IF(#REF!=15,6,0)","v":{"$error":"#REF!"}},{"$f":"IF(#REF!=16,5,0)","v":{"$error":"#REF!"}},{"$f":"IF(#REF!=17,4,0)","v":{"$error":"#REF!"}},{"$f":"IF(#REF!=18,3,0)","v":{"$error":"#REF!"}},{"$f":"IF(#REF!=19,2,0)","v":{"$error":"#REF!"}},{"$f":"IF(#REF!=20,1,0)","v":{"$error":"#REF!"}},{"$f":"IF(#REF!>20,0,0)","v":{"$error":"#REF!"}},{"$f":"IF(#REF!=\"сх\",0,0)","v":{"$error":"#REF!"}},{"$error":"#REF!"},{"$f":"IF(#REF!=1,25,0)","v":{"$error":"#REF!"}},{"$f":"IF(#REF!=2,22,0)","v":{"$error":"#REF!"}},{"$f":"IF(#REF!=3,20,0)","v":{"$error":"#REF!"}},{"$f":"IF(#REF!=4,18,0)","v":{"$error":"#REF!"}},{"$f":"IF(#REF!=5,16,0)","v":{"$error":"#REF!"}},{"$f":"IF(#REF!=6,15,0)","v":{"$error":"#REF!"}},{"$f":"IF(#REF!=7,14,0)","v":{"$error":"#REF!"}},{"$f":"IF(#REF!=8,13,0)","v":{"$error":"#REF!"}},{"$f":"IF(#REF!=9,12,0)","v":{"$error":"#REF!"}},{"$f":"IF(#REF!=10,11,0)","v":{"$error":"#REF!"}},{"$f":"IF(#REF!=11,10,0)","v":{"$error":"#REF!"}},{"$f":"IF(#REF!=12,9,0)","v":{"$error":"#REF!"}},{"$f":"IF(#REF!=13,8,0)","v":{"$error":"#REF!"}},{"$f":"IF(#REF!=14,7,0)","v":{"$error":"#REF!"}},{"$f":"IF(#REF!=15,6,0)","v":{"$error":"#REF!"}},{"$f":"IF(#REF!=16,5,0)","v":{"$error":"#REF!"}},{"$f":"IF(#REF!=17,4,0)","v":{"$error":"#REF!"}},{"$f":"IF(#REF!=18,3,0)","v":{"$error":"#REF!"}},{"$f":"IF(#REF!=19,2,0)","v":{"$error":"#REF!"}},{"$f":"IF(#REF!=20,1,0)","v":{"$error":"#REF!"}},{"$f":"IF(#REF!>20,0,0)","v":{"$error":"#REF!"}},{"$f":"IF(#REF!=\"сх\",0,0)","v":{"$error":"#REF!"}},{"$error":"#REF!"},{"$f":"IF(#REF!=1,100,0)","v":{"$error":"#REF!"}},{"$f":"IF(#REF!=2,98,0)","v":{"$error":"#REF!"}},{"$f":"IF(#REF!=3,95,0)","v":{"$error":"#REF!"}},{"$f":"IF(#REF!=4,93,0)","v":{"$error":"#REF!"}},{"$f":"IF(#REF!=5,90,0)","v":{"$error":"#REF!"}},{"$f":"IF(#REF!=6,88,0)","v":{"$error":"#REF!"}},{"$f":"IF(#REF!=7,85,0)","v":{"$error":"#REF!"}},{"$f":"IF(#REF!=8,83,0)","v":{"$error":"#REF!"}},{"$f":"IF(#REF!=9,80,0)","v":{"$error":"#REF!"}},{"$f":"IF(#REF!=10,78,0)","v":{"$error":"#REF!"}},{"$f":"IF(#REF!=11,75,0)","v":{"$error":"#REF!"}},{"$f":"IF(#REF!=12,73,0)","v":{"$error":"#REF!"}},{"$f":"IF(#REF!=13,70,0)","v":{"$error":"#REF!"}},{"$f":"IF(#REF!=14,68,0)","v":{"$error":"#REF!"}},{"$f":"IF(#REF!=15,65,0)","v":{"$error":"#REF!"}},{"$f":"IF(#REF!=16,63,0)","v":{"$error":"#REF!"}},{"$f":"IF(#REF!=17,60,0)","v":{"$error":"#REF!"}},{"$f":"IF(#REF!=18,58,0)","v":{"$error":"#REF!"}},{"$f":"IF(#REF!=19,55,0)","v":{"$error":"#REF!"}},{"$f":"IF(#REF!=20,53,0)","v":{"$error":"#REF!"}},{"$f":"IF(#REF!>20,0,0)","v":{"$error":"#REF!"}},{"$f":"IF(#REF!=\"сх\",0,0)","v":{"$error":"#REF!"}},{"$error":"#REF!"},{"$f":"IF(#REF!=1,100,0)","v":{"$error":"#REF!"}},{"$f":"IF(#REF!=2,98,0)","v":{"$error":"#REF!"}},{"$f":"IF(#REF!=3,95,0)","v":{"$error":"#REF!"}},{"$f":"IF(#REF!=4,93,0)","v":{"$error":"#REF!"}},{"$f":"IF(#REF!=5,90,0)","v":{"$error":"#REF!"}},{"$f":"IF(#REF!=6,88,0)","v":{"$error":"#REF!"}},{"$f":"IF(#REF!=7,85,0)","v":{"$error":"#REF!"}},{"$f":"IF(#REF!=8,83,0)","v":{"$error":"#REF!"}},{"$f":"IF(#REF!=9,80,0)","v":{"$error":"#REF!"}},{"$f":"IF(#REF!=10,78,0)","v":{"$error":"#REF!"}},{"$f":"IF(#REF!=11,75,0)","v":{"$error":"#REF!"}},{"$f":"IF(#REF!=12,73,0)","v":{"$error":"#REF!"}},{"$f":"IF(#REF!=13,70,0)","v":{"$error":"#REF!"}},{"$f":"IF(#REF!=14,68,0)","v":{"$error":"#REF!"}},{"$f":"IF(#REF!=15,65,0)","v":{"$error":"#REF!"}},{"$f":"IF(#REF!=16,63,0)","v":{"$error":"#REF!"}},{"$f":"IF(#REF!=17,60,0)","v":{"$error":"#REF!"}},{"$f":"IF(#REF!=18,58,0)","v":{"$error":"#REF!"}},{"$f":"IF(#REF!=19,55,0)","v":{"$error":"#REF!"}},{"$f":"IF(#REF!=20,53,0)","v":{"$error":"#REF!"}},{"$f":"IF(#REF!>20,0,0)","v":{"$error":"#REF!"}},{"$f":"IF(#REF!=\"сх\",0,0)","v":{"$error":"#REF!"}},{"$error":"#REF!"}]
[3,23,255,"Жовтоног Эдуард","кмс","г. Новый Уренгой, Ямало-Ненецкий АО","СТК \"Факел\"","Arctic - Cat",2,22,3,20,42,{"$f":"#REF!+#REF!","v":{"$error":"#REF!"}},null,null,{"$f":"IF(#REF!=1,25,0)","v":{"$error":"#REF!"}},{"$f":"IF(#REF!=2,22,0)","v":{"$error":"#REF!"}},{"$f":"IF(#REF!=3,20,0)","v":{"$error":"#REF!"}},{"$f":"IF(#REF!=4,18,0)","v":{"$error":"#REF!"}},{"$f":"IF(#REF!=5,16,0)","v":{"$error":"#REF!"}},{"$f":"IF(#REF!=6,15,0)","v":{"$error":"#REF!"}},{"$f":"IF(#REF!=7,14,0)","v":{"$error":"#REF!"}},{"$f":"IF(#REF!=8,13,0)","v":{"$error":"#REF!"}},{"$f":"IF(#REF!=9,12,0)","v":{"$error":"#REF!"}},{"$f":"IF(#REF!=10,11,0)","v":{"$error":"#REF!"}},{"$f":"IF(#REF!=11,10,0)","v":{"$error":"#REF!"}},{"$f":"IF(#REF!=12,9,0)","v":{"$error":"#REF!"}},{"$f":"IF(#REF!=13,8,0)","v":{"$error":"#REF!"}},{"$f":"IF(#REF!=14,7,0)","v":{"$error":"#REF!"}},{"$f":"IF(#REF!=15,6,0)","v":{"$error":"#REF!"}},{"$f":"IF(#REF!=16,5,0)","v":{"$error":"#REF!"}},{"$f":"IF(#REF!=17,4,0)","v":{"$error":"#REF!"}},{"$f":"IF(#REF!=18,3,0)","v":{"$error":"#REF!"}},{"$f":"IF(#REF!=19,2,0)","v":{"$error":"#REF!"}},{"$f":"IF(#REF!=20,1,0)","v":{"$error":"#REF!"}},{"$f":"IF(#REF!>20,0,0)","v":{"$error":"#REF!"}},{"$f":"IF(#REF!=\"сх\",0,0)","v":{"$error":"#REF!"}},{"$error":"#REF!"},{"$f":"IF(#REF!=1,25,0)","v":{"$error":"#REF!"}},{"$f":"IF(#REF!=2,22,0)","v":{"$error":"#REF!"}},{"$f":"IF(#REF!=3,20,0)","v":{"$error":"#REF!"}},{"$f":"IF(#REF!=4,18,0)","v":{"$error":"#REF!"}},{"$f":"IF(#REF!=5,16,0)","v":{"$error":"#REF!"}},{"$f":"IF(#REF!=6,15,0)","v":{"$error":"#REF!"}},{"$f":"IF(#REF!=7,14,0)","v":{"$error":"#REF!"}},{"$f":"IF(#REF!=8,13,0)","v":{"$error":"#REF!"}},{"$f":"IF(#REF!=9,12,0)","v":{"$error":"#REF!"}},{"$f":"IF(#REF!=10,11,0)","v":{"$error":"#REF!"}},{"$f":"IF(#REF!=11,10,0)","v":{"$error":"#REF!"}},{"$f":"IF(#REF!=12,9,0)","v":{"$error":"#REF!"}},{"$f":"IF(#REF!=13,8,0)","v":{"$error":"#REF!"}},{"$f":"IF(#REF!=14,7,0)","v":{"$error":"#REF!"}},{"$f":"IF(#REF!=15,6,0)","v":{"$error":"#REF!"}},{"$f":"IF(#REF!=16,5,0)","v":{"$error":"#REF!"}},{"$f":"IF(#REF!=17,4,0)","v":{"$error":"#REF!"}},{"$f":"IF(#REF!=18,3,0)","v":{"$error":"#REF!"}},{"$f":"IF(#REF!=19,2,0)","v":{"$error":"#REF!"}},{"$f":"IF(#REF!=20,1,0)","v":{"$error":"#REF!"}},{"$f":"IF(#REF!>20,0,0)","v":{"$error":"#REF!"}},{"$f":"IF(#REF!=\"сх\",0,0)","v":{"$error":"#REF!"}},{"$error":"#REF!"},{"$f":"IF(#REF!=1,45,0)","v":{"$error":"#REF!"}},{"$f":"IF(#REF!=2,42,0)","v":{"$error":"#REF!"}},{"$f":"IF(#REF!=3,40,0)","v":{"$error":"#REF!"}},{"$f":"IF(#REF!=4,38,0)","v":{"$error":"#REF!"}},{"$f":"IF(#REF!=5,36,0)","v":{"$error":"#REF!"}},{"$f":"IF(#REF!=6,35,0)","v":{"$error":"#REF!"}},{"$f":"IF(#REF!=7,34,0)","v":{"$error":"#REF!"}},{"$f":"IF(#REF!=8,33,0)","v":{"$error":"#REF!"}},{"$f":"IF(#REF!=9,32,0)","v":{"$error":"#REF!"}},{"$f":"IF(#REF!=10,31,0)","v":{"$error":"#REF!"}},{"$f":"IF(#REF!=11,30,0)","v":{"$error":"#REF!"}},{"$f":"IF(#REF!=12,29,0)","v":{"$error":"#REF!"}},{"$f":"IF(#REF!=13,28,0)","v":{"$error":"#REF!"}},{"$f":"IF(#REF!=14,27,0)","v":{"$error":"#REF!"}},{"$f":"IF(#REF!=15,26,0)","v":{"$error":"#REF!"}},{"$f":"IF(#REF!=16,25,0)","v":{"$error":"#REF!"}},{"$f":"IF(#REF!=17,24,0)","v":{"$error":"#REF!"}},{"$f":"IF(#REF!=18,23,0)","v":{"$error":"#REF!"}},{"$f":"IF(#REF!=19,22,0)","v":{"$error":"#REF!"}},{"$f":"IF(#REF!=20,21,0)","v":{"$error":"#REF!"}},{"$f":"IF(#REF!=21,20,0)","v":{"$error":"#REF!"}},{"$f":"IF(#REF!=22,19,0)","v":{"$error":"#REF!"}},{"$f":"IF(#REF!=23,18,0)","v":{"$error":"#REF!"}},{"$f":"IF(#REF!=24,17,0)","v":{"$error":"#REF!"}},{"$f":"IF(#REF!=25,16,0)","v":{"$error":"#REF!"}},{"$f":"IF(#REF!=26,15,0)","v":{"$error":"#REF!"}},{"$f":"IF(#REF!=27,14,0)","v":{"$error":"#REF!"}},{"$f":"IF(#REF!=28,13,0)","v":{"$error":"#REF!"}},{"$f":"IF(#REF!=29,12,0)","v":{"$error":"#REF!"}},{"$f":"IF(#REF!=30,11,0)","v":{"$error":"#REF!"}},{"$f":"IF(#REF!=31,10,0)","v":{"$error":"#REF!"}},{"$f":"IF(#REF!=32,9,0)","v":{"$error":"#REF!"}},{"$f":"IF(#REF!=33,8,0)","v":{"$error":"#REF!"}},{"$f":"IF(#REF!=34,7,0)","v":{"$error":"#REF!"}},{"$f":"IF(#REF!=35,6,0)","v":{"$error":"#REF!"}},{"$f":"IF(#REF!=36,5,0)","v":{"$error":"#REF!"}},{"$f":"IF(#REF!=37,4,0)","v":{"$error":"#REF!"}},{"$f":"IF(#REF!=38,3,0)","v":{"$error":"#REF!"}},{"$f":"IF(#REF!=39,2,0)","v":{"$error":"#REF!"}},{"$f":"IF(#REF!=40,1,0)","v":{"$error":"#REF!"}},{"$f":"IF(#REF!>20,0,0)","v":{"$error":"#REF!"}},{"$f":"IF(#REF!=\"сх\",0,0)","v":{"$error":"#REF!"}},{"$error":"#REF!"},{"$f":"IF(#REF!=1,45,0)","v":{"$error":"#REF!"}},{"$f":"IF(#REF!=2,42,0)","v":{"$error":"#REF!"}},{"$f":"IF(#REF!=3,40,0)","v":{"$error":"#REF!"}},{"$f":"IF(#REF!=4,38,0)","v":{"$error":"#REF!"}},{"$f":"IF(#REF!=5,36,0)","v":{"$error":"#REF!"}},{"$f":"IF(#REF!=6,35,0)","v":{"$error":"#REF!"}},{"$f":"IF(#REF!=7,34,0)","v":{"$error":"#REF!"}},{"$f":"IF(#REF!=8,33,0)","v":{"$error":"#REF!"}},{"$f":"IF(#REF!=9,32,0)","v":{"$error":"#REF!"}},{"$f":"IF(#REF!=10,31,0)","v":{"$error":"#REF!"}},{"$f":"IF(#REF!=11,30,0)","v":{"$error":"#REF!"}},{"$f":"IF(#REF!=12,29,0)","v":{"$error":"#REF!"}},{"$f":"IF(#REF!=13,28,0)","v":{"$error":"#REF!"}},{"$f":"IF(#REF!=14,27,0)","v":{"$error":"#REF!"}},{"$f":"IF(#REF!=15,26,0)","v":{"$error":"#REF!"}},{"$f":"IF(#REF!=16,25,0)","v":{"$error":"#REF!"}},{"$f":"IF(#REF!=17,24,0)","v":{"$error":"#REF!"}},{"$f":"IF(#REF!=18,23,0)","v":{"$error":"#REF!"}},{"$f":"IF(#REF!=19,22,0)","v":{"$error":"#REF!"}},{"$f":"IF(#REF!=20,21,0)","v":{"$error":"#REF!"}},{"$f":"IF(#REF!=21,20,0)","v":{"$error":"#REF!"}},{"$f":"IF(#REF!=22,19,0)","v":{"$error":"#REF!"}},{"$f":"IF(#REF!=23,18,0)","v":{"$error":"#REF!"}},{"$f":"IF(#REF!=24,17,0)","v":{"$error":"#REF!"}},{"$f":"IF(#REF!=25,16,0)","v":{"$error":"#REF!"}},{"$f":"IF(#REF!=26,15,0)","v":{"$error":"#REF!"}},{"$f":"IF(#REF!=27,14,0)","v":{"$error":"#REF!"}},{"$f":"IF(#REF!=28,13,0)","v":{"$error":"#REF!"}},{"$f":"IF(#REF!=29,12,0)","v":{"$error":"#REF!"}},{"$f":"IF(#REF!=30,11,0)","v":{"$error":"#REF!"}},{"$f":"IF(#REF!=31,10,0)","v":{"$error":"#REF!"}},{"$f":"IF(#REF!=32,9,0)","v":{"$error":"#REF!"}},{"$f":"IF(#REF!=33,8,0)","v":{"$error":"#REF!"}},{"$f":"IF(#REF!=34,7,0)","v":{"$error":"#REF!"}},{"$f":"IF(#REF!=35,6,0)","v":{"$error":"#REF!"}},{"$f":"IF(#REF!=36,5,0)","v":{"$error":"#REF!"}},{"$f":"IF(#REF!=37,4,0)","v":{"$error":"#REF!"}},{"$f":"IF(#REF!=38,3,0)","v":{"$error":"#REF!"}},{"$f":"IF(#REF!=39,2,0)","v":{"$error":"#REF!"}},{"$f":"IF(#REF!=40,1,0)","v":{"$error":"#REF!"}},{"$f":"IF(#REF!>20,0,0)","v":{"$error":"#REF!"}},{"$f":"IF(#REF!=\"сх\",0,0)","v":{"$error":"#REF!"}},{"$error":"#REF!"},null,{"$f":"IF(#REF!=\"сх\",\"ноль\",IF(#REF!>0,#REF!,\"Ноль\"))","v":{"$error":"#REF!"}},{"$f":"IF(#REF!=\"сх\",\"ноль\",IF(#REF!>0,#REF!,\"Ноль\"))","v":{"$error":"#REF!"}},null,{"$error":"#REF!"},{"$f":"IF(M12=#REF!,IF(#REF!<#REF!,#REF!,FB12),#REF!)","v":{"$error":"#REF!"}},{"$f":"IF(M12=#REF!,IF(#REF!<#REF!,0,1))","v":{"$error":"#REF!"}},{"$f":"IF(AND(EW12>=21,EW12<>0),EW12,IF(M12<#REF!,\"СТОП\",EX12+EY12))","v":{"$error":"#REF!"}},null,15,16,null,{"$f":"IF(#REF!=1,25,0)","v":{"$error":"#REF!"}},{"$f":"IF(#REF!=2,22,0)","v":{"$error":"#REF!"}},{"$f":"IF(#REF!=3,20,0)","v":{"$error":"#REF!"}},{"$f":"IF(#REF!=4,18,0)","v":{"$error":"#REF!"}},{"$f":"IF(#REF!=5,16,0)","v":{"$error":"#REF!"}},{"$f":"IF(#REF!=6,15,0)","v":{"$error":"#REF!"}},{"$f":"IF(#REF!=7,14,0)","v":{"$error":"#REF!"}},{"$f":"IF(#REF!=8,13,0)","v":{"$error":"#REF!"}},{"$f":"IF(#REF!=9,12,0)","v":{"$error":"#REF!"}},{"$f":"IF(#REF!=10,11,0)","v":{"$error":"#REF!"}},{"$f":"IF(#REF!=11,10,0)","v":{"$error":"#REF!"}},{"$f":"IF(#REF!=12,9,0)","v":{"$error":"#REF!"}},{"$f":"IF(#REF!=13,8,0)","v":{"$error":"#REF!"}},{"$f":"IF(#REF!=14,7,0)","v":{"$error":"#REF!"}},{"$f":"IF(#REF!=15,6,0)","v":{"$error":"#REF!"}},{"$f":"IF(#REF!=16,5,0)","v":{"$error":"#REF!"}},{"$f":"IF(#REF!=17,4,0)","v":{"$error":"#REF!"}},{"$f":"IF(#REF!=18,3,0)","v":{"$error":"#REF!"}},{"$f":"IF(#REF!=19,2,0)","v":{"$error":"#REF!"}},{"$f":"IF(#REF!=20,1,0)","v":{"$error":"#REF!"}},{"$f":"IF(#REF!>20,0,0)","v":{"$error":"#REF!"}},{"$f":"IF(#REF!=\"сх\",0,0)","v":{"$error":"#REF!"}},{"$error":"#REF!"},{"$f":"IF(#REF!=1,25,0)","v":{"$error":"#REF!"}},{"$f":"IF(#REF!=2,22,0)","v":{"$error":"#REF!"}},{"$f":"IF(#REF!=3,20,0)","v":{"$error":"#REF!"}},{"$f":"IF(#REF!=4,18,0)","v":{"$error":"#REF!"}},{"$f":"IF(#REF!=5,16,0)","v":{"$error":"#REF!"}},{"$f":"IF(#REF!=6,15,0)","v":{"$error":"#REF!"}},{"$f":"IF(#REF!=7,14,0)","v":{"$error":"#REF!"}},{"$f":"IF(#REF!=8,13,0)","v":{"$error":"#REF!"}},{"$f":"IF(#REF!=9,12,0)","v":{"$error":"#REF!"}},{"$f":"IF(#REF!=10,11,0)","v":{"$error":"#REF!"}},{"$f":"IF(#REF!=11,10,0)","v":{"$error":"#REF!"}},{"$f":"IF(#REF!=12,9,0)","v":{"$error":"#REF!"}},{"$f":"IF(#REF!=13,8,0)","v":{"$error":"#REF!"}},{"$f":"IF(#REF!=14,7,0)","v":{"$error":"#REF!"}},{"$f":"IF(#REF!=15,6,0)","v":{"$error":"#REF!"}},{"$f":"IF(#REF!=16,5,0)","v":{"$error":"#REF!"}},{"$f":"IF(#REF!=17,4,0)","v":{"$error":"#REF!"}},{"$f":"IF(#REF!=18,3,0)","v":{"$error":"#REF!"}},{"$f":"IF(#REF!=19,2,0)","v":{"$error":"#REF!"}},{"$f":"IF(#REF!=20,1,0)","v":{"$error":"#REF!"}},{"$f":"IF(#REF!>20,0,0)","v":{"$error":"#REF!"}},{"$f":"IF(#REF!=\"сх\",0,0)","v":{"$error":"#REF!"}},{"$error":"#REF!"},{"$f":"IF(#REF!=1,100,0)","v":{"$error":"#REF!"}},{"$f":"IF(#REF!=2,98,0)","v":{"$error":"#REF!"}},{"$f":"IF(#REF!=3,95,0)","v":{"$error":"#REF!"}},{"$f":"IF(#REF!=4,93,0)","v":{"$error":"#REF!"}},{"$f":"IF(#REF!=5,90,0)","v":{"$error":"#REF!"}},{"$f":"IF(#REF!=6,88,0)","v":{"$error":"#REF!"}},{"$f":"IF(#REF!=7,85,0)","v":{"$error":"#REF!"}},{"$f":"IF(#REF!=8,83,0)","v":{"$error":"#REF!"}},{"$f":"IF(#REF!=9,80,0)","v":{"$error":"#REF!"}},{"$f":"IF(#REF!=10,78,0)","v":{"$error":"#REF!"}},{"$f":"IF(#REF!=11,75,0)","v":{"$error":"#REF!"}},{"$f":"IF(#REF!=12,73,0)","v":{"$error":"#REF!"}},{"$f":"IF(#REF!=13,70,0)","v":{"$error":"#REF!"}},{"$f":"IF(#REF!=14,68,0)","v":{"$error":"#REF!"}},{"$f":"IF(#REF!=15,65,0)","v":{"$error":"#REF!"}},{"$f":"IF(#REF!=16,63,0)","v":{"$error":"#REF!"}},{"$f":"IF(#REF!=17,60,0)","v":{"$error":"#REF!"}},{"$f":"IF(#REF!=18,58,0)","v":{"$error":"#REF!"}},{"$f":"IF(#REF!=19,55,0)","v":{"$error":"#REF!"}},{"$f":"IF(#REF!=20,53,0)","v":{"$error":"#REF!"}},{"$f":"IF(#REF!>20,0,0)","v":{"$error":"#REF!"}},{"$f":"IF(#REF!=\"сх\",0,0)","v":{"$error":"#REF!"}},{"$error":"#REF!"},{"$f":"IF(#REF!=1,100,0)","v":{"$error":"#REF!"}},{"$f":"IF(#REF!=2,98,0)","v":{"$error":"#REF!"}},{"$f":"IF(#REF!=3,95,0)","v":{"$error":"#REF!"}},{"$f":"IF(#REF!=4,93,0)","v":{"$error":"#REF!"}},{"$f":"IF(#REF!=5,90,0)","v":{"$error":"#REF!"}},{"$f":"IF(#REF!=6,88,0)","v":{"$error":"#REF!"}},{"$f":"IF(#REF!=7,85,0)","v":{"$error":"#REF!"}},{"$f":"IF(#REF!=8,83,0)","v":{"$error":"#REF!"}},{"$f":"IF(#REF!=9,80,0)","v":{"$error":"#REF!"}},{"$f":"IF(#REF!=10,78,0)","v":{"$error":"#REF!"}},{"$f":"IF(#REF!=11,75,0)","v":{"$error":"#REF!"}},{"$f":"IF(#REF!=12,73,0)","v":{"$error":"#REF!"}},{"$f":"IF(#REF!=13,70,0)","v":{"$error":"#REF!"}},{"$f":"IF(#REF!=14,68,0)","v":{"$error":"#REF!"}},{"$f":"IF(#REF!=15,65,0)","v":{"$error":"#REF!"}},{"$f":"IF(#REF!=16,63,0)","v":{"$error":"#REF!"}},{"$f":"IF(#REF!=17,60,0)","v":{"$error":"#REF!"}},{"$f":"IF(#REF!=18,58,0)","v":{"$error":"#REF!"}},{"$f":"IF(#REF!=19,55,0)","v":{"$error":"#REF!"}},{"$f":"IF(#REF!=20,53,0)","v":{"$error":"#REF!"}},{"$f":"IF(#REF!>20,0,0)","v":{"$error":"#REF!"}},{"$f":"IF(#REF!=\"сх\",0,0)","v":{"$error":"#REF!"}},{"$error":"#REF!"}]
[4,22.5,102,"Прокопченко Евгений","б/р","г. Сургут, Ханты-Мансийский АО-Югра","лично","Polaris",4,18,5,16,34,{"$f":"#REF!+#REF!","v":{"$error":"#REF!"}},null,null,{"$f":"IF(#REF!=1,25,0)","v":{"$error":"#REF!"}},{"$f":"IF(#REF!=2,22,0)","v":{"$error":"#REF!"}},{"$f":"IF(#REF!=3,20,0)","v":{"$error":"#REF!"}},{"$f":"IF(#REF!=4,18,0)","v":{"$error":"#REF!"}},{"$f":"IF(#REF!=5,16,0)","v":{"$error":"#REF!"}},{"$f":"IF(#REF!=6,15,0)","v":{"$error":"#REF!"}},{"$f":"IF(#REF!=7,14,0)","v":{"$error":"#REF!"}},{"$f":"IF(#REF!=8,13,0)","v":{"$error":"#REF!"}},{"$f":"IF(#REF!=9,12,0)","v":{"$error":"#REF!"}},{"$f":"IF(#REF!=10,11,0)","v":{"$error":"#REF!"}},{"$f":"IF(#REF!=11,10,0)","v":{"$error":"#REF!"}},{"$f":"IF(#REF!=12,9,0)","v":{"$error":"#REF!"}},{"$f":"IF(#REF!=13,8,0)","v":{"$error":"#REF!"}},{"$f":"IF(#REF!=14,7,0)","v":{"$error":"#REF!"}},{"$f":"IF(#REF!=15,6,0)","v":{"$error":"#REF!"}},{"$f":"IF(#REF!=16,5,0)","v":{"$error":"#REF!"}},{"$f":"IF(#REF!=17,4,0)","v":{"$error":"#REF!"}},{"$f":"IF(#REF!=18,3,0)","v":{"$error":"#REF!"}},{"$f":"IF(#REF!=19,2,0)","v":{"$error":"#REF!"}},{"$f":"IF(#REF!=20,1,0)","v":{"$error":"#REF!"}},{"$f":"IF(#REF!>20,0,0)","v":{"$error":"#REF!"}},{"$f":"IF(#REF!=\"сх\",0,0)","v":{"$error":"#REF!"}},{"$error":"#REF!"},{"$f":"IF(#REF!=1,25,0)","v":{"$error":"#REF!"}},{"$f":"IF(#REF!=2,22,0)","v":{"$error":"#REF!"}},{"$f":"IF(#REF!=3,20,0)","v":{"$error":"#REF!"}},{"$f":"IF(#REF!=4,18,0)","v":{"$error":"#REF!"}},{"$f":"IF(#REF!=5,16,0)","v":{"$error":"#REF!"}},{"$f":"IF(#REF!=6,15,0)","v":{"$error":"#REF!"}},{"$f":"IF(#REF!=7,14,0)","v":{"$error":"#REF!"}},{"$f":"IF(#REF!=8,13,0)","v":{"$error":"#REF!"}},{"$f":"IF(#REF!=9,12,0)","v":{"$error":"#REF!"}},{"$f":"IF(#REF!=10,11,0)","v":{"$error":"#REF!"}},{"$f":"IF(#REF!=11,10,0)","v":{"$error":"#REF!"}},{"$f":"IF(#REF!=12,9,0)","v":{"$error":"#REF!"}},{"$f":"IF(#REF!=13,8,0)","v":{"$error":"#REF!"}},{"$f":"IF(#REF!=14,7,0)","v":{"$error":"#REF!"}},{"$f":"IF(#REF!=15,6,0)","v":{"$error":"#REF!"}},{"$f":"IF(#REF!=16,5,0)","v":{"$error":"#REF!"}},{"$f":"IF(#REF!=17,4,0)","v":{"$error":"#REF!"}},{"$f":"IF(#REF!=18,3,0)","v":{"$error":"#REF!"}},{"$f":"IF(#REF!=19,2,0)","v":{"$error":"#REF!"}},{"$f":"IF(#REF!=20,1,0)","v":{"$error":"#REF!"}},{"$f":"IF(#REF!>20,0,0)","v":{"$error":"#REF!"}},{"$f":"IF(#REF!=\"сх\",0,0)","v":{"$error":"#REF!"}},{"$error":"#REF!"},{"$f":"IF(#REF!=1,45,0)","v":{"$error":"#REF!"}},{"$f":"IF(#REF!=2,42,0)","v":{"$error":"#REF!"}},{"$f":"IF(#REF!=3,40,0)","v":{"$error":"#REF!"}},{"$f":"IF(#REF!=4,38,0)","v":{"$error":"#REF!"}},{"$f":"IF(#REF!=5,36,0)","v":{"$error":"#REF!"}},{"$f":"IF(#REF!=6,35,0)","v":{"$error":"#REF!"}},{"$f":"IF(#REF!=7,34,0)","v":{"$error":"#REF!"}},{"$f":"IF(#REF!=8,33,0)","v":{"$error":"#REF!"}},{"$f":"IF(#REF!=9,32,0)","v":{"$error":"#REF!"}},{"$f":"IF(#REF!=10,31,0)","v":{"$error":"#REF!"}},{"$f":"IF(#REF!=11,30,0)","v":{"$error":"#REF!"}},{"$f":"IF(#REF!=12,29,0)","v":{"$error":"#REF!"}},{"$f":"IF(#REF!=13,28,0)","v":{"$error":"#REF!"}},{"$f":"IF(#REF!=14,27,0)","v":{"$error":"#REF!"}},{"$f":"IF(#REF!=15,26,0)","v":{"$error":"#REF!"}},{"$f":"IF(#REF!=16,25,0)","v":{"$error":"#REF!"}},{"$f":"IF(#REF!=17,24,0)","v":{"$error":"#REF!"}},{"$f":"IF(#REF!=18,23,0)","v":{"$error":"#REF!"}},{"$f":"IF(#REF!=19,22,0)","v":{"$error":"#REF!"}},{"$f":"IF(#REF!=20,21,0)","v":{"$error":"#REF!"}},{"$f":"IF(#REF!=21,20,0)","v":{"$error":"#REF!"}},{"$f":"IF(#REF!=22,19,0)","v":{"$error":"#REF!"}},{"$f":"IF(#REF!=23,18,0)","v":{"$error":"#REF!"}},{"$f":"IF(#REF!=24,17,0)","v":{"$error":"#REF!"}},{"$f":"IF(#REF!=25,16,0)","v":{"$error":"#REF!"}},{"$f":"IF(#REF!=26,15,0)","v":{"$error":"#REF!"}},{"$f":"IF(#REF!=27,14,0)","v":{"$error":"#REF!"}},{"$f":"IF(#REF!=28,13,0)","v":{"$error":"#REF!"}},{"$f":"IF(#REF!=29,12,0)","v":{"$error":"#REF!"}},{"$f":"IF(#REF!=30,11,0)","v":{"$error":"#REF!"}},{"$f":"IF(#REF!=31,10,0)","v":{"$error":"#REF!"}},{"$f":"IF(#REF!=32,9,0)","v":{"$error":"#REF!"}},{"$f":"IF(#REF!=33,8,0)","v":{"$error":"#REF!"}},{"$f":"IF(#REF!=34,7,0)","v":{"$error":"#REF!"}},{"$f":"IF(#REF!=35,6,0)","v":{"$error":"#REF!"}},{"$f":"IF(#REF!=36,5,0)","v":{"$error":"#REF!"}},{"$f":"IF(#REF!=37,4,0)","v":{"$error":"#REF!"}},{"$f":"IF(#REF!=38,3,0)","v":{"$error":"#REF!"}},{"$f":"IF(#REF!=39,2,0)","v":{"$error":"#REF!"}},{"$f":"IF(#REF!=40,1,0)","v":{"$error":"#REF!"}},{"$f":"IF(#REF!>20,0,0)","v":{"$error":"#REF!"}},{"$f":"IF(#REF!=\"сх\",0,0)","v":{"$error":"#REF!"}},{"$error":"#REF!"},{"$f":"IF(#REF!=1,45,0)","v":{"$error":"#REF!"}},{"$f":"IF(#REF!=2,42,0)","v":{"$error":"#REF!"}},{"$f":"IF(#REF!=3,40,0)","v":{"$error":"#REF!"}},{"$f":"IF(#REF!=4,38,0)","v":{"$error":"#REF!"}},{"$f":"IF(#REF!=5,36,0)","v":{"$error":"#REF!"}},{"$f":"IF(#REF!=6,35,0)","v":{"$error":"#REF!"}},{"$f":"IF(#REF!=7,34,0)","v":{"$error":"#REF!"}},{"$f":"IF(#REF!=8,33,0)","v":{"$error":"#REF!"}},{"$f":"IF(#REF!=9,32,0)","v":{"$error":"#REF!"}},{"$f":"IF(#REF!=10,31,0)","v":{"$error":"#REF!"}},{"$f":"IF(#REF!=11,30,0)","v":{"$error":"#REF!"}},{"$f":"IF(#REF!=12,29,0)","v":{"$error":"#REF!"}},{"$f":"IF(#REF!=13,28,0)","v":{"$error":"#REF!"}},{"$f":"IF(#REF!=14,27,0)","v":{"$error":"#REF!"}},{"$f":"IF(#REF!=15,26,0)","v":{"$error":"#REF!"}},{"$f":"IF(#REF!=16,25,0)","v":{"$error":"#REF!"}},{"$f":"IF(#REF!=17,24,0)","v":{"$error":"#REF!"}},{"$f":"IF(#REF!=18,23,0)","v":{"$error":"#REF!"}},{"$f":"IF(#REF!=19,22,0)","v":{"$error":"#REF!"}},{"$f":"IF(#REF!=20,21,0)","v":{"$error":"#REF!"}},{"$f":"IF(#REF!=21,20,0)","v":{"$error":"#REF!"}},{"$f":"IF(#REF!=22,19,0)","v":{"$error":"#REF!"}},{"$f":"IF(#REF!=23,18,0)","v":{"$error":"#REF!"}},{"$f":"IF(#REF!=24,17,0)","v":{"$error":"#REF!"}},{"$f":"IF(#REF!=25,16,0)","v":{"$error":"#REF!"}},{"$f":"IF(#REF!=26,15,0)","v":{"$error":"#REF!"}},{"$f":"IF(#REF!=27,14,0)","v":{"$error":"#REF!"}},{"$f":"IF(#REF!=28,13,0)","v":{"$error":"#REF!"}},{"$f":"IF(#REF!=29,12,0)","v":{"$error":"#REF!"}},{"$f":"IF(#REF!=30,11,0)","v":{"$error":"#REF!"}},{"$f":"IF(#REF!=31,10,0)","v":{"$error":"#REF!"}},{"$f":"IF(#REF!=32,9,0)","v":{"$error":"#REF!"}},{"$f":"IF(#REF!=33,8,0)","v":{"$error":"#REF!"}},{"$f":"IF(#REF!=34,7,0)","v":{"$error":"#REF!"}},{"$f":"IF(#REF!=35,6,0)","v":{"$error":"#REF!"}},{"$f":"IF(#REF!=36,5,0)","v":{"$error":"#REF!"}},{"$f":"IF(#REF!=37,4,0)","v":{"$error":"#REF!"}},{"$f":"IF(#REF!=38,3,0)","v":{"$error":"#REF!"}},{"$f":"IF(#REF!=39,2,0)","v":{"$error":"#REF!"}},{"$f":"IF(#REF!=40,1,0)","v":{"$error":"#REF!"}},{"$f":"IF(#REF!>20,0,0)","v":{"$error":"#REF!"}},{"$f":"IF(#REF!=\"сх\",0,0)","v":{"$error":"#REF!"}},{"$error":"#REF!"},null,{"$f":"IF(#REF!=\"сх\",\"ноль\",IF(#REF!>0,#REF!,\"Ноль\"))","v":{"$error":"#REF!"}},{"$f":"IF(#REF!=\"сх\",\"ноль\",IF(#REF!>0,#REF!,\"Ноль\"))","v":{"$error":"#REF!"}},null,{"$error":"#REF!"},{"$f":"IF(M13=#REF!,IF(#REF!<#REF!,#REF!,FB13),#REF!)","v":{"$error":"#REF!"}},{"$f":"IF(M13=#REF!,IF(#REF!<#REF!,0,1))","v":{"$error":"#REF!"}},{"$f":"IF(AND(EW13>=21,EW13<>0),EW13,IF(M13<#REF!,\"СТОП\",EX13+EY13))","v":{"$error":"#REF!"}},null,15,16,null,{"$f":"IF(#REF!=1,25,0)","v":{"$error":"#REF!"}},{"$f":"IF(#REF!=2,22,0)","v":{"$error":"#REF!"}},{"$f":"IF(#REF!=3,20,0)","v":{"$error":"#REF!"}},{"$f":"IF(#REF!=4,18,0)","v":{"$error":"#REF!"}},{"$f":"IF(#REF!=5,16,0)","v":{"$error":"#REF!"}},{"$f":"IF(#REF!=6,15,0)","v":{"$error":"#REF!"}},{"$f":"IF(#REF!=7,14,0)","v":{"$error":"#REF!"}},{"$f":"IF(#REF!=8,13,0)","v":{"$error":"#REF!"}},{"$f":"IF(#REF!=9,12,0)","v":{"$error":"#REF!"}},{"$f":"IF(#REF!=10,11,0)","v":{"$error":"#REF!"}},{"$f":"IF(#REF!=11,10,0)","v":{"$error":"#REF!"}},{"$f":"IF(#REF!=12,9,0)","v":{"$error":"#REF!"}},{"$f":"IF(#REF!=13,8,0)","v":{"$error":"#REF!"}},{"$f":"IF(#REF!=14,7,0)","v":{"$error":"#REF!"}},{"$f":"IF(#REF!=15,6,0)","v":{"$error":"#REF!"}},{"$f":"IF(#REF!=16,5,0)","v":{"$error":"#REF!"}},{"$f":"IF(#REF!=17,4,0)","v":{"$error":"#REF!"}},{"$f":"IF(#REF!=18,3,0)","v":{"$error":"#REF!"}},{"$f":"IF(#REF!=19,2,0)","v":{"$error":"#REF!"}},{"$f":"IF(#REF!=20,1,0)","v":{"$error":"#REF!"}},{"$f":"IF(#REF!>20,0,0)","v":{"$error":"#REF!"}},{"$f":"IF(#REF!=\"сх\",0,0)","v":{"$error":"#REF!"}},{"$error":"#REF!"},{"$f":"IF(#REF!=1,25,0)","v":{"$error":"#REF!"}},{"$f":"IF(#REF!=2,22,0)","v":{"$error":"#REF!"}},{"$f":"IF(#REF!=3,20,0)","v":{"$error":"#REF!"}},{"$f":"IF(#REF!=4,18,0)","v":{"$error":"#REF!"}},{"$f":"IF(#REF!=5,16,0)","v":{"$error":"#REF!"}},{"$f":"IF(#REF!=6,15,0)","v":{"$error":"#REF!"}},{"$f":"IF(#REF!=7,14,0)","v":{"$error":"#REF!"}},{"$f":"IF(#REF!=8,13,0)","v":{"$error":"#REF!"}},{"$f":"IF(#REF!=9,12,0)","v":{"$error":"#REF!"}},{"$f":"IF(#REF!=10,11,0)","v":{"$error":"#REF!"}},{"$f":"IF(#REF!=11,10,0)","v":{"$error":"#REF!"}},{"$f":"IF(#REF!=12,9,0)","v":{"$error":"#REF!"}},{"$f":"IF(#REF!=13,8,0)","v":{"$error":"#REF!"}},{"$f":"IF(#REF!=14,7,0)","v":{"$error":"#REF!"}},{"$f":"IF(#REF!=15,6,0)","v":{"$error":"#REF!"}},{"$f":"IF(#REF!=16,5,0)","v":{"$error":"#REF!"}},{"$f":"IF(#REF!=17,4,0)","v":{"$error":"#REF!"}},{"$f":"IF(#REF!=18,3,0)","v":{"$error":"#REF!"}},{"$f":"IF(#REF!=19,2,0)","v":{"$error":"#REF!"}},{"$f":"IF(#REF!=20,1,0)","v":{"$error":"#REF!"}},{"$f":"IF(#REF!>20,0,0)","v":{"$error":"#REF!"}},{"$f":"IF(#REF!=\"сх\",0,0)","v":{"$error":"#REF!"}},{"$error":"#REF!"},{"$f":"IF(#REF!=1,100,0)","v":{"$error":"#REF!"}},{"$f":"IF(#REF!=2,98,0)","v":{"$error":"#REF!"}},{"$f":"IF(#REF!=3,95,0)","v":{"$error":"#REF!"}},{"$f":"IF(#REF!=4,93,0)","v":{"$error":"#REF!"}},{"$f":"IF(#REF!=5,90,0)","v":{"$error":"#REF!"}},{"$f":"IF(#REF!=6,88,0)","v":{"$error":"#REF!"}},{"$f":"IF(#REF!=7,85,0)","v":{"$error":"#REF!"}},{"$f":"IF(#REF!=8,83,0)","v":{"$error":"#REF!"}},{"$f":"IF(#REF!=9,80,0)","v":{"$error":"#REF!"}},{"$f":"IF(#REF!=10,78,0)","v":{"$error":"#REF!"}},{"$f":"IF(#REF!=11,75,0)","v":{"$error":"#REF!"}},{"$f":"IF(#REF!=12,73,0)","v":{"$error":"#REF!"}},{"$f":"IF(#REF!=13,70,0)","v":{"$error":"#REF!"}},{"$f":"IF(#REF!=14,68,0)","v":{"$error":"#REF!"}},{"$f":"IF(#REF!=15,65,0)","v":{"$error":"#REF!"}},{"$f":"IF(#REF!=16,63,0)","v":{"$error":"#REF!"}},{"$f":"IF(#REF!=17,60,0)","v":{"$error":"#REF!"}},{"$f":"IF(#REF!=18,58,0)","v":{"$error":"#REF!"}},{"$f":"IF(#REF!=19,55,0)","v":{"$error":"#REF!"}},{"$f":"IF(#REF!=20,53,0)","v":{"$error":"#REF!"}},{"$f":"IF(#REF!>20,0,0)","v":{"$error":"#REF!"}},{"$f":"IF(#REF!=\"сх\",0,0)","v":{"$error":"#REF!"}},{"$error":"#REF!"},{"$f":"IF(#REF!=1,100,0)","v":{"$error":"#REF!"}},{"$f":"IF(#REF!=2,98,0)","v":{"$error":"#REF!"}},{"$f":"IF(#REF!=3,95,0)","v":{"$error":"#REF!"}},{"$f":"IF(#REF!=4,93,0)","v":{"$error":"#REF!"}},{"$f":"IF(#REF!=5,90,0)","v":{"$error":"#REF!"}},{"$f":"IF(#REF!=6,88,0)","v":{"$error":"#REF!"}},{"$f":"IF(#REF!=7,85,0)","v":{"$error":"#REF!"}},{"$f":"IF(#REF!=8,83,0)","v":{"$error":"#REF!"}},{"$f":"IF(#REF!=9,80,0)","v":{"$error":"#REF!"}},{"$f":"IF(#REF!=10,78,0)","v":{"$error":"#REF!"}},{"$f":"IF(#REF!=11,75,0)","v":{"$error":"#REF!"}},{"$f":"IF(#REF!=12,73,0)","v":{"$error":"#REF!"}},{"$f":"IF(#REF!=13,70,0)","v":{"$error":"#REF!"}},{"$f":"IF(#REF!=14,68,0)","v":{"$error":"#REF!"}},{"$f":"IF(#REF!=15,65,0)","v":{"$error":"#REF!"}},{"$f":"IF(#REF!=16,63,0)","v":{"$error":"#REF!"}},{"$f":"IF(#REF!=17,60,0)","v":{"$error":"#REF!"}},{"$f":"IF(#REF!=18,58,0)","v":{"$error":"#REF!"}},{"$f":"IF(#REF!=19,55,0)","v":{"$error":"#REF!"}},{"$f":"IF(#REF!=20,53,0)","v":{"$error":"#REF!"}},{"$f":"IF(#REF!>20,0,0)","v":{"$error":"#REF!"}},{"$f":"IF(#REF!=\"сх\",0,0)","v":{"$error":"#REF!"}},{"$error":"#REF!"}]
[5,22,125,"Григорьев Евгений","б/р","г. Новый Уренгой, Ямало-Ненецкий АО","МАУ МЦ \"НОРД\"","Yam",6,15,4,18,33,{"$f":"#REF!+#REF!","v":{"$error":"#REF!"}},null,null,{"$f":"IF(#REF!=1,25,0)","v":{"$error":"#REF!"}},{"$f":"IF(#REF!=2,22,0)","v":{"$error":"#REF!"}},{"$f":"IF(#REF!=3,20,0)","v":{"$error":"#REF!"}},{"$f":"IF(#REF!=4,18,0)","v":{"$error":"#REF!"}},{"$f":"IF(#REF!=5,16,0)","v":{"$error":"#REF!"}},{"$f":"IF(#REF!=6,15,0)","v":{"$error":"#REF!"}},{"$f":"IF(#REF!=7,14,0)","v":{"$error":"#REF!"}},{"$f":"IF(#REF!=8,13,0)","v":{"$error":"#REF!"}},{"$f":"IF(#REF!=9,12,0)","v":{"$error":"#REF!"}},{"$f":"IF(#REF!=10,11,0)","v":{"$error":"#REF!"}},{"$f":"IF(#REF!=11,10,0)","v":{"$error":"#REF!"}},{"$f":"IF(#REF!=12,9,0)","v":{"$error":"#REF!"}},{"$f":"IF(#REF!=13,8,0)","v":{"$error":"#REF!"}},{"$f":"IF(#REF!=14,7,0)","v":{"$error":"#REF!"}},{"$f":"IF(#REF!=15,6,0)","v":{"$error":"#REF!"}},{"$f":"IF(#REF!=16,5,0)","v":{"$error":"#REF!"}},{"$f":"IF(#REF!=17,4,0)","v":{"$error":"#REF!"}},{"$f":"IF(#REF!=18,3,0)","v":{"$error":"#REF!"}},{"$f":"IF(#REF!=19,2,0)","v":{"$error":"#REF!"}},{"$f":"IF(#REF!=20,1,0)","v":{"$error":"#REF!"}},{"$f":"IF(#REF!>20,0,0)","v":{"$error":"#REF!"}},{"$f":"IF(#REF!=\"сх\",0,0)","v":{"$error":"#REF!"}},{"$error":"#REF!"},{"$f":"IF(#REF!=1,25,0)","v":{"$error":"#REF!"}},{"$f":"IF(#REF!=2,22,0)","v":{"$error":"#REF!"}},{"$f":"IF(#REF!=3,20,0)","v":{"$error":"#REF!"}},{"$f":"IF(#REF!=4,18,0)","v":{"$error":"#REF!"}},{"$f":"IF(#REF!=5,16,0)","v":{"$error":"#REF!"}},{"$f":"IF(#REF!=6,15,0)","v":{"$error":"#REF!"}},{"$f":"IF(#REF!=7,14,0)","v":{"$error":"#REF!"}},{"$f":"IF(#REF!=8,13,0)","v":{"$error":"#REF!"}},{"$f":"IF(#REF!=9,12,0)","v":{"$error":"#REF!"}},{"$f":"IF(#REF!=10,11,0)","v":{"$error":"#REF!"}},{"$f":"IF(#REF!=11,10,0)","v":{"$error":"#REF!"}},{"$f":"IF(#REF!=12,9,0)","v":{"$error":"#REF!"}},{"$f":"IF(#REF!=13,8,0)","v":{"$error":"#REF!"}},{"$f":"IF(#REF!=14,7,0)","v":{"$error":"#REF!"}},{"$f":"IF(#REF!=15,6,0)","v":{"$error":"#REF!"}},{"$f":"IF(#REF!=16,5,0)","v":{"$error":"#REF!"}},{"$f":"IF(#REF!=17,4,0)","v":{"$error":"#REF!"}},{"$f":"IF(#REF!=18,3,0)","v":{"$error":"#REF!"}},{"$f":"IF(#REF!=19,2,0)","v":{"$error":"#REF!"}},{"$f":"IF(#REF!=20,1,0)","v":{"$error":"#REF!"}},{"$f":"IF(#REF!>20,0,0)","v":{"$error":"#REF!"}},{"$f":"IF(#REF!=\"сх\",0,0)","v":{"$error":"#REF!"}},{"$error":"#REF!"},{"$f":"IF(#REF!=1,45,0)","v":{"$error":"#REF!"}},{"$f":"IF(#REF!=2,42,0)","v":{"$error":"#REF!"}},{"$f":"IF(#REF!=3,40,0)","v":{"$error":"#REF!"}},{"$f":"IF(#REF!=4,38,0)","v":{"$error":"#REF!"}},{"$f":"IF(#REF!=5,36,0)","v":{"$error":"#REF!"}},{"$f":"IF(#REF!=6,35,0)","v":{"$error":"#REF!"}},{"$f":"IF(#REF!=7,34,0)","v":{"$error":"#REF!"}},{"$f":"IF(#REF!=8,33,0)","v":{"$error":"#REF!"}},{"$f":"IF(#REF!=9,32,0)","v":{"$error":"#REF!"}},{"$f":"IF(#REF!=10,31,0)","v":{"$error":"#REF!"}},{"$f":"IF(#REF!=11,30,0)","v":{"$error":"#REF!"}},{"$f":"IF(#REF!=12,29,0)","v":{"$error":"#REF!"}},{"$f":"IF(#REF!=13,28,0)","v":{"$error":"#REF!"}},{"$f":"IF(#REF!=14,27,0)","v":{"$error":"#REF!"}},{"$f":"IF(#REF!=15,26,0)","v":{"$error":"#REF!"}},{"$f":"IF(#REF!=16,25,0)","v":{"$error":"#REF!"}},{"$f":"IF(#REF!=17,24,0)","v":{"$error":"#REF!"}},{"$f":"IF(#REF!=18,23,0)","v":{"$error":"#REF!"}},{"$f":"IF(#REF!=19,22,0)","v":{"$error":"#REF!"}},{"$f":"IF(#REF!=20,21,0)","v":{"$error":"#REF!"}},{"$f":"IF(#REF!=21,20,0)","v":{"$error":"#REF!"}},{"$f":"IF(#REF!=22,19,0)","v":{"$error":"#REF!"}},{"$f":"IF(#REF!=23,18,0)","v":{"$error":"#REF!"}},{"$f":"IF(#REF!=24,17,0)","v":{"$error":"#REF!"}},{"$f":"IF(#REF!=25,16,0)","v":{"$error":"#REF!"}},{"$f":"IF(#REF!=26,15,0)","v":{"$error":"#REF!"}},{"$f":"IF(#REF!=27,14,0)","v":{"$error":"#REF!"}},{"$f":"IF(#REF!=28,13,0)","v":{"$error":"#REF!"}},{"$f":"IF(#REF!=29,12,0)","v":{"$error":"#REF!"}},{"$f":"IF(#REF!=30,11,0)","v":{"$error":"#REF!"}},{"$f":"IF(#REF!=31,10,0)","v":{"$error":"#REF!"}},{"$f":"IF(#REF!=32,9,0)","v":{"$error":"#REF!"}},{"$f":"IF(#REF!=33,8,0)","v":{"$error":"#REF!"}},{"$f":"IF(#REF!=34,7,0)","v":{"$error":"#REF!"}},{"$f":"IF(#REF!=35,6,0)","v":{"$error":"#REF!"}},{"$f":"IF(#REF!=36,5,0)","v":{"$error":"#REF!"}},{"$f":"IF(#REF!=37,4,0)","v":{"$error":"#REF!"}},{"$f":"IF(#REF!=38,3,0)","v":{"$error":"#REF!"}},{"$f":"IF(#REF!=39,2,0)","v":{"$error":"#REF!"}},{"$f":"IF(#REF!=40,1,0)","v":{"$error":"#REF!"}},{"$f":"IF(#REF!>20,0,0)","v":{"$error":"#REF!"}},{"$f":"IF(#REF!=\"сх\",0,0)","v":{"$error":"#REF!"}},{"$error":"#REF!"},{"$f":"IF(#REF!=1,45,0)","v":{"$error":"#REF!"}},{"$f":"IF(#REF!=2,42,0)","v":{"$error":"#REF!"}},{"$f":"IF(#REF!=3,40,0)","v":{"$error":"#REF!"}},{"$f":"IF(#REF!=4,38,0)","v":{"$error":"#REF!"}},{"$f":"IF(#REF!=5,36,0)","v":{"$error":"#REF!"}},{"$f":"IF(#REF!=6,35,0)","v":{"$error":"#REF!"}},{"$f":"IF(#REF!=7,34,0)","v":{"$error":"#REF!"}},{"$f":"IF(#REF!=8,33,0)","v":{"$error":"#REF!"}},{"$f":"IF(#REF!=9,32,0)","v":{"$error":"#REF!"}},{"$f":"IF(#REF!=10,31,0)","v":{"$error":"#REF!"}},{"$f":"IF(#REF!=11,30,0)","v":{"$error":"#REF!"}},{"$f":"IF(#REF!=12,29,0)","v":{"$error":"#REF!"}},{"$f":"IF(#REF!=13,28,0)","v":{"$error":"#REF!"}},{"$f":"IF(#REF!=14,27,0)","v":{"$error":"#REF!"}},{"$f":"IF(#REF!=15,26,0)","v":{"$error":"#REF!"}},{"$f":"IF(#REF!=16,25,0)","v":{"$error":"#REF!"}},{"$f":"IF(#REF!=17,24,0)","v":{"$error":"#REF!"}},{"$f":"IF(#REF!=18,23,0)","v":{"$error":"#REF!"}},{"$f":"IF(#REF!=19,22,0)","v":{"$error":"#REF!"}},{"$f":"IF(#REF!=20,21,0)","v":{"$error":"#REF!"}},{"$f":"IF(#REF!=21,20,0)","v":{"$error":"#REF!"}},{"$f":"IF(#REF!=22,19,0)","v":{"$error":"#REF!"}},{"$f":"IF(#REF!=23,18,0)","v":{"$error":"#REF!"}},{"$f":"IF(#REF!=24,17,0)","v":{"$error":"#REF!"}},{"$f":"IF(#REF!=25,16,0)","v":{"$error":"#REF!"}},{"$f":"IF(#REF!=26,15,0)","v":{"$error":"#REF!"}},{"$f":"IF(#REF!=27,14,0)","v":{"$error":"#REF!"}},{"$f":"IF(#REF!=28,13,0)","v":{"$error":"#REF!"}},{"$f":"IF(#REF!=29,12,0)","v":{"$error":"#REF!"}},{"$f":"IF(#REF!=30,11,0)","v":{"$error":"#REF!"}},{"$f":"IF(#REF!=31,10,0)","v":{"$error":"#REF!"}},{"$f":"IF(#REF!=32,9,0)","v":{"$error":"#REF!"}},{"$f":"IF(#REF!=33,8,0)","v":{"$error":"#REF!"}},{"$f":"IF(#REF!=34,7,0)","v":{"$error":"#REF!"}},{"$f":"IF(#REF!=35,6,0)","v":{"$error":"#REF!"}},{"$f":"IF(#REF!=36,5,0)","v":{"$error":"#REF!"}},{"$f":"IF(#REF!=37,4,0)","v":{"$error":"#REF!"}},{"$f":"IF(#REF!=38,3,0)","v":{"$error":"#REF!"}},{"$f":"IF(#REF!=39,2,0)","v":{"$error":"#REF!"}},{"$f":"IF(#REF!=40,1,0)","v":{"$error":"#REF!"}},{"$f":"IF(#REF!>20,0,0)","v":{"$error":"#REF!"}},{"$f":"IF(#REF!=\"сх\",0,0)","v":{"$error":"#REF!"}},{"$error":"#REF!"},null,{"$f":"IF(#REF!=\"сх\",\"ноль\",IF(#REF!>0,#REF!,\"Ноль\"))","v":{"$error":"#REF!"}},{"$f":"IF(#REF!=\"сх\",\"ноль\",IF(#REF!>0,#REF!,\"Ноль\"))","v":{"$error":"#REF!"}},null,{"$error":"#REF!"},{"$f":"IF(M14=#REF!,IF(#REF!<#REF!,#REF!,FB14),#REF!)","v":{"$error":"#REF!"}},{"$f":"IF(M14=#REF!,IF(#REF!<#REF!,0,1))","v":{"$error":"#REF!"}},{"$f":"IF(AND(EW14>=21,EW14<>0),EW14,IF(M14<#REF!,\"СТОП\",EX14+EY14))","v":{"$error":"#REF!"}},null,15,16,null,{"$f":"IF(#REF!=1,25,0)","v":{"$error":"#REF!"}},{"$f":"IF(#REF!=2,22,0)","v":{"$error":"#REF!"}},{"$f":"IF(#REF!=3,20,0)","v":{"$error":"#REF!"}},{"$f":"IF(#REF!=4,18,0)","v":{"$error":"#REF!"}},{"$f":"IF(#REF!=5,16,0)","v":{"$error":"#REF!"}},{"$f":"IF(#REF!=6,15,0)","v":{"$error":"#REF!"}},{"$f":"IF(#REF!=7,14,0)","v":{"$error":"#REF!"}},{"$f":"IF(#REF!=8,13,0)","v":{"$error":"#REF!"}},{"$f":"IF(#REF!=9,12,0)","v":{"$error":"#REF!"}},{"$f":"IF(#REF!=10,11,0)","v":{"$error":"#REF!"}},{"$f":"IF(#REF!=11,10,0)","v":{"$error":"#REF!"}},{"$f":"IF(#REF!=12,9,0)","v":{"$error":"#REF!"}},{"$f":"IF(#REF!=13,8,0)","v":{"$error":"#REF!"}},{"$f":"IF(#REF!=14,7,0)","v":{"$error":"#REF!"}},{"$f":"IF(#REF!=15,6,0)","v":{"$error":"#REF!"}},{"$f":"IF(#REF!=16,5,0)","v":{"$error":"#REF!"}},{"$f":"IF(#REF!=17,4,0)","v":{"$error":"#REF!"}},{"$f":"IF(#REF!=18,3,0)","v":{"$error":"#REF!"}},{"$f":"IF(#REF!=19,2,0)","v":{"$error":"#REF!"}},{"$f":"IF(#REF!=20,1,0)","v":{"$error":"#REF!"}},{"$f":"IF(#REF!>20,0,0)","v":{"$error":"#REF!"}},{"$f":"IF(#REF!=\"сх\",0,0)","v":{"$error":"#REF!"}},{"$error":"#REF!"},{"$f":"IF(#REF!=1,25,0)","v":{"$error":"#REF!"}},{"$f":"IF(#REF!=2,22,0)","v":{"$error":"#REF!"}},{"$f":"IF(#REF!=3,20,0)","v":{"$error":"#REF!"}},{"$f":"IF(#REF!=4,18,0)","v":{"$error":"#REF!"}},{"$f":"IF(#REF!=5,16,0)","v":{"$error":"#REF!"}},{"$f":"IF(#REF!=6,15,0)","v":{"$error":"#REF!"}},{"$f":"IF(#REF!=7,14,0)","v":{"$error":"#REF!"}},{"$f":"IF(#REF!=8,13,0)","v":{"$error":"#REF!"}},{"$f":"IF(#REF!=9,12,0)","v":{"$error":"#REF!"}},{"$f":"IF(#REF!=10,11,0)","v":{"$error":"#REF!"}},{"$f":"IF(#REF!=11,10,0)","v":{"$error":"#REF!"}},{"$f":"IF(#REF!=12,9,0)","v":{"$error":"#REF!"}},{"$f":"IF(#REF!=13,8,0)","v":{"$error":"#REF!"}},{"$f":"IF(#REF!=14,7,0)","v":{"$error":"#REF!"}},{"$f":"IF(#REF!=15,6,0)","v":{"$error":"#REF!"}},{"$f":"IF(#REF!=16,5,0)","v":{"$error":"#REF!"}},{"$f":"IF(#REF!=17,4,0)","v":{"$error":"#REF!"}},{"$f":"IF(#REF!=18,3,0)","v":{"$error":"#REF!"}},{"$f":"IF(#REF!=19,2,0)","v":{"$error":"#REF!"}},{"$f":"IF(#REF!=20,1,0)","v":{"$error":"#REF!"}},{"$f":"IF(#REF!>20,0,0)","v":{"$error":"#REF!"}},{"$f":"IF(#REF!=\"сх\",0,0)","v":{"$error":"#REF!"}},{"$error":"#REF!"},{"$f":"IF(#REF!=1,100,0)","v":{"$error":"#REF!"}},{"$f":"IF(#REF!=2,98,0)","v":{"$error":"#REF!"}},{"$f":"IF(#REF!=3,95,0)","v":{"$error":"#REF!"}},{"$f":"IF(#REF!=4,93,0)","v":{"$error":"#REF!"}},{"$f":"IF(#REF!=5,90,0)","v":{"$error":"#REF!"}},{"$f":"IF(#REF!=6,88,0)","v":{"$error":"#REF!"}},{"$f":"IF(#REF!=7,85,0)","v":{"$error":"#REF!"}},{"$f":"IF(#REF!=8,83,0)","v":{"$error":"#REF!"}},{"$f":"IF(#REF!=9,80,0)","v":{"$error":"#REF!"}},{"$f":"IF(#REF!=10,78,0)","v":{"$error":"#REF!"}},{"$f":"IF(#REF!=11,75,0)","v":{"$error":"#REF!"}},{"$f":"IF(#REF!=12,73,0)","v":{"$error":"#REF!"}},{"$f":"IF(#REF!=13,70,0)","v":{"$error":"#REF!"}},{"$f":"IF(#REF!=14,68,0)","v":{"$error":"#REF!"}},{"$f":"IF(#REF!=15,65,0)","v":{"$error":"#REF!"}},{"$f":"IF(#REF!=16,63,0)","v":{"$error":"#REF!"}},{"$f":"IF(#REF!=17,60,0)","v":{"$error":"#REF!"}},{"$f":"IF(#REF!=18,58,0)","v":{"$error":"#REF!"}},{"$f":"IF(#REF!=19,55,0)","v":{"$error":"#REF!"}},{"$f":"IF(#REF!=20,53,0)","v":{"$error":"#REF!"}},{"$f":"IF(#REF!>20,0,0)","v":{"$error":"#REF!"}},{"$f":"IF(#REF!=\"сх\",0,0)","v":{"$error":"#REF!"}},{"$error":"#REF!"},{"$f":"IF(#REF!=1,100,0)","v":{"$error":"#REF!"}},{"$f":"IF(#REF!=2,98,0)","v":{"$error":"#REF!"}},{"$f":"IF(#REF!=3,95,0)","v":{"$error":"#REF!"}},{"$f":"IF(#REF!=4,93,0)","v":{"$error":"#REF!"}},{"$f":"IF(#REF!=5,90,0)","v":{"$error":"#REF!"}},{"$f":"IF(#REF!=6,88,0)","v":{"$error":"#REF!"}},{"$f":"IF(#REF!=7,85,0)","v":{"$error":"#REF!"}},{"$f":"IF(#REF!=8,83,0)","v":{"$error":"#REF!"}},{"$f":"IF(#REF!=9,80,0)","v":{"$error":"#REF!"}},{"$f":"IF(#REF!=10,78,0)","v":{"$error":"#REF!"}},{"$f":"IF(#REF!=11,75,0)","v":{"$error":"#REF!"}},{"$f":"IF(#REF!=12,73,0)","v":{"$error":"#REF!"}},{"$f":"IF(#REF!=13,70,0)","v":{"$error":"#REF!"}},{"$f":"IF(#REF!=14,68,0)","v":{"$error":"#REF!"}},{"$f":"IF(#REF!=15,65,0)","v":{"$error":"#REF!"}},{"$f":"IF(#REF!=16,63,0)","v":{"$error":"#REF!"}},{"$f":"IF(#REF!=17,60,0)","v":{"$error":"#REF!"}},{"$f":"IF(#REF!=18,58,0)","v":{"$error":"#REF!"}},{"$f":"IF(#REF!=19,55,0)","v":{"$error":"#REF!"}},{"$f":"IF(#REF!=20,53,0)","v":{"$error":"#REF!"}},{"$f":"IF(#REF!>20,0,0)","v":{"$error":"#REF!"}},{"$f":"IF(#REF!=\"сх\",0,0)","v":{"$error":"#REF!"}},{"$error":"#REF!"}]
[6,21.5,201,"Белехов Александр","б/р","г. Муравленко, Ямало-Ненецкий АО","лично","Polaris",5,16,"сх",0,16,{"$f":"#REF!+#REF!","v":{"$error":"#REF!"}},null,null,{"$f":"IF(#REF!=1,25,0)","v":{"$error":"#REF!"}},{"$f":"IF(#REF!=2,22,0)","v":{"$error":"#REF!"}},{"$f":"IF(#REF!=3,20,0)","v":{"$error":"#REF!"}},{"$f":"IF(#REF!=4,18,0)","v":{"$error":"#REF!"}},{"$f":"IF(#REF!=5,16,0)","v":{"$error":"#REF!"}},{"$f":"IF(#REF!=6,15,0)","v":{"$error":"#REF!"}},{"$f":"IF(#REF!=7,14,0)","v":{"$error":"#REF!"}},{"$f":"IF(#REF!=8,13,0)","v":{"$error":"#REF!"}},{"$f":"IF(#REF!=9,12,0)","v":{"$error":"#REF!"}},{"$f":"IF(#REF!=10,11,0)","v":{"$error":"#REF!"}},{"$f":"IF(#REF!=11,10,0)","v":{"$error":"#REF!"}},{"$f":"IF(#REF!=12,9,0)","v":{"$error":"#REF!"}},{"$f":"IF(#REF!=13,8,0)","v":{"$error":"#REF!"}},{"$f":"IF(#REF!=14,7,0)","v":{"$error":"#REF!"}},{"$f":"IF(#REF!=15,6,0)","v":{"$error":"#REF!"}},{"$f":"IF(#REF!=16,5,0)","v":{"$error":"#REF!"}},{"$f":"IF(#REF!=17,4,0)","v":{"$error":"#REF!"}},{"$f":"IF(#REF!=18,3,0)","v":{"$error":"#REF!"}},{"$f":"IF(#REF!=19,2,0)","v":{"$error":"#REF!"}},{"$f":"IF(#REF!=20,1,0)","v":{"$error":"#REF!"}},{"$f":"IF(#REF!>20,0,0)","v":{"$error":"#REF!"}},{"$f":"IF(#REF!=\"сх\",0,0)","v":{"$error":"#REF!"}},{"$error":"#REF!"},{"$f":"IF(#REF!=1,25,0)","v":{"$error":"#REF!"}},{"$f":"IF(#REF!=2,22,0)","v":{"$error":"#REF!"}},{"$f":"IF(#REF!=3,20,0)","v":{"$error":"#REF!"}},{"$f":"IF(#REF!=4,18,0)","v":{"$error":"#REF!"}},{"$f":"IF(#REF!=5,16,0)","v":{"$error":"#REF!"}},{"$f":"IF(#REF!=6,15,0)","v":{"$error":"#REF!"}},{"$f":"IF(#REF!=7,14,0)","v":{"$error":"#REF!"}},{"$f":"IF(#REF!=8,13,0)","v":{"$error":"#REF!"}},{"$f":"IF(#REF!=9,12,0)","v":{"$error":"#REF!"}},{"$f":"IF(#REF!=10,11,0)","v":{"$error":"#REF!"}},{"$f":"IF(#REF!=11,10,0)","v":{"$error":"#REF!"}},{"$f":"IF(#REF!=12,9,0)","v":{"$error":"#REF!"}},{"$f":"IF(#REF!=13,8,0)","v":{"$error":"#REF!"}},{"$f":"IF(#REF!=14,7,0)","v":{"$error":"#REF!"}},{"$f":"IF(#REF!=15,6,0)","v":{"$error":"#REF!"}},{"$f":"IF(#REF!=16,5,0)","v":{"$error":"#REF!"}},{"$f":"IF(#REF!=17,4,0)","v":{"$error":"#REF!"}},{"$f":"IF(#REF!=18,3,0)","v":{"$error":"#REF!"}},{"$f":"IF(#REF!=19,2,0)","v":{"$error":"#REF!"}},{"$f":"IF(#REF!=20,1,0)","v":{"$error":"#REF!"}},{"$f":"IF(#REF!>20,0,0)","v":{"$error":"#REF!"}},{"$f":"IF(#REF!=\"сх\",0,0)","v":{"$error":"#REF!"}},{"$error":"#REF!"},{"$f":"IF(#REF!=1,45,0)","v":{"$error":"#REF!"}},{"$f":"IF(#REF!=2,42,0)","v":{"$error":"#REF!"}},{"$f":"IF(#REF!=3,40,0)","v":{"$error":"#REF!"}},{"$f":"IF(#REF!=4,38,0)","v":{"$error":"#REF!"}},{"$f":"IF(#REF!=5,36,0)","v":{"$error":"#REF!"}},{"$f":"IF(#REF!=6,35,0)","v":{"$error":"#REF!"}},{"$f":"IF(#REF!=7,34,0)","v":{"$error":"#REF!"}},{"$f":"IF(#REF!=8,33,0)","v":{"$error":"#REF!"}},{"$f":"IF(#REF!=9,32,0)","v":{"$error":"#REF!"}},{"$f":"IF(#REF!=10,31,0)","v":{"$error":"#REF!"}},{"$f":"IF(#REF!=11,30,0)","v":{"$error":"#REF!"}},{"$f":"IF(#REF!=12,29,0)","v":{"$error":"#REF!"}},{"$f":"IF(#REF!=13,28,0)","v":{"$error":"#REF!"}},{"$f":"IF(#REF!=14,27,0)","v":{"$error":"#REF!"}},{"$f":"IF(#REF!=15,26,0)","v":{"$error":"#REF!"}},{"$f":"IF(#REF!=16,25,0)","v":{"$error":"#REF!"}},{"$f":"IF(#REF!=17,24,0)","v":{"$error":"#REF!"}},{"$f":"IF(#REF!=18,23,0)","v":{"$error":"#REF!"}},{"$f":"IF(#REF!=19,22,0)","v":{"$error":"#REF!"}},{"$f":"IF(#REF!=20,21,0)","v":{"$error":"#REF!"}},{"$f":"IF(#REF!=21,20,0)","v":{"$error":"#REF!"}},{"$f":"IF(#REF!=22,19,0)","v":{"$error":"#REF!"}},{"$f":"IF(#REF!=23,18,0)","v":{"$error":"#REF!"}},{"$f":"IF(#REF!=24,17,0)","v":{"$error":"#REF!"}},{"$f":"IF(#REF!=25,16,0)","v":{"$error":"#REF!"}},{"$f":"IF(#REF!=26,15,0)","v":{"$error":"#REF!"}},{"$f":"IF(#REF!=27,14,0)","v":{"$error":"#REF!"}},{"$f":"IF(#REF!=28,13,0)","v":{"$error":"#REF!"}},{"$f":"IF(#REF!=29,12,0)","v":{"$error":"#REF!"}},{"$f":"IF(#REF!=30,11,0)","v":{"$error":"#REF!"}},{"$f":"IF(#REF!=31,10,0)","v":{"$error":"#REF!"}},{"$f":"IF(#REF!=32,9,0)","v":{"$error":"#REF!"}},{"$f":"IF(#REF!=33,8,0)","v":{"$error":"#REF!"}},{"$f":"IF(#REF!=34,7,0)","v":{"$error":"#REF!"}},{"$f":"IF(#REF!=35,6,0)","v":{"$error":"#REF!"}},{"$f":"IF(#REF!=36,5,0)","v":{"$error":"#REF!"}},{"$f":"IF(#REF!=37,4,0)","v":{"$error":"#REF!"}},{"$f":"IF(#REF!=38,3,0)","v":{"$error":"#REF!"}},{"$f":"IF(#REF!=39,2,0)","v":{"$error":"#REF!"}},{"$f":"IF(#REF!=40,1,0)","v":{"$error":"#REF!"}},{"$f":"IF(#REF!>20,0,0)","v":{"$error":"#REF!"}},{"$f":"IF(#REF!=\"сх\",0,0)","v":{"$error":"#REF!"}},{"$error":"#REF!"},{"$f":"IF(#REF!=1,45,0)","v":{"$error":"#REF!"}},{"$f":"IF(#REF!=2,42,0)","v":{"$error":"#REF!"}},{"$f":"IF(#REF!=3,40,0)","v":{"$error":"#REF!"}},{"$f":"IF(#REF!=4,38,0)","v":{"$error":"#REF!"}},{"$f":"IF(#REF!=5,36,0)","v":{"$error":"#REF!"}},{"$f":"IF(#REF!=6,35,0)","v":{"$error":"#REF!"}},{"$f":"IF(#REF!=7,34,0)","v":{"$error":"#REF!"}},{"$f":"IF(#REF!=8,33,0)","v":{"$error":"#REF!"}},{"$f":"IF(#REF!=9,32,0)","v":{"$error":"#REF!"}},{"$f":"IF(#REF!=10,31,0)","v":{"$error":"#REF!"}},{"$f":"IF(#REF!=11,30,0)","v":{"$error":"#REF!"}},{"$f":"IF(#REF!=12,29,0)","v":{"$error":"#REF!"}},{"$f":"IF(#REF!=13,28,0)","v":{"$error":"#REF!"}},{"$f":"IF(#REF!=14,27,0)","v":{"$error":"#REF!"}},{"$f":"IF(#REF!=15,26,0)","v":{"$error":"#REF!"}},{"$f":"IF(#REF!=16,25,0)","v":{"$error":"#REF!"}},{"$f":"IF(#REF!=17,24,0)","v":{"$error":"#REF!"}},{"$f":"IF(#REF!=18,23,0)","v":{"$error":"#REF!"}},{"$f":"IF(#REF!=19,22,0)","v":{"$error":"#REF!"}},{"$f":"IF(#REF!=20,21,0)","v":{"$error":"#REF!"}},{"$f":"IF(#REF!=21,20,0)","v":{"$error":"#REF!"}},{"$f":"IF(#REF!=22,19,0)","v":{"$error":"#REF!"}},{"$f":"IF(#REF!=23,18,0)","v":{"$error":"#REF!"}},{"$f":"IF(#REF!=24,17,0)","v":{"$error":"#REF!"}},{"$f":"IF(#REF!=25,16,0)","v":{"$error":"#REF!"}},{"$f":"IF(#REF!=26,15,0)","v":{"$error":"#REF!"}},{"$f":"IF(#REF!=27,14,0)","v":{"$error":"#REF!"}},{"$f":"IF(#REF!=28,13,0)","v":{"$error":"#REF!"}},{"$f":"IF(#REF!=29,12,0)","v":{"$error":"#REF!"}},{"$f":"IF(#REF!=30,11,0)","v":{"$error":"#REF!"}},{"$f":"IF(#REF!=31,10,0)","v":{"$error":"#REF!"}},{"$f":"IF(#REF!=32,9,0)","v":{"$error":"#REF!"}},{"$f":"IF(#REF!=33,8,0)","v":{"$error":"#REF!"}},{"$f":"IF(#REF!=34,7,0)","v":{"$error":"#REF!"}},{"$f":"IF(#REF!=35,6,0)","v":{"$error":"#REF!"}},{"$f":"IF(#REF!=36,5,0)","v":{"$error":"#REF!"}},{"$f":"IF(#REF!=37,4,0)","v":{"$error":"#REF!"}},{"$f":"IF(#REF!=38,3,0)","v":{"$error":"#REF!"}},{"$f":"IF(#REF!=39,2,0)","v":{"$error":"#REF!"}},{"$f":"IF(#REF!=40,1,0)","v":{"$error":"#REF!"}},{"$f":"IF(#REF!>20,0,0)","v":{"$error":"#REF!"}},{"$f":"IF(#REF!=\"сх\",0,0)","v":{"$error":"#REF!"}},{"$error":"#REF!"},null,{"$f":"IF(#REF!=\"сх\",\"ноль\",IF(#REF!>0,#REF!,\"Ноль\"))","v":{"$error":"#REF!"}},{"$f":"IF(#REF!=\"сх\",\"ноль\",IF(#REF!>0,#REF!,\"Ноль\"))","v":{"$error":"#REF!"}},null,{"$error":"#REF!"},{"$f":"IF(M15=#REF!,IF(#REF!<#REF!,#REF!,FB15),#REF!)","v":{"$error":"#REF!"}},{"$f":"IF(M15=#REF!,IF(#REF!<#REF!,0,1))","v":{"$error":"#REF!"}},{"$f":"IF(AND(EW15>=21,EW15<>0),EW15,IF(M15<#REF!,\"СТОП\",EX15+EY15))","v":{"$error":"#REF!"}},null,15,16,null,{"$f":"IF(#REF!=1,25,0)","v":{"$error":"#REF!"}},{"$f":"IF(#REF!=2,22,0)","v":{"$error":"#REF!"}},{"$f":"IF(#REF!=3,20,0)","v":{"$error":"#REF!"}},{"$f":"IF(#REF!=4,18,0)","v":{"$error":"#REF!"}},{"$f":"IF(#REF!=5,16,0)","v":{"$error":"#REF!"}},{"$f":"IF(#REF!=6,15,0)","v":{"$error":"#REF!"}},{"$f":"IF(#REF!=7,14,0)","v":{"$error":"#REF!"}},{"$f":"IF(#REF!=8,13,0)","v":{"$error":"#REF!"}},{"$f":"IF(#REF!=9,12,0)","v":{"$error":"#REF!"}},{"$f":"IF(#REF!=10,11,0)","v":{"$error":"#REF!"}},{"$f":"IF(#REF!=11,10,0)","v":{"$error":"#REF!"}},{"$f":"IF(#REF!=12,9,0)","v":{"$error":"#REF!"}},{"$f":"IF(#REF!=13,8,0)","v":{"$error":"#REF!"}},{"$f":"IF(#REF!=14,7,0)","v":{"$error":"#REF!"}},{"$f":"IF(#REF!=15,6,0)","v":{"$error":"#REF!"}},{"$f":"IF(#REF!=16,5,0)","v":{"$error":"#REF!"}},{"$f":"IF(#REF!=17,4,0)","v":{"$error":"#REF!"}},{"$f":"IF(#REF!=18,3,0)","v":{"$error":"#REF!"}},{"$f":"IF(#REF!=19,2,0)","v":{"$error":"#REF!"}},{"$f":"IF(#REF!=20,1,0)","v":{"$error":"#REF!"}},{"$f":"IF(#REF!>20,0,0)","v":{"$error":"#REF!"}},{"$f":"IF(#REF!=\"сх\",0,0)","v":{"$error":"#REF!"}},{"$error":"#REF!"},{"$f":"IF(#REF!=1,25,0)","v":{"$error":"#REF!"}},{"$f":"IF(#REF!=2,22,0)","v":{"$error":"#REF!"}},{"$f":"IF(#REF!=3,20,0)","v":{"$error":"#REF!"}},{"$f":"IF(#REF!=4,18,0)","v":{"$error":"#REF!"}},{"$f":"IF(#REF!=5,16,0)","v":{"$error":"#REF!"}},{"$f":"IF(#REF!=6,15,0)","v":{"$error":"#REF!"}},{"$f":"IF(#REF!=7,14,0)","v":{"$error":"#REF!"}},{"$f":"IF(#REF!=8,13,0)","v":{"$error":"#REF!"}},{"$f":"IF(#REF!=9,12,0)","v":{"$error":"#REF!"}},{"$f":"IF(#REF!=10,11,0)","v":{"$error":"#REF!"}},{"$f":"IF(#REF!=11,10,0)","v":{"$error":"#REF!"}},{"$f":"IF(#REF!=12,9,0)","v":{"$error":"#REF!"}},{"$f":"IF(#REF!=13,8,0)","v":{"$error":"#REF!"}},{"$f":"IF(#REF!=14,7,0)","v":{"$error":"#REF!"}},{"$f":"IF(#REF!=15,6,0)","v":{"$error":"#REF!"}},{"$f":"IF(#REF!=16,5,0)","v":{"$error":"#REF!"}},{"$f":"IF(#REF!=17,4,0)","v":{"$error":"#REF!"}},{"$f":"IF(#REF!=18,3,0)","v":{"$error":"#REF!"}},{"$f":"IF(#REF!=19,2,0)","v":{"$error":"#REF!"}},{"$f":"IF(#REF!=20,1,0)","v":{"$error":"#REF!"}},{"$f":"IF(#REF!>20,0,0)","v":{"$error":"#REF!"}},{"$f":"IF(#REF!=\"сх\",0,0)","v":{"$error":"#REF!"}},{"$error":"#REF!"},{"$f":"IF(#REF!=1,100,0)","v":{"$error":"#REF!"}},{"$f":"IF(#REF!=2,98,0)","v":{"$error":"#REF!"}},{"$f":"IF(#REF!=3,95,0)","v":{"$error":"#REF!"}},{"$f":"IF(#REF!=4,93,0)","v":{"$error":"#REF!"}},{"$f":"IF(#REF!=5,90,0)","v":{"$error":"#REF!"}},{"$f":"IF(#REF!=6,88,0)","v":{"$error":"#REF!"}},{"$f":"IF(#REF!=7,85,0)","v":{"$error":"#REF!"}},{"$f":"IF(#REF!=8,83,0)","v":{"$error":"#REF!"}},{"$f":"IF(#REF!=9,80,0)","v":{"$error":"#REF!"}},{"$f":"IF(#REF!=10,78,0)","v":{"$error":"#REF!"}},{"$f":"IF(#REF!=11,75,0)","v":{"$error":"#REF!"}},{"$f":"IF(#REF!=12,73,0)","v":{"$error":"#REF!"}},{"$f":"IF(#REF!=13,70,0)","v":{"$error":"#REF!"}},{"$f":"IF(#REF!=14,68,0)","v":{"$error":"#REF!"}},{"$f":"IF(#REF!=15,65,0)","v":{"$error":"#REF!"}},{"$f":"IF(#REF!=16,63,0)","v":{"$error":"#REF!"}},{"$f":"IF(#REF!=17,60,0)","v":{"$error":"#REF!"}},{"$f":"IF(#REF!=18,58,0)","v":{"$error":"#REF!"}},{"$f":"IF(#REF!=19,55,0)","v":{"$error":"#REF!"}},{"$f":"IF(#REF!=20,53,0)","v":{"$error":"#REF!"}},{"$f":"IF(#REF!>20,0,0)","v":{"$error":"#REF!"}},{"$f":"IF(#REF!=\"сх\",0,0)","v":{"$error":"#REF!"}},{"$error":"#REF!"},{"$f":"IF(#REF!=1,100,0)","v":{"$error":"#REF!"}},{"$f":"IF(#REF!=2,98,0)","v":{"$error":"#REF!"}},{"$f":"IF(#REF!=3,95,0)","v":{"$error":"#REF!"}},{"$f":"IF(#REF!=4,93,0)","v":{"$error":"#REF!"}},{"$f":"IF(#REF!=5,90,0)","v":{"$error":"#REF!"}},{"$f":"IF(#REF!=6,88,0)","v":{"$error":"#REF!"}},{"$f":"IF(#REF!=7,85,0)","v":{"$error":"#REF!"}},{"$f":"IF(#REF!=8,83,0)","v":{"$error":"#REF!"}},{"$f":"IF(#REF!=9,80,0)","v":{"$error":"#REF!"}},{"$f":"IF(#REF!=10,78,0)","v":{"$error":"#REF!"}},{"$f":"IF(#REF!=11,75,0)","v":{"$error":"#REF!"}},{"$f":"IF(#REF!=12,73,0)","v":{"$error":"#REF!"}},{"$f":"IF(#REF!=13,70,0)","v":{"$error":"#REF!"}},{"$f":"IF(#REF!=14,68,0)","v":{"$error":"#REF!"}},{"$f":"IF(#REF!=15,65,0)","v":{"$error":"#REF!"}},{"$f":"IF(#REF!=16,63,0)","v":{"$error":"#REF!"}},{"$f":"IF(#REF!=17,60,0)","v":{"$error":"#REF!"}},{"$f":"IF(#REF!=18,58,0)","v":{"$error":"#REF!"}},{"$f":"IF(#REF!=19,55,0)","v":{"$error":"#REF!"}},{"$f":"IF(#REF!=20,53,0)","v":{"$error":"#REF!"}},{"$f":"IF(#REF!>20,0,0)","v":{"$error":"#REF!"}},{"$f":"IF(#REF!=\"сх\",0,0)","v":{"$error":"#REF!"}},{"$error":"#REF!"}]
[]
["Главный судья соревнований"]
["судья Всероссийской категории:                                                                                                              А. Б. Стеблинский (г. Тюмень; лицензия МФР А 144)"]
[]
["Главный секретарь соревнований"]
["судья Всероссийской категории:                                                                                              А. Ю. Иванов (г. Москва/лицензия МФР А 105; FIM 11245)"]

{"sheet":"ЛЮБИТЕЛИ ЯНАО","index":7,"n_rows":21,"n_cols":256,"rows_kept":21,"cut":false,"hidden":false,"merged":[[16,0,16,7],[19,0,19,7],[6,6,8,6],[6,7,8,7],[6,8,6,9],[6,0,8,0],[6,1,8,1],[6,2,8,2],[6,3,8,3],[6,4,8,4],[6,5,8,5],[6,10,6,11],[6,12,8,12],[6,13,8,13],[7,8,8,8],[7,9,8,9],[7,10,8,10],[7,11,8,11],[5,8,5,10],[0,13,3,13],[1,0,1,12],[2,0,2,12],[3,0,3,12],[4,0,4,12]]}
[]
["Кубок ЯНАО по кроссу на снегоходах 2017 года - III-й этап.                                                             "]
["ПРОТОКОЛ ЛИЧНОГО ЗАЧЕТА",null,null,null,null,null,null,null,null,null,null,null,null,null,null,null,null,null,null,null,null,null,null,null,null,null,null,null,null,null,null,null,null,null,null,null,null,null,null,null,null,null,null,null,null,null,null,null,null,null,null,null,null,null,null,null,null,null,null,null,null,null,null,null,null,null,null,null,null,null,null,null,null,null,null,null,null,null,null,null,null,null,null,null,null,null,null,null,null,null,null,null,null,null,null,null,null,null,null,null,null,null,null,null,null,null,null,null,null,null,null,null,null,null,null,null,null,null,null,null,null,null,null,null,null,null,null,null,null,null,null,null,null,null,null,null,null,null,null,null,null,null,null,null,null,null,null,null,null,null,null,null,null,null,null,null,null,null,null,null,null,null,null,null,null,null,null,null,null,null,null,null,"первый этап"]
["г. Новый Уренгой, Ямало-Ненецкий АО.                                                                                                                                                                                                              31 марта - 02 апреля 2017 года.",null,null,null,null,null,null,null,null,null,null,null,null,null,null,null,null,null,null,null,null,null,null,null,null,null,null,null,null,null,null,null,null,null,null,null,null,null,null,null,null,null,null,null,null,null,null,null,null,null,null,null,null,null,null,null,null,null,null,null,null,null,null,null,null,null,null,null,null,null,null,null,null,null,null,null,null,null,null,null,null,null,null,null,null,null,null,null,null,null,null,null,null,null,null,null,null,null,null,null,null,null,null,null,null,null,null,null,null,null,null,null,null,null,null,null,null,null,null,null,null,null,null,null,null,null,null,null,null,null,null,null,null,null,null,null,null,null,null,null,null,null,null,null,null,null,null,null,null,null,null,null,null,null,null,null,null,null,null,null,null,"первый заезд личные очки",null,null,null,null,null,null,null,null,null,null,null,null,null,null,null,null,null,null,null,null,null,"второй заезд личные очки",null,null,null,null,null,null,null,null,null,null,null,null,null,null,null,null,null,null,null,null,null,null,"Первый заезд командные очки",null,null,null,null,null,null,null,null,null,null,null,null,null,null,null,null,null,null,null,null,null,null,"Второй заезд командные очки"]
["Класс \"ЛЮБИТЕЛИ\". ",null,null,null,null,null,null,null,null,null,null,null,null,null,null,null,null,null,null,null,null,null,null,null,null,null,null,null,null,null,null,null,null,null,null,null,null,null,null,null,null,null,null,null,null,null,null,null,null,null,null,null,null,null,null,null,null,null,null,null,null,null,null,null,null,null,null,null,null,null,null,null,null,null,null,null,null,null,null,null,null,null,null,null,null,null,null,null,null,null,null,null,null,null,null,null,null,null,null,null,null,null,null,null,null,null,null,null,null,null,null,null,null,null,null,null,null,null,null,null,null,null,null,null,null,null,null,null,null,null,null,null,null,null,null,null,null,null,null,null,null,null,null,null,null,null,null,null,null,null,null,null,null,null,null,null,null,null,null,null,1,2,3,4,5,6,7,8,9,10,11,12,13,14,15,16,17,18,19,20,21,"сх","Sym",1,2,3,4,5,6,7,8,9,10,11,12,13,14,15,16,17,18,19,20,21,"cx","sym",1,2,3,4,5,6,7,8,9,10,11,12,13,14,15,16,17,18,19,20,21,"сх","очки",1,2,3,4,5,6,7,8,9,10,11,12,13,14,15,16,17,18,19,20,21,"сх","очки",{"$f":"COUNT(FE5:IR5)","v":84},"Н. Стро","В. стро","место"]
[]
["Место ","РЕЙТИНГОВЫЕ ОЧКИ Коэф. 0,2 ","Ст. №","Фамилия, Имя","Разряд","Город (край, район, область)","Команда","Марка снегохода","1-й заезд",null,"2-й заезд",null,"Сумма очков              в личном зачете","Сумма очк. в командном зачете"]
[null,null,null,null,null,null,null,null,"место","лич. очки","место","лич. очки",null,null,null,null,null,"первый заезд личные очки",null,null,null,null,null,null,null,null,null,null,null,null,null,null,null,null,null,null,null,null,null,"второй заезд личные очки",null,null,null,null,null,null,null,null,null,null,null,null,null,null,null,null,null,null,null,null,null,null,"Первый заезд командные очки",null,null,null,null,null,null,null,null,null,null,null,null,null,null,null,null,null,null,null,null,null,null,null,null,null,null,null,null,null,null,null,null,null,null,null,null,null,null,null,null,null,null,"Второй заезд командные очки",null,null,null,null,null,null,null,null,null,null,null,null,null,null,null,null,null,null,null,null,null,null,null,null,null,null,null,null,null,null,null,null,null,null,null,null,null,null,null,null,null,null,null,1,2,null,null,null,null,null,null,null,null,null,null,null,null,null,null,null,null,null,null,null,null,null,"первый этап"]
[null,null,null,null,null,null,null,null,null,null,null,null,null,null,null,null,1,2,3,4,5,6,7,8,9,10,11,12,13,14,15,16,17,18,19,20,21,"сх",null,1,2,3,4,5,6,7,8,9,10,11,12,13,14,15,16,17,18,19,20,null,"cx",null,1,2,3,4,5,6,7,8,9,10,11,12,13,14,15,16,17,18,19,20,21,22,23,24,25,26,27,28,29,30,31,32,33,34,35,36,37,38,39,40,null,null,null,1,2,3,4,5,6,7,8,9,10,11,12,13,14,15,16,17,18,19,20,21,22,23,24,25,26,27,28,29,30,31,32,33,34,35,36,37,38,39,40,null,null,null,null,null,null,null,"мин","Н. Стро","В. стро","место",null,"чр1","чр2",null,null,"первый заезд личные очки",null,null,null,null,null,null,null,null,null,null,null,null,null,null,null,null,null,null,null,null,null,"второй заезд личные очки",null,null,null,null,null,null,null,null,null,null,null,null,null,null,null,null,null,null,null,null,null,null,"Первый заезд командные очки",null,null,null,null,null,null,null,null,null,null,null,null,null,null,null,null,null,null,null,null,null,null,"Второй заезд командные очки"]
[1,10,789,"Дубовик Дмитрий","б/р","г. Муравленко, Ямало-Ненецкий АО","лично","Arctic - Cat",1,25,1,25,{"$f":"SUM(J10+L10)","v":50},{"$f":"#REF!+#REF!","v":{"$error":"#REF!"}},null,null,{"$f":"IF(#REF!=1,25,0)","v":{"$error":"#REF!"}},{"$f":"IF(#REF!=2,22,0)","v":{"$error":"#REF!"}},{"$f":"IF(#REF!=3,20,0)","v":{"$error":"#REF!"}},{"$f":"IF(#REF!=4,18,0)","v":{"$error":"#REF!"}},{"$f":"IF(#REF!=5,16,0)","v":{"$error":"#REF!"}},{"$f":"IF(#REF!=6,15,0)","v":{"$error":"#REF!"}},{"$f":"IF(#REF!=7,14,0)","v":{"$error":"#REF!"}},{"$f":"IF(#REF!=8,13,0)","v":{"$error":"#REF!"}},{"$f":"IF(#REF!=9,12,0)","v":{"$error":"#REF!"}},{"$f":"IF(#REF!=10,11,0)","v":{"$error":"#REF!"}},{"$f":"IF(#REF!=11,10,0)","v":{"$error":"#REF!"}},{"$f":"IF(#REF!=12,9,0)","v":{"$error":"#REF!"}},{"$f":"IF(#REF!=13,8,0)","v":{"$error":"#REF!"}},{"$f":"IF(#REF!=14,7,0)","v":{"$error":"#REF!"}},{"$f":"IF(#REF!=15,6,0)","v":{"$error":"#REF!"}},{"$f":"IF(#REF!=16,5,0)","v":{"$error":"#REF!"}},{"$f":"IF(#REF!=17,4,0)","v":{"$error":"#REF!"}},{"$f":"IF(#REF!=18,3,0)","v":{"$error":"#REF!"}},{"$f":"IF(#REF!=19,2,0)","v":{"$error":"#REF!"}},{"$f":"IF(#REF!=20,1,0)","v":{"$error":"#REF!"}},{"$f":"IF(#REF!>20,0,0)","v":{"$error":"#REF!"}},{"$f":"IF(#REF!=\"сх\",0,0)","v":{"$error":"#REF!"}},{"$f":"SUM(Q10:AK10)","v":{"$error":"#REF!"}},{"$f":"IF(#REF!=1,25,0)","v":{"$error":"#REF!"}},{"$f":"IF(#REF!=2,22,0)","v":{"$error":"#REF!"}},{"$f":"IF(#REF!=3,20,0)","v":{"$error":"#REF!"}},{"$f":"IF(#REF!=4,18,0)","v":{"$error":"#REF!"}},{"$f":"IF(#REF!=5,16,0)","v":{"$error":"#REF!"}},{"$f":"IF(#REF!=6,15,0)","v":{"$error":"#REF!"}},{"$f":"IF(#REF!=7,14,0)","v":{"$error":"#REF!"}},{"$f":"IF(#REF!=8,13,0)","v":{"$error":"#REF!"}},{"$f":"IF(#REF!=9,12,0)","v":{"$error":"#REF!"}},{"$f":"IF(#REF!=10,11,0)","v":{"$error":"#REF!"}},{"$f":"IF(#REF!=11,10,0)","v":{"$error":"#REF!"}},{"$f":"IF(#REF!=12,9,0)","v":{"$error":"#REF!"}},{"$f":"IF(#REF!=13,8,0)","v":{"$error":"#REF!"}},{"$f":"IF(#REF!=14,7,0)","v":{"$error":"#REF!"}},{"$f":"IF(#REF!=15,6,0)","v":{"$error":"#REF!"}},{"$f":"IF(#REF!=16,5,0)","v":{"$error":"#REF!"}},{"$f":"IF(#REF!=17,4,0)","v":{"$error":"#REF!"}},{"$f":"IF(#REF!=18,3,0)","v":{"$error":"#REF!"}},{"$f":"IF(#REF!=19,2,0)","v":{"$error":"#REF!"}},{"$f":"IF(#REF!=20,1,0)","v":{"$error":"#REF!"}},{"$f":"IF(#REF!>20,0,0)","v":{"$error":"#REF!"}},{"$f":"IF(#REF!=\"сх\",0,0)","v":{"$error":"#REF!"}},{"$f":"SUM(AN10:BH10)","v":{"$error":"#REF!"}},{"$f":"IF(#REF!=1,45,0)","v":{"$error":"#REF!"}},{"$f":"IF(#REF!=2,42,0)","v":{"$error":"#REF!"}},{"$f":"IF(#REF!=3,40,0)","v":{"$error":"#REF!"}},{"$f":"IF(#REF!=4,38,0)","v":{"$error":"#REF!"}},{"$f":"IF(#REF!=5,36,0)","v":{"$error":"#REF!"}},{"$f":"IF(#REF!=6,35,0)","v":{"$error":"#REF!"}},{"$f":"IF(#REF!=7,34,0)","v":{"$error":"#REF!"}},{"$f":"IF(#REF!=8,33,0)","v":{"$error":"#REF!"}},{"$f":"IF(#REF!=9,32,0)","v":{"$error":"#REF!"}},{"$f":"IF(#REF!=10,31,0)","v":{"$error":"#REF!"}},{"$f":"IF(#REF!=11,30,0)","v":{"$error":"#REF!"}},{"$f":"IF(#REF!=12,29,0)","v":{"$error":"#REF!"}},{"$f":"IF(#REF!=13,28,0)","v":{"$error":"#REF!"}},{"$f":"IF(#REF!=14,27,0)","v":{"$error":"#REF!"}},{"$f":"IF(#REF!=15,26,0)","v":{"$error":"#REF!"}},{"$f":"IF(#REF!=16,25,0)","v":{"$error":"#REF!"}},{"$f":"IF(#REF!=17,24,0)","v":{"$error":"#REF!"}},{"$f":"IF(#REF!=18,23,0)","v":{"$error":"#REF!"}},{"$f":"IF(#REF!=19,22,0)","v":{"$error":"#REF!"}},{"$f":"IF(#REF!=20,21,0)","v":{"$error":"#REF!"}},{"$f":"IF(#REF!=21,20,0)","v":{"$error":"#REF!"}},{"$f":"IF(#REF!=22,19,0)","v":{"$error":"#REF!"}},{"$f":"IF(#REF!=23,18,0)","v":{"$error":"#REF!"}},{"$f":"IF(#REF!=24,17,0)","v":{"$error":"#REF!"}},{"$f":"IF(#REF!=25,16,0)","v":{"$error":"#REF!"}},{"$f":"IF(#REF!=26,15,0)","v":{"$error":"#REF!"}},{"$f":"IF(#REF!=27,14,0)","v":{"$error":"#REF!"}},{"$f":"IF(#REF!=28,13,0)","v":{"$error":"#REF!"}},{"$f":"IF(#REF!=29,12,0)","v":{"$error":"#REF!"}},{"$f":"IF(#REF!=30,11,0)","v":{"$error":"#REF!"}},{"$f":"IF(#REF!=31,10,0)","v":{"$error":"#REF!"}},{"$f":"IF(#REF!=32,9,0)","v":{"$error":"#REF!"}},{"$f":"IF(#REF!=33,8,0)","v":{"$error":"#REF!"}},{"$f":"IF(#REF!=34,7,0)","v":{"$error":"#REF!"}},{"$f":"IF(#REF!=35,6,0)","v":{"$error":"#REF!"}},{"$f":"IF(#REF!=36,5,0)","v":{"$error":"#REF!"}},{"$f":"IF(#REF!=37,4,0)","v":{"$error":"#REF!"}},{"$f":"IF(#REF!=38,3,0)","v":{"$error":"#REF!"}},{"$f":"IF(#REF!=39,2,0)","v":{"$error":"#REF!"}},{"$f":"IF(#REF!=40,1,0)","v":{"$error":"#REF!"}},{"$f":"IF(#REF!>20,0,0)","v":{"$error":"#REF!"}},{"$f":"IF(#REF!=\"сх\",0,0)","v":{"$error":"#REF!"}},{"$f":"SUM(BK10:CZ10)","v":{"$error":"#REF!"}},{"$f":"IF(#REF!=1,45,0)","v":{"$error":"#REF!"}},{"$f":"IF(#REF!=2,42,0)","v":{"$error":"#REF!"}},{"$f":"IF(#REF!=3,40,0)","v":{"$error":"#REF!"}},{"$f":"IF(#REF!=4,38,0)","v":{"$error":"#REF!"}},{"$f":"IF(#REF!=5,36,0)","v":{"$error":"#REF!"}},{"$f":"IF(#REF!=6,35,0)","v":{"$error":"#REF!"}},{"$f":"IF(#REF!=7,34,0)","v":{"$error":"#REF!"}},{"$f":"IF(#REF!=8,33,0)","v":{"$error":"#REF!"}},{"$f":"IF(#REF!=9,32,0)","v":{"$error":"#REF!"}},{"$f":"IF(#REF!=10,31,0)","v":{"$error":"#REF!"}},{"$f":"IF(#REF!=11,30,0)","v":{"$error":"#REF!"}},{"$f":"IF(#REF!=12,29,0)","v":{"$error":"#REF!"}},{"$f":"IF(#REF!=13,28,0)","v":{"$error":"#REF!"}},{"$f":"IF(#REF!=14,27,0)","v":{"$error":"#REF!"}},{"$f":"IF(#REF!=15,26,0)","v":{"$error":"#REF!"}},{"$f":"IF(#REF!=16,25,0)","v":{"$error":"#REF!"}},{"$f":"IF(#REF!=17,24,0)","v":{"$error":"#REF!"}},{"$f":"IF(#REF!=18,23,0)","v":{"$error":"#REF!"}},{"$f":"IF(#REF!=19,22,0)","v":{"$error":"#REF!"}},{"$f":"IF(#REF!=20,21,0)","v":{"$error":"#REF!"}},{"$f":"IF(#REF!=21,20,0)","v":{"$error":"#REF!"}},{"$f":"IF(#REF!=22,19,0)","v":{"$error":"#REF!"}},{"$f":"IF(#REF!=23,18,0)","v":{"$error":"#REF!"}},{"$f":"IF(#REF!=24,17,0)","v":{"$error":"#REF!"}},{"$f":"IF(#REF!=25,16,0)","v":{"$error":"#REF!"}},{"$f":"IF(#REF!=26,15,0)","v":{"$error":"#REF!"}},{"$f":"IF(#REF!=27,14,0)","v":{"$error":"#REF!"}},{"$f":"IF(#REF!=28,13,0)","v":{"$error":"#REF!"}},{"$f":"IF(#REF!=29,12,0)","v":{"$error":"#REF!"}},{"$f":"IF(#REF!=30,11,0)","v":{"$error":"#REF!"}},{"$f":"IF(#REF!=31,10,0)","v":{"$error":"#REF!"}},{"$f":"IF(#REF!=32,9,0)","v":{"$error":"#REF!"}},{"$f":"IF(#REF!=33,8,0)","v":{"$error":"#REF!"}},{"$f":"IF(#REF!=34,7,0)","v":{"$error":"#REF!"}},{"$f":"IF(#REF!=35,6,0)","v":{"$error":"#REF!"}},{"$f":"IF(#REF!=36,5,0)","v":{"$error":"#REF!"}},{"$f":"IF(#REF!=37,4,0)","v":{"$error":"#REF!"}},{"$f":"IF(#REF!=38,3,0)","v":{"$error":"#REF!"}},{"$f":"IF(#REF!=39,2,0)","v":{"$error":"#REF!"}},{"$f":"IF(#REF!=40,1,0)","v":{"$error":"#REF!"}},{"$f":"IF(#REF!>20,0,0)","v":{"$error":"#REF!"}},{"$f":"IF(#REF!=\"сх\",0,0)","v":{"$error":"#REF!"}},{"$f":"SUM(DB10:EQ10)","v":{"$error":"#REF!"}},null,{"$f":"IF(#REF!=\"сх\",\"ноль\",IF(#REF!>0,#REF!,\"Ноль\"))","v":{"$error":"#REF!"}},{"$f":"IF(#REF!=\"сх\",\"ноль\",IF(#REF!>0,#REF!,\"Ноль\"))","v":{"$error":"#REF!"}},null,{"$f":"MIN(ET10,EU10)","v":{"$error":"#REF!"}},{"$f":"IF(M10=#REF!,IF(#REF!<#REF!,#REF!,FB10),#REF!)","v":{"$error":"#REF!"}},{"$f":"IF(M10=#REF!,IF(#REF!<#REF!,0,1))","v":{"$error":"#REF!"}},{"$f":"IF(AND(EW10>=21,EW10<>0),EW10,IF(M10<#REF!,\"СТОП\",EX10+EY10))","v":{"$error":"#REF!"}},null,15,16,null,{"$f":"IF(#REF!=1,25,0)","v":{"$error":"#REF!"}},{"$f":"IF(#REF!=2,22,0)","v":{"$error":"#REF!"}},{"$f":"IF(#REF!=3,20,0)","v":{"$error":"#REF!"}},{"$f":"IF(#REF!=4,18,0)","v":{"$error":"#REF!"}},{"$f":"IF(#REF!=5,16,0)","v":{"$error":"#REF!"}},{"$f":"IF(#REF!=6,15,0)","v":{"$error":"#REF!"}},{"$f":"IF(#REF!=7,14,0)","v":{"$error":"#REF!"}},{"$f":"IF(#REF!=8,13,0)","v":{"$error":"#REF!"}},{"$f":"IF(#REF!=9,12,0)","v":{"$error":"#REF!"}},{"$f":"IF(#REF!=10,11,0)","v":{"$error":"#REF!"}},{"$f":"IF(#REF!=11,10,0)","v":{"$error":"#REF!"}},{"$f":"IF(#REF!=12,9,0)","v":{"$error":"#REF!"}},{"$f":"IF(#REF!=13,8,0)","v":{"$error":"#REF!"}},{"$f":"IF(#REF!=14,7,0)","v":{"$error":"#REF!"}},{"$f":"IF(#REF!=15,6,0)","v":{"$error":"#REF!"}},{"$f":"IF(#REF!=16,5,0)","v":{"$error":"#REF!"}},{"$f":"IF(#REF!=17,4,0)","v":{"$error":"#REF!"}},{"$f":"IF(#REF!=18,3,0)","v":{"$error":"#REF!"}},{"$f":"IF(#REF!=19,2,0)","v":{"$error":"#REF!"}},{"$f":"IF(#REF!=20,1,0)","v":{"$error":"#REF!"}},{"$f":"IF(#REF!>20,0,0)","v":{"$error":"#REF!"}},{"$f":"IF(#REF!=\"сх\",0,0)","v":{"$error":"#REF!"}},{"$f":"SUM(FE10:FZ10)","v":{"$error":"#REF!"}},{"$f":"IF(#REF!=1,25,0)","v":{"$error":"#REF!"}},{"$f":"IF(#REF!=2,22,0)","v":{"$error":"#REF!"}},{"$f":"IF(#REF!=3,20,0)","v":{"$error":"#REF!"}},{"$f":"IF(#REF!=4,18,0)","v":{"$error":"#REF!"}},{"$f":"IF(#REF!=5,16,0)","v":{"$error":"#REF!"}},{"$f":"IF(#REF!=6,15,0)","v":{"$error":"#REF!"}},{"$f":"IF(#REF!=7,14,0)","v":{"$error":"#REF!"}},{"$f":"IF(#REF!=8,13,0)","v":{"$error":"#REF!"}},{"$f":"IF(#REF!=9,12,0)","v":{"$error":"#REF!"}},{"$f":"IF(#REF!=10,11,0)","v":{"$error":"#REF!"}},{"$f":"IF(#REF!=11,10,0)","v":{"$error":"#REF!"}},{"$f":"IF(#REF!=12,9,0)","v":{"$error":"#REF!"}},{"$f":"IF(#REF!=13,8,0)","v":{"$error":"#REF!"}},{"$f":"IF(#REF!=14,7,0)","v":{"$error":"#REF!"}},{"$f":"IF(#REF!=15,6,0)","v":{"$error":"#REF!"}},{"$f":"IF(#REF!=16,5,0)","v":{"$error":"#REF!"}},{"$f":"IF(#REF!=17,4,0)","v":{"$error":"#REF!"}},{"$f":"IF(#REF!=18,3,0)","v":{"$error":"#REF!"}},{"$f":"IF(#REF!=19,2,0)","v":{"$error":"#REF!"}},{"$f":"IF(#REF!=20,1,0)","v":{"$error":"#REF!"}},{"$f":"IF(#REF!>20,0,0)","v":{"$error":"#REF!"}},{"$f":"IF(#REF!=\"сх\",0,0)","v":{"$error":"#REF!"}},{"$f":"SUM(GB10:GW10)","v":{"$error":"#REF!"}},{"$f":"IF(#REF!=1,100,0)","v":{"$error":"#REF!"}},{"$f":"IF(#REF!=2,98,0)","v":{"$error":"#REF!"}},{"$f":"IF(#REF!=3,95,0)","v":{"$error":"#REF!"}},{"$f":"IF(#REF!=4,93,0)","v":{"$error":"#REF!"}},{"$f":"IF(#REF!=5,90,0)","v":{"$error":"#REF!"}},{"$f":"IF(#REF!=6,88,0)","v":{"$error":"#REF!"}},{"$f":"IF(#REF!=7,85,0)","v":{"$error":"#REF!"}},{"$f":"IF(#REF!=8,83,0)","v":{"$error":"#REF!"}},{"$f":"IF(#REF!=9,80,0)","v":{"$error":"#REF!"}},{"$f":"IF(#REF!=10,78,0)","v":{"$error":"#REF!"}},{"$f":"IF(#REF!=11,75,0)","v":{"$error":"#REF!"}},{"$f":"IF(#REF!=12,73,0)","v":{"$error":"#REF!"}},{"$f":"IF(#REF!=13,70,0)","v":{"$error":"#REF!"}},{"$f":"IF(#REF!=14,68,0)","v":{"$error":"#REF!"}},{"$f":"IF(#REF!=15,65,0)","v":{"$error":"#REF!"}},{"$f":"IF(#REF!=16,63,0)","v":{"$error":"#REF!"}},{"$f":"IF(#REF!=17,60,0)","v":{"$error":"#REF!"}},{"$f":"IF(#REF!=18,58,0)","v":{"$error":"#REF!"}},{"$f":"IF(#REF!=19,55,0)","v":{"$error":"#REF!"}},{"$f":"IF(#REF!=20,53,0)","v":{"$error":"#REF!"}},{"$f":"IF(#REF!>20,0,0)","v":{"$error":"#REF!"}},{"$f":"IF(#REF!=\"сх\",0,0)","v":{"$error":"#REF!"}},{"$f":"SUM(GY10:HT10)","v":{"$error":"#REF!"}},{"$f":"IF(#REF!=1,100,0)","v":{"$error":"#REF!"}},{"$f":"IF(#REF!=2,98,0)","v":{"$error":"#REF!"}},{"$f":"IF(#REF!=3,95,0)","v":{"$error":"#REF!"}},{"$f":"IF(#REF!=4,93,0)","v":{"$error":"#REF!"}},{"$f":"IF(#REF!=5,90,0)","v":{"$error":"#REF!"}},{"$f":"IF(#REF!=6,88,0)","v":{"$error":"#REF!"}},{"$f":"IF(#REF!=7,85,0)","v":{"$error":"#REF!"}},{"$f":"IF(#REF!=8,83,0)","v":{"$error":"#REF!"}},{"$f":"IF(#REF!=9,80,0)","v":{"$error":"#REF!"}},{"$f":"IF(#REF!=10,78,0)","v":{"$error":"#REF!"}},{"$f":"IF(#REF!=11,75,0)","v":{"$error":"#REF!"}},{"$f":"IF(#REF!=12,73,0)","v":{"$error":"#REF!"}},{"$f":"IF(#REF!=13,70,0)","v":{"$error":"#REF!"}},{"$f":"IF(#REF!=14,68,0)","v":{"$error":"#REF!"}},{"$f":"IF(#REF!=15,65,0)","v":{"$error":"#REF!"}},{"$f":"IF(#REF!=16,63,0)","v":{"$error":"#REF!"}},{"$f":"IF(#REF!=17,60,0)","v":{"$error":"#REF!"}},{"$f":"IF(#REF!=18,58,0)","v":{"$error":"#REF!"}},{"$f":"IF(#REF!=19,55,0)","v":{"$error":"#REF!"}},{"$f":"IF(#REF!=20,53,0)","v":{"$error":"#REF!"}},{"$f":"IF(#REF!>20,0,0)","v":{"$error":"#REF!"}},{"$f":"IF(#REF!=\"сх\",0,0)","v":{"$error":"#REF!"}},{"$f":"SUM(HV10:IQ10)","v":{"$error":"#REF!"}}]
[2,9.6,228,"Синявин Александр","б/р","г. Сургут, Ханты-Мансийский АО-Югра","лично","LYNX",3,20,2,22,42,{"$f":"#REF!+#REF!","v":{"$error":"#REF!"}},null,null,{"$f":"IF(#REF!=1,25,0)","v":{"$error":"#REF!"}},{"$f":"IF(#REF!=2,22,0)","v":{"$error":"#REF!"}},{"$f":"IF(#REF!=3,20,0)","v":{"$error":"#REF!"}},{"$f":"IF(#REF!=4,18,0)","v":{"$error":"#REF!"}},{"$f":"IF(#REF!=5,16,0)","v":{"$error":"#REF!"}},{"$f":"IF(#REF!=6,15,0)","v":{"$error":"#REF!"}},{"$f":"IF(#REF!=7,14,0)","v":{"$error":"#REF!"}},{"$f":"IF(#REF!=8,13,0)","v":{"$error":"#REF!"}},{"$f":"IF(#REF!=9,12,0)","v":{"$error":"#REF!"}},{"$f":"IF(#REF!=10,11,0)","v":{"$error":"#REF!"}},{"$f":"IF(#REF!=11,10,0)","v":{"$error":"#REF!"}},{"$f":"IF(#REF!=12,9,0)","v":{"$error":"#REF!"}},{"$f":"IF(#REF!=13,8,0)","v":{"$error":"#REF!"}},{"$f":"IF(#REF!=14,7,0)","v":{"$error":"#REF!"}},{"$f":"IF(#REF!=15,6,0)","v":{"$error":"#REF!"}},{"$f":"IF(#REF!=16,5,0)","v":{"$error":"#REF!"}},{"$f":"IF(#REF!=17,4,0)","v":{"$error":"#REF!"}},{"$f":"IF(#REF!=18,3,0)","v":{"$error":"#REF!"}},{"$f":"IF(#REF!=19,2,0)","v":{"$error":"#REF!"}},{"$f":"IF(#REF!=20,1,0)","v":{"$error":"#REF!"}},{"$f":"IF(#REF!>20,0,0)","v":{"$error":"#REF!"}},{"$f":"IF(#REF!=\"сх\",0,0)","v":{"$error":"#REF!"}},{"$error":"#REF!"},{"$f":"IF(#REF!=1,25,0)","v":{"$error":"#REF!"}},{"$f":"IF(#REF!=2,22,0)","v":{"$error":"#REF!"}},{"$f":"IF(#REF!=3,20,0)","v":{"$error":"#REF!"}},{"$f":"IF(#REF!=4,18,0)","v":{"$error":"#REF!"}},{"$f":"IF(#REF!=5,16,0)","v":{"$error":"#REF!"}},{"$f":"IF(#REF!=6,15,0)","v":{"$error":"#REF!"}},{"$f":"IF(#REF!=7,14,0)","v":{"$error":"#REF!"}},{"$f":"IF(#REF!=8,13,0)","v":{"$error":"#REF!"}},{"$f":"IF(#REF!=9,12,0)","v":{"$error":"#REF!"}},{"$f":"IF(#REF!=10,11,0)","v":{"$error":"#REF!"}},{"$f":"IF(#REF!=11,10,0)","v":{"$error":"#REF!"}},{"$f":"IF(#REF!=12,9,0)","v":{"$error":"#REF!"}},{"$f":"IF(#REF!=13,8,0)","v":{"$error":"#REF!"}},{"$f":"IF(#REF!=14,7,0)","v":{"$error":"#REF!"}},{"$f":"IF(#REF!=15,6,0)","v":{"$error":"#REF!"}},{"$f":"IF(#REF!=16,5,0)","v":{"$error":"#REF!"}},{"$f":"IF(#REF!=17,4,0)","v":{"$error":"#REF!"}},{"$f":"IF(#REF!=18,3,0)","v":{"$error":"#REF!"}},{"$f":"IF(#REF!=19,2,0)","v":{"$error":"#REF!"}},{"$f":"IF(#REF!=20,1,0)","v":{"$error":"#REF!"}},{"$f":"IF(#REF!>20,0,0)","v":{"$error":"#REF!"}},{"$f":"IF(#REF!=\"сх\",0,0)","v":{"$error":"#REF!"}},{"$error":"#REF!"},{"$f":"IF(#REF!=1,45,0)","v":{"$error":"#REF!"}},{"$f":"IF(#REF!=2,42,0)","v":{"$error":"#REF!"}},{"$f":"IF(#REF!=3,40,0)","v":{"$error":"#REF!"}},{"$f":"IF(#REF!=4,38,0)","v":{"$error":"#REF!"}},{"$f":"IF(#REF!=5,36,0)","v":{"$error":"#REF!"}},{"$f":"IF(#REF!=6,35,0)","v":{"$error":"#REF!"}},{"$f":"IF(#REF!=7,34,0)","v":{"$error":"#REF!"}},{"$f":"IF(#REF!=8,33,0)","v":{"$error":"#REF!"}},{"$f":"IF(#REF!=9,32,0)","v":{"$error":"#REF!"}},{"$f":"IF(#REF!=10,31,0)","v":{"$error":"#REF!"}},{"$f":"IF(#REF!=11,30,0)","v":{"$error":"#REF!"}},{"$f":"IF(#REF!=12,29,0)","v":{"$error":"#REF!"}},{"$f":"IF(#REF!=13,28,0)","v":{"$error":"#REF!"}},{"$f":"IF(#REF!=14,27,0)","v":{"$error":"#REF!"}},{"$f":"IF(#REF!=15,26,0)","v":{"$error":"#REF!"}},{"$f":"IF(#REF!=16,25,0)","v":{"$error":"#REF!"}},{"$f":"IF(#REF!=17,24,0)","v":{"$error":"#REF!"}},{"$f":"IF(#REF!=18,23,0)","v":{"$error":"#REF!"}},{"$f":"IF(#REF!=19,22,0)","v":{"$error":"#REF!"}},{"$f":"IF(#REF!=20,21,0)","v":{"$error":"#REF!"}},{"$f":"IF(#REF!=21,20,0)","v":{"$error":"#REF!"}},{"$f":"IF(#REF!=22,19,0)","v":{"$error":"#REF!"}},{"$f":"IF(#REF!=23,18,0)","v":{"$error":"#REF!"}},{"$f":"IF(#REF!=24,17,0)","v":{"$error":"#REF!"}},{"$f":"IF(#REF!=25,16,0)","v":{"$error":"#REF!"}},{"$f":"IF(#REF!=26,15,0)","v":{"$error":"#REF!"}},{"$f":"IF(#REF!=27,14,0)","v":{"$error":"#REF!"}},{"$f":"IF(#REF!=28,13,0)","v":{"$error":"#REF!"}},{"$f":"IF(#REF!=29,12,0)","v":{"$error":"#REF!"}},{"$f":"IF(#REF!=30,11,0)","v":{"$error":"#REF!"}},{"$f":"IF(#REF!=31,10,0)","v":{"$error":"#REF!"}},{"$f":"IF(#REF!=32,9,0)","v":{"$error":"#REF!"}},{"$f":"IF(#REF!=33,8,0)","v":{"$error":"#REF!"}},{"$f":"IF(#REF!=34,7,0)","v":{"$error":"#REF!"}},{"$f":"IF(#REF!=35,6,0)","v":{"$error":"#REF!"}},{"$f":"IF(#REF!=36,5,0)","v":{"$error":"#REF!"}},{"$f":"IF(#REF!=37,4,0)","v":{"$error":"#REF!"}},{"$f":"IF(#REF!=38,3,0)","v":{"$error":"#REF!"}},{"$f":"IF(#REF!=39,2,0)","v":{"$error":"#REF!"}},{"$f":"IF(#REF!=40,1,0)","v":{"$error":"#REF!"}},{"$f":"IF(#REF!>20,0,0)","v":{"$error":"#REF!"}},{"$f":"IF(#REF!=\"сх\",0,0)","v":{"$error":"#REF!"}},{"$error":"#REF!"},{"$f":"IF(#REF!=1,45,0)","v":{"$error":"#REF!"}},{"$f":"IF(#REF!=2,42,0)","v":{"$error":"#REF!"}},{"$f":"IF(#REF!=3,40,0)","v":{"$error":"#REF!"}},{"$f":"IF(#REF!=4,38,0)","v":{"$error":"#REF!"}},{"$f":"IF(#REF!=5,36,0)","v":{"$error":"#REF!"}},{"$f":"IF(#REF!=6,35,0)","v":{"$error":"#REF!"}},{"$f":"IF(#REF!=7,34,0)","v":{"$error":"#REF!"}},{"$f":"IF(#REF!=8,33,0)","v":{"$error":"#REF!"}},{"$f":"IF(#REF!=9,32,0)","v":{"$error":"#REF!"}},{"$f":"IF(#REF!=10,31,0)","v":{"$error":"#REF!"}},{"$f":"IF(#REF!=11,30,0)","v":{"$error":"#REF!"}},{"$f":"IF(#REF!=12,29,0)","v":{"$error":"#REF!"}},{"$f":"IF(#REF!=13,28,0)","v":{"$error":"#REF!"}},{"$f":"IF(#REF!=14,27,0)","v":{"$error":"#REF!"}},{"$f":"IF(#REF!=15,26,0)","v":{"$error":"#REF!"}},{"$f":"IF(#REF!=16,25,0)","v":{"$error":"#REF!"}},{"$f":"IF(#REF!=17,24,0)","v":{"$error":"#REF!"}},{"$f":"IF(#REF!=18,23,0)","v":{"$error":"#REF!"}},{"$f":"IF(#REF!=19,22,0)","v":{"$error":"#REF!"}},{"$f":"IF(#REF!=20,21,0)","v":{"$error":"#REF!"}},{"$f":"IF(#REF!=21,20,0)","v":{"$error":"#REF!"}},{"$f":"IF(#REF!=22,19,0)","v":{"$error":"#REF!"}},{"$f":"IF(#REF!=23,18,0)","v":{"$error":"#REF!"}},{"$f":"IF(#REF!=24,17,0)","v":{"$error":"#REF!"}},{"$f":"IF(#REF!=25,16,0)","v":{"$error":"#REF!"}},{"$f":"IF(#REF!=26,15,0)","v":{"$error":"#REF!"}},{"$f":"IF(#REF!=27,14,0)","v":{"$error":"#REF!"}},{"$f":"IF(#REF!=28,13,0)","v":{"$error":"#REF!"}},{"$f":"IF(#REF!=29,12,0)","v":{"$error":"#REF!"}},{"$f":"IF(#REF!=30,11,0)","v":{"$error":"#REF!"}},{"$f":"IF(#REF!=31,10,0)","v":{"$error":"#REF!"}},{"$f":"IF(#REF!=32,9,0)","v":{"$error":"#REF!"}},{"$f":"IF(#REF!=33,8,0)","v":{"$error":"#REF!"}},{"$f":"IF(#REF!=34,7,0)","v":{"$error":"#REF!"}},{"$f":"IF(#REF!=35,6,0)","v":{"$error":"#REF!"}},{"$f":"IF(#REF!=36,5,0)","v":{"$error":"#REF!"}},{"$f":"IF(#REF!=37,4,0)","v":{"$error":"#REF!"}},{"$f":"IF(#REF!=38,3,0)","v":{"$error":"#REF!"}},{"$f":"IF(#REF!=39,2,0)","v":{"$error":"#REF!"}},{"$f":"IF(#REF!=40,1,0)","v":{"$error":"#REF!"}},{"$f":"IF(#REF!>20,0,0)","v":{"$error":"#REF!"}},{"$f":"IF(#REF!=\"сх\",0,0)","v":{"$error":"#REF!"}},{"$error":"#REF!"},null,{"$f":"IF(#REF!=\"сх\",\"ноль\",IF(#REF!>0,#REF!,\"Ноль\"))","v":{"$error":"#REF!"}},{"$f":"IF(#REF!=\"сх\",\"ноль\",IF(#REF!>0,#REF!,\"Ноль\"))","v":{"$error":"#REF!"}},null,{"$error":"#REF!"},{"$f":"IF(M11=#REF!,IF(#REF!<#REF!,#REF!,FB11),#REF!)","v":{"$error":"#REF!"}},{"$f":"IF(M11=#REF!,IF(#REF!<#REF!,0,1))","v":{"$error":"#REF!"}},{"$f":"IF(AND(EW11>=21,EW11<>0),EW11,IF(M11<#REF!,\"СТОП\",EX11+EY11))","v":{"$error":"#REF!"}},null,15,16,null,{"$f":"IF(#REF!=1,25,0)","v":{"$error":"#REF!"}},{"$f":"IF(#REF!=2,22,0)","v":{"$error":"#REF!"}},{"$f":"IF(#REF!=3,20,0)","v":{"$error":"#REF!"}},{"$f":"IF(#REF!=4,18,0)","v":{"$error":"#REF!"}},{"$f":"IF(#REF!=5,16,0)","v":{"$error":"#REF!"}},{"$f":"IF(#REF!=6,15,0)","v":{"$error":"#REF!"}},{"$f":"IF(#REF!=7,14,0)","v":{"$error":"#REF!"}},{"$f":"IF(#REF!=8,13,0)","v":{"$error":"#REF!"}},{"$f":"IF(#REF!=9,12,0)","v":{"$error":"#REF!"}},{"$f":"IF(#REF!=10,11,0)","v":{"$error":"#REF!"}},{"$f":"IF(#REF!=11,10,0)","v":{"$error":"#REF!"}},{"$f":"IF(#REF!=12,9,0)","v":{"$error":"#REF!"}},{"$f":"IF(#REF!=13,8,0)","v":{"$error":"#REF!"}},{"$f":"IF(#REF!=14,7,0)","v":{"$error":"#REF!"}},{"$f":"IF(#REF!=15,6,0)","v":{"$error":"#REF!"}},{"$f":"IF(#REF!=16,5,0)","v":{"$error":"#REF!"}},{"$f":"IF(#REF!=17,4,0)","v":{"$error":"#REF!"}},{"$f":"IF(#REF!=18,3,0)","v":{"$error":"#REF!"}},{"$f":"IF(#REF!=19,2,0)","v":{"$error":"#REF!"}},{"$f":"IF(#REF!=20,1,0)","v":{"$error":"#REF!"}},{"$f":"IF(#REF!>20,0,0)","v":{"$error":"#REF!"}},{"$f":"IF(#REF!=\"сх\",0,0)","v":{"$error":"#REF!"}},{"$error":"#REF!"},{"$f":"IF(#REF!=1,25,0)","v":{"$error":"#REF!"}},{"$f":"IF(#REF!=2,22,0)","v":{"$error":"#REF!"}},{"$f":"IF(#REF!=3,20,0)","v":{"$error":"#REF!"}},{"$f":"IF(#REF!=4,18,0)","v":{"$error":"#REF!"}},{"$f":"IF(#REF!=5,16,0)","v":{"$error":"#REF!"}},{"$f":"IF(#REF!=6,15,0)","v":{"$error":"#REF!"}},{"$f":"IF(#REF!=7,14,0)","v":{"$error":"#REF!"}},{"$f":"IF(#REF!=8,13,0)","v":{"$error":"#REF!"}},{"$f":"IF(#REF!=9,12,0)","v":{"$error":"#REF!"}},{"$f":"IF(#REF!=10,11,0)","v":{"$error":"#REF!"}},{"$f":"IF(#REF!=11,10,0)","v":{"$error":"#REF!"}},{"$f":"IF(#REF!=12,9,0)","v":{"$error":"#REF!"}},{"$f":"IF(#REF!=13,8,0)","v":{"$error":"#REF!"}},{"$f":"IF(#REF!=14,7,0)","v":{"$error":"#REF!"}},{"$f":"IF(#REF!=15,6,0)","v":{"$error":"#REF!"}},{"$f":"IF(#REF!=16,5,0)","v":{"$error":"#REF!"}},{"$f":"IF(#REF!=17,4,0)","v":{"$error":"#REF!"}},{"$f":"IF(#REF!=18,3,0)","v":{"$error":"#REF!"}},{"$f":"IF(#REF!=19,2,0)","v":{"$error":"#REF!"}},{"$f":"IF(#REF!=20,1,0)","v":{"$error":"#REF!"}},{"$f":"IF(#REF!>20,0,0)","v":{"$error":"#REF!"}},{"$f":"IF(#REF!=\"сх\",0,0)","v":{"$error":"#REF!"}},{"$error":"#REF!"},{"$f":"IF(#REF!=1,100,0)","v":{"$error":"#REF!"}},{"$f":"IF(#REF!=2,98,0)","v":{"$error":"#REF!"}},{"$f":"IF(#REF!=3,95,0)","v":{"$error":"#REF!"}},{"$f":"IF(#REF!=4,93,0)","v":{"$error":"#REF!"}},{"$f":"IF(#REF!=5,90,0)","v":{"$error":"#REF!"}},{"$f":"IF(#REF!=6,88,0)","v":{"$error":"#REF!"}},{"$f":"IF(#REF!=7,85,0)","v":{"$error":"#REF!"}},{"$f":"IF(#REF!=8,83,0)","v":{"$error":"#REF!"}},{"$f":"IF(#REF!=9,80,0)","v":{"$error":"#REF!"}},{"$f":"IF(#REF!=10,78,0)","v":{"$error":"#REF!"}},{"$f":"IF(#REF!=11,75,0)","v":{"$error":"#REF!"}},{"$f":"IF(#REF!=12,73,0)","v":{"$error":"#REF!"}},{"$f":"IF(#REF!=13,70,0)","v":{"$error":"#REF!"}},{"$f":"IF(#REF!=14,68,0)","v":{"$error":"#REF!"}},{"$f":"IF(#REF!=15,65,0)","v":{"$error":"#REF!"}},{"$f":"IF(#REF!=16,63,0)","v":{"$error":"#REF!"}},{"$f":"IF(#REF!=17,60,0)","v":{"$error":"#REF!"}},{"$f":"IF(#REF!=18,58,0)","v":{"$error":"#REF!"}},{"$f":"IF(#REF!=19,55,0)","v":{"$error":"#REF!"}},{"$f":"IF(#REF!=20,53,0)","v":{"$error":"#REF!"}},{"$f":"IF(#REF!>20,0,0)","v":{"$error":"#REF!"}},{"$f":"IF(#REF!=\"сх\",0,0)","v":{"$error":"#REF!"}},{"$error":"#REF!"},{"$f":"IF(#REF!=1,100,0)","v":{"$error":"#REF!"}},{"$f":"IF(#REF!=2,98,0)","v":{"$error":"#REF!"}},{"$f":"IF(#REF!=3,95,0)","v":{"$error":"#REF!"}},{"$f":"IF(#REF!=4,93,0)","v":{"$error":"#REF!"}},{"$f":"IF(#REF!=5,90,0)","v":{"$error":"#REF!"}},{"$f":"IF(#REF!=6,88,0)","v":{"$error":"#REF!"}},{"$f":"IF(#REF!=7,85,0)","v":{"$error":"#REF!"}},{"$f":"IF(#REF!=8,83,0)","v":{"$error":"#REF!"}},{"$f":"IF(#REF!=9,80,0)","v":{"$error":"#REF!"}},{"$f":"IF(#REF!=10,78,0)","v":{"$error":"#REF!"}},{"$f":"IF(#REF!=11,75,0)","v":{"$error":"#REF!"}},{"$f":"IF(#REF!=12,73,0)","v":{"$error":"#REF!"}},{"$f":"IF(#REF!=13,70,0)","v":{"$error":"#REF!"}},{"$f":"IF(#REF!=14,68,0)","v":{"$error":"#REF!"}},{"$f":"IF(#REF!=15,65,0)","v":{"$error":"#REF!"}},{"$f":"IF(#REF!=16,63,0)","v":{"$error":"#REF!"}},{"$f":"IF(#REF!=17,60,0)","v":{"$error":"#REF!"}},{"$f":"IF(#REF!=18,58,0)","v":{"$error":"#REF!"}},{"$f":"IF(#REF!=19,55,0)","v":{"$error":"#REF!"}},{"$f":"IF(#REF!=20,53,0)","v":{"$error":"#REF!"}},{"$f":"IF(#REF!>20,0,0)","v":{"$error":"#REF!"}},{"$f":"IF(#REF!=\"сх\",0,0)","v":{"$error":"#REF!"}},{"$error":"#REF!"}]
[3,9.1999999999999993,255,"Жовтоног Эдуард","кмс","г. Новый Уренгой, Ямало-Ненецкий АО","СТК \"Факел\"","Arctic - Cat",2,22,3,20,42,{"$f":"#REF!+#REF!","v":{"$error":"#REF!"}},null,null,{"$f":"IF(#REF!=1,25,0)","v":{"$error":"#REF!"}},{"$f":"IF(#REF!=2,22,0)","v":{"$error":"#REF!"}},{"$f":"IF(#REF!=3,20,0)","v":{"$error":"#REF!"}},{"$f":"IF(#REF!=4,18,0)","v":{"$error":"#REF!"}},{"$f":"IF(#REF!=5,16,0)","v":{"$error":"#REF!"}},{"$f":"IF(#REF!=6,15,0)","v":{"$error":"#REF!"}},{"$f":"IF(#REF!=7,14,0)","v":{"$error":"#REF!"}},{"$f":"IF(#REF!=8,13,0)","v":{"$error":"#REF!"}},{"$f":"IF(#REF!=9,12,0)","v":{"$error":"#REF!"}},{"$f":"IF(#REF!=10,11,0)","v":{"$error":"#REF!"}},{"$f":"IF(#REF!=11,10,0)","v":{"$error":"#REF!"}},{"$f":"IF(#REF!=12,9,0)","v":{"$error":"#REF!"}},{"$f":"IF(#REF!=13,8,0)","v":{"$error":"#REF!"}},{"$f":"IF(#REF!=14,7,0)","v":{"$error":"#REF!"}},{"$f":"IF(#REF!=15,6,0)","v":{"$error":"#REF!"}},{"$f":"IF(#REF!=16,5,0)","v":{"$error":"#REF!"}},{"$f":"IF(#REF!=17,4,0)","v":{"$error":"#REF!"}},{"$f":"IF(#REF!=18,3,0)","v":{"$error":"#REF!"}},{"$f":"IF(#REF!=19,2,0)","v":{"$error":"#REF!"}},{"$f":"IF(#REF!=20,1,0)","v":{"$error":"#REF!"}},{"$f":"IF(#REF!>20,0,0)","v":{"$error":"#REF!"}},{"$f":"IF(#REF!=\"сх\",0,0)","v":{"$error":"#REF!"}},{"$error":"#REF!"},{"$f":"IF(#REF!=1,25,0)","v":{"$error":"#REF!"}},{"$f":"IF(#REF!=2,22,0)","v":{"$error":"#REF!"}},{"$f":"IF(#REF!=3,20,0)","v":{"$error":"#REF!"}},{"$f":"IF(#REF!=4,18,0)","v":{"$error":"#REF!"}},{"$f":"IF(#REF!=5,16,0)","v":{"$error":"#REF!"}},{"$f":"IF(#REF!=6,15,0)","v":{"$error":"#REF!"}},{"$f":"IF(#REF!=7,14,0)","v":{"$error":"#REF!"}},{"$f":"IF(#REF!=8,13,0)","v":{"$error":"#REF!"}},{"$f":"IF(#REF!=9,12,0)","v":{"$error":"#REF!"}},{"$f":"IF(#REF!=10,11,0)","v":{"$error":"#REF!"}},{"$f":"IF(#REF!=11,10,0)","v":{"$error":"#REF!"}},{"$f":"IF(#REF!=12,9,0)","v":{"$error":"#REF!"}},{"$f":"IF(#REF!=13,8,0)","v":{"$error":"#REF!"}},{"$f":"IF(#REF!=14,7,0)","v":{"$error":"#REF!"}},{"$f":"IF(#REF!=15,6,0)","v":{"$error":"#REF!"}},{"$f":"IF(#REF!=16,5,0)","v":{"$error":"#REF!"}},{"$f":"IF(#REF!=17,4,0)","v":{"$error":"#REF!"}},{"$f":"IF(#REF!=18,3,0)","v":{"$error":"#REF!"}},{"$f":"IF(#REF!=19,2,0)","v":{"$error":"#REF!"}},{"$f":"IF(#REF!=20,1,0)","v":{"$error":"#REF!"}},{"$f":"IF(#REF!>20,0,0)","v":{"$error":"#REF!"}},{"$f":"IF(#REF!=\"сх\",0,0)","v":{"$error":"#REF!"}},{"$error":"#REF!"},{"$f":"IF(#REF!=1,45,0)","v":{"$error":"#REF!"}},{"$f":"IF(#REF!=2,42,0)","v":{"$error":"#REF!"}},{"$f":"IF(#REF!=3,40,0)","v":{"$error":"#REF!"}},{"$f":"IF(#REF!=4,38,0)","v":{"$error":"#REF!"}},{"$f":"IF(#REF!=5,36,0)","v":{"$error":"#REF!"}},{"$f":"IF(#REF!=6,35,0)","v":{"$error":"#REF!"}},{"$f":"IF(#REF!=7,34,0)","v":{"$error":"#REF!"}},{"$f":"IF(#REF!=8,33,0)","v":{"$error":"#REF!"}},{"$f":"IF(#REF!=9,32,0)","v":{"$error":"#REF!"}},{"$f":"IF(#REF!=10,31,0)","v":{"$error":"#REF!"}},{"$f":"IF(#REF!=11,30,0)","v":{"$error":"#REF!"}},{"$f":"IF(#REF!=12,29,0)","v":{"$error":"#REF!"}},{"$f":"IF(#REF!=13,28,0)","v":{"$error":"#REF!"}},{"$f":"IF(#REF!=14,27,0)","v":{"$error":"#REF!"}},{"$f":"IF(#REF!=15,26,0)","v":{"$error":"#REF!"}},{"$f":"IF(#REF!=16,25,0)","v":{"$error":"#REF!"}},{"$f":"IF(#REF!=17,24,0)","v":{"$error":"#REF!"}},{"$f":"IF(#REF!=18,23,0)","v":{"$error":"#REF!"}},{"$f":"IF(#REF!=19,22,0)","v":{"$error":"#REF!"}},{"$f":"IF(#REF!=20,21,0)","v":{"$error":"#REF!"}},{"$f":"IF(#REF!=21,20,0)","v":{"$error":"#REF!"}},{"$f":"IF(#REF!=22,19,0)","v":{"$error":"#REF!"}},{"$f":"IF(#REF!=23,18,0)","v":{"$error":"#REF!"}},{"$f":"IF(#REF!=24,17,0)","v":{"$error":"#REF!"}},{"$f":"IF(#REF!=25,16,0)","v":{"$error":"#REF!"}},{"$f":"IF(#REF!=26,15,0)","v":{"$error":"#REF!"}},{"$f":"IF(#REF!=27,14,0)","v":{"$error":"#REF!"}},{"$f":"IF(#REF!=28,13,0)","v":{"$error":"#REF!"}},{"$f":"IF(#REF!=29,12,0)","v":{"$error":"#REF!"}},{"$f":"IF(#REF!=30,11,0)","v":{"$error":"#REF!"}},{"$f":"IF(#REF!=31,10,0)","v":{"$error":"#REF!"}},{"$f":"IF(#REF!=32,9,0)","v":{"$error":"#REF!"}},{"$f":"IF(#REF!=33,8,0)","v":{"$error":"#REF!"}},{"$f":"IF(#REF!=34,7,0)","v":{"$error":"#REF!"}},{"$f":"IF(#REF!=35,6,0)","v":{"$error":"#REF!"}},{"$f":"IF(#REF!=36,5,0)","v":{"$error":"#REF!"}},{"$f":"IF(#REF!=37,4,0)","v":{"$error":"#REF!"}},{"$f":"IF(#REF!=38,3,0)","v":{"$error":"#REF!"}},{"$f":"IF(#REF!=39,2,0)","v":{"$error":"#REF!"}},{"$f":"IF(#REF!=40,1,0)","v":{"$error":"#REF!"}},{"$f":"IF(#REF!>20,0,0)","v":{"$error":"#REF!"}},{"$f":"IF(#REF!=\"сх\",0,0)","v":{"$error":"#REF!"}},{"$error":"#REF!"},{"$f":"IF(#REF!=1,45,0)","v":{"$error":"#REF!"}},{"$f":"IF(#REF!=2,42,0)","v":{"$error":"#REF!"}},{"$f":"IF(#REF!=3,40,0)","v":{"$error":"#REF!"}},{"$f":"IF(#REF!=4,38,0)","v":{"$error":"#REF!"}},{"$f":"IF(#REF!=5,36,0)","v":{"$error":"#REF!"}},{"$f":"IF(#REF!=6,35,0)","v":{"$error":"#REF!"}},{"$f":"IF(#REF!=7,34,0)","v":{"$error":"#REF!"}},{"$f":"IF(#REF!=8,33,0)","v":{"$error":"#REF!"}},{"$f":"IF(#REF!=9,32,0)","v":{"$error":"#REF!"}},{"$f":"IF(#REF!=10,31,0)","v":{"$error":"#REF!"}},{"$f":"IF(#REF!=11,30,0)","v":{"$error":"#REF!"}},{"$f":"IF(#REF!=12,29,0)","v":{"$error":"#REF!"}},{"$f":"IF(#REF!=13,28,0)","v":{"$error":"#REF!"}},{"$f":"IF(#REF!=14,27,0)","v":{"$error":"#REF!"}},{"$f":"IF(#REF!=15,26,0)","v":{"$error":"#REF!"}},{"$f":"IF(#REF!=16,25,0)","v":{"$error":"#REF!"}},{"$f":"IF(#REF!=17,24,0)","v":{"$error":"#REF!"}},{"$f":"IF(#REF!=18,23,0)","v":{"$error":"#REF!"}},{"$f":"IF(#REF!=19,22,0)","v":{"$error":"#REF!"}},{"$f":"IF(#REF!=20,21,0)","v":{"$error":"#REF!"}},{"$f":"IF(#REF!=21,20,0)","v":{"$error":"#REF!"}},{"$f":"IF(#REF!=22,19,0)","v":{"$error":"#REF!"}},{"$f":"IF(#REF!=23,18,0)","v":{"$error":"#REF!"}},{"$f":"IF(#REF!=24,17,0)","v":{"$error":"#REF!"}},{"$f":"IF(#REF!=25,16,0)","v":{"$error":"#REF!"}},{"$f":"IF(#REF!=26,15,0)","v":{"$error":"#REF!"}},{"$f":"IF(#REF!=27,14,0)","v":{"$error":"#REF!"}},{"$f":"IF(#REF!=28,13,0)","v":{"$error":"#REF!"}},{"$f":"IF(#REF!=29,12,0)","v":{"$error":"#REF!"}},{"$f":"IF(#REF!=30,11,0)","v":{"$error":"#REF!"}},{"$f":"IF(#REF!=31,10,0)","v":{"$error":"#REF!"}},{"$f":"IF(#REF!=32,9,0)","v":{"$error":"#REF!"}},{"$f":"IF(#REF!=33,8,0)","v":{"$error":"#REF!"}},{"$f":"IF(#REF!=34,7,0)","v":{"$error":"#REF!"}},{"$f":"IF(#REF!=35,6,0)","v":{"$error":"#REF!"}},{"$f":"IF(#REF!=36,5,0)","v":{"$error":"#REF!"}},{"$f":"IF(#REF!=37,4,0)","v":{"$error":"#REF!"}},{"$f":"IF(#REF!=38,3,0)","v":{"$error":"#REF!"}},{"$f":"IF(#REF!=39,2,0)","v":{"$error":"#REF!"}},{"$f":"IF(#REF!=40,1,0)","v":{"$error":"#REF!"}},{"$f":"IF(#REF!>20,0,0)","v":{"$error":"#REF!"}},{"$f":"IF(#REF!=\"сх\",0,0)","v":{"$error":"#REF!"}},{"$error":"#REF!"},null,{"$f":"IF(#REF!=\"сх\",\"ноль\",IF(#REF!>0,#REF!,\"Ноль\"))","v":{"$error":"#REF!"}},{"$f":"IF(#REF!=\"сх\",\"ноль\",IF(#REF!>0,#REF!,\"Ноль\"))","v":{"$error":"#REF!"}},null,{"$error":"#REF!"},{"$f":"IF(M12=#REF!,IF(#REF!<#REF!,#REF!,FB12),#REF!)","v":{"$error":"#REF!"}},{"$f":"IF(M12=#REF!,IF(#REF!<#REF!,0,1))","v":{"$error":"#REF!"}},{"$f":"IF(AND(EW12>=21,EW12<>0),EW12,IF(M12<#REF!,\"СТОП\",EX12+EY12))","v":{"$error":"#REF!"}},null,15,16,null,{"$f":"IF(#REF!=1,25,0)","v":{"$error":"#REF!"}},{"$f":"IF(#REF!=2,22,0)","v":{"$error":"#REF!"}},{"$f":"IF(#REF!=3,20,0)","v":{"$error":"#REF!"}},{"$f":"IF(#REF!=4,18,0)","v":{"$error":"#REF!"}},{"$f":"IF(#REF!=5,16,0)","v":{"$error":"#REF!"}},{"$f":"IF(#REF!=6,15,0)","v":{"$error":"#REF!"}},{"$f":"IF(#REF!=7,14,0)","v":{"$error":"#REF!"}},{"$f":"IF(#REF!=8,13,0)","v":{"$error":"#REF!"}},{"$f":"IF(#REF!=9,12,0)","v":{"$error":"#REF!"}},{"$f":"IF(#REF!=10,11,0)","v":{"$error":"#REF!"}},{"$f":"IF(#REF!=11,10,0)","v":{"$error":"#REF!"}},{"$f":"IF(#REF!=12,9,0)","v":{"$error":"#REF!"}},{"$f":"IF(#REF!=13,8,0)","v":{"$error":"#REF!"}},{"$f":"IF(#REF!=14,7,0)","v":{"$error":"#REF!"}},{"$f":"IF(#REF!=15,6,0)","v":{"$error":"#REF!"}},{"$f":"IF(#REF!=16,5,0)","v":{"$error":"#REF!"}},{"$f":"IF(#REF!=17,4,0)","v":{"$error":"#REF!"}},{"$f":"IF(#REF!=18,3,0)","v":{"$error":"#REF!"}},{"$f":"IF(#REF!=19,2,0)","v":{"$error":"#REF!"}},{"$f":"IF(#REF!=20,1,0)","v":{"$error":"#REF!"}},{"$f":"IF(#REF!>20,0,0)","v":{"$error":"#REF!"}},{"$f":"IF(#REF!=\"сх\",0,0)","v":{"$error":"#REF!"}},{"$error":"#REF!"},{"$f":"IF(#REF!=1,25,0)","v":{"$error":"#REF!"}},{"$f":"IF(#REF!=2,22,0)","v":{"$error":"#REF!"}},{"$f":"IF(#REF!=3,20,0)","v":{"$error":"#REF!"}},{"$f":"IF(#REF!=4,18,0)","v":{"$error":"#REF!"}},{"$f":"IF(#REF!=5,16,0)","v":{"$error":"#REF!"}},{"$f":"IF(#REF!=6,15,0)","v":{"$error":"#REF!"}},{"$f":"IF(#REF!=7,14,0)","v":{"$error":"#REF!"}},{"$f":"IF(#REF!=8,13,0)","v":{"$error":"#REF!"}},{"$f":"IF(#REF!=9,12,0)","v":{"$error":"#REF!"}},{"$f":"IF(#REF!=10,11,0)","v":{"$error":"#REF!"}},{"$f":"IF(#REF!=11,10,0)","v":{"$error":"#REF!"}},{"$f":"IF(#REF!=12,9,0)","v":{"$error":"#REF!"}},{"$f":"IF(#REF!=13,8,0)","v":{"$error":"#REF!"}},{"$f":"IF(#REF!=14,7,0)","v":{"$error":"#REF!"}},{"$f":"IF(#REF!=15,6,0)","v":{"$error":"#REF!"}},{"$f":"IF(#REF!=16,5,0)","v":{"$error":"#REF!"}},{"$f":"IF(#REF!=17,4,0)","v":{"$error":"#REF!"}},{"$f":"IF(#REF!=18,3,0)","v":{"$error":"#REF!"}},{"$f":"IF(#REF!=19,2,0)","v":{"$error":"#REF!"}},{"$f":"IF(#REF!=20,1,0)","v":{"$error":"#REF!"}},{"$f":"IF(#REF!>20,0,0)","v":{"$error":"#REF!"}},{"$f":"IF(#REF!=\"сх\",0,0)","v":{"$error":"#REF!"}},{"$error":"#REF!"},{"$f":"IF(#REF!=1,100,0)","v":{"$error":"#REF!"}},{"$f":"IF(#REF!=2,98,0)","v":{"$error":"#REF!"}},{"$f":"IF(#REF!=3,95,0)","v":{"$error":"#REF!"}},{"$f":"IF(#REF!=4,93,0)","v":{"$error":"#REF!"}},{"$f":"IF(#REF!=5,90,0)","v":{"$error":"#REF!"}},{"$f":"IF(#REF!=6,88,0)","v":{"$error":"#REF!"}},{"$f":"IF(#REF!=7,85,0)","v":{"$error":"#REF!"}},{"$f":"IF(#REF!=8,83,0)","v":{"$error":"#REF!"}},{"$f":"IF(#REF!=9,80,0)","v":{"$error":"#REF!"}},{"$f":"IF(#REF!=10,78,0)","v":{"$error":"#REF!"}},{"$f":"IF(#REF!=11,75,0)","v":{"$error":"#REF!"}},{"$f":"IF(#REF!=12,73,0)","v":{"$error":"#REF!"}},{"$f":"IF(#REF!=13,70,0)","v":{"$error":"#REF!"}},{"$f":"IF(#REF!=14,68,0)","v":{"$error":"#REF!"}},{"$f":"IF(#REF!=15,65,0)","v":{"$error":"#REF!"}},{"$f":"IF(#REF!=16,63,0)","v":{"$error":"#REF!"}},{"$f":"IF(#REF!=17,60,0)","v":{"$error":"#REF!"}},{"$f":"IF(#REF!=18,58,0)","v":{"$error":"#REF!"}},{"$f":"IF(#REF!=19,55,0)","v":{"$error":"#REF!"}},{"$f":"IF(#REF!=20,53,0)","v":{"$error":"#REF!"}},{"$f":"IF(#REF!>20,0,0)","v":{"$error":"#REF!"}},{"$f":"IF(#REF!=\"сх\",0,0)","v":{"$error":"#REF!"}},{"$error":"#REF!"},{"$f":"IF(#REF!=1,100,0)","v":{"$error":"#REF!"}},{"$f":"IF(#REF!=2,98,0)","v":{"$error":"#REF!"}},{"$f":"IF(#REF!=3,95,0)","v":{"$error":"#REF!"}},{"$f":"IF(#REF!=4,93,0)","v":{"$error":"#REF!"}},{"$f":"IF(#REF!=5,90,0)","v":{"$error":"#REF!"}},{"$f":"IF(#REF!=6,88,0)","v":{"$error":"#REF!"}},{"$f":"IF(#REF!=7,85,0)","v":{"$error":"#REF!"}},{"$f":"IF(#REF!=8,83,0)","v":{"$error":"#REF!"}},{"$f":"IF(#REF!=9,80,0)","v":{"$error":"#REF!"}},{"$f":"IF(#REF!=10,78,0)","v":{"$error":"#REF!"}},{"$f":"IF(#REF!=11,75,0)","v":{"$error":"#REF!"}},{"$f":"IF(#REF!=12,73,0)","v":{"$error":"#REF!"}},{"$f":"IF(#REF!=13,70,0)","v":{"$error":"#REF!"}},{"$f":"IF(#REF!=14,68,0)","v":{"$error":"#REF!"}},{"$f":"IF(#REF!=15,65,0)","v":{"$error":"#REF!"}},{"$f":"IF(#REF!=16,63,0)","v":{"$error":"#REF!"}},{"$f":"IF(#REF!=17,60,0)","v":{"$error":"#REF!"}},{"$f":"IF(#REF!=18,58,0)","v":{"$error":"#REF!"}},{"$f":"IF(#REF!=19,55,0)","v":{"$error":"#REF!"}},{"$f":"IF(#REF!=20,53,0)","v":{"$error":"#REF!"}},{"$f":"IF(#REF!>20,0,0)","v":{"$error":"#REF!"}},{"$f":"IF(#REF!=\"сх\",0,0)","v":{"$error":"#REF!"}},{"$error":"#REF!"}]
[4,9,102,"Прокопченко Евгений","б/р","г. Сургут, Ханты-Мансийский АО-Югра","лично","Polaris",4,18,5,16,34,{"$f":"#REF!+#REF!","v":{"$error":"#REF!"}},null,null,{"$f":"IF(#REF!=1,25,0)","v":{"$error":"#REF!"}},{"$f":"IF(#REF!=2,22,0)","v":{"$error":"#REF!"}},{"$f":"IF(#REF!=3,20,0)","v":{"$error":"#REF!"}},{"$f":"IF(#REF!=4,18,0)","v":{"$error":"#REF!"}},{"$f":"IF(#REF!=5,16,0)","v":{"$error":"#REF!"}},{"$f":"IF(#REF!=6,15,0)","v":{"$error":"#REF!"}},{"$f":"IF(#REF!=7,14,0)","v":{"$error":"#REF!"}},{"$f":"IF(#REF!=8,13,0)","v":{"$error":"#REF!"}},{"$f":"IF(#REF!=9,12,0)","v":{"$error":"#REF!"}},{"$f":"IF(#REF!=10,11,0)","v":{"$error":"#REF!"}},{"$f":"IF(#REF!=11,10,0)","v":{"$error":"#REF!"}},{"$f":"IF(#REF!=12,9,0)","v":{"$error":"#REF!"}},{"$f":"IF(#REF!=13,8,0)","v":{"$error":"#REF!"}},{"$f":"IF(#REF!=14,7,0)","v":{"$error":"#REF!"}},{"$f":"IF(#REF!=15,6,0)","v":{"$error":"#REF!"}},{"$f":"IF(#REF!=16,5,0)","v":{"$error":"#REF!"}},{"$f":"IF(#REF!=17,4,0)","v":{"$error":"#REF!"}},{"$f":"IF(#REF!=18,3,0)","v":{"$error":"#REF!"}},{"$f":"IF(#REF!=19,2,0)","v":{"$error":"#REF!"}},{"$f":"IF(#REF!=20,1,0)","v":{"$error":"#REF!"}},{"$f":"IF(#REF!>20,0,0)","v":{"$error":"#REF!"}},{"$f":"IF(#REF!=\"сх\",0,0)","v":{"$error":"#REF!"}},{"$error":"#REF!"},{"$f":"IF(#REF!=1,25,0)","v":{"$error":"#REF!"}},{"$f":"IF(#REF!=2,22,0)","v":{"$error":"#REF!"}},{"$f":"IF(#REF!=3,20,0)","v":{"$error":"#REF!"}},{"$f":"IF(#REF!=4,18,0)","v":{"$error":"#REF!"}},{"$f":"IF(#REF!=5,16,0)","v":{"$error":"#REF!"}},{"$f":"IF(#REF!=6,15,0)","v":{"$error":"#REF!"}},{"$f":"IF(#REF!=7,14,0)","v":{"$error":"#REF!"}},{"$f":"IF(#REF!=8,13,0)","v":{"$error":"#REF!"}},{"$f":"IF(#REF!=9,12,0)","v":{"$error":"#REF!"}},{"$f":"IF(#REF!=10,11,0)","v":{"$error":"#REF!"}},{"$f":"IF(#REF!=11,10,0)","v":{"$error":"#REF!"}},{"$f":"IF(#REF!=12,9,0)","v":{"$error":"#REF!"}},{"$f":"IF(#REF!=13,8,0)","v":{"$error":"#REF!"}},{"$f":"IF(#REF!=14,7,0)","v":{"$error":"#REF!"}},{"$f":"IF(#REF!=15,6,0)","v":{"$error":"#REF!"}},{"$f":"IF(#REF!=16,5,0)","v":{"$error":"#REF!"}},{"$f":"IF(#REF!=17,4,0)","v":{"$error":"#REF!"}},{"$f":"IF(#REF!=18,3,0)","v":{"$error":"#REF!"}},{"$f":"IF(#REF!=19,2,0)","v":{"$error":"#REF!"}},{"$f":"IF(#REF!=20,1,0)","v":{"$error":"#REF!"}},{"$f":"IF(#REF!>20,0,0)","v":{"$error":"#REF!"}},{"$f":"IF(#REF!=\"сх\",0,0)","v":{"$error":"#REF!"}},{"$error":"#REF!"},{"$f":"IF(#REF!=1,45,0)","v":{"$error":"#REF!"}},{"$f":"IF(#REF!=2,42,0)","v":{"$error":"#REF!"}},{"$f":"IF(#REF!=3,40,0)","v":{"$error":"#REF!"}},{"$f":"IF(#REF!=4,38,0)","v":{"$error":"#REF!"}},{"$f":"IF(#REF!=5,36,0)","v":{"$error":"#REF!"}},{"$f":"IF(#REF!=6,35,0)","v":{"$error":"#REF!"}},{"$f":"IF(#REF!=7,34,0)","v":{"$error":"#REF!"}},{"$f":"IF(#REF!=8,33,0)","v":{"$error":"#REF!"}},{"$f":"IF(#REF!=9,32,0)","v":{"$error":"#REF!"}},{"$f":"IF(#REF!=10,31,0)","v":{"$error":"#REF!"}},{"$f":"IF(#REF!=11,30,0)","v":{"$error":"#REF!"}},{"$f":"IF(#REF!=12,29,0)","v":{"$error":"#REF!"}},{"$f":"IF(#REF!=13,28,0)","v":{"$error":"#REF!"}},{"$f":"IF(#REF!=14,27,0)","v":{"$error":"#REF!"}},{"$f":"IF(#REF!=15,26,0)","v":{"$error":"#REF!"}},{"$f":"IF(#REF!=16,25,0)","v":{"$error":"#REF!"}},{"$f":"IF(#REF!=17,24,0)","v":{"$error":"#REF!"}},{"$f":"IF(#REF!=18,23,0)","v":{"$error":"#REF!"}},{"$f":"IF(#REF!=19,22,0)","v":{"$error":"#REF!"}},{"$f":"IF(#REF!=20,21,0)","v":{"$error":"#REF!"}},{"$f":"IF(#REF!=21,20,0)","v":{"$error":"#REF!"}},{"$f":"IF(#REF!=22,19,0)","v":{"$error":"#REF!"}},{"$f":"IF(#REF!=23,18,0)","v":{"$error":"#REF!"}},{"$f":"IF(#REF!=24,17,0)","v":{"$error":"#REF!"}},{"$f":"IF(#REF!=25,16,0)","v":{"$error":"#REF!"}},{"$f":"IF(#REF!=26,15,0)","v":{"$error":"#REF!"}},{"$f":"IF(#REF!=27,14,0)","v":{"$error":"#REF!"}},{"$f":"IF(#REF!=28,13,0)","v":{"$error":"#REF!"}},{"$f":"IF(#REF!=29,12,0)","v":{"$error":"#REF!"}},{"$f":"IF(#REF!=30,11,0)","v":{"$error":"#REF!"}},{"$f":"IF(#REF!=31,10,0)","v":{"$error":"#REF!"}},{"$f":"IF(#REF!=32,9,0)","v":{"$error":"#REF!"}},{"$f":"IF(#REF!=33,8,0)","v":{"$error":"#REF!"}},{"$f":"IF(#REF!=34,7,0)","v":{"$error":"#REF!"}},{"$f":"IF(#REF!=35,6,0)","v":{"$error":"#REF!"}},{"$f":"IF(#REF!=36,5,0)","v":{"$error":"#REF!"}},{"$f":"IF(#REF!=37,4,0)","v":{"$error":"#REF!"}},{"$f":"IF(#REF!=38,3,0)","v":{"$error":"#REF!"}},{"$f":"IF(#REF!=39,2,0)","v":{"$error":"#REF!"}},{"$f":"IF(#REF!=40,1,0)","v":{"$error":"#REF!"}},{"$f":"IF(#REF!>20,0,0)","v":{"$error":"#REF!"}},{"$f":"IF(#REF!=\"сх\",0,0)","v":{"$error":"#REF!"}},{"$error":"#REF!"},{"$f":"IF(#REF!=1,45,0)","v":{"$error":"#REF!"}},{"$f":"IF(#REF!=2,42,0)","v":{"$error":"#REF!"}},{"$f":"IF(#REF!=3,40,0)","v":{"$error":"#REF!"}},{"$f":"IF(#REF!=4,38,0)","v":{"$error":"#REF!"}},{"$f":"IF(#REF!=5,36,0)","v":{"$error":"#REF!"}},{"$f":"IF(#REF!=6,35,0)","v":{"$error":"#REF!"}},{"$f":"IF(#REF!=7,34,0)","v":{"$error":"#REF!"}},{"$f":"IF(#REF!=8,33,0)","v":{"$error":"#REF!"}},{"$f":"IF(#REF!=9,32,0)","v":{"$error":"#REF!"}},{"$f":"IF(#REF!=10,31,0)","v":{"$error":"#REF!"}},{"$f":"IF(#REF!=11,30,0)","v":{"$error":"#REF!"}},{"$f":"IF(#REF!=12,29,0)","v":{"$error":"#REF!"}},{"$f":"IF(#REF!=13,28,0)","v":{"$error":"#REF!"}},{"$f":"IF(#REF!=14,27,0)","v":{"$error":"#REF!"}},{"$f":"IF(#REF!=15,26,0)","v":{"$error":"#REF!"}},{"$f":"IF(#REF!=16,25,0)","v":{"$error":"#REF!"}},{"$f":"IF(#REF!=17,24,0)","v":{"$error":"#REF!"}},{"$f":"IF(#REF!=18,23,0)","v":{"$error":"#REF!"}},{"$f":"IF(#REF!=19,22,0)","v":{"$error":"#REF!"}},{"$f":"IF(#REF!=20,21,0)","v":{"$error":"#REF!"}},{"$f":"IF(#REF!=21,20,0)","v":{"$error":"#REF!"}},{"$f":"IF(#REF!=22,19,0)","v":{"$error":"#REF!"}},{"$f":"IF(#REF!=23,18,0)","v":{"$error":"#REF!"}},{"$f":"IF(#REF!=24,17,0)","v":{"$error":"#REF!"}},{"$f":"IF(#REF!=25,16,0)","v":{"$error":"#REF!"}},{"$f":"IF(#REF!=26,15,0)","v":{"$error":"#REF!"}},{"$f":"IF(#REF!=27,14,0)","v":{"$error":"#REF!"}},{"$f":"IF(#REF!=28,13,0)","v":{"$error":"#REF!"}},{"$f":"IF(#REF!=29,12,0)","v":{"$error":"#REF!"}},{"$f":"IF(#REF!=30,11,0)","v":{"$error":"#REF!"}},{"$f":"IF(#REF!=31,10,0)","v":{"$error":"#REF!"}},{"$f":"IF(#REF!=32,9,0)","v":{"$error":"#REF!"}},{"$f":"IF(#REF!=33,8,0)","v":{"$error":"#REF!"}},{"$f":"IF(#REF!=34,7,0)","v":{"$error":"#REF!"}},{"$f":"IF(#REF!=35,6,0)","v":{"$error":"#REF!"}},{"$f":"IF(#REF!=36,5,0)","v":{"$error":"#REF!"}},{"$f":"IF(#REF!=37,4,0)","v":{"$error":"#REF!"}},{"$f":"IF(#REF!=38,3,0)","v":{"$error":"#REF!"}},{"$f":"IF(#REF!=39,2,0)","v":{"$error":"#REF!"}},{"$f":"IF(#REF!=40,1,0)","v":{"$error":"#REF!"}},{"$f":"IF(#REF!>20,0,0)","v":{"$error":"#REF!"}},{"$f":"IF(#REF!=\"сх\",0,0)","v":{"$error":"#REF!"}},{"$error":"#REF!"},null,{"$f":"IF(#REF!=\"сх\",\"ноль\",IF(#REF!>0,#REF!,\"Ноль\"))","v":{"$error":"#REF!"}},{"$f":"IF(#REF!=\"сх\",\"ноль\",IF(#REF!>0,#REF!,\"Ноль\"))","v":{"$error":"#REF!"}},null,{"$error":"#REF!"},{"$f":"IF(M13=#REF!,IF(#REF!<#REF!,#REF!,FB13),#REF!)","v":{"$error":"#REF!"}},{"$f":"IF(M13=#REF!,IF(#REF!<#REF!,0,1))","v":{"$error":"#REF!"}},{"$f":"IF(AND(EW13>=21,EW13<>0),EW13,IF(M13<#REF!,\"СТОП\",EX13+EY13))","v":{"$error":"#REF!"}},null,15,16,null,{"$f":"IF(#REF!=1,25,0)","v":{"$error":"#REF!"}},{"$f":"IF(#REF!=2,22,0)","v":{"$error":"#REF!"}},{"$f":"IF(#REF!=3,20,0)","v":{"$error":"#REF!"}},{"$f":"IF(#REF!=4,18,0)","v":{"$error":"#REF!"}},{"$f":"IF(#REF!=5,16,0)","v":{"$error":"#REF!"}},{"$f":"IF(#REF!=6,15,0)","v":{"$error":"#REF!"}},{"$f":"IF(#REF!=7,14,0)","v":{"$error":"#REF!"}},{"$f":"IF(#REF!=8,13,0)","v":{"$error":"#REF!"}},{"$f":"IF(#REF!=9,12,0)","v":{"$error":"#REF!"}},{"$f":"IF(#REF!=10,11,0)","v":{"$error":"#REF!"}},{"$f":"IF(#REF!=11,10,0)","v":{"$error":"#REF!"}},{"$f":"IF(#REF!=12,9,0)","v":{"$error":"#REF!"}},{"$f":"IF(#REF!=13,8,0)","v":{"$error":"#REF!"}},{"$f":"IF(#REF!=14,7,0)","v":{"$error":"#REF!"}},{"$f":"IF(#REF!=15,6,0)","v":{"$error":"#REF!"}},{"$f":"IF(#REF!=16,5,0)","v":{"$error":"#REF!"}},{"$f":"IF(#REF!=17,4,0)","v":{"$error":"#REF!"}},{"$f":"IF(#REF!=18,3,0)","v":{"$error":"#REF!"}},{"$f":"IF(#REF!=19,2,0)","v":{"$error":"#REF!"}},{"$f":"IF(#REF!=20,1,0)","v":{"$error":"#REF!"}},{"$f":"IF(#REF!>20,0,0)","v":{"$error":"#REF!"}},{"$f":"IF(#REF!=\"сх\",0,0)","v":{"$error":"#REF!"}},{"$error":"#REF!"},{"$f":"IF(#REF!=1,25,0)","v":{"$error":"#REF!"}},{"$f":"IF(#REF!=2,22,0)","v":{"$error":"#REF!"}},{"$f":"IF(#REF!=3,20,0)","v":{"$error":"#REF!"}},{"$f":"IF(#REF!=4,18,0)","v":{"$error":"#REF!"}},{"$f":"IF(#REF!=5,16,0)","v":{"$error":"#REF!"}},{"$f":"IF(#REF!=6,15,0)","v":{"$error":"#REF!"}},{"$f":"IF(#REF!=7,14,0)","v":{"$error":"#REF!"}},{"$f":"IF(#REF!=8,13,0)","v":{"$error":"#REF!"}},{"$f":"IF(#REF!=9,12,0)","v":{"$error":"#REF!"}},{"$f":"IF(#REF!=10,11,0)","v":{"$error":"#REF!"}},{"$f":"IF(#REF!=11,10,0)","v":{"$error":"#REF!"}},{"$f":"IF(#REF!=12,9,0)","v":{"$error":"#REF!"}},{"$f":"IF(#REF!=13,8,0)","v":{"$error":"#REF!"}},{"$f":"IF(#REF!=14,7,0)","v":{"$error":"#REF!"}},{"$f":"IF(#REF!=15,6,0)","v":{"$error":"#REF!"}},{"$f":"IF(#REF!=16,5,0)","v":{"$error":"#REF!"}},{"$f":"IF(#REF!=17,4,0)","v":{"$error":"#REF!"}},{"$f":"IF(#REF!=18,3,0)","v":{"$error":"#REF!"}},{"$f":"IF(#REF!=19,2,0)","v":{"$error":"#REF!"}},{"$f":"IF(#REF!=20,1,0)","v":{"$error":"#REF!"}},{"$f":"IF(#REF!>20,0,0)","v":{"$error":"#REF!"}},{"$f":"IF(#REF!=\"сх\",0,0)","v":{"$error":"#REF!"}},{"$error":"#REF!"},{"$f":"IF(#REF!=1,100,0)","v":{"$error":"#REF!"}},{"$f":"IF(#REF!=2,98,0)","v":{"$error":"#REF!"}},{"$f":"IF(#REF!=3,95,0)","v":{"$error":"#REF!"}},{"$f":"IF(#REF!=4,93,0)","v":{"$error":"#REF!"}},{"$f":"IF(#REF!=5,90,0)","v":{"$error":"#REF!"}},{"$f":"IF(#REF!=6,88,0)","v":{"$error":"#REF!"}},{"$f":"IF(#REF!=7,85,0)","v":{"$error":"#REF!"}},{"$f":"IF(#REF!=8,83,0)","v":{"$error":"#REF!"}},{"$f":"IF(#REF!=9,80,0)","v":{"$error":"#REF!"}},{"$f":"IF(#REF!=10,78,0)","v":{"$error":"#REF!"}},{"$f":"IF(#REF!=11,75,0)","v":{"$error":"#REF!"}},{"$f":"IF(#REF!=12,73,0)","v":{"$error":"#REF!"}},{"$f":"IF(#REF!=13,70,0)","v":{"$error":"#REF!"}},{"$f":"IF(#REF!=14,68,0)","v":{"$error":"#REF!"}},{"$f":"IF(#REF!=15,65,0)","v":{"$error":"#REF!"}},{"$f":"IF(#REF!=16,63,0)","v":{"$error":"#REF!"}},{"$f":"IF(#REF!=17,60,0)","v":{"$error":"#REF!"}},{"$f":"IF(#REF!=18,58,0)","v":{"$error":"#REF!"}},{"$f":"IF(#REF!=19,55,0)","v":{"$error":"#REF!"}},{"$f":"IF(#REF!=20,53,0)","v":{"$error":"#REF!"}},{"$f":"IF(#REF!>20,0,0)","v":{"$error":"#REF!"}},{"$f":"IF(#REF!=\"сх\",0,0)","v":{"$error":"#REF!"}},{"$error":"#REF!"},{"$f":"IF(#REF!=1,100,0)","v":{"$error":"#REF!"}},{"$f":"IF(#REF!=2,98,0)","v":{"$error":"#REF!"}},{"$f":"IF(#REF!=3,95,0)","v":{"$error":"#REF!"}},{"$f":"IF(#REF!=4,93,0)","v":{"$error":"#REF!"}},{"$f":"IF(#REF!=5,90,0)","v":{"$error":"#REF!"}},{"$f":"IF(#REF!=6,88,0)","v":{"$error":"#REF!"}},{"$f":"IF(#REF!=7,85,0)","v":{"$error":"#REF!"}},{"$f":"IF(#REF!=8,83,0)","v":{"$error":"#REF!"}},{"$f":"IF(#REF!=9,80,0)","v":{"$error":"#REF!"}},{"$f":"IF(#REF!=10,78,0)","v":{"$error":"#REF!"}},{"$f":"IF(#REF!=11,75,0)","v":{"$error":"#REF!"}},{"$f":"IF(#REF!=12,73,0)","v":{"$error":"#REF!"}},{"$f":"IF(#REF!=13,70,0)","v":{"$error":"#REF!"}},{"$f":"IF(#REF!=14,68,0)","v":{"$error":"#REF!"}},{"$f":"IF(#REF!=15,65,0)","v":{"$error":"#REF!"}},{"$f":"IF(#REF!=16,63,0)","v":{"$error":"#REF!"}},{"$f":"IF(#REF!=17,60,0)","v":{"$error":"#REF!"}},{"$f":"IF(#REF!=18,58,0)","v":{"$error":"#REF!"}},{"$f":"IF(#REF!=19,55,0)","v":{"$error":"#REF!"}},{"$f":"IF(#REF!=20,53,0)","v":{"$error":"#REF!"}},{"$f":"IF(#REF!>20,0,0)","v":{"$error":"#REF!"}},{"$f":"IF(#REF!=\"сх\",0,0)","v":{"$error":"#REF!"}},{"$error":"#REF!"}]
[5,8.8000000000000007,125,"Григорьев Евгений","б/р","г. Новый Уренгой, Ямало-Ненецкий АО","МАУ МЦ \"НОРД\"","Yam",6,15,4,18,33,{"$f":"#REF!+#REF!","v":{"$error":"#REF!"}},null,null,{"$f":"IF(#REF!=1,25,0)","v":{"$error":"#REF!"}},{"$f":"IF(#REF!=2,22,0)","v":{"$error":"#REF!"}},{"$f":"IF(#REF!=3,20,0)","v":{"$error":"#REF!"}},{"$f":"IF(#REF!=4,18,0)","v":{"$error":"#REF!"}},{"$f":"IF(#REF!=5,16,0)","v":{"$error":"#REF!"}},{"$f":"IF(#REF!=6,15,0)","v":{"$error":"#REF!"}},{"$f":"IF(#REF!=7,14,0)","v":{"$error":"#REF!"}},{"$f":"IF(#REF!=8,13,0)","v":{"$error":"#REF!"}},{"$f":"IF(#REF!=9,12,0)","v":{"$error":"#REF!"}},{"$f":"IF(#REF!=10,11,0)","v":{"$error":"#REF!"}},{"$f":"IF(#REF!=11,10,0)","v":{"$error":"#REF!"}},{"$f":"IF(#REF!=12,9,0)","v":{"$error":"#REF!"}},{"$f":"IF(#REF!=13,8,0)","v":{"$error":"#REF!"}},{"$f":"IF(#REF!=14,7,0)","v":{"$error":"#REF!"}},{"$f":"IF(#REF!=15,6,0)","v":{"$error":"#REF!"}},{"$f":"IF(#REF!=16,5,0)","v":{"$error":"#REF!"}},{"$f":"IF(#REF!=17,4,0)","v":{"$error":"#REF!"}},{"$f":"IF(#REF!=18,3,0)","v":{"$error":"#REF!"}},{"$f":"IF(#REF!=19,2,0)","v":{"$error":"#REF!"}},{"$f":"IF(#REF!=20,1,0)","v":{"$error":"#REF!"}},{"$f":"IF(#REF!>20,0,0)","v":{"$error":"#REF!"}},{"$f":"IF(#REF!=\"сх\",0,0)","v":{"$error":"#REF!"}},{"$error":"#REF!"},{"$f":"IF(#REF!=1,25,0)","v":{"$error":"#REF!"}},{"$f":"IF(#REF!=2,22,0)","v":{"$error":"#REF!"}},{"$f":"IF(#REF!=3,20,0)","v":{"$error":"#REF!"}},{"$f":"IF(#REF!=4,18,0)","v":{"$error":"#REF!"}},{"$f":"IF(#REF!=5,16,0)","v":{"$error":"#REF!"}},{"$f":"IF(#REF!=6,15,0)","v":{"$error":"#REF!"}},{"$f":"IF(#REF!=7,14,0)","v":{"$error":"#REF!"}},{"$f":"IF(#REF!=8,13,0)","v":{"$error":"#REF!"}},{"$f":"IF(#REF!=9,12,0)","v":{"$error":"#REF!"}},{"$f":"IF(#REF!=10,11,0)","v":{"$error":"#REF!"}},{"$f":"IF(#REF!=11,10,0)","v":{"$error":"#REF!"}},{"$f":"IF(#REF!=12,9,0)","v":{"$error":"#REF!"}},{"$f":"IF(#REF!=13,8,0)","v":{"$error":"#REF!"}},{"$f":"IF(#REF!=14,7,0)","v":{"$error":"#REF!"}},{"$f":"IF(#REF!=15,6,0)","v":{"$error":"#REF!"}},{"$f":"IF(#REF!=16,5,0)","v":{"$error":"#REF!"}},{"$f":"IF(#REF!=17,4,0)","v":{"$error":"#REF!"}},{"$f":"IF(#REF!=18,3,0)","v":{"$error":"#REF!"}},{"$f":"IF(#REF!=19,2,0)","v":{"$error":"#REF!"}},{"$f":"IF(#REF!=20,1,0)","v":{"$error":"#REF!"}},{"$f":"IF(#REF!>20,0,0)","v":{"$error":"#REF!"}},{"$f":"IF(#REF!=\"сх\",0,0)","v":{"$error":"#REF!"}},{"$error":"#REF!"},{"$f":"IF(#REF!=1,45,0)","v":{"$error":"#REF!"}},{"$f":"IF(#REF!=2,42,0)","v":{"$error":"#REF!"}},{"$f":"IF(#REF!=3,40,0)","v":{"$error":"#REF!"}},{"$f":"IF(#REF!=4,38,0)","v":{"$error":"#REF!"}},{"$f":"IF(#REF!=5,36,0)","v":{"$error":"#REF!"}},{"$f":"IF(#REF!=6,35,0)","v":{"$error":"#REF!"}},{"$f":"IF(#REF!=7,34,0)","v":{"$error":"#REF!"}},{"$f":"IF(#REF!=8,33,0)","v":{"$error":"#REF!"}},{"$f":"IF(#REF!=9,32,0)","v":{"$error":"#REF!"}},{"$f":"IF(#REF!=10,31,0)","v":{"$error":"#REF!"}},{"$f":"IF(#REF!=11,30,0)","v":{"$error":"#REF!"}},{"$f":"IF(#REF!=12,29,0)","v":{"$error":"#REF!"}},{"$f":"IF(#REF!=13,28,0)","v":{"$error":"#REF!"}},{"$f":"IF(#REF!=14,27,0)","v":{"$error":"#REF!"}},{"$f":"IF(#REF!=15,26,0)","v":{"$error":"#REF!"}},{"$f":"IF(#REF!=16,25,0)","v":{"$error":"#REF!"}},{"$f":"IF(#REF!=17,24,0)","v":{"$error":"#REF!"}},{"$f":"IF(#REF!=18,23,0)","v":{"$error":"#REF!"}},{"$f":"IF(#REF!=19,22,0)","v":{"$error":"#REF!"}},{"$f":"IF(#REF!=20,21,0)","v":{"$error":"#REF!"}},{"$f":"IF(#REF!=21,20,0)","v":{"$error":"#REF!"}},{"$f":"IF(#REF!=22,19,0)","v":{"$error":"#REF!"}},{"$f":"IF(#REF!=23,18,0)","v":{"$error":"#REF!"}},{"$f":"IF(#REF!=24,17,0)","v":{"$error":"#REF!"}},{"$f":"IF(#REF!=25,16,0)","v":{"$error":"#REF!"}},{"$f":"IF(#REF!=26,15,0)","v":{"$error":"#REF!"}},{"$f":"IF(#REF!=27,14,0)","v":{"$error":"#REF!"}},{"$f":"IF(#REF!=28,13,0)","v":{"$error":"#REF!"}},{"$f":"IF(#REF!=29,12,0)","v":{"$error":"#REF!"}},{"$f":"IF(#REF!=30,11,0)","v":{"$error":"#REF!"}},{"$f":"IF(#REF!=31,10,0)","v":{"$error":"#REF!"}},{"$f":"IF(#REF!=32,9,0)","v":{"$error":"#REF!"}},{"$f":"IF(#REF!=33,8,0)","v":{"$error":"#REF!"}},{"$f":"IF(#REF!=34,7,0)","v":{"$error":"#REF!"}},{"$f":"IF(#REF!=35,6,0)","v":{"$error":"#REF!"}},{"$f":"IF(#REF!=36,5,0)","v":{"$error":"#REF!"}},{"$f":"IF(#REF!=37,4,0)","v":{"$error":"#REF!"}},{"$f":"IF(#REF!=38,3,0)","v":{"$error":"#REF!"}},{"$f":"IF(#REF!=39,2,0)","v":{"$error":"#REF!"}},{"$f":"IF(#REF!=40,1,0)","v":{"$error":"#REF!"}},{"$f":"IF(#REF!>20,0,0)","v":{"$error":"#REF!"}},{"$f":"IF(#REF!=\"сх\",0,0)","v":{"$error":"#REF!"}},{"$error":"#REF!"},{"$f":"IF(#REF!=1,45,0)","v":{"$error":"#REF!"}},{"$f":"IF(#REF!=2,42,0)","v":{"$error":"#REF!"}},{"$f":"IF(#REF!=3,40,0)","v":{"$error":"#REF!"}},{"$f":"IF(#REF!=4,38,0)","v":{"$error":"#REF!"}},{"$f":"IF(#REF!=5,36,0)","v":{"$error":"#REF!"}},{"$f":"IF(#REF!=6,35,0)","v":{"$error":"#REF!"}},{"$f":"IF(#REF!=7,34,0)","v":{"$error":"#REF!"}},{"$f":"IF(#REF!=8,33,0)","v":{"$error":"#REF!"}},{"$f":"IF(#REF!=9,32,0)","v":{"$error":"#REF!"}},{"$f":"IF(#REF!=10,31,0)","v":{"$error":"#REF!"}},{"$f":"IF(#REF!=11,30,0)","v":{"$error":"#REF!"}},{"$f":"IF(#REF!=12,29,0)","v":{"$error":"#REF!"}},{"$f":"IF(#REF!=13,28,0)","v":{"$error":"#REF!"}},{"$f":"IF(#REF!=14,27,0)","v":{"$error":"#REF!"}},{"$f":"IF(#REF!=15,26,0)","v":{"$error":"#REF!"}},{"$f":"IF(#REF!=16,25,0)","v":{"$error":"#REF!"}},{"$f":"IF(#REF!=17,24,0)","v":{"$error":"#REF!"}},{"$f":"IF(#REF!=18,23,0)","v":{"$error":"#REF!"}},{"$f":"IF(#REF!=19,22,0)","v":{"$error":"#REF!"}},{"$f":"IF(#REF!=20,21,0)","v":{"$error":"#REF!"}},{"$f":"IF(#REF!=21,20,0)","v":{"$error":"#REF!"}},{"$f":"IF(#REF!=22,19,0)","v":{"$error":"#REF!"}},{"$f":"IF(#REF!=23,18,0)","v":{"$error":"#REF!"}},{"$f":"IF(#REF!=24,17,0)","v":{"$error":"#REF!"}},{"$f":"IF(#REF!=25,16,0)","v":{"$error":"#REF!"}},{"$f":"IF(#REF!=26,15,0)","v":{"$error":"#REF!"}},{"$f":"IF(#REF!=27,14,0)","v":{"$error":"#REF!"}},{"$f":"IF(#REF!=28,13,0)","v":{"$error":"#REF!"}},{"$f":"IF(#REF!=29,12,0)","v":{"$error":"#REF!"}},{"$f":"IF(#REF!=30,11,0)","v":{"$error":"#REF!"}},{"$f":"IF(#REF!=31,10,0)","v":{"$error":"#REF!"}},{"$f":"IF(#REF!=32,9,0)","v":{"$error":"#REF!"}},{"$f":"IF(#REF!=33,8,0)","v":{"$error":"#REF!"}},{"$f":"IF(#REF!=34,7,0)","v":{"$error":"#REF!"}},{"$f":"IF(#REF!=35,6,0)","v":{"$error":"#REF!"}},{"$f":"IF(#REF!=36,5,0)","v":{"$error":"#REF!"}},{"$f":"IF(#REF!=37,4,0)","v":{"$error":"#REF!"}},{"$f":"IF(#REF!=38,3,0)","v":{"$error":"#REF!"}},{"$f":"IF(#REF!=39,2,0)","v":{"$error":"#REF!"}},{"$f":"IF(#REF!=40,1,0)","v":{"$error":"#REF!"}},{"$f":"IF(#REF!>20,0,0)","v":{"$error":"#REF!"}},{"$f":"IF(#REF!=\"сх\",0,0)","v":{"$error":"#REF!"}},{"$error":"#REF!"},null,{"$f":"IF(#REF!=\"сх\",\"ноль\",IF(#REF!>0,#REF!,\"Ноль\"))","v":{"$error":"#REF!"}},{"$f":"IF(#REF!=\"сх\",\"ноль\",IF(#REF!>0,#REF!,\"Ноль\"))","v":{"$error":"#REF!"}},null,{"$error":"#REF!"},{"$f":"IF(M14=#REF!,IF(#REF!<#REF!,#REF!,FB14),#REF!)","v":{"$error":"#REF!"}},{"$f":"IF(M14=#REF!,IF(#REF!<#REF!,0,1))","v":{"$error":"#REF!"}},{"$f":"IF(AND(EW14>=21,EW14<>0),EW14,IF(M14<#REF!,\"СТОП\",EX14+EY14))","v":{"$error":"#REF!"}},null,15,16,null,{"$f":"IF(#REF!=1,25,0)","v":{"$error":"#REF!"}},{"$f":"IF(#REF!=2,22,0)","v":{"$error":"#REF!"}},{"$f":"IF(#REF!=3,20,0)","v":{"$error":"#REF!"}},{"$f":"IF(#REF!=4,18,0)","v":{"$error":"#REF!"}},{"$f":"IF(#REF!=5,16,0)","v":{"$error":"#REF!"}},{"$f":"IF(#REF!=6,15,0)","v":{"$error":"#REF!"}},{"$f":"IF(#REF!=7,14,0)","v":{"$error":"#REF!"}},{"$f":"IF(#REF!=8,13,0)","v":{"$error":"#REF!"}},{"$f":"IF(#REF!=9,12,0)","v":{"$error":"#REF!"}},{"$f":"IF(#REF!=10,11,0)","v":{"$error":"#REF!"}},{"$f":"IF(#REF!=11,10,0)","v":{"$error":"#REF!"}},{"$f":"IF(#REF!=12,9,0)","v":{"$error":"#REF!"}},{"$f":"IF(#REF!=13,8,0)","v":{"$error":"#REF!"}},{"$f":"IF(#REF!=14,7,0)","v":{"$error":"#REF!"}},{"$f":"IF(#REF!=15,6,0)","v":{"$error":"#REF!"}},{"$f":"IF(#REF!=16,5,0)","v":{"$error":"#REF!"}},{"$f":"IF(#REF!=17,4,0)","v":{"$error":"#REF!"}},{"$f":"IF(#REF!=18,3,0)","v":{"$error":"#REF!"}},{"$f":"IF(#REF!=19,2,0)","v":{"$error":"#REF!"}},{"$f":"IF(#REF!=20,1,0)","v":{"$error":"#REF!"}},{"$f":"IF(#REF!>20,0,0)","v":{"$error":"#REF!"}},{"$f":"IF(#REF!=\"сх\",0,0)","v":{"$error":"#REF!"}},{"$error":"#REF!"},{"$f":"IF(#REF!=1,25,0)","v":{"$error":"#REF!"}},{"$f":"IF(#REF!=2,22,0)","v":{"$error":"#REF!"}},{"$f":"IF(#REF!=3,20,0)","v":{"$error":"#REF!"}},{"$f":"IF(#REF!=4,18,0)","v":{"$error":"#REF!"}},{"$f":"IF(#REF!=5,16,0)","v":{"$error":"#REF!"}},{"$f":"IF(#REF!=6,15,0)","v":{"$error":"#REF!"}},{"$f":"IF(#REF!=7,14,0)","v":{"$error":"#REF!"}},{"$f":"IF(#REF!=8,13,0)","v":{"$error":"#REF!"}},{"$f":"IF(#REF!=9,12,0)","v":{"$error":"#REF!"}},{"$f":"IF(#REF!=10,11,0)","v":{"$error":"#REF!"}},{"$f":"IF(#REF!=11,10,0)","v":{"$error":"#REF!"}},{"$f":"IF(#REF!=12,9,0)","v":{"$error":"#REF!"}},{"$f":"IF(#REF!=13,8,0)","v":{"$error":"#REF!"}},{"$f":"IF(#REF!=14,7,0)","v":{"$error":"#REF!"}},{"$f":"IF(#REF!=15,6,0)","v":{"$error":"#REF!"}},{"$f":"IF(#REF!=16,5,0)","v":{"$error":"#REF!"}},{"$f":"IF(#REF!=17,4,0)","v":{"$error":"#REF!"}},{"$f":"IF(#REF!=18,3,0)","v":{"$error":"#REF!"}},{"$f":"IF(#REF!=19,2,0)","v":{"$error":"#REF!"}},{"$f":"IF(#REF!=20,1,0)","v":{"$error":"#REF!"}},{"$f":"IF(#REF!>20,0,0)","v":{"$error":"#REF!"}},{"$f":"IF(#REF!=\"сх\",0,0)","v":{"$error":"#REF!"}},{"$error":"#REF!"},{"$f":"IF(#REF!=1,100,0)","v":{"$error":"#REF!"}},{"$f":"IF(#REF!=2,98,0)","v":{"$error":"#REF!"}},{"$f":"IF(#REF!=3,95,0)","v":{"$error":"#REF!"}},{"$f":"IF(#REF!=4,93,0)","v":{"$error":"#REF!"}},{"$f":"IF(#REF!=5,90,0)","v":{"$error":"#REF!"}},{"$f":"IF(#REF!=6,88,0)","v":{"$error":"#REF!"}},{"$f":"IF(#REF!=7,85,0)","v":{"$error":"#REF!"}},{"$f":"IF(#REF!=8,83,0)","v":{"$error":"#REF!"}},{"$f":"IF(#REF!=9,80,0)","v":{"$error":"#REF!"}},{"$f":"IF(#REF!=10,78,0)","v":{"$error":"#REF!"}},{"$f":"IF(#REF!=11,75,0)","v":{"$error":"#REF!"}},{"$f":"IF(#REF!=12,73,0)","v":{"$error":"#REF!"}},{"$f":"IF(#REF!=13,70,0)","v":{"$error":"#REF!"}},{"$f":"IF(#REF!=14,68,0)","v":{"$error":"#REF!"}},{"$f":"IF(#REF!=15,65,0)","v":{"$error":"#REF!"}},{"$f":"IF(#REF!=16,63,0)","v":{"$error":"#REF!"}},{"$f":"IF(#REF!=17,60,0)","v":{"$error":"#REF!"}},{"$f":"IF(#REF!=18,58,0)","v":{"$error":"#REF!"}},{"$f":"IF(#REF!=19,55,0)","v":{"$error":"#REF!"}},{"$f":"IF(#REF!=20,53,0)","v":{"$error":"#REF!"}},{"$f":"IF(#REF!>20,0,0)","v":{"$error":"#REF!"}},{"$f":"IF(#REF!=\"сх\",0,0)","v":{"$error":"#REF!"}},{"$error":"#REF!"},{"$f":"IF(#REF!=1,100,0)","v":{"$error":"#REF!"}},{"$f":"IF(#REF!=2,98,0)","v":{"$error":"#REF!"}},{"$f":"IF(#REF!=3,95,0)","v":{"$error":"#REF!"}},{"$f":"IF(#REF!=4,93,0)","v":{"$error":"#REF!"}},{"$f":"IF(#REF!=5,90,0)","v":{"$error":"#REF!"}},{"$f":"IF(#REF!=6,88,0)","v":{"$error":"#REF!"}},{"$f":"IF(#REF!=7,85,0)","v":{"$error":"#REF!"}},{"$f":"IF(#REF!=8,83,0)","v":{"$error":"#REF!"}},{"$f":"IF(#REF!=9,80,0)","v":{"$error":"#REF!"}},{"$f":"IF(#REF!=10,78,0)","v":{"$error":"#REF!"}},{"$f":"IF(#REF!=11,75,0)","v":{"$error":"#REF!"}},{"$f":"IF(#REF!=12,73,0)","v":{"$error":"#REF!"}},{"$f":"IF(#REF!=13,70,0)","v":{"$error":"#REF!"}},{"$f":"IF(#REF!=14,68,0)","v":{"$error":"#REF!"}},{"$f":"IF(#REF!=15,65,0)","v":{"$error":"#REF!"}},{"$f":"IF(#REF!=16,63,0)","v":{"$error":"#REF!"}},{"$f":"IF(#REF!=17,60,0)","v":{"$error":"#REF!"}},{"$f":"IF(#REF!=18,58,0)","v":{"$error":"#REF!"}},{"$f":"IF(#REF!=19,55,0)","v":{"$error":"#REF!"}},{"$f":"IF(#REF!=20,53,0)","v":{"$error":"#REF!"}},{"$f":"IF(#REF!>20,0,0)","v":{"$error":"#REF!"}},{"$f":"IF(#REF!=\"сх\",0,0)","v":{"$error":"#REF!"}},{"$error":"#REF!"}]
[6,8.6,201,"Белехов Александр","б/р","г. Муравленко, Ямало-Ненецкий АО","лично","Polaris",5,16,"сх",0,16,{"$f":"#REF!+#REF!","v":{"$error":"#REF!"}},null,null,{"$f":"IF(#REF!=1,25,0)","v":{"$error":"#REF!"}},{"$f":"IF(#REF!=2,22,0)","v":{"$error":"#REF!"}},{"$f":"IF(#REF!=3,20,0)","v":{"$error":"#REF!"}},{"$f":"IF(#REF!=4,18,0)","v":{"$error":"#REF!"}},{"$f":"IF(#REF!=5,16,0)","v":{"$error":"#REF!"}},{"$f":"IF(#REF!=6,15,0)","v":{"$error":"#REF!"}},{"$f":"IF(#REF!=7,14,0)","v":{"$error":"#REF!"}},{"$f":"IF(#REF!=8,13,0)","v":{"$error":"#REF!"}},{"$f":"IF(#REF!=9,12,0)","v":{"$error":"#REF!"}},{"$f":"IF(#REF!=10,11,0)","v":{"$error":"#REF!"}},{"$f":"IF(#REF!=11,10,0)","v":{"$error":"#REF!"}},{"$f":"IF(#REF!=12,9,0)","v":{"$error":"#REF!"}},{"$f":"IF(#REF!=13,8,0)","v":{"$error":"#REF!"}},{"$f":"IF(#REF!=14,7,0)","v":{"$error":"#REF!"}},{"$f":"IF(#REF!=15,6,0)","v":{"$error":"#REF!"}},{"$f":"IF(#REF!=16,5,0)","v":{"$error":"#REF!"}},{"$f":"IF(#REF!=17,4,0)","v":{"$error":"#REF!"}},{"$f":"IF(#REF!=18,3,0)","v":{"$error":"#REF!"}},{"$f":"IF(#REF!=19,2,0)","v":{"$error":"#REF!"}},{"$f":"IF(#REF!=20,1,0)","v":{"$error":"#REF!"}},{"$f":"IF(#REF!>20,0,0)","v":{"$error":"#REF!"}},{"$f":"IF(#REF!=\"сх\",0,0)","v":{"$error":"#REF!"}},{"$error":"#REF!"},{"$f":"IF(#REF!=1,25,0)","v":{"$error":"#REF!"}},{"$f":"IF(#REF!=2,22,0)","v":{"$error":"#REF!"}},{"$f":"IF(#REF!=3,20,0)","v":{"$error":"#REF!"}},{"$f":"IF(#REF!=4,18,0)","v":{"$error":"#REF!"}},{"$f":"IF(#REF!=5,16,0)","v":{"$error":"#REF!"}},{"$f":"IF(#REF!=6,15,0)","v":{"$error":"#REF!"}},{"$f":"IF(#REF!=7,14,0)","v":{"$error":"#REF!"}},{"$f":"IF(#REF!=8,13,0)","v":{"$error":"#REF!"}},{"$f":"IF(#REF!=9,12,0)","v":{"$error":"#REF!"}},{"$f":"IF(#REF!=10,11,0)","v":{"$error":"#REF!"}},{"$f":"IF(#REF!=11,10,0)","v":{"$error":"#REF!"}},{"$f":"IF(#REF!=12,9,0)","v":{"$error":"#REF!"}},{"$f":"IF(#REF!=13,8,0)","v":{"$error":"#REF!"}},{"$f":"IF(#REF!=14,7,0)","v":{"$error":"#REF!"}},{"$f":"IF(#REF!=15,6,0)","v":{"$error":"#REF!"}},{"$f":"IF(#REF!=16,5,0)","v":{"$error":"#REF!"}},{"$f":"IF(#REF!=17,4,0)","v":{"$error":"#REF!"}},{"$f":"IF(#REF!=18,3,0)","v":{"$error":"#REF!"}},{"$f":"IF(#REF!=19,2,0)","v":{"$error":"#REF!"}},{"$f":"IF(#REF!=20,1,0)","v":{"$error":"#REF!"}},{"$f":"IF(#REF!>20,0,0)","v":{"$error":"#REF!"}},{"$f":"IF(#REF!=\"сх\",0,0)","v":{"$error":"#REF!"}},{"$error":"#REF!"},{"$f":"IF(#REF!=1,45,0)","v":{"$error":"#REF!"}},{"$f":"IF(#REF!=2,42,0)","v":{"$error":"#REF!"}},{"$f":"IF(#REF!=3,40,0)","v":{"$error":"#REF!"}},{"$f":"IF(#REF!=4,38,0)","v":{"$error":"#REF!"}},{"$f":"IF(#REF!=5,36,0)","v":{"$error":"#REF!"}},{"$f":"IF(#REF!=6,35,0)","v":{"$error":"#REF!"}},{"$f":"IF(#REF!=7,34,0)","v":{"$error":"#REF!"}},{"$f":"IF(#REF!=8,33,0)","v":{"$error":"#REF!"}},{"$f":"IF(#REF!=9,32,0)","v":{"$error":"#REF!"}},{"$f":"IF(#REF!=10,31,0)","v":{"$error":"#REF!"}},{"$f":"IF(#REF!=11,30,0)","v":{"$error":"#REF!"}},{"$f":"IF(#REF!=12,29,0)","v":{"$error":"#REF!"}},{"$f":"IF(#REF!=13,28,0)","v":{"$error":"#REF!"}},{"$f":"IF(#REF!=14,27,0)","v":{"$error":"#REF!"}},{"$f":"IF(#REF!=15,26,0)","v":{"$error":"#REF!"}},{"$f":"IF(#REF!=16,25,0)","v":{"$error":"#REF!"}},{"$f":"IF(#REF!=17,24,0)","v":{"$error":"#REF!"}},{"$f":"IF(#REF!=18,23,0)","v":{"$error":"#REF!"}},{"$f":"IF(#REF!=19,22,0)","v":{"$error":"#REF!"}},{"$f":"IF(#REF!=20,21,0)","v":{"$error":"#REF!"}},{"$f":"IF(#REF!=21,20,0)","v":{"$error":"#REF!"}},{"$f":"IF(#REF!=22,19,0)","v":{"$error":"#REF!"}},{"$f":"IF(#REF!=23,18,0)","v":{"$error":"#REF!"}},{"$f":"IF(#REF!=24,17,0)","v":{"$error":"#REF!"}},{"$f":"IF(#REF!=25,16,0)","v":{"$error":"#REF!"}},{"$f":"IF(#REF!=26,15,0)","v":{"$error":"#REF!"}},{"$f":"IF(#REF!=27,14,0)","v":{"$error":"#REF!"}},{"$f":"IF(#REF!=28,13,0)","v":{"$error":"#REF!"}},{"$f":"IF(#REF!=29,12,0)","v":{"$error":"#REF!"}},{"$f":"IF(#REF!=30,11,0)","v":{"$error":"#REF!"}},{"$f":"IF(#REF!=31,10,0)","v":{"$error":"#REF!"}},{"$f":"IF(#REF!=32,9,0)","v":{"$error":"#REF!"}},{"$f":"IF(#REF!=33,8,0)","v":{"$error":"#REF!"}},{"$f":"IF(#REF!=34,7,0)","v":{"$error":"#REF!"}},{"$f":"IF(#REF!=35,6,0)","v":{"$error":"#REF!"}},{"$f":"IF(#REF!=36,5,0)","v":{"$error":"#REF!"}},{"$f":"IF(#REF!=37,4,0)","v":{"$error":"#REF!"}},{"$f":"IF(#REF!=38,3,0)","v":{"$error":"#REF!"}},{"$f":"IF(#REF!=39,2,0)","v":{"$error":"#REF!"}},{"$f":"IF(#REF!=40,1,0)","v":{"$error":"#REF!"}},{"$f":"IF(#REF!>20,0,0)","v":{"$error":"#REF!"}},{"$f":"IF(#REF!=\"сх\",0,0)","v":{"$error":"#REF!"}},{"$error":"#REF!"},{"$f":"IF(#REF!=1,45,0)","v":{"$error":"#REF!"}},{"$f":"IF(#REF!=2,42,0)","v":{"$error":"#REF!"}},{"$f":"IF(#REF!=3,40,0)","v":{"$error":"#REF!"}},{"$f":"IF(#REF!=4,38,0)","v":{"$error":"#REF!"}},{"$f":"IF(#REF!=5,36,0)","v":{"$error":"#REF!"}},{"$f":"IF(#REF!=6,35,0)","v":{"$error":"#REF!"}},{"$f":"IF(#REF!=7,34,0)","v":{"$error":"#REF!"}},{"$f":"IF(#REF!=8,33,0)","v":{"$error":"#REF!"}},{"$f":"IF(#REF!=9,32,0)","v":{"$error":"#REF!"}},{"$f":"IF(#REF!=10,31,0)","v":{"$error":"#REF!"}},{"$f":"IF(#REF!=11,30,0)","v":{"$error":"#REF!"}},{"$f":"IF(#REF!=12,29,0)","v":{"$error":"#REF!"}},{"$f":"IF(#REF!=13,28,0)","v":{"$error":"#REF!"}},{"$f":"IF(#REF!=14,27,0)","v":{"$error":"#REF!"}},{"$f":"IF(#REF!=15,26,0)","v":{"$error":"#REF!"}},{"$f":"IF(#REF!=16,25,0)","v":{"$error":"#REF!"}},{"$f":"IF(#REF!=17,24,0)","v":{"$error":"#REF!"}},{"$f":"IF(#REF!=18,23,0)","v":{"$error":"#REF!"}},{"$f":"IF(#REF!=19,22,0)","v":{"$error":"#REF!"}},{"$f":"IF(#REF!=20,21,0)","v":{"$error":"#REF!"}},{"$f":"IF(#REF!=21,20,0)","v":{"$error":"#REF!"}},{"$f":"IF(#REF!=22,19,0)","v":{"$error":"#REF!"}},{"$f":"IF(#REF!=23,18,0)","v":{"$error":"#REF!"}},{"$f":"IF(#REF!=24,17,0)","v":{"$error":"#REF!"}},{"$f":"IF(#REF!=25,16,0)","v":{"$error":"#REF!"}},{"$f":"IF(#REF!=26,15,0)","v":{"$error":"#REF!"}},{"$f":"IF(#REF!=27,14,0)","v":{"$error":"#REF!"}},{"$f":"IF(#REF!=28,13,0)","v":{"$error":"#REF!"}},{"$f":"IF(#REF!=29,12,0)","v":{"$error":"#REF!"}},{"$f":"IF(#REF!=30,11,0)","v":{"$error":"#REF!"}},{"$f":"IF(#REF!=31,10,0)","v":{"$error":"#REF!"}},{"$f":"IF(#REF!=32,9,0)","v":{"$error":"#REF!"}},{"$f":"IF(#REF!=33,8,0)","v":{"$error":"#REF!"}},{"$f":"IF(#REF!=34,7,0)","v":{"$error":"#REF!"}},{"$f":"IF(#REF!=35,6,0)","v":{"$error":"#REF!"}},{"$f":"IF(#REF!=36,5,0)","v":{"$error":"#REF!"}},{"$f":"IF(#REF!=37,4,0)","v":{"$error":"#REF!"}},{"$f":"IF(#REF!=38,3,0)","v":{"$error":"#REF!"}},{"$f":"IF(#REF!=39,2,0)","v":{"$error":"#REF!"}},{"$f":"IF(#REF!=40,1,0)","v":{"$error":"#REF!"}},{"$f":"IF(#REF!>20,0,0)","v":{"$error":"#REF!"}},{"$f":"IF(#REF!=\"сх\",0,0)","v":{"$error":"#REF!"}},{"$error":"#REF!"},null,{"$f":"IF(#REF!=\"сх\",\"ноль\",IF(#REF!>0,#REF!,\"Ноль\"))","v":{"$error":"#REF!"}},{"$f":"IF(#REF!=\"сх\",\"ноль\",IF(#REF!>0,#REF!,\"Ноль\"))","v":{"$error":"#REF!"}},null,{"$error":"#REF!"},{"$f":"IF(M15=#REF!,IF(#REF!<#REF!,#REF!,FB15),#REF!)","v":{"$error":"#REF!"}},{"$f":"IF(M15=#REF!,IF(#REF!<#REF!,0,1))","v":{"$error":"#REF!"}},{"$f":"IF(AND(EW15>=21,EW15<>0),EW15,IF(M15<#REF!,\"СТОП\",EX15+EY15))","v":{"$error":"#REF!"}},null,15,16,null,{"$f":"IF(#REF!=1,25,0)","v":{"$error":"#REF!"}},{"$f":"IF(#REF!=2,22,0)","v":{"$error":"#REF!"}},{"$f":"IF(#REF!=3,20,0)","v":{"$error":"#REF!"}},{"$f":"IF(#REF!=4,18,0)","v":{"$error":"#REF!"}},{"$f":"IF(#REF!=5,16,0)","v":{"$error":"#REF!"}},{"$f":"IF(#REF!=6,15,0)","v":{"$error":"#REF!"}},{"$f":"IF(#REF!=7,14,0)","v":{"$error":"#REF!"}},{"$f":"IF(#REF!=8,13,0)","v":{"$error":"#REF!"}},{"$f":"IF(#REF!=9,12,0)","v":{"$error":"#REF!"}},{"$f":"IF(#REF!=10,11,0)","v":{"$error":"#REF!"}},{"$f":"IF(#REF!=11,10,0)","v":{"$error":"#REF!"}},{"$f":"IF(#REF!=12,9,0)","v":{"$error":"#REF!"}},{"$f":"IF(#REF!=13,8,0)","v":{"$error":"#REF!"}},{"$f":"IF(#REF!=14,7,0)","v":{"$error":"#REF!"}},{"$f":"IF(#REF!=15,6,0)","v":{"$error":"#REF!"}},{"$f":"IF(#REF!=16,5,0)","v":{"$error":"#REF!"}},{"$f":"IF(#REF!=17,4,0)","v":{"$error":"#REF!"}},{"$f":"IF(#REF!=18,3,0)","v":{"$error":"#REF!"}},{"$f":"IF(#REF!=19,2,0)","v":{"$error":"#REF!"}},{"$f":"IF(#REF!=20,1,0)","v":{"$error":"#REF!"}},{"$f":"IF(#REF!>20,0,0)","v":{"$error":"#REF!"}},{"$f":"IF(#REF!=\"сх\",0,0)","v":{"$error":"#REF!"}},{"$error":"#REF!"},{"$f":"IF(#REF!=1,25,0)","v":{"$error":"#REF!"}},{"$f":"IF(#REF!=2,22,0)","v":{"$error":"#REF!"}},{"$f":"IF(#REF!=3,20,0)","v":{"$error":"#REF!"}},{"$f":"IF(#REF!=4,18,0)","v":{"$error":"#REF!"}},{"$f":"IF(#REF!=5,16,0)","v":{"$error":"#REF!"}},{"$f":"IF(#REF!=6,15,0)","v":{"$error":"#REF!"}},{"$f":"IF(#REF!=7,14,0)","v":{"$error":"#REF!"}},{"$f":"IF(#REF!=8,13,0)","v":{"$error":"#REF!"}},{"$f":"IF(#REF!=9,12,0)","v":{"$error":"#REF!"}},{"$f":"IF(#REF!=10,11,0)","v":{"$error":"#REF!"}},{"$f":"IF(#REF!=11,10,0)","v":{"$error":"#REF!"}},{"$f":"IF(#REF!=12,9,0)","v":{"$error":"#REF!"}},{"$f":"IF(#REF!=13,8,0)","v":{"$error":"#REF!"}},{"$f":"IF(#REF!=14,7,0)","v":{"$error":"#REF!"}},{"$f":"IF(#REF!=15,6,0)","v":{"$error":"#REF!"}},{"$f":"IF(#REF!=16,5,0)","v":{"$error":"#REF!"}},{"$f":"IF(#REF!=17,4,0)","v":{"$error":"#REF!"}},{"$f":"IF(#REF!=18,3,0)","v":{"$error":"#REF!"}},{"$f":"IF(#REF!=19,2,0)","v":{"$error":"#REF!"}},{"$f":"IF(#REF!=20,1,0)","v":{"$error":"#REF!"}},{"$f":"IF(#REF!>20,0,0)","v":{"$error":"#REF!"}},{"$f":"IF(#REF!=\"сх\",0,0)","v":{"$error":"#REF!"}},{"$error":"#REF!"},{"$f":"IF(#REF!=1,100,0)","v":{"$error":"#REF!"}},{"$f":"IF(#REF!=2,98,0)","v":{"$error":"#REF!"}},{"$f":"IF(#REF!=3,95,0)","v":{"$error":"#REF!"}},{"$f":"IF(#REF!=4,93,0)","v":{"$error":"#REF!"}},{"$f":"IF(#REF!=5,90,0)","v":{"$error":"#REF!"}},{"$f":"IF(#REF!=6,88,0)","v":{"$error":"#REF!"}},{"$f":"IF(#REF!=7,85,0)","v":{"$error":"#REF!"}},{"$f":"IF(#REF!=8,83,0)","v":{"$error":"#REF!"}},{"$f":"IF(#REF!=9,80,0)","v":{"$error":"#REF!"}},{"$f":"IF(#REF!=10,78,0)","v":{"$error":"#REF!"}},{"$f":"IF(#REF!=11,75,0)","v":{"$error":"#REF!"}},{"$f":"IF(#REF!=12,73,0)","v":{"$error":"#REF!"}},{"$f":"IF(#REF!=13,70,0)","v":{"$error":"#REF!"}},{"$f":"IF(#REF!=14,68,0)","v":{"$error":"#REF!"}},{"$f":"IF(#REF!=15,65,0)","v":{"$error":"#REF!"}},{"$f":"IF(#REF!=16,63,0)","v":{"$error":"#REF!"}},{"$f":"IF(#REF!=17,60,0)","v":{"$error":"#REF!"}},{"$f":"IF(#REF!=18,58,0)","v":{"$error":"#REF!"}},{"$f":"IF(#REF!=19,55,0)","v":{"$error":"#REF!"}},{"$f":"IF(#REF!=20,53,0)","v":{"$error":"#REF!"}},{"$f":"IF(#REF!>20,0,0)","v":{"$error":"#REF!"}},{"$f":"IF(#REF!=\"сх\",0,0)","v":{"$error":"#REF!"}},{"$error":"#REF!"},{"$f":"IF(#REF!=1,100,0)","v":{"$error":"#REF!"}},{"$f":"IF(#REF!=2,98,0)","v":{"$error":"#REF!"}},{"$f":"IF(#REF!=3,95,0)","v":{"$error":"#REF!"}},{"$f":"IF(#REF!=4,93,0)","v":{"$error":"#REF!"}},{"$f":"IF(#REF!=5,90,0)","v":{"$error":"#REF!"}},{"$f":"IF(#REF!=6,88,0)","v":{"$error":"#REF!"}},{"$f":"IF(#REF!=7,85,0)","v":{"$error":"#REF!"}},{"$f":"IF(#REF!=8,83,0)","v":{"$error":"#REF!"}},{"$f":"IF(#REF!=9,80,0)","v":{"$error":"#REF!"}},{"$f":"IF(#REF!=10,78,0)","v":{"$error":"#REF!"}},{"$f":"IF(#REF!=11,75,0)","v":{"$error":"#REF!"}},{"$f":"IF(#REF!=12,73,0)","v":{"$error":"#REF!"}},{"$f":"IF(#REF!=13,70,0)","v":{"$error":"#REF!"}},{"$f":"IF(#REF!=14,68,0)","v":{"$error":"#REF!"}},{"$f":"IF(#REF!=15,65,0)","v":{"$error":"#REF!"}},{"$f":"IF(#REF!=16,63,0)","v":{"$error":"#REF!"}},{"$f":"IF(#REF!=17,60,0)","v":{"$error":"#REF!"}},{"$f":"IF(#REF!=18,58,0)","v":{"$error":"#REF!"}},{"$f":"IF(#REF!=19,55,0)","v":{"$error":"#REF!"}},{"$f":"IF(#REF!=20,53,0)","v":{"$error":"#REF!"}},{"$f":"IF(#REF!>20,0,0)","v":{"$error":"#REF!"}},{"$f":"IF(#REF!=\"сх\",0,0)","v":{"$error":"#REF!"}},{"$error":"#REF!"}]
[]
["Главный судья соревнований"]
["судья Всероссийской категории:                                                                                                              А. Б. Стеблинский (г. Тюмень; лицензия МФР А 144)"]
[]
["Главный секретарь соревнований"]
["судья Всероссийской категории:                                                                                              А. Ю. Иванов (г. Москва/лицензия МФР А 105; FIM 11245)"]

{"sheet":"МАЛЬЧИКИ 1","index":8,"n_rows":24,"n_cols":252,"rows_kept":24,"cut":false,"hidden":false,"merged":[[0,9,2,9],[0,0,0,8],[1,0,1,8],[2,0,2,8],[3,0,3,8],[24,0,24,7],[27,0,27,7],[5,6,7,6],[5,7,7,7],[5,8,7,8],[19,0,19,8],[22,0,22,11],[5,9,7,9],[5,0,7,0],[5,2,7,2],[5,3,7,3],[5,4,7,4],[5,5,7,5],[5,1,7,1]]}
["Показательные выступления в рамках Кубка ЯНАО по кроссу на снегоходах 2017 года - III-й этап.                                                             "]
["ПРОТОКОЛ ЛИЧНОГО ЗАЧЕТА",null,null,null,null,null,null,null,null,null,null,null,null,null,null,null,null,null,null,null,null,null,null,null,null,null,null,null,null,null,null,null,null,null,null,null,null,null,null,null,null,null,null,null,null,null,null,null,null,null,null,null,null,null,null,null,null,null,null,null,null,null,null,null,null,null,null,null,null,null,null,null,null,null,null,null,null,null,null,null,null,null,null,null,null,null,null,null,null,null,null,null,null,null,null,null,null,null,null,null,null,null,null,null,null,null,null,null,null,null,null,null,null,null,null,null,null,null,null,null,null,null,null,null,null,null,null,null,null,null,null,null,null,null,null,null,null,null,null,null,null,null,null,null,null,null,null,null,null,null,null,null,null,null,null,null,null,null,null,null,null,null,null,null,null,null,null,null,"первый этап"]
["г. Новый Уренгой, Ямало-Ненецкий АО.                                                                                                                                                                            31 марта - 02 апреля 2017 года.",null,null,null,null,null,null,null,null,null,null,null,null,null,null,null,null,null,null,null,null,null,null,null,null,null,null,null,null,null,null,null,null,null,null,null,null,null,null,null,null,null,null,null,null,null,null,null,null,null,null,null,null,null,null,null,null,null,null,null,null,null,null,null,null,null,null,null,null,null,null,null,null,null,null,null,null,null,null,null,null,null,null,null,null,null,null,null,null,null,null,null,null,null,null,null,null,null,null,null,null,null,null,null,null,null,null,null,null,null,null,null,null,null,null,null,null,null,null,null,null,null,null,null,null,null,null,null,null,null,null,null,null,null,null,null,null,null,null,null,null,null,null,null,null,null,null,null,null,null,null,null,null,null,null,null,null,"первый заезд личные очки",null,null,null,null,null,null,null,null,null,null,null,null,null,null,null,null,null,null,null,null,null,"второй заезд личные очки",null,null,null,null,null,null,null,null,null,null,null,null,null,null,null,null,null,null,null,null,null,null,"Первый заезд командные очки",null,null,null,null,null,null,null,null,null,null,null,null,null,null,null,null,null,null,null,null,null,null,"Второй заезд командные очки"]
["Класс \"МАЛЬЧИКИ 1\". ",null,null,null,null,null,null,null,null,null,null,null,null,null,null,null,null,null,null,null,null,null,null,null,null,null,null,null,null,null,null,null,null,null,null,null,null,null,null,null,null,null,null,null,null,null,null,null,null,null,null,null,null,null,null,null,null,null,null,null,null,null,null,null,null,null,null,null,null,null,null,null,null,null,null,null,null,null,null,null,null,null,null,null,null,null,null,null,null,null,null,null,null,null,null,null,null,null,null,null,null,null,null,null,null,null,null,null,null,null,null,null,null,null,null,null,null,null,null,null,null,null,null,null,null,null,null,null,null,null,null,null,null,null,null,null,null,null,null,null,null,null,null,null,null,null,null,null,null,null,null,null,null,null,null,null,1,2,3,4,5,6,7,8,9,10,11,12,13,14,15,16,17,18,19,20,21,"сх","Sym",1,2,3,4,5,6,7,8,9,10,11,12,13,14,15,16,17,18,19,20,21,"cx","sym",1,2,3,4,5,6,7,8,9,10,11,12,13,14,15,16,17,18,19,20,21,"сх","очки",1,2,3,4,5,6,7,8,9,10,11,12,13,14,15,16,17,18,19,20,21,"сх","очки",{"$f":"COUNT(FA4:IN4)","v":84},"Н. Стро","В. стро","место"]
[]
["Место ","РЕЙТИНГОВЫЕ ОЧКИ Коэф. 0,1 ","Ст. №","Фамилия, Имя","Разряд","Город (край, район, область)","Команда","Марка снегохода","КВАЛИФИКАЦИОННЫЕ ОЧКИ","Сумма очк. в командном зачете"]
[null,null,null,null,null,null,null,null,null,null,null,null,null,"первый заезд личные очки",null,null,null,null,null,null,null,null,null,null,null,null,null,null,null,null,null,null,null,null,null,"второй заезд личные очки",null,null,null,null,null,null,null,null,null,null,null,null,null,null,null,null,null,null,null,null,null,null,"Первый заезд командные очки",null,null,null,null,null,null,null,null,null,null,null,null,null,null,null,null,null,null,null,null,null,null,null,null,null,null,null,null,null,null,null,null,null,null,null,null,null,null,null,null,null,null,"Второй заезд командные очки",null,null,null,null,null,null,null,null,null,null,null,null,null,null,null,null,null,null,null,null,null,null,null,null,null,null,null,null,null,null,null,null,null,null,null,null,null,null,null,null,null,null,null,1,2,null,null,null,null,null,null,null,null,null,null,null,null,null,null,null,null,null,null,null,null,null,"первый этап"]
[null,null,null,null,null,null,null,null,null,null,null,null,1,2,3,4,5,6,7,8,9,10,11,12,13,14,15,16,17,18,19,20,21,"сх",null,1,2,3,4,5,6,7,8,9,10,11,12,13,14,15,16,17,18,19,20,null,"cx",null,1,2,3,4,5,6,7,8,9,10,11,12,13,14,15,16,17,18,19,20,21,22,23,24,25,26,27,28,29,30,31,32,33,34,35,36,37,38,39,40,null,null,null,1,2,3,4,5,6,7,8,9,10,11,12,13,14,15,16,17,18,19,20,21,22,23,24,25,26,27,28,29,30,31,32,33,34,35,36,37,38,39,40,null,null,null,null,null,null,null,"мин","Н. Стро","В. стро","место",null,"чр1","чр2",null,null,"первый заезд личные очки",null,null,null,null,null,null,null,null,null,null,null,null,null,null,null,null,null,null,null,null,null,"второй заезд личные очки",null,null,null,null,null,null,null,null,null,null,null,null,null,null,null,null,null,null,null,null,null,null,"Первый заезд командные очки",null,null,null,null,null,null,null,null,null,null,null,null,null,null,null,null,null,null,null,null,null,null,"Второй заезд командные очки"]
[1,5,13,"Марков Матвей","б/р","г. Новый Уренгой, Ямало-Ненецкий АО","СТК \"Факел\"","Arctic-Cat",25,{"$f":"#REF!+#REF!","v":{"$error":"#REF!"}},null,null,{"$f":"IF(#REF!=1,25,0)","v":{"$error":"#REF!"}},{"$f":"IF(#REF!=2,22,0)","v":{"$error":"#REF!"}},{"$f":"IF(#REF!=3,20,0)","v":{"$error":"#REF!"}},{"$f":"IF(#REF!=4,18,0)","v":{"$error":"#REF!"}},{"$f":"IF(#REF!=5,16,0)","v":{"$error":"#REF!"}},{"$f":"IF(#REF!=6,15,0)","v":{"$error":"#REF!"}},{"$f":"IF(#REF!=7,14,0)","v":{"$error":"#REF!"}},{"$f":"IF(#REF!=8,13,0)","v":{"$error":"#REF!"}},{"$f":"IF(#REF!=9,12,0)","v":{"$error":"#REF!"}},{"$f":"IF(#REF!=10,11,0)","v":{"$error":"#REF!"}},{"$f":"IF(#REF!=11,10,0)","v":{"$error":"#REF!"}},{"$f":"IF(#REF!=12,9,0)","v":{"$error":"#REF!"}},{"$f":"IF(#REF!=13,8,0)","v":{"$error":"#REF!"}},{"$f":"IF(#REF!=14,7,0)","v":{"$error":"#REF!"}},{"$f":"IF(#REF!=15,6,0)","v":{"$error":"#REF!"}},{"$f":"IF(#REF!=16,5,0)","v":{"$error":"#REF!"}},{"$f":"IF(#REF!=17,4,0)","v":{"$error":"#REF!"}},{"$f":"IF(#REF!=18,3,0)","v":{"$error":"#REF!"}},{"$f":"IF(#REF!=19,2,0)","v":{"$error":"#REF!"}},{"$f":"IF(#REF!=20,1,0)","v":{"$error":"#REF!"}},{"$f":"IF(#REF!>20,0,0)","v":{"$error":"#REF!"}},{"$f":"IF(#REF!=\"сх\",0,0)","v":{"$error":"#REF!"}},{"$f":"SUM(M9:AG9)","v":{"$error":"#REF!"}},{"$f":"IF(#REF!=1,25,0)","v":{"$error":"#REF!"}},{"$f":"IF(#REF!=2,22,0)","v":{"$error":"#REF!"}},{"$f":"IF(#REF!=3,20,0)","v":{"$error":"#REF!"}},{"$f":"IF(#REF!=4,18,0)","v":{"$error":"#REF!"}},{"$f":"IF(#REF!=5,16,0)","v":{"$error":"#REF!"}},{"$f":"IF(#REF!=6,15,0)","v":{"$error":"#REF!"}},{"$f":"IF(#REF!=7,14,0)","v":{"$error":"#REF!"}},{"$f":"IF(#REF!=8,13,0)","v":{"$error":"#REF!"}},{"$f":"IF(#REF!=9,12,0)","v":{"$error":"#REF!"}},{"$f":"IF(#REF!=10,11,0)","v":{"$error":"#REF!"}},{"$f":"IF(#REF!=11,10,0)","v":{"$error":"#REF!"}},{"$f":"IF(#REF!=12,9,0)","v":{"$error":"#REF!"}},{"$f":"IF(#REF!=13,8,0)","v":{"$error":"#REF!"}},{"$f":"IF(#REF!=14,7,0)","v":{"$error":"#REF!"}},{"$f":"IF(#REF!=15,6,0)","v":{"$error":"#REF!"}},{"$f":"IF(#REF!=16,5,0)","v":{"$error":"#REF!"}},{"$f":"IF(#REF!=17,4,0)","v":{"$error":"#REF!"}},{"$f":"IF(#REF!=18,3,0)","v":{"$error":"#REF!"}},{"$f":"IF(#REF!=19,2,0)","v":{"$error":"#REF!"}},{"$f":"IF(#REF!=20,1,0)","v":{"$error":"#REF!"}},{"$f":"IF(#REF!>20,0,0)","v":{"$error":"#REF!"}},{"$f":"IF(#REF!=\"сх\",0,0)","v":{"$error":"#REF!"}},{"$f":"SUM(AJ9:BD9)","v":{"$error":"#REF!"}},{"$f":"IF(#REF!=1,45,0)","v":{"$error":"#REF!"}},{"$f":"IF(#REF!=2,42,0)","v":{"$error":"#REF!"}},{"$f":"IF(#REF!=3,40,0)","v":{"$error":"#REF!"}},{"$f":"IF(#REF!=4,38,0)","v":{"$error":"#REF!"}},{"$f":"IF(#REF!=5,36,0)","v":{"$error":"#REF!"}},{"$f":"IF(#REF!=6,35,0)","v":{"$error":"#REF!"}},{"$f":"IF(#REF!=7,34,0)","v":{"$error":"#REF!"}},{"$f":"IF(#REF!=8,33,0)","v":{"$error":"#REF!"}},{"$f":"IF(#REF!=9,32,0)","v":{"$error":"#REF!"}},{"$f":"IF(#REF!=10,31,0)","v":{"$error":"#REF!"}},{"$f":"IF(#REF!=11,30,0)","v":{"$error":"#REF!"}},{"$f":"IF(#REF!=12,29,0)","v":{"$error":"#REF!"}},{"$f":"IF(#REF!=13,28,0)","v":{"$error":"#REF!"}},{"$f":"IF(#REF!=14,27,0)","v":{"$error":"#REF!"}},{"$f":"IF(#REF!=15,26,0)","v":{"$error":"#REF!"}},{"$f":"IF(#REF!=16,25,0)","v":{"$error":"#REF!"}},{"$f":"IF(#REF!=17,24,0)","v":{"$error":"#REF!"}},{"$f":"IF(#REF!=18,23,0)","v":{"$error":"#REF!"}},{"$f":"IF(#REF!=19,22,0)","v":{"$error":"#REF!"}},{"$f":"IF(#REF!=20,21,0)","v":{"$error":"#REF!"}},{"$f":"IF(#REF!=21,20,0)","v":{"$error":"#REF!"}},{"$f":"IF(#REF!=22,19,0)","v":{"$error":"#REF!"}},{"$f":"IF(#REF!=23,18,0)","v":{"$error":"#REF!"}},{"$f":"IF(#REF!=24,17,0)","v":{"$error":"#REF!"}},{"$f":"IF(#REF!=25,16,0)","v":{"$error":"#REF!"}},{"$f":"IF(#REF!=26,15,0)","v":{"$error":"#REF!"}},{"$f":"IF(#REF!=27,14,0)","v":{"$error":"#REF!"}},{"$f":"IF(#REF!=28,13,0)","v":{"$error":"#REF!"}},{"$f":"IF(#REF!=29,12,0)","v":{"$error":"#REF!"}},{"$f":"IF(#REF!=30,11,0)","v":{"$error":"#REF!"}},{"$f":"IF(#REF!=31,10,0)","v":{"$error":"#REF!"}},{"$f":"IF(#REF!=32,9,0)","v":{"$error":"#REF!"}},{"$f":"IF(#REF!=33,8,0)","v":{"$error":"#REF!"}},{"$f":"IF(#REF!=34,7,0)","v":{"$error":"#REF!"}},{"$f":"IF(#REF!=35,6,0)","v":{"$error":"#REF!"}},{"$f":"IF(#REF!=36,5,0)","v":{"$error":"#REF!"}},{"$f":"IF(#REF!=37,4,0)","v":{"$error":"#REF!"}},{"$f":"IF(#REF!=38,3,0)","v":{"$error":"#REF!"}},{"$f":"IF(#REF!=39,2,0)","v":{"$error":"#REF!"}},{"$f":"IF(#REF!=40,1,0)","v":{"$error":"#REF!"}},{"$f":"IF(#REF!>20,0,0)","v":{"$error":"#REF!"}},{"$f":"IF(#REF!=\"сх\",0,0)","v":{"$error":"#REF!"}},{"$f":"SUM(BG9:CV9)","v":{"$error":"#REF!"}},{"$f":"IF(#REF!=1,45,0)","v":{"$error":"#REF!"}},{"$f":"IF(#REF!=2,42,0)","v":{"$error":"#REF!"}},{"$f":"IF(#REF!=3,40,0)","v":{"$error":"#REF!"}},{"$f":"IF(#REF!=4,38,0)","v":{"$error":"#REF!"}},{"$f":"IF(#REF!=5,36,0)","v":{"$error":"#REF!"}},{"$f":"IF(#REF!=6,35,0)","v":{"$error":"#REF!"}},{"$f":"IF(#REF!=7,34,0)","v":{"$error":"#REF!"}},{"$f":"IF(#REF!=8,33,0)","v":{"$error":"#REF!"}},{"$f":"IF(#REF!=9,32,0)","v":{"$error":"#REF!"}},{"$f":"IF(#REF!=10,31,0)","v":{"$error":"#REF!"}},{"$f":"IF(#REF!=11,30,0)","v":{"$error":"#REF!"}},{"$f":"IF(#REF!=12,29,0)","v":{"$error":"#REF!"}},{"$f":"IF(#REF!=13,28,0)","v":{"$error":"#REF!"}},{"$f":"IF(#REF!=14,27,0)","v":{"$error":"#REF!"}},{"$f":"IF(#REF!=15,26,0)","v":{"$error":"#REF!"}},{"$f":"IF(#REF!=16,25,0)","v":{"$error":"#REF!"}},{"$f":"IF(#REF!=17,24,0)","v":{"$error":"#REF!"}},{"$f":"IF(#REF!=18,23,0)","v":{"$error":"#REF!"}},{"$f":"IF(#REF!=19,22,0)","v":{"$error":"#REF!"}},{"$f":"IF(#REF!=20,21,0)","v":{"$error":"#REF!"}},{"$f":"IF(#REF!=21,20,0)","v":{"$error":"#REF!"}},{"$f":"IF(#REF!=22,19,0)","v":{"$error":"#REF!"}},{"$f":"IF(#REF!=23,18,0)","v":{"$error":"#REF!"}},{"$f":"IF(#REF!=24,17,0)","v":{"$error":"#REF!"}},{"$f":"IF(#REF!=25,16,0)","v":{"$error":"#REF!"}},{"$f":"IF(#REF!=26,15,0)","v":{"$error":"#REF!"}},{"$f":"IF(#REF!=27,14,0)","v":{"$error":"#REF!"}},{"$f":"IF(#REF!=28,13,0)","v":{"$error":"#REF!"}},{"$f":"IF(#REF!=29,12,0)","v":{"$error":"#REF!"}},{"$f":"IF(#REF!=30,11,0)","v":{"$error":"#REF!"}},{"$f":"IF(#REF!=31,10,0)","v":{"$error":"#REF!"}},{"$f":"IF(#REF!=32,9,0)","v":{"$error":"#REF!"}},{"$f":"IF(#REF!=33,8,0)","v":{"$error":"#REF!"}},{"$f":"IF(#REF!=34,7,0)","v":{"$error":"#REF!"}},{"$f":"IF(#REF!=35,6,0)","v":{"$error":"#REF!"}},{"$f":"IF(#REF!=36,5,0)","v":{"$error":"#REF!"}},{"$f":"IF(#REF!=37,4,0)","v":{"$error":"#REF!"}},{"$f":"IF(#REF!=38,3,0)","v":{"$error":"#REF!"}},{"$f":"IF(#REF!=39,2,0)","v":{"$error":"#REF!"}},{"$f":"IF(#REF!=40,1,0)","v":{"$error":"#REF!"}},{"$f":"IF(#REF!>20,0,0)","v":{"$error":"#REF!"}},{"$f":"IF(#REF!=\"сх\",0,0)","v":{"$error":"#REF!"}},{"$f":"SUM(CX9:EM9)","v":{"$error":"#REF!"}},null,{"$f":"IF(#REF!=\"сх\",\"ноль\",IF(#REF!>0,#REF!,\"Ноль\"))","v":{"$error":"#REF!"}},{"$f":"IF(#REF!=\"сх\",\"ноль\",IF(#REF!>0,#REF!,\"Ноль\"))","v":{"$error":"#REF!"}},null,{"$f":"MIN(EP9,EQ9)","v":{"$error":"#REF!"}},{"$f":"IF(I9=#REF!,IF(#REF!<#REF!,#REF!,EX9),#REF!)","v":{"$error":"#REF!"}},{"$f":"IF(I9=#REF!,IF(#REF!<#REF!,0,1))","v":{"$error":"#REF!"}},{"$f":"IF(AND(ES9>=21,ES9<>0),ES9,IF(I9<#REF!,\"СТОП\",ET9+EU9))","v":{"$error":"#REF!"}},null,15,16,null,{"$f":"IF(#REF!=1,25,0)","v":{"$error":"#REF!"}},{"$f":"IF(#REF!=2,22,0)","v":{"$error":"#REF!"}},{"$f":"IF(#REF!=3,20,0)","v":{"$error":"#REF!"}},{"$f":"IF(#REF!=4,18,0)","v":{"$error":"#REF!"}},{"$f":"IF(#REF!=5,16,0)","v":{"$error":"#REF!"}},{"$f":"IF(#REF!=6,15,0)","v":{"$error":"#REF!"}},{"$f":"IF(#REF!=7,14,0)","v":{"$error":"#REF!"}},{"$f":"IF(#REF!=8,13,0)","v":{"$error":"#REF!"}},{"$f":"IF(#REF!=9,12,0)","v":{"$error":"#REF!"}},{"$f":"IF(#REF!=10,11,0)","v":{"$error":"#REF!"}},{"$f":"IF(#REF!=11,10,0)","v":{"$error":"#REF!"}},{"$f":"IF(#REF!=12,9,0)","v":{"$error":"#REF!"}},{"$f":"IF(#REF!=13,8,0)","v":{"$error":"#REF!"}},{"$f":"IF(#REF!=14,7,0)","v":{"$error":"#REF!"}},{"$f":"IF(#REF!=15,6,0)","v":{"$error":"#REF!"}},{"$f":"IF(#REF!=16,5,0)","v":{"$error":"#REF!"}},{"$f":"IF(#REF!=17,4,0)","v":{"$error":"#REF!"}},{"$f":"IF(#REF!=18,3,0)","v":{"$error":"#REF!"}},{"$f":"IF(#REF!=19,2,0)","v":{"$error":"#REF!"}},{"$f":"IF(#REF!=20,1,0)","v":{"$error":"#REF!"}},{"$f":"IF(#REF!>20,0,0)","v":{"$error":"#REF!"}},{"$f":"IF(#REF!=\"сх\",0,0)","v":{"$error":"#REF!"}},{"$f":"SUM(FA9:FV9)","v":{"$error":"#REF!"}},{"$f":"IF(#REF!=1,25,0)","v":{"$error":"#REF!"}},{"$f":"IF(#REF!=2,22,0)","v":{"$error":"#REF!"}},{"$f":"IF(#REF!=3,20,0)","v":{"$error":"#REF!"}},{"$f":"IF(#REF!=4,18,0)","v":{"$error":"#REF!"}},{"$f":"IF(#REF!=5,16,0)","v":{"$error":"#REF!"}},{"$f":"IF(#REF!=6,15,0)","v":{"$error":"#REF!"}},{"$f":"IF(#REF!=7,14,0)","v":{"$error":"#REF!"}},{"$f":"IF(#REF!=8,13,0)","v":{"$error":"#REF!"}},{"$f":"IF(#REF!=9,12,0)","v":{"$error":"#REF!"}},{"$f":"IF(#REF!=10,11,0)","v":{"$error":"#REF!"}},{"$f":"IF(#REF!=11,10,0)","v":{"$error":"#REF!"}},{"$f":"IF(#REF!=12,9,0)","v":{"$error":"#REF!"}},{"$f":"IF(#REF!=13,8,0)","v":{"$error":"#REF!"}},{"$f":"IF(#REF!=14,7,0)","v":{"$error":"#REF!"}},{"$f":"IF(#REF!=15,6,0)","v":{"$error":"#REF!"}},{"$f":"IF(#REF!=16,5,0)","v":{"$error":"#REF!"}},{"$f":"IF(#REF!=17,4,0)","v":{"$error":"#REF!"}},{"$f":"IF(#REF!=18,3,0)","v":{"$error":"#REF!"}},{"$f":"IF(#REF!=19,2,0)","v":{"$error":"#REF!"}},{"$f":"IF(#REF!=20,1,0)","v":{"$error":"#REF!"}},{"$f":"IF(#REF!>20,0,0)","v":{"$error":"#REF!"}},{"$f":"IF(#REF!=\"сх\",0,0)","v":{"$error":"#REF!"}},{"$f":"SUM(FX9:GS9)","v":{"$error":"#REF!"}},{"$f":"IF(#REF!=1,100,0)","v":{"$error":"#REF!"}},{"$f":"IF(#REF!=2,98,0)","v":{"$error":"#REF!"}},{"$f":"IF(#REF!=3,95,0)","v":{"$error":"#REF!"}},{"$f":"IF(#REF!=4,93,0)","v":{"$error":"#REF!"}},{"$f":"IF(#REF!=5,90,0)","v":{"$error":"#REF!"}},{"$f":"IF(#REF!=6,88,0)","v":{"$error":"#REF!"}},{"$f":"IF(#REF!=7,85,0)","v":{"$error":"#REF!"}},{"$f":"IF(#REF!=8,83,0)","v":{"$error":"#REF!"}},{"$f":"IF(#REF!=9,80,0)","v":{"$error":"#REF!"}},{"$f":"IF(#REF!=10,78,0)","v":{"$error":"#REF!"}},{"$f":"IF(#REF!=11,75,0)","v":{"$error":"#REF!"}},{"$f":"IF(#REF!=12,73,0)","v":{"$error":"#REF!"}},{"$f":"IF(#REF!=13,70,0)","v":{"$error":"#REF!"}},{"$f":"IF(#REF!=14,68,0)","v":{"$error":"#REF!"}},{"$f":"IF(#REF!=15,65,0)","v":{"$error":"#REF!"}},{"$f":"IF(#REF!=16,63,0)","v":{"$error":"#REF!"}},{"$f":"IF(#REF!=17,60,0)","v":{"$error":"#REF!"}},{"$f":"IF(#REF!=18,58,0)","v":{"$error":"#REF!"}},{"$f":"IF(#REF!=19,55,0)","v":{"$error":"#REF!"}},{"$f":"IF(#REF!=20,53,0)","v":{"$error":"#REF!"}},{"$f":"IF(#REF!>20,0,0)","v":{"$error":"#REF!"}},{"$f":"IF(#REF!=\"сх\",0,0)","v":{"$error":"#REF!"}},{"$f":"SUM(GU9:HP9)","v":{"$error":"#REF!"}},{"$f":"IF(#REF!=1,100,0)","v":{"$error":"#REF!"}},{"$f":"IF(#REF!=2,98,0)","v":{"$error":"#REF!"}},{"$f":"IF(#REF!=3,95,0)","v":{"$error":"#REF!"}},{"$f":"IF(#REF!=4,93,0)","v":{"$error":"#REF!"}},{"$f":"IF(#REF!=5,90,0)","v":{"$error":"#REF!"}},{"$f":"IF(#REF!=6,88,0)","v":{"$error":"#REF!"}},{"$f":"IF(#REF!=7,85,0)","v":{"$error":"#REF!"}},{"$f":"IF(#REF!=8,83,0)","v":{"$error":"#REF!"}},{"$f":"IF(#REF!=9,80,0)","v":{"$error":"#REF!"}},{"$f":"IF(#REF!=10,78,0)","v":{"$error":"#REF!"}},{"$f":"IF(#REF!=11,75,0)","v":{"$error":"#REF!"}},{"$f":"IF(#REF!=12,73,0)","v":{"$error":"#REF!"}},{"$f":"IF(#REF!=13,70,0)","v":{"$error":"#REF!"}},{"$f":"IF(#REF!=14,68,0)","v":{"$error":"#REF!"}},{"$f":"IF(#REF!=15,65,0)","v":{"$error":"#REF!"}},{"$f":"IF(#REF!=16,63,0)","v":{"$error":"#REF!"}},{"$f":"IF(#REF!=17,60,0)","v":{"$error":"#REF!"}},{"$f":"IF(#REF!=18,58,0)","v":{"$error":"#REF!"}},{"$f":"IF(#REF!=19,55,0)","v":{"$error":"#REF!"}},{"$f":"IF(#REF!=20,53,0)","v":{"$error":"#REF!"}},{"$f":"IF(#REF!>20,0,0)","v":{"$error":"#REF!"}},{"$f":"IF(#REF!=\"сх\",0,0)","v":{"$error":"#REF!"}},{"$f":"SUM(HR9:IM9)","v":{"$error":"#REF!"}}]
[2,4.8,7,"Насыров Даниэль","б/р","г. Новый Уренгой, Ямало-Ненецкий АО","СТК \"Факел\"","Arctic-Cat",22,{"$f":"#REF!+#REF!","v":{"$error":"#REF!"}},null,null,{"$f":"IF(#REF!=1,25,0)","v":{"$error":"#REF!"}},{"$f":"IF(#REF!=2,22,0)","v":{"$error":"#REF!"}},{"$f":"IF(#REF!=3,20,0)","v":{"$error":"#REF!"}},{"$f":"IF(#REF!=4,18,0)","v":{"$error":"#REF!"}},{"$f":"IF(#REF!=5,16,0)","v":{"$error":"#REF!"}},{"$f":"IF(#REF!=6,15,0)","v":{"$error":"#REF!"}},{"$f":"IF(#REF!=7,14,0)","v":{"$error":"#REF!"}},{"$f":"IF(#REF!=8,13,0)","v":{"$error":"#REF!"}},{"$f":"IF(#REF!=9,12,0)","v":{"$error":"#REF!"}},{"$f":"IF(#REF!=10,11,0)","v":{"$error":"#REF!"}},{"$f":"IF(#REF!=11,10,0)","v":{"$error":"#REF!"}},{"$f":"IF(#REF!=12,9,0)","v":{"$error":"#REF!"}},{"$f":"IF(#REF!=13,8,0)","v":{"$error":"#REF!"}},{"$f":"IF(#REF!=14,7,0)","v":{"$error":"#REF!"}},{"$f":"IF(#REF!=15,6,0)","v":{"$error":"#REF!"}},{"$f":"IF(#REF!=16,5,0)","v":{"$error":"#REF!"}},{"$f":"IF(#REF!=17,4,0)","v":{"$error":"#REF!"}},{"$f":"IF(#REF!=18,3,0)","v":{"$error":"#REF!"}},{"$f":"IF(#REF!=19,2,0)","v":{"$error":"#REF!"}},{"$f":"IF(#REF!=20,1,0)","v":{"$error":"#REF!"}},{"$f":"IF(#REF!>20,0,0)","v":{"$error":"#REF!"}},{"$f":"IF(#REF!=\"сх\",0,0)","v":{"$error":"#REF!"}},{"$f":"SUM(M10:AG10)","v":{"$error":"#REF!"}},{"$f":"IF(#REF!=1,25,0)","v":{"$error":"#REF!"}},{"$f":"IF(#REF!=2,22,0)","v":{"$error":"#REF!"}},{"$f":"IF(#REF!=3,20,0)","v":{"$error":"#REF!"}},{"$f":"IF(#REF!=4,18,0)","v":{"$error":"#REF!"}},{"$f":"IF(#REF!=5,16,0)","v":{"$error":"#REF!"}},{"$f":"IF(#REF!=6,15,0)","v":{"$error":"#REF!"}},{"$f":"IF(#REF!=7,14,0)","v":{"$error":"#REF!"}},{"$f":"IF(#REF!=8,13,0)","v":{"$error":"#REF!"}},{"$f":"IF(#REF!=9,12,0)","v":{"$error":"#REF!"}},{"$f":"IF(#REF!=10,11,0)","v":{"$error":"#REF!"}},{"$f":"IF(#REF!=11,10,0)","v":{"$error":"#REF!"}},{"$f":"IF(#REF!=12,9,0)","v":{"$error":"#REF!"}},{"$f":"IF(#REF!=13,8,0)","v":{"$error":"#REF!"}},{"$f":"IF(#REF!=14,7,0)","v":{"$error":"#REF!"}},{"$f":"IF(#REF!=15,6,0)","v":{"$error":"#REF!"}},{"$f":"IF(#REF!=16,5,0)","v":{"$error":"#REF!"}},{"$f":"IF(#REF!=17,4,0)","v":{"$error":"#REF!"}},{"$f":"IF(#REF!=18,3,0)","v":{"$error":"#REF!"}},{"$f":"IF(#REF!=19,2,0)","v":{"$error":"#REF!"}},{"$f":"IF(#REF!=20,1,0)","v":{"$error":"#REF!"}},{"$f":"IF(#REF!>20,0,0)","v":{"$error":"#REF!"}},{"$f":"IF(#REF!=\"сх\",0,0)","v":{"$error":"#REF!"}},{"$f":"SUM(AJ10:BD10)","v":{"$error":"#REF!"}},{"$f":"IF(#REF!=1,45,0)","v":{"$error":"#REF!"}},{"$f":"IF(#REF!=2,42,0)","v":{"$error":"#REF!"}},{"$f":"IF(#REF!=3,40,0)","v":{"$error":"#REF!"}},{"$f":"IF(#REF!=4,38,0)","v":{"$error":"#REF!"}},{"$f":"IF(#REF!=5,36,0)","v":{"$error":"#REF!"}},{"$f":"IF(#REF!=6,35,0)","v":{"$error":"#REF!"}},{"$f":"IF(#REF!=7,34,0)","v":{"$error":"#REF!"}},{"$f":"IF(#REF!=8,33,0)","v":{"$error":"#REF!"}},{"$f":"IF(#REF!=9,32,0)","v":{"$error":"#REF!"}},{"$f":"IF(#REF!=10,31,0)","v":{"$error":"#REF!"}},{"$f":"IF(#REF!=11,30,0)","v":{"$error":"#REF!"}},{"$f":"IF(#REF!=12,29,0)","v":{"$error":"#REF!"}},{"$f":"IF(#REF!=13,28,0)","v":{"$error":"#REF!"}},{"$f":"IF(#REF!=14,27,0)","v":{"$error":"#REF!"}},{"$f":"IF(#REF!=15,26,0)","v":{"$error":"#REF!"}},{"$f":"IF(#REF!=16,25,0)","v":{"$error":"#REF!"}},{"$f":"IF(#REF!=17,24,0)","v":{"$error":"#REF!"}},{"$f":"IF(#REF!=18,23,0)","v":{"$error":"#REF!"}},{"$f":"IF(#REF!=19,22,0)","v":{"$error":"#REF!"}},{"$f":"IF(#REF!=20,21,0)","v":{"$error":"#REF!"}},{"$f":"IF(#REF!=21,20,0)","v":{"$error":"#REF!"}},{"$f":"IF(#REF!=22,19,0)","v":{"$error":"#REF!"}},{"$f":"IF(#REF!=23,18,0)","v":{"$error":"#REF!"}},{"$f":"IF(#REF!=24,17,0)","v":{"$error":"#REF!"}},{"$f":"IF(#REF!=25,16,0)","v":{"$error":"#REF!"}},{"$f":"IF(#REF!=26,15,0)","v":{"$error":"#REF!"}},{"$f":"IF(#REF!=27,14,0)","v":{"$error":"#REF!"}},{"$f":"IF(#REF!=28,13,0)","v":{"$error":"#REF!"}},{"$f":"IF(#REF!=29,12,0)","v":{"$error":"#REF!"}},{"$f":"IF(#REF!=30,11,0)","v":{"$error":"#REF!"}},{"$f":"IF(#REF!=31,10,0)","v":{"$error":"#REF!"}},{"$f":"IF(#REF!=32,9,0)","v":{"$error":"#REF!"}},{"$f":"IF(#REF!=33,8,0)","v":{"$error":"#REF!"}},{"$f":"IF(#REF!=34,7,0)","v":{"$error":"#REF!"}},{"$f":"IF(#REF!=35,6,0)","v":{"$error":"#REF!"}},{"$f":"IF(#REF!=36,5,0)","v":{"$error":"#REF!"}},{"$f":"IF(#REF!=37,4,0)","v":{"$error":"#REF!"}},{"$f":"IF(#REF!=38,3,0)","v":{"$error":"#REF!"}},{"$f":"IF(#REF!=39,2,0)","v":{"$error":"#REF!"}},{"$f":"IF(#REF!=40,1,0)","v":{"$error":"#REF!"}},{"$f":"IF(#REF!>20,0,0)","v":{"$error":"#REF!"}},{"$f":"IF(#REF!=\"сх\",0,0)","v":{"$error":"#REF!"}},{"$f":"SUM(BG10:CV10)","v":{"$error":"#REF!"}},{"$f":"IF(#REF!=1,45,0)","v":{"$error":"#REF!"}},{"$f":"IF(#REF!=2,42,0)","v":{"$error":"#REF!"}},{"$f":"IF(#REF!=3,40,0)","v":{"$error":"#REF!"}},{"$f":"IF(#REF!=4,38,0)","v":{"$error":"#REF!"}},{"$f":"IF(#REF!=5,36,0)","v":{"$error":"#REF!"}},{"$f":"IF(#REF!=6,35,0)","v":{"$error":"#REF!"}},{"$f":"IF(#REF!=7,34,0)","v":{"$error":"#REF!"}},{"$f":"IF(#REF!=8,33,0)","v":{"$error":"#REF!"}},{"$f":"IF(#REF!=9,32,0)","v":{"$error":"#REF!"}},{"$f":"IF(#REF!=10,31,0)","v":{"$error":"#REF!"}},{"$f":"IF(#REF!=11,30,0)","v":{"$error":"#REF!"}},{"$f":"IF(#REF!=12,29,0)","v":{"$error":"#REF!"}},{"$f":"IF(#REF!=13,28,0)","v":{"$error":"#REF!"}},{"$f":"IF(#REF!=14,27,0)","v":{"$error":"#REF!"}},{"$f":"IF(#REF!=15,26,0)","v":{"$error":"#REF!"}},{"$f":"IF(#REF!=16,25,0)","v":{"$error":"#REF!"}},{"$f":"IF(#REF!=17,24,0)","v":{"$error":"#REF!"}},{"$f":"IF(#REF!=18,23,0)","v":{"$error":"#REF!"}},{"$f":"IF(#REF!=19,22,0)","v":{"$error":"#REF!"}},{"$f":"IF(#REF!=20,21,0)","v":{"$error":"#REF!"}},{"$f":"IF(#REF!=21,20,0)","v":{"$error":"#REF!"}},{"$f":"IF(#REF!=22,19,0)","v":{"$error":"#REF!"}},{"$f":"IF(#REF!=23,18,0)","v":{"$error":"#REF!"}},{"$f":"IF(#REF!=24,17,0)","v":{"$error":"#REF!"}},{"$f":"IF(#REF!=25,16,0)","v":{"$error":"#REF!"}},{"$f":"IF(#REF!=26,15,0)","v":{"$error":"#REF!"}},{"$f":"IF(#REF!=27,14,0)","v":{"$error":"#REF!"}},{"$f":"IF(#REF!=28,13,0)","v":{"$error":"#REF!"}},{"$f":"IF(#REF!=29,12,0)","v":{"$error":"#REF!"}},{"$f":"IF(#REF!=30,11,0)","v":{"$error":"#REF!"}},{"$f":"IF(#REF!=31,10,0)","v":{"$error":"#REF!"}},{"$f":"IF(#REF!=32,9,0)","v":{"$error":"#REF!"}},{"$f":"IF(#REF!=33,8,0)","v":{"$error":"#REF!"}},{"$f":"IF(#REF!=34,7,0)","v":{"$error":"#REF!"}},{"$f":"IF(#REF!=35,6,0)","v":{"$error":"#REF!"}},{"$f":"IF(#REF!=36,5,0)","v":{"$error":"#REF!"}},{"$f":"IF(#REF!=37,4,0)","v":{"$error":"#REF!"}},{"$f":"IF(#REF!=38,3,0)","v":{"$error":"#REF!"}},{"$f":"IF(#REF!=39,2,0)","v":{"$error":"#REF!"}},{"$f":"IF(#REF!=40,1,0)","v":{"$error":"#REF!"}},{"$f":"IF(#REF!>20,0,0)","v":{"$error":"#REF!"}},{"$f":"IF(#REF!=\"сх\",0,0)","v":{"$error":"#REF!"}},{"$f":"SUM(CX10:EM10)","v":{"$error":"#REF!"}},null,{"$f":"IF(#REF!=\"сх\",\"ноль\",IF(#REF!>0,#REF!,\"Ноль\"))","v":{"$error":"#REF!"}},{"$f":"IF(#REF!=\"сх\",\"ноль\",IF(#REF!>0,#REF!,\"Ноль\"))","v":{"$error":"#REF!"}},null,{"$f":"MIN(EP10,EQ10)","v":{"$error":"#REF!"}},{"$f":"IF(I10=#REF!,IF(#REF!<#REF!,#REF!,EX10),#REF!)","v":{"$error":"#REF!"}},{"$f":"IF(I10=#REF!,IF(#REF!<#REF!,0,1))","v":{"$error":"#REF!"}},{"$f":"IF(AND(ES10>=21,ES10<>0),ES10,IF(I10<#REF!,\"СТОП\",ET10+EU10))","v":{"$error":"#REF!"}},null,15,16,null,{"$f":"IF(#REF!=1,25,0)","v":{"$error":"#REF!"}},{"$f":"IF(#REF!=2,22,0)","v":{"$error":"#REF!"}},{"$f":"IF(#REF!=3,20,0)","v":{"$error":"#REF!"}},{"$f":"IF(#REF!=4,18,0)","v":{"$error":"#REF!"}},{"$f":"IF(#REF!=5,16,0)","v":{"$error":"#REF!"}},{"$f":"IF(#REF!=6,15,0)","v":{"$error":"#REF!"}},{"$f":"IF(#REF!=7,14,0)","v":{"$error":"#REF!"}},{"$f":"IF(#REF!=8,13,0)","v":{"$error":"#REF!"}},{"$f":"IF(#REF!=9,12,0)","v":{"$error":"#REF!"}},{"$f":"IF(#REF!=10,11,0)","v":{"$error":"#REF!"}},{"$f":"IF(#REF!=11,10,0)","v":{"$error":"#REF!"}},{"$f":"IF(#REF!=12,9,0)","v":{"$error":"#REF!"}},{"$f":"IF(#REF!=13,8,0)","v":{"$error":"#REF!"}},{"$f":"IF(#REF!=14,7,0)","v":{"$error":"#REF!"}},{"$f":"IF(#REF!=15,6,0)","v":{"$error":"#REF!"}},{"$f":"IF(#REF!=16,5,0)","v":{"$error":"#REF!"}},{"$f":"IF(#REF!=17,4,0)","v":{"$error":"#REF!"}},{"$f":"IF(#REF!=18,3,0)","v":{"$error":"#REF!"}},{"$f":"IF(#REF!=19,2,0)","v":{"$error":"#REF!"}},{"$f":"IF(#REF!=20,1,0)","v":{"$error":"#REF!"}},{"$f":"IF(#REF!>20,0,0)","v":{"$error":"#REF!"}},{"$f":"IF(#REF!=\"сх\",0,0)","v":{"$error":"#REF!"}},{"$f":"SUM(FA10:FV10)","v":{"$error":"#REF!"}},{"$f":"IF(#REF!=1,25,0)","v":{"$error":"#REF!"}},{"$f":"IF(#REF!=2,22,0)","v":{"$error":"#REF!"}},{"$f":"IF(#REF!=3,20,0)","v":{"$error":"#REF!"}},{"$f":"IF(#REF!=4,18,0)","v":{"$error":"#REF!"}},{"$f":"IF(#REF!=5,16,0)","v":{"$error":"#REF!"}},{"$f":"IF(#REF!=6,15,0)","v":{"$error":"#REF!"}},{"$f":"IF(#REF!=7,14,0)","v":{"$error":"#REF!"}},{"$f":"IF(#REF!=8,13,0)","v":{"$error":"#REF!"}},{"$f":"IF(#REF!=9,12,0)","v":{"$error":"#REF!"}},{"$f":"IF(#REF!=10,11,0)","v":{"$error":"#REF!"}},{"$f":"IF(#REF!=11,10,0)","v":{"$error":"#REF!"}},{"$f":"IF(#REF!=12,9,0)","v":{"$error":"#REF!"}},{"$f":"IF(#REF!=13,8,0)","v":{"$error":"#REF!"}},{"$f":"IF(#REF!=14,7,0)","v":{"$error":"#REF!"}},{"$f":"IF(#REF!=15,6,0)","v":{"$error":"#REF!"}},{"$f":"IF(#REF!=16,5,0)","v":{"$error":"#REF!"}},{"$f":"IF(#REF!=17,4,0)","v":{"$error":"#REF!"}},{"$f":"IF(#REF!=18,3,0)","v":{"$error":"#REF!"}},{"$f":"IF(#REF!=19,2,0)","v":{"$error":"#REF!"}},{"$f":"IF(#REF!=20,1,0)","v":{"$error":"#REF!"}},{"$f":"IF(#REF!>20,0,0)","v":{"$error":"#REF!"}},{"$f":"IF(#REF!=\"сх\",0,0)","v":{"$error":"#REF!"}},{"$f":"SUM(FX10:GS10)","v":{"$error":"#REF!"}},{"$f":"IF(#REF!=1,100,0)","v":{"$error":"#REF!"}},{"$f":"IF(#REF!=2,98,0)","v":{"$error":"#REF!"}},{"$f":"IF(#REF!=3,95,0)","v":{"$error":"#REF!"}},{"$f":"IF(#REF!=4,93,0)","v":{"$error":"#REF!"}},{"$f":"IF(#REF!=5,90,0)","v":{"$error":"#REF!"}},{"$f":"IF(#REF!=6,88,0)","v":{"$error":"#REF!"}},{"$f":"IF(#REF!=7,85,0)","v":{"$error":"#REF!"}},{"$f":"IF(#REF!=8,83,0)","v":{"$error":"#REF!"}},{"$f":"IF(#REF!=9,80,0)","v":{"$error":"#REF!"}},{"$f":"IF(#REF!=10,78,0)","v":{"$error":"#REF!"}},{"$f":"IF(#REF!=11,75,0)","v":{"$error":"#REF!"}},{"$f":"IF(#REF!=12,73,0)","v":{"$error":"#REF!"}},{"$f":"IF(#REF!=13,70,0)","v":{"$error":"#REF!"}},{"$f":"IF(#REF!=14,68,0)","v":{"$error":"#REF!"}},{"$f":"IF(#REF!=15,65,0)","v":{"$error":"#REF!"}},{"$f":"IF(#REF!=16,63,0)","v":{"$error":"#REF!"}},{"$f":"IF(#REF!=17,60,0)","v":{"$error":"#REF!"}},{"$f":"IF(#REF!=18,58,0)","v":{"$error":"#REF!"}},{"$f":"IF(#REF!=19,55,0)","v":{"$error":"#REF!"}},{"$f":"IF(#REF!=20,53,0)","v":{"$error":"#REF!"}},{"$f":"IF(#REF!>20,0,0)","v":{"$error":"#REF!"}},{"$f":"IF(#REF!=\"сх\",0,0)","v":{"$error":"#REF!"}},{"$f":"SUM(GU10:HP10)","v":{"$error":"#REF!"}},{"$f":"IF(#REF!=1,100,0)","v":{"$error":"#REF!"}},{"$f":"IF(#REF!=2,98,0)","v":{"$error":"#REF!"}},{"$f":"IF(#REF!=3,95,0)","v":{"$error":"#REF!"}},{"$f":"IF(#REF!=4,93,0)","v":{"$error":"#REF!"}},{"$f":"IF(#REF!=5,90,0)","v":{"$error":"#REF!"}},{"$f":"IF(#REF!=6,88,0)","v":{"$error":"#REF!"}},{"$f":"IF(#REF!=7,85,0)","v":{"$error":"#REF!"}},{"$f":"IF(#REF!=8,83,0)","v":{"$error":"#REF!"}},{"$f":"IF(#REF!=9,80,0)","v":{"$error":"#REF!"}},{"$f":"IF(#REF!=10,78,0)","v":{"$error":"#REF!"}},{"$f":"IF(#REF!=11,75,0)","v":{"$error":"#REF!"}},{"$f":"IF(#REF!=12,73,0)","v":{"$error":"#REF!"}},{"$f":"IF(#REF!=13,70,0)","v":{"$error":"#REF!"}},{"$f":"IF(#REF!=14,68,0)","v":{"$error":"#REF!"}},{"$f":"IF(#REF!=15,65,0)","v":{"$error":"#REF!"}},{"$f":"IF(#REF!=16,63,0)","v":{"$error":"#REF!"}},{"$f":"IF(#REF!=17,60,0)","v":{"$error":"#REF!"}},{"$f":"IF(#REF!=18,58,0)","v":{"$error":"#REF!"}},{"$f":"IF(#REF!=19,55,0)","v":{"$error":"#REF!"}},{"$f":"IF(#REF!=20,53,0)","v":{"$error":"#REF!"}},{"$f":"IF(#REF!>20,0,0)","v":{"$error":"#REF!"}},{"$f":"IF(#REF!=\"сх\",0,0)","v":{"$error":"#REF!"}},{"$f":"SUM(HR10:IM10)","v":{"$error":"#REF!"}}]
[3,4.5999999999999996,"04","Русанов Данил","б/р","г. Муравленко, Ямало-Ненецкий АО","\"Миг\"","Arctic-Cat",20,{"$f":"#REF!+#REF!","v":{"$error":"#REF!"}},null,null,{"$f":"IF(#REF!=1,25,0)","v":{"$error":"#REF!"}},{"$f":"IF(#REF!=2,22,0)","v":{"$error":"#REF!"}},{"$f":"IF(#REF!=3,20,0)","v":{"$error":"#REF!"}},{"$f":"IF(#REF!=4,18,0)","v":{"$error":"#REF!"}},{"$f":"IF(#REF!=5,16,0)","v":{"$error":"#REF!"}},{"$f":"IF(#REF!=6,15,0)","v":{"$error":"#REF!"}},{"$f":"IF(#REF!=7,14,0)","v":{"$error":"#REF!"}},{"$f":"IF(#REF!=8,13,0)","v":{"$error":"#REF!"}},{"$f":"IF(#REF!=9,12,0)","v":{"$error":"#REF!"}},{"$f":"IF(#REF!=10,11,0)","v":{"$error":"#REF!"}},{"$f":"IF(#REF!=11,10,0)","v":{"$error":"#REF!"}},{"$f":"IF(#REF!=12,9,0)","v":{"$error":"#REF!"}},{"$f":"IF(#REF!=13,8,0)","v":{"$error":"#REF!"}},{"$f":"IF(#REF!=14,7,0)","v":{"$error":"#REF!"}},{"$f":"IF(#REF!=15,6,0)","v":{"$error":"#REF!"}},{"$f":"IF(#REF!=16,5,0)","v":{"$error":"#REF!"}},{"$f":"IF(#REF!=17,4,0)","v":{"$error":"#REF!"}},{"$f":"IF(#REF!=18,3,0)","v":{"$error":"#REF!"}},{"$f":"IF(#REF!=19,2,0)","v":{"$error":"#REF!"}},{"$f":"IF(#REF!=20,1,0)","v":{"$error":"#REF!"}},{"$f":"IF(#REF!>20,0,0)","v":{"$error":"#REF!"}},{"$f":"IF(#REF!=\"сх\",0,0)","v":{"$error":"#REF!"}},{"$f":"SUM(M11:AG11)","v":{"$error":"#REF!"}},{"$f":"IF(#REF!=1,25,0)","v":{"$error":"#REF!"}},{"$f":"IF(#REF!=2,22,0)","v":{"$error":"#REF!"}},{"$f":"IF(#REF!=3,20,0)","v":{"$error":"#REF!"}},{"$f":"IF(#REF!=4,18,0)","v":{"$error":"#REF!"}},{"$f":"IF(#REF!=5,16,0)","v":{"$error":"#REF!"}},{"$f":"IF(#REF!=6,15,0)","v":{"$error":"#REF!"}},{"$f":"IF(#REF!=7,14,0)","v":{"$error":"#REF!"}},{"$f":"IF(#REF!=8,13,0)","v":{"$error":"#REF!"}},{"$f":"IF(#REF!=9,12,0)","v":{"$error":"#REF!"}},{"$f":"IF(#REF!=10,11,0)","v":{"$error":"#REF!"}},{"$f":"IF(#REF!=11,10,0)","v":{"$error":"#REF!"}},{"$f":"IF(#REF!=12,9,0)","v":{"$error":"#REF!"}},{"$f":"IF(#REF!=13,8,0)","v":{"$error":"#REF!"}},{"$f":"IF(#REF!=14,7,0)","v":{"$error":"#REF!"}},{"$f":"IF(#REF!=15,6,0)","v":{"$error":"#REF!"}},{"$f":"IF(#REF!=16,5,0)","v":{"$error":"#REF!"}},{"$f":"IF(#REF!=17,4,0)","v":{"$error":"#REF!"}},{"$f":"IF(#REF!=18,3,0)","v":{"$error":"#REF!"}},{"$f":"IF(#REF!=19,2,0)","v":{"$error":"#REF!"}},{"$f":"IF(#REF!=20,1,0)","v":{"$error":"#REF!"}},{"$f":"IF(#REF!>20,0,0)","v":{"$error":"#REF!"}},{"$f":"IF(#REF!=\"сх\",0,0)","v":{"$error":"#REF!"}},{"$f":"SUM(AJ11:BD11)","v":{"$error":"#REF!"}},{"$f":"IF(#REF!=1,45,0)","v":{"$error":"#REF!"}},{"$f":"IF(#REF!=2,42,0)","v":{"$error":"#REF!"}},{"$f":"IF(#REF!=3,40,0)","v":{"$error":"#REF!"}},{"$f":"IF(#REF!=4,38,0)","v":{"$error":"#REF!"}},{"$f":"IF(#REF!=5,36,0)","v":{"$error":"#REF!"}},{"$f":"IF(#REF!=6,35,0)","v":{"$error":"#REF!"}},{"$f":"IF(#REF!=7,34,0)","v":{"$error":"#REF!"}},{"$f":"IF(#REF!=8,33,0)","v":{"$error":"#REF!"}},{"$f":"IF(#REF!=9,32,0)","v":{"$error":"#REF!"}},{"$f":"IF(#REF!=10,31,0)","v":{"$error":"#REF!"}},{"$f":"IF(#REF!=11,30,0)","v":{"$error":"#REF!"}},{"$f":"IF(#REF!=12,29,0)","v":{"$error":"#REF!"}},{"$f":"IF(#REF!=13,28,0)","v":{"$error":"#REF!"}},{"$f":"IF(#REF!=14,27,0)","v":{"$error":"#REF!"}},{"$f":"IF(#REF!=15,26,0)","v":{"$error":"#REF!"}},{"$f":"IF(#REF!=16,25,0)","v":{"$error":"#REF!"}},{"$f":"IF(#REF!=17,24,0)","v":{"$error":"#REF!"}},{"$f":"IF(#REF!=18,23,0)","v":{"$error":"#REF!"}},{"$f":"IF(#REF!=19,22,0)","v":{"$error":"#REF!"}},{"$f":"IF(#REF!=20,21,0)","v":{"$error":"#REF!"}},{"$f":"IF(#REF!=21,20,0)","v":{"$error":"#REF!"}},{"$f":"IF(#REF!=22,19,0)","v":{"$error":"#REF!"}},{"$f":"IF(#REF!=23,18,0)","v":{"$error":"#REF!"}},{"$f":"IF(#REF!=24,17,0)","v":{"$error":"#REF!"}},{"$f":"IF(#REF!=25,16,0)","v":{"$error":"#REF!"}},{"$f":"IF(#REF!=26,15,0)","v":{"$error":"#REF!"}},{"$f":"IF(#REF!=27,14,0)","v":{"$error":"#REF!"}},{"$f":"IF(#REF!=28,13,0)","v":{"$error":"#REF!"}},{"$f":"IF(#REF!=29,12,0)","v":{"$error":"#REF!"}},{"$f":"IF(#REF!=30,11,0)","v":{"$error":"#REF!"}},{"$f":"IF(#REF!=31,10,0)","v":{"$error":"#REF!"}},{"$f":"IF(#REF!=32,9,0)","v":{"$error":"#REF!"}},{"$f":"IF(#REF!=33,8,0)","v":{"$error":"#REF!"}},{"$f":"IF(#REF!=34,7,0)","v":{"$error":"#REF!"}},{"$f":"IF(#REF!=35,6,0)","v":{"$error":"#REF!"}},{"$f":"IF(#REF!=36,5,0)","v":{"$error":"#REF!"}},{"$f":"IF(#REF!=37,4,0)","v":{"$error":"#REF!"}},{"$f":"IF(#REF!=38,3,0)","v":{"$error":"#REF!"}},{"$f":"IF(#REF!=39,2,0)","v":{"$error":"#REF!"}},{"$f":"IF(#REF!=40,1,0)","v":{"$error":"#REF!"}},{"$f":"IF(#REF!>20,0,0)","v":{"$error":"#REF!"}},{"$f":"IF(#REF!=\"сх\",0,0)","v":{"$error":"#REF!"}},{"$f":"SUM(BG11:CV11)","v":{"$error":"#REF!"}},{"$f":"IF(#REF!=1,45,0)","v":{"$error":"#REF!"}},{"$f":"IF(#REF!=2,42,0)","v":{"$error":"#REF!"}},{"$f":"IF(#REF!=3,40,0)","v":{"$error":"#REF!"}},{"$f":"IF(#REF!=4,38,0)","v":{"$error":"#REF!"}},{"$f":"IF(#REF!=5,36,0)","v":{"$error":"#REF!"}},{"$f":"IF(#REF!=6,35,0)","v":{"$error":"#REF!"}},{"$f":"IF(#REF!=7,34,0)","v":{"$error":"#REF!"}},{"$f":"IF(#REF!=8,33,0)","v":{"$error":"#REF!"}},{"$f":"IF(#REF!=9,32,0)","v":{"$error":"#REF!"}},{"$f":"IF(#REF!=10,31,0)","v":{"$error":"#REF!"}},{"$f":"IF(#REF!=11,30,0)","v":{"$error":"#REF!"}},{"$f":"IF(#REF!=12,29,0)","v":{"$error":"#REF!"}},{"$f":"IF(#REF!=13,28,0)","v":{"$error":"#REF!"}},{"$f":"IF(#REF!=14,27,0)","v":{"$error":"#REF!"}},{"$f":"IF(#REF!=15,26,0)","v":{"$error":"#REF!"}},{"$f":"IF(#REF!=16,25,0)","v":{"$error":"#REF!"}},{"$f":"IF(#REF!=17,24,0)","v":{"$error":"#REF!"}},{"$f":"IF(#REF!=18,23,0)","v":{"$error":"#REF!"}},{"$f":"IF(#REF!=19,22,0)","v":{"$error":"#REF!"}},{"$f":"IF(#REF!=20,21,0)","v":{"$error":"#REF!"}},{"$f":"IF(#REF!=21,20,0)","v":{"$error":"#REF!"}},{"$f":"IF(#REF!=22,19,0)","v":{"$error":"#REF!"}},{"$f":"IF(#REF!=23,18,0)","v":{"$error":"#REF!"}},{"$f":"IF(#REF!=24,17,0)","v":{"$error":"#REF!"}},{"$f":"IF(#REF!=25,16,0)","v":{"$error":"#REF!"}},{"$f":"IF(#REF!=26,15,0)","v":{"$error":"#REF!"}},{"$f":"IF(#REF!=27,14,0)","v":{"$error":"#REF!"}},{"$f":"IF(#REF!=28,13,0)","v":{"$error":"#REF!"}},{"$f":"IF(#REF!=29,12,0)","v":{"$error":"#REF!"}},{"$f":"IF(#REF!=30,11,0)","v":{"$error":"#REF!"}},{"$f":"IF(#REF!=31,10,0)","v":{"$error":"#REF!"}},{"$f":"IF(#REF!=32,9,0)","v":{"$error":"#REF!"}},{"$f":"IF(#REF!=33,8,0)","v":{"$error":"#REF!"}},{"$f":"IF(#REF!=34,7,0)","v":{"$error":"#REF!"}},{"$f":"IF(#REF!=35,6,0)","v":{"$error":"#REF!"}},{"$f":"IF(#REF!=36,5,0)","v":{"$error":"#REF!"}},{"$f":"IF(#REF!=37,4,0)","v":{"$error":"#REF!"}},{"$f":"IF(#REF!=38,3,0)","v":{"$error":"#REF!"}},{"$f":"IF(#REF!=39,2,0)","v":{"$error":"#REF!"}},{"$f":"IF(#REF!=40,1,0)","v":{"$error":"#REF!"}},{"$f":"IF(#REF!>20,0,0)","v":{"$error":"#REF!"}},{"$f":"IF(#REF!=\"сх\",0,0)","v":{"$error":"#REF!"}},{"$f":"SUM(CX11:EM11)","v":{"$error":"#REF!"}},null,{"$f":"IF(#REF!=\"сх\",\"ноль\",IF(#REF!>0,#REF!,\"Ноль\"))","v":{"$error":"#REF!"}},{"$f":"IF(#REF!=\"сх\",\"ноль\",IF(#REF!>0,#REF!,\"Ноль\"))","v":{"$error":"#REF!"}},null,{"$f":"MIN(EP11,EQ11)","v":{"$error":"#REF!"}},{"$f":"IF(I11=#REF!,IF(#REF!<#REF!,#REF!,EX11),#REF!)","v":{"$error":"#REF!"}},{"$f":"IF(I11=#REF!,IF(#REF!<#REF!,0,1))","v":{"$error":"#REF!"}},{"$f":"IF(AND(ES11>=21,ES11<>0),ES11,IF(I11<#REF!,\"СТОП\",ET11+EU11))","v":{"$error":"#REF!"}},null,15,16,null,{"$f":"IF(#REF!=1,25,0)","v":{"$error":"#REF!"}},{"$f":"IF(#REF!=2,22,0)","v":{"$error":"#REF!"}},{"$f":"IF(#REF!=3,20,0)","v":{"$error":"#REF!"}},{"$f":"IF(#REF!=4,18,0)","v":{"$error":"#REF!"}},{"$f":"IF(#REF!=5,16,0)","v":{"$error":"#REF!"}},{"$f":"IF(#REF!=6,15,0)","v":{"$error":"#REF!"}},{"$f":"IF(#REF!=7,14,0)","v":{"$error":"#REF!"}},{"$f":"IF(#REF!=8,13,0)","v":{"$error":"#REF!"}},{"$f":"IF(#REF!=9,12,0)","v":{"$error":"#REF!"}},{"$f":"IF(#REF!=10,11,0)","v":{"$error":"#REF!"}},{"$f":"IF(#REF!=11,10,0)","v":{"$error":"#REF!"}},{"$f":"IF(#REF!=12,9,0)","v":{"$error":"#REF!"}},{"$f":"IF(#REF!=13,8,0)","v":{"$error":"#REF!"}},{"$f":"IF(#REF!=14,7,0)","v":{"$error":"#REF!"}},{"$f":"IF(#REF!=15,6,0)","v":{"$error":"#REF!"}},{"$f":"IF(#REF!=16,5,0)","v":{"$error":"#REF!"}},{"$f":"IF(#REF!=17,4,0)","v":{"$error":"#REF!"}},{"$f":"IF(#REF!=18,3,0)","v":{"$error":"#REF!"}},{"$f":"IF(#REF!=19,2,0)","v":{"$error":"#REF!"}},{"$f":"IF(#REF!=20,1,0)","v":{"$error":"#REF!"}},{"$f":"IF(#REF!>20,0,0)","v":{"$error":"#REF!"}},{"$f":"IF(#REF!=\"сх\",0,0)","v":{"$error":"#REF!"}},{"$f":"SUM(FA11:FV11)","v":{"$error":"#REF!"}},{"$f":"IF(#REF!=1,25,0)","v":{"$error":"#REF!"}},{"$f":"IF(#REF!=2,22,0)","v":{"$error":"#REF!"}},{"$f":"IF(#REF!=3,20,0)","v":{"$error":"#REF!"}},{"$f":"IF(#REF!=4,18,0)","v":{"$error":"#REF!"}},{"$f":"IF(#REF!=5,16,0)","v":{"$error":"#REF!"}},{"$f":"IF(#REF!=6,15,0)","v":{"$error":"#REF!"}},{"$f":"IF(#REF!=7,14,0)","v":{"$error":"#REF!"}},{"$f":"IF(#REF!=8,13,0)","v":{"$error":"#REF!"}},{"$f":"IF(#REF!=9,12,0)","v":{"$error":"#REF!"}},{"$f":"IF(#REF!=10,11,0)","v":{"$error":"#REF!"}},{"$f":"IF(#REF!=11,10,0)","v":{"$error":"#REF!"}},{"$f":"IF(#REF!=12,9,0)","v":{"$error":"#REF!"}},{"$f":"IF(#REF!=13,8,0)","v":{"$error":"#REF!"}},{"$f":"IF(#REF!=14,7,0)","v":{"$error":"#REF!"}},{"$f":"IF(#REF!=15,6,0)","v":{"$error":"#REF!"}},{"$f":"IF(#REF!=16,5,0)","v":{"$error":"#REF!"}},{"$f":"IF(#REF!=17,4,0)","v":{"$error":"#REF!"}},{"$f":"IF(#REF!=18,3,0)","v":{"$error":"#REF!"}},{"$f":"IF(#REF!=19,2,0)","v":{"$error":"#REF!"}},{"$f":"IF(#REF!=20,1,0)","v":{"$error":"#REF!"}},{"$f":"IF(#REF!>20,0,0)","v":{"$error":"#REF!"}},{"$f":"IF(#REF!=\"сх\",0,0)","v":{"$error":"#REF!"}},{"$f":"SUM(FX11:GS11)","v":{"$error":"#REF!"}},{"$f":"IF(#REF!=1,100,0)","v":{"$error":"#REF!"}},{"$f":"IF(#REF!=2,98,0)","v":{"$error":"#REF!"}},{"$f":"IF(#REF!=3,95,0)","v":{"$error":"#REF!"}},{"$f":"IF(#REF!=4,93,0)","v":{"$error":"#REF!"}},{"$f":"IF(#REF!=5,90,0)","v":{"$error":"#REF!"}},{"$f":"IF(#REF!=6,88,0)","v":{"$error":"#REF!"}},{"$f":"IF(#REF!=7,85,0)","v":{"$error":"#REF!"}},{"$f":"IF(#REF!=8,83,0)","v":{"$error":"#REF!"}},{"$f":"IF(#REF!=9,80,0)","v":{"$error":"#REF!"}},{"$f":"IF(#REF!=10,78,0)","v":{"$error":"#REF!"}},{"$f":"IF(#REF!=11,75,0)","v":{"$error":"#REF!"}},{"$f":"IF(#REF!=12,73,0)","v":{"$error":"#REF!"}},{"$f":"IF(#REF!=13,70,0)","v":{"$error":"#REF!"}},{"$f":"IF(#REF!=14,68,0)","v":{"$error":"#REF!"}},{"$f":"IF(#REF!=15,65,0)","v":{"$error":"#REF!"}},{"$f":"IF(#REF!=16,63,0)","v":{"$error":"#REF!"}},{"$f":"IF(#REF!=17,60,0)","v":{"$error":"#REF!"}},{"$f":"IF(#REF!=18,58,0)","v":{"$error":"#REF!"}},{"$f":"IF(#REF!=19,55,0)","v":{"$error":"#REF!"}},{"$f":"IF(#REF!=20,53,0)","v":{"$error":"#REF!"}},{"$f":"IF(#REF!>20,0,0)","v":{"$error":"#REF!"}},{"$f":"IF(#REF!=\"сх\",0,0)","v":{"$error":"#REF!"}},{"$f":"SUM(GU11:HP11)","v":{"$error":"#REF!"}},{"$f":"IF(#REF!=1,100,0)","v":{"$error":"#REF!"}},{"$f":"IF(#REF!=2,98,0)","v":{"$error":"#REF!"}},{"$f":"IF(#REF!=3,95,0)","v":{"$error":"#REF!"}},{"$f":"IF(#REF!=4,93,0)","v":{"$error":"#REF!"}},{"$f":"IF(#REF!=5,90,0)","v":{"$error":"#REF!"}},{"$f":"IF(#REF!=6,88,0)","v":{"$error":"#REF!"}},{"$f":"IF(#REF!=7,85,0)","v":{"$error":"#REF!"}},{"$f":"IF(#REF!=8,83,0)","v":{"$error":"#REF!"}},{"$f":"IF(#REF!=9,80,0)","v":{"$error":"#REF!"}},{"$f":"IF(#REF!=10,78,0)","v":{"$error":"#REF!"}},{"$f":"IF(#REF!=11,75,0)","v":{"$error":"#REF!"}},{"$f":"IF(#REF!=12,73,0)","v":{"$error":"#REF!"}},{"$f":"IF(#REF!=13,70,0)","v":{"$error":"#REF!"}},{"$f":"IF(#REF!=14,68,0)","v":{"$error":"#REF!"}},{"$f":"IF(#REF!=15,65,0)","v":{"$error":"#REF!"}},{"$f":"IF(#REF!=16,63,0)","v":{"$error":"#REF!"}},{"$f":"IF(#REF!=17,60,0)","v":{"$error":"#REF!"}},{"$f":"IF(#REF!=18,58,0)","v":{"$error":"#REF!"}},{"$f":"IF(#REF!=19,55,0)","v":{"$error":"#REF!"}},{"$f":"IF(#REF!=20,53,0)","v":{"$error":"#REF!"}},{"$f":"IF(#REF!>20,0,0)","v":{"$error":"#REF!"}},{"$f":"IF(#REF!=\"сх\",0,0)","v":{"$error":"#REF!"}},{"$f":"SUM(HR11:IM11)","v":{"$error":"#REF!"}}]
[4,4.5,"03","Арчибасов Артем","б/р","г. Муравленко, Ямало-Ненецкий АО","\"Миг\"","Arctic-Cat",18,{"$f":"#REF!+#REF!","v":{"$error":"#REF!"}},null,null,{"$f":"IF(#REF!=1,25,0)","v":{"$error":"#REF!"}},{"$f":"IF(#REF!=2,22,0)","v":{"$error":"#REF!"}},{"$f":"IF(#REF!=3,20,0)","v":{"$error":"#REF!"}},{"$f":"IF(#REF!=4,18,0)","v":{"$error":"#REF!"}},{"$f":"IF(#REF!=5,16,0)","v":{"$error":"#REF!"}},{"$f":"IF(#REF!=6,15,0)","v":{"$error":"#REF!"}},{"$f":"IF(#REF!=7,14,0)","v":{"$error":"#REF!"}},{"$f":"IF(#REF!=8,13,0)","v":{"$error":"#REF!"}},{"$f":"IF(#REF!=9,12,0)","v":{"$error":"#REF!"}},{"$f":"IF(#REF!=10,11,0)","v":{"$error":"#REF!"}},{"$f":"IF(#REF!=11,10,0)","v":{"$error":"#REF!"}},{"$f":"IF(#REF!=12,9,0)","v":{"$error":"#REF!"}},{"$f":"IF(#REF!=13,8,0)","v":{"$error":"#REF!"}},{"$f":"IF(#REF!=14,7,0)","v":{"$error":"#REF!"}},{"$f":"IF(#REF!=15,6,0)","v":{"$error":"#REF!"}},{"$f":"IF(#REF!=16,5,0)","v":{"$error":"#REF!"}},{"$f":"IF(#REF!=17,4,0)","v":{"$error":"#REF!"}},{"$f":"IF(#REF!=18,3,0)","v":{"$error":"#REF!"}},{"$f":"IF(#REF!=19,2,0)","v":{"$error":"#REF!"}},{"$f":"IF(#REF!=20,1,0)","v":{"$error":"#REF!"}},{"$f":"IF(#REF!>20,0,0)","v":{"$error":"#REF!"}},{"$f":"IF(#REF!=\"сх\",0,0)","v":{"$error":"#REF!"}},{"$error":"#REF!"},{"$f":"IF(#REF!=1,25,0)","v":{"$error":"#REF!"}},{"$f":"IF(#REF!=2,22,0)","v":{"$error":"#REF!"}},{"$f":"IF(#REF!=3,20,0)","v":{"$error":"#REF!"}},{"$f":"IF(#REF!=4,18,0)","v":{"$error":"#REF!"}},{"$f":"IF(#REF!=5,16,0)","v":{"$error":"#REF!"}},{"$f":"IF(#REF!=6,15,0)","v":{"$error":"#REF!"}},{"$f":"IF(#REF!=7,14,0)","v":{"$error":"#REF!"}},{"$f":"IF(#REF!=8,13,0)","v":{"$error":"#REF!"}},{"$f":"IF(#REF!=9,12,0)","v":{"$error":"#REF!"}},{"$f":"IF(#REF!=10,11,0)","v":{"$error":"#REF!"}},{"$f":"IF(#REF!=11,10,0)","v":{"$error":"#REF!"}},{"$f":"IF(#REF!=12,9,0)","v":{"$error":"#REF!"}},{"$f":"IF(#REF!=13,8,0)","v":{"$error":"#REF!"}},{"$f":"IF(#REF!=14,7,0)","v":{"$error":"#REF!"}},{"$f":"IF(#REF!=15,6,0)","v":{"$error":"#REF!"}},{"$f":"IF(#REF!=16,5,0)","v":{"$error":"#REF!"}},{"$f":"IF(#REF!=17,4,0)","v":{"$error":"#REF!"}},{"$f":"IF(#REF!=18,3,0)","v":{"$error":"#REF!"}},{"$f":"IF(#REF!=19,2,0)","v":{"$error":"#REF!"}},{"$f":"IF(#REF!=20,1,0)","v":{"$error":"#REF!"}},{"$f":"IF(#REF!>20,0,0)","v":{"$error":"#REF!"}},{"$f":"IF(#REF!=\"сх\",0,0)","v":{"$error":"#REF!"}},{"$error":"#REF!"},{"$f":"IF(#REF!=1,45,0)","v":{"$error":"#REF!"}},{"$f":"IF(#REF!=2,42,0)","v":{"$error":"#REF!"}},{"$f":"IF(#REF!=3,40,0)","v":{"$error":"#REF!"}},{"$f":"IF(#REF!=4,38,0)","v":{"$error":"#REF!"}},{"$f":"IF(#REF!=5,36,0)","v":{"$error":"#REF!"}},{"$f":"IF(#REF!=6,35,0)","v":{"$error":"#REF!"}},{"$f":"IF(#REF!=7,34,0)","v":{"$error":"#REF!"}},{"$f":"IF(#REF!=8,33,0)","v":{"$error":"#REF!"}},{"$f":"IF(#REF!=9,32,0)","v":{"$error":"#REF!"}},{"$f":"IF(#REF!=10,31,0)","v":{"$error":"#REF!"}},{"$f":"IF(#REF!=11,30,0)","v":{"$error":"#REF!"}},{"$f":"IF(#REF!=12,29,0)","v":{"$error":"#REF!"}},{"$f":"IF(#REF!=13,28,0)","v":{"$error":"#REF!"}},{"$f":"IF(#REF!=14,27,0)","v":{"$error":"#REF!"}},{"$f":"IF(#REF!=15,26,0)","v":{"$error":"#REF!"}},{"$f":"IF(#REF!=16,25,0)","v":{"$error":"#REF!"}},{"$f":"IF(#REF!=17,24,0)","v":{"$error":"#REF!"}},{"$f":"IF(#REF!=18,23,0)","v":{"$error":"#REF!"}},{"$f":"IF(#REF!=19,22,0)","v":{"$error":"#REF!"}},{"$f":"IF(#REF!=20,21,0)","v":{"$error":"#REF!"}},{"$f":"IF(#REF!=21,20,0)","v":{"$error":"#REF!"}},{"$f":"IF(#REF!=22,19,0)","v":{"$error":"#REF!"}},{"$f":"IF(#REF!=23,18,0)","v":{"$error":"#REF!"}},{"$f":"IF(#REF!=24,17,0)","v":{"$error":"#REF!"}},{"$f":"IF(#REF!=25,16,0)","v":{"$error":"#REF!"}},{"$f":"IF(#REF!=26,15,0)","v":{"$error":"#REF!"}},{"$f":"IF(#REF!=27,14,0)","v":{"$error":"#REF!"}},{"$f":"IF(#REF!=28,13,0)","v":{"$error":"#REF!"}},{"$f":"IF(#REF!=29,12,0)","v":{"$error":"#REF!"}},{"$f":"IF(#REF!=30,11,0)","v":{"$error":"#REF!"}},{"$f":"IF(#REF!=31,10,0)","v":{"$error":"#REF!"}},{"$f":"IF(#REF!=32,9,0)","v":{"$error":"#REF!"}},{"$f":"IF(#REF!=33,8,0)","v":{"$error":"#REF!"}},{"$f":"IF(#REF!=34,7,0)","v":{"$error":"#REF!"}},{"$f":"IF(#REF!=35,6,0)","v":{"$error":"#REF!"}},{"$f":"IF(#REF!=36,5,0)","v":{"$error":"#REF!"}},{"$f":"IF(#REF!=37,4,0)","v":{"$error":"#REF!"}},{"$f":"IF(#REF!=38,3,0)","v":{"$error":"#REF!"}},{"$f":"IF(#REF!=39,2,0)","v":{"$error":"#REF!"}},{"$f":"IF(#REF!=40,1,0)","v":{"$error":"#REF!"}},{"$f":"IF(#REF!>20,0,0)","v":{"$error":"#REF!"}},{"$f":"IF(#REF!=\"сх\",0,0)","v":{"$error":"#REF!"}},{"$error":"#REF!"},{"$f":"IF(#REF!=1,45,0)","v":{"$error":"#REF!"}},{"$f":"IF(#REF!=2,42,0)","v":{"$error":"#REF!"}},{"$f":"IF(#REF!=3,40,0)","v":{"$error":"#REF!"}},{"$f":"IF(#REF!=4,38,0)","v":{"$error":"#REF!"}},{"$f":"IF(#REF!=5,36,0)","v":{"$error":"#REF!"}},{"$f":"IF(#REF!=6,35,0)","v":{"$error":"#REF!"}},{"$f":"IF(#REF!=7,34,0)","v":{"$error":"#REF!"}},{"$f":"IF(#REF!=8,33,0)","v":{"$error":"#REF!"}},{"$f":"IF(#REF!=9,32,0)","v":{"$error":"#REF!"}},{"$f":"IF(#REF!=10,31,0)","v":{"$error":"#REF!"}},{"$f":"IF(#REF!=11,30,0)","v":{"$error":"#REF!"}},{"$f":"IF(#REF!=12,29,0)","v":{"$error":"#REF!"}},{"$f":"IF(#REF!=13,28,0)","v":{"$error":"#REF!"}},{"$f":"IF(#REF!=14,27,0)","v":{"$error":"#REF!"}},{"$f":"IF(#REF!=15,26,0)","v":{"$error":"#REF!"}},{"$f":"IF(#REF!=16,25,0)","v":{"$error":"#REF!"}},{"$f":"IF(#REF!=17,24,0)","v":{"$error":"#REF!"}},{"$f":"IF(#REF!=18,23,0)","v":{"$error":"#REF!"}},{"$f":"IF(#REF!=19,22,0)","v":{"$error":"#REF!"}},{"$f":"IF(#REF!=20,21,0)","v":{"$error":"#REF!"}},{"$f":"IF(#REF!=21,20,0)","v":{"$error":"#REF!"}},{"$f":"IF(#REF!=22,19,0)","v":{"$error":"#REF!"}},{"$f":"IF(#REF!=23,18,0)","v":{"$error":"#REF!"}},{"$f":"IF(#REF!=24,17,0)","v":{"$error":"#REF!"}},{"$f":"IF(#REF!=25,16,0)","v":{"$error":"#REF!"}},{"$f":"IF(#REF!=26,15,0)","v":{"$error":"#REF!"}},{"$f":"IF(#REF!=27,14,0)","v":{"$error":"#REF!"}},{"$f":"IF(#REF!=28,13,0)","v":{"$error":"#REF!"}},{"$f":"IF(#REF!=29,12,0)","v":{"$error":"#REF!"}},{"$f":"IF(#REF!=30,11,0)","v":{"$error":"#REF!"}},{"$f":"IF(#REF!=31,10,0)","v":{"$error":"#REF!"}},{"$f":"IF(#REF!=32,9,0)","v":{"$error":"#REF!"}},{"$f":"IF(#REF!=33,8,0)","v":{"$error":"#REF!"}},{"$f":"IF(#REF!=34,7,0)","v":{"$error":"#REF!"}},{"$f":"IF(#REF!=35,6,0)","v":{"$error":"#REF!"}},{"$f":"IF(#REF!=36,5,0)","v":{"$error":"#REF!"}},{"$f":"IF(#REF!=37,4,0)","v":{"$error":"#REF!"}},{"$f":"IF(#REF!=38,3,0)","v":{"$error":"#REF!"}},{"$f":"IF(#REF!=39,2,0)","v":{"$error":"#REF!"}},{"$f":"IF(#REF!=40,1,0)","v":{"$error":"#REF!"}},{"$f":"IF(#REF!>20,0,0)","v":{"$error":"#REF!"}},{"$f":"IF(#REF!=\"сх\",0,0)","v":{"$error":"#REF!"}},{"$error":"#REF!"},null,{"$f":"IF(#REF!=\"сх\",\"ноль\",IF(#REF!>0,#REF!,\"Ноль\"))","v":{"$error":"#REF!"}},{"$f":"IF(#REF!=\"сх\",\"ноль\",IF(#REF!>0,#REF!,\"Ноль\"))","v":{"$error":"#REF!"}},null,{"$error":"#REF!"},{"$f":"IF(I12=#REF!,IF(#REF!<#REF!,#REF!,EX12),#REF!)","v":{"$error":"#REF!"}},{"$f":"IF(I12=#REF!,IF(#REF!<#REF!,0,1))","v":{"$error":"#REF!"}},{"$f":"IF(AND(ES12>=21,ES12<>0),ES12,IF(I12<#REF!,\"СТОП\",ET12+EU12))","v":{"$error":"#REF!"}},null,15,16,null,{"$f":"IF(#REF!=1,25,0)","v":{"$error":"#REF!"}},{"$f":"IF(#REF!=2,22,0)","v":{"$error":"#REF!"}},{"$f":"IF(#REF!=3,20,0)","v":{"$error":"#REF!"}},{"$f":"IF(#REF!=4,18,0)","v":{"$error":"#REF!"}},{"$f":"IF(#REF!=5,16,0)","v":{"$error":"#REF!"}},{"$f":"IF(#REF!=6,15,0)","v":{"$error":"#REF!"}},{"$f":"IF(#REF!=7,14,0)","v":{"$error":"#REF!"}},{"$f":"IF(#REF!=8,13,0)","v":{"$error":"#REF!"}},{"$f":"IF(#REF!=9,12,0)","v":{"$error":"#REF!"}},{"$f":"IF(#REF!=10,11,0)","v":{"$error":"#REF!"}},{"$f":"IF(#REF!=11,10,0)","v":{"$error":"#REF!"}},{"$f":"IF(#REF!=12,9,0)","v":{"$error":"#REF!"}},{"$f":"IF(#REF!=13,8,0)","v":{"$error":"#REF!"}},{"$f":"IF(#REF!=14,7,0)","v":{"$error":"#REF!"}},{"$f":"IF(#REF!=15,6,0)","v":{"$error":"#REF!"}},{"$f":"IF(#REF!=16,5,0)","v":{"$error":"#REF!"}},{"$f":"IF(#REF!=17,4,0)","v":{"$error":"#REF!"}},{"$f":"IF(#REF!=18,3,0)","v":{"$error":"#REF!"}},{"$f":"IF(#REF!=19,2,0)","v":{"$error":"#REF!"}},{"$f":"IF(#REF!=20,1,0)","v":{"$error":"#REF!"}},{"$f":"IF(#REF!>20,0,0)","v":{"$error":"#REF!"}},{"$f":"IF(#REF!=\"сх\",0,0)","v":{"$error":"#REF!"}},{"$error":"#REF!"},{"$f":"IF(#REF!=1,25,0)","v":{"$error":"#REF!"}},{"$f":"IF(#REF!=2,22,0)","v":{"$error":"#REF!"}},{"$f":"IF(#REF!=3,20,0)","v":{"$error":"#REF!"}},{"$f":"IF(#REF!=4,18,0)","v":{"$error":"#REF!"}},{"$f":"IF(#REF!=5,16,0)","v":{"$error":"#REF!"}},{"$f":"IF(#REF!=6,15,0)","v":{"$error":"#REF!"}},{"$f":"IF(#REF!=7,14,0)","v":{"$error":"#REF!"}},{"$f":"IF(#REF!=8,13,0)","v":{"$error":"#REF!"}},{"$f":"IF(#REF!=9,12,0)","v":{"$error":"#REF!"}},{"$f":"IF(#REF!=10,11,0)","v":{"$error":"#REF!"}},{"$f":"IF(#REF!=11,10,0)","v":{"$error":"#REF!"}},{"$f":"IF(#REF!=12,9,0)","v":{"$error":"#REF!"}},{"$f":"IF(#REF!=13,8,0)","v":{"$error":"#REF!"}},{"$f":"IF(#REF!=14,7,0)","v":{"$error":"#REF!"}},{"$f":"IF(#REF!=15,6,0)","v":{"$error":"#REF!"}},{"$f":"IF(#REF!=16,5,0)","v":{"$error":"#REF!"}},{"$f":"IF(#REF!=17,4,0)","v":{"$error":"#REF!"}},{"$f":"IF(#REF!=18,3,0)","v":{"$error":"#REF!"}},{"$f":"IF(#REF!=19,2,0)","v":{"$error":"#REF!"}},{"$f":"IF(#REF!=20,1,0)","v":{"$error":"#REF!"}},{"$f":"IF(#REF!>20,0,0)","v":{"$error":"#REF!"}},{"$f":"IF(#REF!=\"сх\",0,0)","v":{"$error":"#REF!"}},{"$error":"#REF!"},{"$f":"IF(#REF!=1,100,0)","v":{"$error":"#REF!"}},{"$f":"IF(#REF!=2,98,0)","v":{"$error":"#REF!"}},{"$f":"IF(#REF!=3,95,0)","v":{"$error":"#REF!"}},{"$f":"IF(#REF!=4,93,0)","v":{"$error":"#REF!"}},{"$f":"IF(#REF!=5,90,0)","v":{"$error":"#REF!"}},{"$f":"IF(#REF!=6,88,0)","v":{"$error":"#REF!"}},{"$f":"IF(#REF!=7,85,0)","v":{"$error":"#REF!"}},{"$f":"IF(#REF!=8,83,0)","v":{"$error":"#REF!"}},{"$f":"IF(#REF!=9,80,0)","v":{"$error":"#REF!"}},{"$f":"IF(#REF!=10,78,0)","v":{"$error":"#REF!"}},{"$f":"IF(#REF!=11,75,0)","v":{"$error":"#REF!"}},{"$f":"IF(#REF!=12,73,0)","v":{"$error":"#REF!"}},{"$f":"IF(#REF!=13,70,0)","v":{"$error":"#REF!"}},{"$f":"IF(#REF!=14,68,0)","v":{"$error":"#REF!"}},{"$f":"IF(#REF!=15,65,0)","v":{"$error":"#REF!"}},{"$f":"IF(#REF!=16,63,0)","v":{"$error":"#REF!"}},{"$f":"IF(#REF!=17,60,0)","v":{"$error":"#REF!"}},{"$f":"IF(#REF!=18,58,0)","v":{"$error":"#REF!"}},{"$f":"IF(#REF!=19,55,0)","v":{"$error":"#REF!"}},{"$f":"IF(#REF!=20,53,0)","v":{"$error":"#REF!"}},{"$f":"IF(#REF!>20,0,0)","v":{"$error":"#REF!"}},{"$f":"IF(#REF!=\"сх\",0,0)","v":{"$error":"#REF!"}},{"$error":"#REF!"},{"$f":"IF(#REF!=1,100,0)","v":{"$error":"#REF!"}},{"$f":"IF(#REF!=2,98,0)","v":{"$error":"#REF!"}},{"$f":"IF(#REF!=3,95,0)","v":{"$error":"#REF!"}},{"$f":"IF(#REF!=4,93,0)","v":{"$error":"#REF!"}},{"$f":"IF(#REF!=5,90,0)","v":{"$error":"#REF!"}},{"$f":"IF(#REF!=6,88,0)","v":{"$error":"#REF!"}},{"$f":"IF(#REF!=7,85,0)","v":{"$error":"#REF!"}},{"$f":"IF(#REF!=8,83,0)","v":{"$error":"#REF!"}},{"$f":"IF(#REF!=9,80,0)","v":{"$error":"#REF!"}},{"$f":"IF(#REF!=10,78,0)","v":{"$error":"#REF!"}},{"$f":"IF(#REF!=11,75,0)","v":{"$error":"#REF!"}},{"$f":"IF(#REF!=12,73,0)","v":{"$error":"#REF!"}},{"$f":"IF(#REF!=13,70,0)","v":{"$error":"#REF!"}},{"$f":"IF(#REF!=14,68,0)","v":{"$error":"#REF!"}},{"$f":"IF(#REF!=15,65,0)","v":{"$error":"#REF!"}},{"$f":"IF(#REF!=16,63,0)","v":{"$error":"#REF!"}},{"$f":"IF(#REF!=17,60,0)","v":{"$error":"#REF!"}},{"$f":"IF(#REF!=18,58,0)","v":{"$error":"#REF!"}},{"$f":"IF(#REF!=19,55,0)","v":{"$error":"#REF!"}},{"$f":"IF(#REF!=20,53,0)","v":{"$error":"#REF!"}},{"$f":"IF(#REF!>20,0,0)","v":{"$error":"#REF!"}},{"$f":"IF(#REF!=\"сх\",0,0)","v":{"$error":"#REF!"}},{"$error":"#REF!"}]
[5,4.4000000000000004,"02","Аксаметов Родион","б/р","г. Муравленко, Ямало-Ненецкий АО","\"Миг\"","Arctic-Cat",16,{"$f":"#REF!+#REF!","v":{"$error":"#REF!"}},null,null,{"$f":"IF(#REF!=1,25,0)","v":{"$error":"#REF!"}},{"$f":"IF(#REF!=2,22,0)","v":{"$error":"#REF!"}},{"$f":"IF(#REF!=3,20,0)","v":{"$error":"#REF!"}},{"$f":"IF(#REF!=4,18,0)","v":{"$error":"#REF!"}},{"$f":"IF(#REF!=5,16,0)","v":{"$error":"#REF!"}},{"$f":"IF(#REF!=6,15,0)","v":{"$error":"#REF!"}},{"$f":"IF(#REF!=7,14,0)","v":{"$error":"#REF!"}},{"$f":"IF(#REF!=8,13,0)","v":{"$error":"#REF!"}},{"$f":"IF(#REF!=9,12,0)","v":{"$error":"#REF!"}},{"$f":"IF(#REF!=10,11,0)","v":{"$error":"#REF!"}},{"$f":"IF(#REF!=11,10,0)","v":{"$error":"#REF!"}},{"$f":"IF(#REF!=12,9,0)","v":{"$error":"#REF!"}},{"$f":"IF(#REF!=13,8,0)","v":{"$error":"#REF!"}},{"$f":"IF(#REF!=14,7,0)","v":{"$error":"#REF!"}},{"$f":"IF(#REF!=15,6,0)","v":{"$error":"#REF!"}},{"$f":"IF(#REF!=16,5,0)","v":{"$error":"#REF!"}},{"$f":"IF(#REF!=17,4,0)","v":{"$error":"#REF!"}},{"$f":"IF(#REF!=18,3,0)","v":{"$error":"#REF!"}},{"$f":"IF(#REF!=19,2,0)","v":{"$error":"#REF!"}},{"$f":"IF(#REF!=20,1,0)","v":{"$error":"#REF!"}},{"$f":"IF(#REF!>20,0,0)","v":{"$error":"#REF!"}},{"$f":"IF(#REF!=\"сх\",0,0)","v":{"$error":"#REF!"}},{"$error":"#REF!"},{"$f":"IF(#REF!=1,25,0)","v":{"$error":"#REF!"}},{"$f":"IF(#REF!=2,22,0)","v":{"$error":"#REF!"}},{"$f":"IF(#REF!=3,20,0)","v":{"$error":"#REF!"}},{"$f":"IF(#REF!=4,18,0)","v":{"$error":"#REF!"}},{"$f":"IF(#REF!=5,16,0)","v":{"$error":"#REF!"}},{"$f":"IF(#REF!=6,15,0)","v":{"$error":"#REF!"}},{"$f":"IF(#REF!=7,14,0)","v":{"$error":"#REF!"}},{"$f":"IF(#REF!=8,13,0)","v":{"$error":"#REF!"}},{"$f":"IF(#REF!=9,12,0)","v":{"$error":"#REF!"}},{"$f":"IF(#REF!=10,11,0)","v":{"$error":"#REF!"}},{"$f":"IF(#REF!=11,10,0)","v":{"$error":"#REF!"}},{"$f":"IF(#REF!=12,9,0)","v":{"$error":"#REF!"}},{"$f":"IF(#REF!=13,8,0)","v":{"$error":"#REF!"}},{"$f":"IF(#REF!=14,7,0)","v":{"$error":"#REF!"}},{"$f":"IF(#REF!=15,6,0)","v":{"$error":"#REF!"}},{"$f":"IF(#REF!=16,5,0)","v":{"$error":"#REF!"}},{"$f":"IF(#REF!=17,4,0)","v":{"$error":"#REF!"}},{"$f":"IF(#REF!=18,3,0)","v":{"$error":"#REF!"}},{"$f":"IF(#REF!=19,2,0)","v":{"$error":"#REF!"}},{"$f":"IF(#REF!=20,1,0)","v":{"$error":"#REF!"}},{"$f":"IF(#REF!>20,0,0)","v":{"$error":"#REF!"}},{"$f":"IF(#REF!=\"сх\",0,0)","v":{"$error":"#REF!"}},{"$error":"#REF!"},{"$f":"IF(#REF!=1,45,0)","v":{"$error":"#REF!"}},{"$f":"IF(#REF!=2,42,0)","v":{"$error":"#REF!"}},{"$f":"IF(#REF!=3,40,0)","v":{"$error":"#REF!"}},{"$f":"IF(#REF!=4,38,0)","v":{"$error":"#REF!"}},{"$f":"IF(#REF!=5,36,0)","v":{"$error":"#REF!"}},{"$f":"IF(#REF!=6,35,0)","v":{"$error":"#REF!"}},{"$f":"IF(#REF!=7,34,0)","v":{"$error":"#REF!"}},{"$f":"IF(#REF!=8,33,0)","v":{"$error":"#REF!"}},{"$f":"IF(#REF!=9,32,0)","v":{"$error":"#REF!"}},{"$f":"IF(#REF!=10,31,0)","v":{"$error":"#REF!"}},{"$f":"IF(#REF!=11,30,0)","v":{"$error":"#REF!"}},{"$f":"IF(#REF!=12,29,0)","v":{"$error":"#REF!"}},{"$f":"IF(#REF!=13,28,0)","v":{"$error":"#REF!"}},{"$f":"IF(#REF!=14,27,0)","v":{"$error":"#REF!"}},{"$f":"IF(#REF!=15,26,0)","v":{"$error":"#REF!"}},{"$f":"IF(#REF!=16,25,0)","v":{"$error":"#REF!"}},{"$f":"IF(#REF!=17,24,0)","v":{"$error":"#REF!"}},{"$f":"IF(#REF!=18,23,0)","v":{"$error":"#REF!"}},{"$f":"IF(#REF!=19,22,0)","v":{"$error":"#REF!"}},{"$f":"IF(#REF!=20,21,0)","v":{"$error":"#REF!"}},{"$f":"IF(#REF!=21,20,0)","v":{"$error":"#REF!"}},{"$f":"IF(#REF!=22,19,0)","v":{"$error":"#REF!"}},{"$f":"IF(#REF!=23,18,0)","v":{"$error":"#REF!"}},{"$f":"IF(#REF!=24,17,0)","v":{"$error":"#REF!"}},{"$f":"IF(#REF!=25,16,0)","v":{"$error":"#REF!"}},{"$f":"IF(#REF!=26,15,0)","v":{"$error":"#REF!"}},{"$f":"IF(#REF!=27,14,0)","v":{"$error":"#REF!"}},{"$f":"IF(#REF!=28,13,0)","v":{"$error":"#REF!"}},{"$f":"IF(#REF!=29,12,0)","v":{"$error":"#REF!"}},{"$f":"IF(#REF!=30,11,0)","v":{"$error":"#REF!"}},{"$f":"IF(#REF!=31,10,0)","v":{"$error":"#REF!"}},{"$f":"IF(#REF!=32,9,0)","v":{"$error":"#REF!"}},{"$f":"IF(#REF!=33,8,0)","v":{"$error":"#REF!"}},{"$f":"IF(#REF!=34,7,0)","v":{"$error":"#REF!"}},{"$f":"IF(#REF!=35,6,0)","v":{"$error":"#REF!"}},{"$f":"IF(#REF!=36,5,0)","v":{"$error":"#REF!"}},{"$f":"IF(#REF!=37,4,0)","v":{"$error":"#REF!"}},{"$f":"IF(#REF!=38,3,0)","v":{"$error":"#REF!"}},{"$f":"IF(#REF!=39,2,0)","v":{"$error":"#REF!"}},{"$f":"IF(#REF!=40,1,0)","v":{"$error":"#REF!"}},{"$f":"IF(#REF!>20,0,0)","v":{"$error":"#REF!"}},{"$f":"IF(#REF!=\"сх\",0,0)","v":{"$error":"#REF!"}},{"$error":"#REF!"},{"$f":"IF(#REF!=1,45,0)","v":{"$error":"#REF!"}},{"$f":"IF(#REF!=2,42,0)","v":{"$error":"#REF!"}},{"$f":"IF(#REF!=3,40,0)","v":{"$error":"#REF!"}},{"$f":"IF(#REF!=4,38,0)","v":{"$error":"#REF!"}},{"$f":"IF(#REF!=5,36,0)","v":{"$error":"#REF!"}},{"$f":"IF(#REF!=6,35,0)","v":{"$error":"#REF!"}},{"$f":"IF(#REF!=7,34,0)","v":{"$error":"#REF!"}},{"$f":"IF(#REF!=8,33,0)","v":{"$error":"#REF!"}},{"$f":"IF(#REF!=9,32,0)","v":{"$error":"#REF!"}},{"$f":"IF(#REF!=10,31,0)","v":{"$error":"#REF!"}},{"$f":"IF(#REF!=11,30,0)","v":{"$error":"#REF!"}},{"$f":"IF(#REF!=12,29,0)","v":{"$error":"#REF!"}},{"$f":"IF(#REF!=13,28,0)","v":{"$error":"#REF!"}},{"$f":"IF(#REF!=14,27,0)","v":{"$error":"#REF!"}},{"$f":"IF(#REF!=15,26,0)","v":{"$error":"#REF!"}},{"$f":"IF(#REF!=16,25,0)","v":{"$error":"#REF!"}},{"$f":"IF(#REF!=17,24,0)","v":{"$error":"#REF!"}},{"$f":"IF(#REF!=18,23,0)","v":{"$error":"#REF!"}},{"$f":"IF(#REF!=19,22,0)","v":{"$error":"#REF!"}},{"$f":"IF(#REF!=20,21,0)","v":{"$error":"#REF!"}},{"$f":"IF(#REF!=21,20,0)","v":{"$error":"#REF!"}},{"$f":"IF(#REF!=22,19,0)","v":{"$error":"#REF!"}},{"$f":"IF(#REF!=23,18,0)","v":{"$error":"#REF!"}},{"$f":"IF(#REF!=24,17,0)","v":{"$error":"#REF!"}},{"$f":"IF(#REF!=25,16,0)","v":{"$error":"#REF!"}},{"$f":"IF(#REF!=26,15,0)","v":{"$error":"#REF!"}},{"$f":"IF(#REF!=27,14,0)","v":{"$error":"#REF!"}},{"$f":"IF(#REF!=28,13,0)","v":{"$error":"#REF!"}},{"$f":"IF(#REF!=29,12,0)","v":{"$error":"#REF!"}},{"$f":"IF(#REF!=30,11,0)","v":{"$error":"#REF!"}},{"$f":"IF(#REF!=31,10,0)","v":{"$error":"#REF!"}},{"$f":"IF(#REF!=32,9,0)","v":{"$error":"#REF!"}},{"$f":"IF(#REF!=33,8,0)","v":{"$error":"#REF!"}},{"$f":"IF(#REF!=34,7,0)","v":{"$error":"#REF!"}},{"$f":"IF(#REF!=35,6,0)","v":{"$error":"#REF!"}},{"$f":"IF(#REF!=36,5,0)","v":{"$error":"#REF!"}},{"$f":"IF(#REF!=37,4,0)","v":{"$error":"#REF!"}},{"$f":"IF(#REF!=38,3,0)","v":{"$error":"#REF!"}},{"$f":"IF(#REF!=39,2,0)","v":{"$error":"#REF!"}},{"$f":"IF(#REF!=40,1,0)","v":{"$error":"#REF!"}},{"$f":"IF(#REF!>20,0,0)","v":{"$error":"#REF!"}},{"$f":"IF(#REF!=\"сх\",0,0)","v":{"$error":"#REF!"}},{"$error":"#REF!"},null,{"$f":"IF(#REF!=\"сх\",\"ноль\",IF(#REF!>0,#REF!,\"Ноль\"))","v":{"$error":"#REF!"}},{"$f":"IF(#REF!=\"сх\",\"ноль\",IF(#REF!>0,#REF!,\"Ноль\"))","v":{"$error":"#REF!"}},null,{"$error":"#REF!"},{"$f":"IF(I13=#REF!,IF(#REF!<#REF!,#REF!,EX13),#REF!)","v":{"$error":"#REF!"}},{"$f":"IF(I13=#REF!,IF(#REF!<#REF!,0,1))","v":{"$error":"#REF!"}},{"$f":"IF(AND(ES13>=21,ES13<>0),ES13,IF(I13<#REF!,\"СТОП\",ET13+EU13))","v":{"$error":"#REF!"}},null,15,16,null,{"$f":"IF(#REF!=1,25,0)","v":{"$error":"#REF!"}},{"$f":"IF(#REF!=2,22,0)","v":{"$error":"#REF!"}},{"$f":"IF(#REF!=3,20,0)","v":{"$error":"#REF!"}},{"$f":"IF(#REF!=4,18,0)","v":{"$error":"#REF!"}},{"$f":"IF(#REF!=5,16,0)","v":{"$error":"#REF!"}},{"$f":"IF(#REF!=6,15,0)","v":{"$error":"#REF!"}},{"$f":"IF(#REF!=7,14,0)","v":{"$error":"#REF!"}},{"$f":"IF(#REF!=8,13,0)","v":{"$error":"#REF!"}},{"$f":"IF(#REF!=9,12,0)","v":{"$error":"#REF!"}},{"$f":"IF(#REF!=10,11,0)","v":{"$error":"#REF!"}},{"$f":"IF(#REF!=11,10,0)","v":{"$error":"#REF!"}},{"$f":"IF(#REF!=12,9,0)","v":{"$error":"#REF!"}},{"$f":"IF(#REF!=13,8,0)","v":{"$error":"#REF!"}},{"$f":"IF(#REF!=14,7,0)","v":{"$error":"#REF!"}},{"$f":"IF(#REF!=15,6,0)","v":{"$error":"#REF!"}},{"$f":"IF(#REF!=16,5,0)","v":{"$error":"#REF!"}},{"$f":"IF(#REF!=17,4,0)","v":{"$error":"#REF!"}},{"$f":"IF(#REF!=18,3,0)","v":{"$error":"#REF!"}},{"$f":"IF(#REF!=19,2,0)","v":{"$error":"#REF!"}},{"$f":"IF(#REF!=20,1,0)","v":{"$error":"#REF!"}},{"$f":"IF(#REF!>20,0,0)","v":{"$error":"#REF!"}},{"$f":"IF(#REF!=\"сх\",0,0)","v":{"$error":"#REF!"}},{"$error":"#REF!"},{"$f":"IF(#REF!=1,25,0)","v":{"$error":"#REF!"}},{"$f":"IF(#REF!=2,22,0)","v":{"$error":"#REF!"}},{"$f":"IF(#REF!=3,20,0)","v":{"$error":"#REF!"}},{"$f":"IF(#REF!=4,18,0)","v":{"$error":"#REF!"}},{"$f":"IF(#REF!=5,16,0)","v":{"$error":"#REF!"}},{"$f":"IF(#REF!=6,15,0)","v":{"$error":"#REF!"}},{"$f":"IF(#REF!=7,14,0)","v":{"$error":"#REF!"}},{"$f":"IF(#REF!=8,13,0)","v":{"$error":"#REF!"}},{"$f":"IF(#REF!=9,12,0)","v":{"$error":"#REF!"}},{"$f":"IF(#REF!=10,11,0)","v":{"$error":"#REF!"}},{"$f":"IF(#REF!=11,10,0)","v":{"$error":"#REF!"}},{"$f":"IF(#REF!=12,9,0)","v":{"$error":"#REF!"}},{"$f":"IF(#REF!=13,8,0)","v":{"$error":"#REF!"}},{"$f":"IF(#REF!=14,7,0)","v":{"$error":"#REF!"}},{"$f":"IF(#REF!=15,6,0)","v":{"$error":"#REF!"}},{"$f":"IF(#REF!=16,5,0)","v":{"$error":"#REF!"}},{"$f":"IF(#REF!=17,4,0)","v":{"$error":"#REF!"}},{"$f":"IF(#REF!=18,3,0)","v":{"$error":"#REF!"}},{"$f":"IF(#REF!=19,2,0)","v":{"$error":"#REF!"}},{"$f":"IF(#REF!=20,1,0)","v":{"$error":"#REF!"}},{"$f":"IF(#REF!>20,0,0)","v":{"$error":"#REF!"}},{"$f":"IF(#REF!=\"сх\",0,0)","v":{"$error":"#REF!"}},{"$error":"#REF!"},{"$f":"IF(#REF!=1,100,0)","v":{"$error":"#REF!"}},{"$f":"IF(#REF!=2,98,0)","v":{"$error":"#REF!"}},{"$f":"IF(#REF!=3,95,0)","v":{"$error":"#REF!"}},{"$f":"IF(#REF!=4,93,0)","v":{"$error":"#REF!"}},{"$f":"IF(#REF!=5,90,0)","v":{"$error":"#REF!"}},{"$f":"IF(#REF!=6,88,0)","v":{"$error":"#REF!"}},{"$f":"IF(#REF!=7,85,0)","v":{"$error":"#REF!"}},{"$f":"IF(#REF!=8,83,0)","v":{"$error":"#REF!"}},{"$f":"IF(#REF!=9,80,0)","v":{"$error":"#REF!"}},{"$f":"IF(#REF!=10,78,0)","v":{"$error":"#REF!"}},{"$f":"IF(#REF!=11,75,0)","v":{"$error":"#REF!"}},{"$f":"IF(#REF!=12,73,0)","v":{"$error":"#REF!"}},{"$f":"IF(#REF!=13,70,0)","v":{"$error":"#REF!"}},{"$f":"IF(#REF!=14,68,0)","v":{"$error":"#REF!"}},{"$f":"IF(#REF!=15,65,0)","v":{"$error":"#REF!"}},{"$f":"IF(#REF!=16,63,0)","v":{"$error":"#REF!"}},{"$f":"IF(#REF!=17,60,0)","v":{"$error":"#REF!"}},{"$f":"IF(#REF!=18,58,0)","v":{"$error":"#REF!"}},{"$f":"IF(#REF!=19,55,0)","v":{"$error":"#REF!"}},{"$f":"IF(#REF!=20,53,0)","v":{"$error":"#REF!"}},{"$f":"IF(#REF!>20,0,0)","v":{"$error":"#REF!"}},{"$f":"IF(#REF!=\"сх\",0,0)","v":{"$error":"#REF!"}},{"$error":"#REF!"},{"$f":"IF(#REF!=1,100,0)","v":{"$error":"#REF!"}},{"$f":"IF(#REF!=2,98,0)","v":{"$error":"#REF!"}},{"$f":"IF(#REF!=3,95,0)","v":{"$error":"#REF!"}},{"$f":"IF(#REF!=4,93,0)","v":{"$error":"#REF!"}},{"$f":"IF(#REF!=5,90,0)","v":{"$error":"#REF!"}},{"$f":"IF(#REF!=6,88,0)","v":{"$error":"#REF!"}},{"$f":"IF(#REF!=7,85,0)","v":{"$error":"#REF!"}},{"$f":"IF(#REF!=8,83,0)","v":{"$error":"#REF!"}},{"$f":"IF(#REF!=9,80,0)","v":{"$error":"#REF!"}},{"$f":"IF(#REF!=10,78,0)","v":{"$error":"#REF!"}},{"$f":"IF(#REF!=11,75,0)","v":{"$error":"#REF!"}},{"$f":"IF(#REF!=12,73,0)","v":{"$error":"#REF!"}},{"$f":"IF(#REF!=13,70,0)","v":{"$error":"#REF!"}},{"$f":"IF(#REF!=14,68,0)","v":{"$error":"#REF!"}},{"$f":"IF(#REF!=15,65,0)","v":{"$error":"#REF!"}},{"$f":"IF(#REF!=16,63,0)","v":{"$error":"#REF!"}},{"$f":"IF(#REF!=17,60,0)","v":{"$error":"#REF!"}},{"$f":"IF(#REF!=18,58,0)","v":{"$error":"#REF!"}},{"$f":"IF(#REF!=19,55,0)","v":{"$error":"#REF!"}},{"$f":"IF(#REF!=20,53,0)","v":{"$error":"#REF!"}},{"$f":"IF(#REF!>20,0,0)","v":{"$error":"#REF!"}},{"$f":"IF(#REF!=\"сх\",0,0)","v":{"$error":"#REF!"}},{"$error":"#REF!"}]
[6,4.3,"01","Вобликов Никита","б/р","г. Муравленко, Ямало-Ненецкий АО","\"Миг\"","Arctic-Cat",15,{"$f":"#REF!+#REF!","v":{"$error":"#REF!"}},null,null,{"$f":"IF(#REF!=1,25,0)","v":{"$error":"#REF!"}},{"$f":"IF(#REF!=2,22,0)","v":{"$error":"#REF!"}},{"$f":"IF(#REF!=3,20,0)","v":{"$error":"#REF!"}},{"$f":"IF(#REF!=4,18,0)","v":{"$error":"#REF!"}},{"$f":"IF(#REF!=5,16,0)","v":{"$error":"#REF!"}},{"$f":"IF(#REF!=6,15,0)","v":{"$error":"#REF!"}},{"$f":"IF(#REF!=7,14,0)","v":{"$error":"#REF!"}},{"$f":"IF(#REF!=8,13,0)","v":{"$error":"#REF!"}},{"$f":"IF(#REF!=9,12,0)","v":{"$error":"#REF!"}},{"$f":"IF(#REF!=10,11,0)","v":{"$error":"#REF!"}},{"$f":"IF(#REF!=11,10,0)","v":{"$error":"#REF!"}},{"$f":"IF(#REF!=12,9,0)","v":{"$error":"#REF!"}},{"$f":"IF(#REF!=13,8,0)","v":{"$error":"#REF!"}},{"$f":"IF(#REF!=14,7,0)","v":{"$error":"#REF!"}},{"$f":"IF(#REF!=15,6,0)","v":{"$error":"#REF!"}},{"$f":"IF(#REF!=16,5,0)","v":{"$error":"#REF!"}},{"$f":"IF(#REF!=17,4,0)","v":{"$error":"#REF!"}},{"$f":"IF(#REF!=18,3,0)","v":{"$error":"#REF!"}},{"$f":"IF(#REF!=19,2,0)","v":{"$error":"#REF!"}},{"$f":"IF(#REF!=20,1,0)","v":{"$error":"#REF!"}},{"$f":"IF(#REF!>20,0,0)","v":{"$error":"#REF!"}},{"$f":"IF(#REF!=\"сх\",0,0)","v":{"$error":"#REF!"}},{"$f":"SUM(M14:AG14)","v":{"$error":"#REF!"}},{"$f":"IF(#REF!=1,25,0)","v":{"$error":"#REF!"}},{"$f":"IF(#REF!=2,22,0)","v":{"$error":"#REF!"}},{"$f":"IF(#REF!=3,20,0)","v":{"$error":"#REF!"}},{"$f":"IF(#REF!=4,18,0)","v":{"$error":"#REF!"}},{"$f":"IF(#REF!=5,16,0)","v":{"$error":"#REF!"}},{"$f":"IF(#REF!=6,15,0)","v":{"$error":"#REF!"}},{"$f":"IF(#REF!=7,14,0)","v":{"$error":"#REF!"}},{"$f":"IF(#REF!=8,13,0)","v":{"$error":"#REF!"}},{"$f":"IF(#REF!=9,12,0)","v":{"$error":"#REF!"}},{"$f":"IF(#REF!=10,11,0)","v":{"$error":"#REF!"}},{"$f":"IF(#REF!=11,10,0)","v":{"$error":"#REF!"}},{"$f":"IF(#REF!=12,9,0)","v":{"$error":"#REF!"}},{"$f":"IF(#REF!=13,8,0)","v":{"$error":"#REF!"}},{"$f":"IF(#REF!=14,7,0)","v":{"$error":"#REF!"}},{"$f":"IF(#REF!=15,6,0)","v":{"$error":"#REF!"}},{"$f":"IF(#REF!=16,5,0)","v":{"$error":"#REF!"}},{"$f":"IF(#REF!=17,4,0)","v":{"$error":"#REF!"}},{"$f":"IF(#REF!=18,3,0)","v":{"$error":"#REF!"}},{"$f":"IF(#REF!=19,2,0)","v":{"$error":"#REF!"}},{"$f":"IF(#REF!=20,1,0)","v":{"$error":"#REF!"}},{"$f":"IF(#REF!>20,0,0)","v":{"$error":"#REF!"}},{"$f":"IF(#REF!=\"сх\",0,0)","v":{"$error":"#REF!"}},{"$f":"SUM(AJ14:BD14)","v":{"$error":"#REF!"}},{"$f":"IF(#REF!=1,45,0)","v":{"$error":"#REF!"}},{"$f":"IF(#REF!=2,42,0)","v":{"$error":"#REF!"}},{"$f":"IF(#REF!=3,40,0)","v":{"$error":"#REF!"}},{"$f":"IF(#REF!=4,38,0)","v":{"$error":"#REF!"}},{"$f":"IF(#REF!=5,36,0)","v":{"$error":"#REF!"}},{"$f":"IF(#REF!=6,35,0)","v":{"$error":"#REF!"}},{"$f":"IF(#REF!=7,34,0)","v":{"$error":"#REF!"}},{"$f":"IF(#REF!=8,33,0)","v":{"$error":"#REF!"}},{"$f":"IF(#REF!=9,32,0)","v":{"$error":"#REF!"}},{"$f":"IF(#REF!=10,31,0)","v":{"$error":"#REF!"}},{"$f":"IF(#REF!=11,30,0)","v":{"$error":"#REF!"}},{"$f":"IF(#REF!=12,29,0)","v":{"$error":"#REF!"}},{"$f":"IF(#REF!=13,28,0)","v":{"$error":"#REF!"}},{"$f":"IF(#REF!=14,27,0)","v":{"$error":"#REF!"}},{"$f":"IF(#REF!=15,26,0)","v":{"$error":"#REF!"}},{"$f":"IF(#REF!=16,25,0)","v":{"$error":"#REF!"}},{"$f":"IF(#REF!=17,24,0)","v":{"$error":"#REF!"}},{"$f":"IF(#REF!=18,23,0)","v":{"$error":"#REF!"}},{"$f":"IF(#REF!=19,22,0)","v":{"$error":"#REF!"}},{"$f":"IF(#REF!=20,21,0)","v":{"$error":"#REF!"}},{"$f":"IF(#REF!=21,20,0)","v":{"$error":"#REF!"}},{"$f":"IF(#REF!=22,19,0)","v":{"$error":"#REF!"}},{"$f":"IF(#REF!=23,18,0)","v":{"$error":"#REF!"}},{"$f":"IF(#REF!=24,17,0)","v":{"$error":"#REF!"}},{"$f":"IF(#REF!=25,16,0)","v":{"$error":"#REF!"}},{"$f":"IF(#REF!=26,15,0)","v":{"$error":"#REF!"}},{"$f":"IF(#REF!=27,14,0)","v":{"$error":"#REF!"}},{"$f":"IF(#REF!=28,13,0)","v":{"$error":"#REF!"}},{"$f":"IF(#REF!=29,12,0)","v":{"$error":"#REF!"}},{"$f":"IF(#REF!=30,11,0)","v":{"$error":"#REF!"}},{"$f":"IF(#REF!=31,10,0)","v":{"$error":"#REF!"}},{"$f":"IF(#REF!=32,9,0)","v":{"$error":"#REF!"}},{"$f":"IF(#REF!=33,8,0)","v":{"$error":"#REF!"}},{"$f":"IF(#REF!=34,7,0)","v":{"$error":"#REF!"}},{"$f":"IF(#REF!=35,6,0)","v":{"$error":"#REF!"}},{"$f":"IF(#REF!=36,5,0)","v":{"$error":"#REF!"}},{"$f":"IF(#REF!=37,4,0)","v":{"$error":"#REF!"}},{"$f":"IF(#REF!=38,3,0)","v":{"$error":"#REF!"}},{"$f":"IF(#REF!=39,2,0)","v":{"$error":"#REF!"}},{"$f":"IF(#REF!=40,1,0)","v":{"$error":"#REF!"}},{"$f":"IF(#REF!>20,0,0)","v":{"$error":"#REF!"}},{"$f":"IF(#REF!=\"сх\",0,0)","v":{"$error":"#REF!"}},{"$f":"SUM(BG14:CV14)","v":{"$error":"#REF!"}},{"$f":"IF(#REF!=1,45,0)","v":{"$error":"#REF!"}},{"$f":"IF(#REF!=2,42,0)","v":{"$error":"#REF!"}},{"$f":"IF(#REF!=3,40,0)","v":{"$error":"#REF!"}},{"$f":"IF(#REF!=4,38,0)","v":{"$error":"#REF!"}},{"$f":"IF(#REF!=5,36,0)","v":{"$error":"#REF!"}},{"$f":"IF(#REF!=6,35,0)","v":{"$error":"#REF!"}},{"$f":"IF(#REF!=7,34,0)","v":{"$error":"#REF!"}},{"$f":"IF(#REF!=8,33,0)","v":{"$error":"#REF!"}},{"$f":"IF(#REF!=9,32,0)","v":{"$error":"#REF!"}},{"$f":"IF(#REF!=10,31,0)","v":{"$error":"#REF!"}},{"$f":"IF(#REF!=11,30,0)","v":{"$error":"#REF!"}},{"$f":"IF(#REF!=12,29,0)","v":{"$error":"#REF!"}},{"$f":"IF(#REF!=13,28,0)","v":{"$error":"#REF!"}},{"$f":"IF(#REF!=14,27,0)","v":{"$error":"#REF!"}},{"$f":"IF(#REF!=15,26,0)","v":{"$error":"#REF!"}},{"$f":"IF(#REF!=16,25,0)","v":{"$error":"#REF!"}},{"$f":"IF(#REF!=17,24,0)","v":{"$error":"#REF!"}},{"$f":"IF(#REF!=18,23,0)","v":{"$error":"#REF!"}},{"$f":"IF(#REF!=19,22,0)","v":{"$error":"#REF!"}},{"$f":"IF(#REF!=20,21,0)","v":{"$error":"#REF!"}},{"$f":"IF(#REF!=21,20,0)","v":{"$error":"#REF!"}},{"$f":"IF(#REF!=22,19,0)","v":{"$error":"#REF!"}},{"$f":"IF(#REF!=23,18,0)","v":{"$error":"#REF!"}},{"$f":"IF(#REF!=24,17,0)","v":{"$error":"#REF!"}},{"$f":"IF(#REF!=25,16,0)","v":{"$error":"#REF!"}},{"$f":"IF(#REF!=26,15,0)","v":{"$error":"#REF!"}},{"$f":"IF(#REF!=27,14,0)","v":{"$error":"#REF!"}},{"$f":"IF(#REF!=28,13,0)","v":{"$error":"#REF!"}},{"$f":"IF(#REF!=29,12,0)","v":{"$error":"#REF!"}},{"$f":"IF(#REF!=30,11,0)","v":{"$error":"#REF!"}},{"$f":"IF(#REF!=31,10,0)","v":{"$error":"#REF!"}},{"$f":"IF(#REF!=32,9,0)","v":{"$error":"#REF!"}},{"$f":"IF(#REF!=33,8,0)","v":{"$error":"#REF!"}},{"$f":"IF(#REF!=34,7,0)","v":{"$error":"#REF!"}},{"$f":"IF(#REF!=35,6,0)","v":{"$error":"#REF!"}},{"$f":"IF(#REF!=36,5,0)","v":{"$error":"#REF!"}},{"$f":"IF(#REF!=37,4,0)","v":{"$error":"#REF!"}},{"$f":"IF(#REF!=38,3,0)","v":{"$error":"#REF!"}},{"$f":"IF(#REF!=39,2,0)","v":{"$error":"#REF!"}},{"$f":"IF(#REF!=40,1,0)","v":{"$error":"#REF!"}},{"$f":"IF(#REF!>20,0,0)","v":{"$error":"#REF!"}},{"$f":"IF(#REF!=\"сх\",0,0)","v":{"$error":"#REF!"}},{"$f":"SUM(CX14:EM14)","v":{"$error":"#REF!"}},null,{"$f":"IF(#REF!=\"сх\",\"ноль\",IF(#REF!>0,#REF!,\"Ноль\"))","v":{"$error":"#REF!"}},{"$f":"IF(#REF!=\"сх\",\"ноль\",IF(#REF!>0,#REF!,\"Ноль\"))","v":{"$error":"#REF!"}},null,{"$f":"MIN(EP14,EQ14)","v":{"$error":"#REF!"}},{"$f":"IF(I14=#REF!,IF(#REF!<#REF!,#REF!,EX14),#REF!)","v":{"$error":"#REF!"}},{"$f":"IF(I14=#REF!,IF(#REF!<#REF!,0,1))","v":{"$error":"#REF!"}},{"$f":"IF(AND(ES14>=21,ES14<>0),ES14,IF(I14<#REF!,\"СТОП\",ET14+EU14))","v":{"$error":"#REF!"}},null,15,16,null,{"$f":"IF(#REF!=1,25,0)","v":{"$error":"#REF!"}},{"$f":"IF(#REF!=2,22,0)","v":{"$error":"#REF!"}},{"$f":"IF(#REF!=3,20,0)","v":{"$error":"#REF!"}},{"$f":"IF(#REF!=4,18,0)","v":{"$error":"#REF!"}},{"$f":"IF(#REF!=5,16,0)","v":{"$error":"#REF!"}},{"$f":"IF(#REF!=6,15,0)","v":{"$error":"#REF!"}},{"$f":"IF(#REF!=7,14,0)","v":{"$error":"#REF!"}},{"$f":"IF(#REF!=8,13,0)","v":{"$error":"#REF!"}},{"$f":"IF(#REF!=9,12,0)","v":{"$error":"#REF!"}},{"$f":"IF(#REF!=10,11,0)","v":{"$error":"#REF!"}},{"$f":"IF(#REF!=11,10,0)","v":{"$error":"#REF!"}},{"$f":"IF(#REF!=12,9,0)","v":{"$error":"#REF!"}},{"$f":"IF(#REF!=13,8,0)","v":{"$error":"#REF!"}},{"$f":"IF(#REF!=14,7,0)","v":{"$error":"#REF!"}},{"$f":"IF(#REF!=15,6,0)","v":{"$error":"#REF!"}},{"$f":"IF(#REF!=16,5,0)","v":{"$error":"#REF!"}},{"$f":"IF(#REF!=17,4,0)","v":{"$error":"#REF!"}},{"$f":"IF(#REF!=18,3,0)","v":{"$error":"#REF!"}},{"$f":"IF(#REF!=19,2,0)","v":{"$error":"#REF!"}},{"$f":"IF(#REF!=20,1,0)","v":{"$error":"#REF!"}},{"$f":"IF(#REF!>20,0,0)","v":{"$error":"#REF!"}},{"$f":"IF(#REF!=\"сх\",0,0)","v":{"$error":"#REF!"}},{"$f":"SUM(FA14:FV14)","v":{"$error":"#REF!"}},{"$f":"IF(#REF!=1,25,0)","v":{"$error":"#REF!"}},{"$f":"IF(#REF!=2,22,0)","v":{"$error":"#REF!"}},{"$f":"IF(#REF!=3,20,0)","v":{"$error":"#REF!"}},{"$f":"IF(#REF!=4,18,0)","v":{"$error":"#REF!"}},{"$f":"IF(#REF!=5,16,0)","v":{"$error":"#REF!"}},{"$f":"IF(#REF!=6,15,0)","v":{"$error":"#REF!"}},{"$f":"IF(#REF!=7,14,0)","v":{"$error":"#REF!"}},{"$f":"IF(#REF!=8,13,0)","v":{"$error":"#REF!"}},{"$f":"IF(#REF!=9,12,0)","v":{"$error":"#REF!"}},{"$f":"IF(#REF!=10,11,0)","v":{"$error":"#REF!"}},{"$f":"IF(#REF!=11,10,0)","v":{"$error":"#REF!"}},{"$f":"IF(#REF!=12,9,0)","v":{"$error":"#REF!"}},{"$f":"IF(#REF!=13,8,0)","v":{"$error":"#REF!"}},{"$f":"IF(#REF!=14,7,0)","v":{"$error":"#REF!"}},{"$f":"IF(#REF!=15,6,0)","v":{"$error":"#REF!"}},{"$f":"IF(#REF!=16,5,0)","v":{"$error":"#REF!"}},{"$f":"IF(#REF!=17,4,0)","v":{"$error":"#REF!"}},{"$f":"IF(#REF!=18,3,0)","v":{"$error":"#REF!"}},{"$f":"IF(#REF!=19,2,0)","v":{"$error":"#REF!"}},{"$f":"IF(#REF!=20,1,0)","v":{"$error":"#REF!"}},{"$f":"IF(#REF!>20,0,0)","v":{"$error":"#REF!"}},{"$f":"IF(#REF!=\"сх\",0,0)","v":{"$error":"#REF!"}},{"$f":"SUM(FX14:GS14)","v":{"$error":"#REF!"}},{"$f":"IF(#REF!=1,100,0)","v":{"$error":"#REF!"}},{"$f":"IF(#REF!=2,98,0)","v":{"$error":"#REF!"}},{"$f":"IF(#REF!=3,95,0)","v":{"$error":"#REF!"}},{"$f":"IF(#REF!=4,93,0)","v":{"$error":"#REF!"}},{"$f":"IF(#REF!=5,90,0)","v":{"$error":"#REF!"}},{"$f":"IF(#REF!=6,88,0)","v":{"$error":"#REF!"}},{"$f":"IF(#REF!=7,85,0)","v":{"$error":"#REF!"}},{"$f":"IF(#REF!=8,83,0)","v":{"$error":"#REF!"}},{"$f":"IF(#REF!=9,80,0)","v":{"$error":"#REF!"}},{"$f":"IF(#REF!=10,78,0)","v":{"$error":"#REF!"}},{"$f":"IF(#REF!=11,75,0)","v":{"$error":"#REF!"}},{"$f":"IF(#REF!=12,73,0)","v":{"$error":"#REF!"}},{"$f":"IF(#REF!=13,70,0)","v":{"$error":"#REF!"}},{"$f":"IF(#REF!=14,68,0)","v":{"$error":"#REF!"}},{"$f":"IF(#REF!=15,65,0)","v":{"$error":"#REF!"}},{"$f":"IF(#REF!=16,63,0)","v":{"$error":"#REF!"}},{"$f":"IF(#REF!=17,60,0)","v":{"$error":"#REF!"}},{"$f":"IF(#REF!=18,58,0)","v":{"$error":"#REF!"}},{"$f":"IF(#REF!=19,55,0)","v":{"$error":"#REF!"}},{"$f":"IF(#REF!=20,53,0)","v":{"$error":"#REF!"}},{"$f":"IF(#REF!>20,0,0)","v":{"$error":"#REF!"}},{"$f":"IF(#REF!=\"сх\",0,0)","v":{"$error":"#REF!"}},{"$f":"SUM(GU14:HP14)","v":{"$error":"#REF!"}},{"$f":"IF(#REF!=1,100,0)","v":{"$error":"#REF!"}},{"$f":"IF(#REF!=2,98,0)","v":{"$error":"#REF!"}},{"$f":"IF(#REF!=3,95,0)","v":{"$error":"#REF!"}},{"$f":"IF(#REF!=4,93,0)","v":{"$error":"#REF!"}},{"$f":"IF(#REF!=5,90,0)","v":{"$error":"#REF!"}},{"$f":"IF(#REF!=6,88,0)","v":{"$error":"#REF!"}},{"$f":"IF(#REF!=7,85,0)","v":{"$error":"#REF!"}},{"$f":"IF(#REF!=8,83,0)","v":{"$error":"#REF!"}},{"$f":"IF(#REF!=9,80,0)","v":{"$error":"#REF!"}},{"$f":"IF(#REF!=10,78,0)","v":{"$error":"#REF!"}},{"$f":"IF(#REF!=11,75,0)","v":{"$error":"#REF!"}},{"$f":"IF(#REF!=12,73,0)","v":{"$error":"#REF!"}},{"$f":"IF(#REF!=13,70,0)","v":{"$error":"#REF!"}},{"$f":"IF(#REF!=14,68,0)","v":{"$error":"#REF!"}},{"$f":"IF(#REF!=15,65,0)","v":{"$error":"#REF!"}},{"$f":"IF(#REF!=16,63,0)","v":{"$error":"#REF!"}},{"$f":"IF(#REF!=17,60,0)","v":{"$error":"#REF!"}},{"$f":"IF(#REF!=18,58,0)","v":{"$error":"#REF!"}},{"$f":"IF(#REF!=19,55,0)","v":{"$error":"#REF!"}},{"$f":"IF(#REF!=20,53,0)","v":{"$error":"#REF!"}},{"$f":"IF(#REF!>20,0,0)","v":{"$error":"#REF!"}},{"$f":"IF(#REF!=\"сх\",0,0)","v":{"$error":"#REF!"}},{"$f":"SUM(HR14:IM14)","v":{"$error":"#REF!"}}]
[7,4.2,5,"Дубовик Степан","б/р","г. Новый Уренгой, Ямало-Ненецкий АО","СТК \"Факел\"","Arctic-Cat",14,{"$f":"#REF!+#REF!","v":{"$error":"#REF!"}},null,null,{"$f":"IF(#REF!=1,25,0)","v":{"$error":"#REF!"}},{"$f":"IF(#REF!=2,22,0)","v":{"$error":"#REF!"}},{"$f":"IF(#REF!=3,20,0)","v":{"$error":"#REF!"}},{"$f":"IF(#REF!=4,18,0)","v":{"$error":"#REF!"}},{"$f":"IF(#REF!=5,16,0)","v":{"$error":"#REF!"}},{"$f":"IF(#REF!=6,15,0)","v":{"$error":"#REF!"}},{"$f":"IF(#REF!=7,14,0)","v":{"$error":"#REF!"}},{"$f":"IF(#REF!=8,13,0)","v":{"$error":"#REF!"}},{"$f":"IF(#REF!=9,12,0)","v":{"$error":"#REF!"}},{"$f":"IF(#REF!=10,11,0)","v":{"$error":"#REF!"}},{"$f":"IF(#REF!=11,10,0)","v":{"$error":"#REF!"}},{"$f":"IF(#REF!=12,9,0)","v":{"$error":"#REF!"}},{"$f":"IF(#REF!=13,8,0)","v":{"$error":"#REF!"}},{"$f":"IF(#REF!=14,7,0)","v":{"$error":"#REF!"}},{"$f":"IF(#REF!=15,6,0)","v":{"$error":"#REF!"}},{"$f":"IF(#REF!=16,5,0)","v":{"$error":"#REF!"}},{"$f":"IF(#REF!=17,4,0)","v":{"$error":"#REF!"}},{"$f":"IF(#REF!=18,3,0)","v":{"$error":"#REF!"}},{"$f":"IF(#REF!=19,2,0)","v":{"$error":"#REF!"}},{"$f":"IF(#REF!=20,1,0)","v":{"$error":"#REF!"}},{"$f":"IF(#REF!>20,0,0)","v":{"$error":"#REF!"}},{"$f":"IF(#REF!=\"сх\",0,0)","v":{"$error":"#REF!"}},{"$error":"#REF!"},{"$f":"IF(#REF!=1,25,0)","v":{"$error":"#REF!"}},{"$f":"IF(#REF!=2,22,0)","v":{"$error":"#REF!"}},{"$f":"IF(#REF!=3,20,0)","v":{"$error":"#REF!"}},{"$f":"IF(#REF!=4,18,0)","v":{"$error":"#REF!"}},{"$f":"IF(#REF!=5,16,0)","v":{"$error":"#REF!"}},{"$f":"IF(#REF!=6,15,0)","v":{"$error":"#REF!"}},{"$f":"IF(#REF!=7,14,0)","v":{"$error":"#REF!"}},{"$f":"IF(#REF!=8,13,0)","v":{"$error":"#REF!"}},{"$f":"IF(#REF!=9,12,0)","v":{"$error":"#REF!"}},{"$f":"IF(#REF!=10,11,0)","v":{"$error":"#REF!"}},{"$f":"IF(#REF!=11,10,0)","v":{"$error":"#REF!"}},{"$f":"IF(#REF!=12,9,0)","v":{"$error":"#REF!"}},{"$f":"IF(#REF!=13,8,0)","v":{"$error":"#REF!"}},{"$f":"IF(#REF!=14,7,0)","v":{"$error":"#REF!"}},{"$f":"IF(#REF!=15,6,0)","v":{"$error":"#REF!"}},{"$f":"IF(#REF!=16,5,0)","v":{"$error":"#REF!"}},{"$f":"IF(#REF!=17,4,0)","v":{"$error":"#REF!"}},{"$f":"IF(#REF!=18,3,0)","v":{"$error":"#REF!"}},{"$f":"IF(#REF!=19,2,0)","v":{"$error":"#REF!"}},{"$f":"IF(#REF!=20,1,0)","v":{"$error":"#REF!"}},{"$f":"IF(#REF!>20,0,0)","v":{"$error":"#REF!"}},{"$f":"IF(#REF!=\"сх\",0,0)","v":{"$error":"#REF!"}},{"$error":"#REF!"},{"$f":"IF(#REF!=1,45,0)","v":{"$error":"#REF!"}},{"$f":"IF(#REF!=2,42,0)","v":{"$error":"#REF!"}},{"$f":"IF(#REF!=3,40,0)","v":{"$error":"#REF!"}},{"$f":"IF(#REF!=4,38,0)","v":{"$error":"#REF!"}},{"$f":"IF(#REF!=5,36,0)","v":{"$error":"#REF!"}},{"$f":"IF(#REF!=6,35,0)","v":{"$error":"#REF!"}},{"$f":"IF(#REF!=7,34,0)","v":{"$error":"#REF!"}},{"$f":"IF(#REF!=8,33,0)","v":{"$error":"#REF!"}},{"$f":"IF(#REF!=9,32,0)","v":{"$error":"#REF!"}},{"$f":"IF(#REF!=10,31,0)","v":{"$error":"#REF!"}},{"$f":"IF(#REF!=11,30,0)","v":{"$error":"#REF!"}},{"$f":"IF(#REF!=12,29,0)","v":{"$error":"#REF!"}},{"$f":"IF(#REF!=13,28,0)","v":{"$error":"#REF!"}},{"$f":"IF(#REF!=14,27,0)","v":{"$error":"#REF!"}},{"$f":"IF(#REF!=15,26,0)","v":{"$error":"#REF!"}},{"$f":"IF(#REF!=16,25,0)","v":{"$error":"#REF!"}},{"$f":"IF(#REF!=17,24,0)","v":{"$error":"#REF!"}},{"$f":"IF(#REF!=18,23,0)","v":{"$error":"#REF!"}},{"$f":"IF(#REF!=19,22,0)","v":{"$error":"#REF!"}},{"$f":"IF(#REF!=20,21,0)","v":{"$error":"#REF!"}},{"$f":"IF(#REF!=21,20,0)","v":{"$error":"#REF!"}},{"$f":"IF(#REF!=22,19,0)","v":{"$error":"#REF!"}},{"$f":"IF(#REF!=23,18,0)","v":{"$error":"#REF!"}},{"$f":"IF(#REF!=24,17,0)","v":{"$error":"#REF!"}},{"$f":"IF(#REF!=25,16,0)","v":{"$error":"#REF!"}},{"$f":"IF(#REF!=26,15,0)","v":{"$error":"#REF!"}},{"$f":"IF(#REF!=27,14,0)","v":{"$error":"#REF!"}},{"$f":"IF(#REF!=28,13,0)","v":{"$error":"#REF!"}},{"$f":"IF(#REF!=29,12,0)","v":{"$error":"#REF!"}},{"$f":"IF(#REF!=30,11,0)","v":{"$error":"#REF!"}},{"$f":"IF(#REF!=31,10,0)","v":{"$error":"#REF!"}},{"$f":"IF(#REF!=32,9,0)","v":{"$error":"#REF!"}},{"$f":"IF(#REF!=33,8,0)","v":{"$error":"#REF!"}},{"$f":"IF(#REF!=34,7,0)","v":{"$error":"#REF!"}},{"$f":"IF(#REF!=35,6,0)","v":{"$error":"#REF!"}},{"$f":"IF(#REF!=36,5,0)","v":{"$error":"#REF!"}},{"$f":"IF(#REF!=37,4,0)","v":{"$error":"#REF!"}},{"$f":"IF(#REF!=38,3,0)","v":{"$error":"#REF!"}},{"$f":"IF(#REF!=39,2,0)","v":{"$error":"#REF!"}},{"$f":"IF(#REF!=40,1,0)","v":{"$error":"#REF!"}},{"$f":"IF(#REF!>20,0,0)","v":{"$error":"#REF!"}},{"$f":"IF(#REF!=\"сх\",0,0)","v":{"$error":"#REF!"}},{"$error":"#REF!"},{"$f":"IF(#REF!=1,45,0)","v":{"$error":"#REF!"}},{"$f":"IF(#REF!=2,42,0)","v":{"$error":"#REF!"}},{"$f":"IF(#REF!=3,40,0)","v":{"$error":"#REF!"}},{"$f":"IF(#REF!=4,38,0)","v":{"$error":"#REF!"}},{"$f":"IF(#REF!=5,36,0)","v":{"$error":"#REF!"}},{"$f":"IF(#REF!=6,35,0)","v":{"$error":"#REF!"}},{"$f":"IF(#REF!=7,34,0)","v":{"$error":"#REF!"}},{"$f":"IF(#REF!=8,33,0)","v":{"$error":"#REF!"}},{"$f":"IF(#REF!=9,32,0)","v":{"$error":"#REF!"}},{"$f":"IF(#REF!=10,31,0)","v":{"$error":"#REF!"}},{"$f":"IF(#REF!=11,30,0)","v":{"$error":"#REF!"}},{"$f":"IF(#REF!=12,29,0)","v":{"$error":"#REF!"}},{"$f":"IF(#REF!=13,28,0)","v":{"$error":"#REF!"}},{"$f":"IF(#REF!=14,27,0)","v":{"$error":"#REF!"}},{"$f":"IF(#REF!=15,26,0)","v":{"$error":"#REF!"}},{"$f":"IF(#REF!=16,25,0)","v":{"$error":"#REF!"}},{"$f":"IF(#REF!=17,24,0)","v":{"$error":"#REF!"}},{"$f":"IF(#REF!=18,23,0)","v":{"$error":"#REF!"}},{"$f":"IF(#REF!=19,22,0)","v":{"$error":"#REF!"}},{"$f":"IF(#REF!=20,21,0)","v":{"$error":"#REF!"}},{"$f":"IF(#REF!=21,20,0)","v":{"$error":"#REF!"}},{"$f":"IF(#REF!=22,19,0)","v":{"$error":"#REF!"}},{"$f":"IF(#REF!=23,18,0)","v":{"$error":"#REF!"}},{"$f":"IF(#REF!=24,17,0)","v":{"$error":"#REF!"}},{"$f":"IF(#REF!=25,16,0)","v":{"$error":"#REF!"}},{"$f":"IF(#REF!=26,15,0)","v":{"$error":"#REF!"}},{"$f":"IF(#REF!=27,14,0)","v":{"$error":"#REF!"}},{"$f":"IF(#REF!=28,13,0)","v":{"$error":"#REF!"}},{"$f":"IF(#REF!=29,12,0)","v":{"$error":"#REF!"}},{"$f":"IF(#REF!=30,11,0)","v":{"$error":"#REF!"}},{"$f":"IF(#REF!=31,10,0)","v":{"$error":"#REF!"}},{"$f":"IF(#REF!=32,9,0)","v":{"$error":"#REF!"}},{"$f":"IF(#REF!=33,8,0)","v":{"$error":"#REF!"}},{"$f":"IF(#REF!=34,7,0)","v":{"$error":"#REF!"}},{"$f":"IF(#REF!=35,6,0)","v":{"$error":"#REF!"}},{"$f":"IF(#REF!=36,5,0)","v":{"$error":"#REF!"}},{"$f":"IF(#REF!=37,4,0)","v":{"$error":"#REF!"}},{"$f":"IF(#REF!=38,3,0)","v":{"$error":"#REF!"}},{"$f":"IF(#REF!=39,2,0)","v":{"$error":"#REF!"}},{"$f":"IF(#REF!=40,1,0)","v":{"$error":"#REF!"}},{"$f":"IF(#REF!>20,0,0)","v":{"$error":"#REF!"}},{"$f":"IF(#REF!=\"сх\",0,0)","v":{"$error":"#REF!"}},{"$error":"#REF!"},null,{"$f":"IF(#REF!=\"сх\",\"ноль\",IF(#REF!>0,#REF!,\"Ноль\"))","v":{"$error":"#REF!"}},{"$f":"IF(#REF!=\"сх\",\"ноль\",IF(#REF!>0,#REF!,\"Ноль\"))","v":{"$error":"#REF!"}},null,{"$error":"#REF!"},{"$f":"IF(I15=#REF!,IF(#REF!<#REF!,#REF!,EX15),#REF!)","v":{"$error":"#REF!"}},{"$f":"IF(I15=#REF!,IF(#REF!<#REF!,0,1))","v":{"$error":"#REF!"}},{"$f":"IF(AND(ES15>=21,ES15<>0),ES15,IF(I15<#REF!,\"СТОП\",ET15+EU15))","v":{"$error":"#REF!"}},null,15,16,null,{"$f":"IF(#REF!=1,25,0)","v":{"$error":"#REF!"}},{"$f":"IF(#REF!=2,22,0)","v":{"$error":"#REF!"}},{"$f":"IF(#REF!=3,20,0)","v":{"$error":"#REF!"}},{"$f":"IF(#REF!=4,18,0)","v":{"$error":"#REF!"}},{"$f":"IF(#REF!=5,16,0)","v":{"$error":"#REF!"}},{"$f":"IF(#REF!=6,15,0)","v":{"$error":"#REF!"}},{"$f":"IF(#REF!=7,14,0)","v":{"$error":"#REF!"}},{"$f":"IF(#REF!=8,13,0)","v":{"$error":"#REF!"}},{"$f":"IF(#REF!=9,12,0)","v":{"$error":"#REF!"}},{"$f":"IF(#REF!=10,11,0)","v":{"$error":"#REF!"}},{"$f":"IF(#REF!=11,10,0)","v":{"$error":"#REF!"}},{"$f":"IF(#REF!=12,9,0)","v":{"$error":"#REF!"}},{"$f":"IF(#REF!=13,8,0)","v":{"$error":"#REF!"}},{"$f":"IF(#REF!=14,7,0)","v":{"$error":"#REF!"}},{"$f":"IF(#REF!=15,6,0)","v":{"$error":"#REF!"}},{"$f":"IF(#REF!=16,5,0)","v":{"$error":"#REF!"}},{"$f":"IF(#REF!=17,4,0)","v":{"$error":"#REF!"}},{"$f":"IF(#REF!=18,3,0)","v":{"$error":"#REF!"}},{"$f":"IF(#REF!=19,2,0)","v":{"$error":"#REF!"}},{"$f":"IF(#REF!=20,1,0)","v":{"$error":"#REF!"}},{"$f":"IF(#REF!>20,0,0)","v":{"$error":"#REF!"}},{"$f":"IF(#REF!=\"сх\",0,0)","v":{"$error":"#REF!"}},{"$error":"#REF!"},{"$f":"IF(#REF!=1,25,0)","v":{"$error":"#REF!"}},{"$f":"IF(#REF!=2,22,0)","v":{"$error":"#REF!"}},{"$f":"IF(#REF!=3,20,0)","v":{"$error":"#REF!"}},{"$f":"IF(#REF!=4,18,0)","v":{"$error":"#REF!"}},{"$f":"IF(#REF!=5,16,0)","v":{"$error":"#REF!"}},{"$f":"IF(#REF!=6,15,0)","v":{"$error":"#REF!"}},{"$f":"IF(#REF!=7,14,0)","v":{"$error":"#REF!"}},{"$f":"IF(#REF!=8,13,0)","v":{"$error":"#REF!"}},{"$f":"IF(#REF!=9,12,0)","v":{"$error":"#REF!"}},{"$f":"IF(#REF!=10,11,0)","v":{"$error":"#REF!"}},{"$f":"IF(#REF!=11,10,0)","v":{"$error":"#REF!"}},{"$f":"IF(#REF!=12,9,0)","v":{"$error":"#REF!"}},{"$f":"IF(#REF!=13,8,0)","v":{"$error":"#REF!"}},{"$f":"IF(#REF!=14,7,0)","v":{"$error":"#REF!"}},{"$f":"IF(#REF!=15,6,0)","v":{"$error":"#REF!"}},{"$f":"IF(#REF!=16,5,0)","v":{"$error":"#REF!"}},{"$f":"IF(#REF!=17,4,0)","v":{"$error":"#REF!"}},{"$f":"IF(#REF!=18,3,0)","v":{"$error":"#REF!"}},{"$f":"IF(#REF!=19,2,0)","v":{"$error":"#REF!"}},{"$f":"IF(#REF!=20,1,0)","v":{"$error":"#REF!"}},{"$f":"IF(#REF!>20,0,0)","v":{"$error":"#REF!"}},{"$f":"IF(#REF!=\"сх\",0,0)","v":{"$error":"#REF!"}},{"$error":"#REF!"},{"$f":"IF(#REF!=1,100,0)","v":{"$error":"#REF!"}},{"$f":"IF(#REF!=2,98,0)","v":{"$error":"#REF!"}},{"$f":"IF(#REF!=3,95,0)","v":{"$error":"#REF!"}},{"$f":"IF(#REF!=4,93,0)","v":{"$error":"#REF!"}},{"$f":"IF(#REF!=5,90,0)","v":{"$error":"#REF!"}},{"$f":"IF(#REF!=6,88,0)","v":{"$error":"#REF!"}},{"$f":"IF(#REF!=7,85,0)","v":{"$error":"#REF!"}},{"$f":"IF(#REF!=8,83,0)","v":{"$error":"#REF!"}},{"$f":"IF(#REF!=9,80,0)","v":{"$error":"#REF!"}},{"$f":"IF(#REF!=10,78,0)","v":{"$error":"#REF!"}},{"$f":"IF(#REF!=11,75,0)","v":{"$error":"#REF!"}},{"$f":"IF(#REF!=12,73,0)","v":{"$error":"#REF!"}},{"$f":"IF(#REF!=13,70,0)","v":{"$error":"#REF!"}},{"$f":"IF(#REF!=14,68,0)","v":{"$error":"#REF!"}},{"$f":"IF(#REF!=15,65,0)","v":{"$error":"#REF!"}},{"$f":"IF(#REF!=16,63,0)","v":{"$error":"#REF!"}},{"$f":"IF(#REF!=17,60,0)","v":{"$error":"#REF!"}},{"$f":"IF(#REF!=18,58,0)","v":{"$error":"#REF!"}},{"$f":"IF(#REF!=19,55,0)","v":{"$error":"#REF!"}},{"$f":"IF(#REF!=20,53,0)","v":{"$error":"#REF!"}},{"$f":"IF(#REF!>20,0,0)","v":{"$error":"#REF!"}},{"$f":"IF(#REF!=\"сх\",0,0)","v":{"$error":"#REF!"}},{"$error":"#REF!"},{"$f":"IF(#REF!=1,100,0)","v":{"$error":"#REF!"}},{"$f":"IF(#REF!=2,98,0)","v":{"$error":"#REF!"}},{"$f":"IF(#REF!=3,95,0)","v":{"$error":"#REF!"}},{"$f":"IF(#REF!=4,93,0)","v":{"$error":"#REF!"}},{"$f":"IF(#REF!=5,90,0)","v":{"$error":"#REF!"}},{"$f":"IF(#REF!=6,88,0)","v":{"$error":"#REF!"}},{"$f":"IF(#REF!=7,85,0)","v":{"$error":"#REF!"}},{"$f":"IF(#REF!=8,83,0)","v":{"$error":"#REF!"}},{"$f":"IF(#REF!=9,80,0)","v":{"$error":"#REF!"}},{"$f":"IF(#REF!=10,78,0)","v":{"$error":"#REF!"}},{"$f":"IF(#REF!=11,75,0)","v":{"$error":"#REF!"}},{"$f":"IF(#REF!=12,73,0)","v":{"$error":"#REF!"}},{"$f":"IF(#REF!=13,70,0)","v":{"$error":"#REF!"}},{"$f":"IF(#REF!=14,68,0)","v":{"$error":"#REF!"}},{"$f":"IF(#REF!=15,65,0)","v":{"$error":"#REF!"}},{"$f":"IF(#REF!=16,63,0)","v":{"$error":"#REF!"}},{"$f":"IF(#REF!=17,60,0)","v":{"$error":"#REF!"}},{"$f":"IF(#REF!=18,58,0)","v":{"$error":"#REF!"}},{"$f":"IF(#REF!=19,55,0)","v":{"$error":"#REF!"}},{"$f":"IF(#REF!=20,53,0)","v":{"$error":"#REF!"}},{"$f":"IF(#REF!>20,0,0)","v":{"$error":"#REF!"}},{"$f":"IF(#REF!=\"сх\",0,0)","v":{"$error":"#REF!"}},{"$error":"#REF!"}]
[8,4.0999999999999996,44,"Сергеев Владислав","б/р","г. Новый Уренгой, Ямало-Ненецкий АО","СТК \"Факел\"","Arctic-Cat",13,{"$f":"#REF!+#REF!","v":{"$error":"#REF!"}},null,null,{"$f":"IF(#REF!=1,25,0)","v":{"$error":"#REF!"}},{"$f":"IF(#REF!=2,22,0)","v":{"$error":"#REF!"}},{"$f":"IF(#REF!=3,20,0)","v":{"$error":"#REF!"}},{"$f":"IF(#REF!=4,18,0)","v":{"$error":"#REF!"}},{"$f":"IF(#REF!=5,16,0)","v":{"$error":"#REF!"}},{"$f":"IF(#REF!=6,15,0)","v":{"$error":"#REF!"}},{"$f":"IF(#REF!=7,14,0)","v":{"$error":"#REF!"}},{"$f":"IF(#REF!=8,13,0)","v":{"$error":"#REF!"}},{"$f":"IF(#REF!=9,12,0)","v":{"$error":"#REF!"}},{"$f":"IF(#REF!=10,11,0)","v":{"$error":"#REF!"}},{"$f":"IF(#REF!=11,10,0)","v":{"$error":"#REF!"}},{"$f":"IF(#REF!=12,9,0)","v":{"$error":"#REF!"}},{"$f":"IF(#REF!=13,8,0)","v":{"$error":"#REF!"}},{"$f":"IF(#REF!=14,7,0)","v":{"$error":"#REF!"}},{"$f":"IF(#REF!=15,6,0)","v":{"$error":"#REF!"}},{"$f":"IF(#REF!=16,5,0)","v":{"$error":"#REF!"}},{"$f":"IF(#REF!=17,4,0)","v":{"$error":"#REF!"}},{"$f":"IF(#REF!=18,3,0)","v":{"$error":"#REF!"}},{"$f":"IF(#REF!=19,2,0)","v":{"$error":"#REF!"}},{"$f":"IF(#REF!=20,1,0)","v":{"$error":"#REF!"}},{"$f":"IF(#REF!>20,0,0)","v":{"$error":"#REF!"}},{"$f":"IF(#REF!=\"сх\",0,0)","v":{"$error":"#REF!"}},{"$error":"#REF!"},{"$f":"IF(#REF!=1,25,0)","v":{"$error":"#REF!"}},{"$f":"IF(#REF!=2,22,0)","v":{"$error":"#REF!"}},{"$f":"IF(#REF!=3,20,0)","v":{"$error":"#REF!"}},{"$f":"IF(#REF!=4,18,0)","v":{"$error":"#REF!"}},{"$f":"IF(#REF!=5,16,0)","v":{"$error":"#REF!"}},{"$f":"IF(#REF!=6,15,0)","v":{"$error":"#REF!"}},{"$f":"IF(#REF!=7,14,0)","v":{"$error":"#REF!"}},{"$f":"IF(#REF!=8,13,0)","v":{"$error":"#REF!"}},{"$f":"IF(#REF!=9,12,0)","v":{"$error":"#REF!"}},{"$f":"IF(#REF!=10,11,0)","v":{"$error":"#REF!"}},{"$f":"IF(#REF!=11,10,0)","v":{"$error":"#REF!"}},{"$f":"IF(#REF!=12,9,0)","v":{"$error":"#REF!"}},{"$f":"IF(#REF!=13,8,0)","v":{"$error":"#REF!"}},{"$f":"IF(#REF!=14,7,0)","v":{"$error":"#REF!"}},{"$f":"IF(#REF!=15,6,0)","v":{"$error":"#REF!"}},{"$f":"IF(#REF!=16,5,0)","v":{"$error":"#REF!"}},{"$f":"IF(#REF!=17,4,0)","v":{"$error":"#REF!"}},{"$f":"IF(#REF!=18,3,0)","v":{"$error":"#REF!"}},{"$f":"IF(#REF!=19,2,0)","v":{"$error":"#REF!"}},{"$f":"IF(#REF!=20,1,0)","v":{"$error":"#REF!"}},{"$f":"IF(#REF!>20,0,0)","v":{"$error":"#REF!"}},{"$f":"IF(#REF!=\"сх\",0,0)","v":{"$error":"#REF!"}},{"$error":"#REF!"},{"$f":"IF(#REF!=1,45,0)","v":{"$error":"#REF!"}},{"$f":"IF(#REF!=2,42,0)","v":{"$error":"#REF!"}},{"$f":"IF(#REF!=3,40,0)","v":{"$error":"#REF!"}},{"$f":"IF(#REF!=4,38,0)","v":{"$error":"#REF!"}},{"$f":"IF(#REF!=5,36,0)","v":{"$error":"#REF!"}},{"$f":"IF(#REF!=6,35,0)","v":{"$error":"#REF!"}},{"$f":"IF(#REF!=7,34,0)","v":{"$error":"#REF!"}},{"$f":"IF(#REF!=8,33,0)","v":{"$error":"#REF!"}},{"$f":"IF(#REF!=9,32,0)","v":{"$error":"#REF!"}},{"$f":"IF(#REF!=10,31,0)","v":{"$error":"#REF!"}},{"$f":"IF(#REF!=11,30,0)","v":{"$error":"#REF!"}},{"$f":"IF(#REF!=12,29,0)","v":{"$error":"#REF!"}},{"$f":"IF(#REF!=13,28,0)","v":{"$error":"#REF!"}},{"$f":"IF(#REF!=14,27,0)","v":{"$error":"#REF!"}},{"$f":"IF(#REF!=15,26,0)","v":{"$error":"#REF!"}},{"$f":"IF(#REF!=16,25,0)","v":{"$error":"#REF!"}},{"$f":"IF(#REF!=17,24,0)","v":{"$error":"#REF!"}},{"$f":"IF(#REF!=18,23,0)","v":{"$error":"#REF!"}},{"$f":"IF(#REF!=19,22,0)","v":{"$error":"#REF!"}},{"$f":"IF(#REF!=20,21,0)","v":{"$error":"#REF!"}},{"$f":"IF(#REF!=21,20,0)","v":{"$error":"#REF!"}},{"$f":"IF(#REF!=22,19,0)","v":{"$error":"#REF!"}},{"$f":"IF(#REF!=23,18,0)","v":{"$error":"#REF!"}},{"$f":"IF(#REF!=24,17,0)","v":{"$error":"#REF!"}},{"$f":"IF(#REF!=25,16,0)","v":{"$error":"#REF!"}},{"$f":"IF(#REF!=26,15,0)","v":{"$error":"#REF!"}},{"$f":"IF(#REF!=27,14,0)","v":{"$error":"#REF!"}},{"$f":"IF(#REF!=28,13,0)","v":{"$error":"#REF!"}},{"$f":"IF(#REF!=29,12,0)","v":{"$error":"#REF!"}},{"$f":"IF(#REF!=30,11,0)","v":{"$error":"#REF!"}},{"$f":"IF(#REF!=31,10,0)","v":{"$error":"#REF!"}},{"$f":"IF(#REF!=32,9,0)","v":{"$error":"#REF!"}},{"$f":"IF(#REF!=33,8,0)","v":{"$error":"#REF!"}},{"$f":"IF(#REF!=34,7,0)","v":{"$error":"#REF!"}},{"$f":"IF(#REF!=35,6,0)","v":{"$error":"#REF!"}},{"$f":"IF(#REF!=36,5,0)","v":{"$error":"#REF!"}},{"$f":"IF(#REF!=37,4,0)","v":{"$error":"#REF!"}},{"$f":"IF(#REF!=38,3,0)","v":{"$error":"#REF!"}},{"$f":"IF(#REF!=39,2,0)","v":{"$error":"#REF!"}},{"$f":"IF(#REF!=40,1,0)","v":{"$error":"#REF!"}},{"$f":"IF(#REF!>20,0,0)","v":{"$error":"#REF!"}},{"$f":"IF(#REF!=\"сх\",0,0)","v":{"$error":"#REF!"}},{"$error":"#REF!"},{"$f":"IF(#REF!=1,45,0)","v":{"$error":"#REF!"}},{"$f":"IF(#REF!=2,42,0)","v":{"$error":"#REF!"}},{"$f":"IF(#REF!=3,40,0)","v":{"$error":"#REF!"}},{"$f":"IF(#REF!=4,38,0)","v":{"$error":"#REF!"}},{"$f":"IF(#REF!=5,36,0)","v":{"$error":"#REF!"}},{"$f":"IF(#REF!=6,35,0)","v":{"$error":"#REF!"}},{"$f":"IF(#REF!=7,34,0)","v":{"$error":"#REF!"}},{"$f":"IF(#REF!=8,33,0)","v":{"$error":"#REF!"}},{"$f":"IF(#REF!=9,32,0)","v":{"$error":"#REF!"}},{"$f":"IF(#REF!=10,31,0)","v":{"$error":"#REF!"}},{"$f":"IF(#REF!=11,30,0)","v":{"$error":"#REF!"}},{"$f":"IF(#REF!=12,29,0)","v":{"$error":"#REF!"}},{"$f":"IF(#REF!=13,28,0)","v":{"$error":"#REF!"}},{"$f":"IF(#REF!=14,27,0)","v":{"$error":"#REF!"}},{"$f":"IF(#REF!=15,26,0)","v":{"$error":"#REF!"}},{"$f":"IF(#REF!=16,25,0)","v":{"$error":"#REF!"}},{"$f":"IF(#REF!=17,24,0)","v":{"$error":"#REF!"}},{"$f":"IF(#REF!=18,23,0)","v":{"$error":"#REF!"}},{"$f":"IF(#REF!=19,22,0)","v":{"$error":"#REF!"}},{"$f":"IF(#REF!=20,21,0)","v":{"$error":"#REF!"}},{"$f":"IF(#REF!=21,20,0)","v":{"$error":"#REF!"}},{"$f":"IF(#REF!=22,19,0)","v":{"$error":"#REF!"}},{"$f":"IF(#REF!=23,18,0)","v":{"$error":"#REF!"}},{"$f":"IF(#REF!=24,17,0)","v":{"$error":"#REF!"}},{"$f":"IF(#REF!=25,16,0)","v":{"$error":"#REF!"}},{"$f":"IF(#REF!=26,15,0)","v":{"$error":"#REF!"}},{"$f":"IF(#REF!=27,14,0)","v":{"$error":"#REF!"}},{"$f":"IF(#REF!=28,13,0)","v":{"$error":"#REF!"}},{"$f":"IF(#REF!=29,12,0)","v":{"$error":"#REF!"}},{"$f":"IF(#REF!=30,11,0)","v":{"$error":"#REF!"}},{"$f":"IF(#REF!=31,10,0)","v":{"$error":"#REF!"}},{"$f":"IF(#REF!=32,9,0)","v":{"$error":"#REF!"}},{"$f":"IF(#REF!=33,8,0)","v":{"$error":"#REF!"}},{"$f":"IF(#REF!=34,7,0)","v":{"$error":"#REF!"}},{"$f":"IF(#REF!=35,6,0)","v":{"$error":"#REF!"}},{"$f":"IF(#REF!=36,5,0)","v":{"$error":"#REF!"}},{"$f":"IF(#REF!=37,4,0)","v":{"$error":"#REF!"}},{"$f":"IF(#REF!=38,3,0)","v":{"$error":"#REF!"}},{"$f":"IF(#REF!=39,2,0)","v":{"$error":"#REF!"}},{"$f":"IF(#REF!=40,1,0)","v":{"$error":"#REF!"}},{"$f":"IF(#REF!>20,0,0)","v":{"$error":"#REF!"}},{"$f":"IF(#REF!=\"сх\",0,0)","v":{"$error":"#REF!"}},{"$error":"#REF!"},null,{"$f":"IF(#REF!=\"сх\",\"ноль\",IF(#REF!>0,#REF!,\"Ноль\"))","v":{"$error":"#REF!"}},{"$f":"IF(#REF!=\"сх\",\"ноль\",IF(#REF!>0,#REF!,\"Ноль\"))","v":{"$error":"#REF!"}},null,{"$error":"#REF!"},{"$f":"IF(I16=#REF!,IF(#REF!<#REF!,#REF!,EX16),#REF!)","v":{"$error":"#REF!"}},{"$f":"IF(I16=#REF!,IF(#REF!<#REF!,0,1))","v":{"$error":"#REF!"}},{"$f":"IF(AND(ES16>=21,ES16<>0),ES16,IF(I16<#REF!,\"СТОП\",ET16+EU16))","v":{"$error":"#REF!"}},null,15,16,null,{"$f":"IF(#REF!=1,25,0)","v":{"$error":"#REF!"}},{"$f":"IF(#REF!=2,22,0)","v":{"$error":"#REF!"}},{"$f":"IF(#REF!=3,20,0)","v":{"$error":"#REF!"}},{"$f":"IF(#REF!=4,18,0)","v":{"$error":"#REF!"}},{"$f":"IF(#REF!=5,16,0)","v":{"$error":"#REF!"}},{"$f":"IF(#REF!=6,15,0)","v":{"$error":"#REF!"}},{"$f":"IF(#REF!=7,14,0)","v":{"$error":"#REF!"}},{"$f":"IF(#REF!=8,13,0)","v":{"$error":"#REF!"}},{"$f":"IF(#REF!=9,12,0)","v":{"$error":"#REF!"}},{"$f":"IF(#REF!=10,11,0)","v":{"$error":"#REF!"}},{"$f":"IF(#REF!=11,10,0)","v":{"$error":"#REF!"}},{"$f":"IF(#REF!=12,9,0)","v":{"$error":"#REF!"}},{"$f":"IF(#REF!=13,8,0)","v":{"$error":"#REF!"}},{"$f":"IF(#REF!=14,7,0)","v":{"$error":"#REF!"}},{"$f":"IF(#REF!=15,6,0)","v":{"$error":"#REF!"}},{"$f":"IF(#REF!=16,5,0)","v":{"$error":"#REF!"}},{"$f":"IF(#REF!=17,4,0)","v":{"$error":"#REF!"}},{"$f":"IF(#REF!=18,3,0)","v":{"$error":"#REF!"}},{"$f":"IF(#REF!=19,2,0)","v":{"$error":"#REF!"}},{"$f":"IF(#REF!=20,1,0)","v":{"$error":"#REF!"}},{"$f":"IF(#REF!>20,0,0)","v":{"$error":"#REF!"}},{"$f":"IF(#REF!=\"сх\",0,0)","v":{"$error":"#REF!"}},{"$error":"#REF!"},{"$f":"IF(#REF!=1,25,0)","v":{"$error":"#REF!"}},{"$f":"IF(#REF!=2,22,0)","v":{"$error":"#REF!"}},{"$f":"IF(#REF!=3,20,0)","v":{"$error":"#REF!"}},{"$f":"IF(#REF!=4,18,0)","v":{"$error":"#REF!"}},{"$f":"IF(#REF!=5,16,0)","v":{"$error":"#REF!"}},{"$f":"IF(#REF!=6,15,0)","v":{"$error":"#REF!"}},{"$f":"IF(#REF!=7,14,0)","v":{"$error":"#REF!"}},{"$f":"IF(#REF!=8,13,0)","v":{"$error":"#REF!"}},{"$f":"IF(#REF!=9,12,0)","v":{"$error":"#REF!"}},{"$f":"IF(#REF!=10,11,0)","v":{"$error":"#REF!"}},{"$f":"IF(#REF!=11,10,0)","v":{"$error":"#REF!"}},{"$f":"IF(#REF!=12,9,0)","v":{"$error":"#REF!"}},{"$f":"IF(#REF!=13,8,0)","v":{"$error":"#REF!"}},{"$f":"IF(#REF!=14,7,0)","v":{"$error":"#REF!"}},{"$f":"IF(#REF!=15,6,0)","v":{"$error":"#REF!"}},{"$f":"IF(#REF!=16,5,0)","v":{"$error":"#REF!"}},{"$f":"IF(#REF!=17,4,0)","v":{"$error":"#REF!"}},{"$f":"IF(#REF!=18,3,0)","v":{"$error":"#REF!"}},{"$f":"IF(#REF!=19,2,0)","v":{"$error":"#REF!"}},{"$f":"IF(#REF!=20,1,0)","v":{"$error":"#REF!"}},{"$f":"IF(#REF!>20,0,0)","v":{"$error":"#REF!"}},{"$f":"IF(#REF!=\"сх\",0,0)","v":{"$error":"#REF!"}},{"$error":"#REF!"},{"$f":"IF(#REF!=1,100,0)","v":{"$error":"#REF!"}},{"$f":"IF(#REF!=2,98,0)","v":{"$error":"#REF!"}},{"$f":"IF(#REF!=3,95,0)","v":{"$error":"#REF!"}},{"$f":"IF(#REF!=4,93,0)","v":{"$error":"#REF!"}},{"$f":"IF(#REF!=5,90,0)","v":{"$error":"#REF!"}},{"$f":"IF(#REF!=6,88,0)","v":{"$error":"#REF!"}},{"$f":"IF(#REF!=7,85,0)","v":{"$error":"#REF!"}},{"$f":"IF(#REF!=8,83,0)","v":{"$error":"#REF!"}},{"$f":"IF(#REF!=9,80,0)","v":{"$error":"#REF!"}},{"$f":"IF(#REF!=10,78,0)","v":{"$error":"#REF!"}},{"$f":"IF(#REF!=11,75,0)","v":{"$error":"#REF!"}},{"$f":"IF(#REF!=12,73,0)","v":{"$error":"#REF!"}},{"$f":"IF(#REF!=13,70,0)","v":{"$error":"#REF!"}},{"$f":"IF(#REF!=14,68,0)","v":{"$error":"#REF!"}},{"$f":"IF(#REF!=15,65,0)","v":{"$error":"#REF!"}},{"$f":"IF(#REF!=16,63,0)","v":{"$error":"#REF!"}},{"$f":"IF(#REF!=17,60,0)","v":{"$error":"#REF!"}},{"$f":"IF(#REF!=18,58,0)","v":{"$error":"#REF!"}},{"$f":"IF(#REF!=19,55,0)","v":{"$error":"#REF!"}},{"$f":"IF(#REF!=20,53,0)","v":{"$error":"#REF!"}},{"$f":"IF(#REF!>20,0,0)","v":{"$error":"#REF!"}},{"$f":"IF(#REF!=\"сх\",0,0)","v":{"$error":"#REF!"}},{"$error":"#REF!"},{"$f":"IF(#REF!=1,100,0)","v":{"$error":"#REF!"}},{"$f":"IF(#REF!=2,98,0)","v":{"$error":"#REF!"}},{"$f":"IF(#REF!=3,95,0)","v":{"$error":"#REF!"}},{"$f":"IF(#REF!=4,93,0)","v":{"$error":"#REF!"}},{"$f":"IF(#REF!=5,90,0)","v":{"$error":"#REF!"}},{"$f":"IF(#REF!=6,88,0)","v":{"$error":"#REF!"}},{"$f":"IF(#REF!=7,85,0)","v":{"$error":"#REF!"}},{"$f":"IF(#REF!=8,83,0)","v":{"$error":"#REF!"}},{"$f":"IF(#REF!=9,80,0)","v":{"$error":"#REF!"}},{"$f":"IF(#REF!=10,78,0)","v":{"$error":"#REF!"}},{"$f":"IF(#REF!=11,75,0)","v":{"$error":"#REF!"}},{"$f":"IF(#REF!=12,73,0)","v":{"$error":"#REF!"}},{"$f":"IF(#REF!=13,70,0)","v":{"$error":"#REF!"}},{"$f":"IF(#REF!=14,68,0)","v":{"$error":"#REF!"}},{"$f":"IF(#REF!=15,65,0)","v":{"$error":"#REF!"}},{"$f":"IF(#REF!=16,63,0)","v":{"$error":"#REF!"}},{"$f":"IF(#REF!=17,60,0)","v":{"$error":"#REF!"}},{"$f":"IF(#REF!=18,58,0)","v":{"$error":"#REF!"}},{"$f":"IF(#REF!=19,55,0)","v":{"$error":"#REF!"}},{"$f":"IF(#REF!=20,53,0)","v":{"$error":"#REF!"}},{"$f":"IF(#REF!>20,0,0)","v":{"$error":"#REF!"}},{"$f":"IF(#REF!=\"сх\",0,0)","v":{"$error":"#REF!"}},{"$error":"#REF!"}]
[9,4,6,"Журавлев Иван","б/р","г. Надым, Ямало-Ненецкий АО","СТК \"Форсаж\"","Yam",12,{"$f":"#REF!+#REF!","v":{"$error":"#REF!"}},null,null,{"$f":"IF(#REF!=1,25,0)","v":{"$error":"#REF!"}},{"$f":"IF(#REF!=2,22,0)","v":{"$error":"#REF!"}},{"$f":"IF(#REF!=3,20,0)","v":{"$error":"#REF!"}},{"$f":"IF(#REF!=4,18,0)","v":{"$error":"#REF!"}},{"$f":"IF(#REF!=5,16,0)","v":{"$error":"#REF!"}},{"$f":"IF(#REF!=6,15,0)","v":{"$error":"#REF!"}},{"$f":"IF(#REF!=7,14,0)","v":{"$error":"#REF!"}},{"$f":"IF(#REF!=8,13,0)","v":{"$error":"#REF!"}},{"$f":"IF(#REF!=9,12,0)","v":{"$error":"#REF!"}},{"$f":"IF(#REF!=10,11,0)","v":{"$error":"#REF!"}},{"$f":"IF(#REF!=11,10,0)","v":{"$error":"#REF!"}},{"$f":"IF(#REF!=12,9,0)","v":{"$error":"#REF!"}},{"$f":"IF(#REF!=13,8,0)","v":{"$error":"#REF!"}},{"$f":"IF(#REF!=14,7,0)","v":{"$error":"#REF!"}},{"$f":"IF(#REF!=15,6,0)","v":{"$error":"#REF!"}},{"$f":"IF(#REF!=16,5,0)","v":{"$error":"#REF!"}},{"$f":"IF(#REF!=17,4,0)","v":{"$error":"#REF!"}},{"$f":"IF(#REF!=18,3,0)","v":{"$error":"#REF!"}},{"$f":"IF(#REF!=19,2,0)","v":{"$error":"#REF!"}},{"$f":"IF(#REF!=20,1,0)","v":{"$error":"#REF!"}},{"$f":"IF(#REF!>20,0,0)","v":{"$error":"#REF!"}},{"$f":"IF(#REF!=\"сх\",0,0)","v":{"$error":"#REF!"}},{"$error":"#REF!"},{"$f":"IF(#REF!=1,25,0)","v":{"$error":"#REF!"}},{"$f":"IF(#REF!=2,22,0)","v":{"$error":"#REF!"}},{"$f":"IF(#REF!=3,20,0)","v":{"$error":"#REF!"}},{"$f":"IF(#REF!=4,18,0)","v":{"$error":"#REF!"}},{"$f":"IF(#REF!=5,16,0)","v":{"$error":"#REF!"}},{"$f":"IF(#REF!=6,15,0)","v":{"$error":"#REF!"}},{"$f":"IF(#REF!=7,14,0)","v":{"$error":"#REF!"}},{"$f":"IF(#REF!=8,13,0)","v":{"$error":"#REF!"}},{"$f":"IF(#REF!=9,12,0)","v":{"$error":"#REF!"}},{"$f":"IF(#REF!=10,11,0)","v":{"$error":"#REF!"}},{"$f":"IF(#REF!=11,10,0)","v":{"$error":"#REF!"}},{"$f":"IF(#REF!=12,9,0)","v":{"$error":"#REF!"}},{"$f":"IF(#REF!=13,8,0)","v":{"$error":"#REF!"}},{"$f":"IF(#REF!=14,7,0)","v":{"$error":"#REF!"}},{"$f":"IF(#REF!=15,6,0)","v":{"$error":"#REF!"}},{"$f":"IF(#REF!=16,5,0)","v":{"$error":"#REF!"}},{"$f":"IF(#REF!=17,4,0)","v":{"$error":"#REF!"}},{"$f":"IF(#REF!=18,3,0)","v":{"$error":"#REF!"}},{"$f":"IF(#REF!=19,2,0)","v":{"$error":"#REF!"}},{"$f":"IF(#REF!=20,1,0)","v":{"$error":"#REF!"}},{"$f":"IF(#REF!>20,0,0)","v":{"$error":"#REF!"}},{"$f":"IF(#REF!=\"сх\",0,0)","v":{"$error":"#REF!"}},{"$error":"#REF!"},{"$f":"IF(#REF!=1,45,0)","v":{"$error":"#REF!"}},{"$f":"IF(#REF!=2,42,0)","v":{"$error":"#REF!"}},{"$f":"IF(#REF!=3,40,0)","v":{"$error":"#REF!"}},{"$f":"IF(#REF!=4,38,0)","v":{"$error":"#REF!"}},{"$f":"IF(#REF!=5,36,0)","v":{"$error":"#REF!"}},{"$f":"IF(#REF!=6,35,0)","v":{"$error":"#REF!"}},{"$f":"IF(#REF!=7,34,0)","v":{"$error":"#REF!"}},{"$f":"IF(#REF!=8,33,0)","v":{"$error":"#REF!"}},{"$f":"IF(#REF!=9,32,0)","v":{"$error":"#REF!"}},{"$f":"IF(#REF!=10,31,0)","v":{"$error":"#REF!"}},{"$f":"IF(#REF!=11,30,0)","v":{"$error":"#REF!"}},{"$f":"IF(#REF!=12,29,0)","v":{"$error":"#REF!"}},{"$f":"IF(#REF!=13,28,0)","v":{"$error":"#REF!"}},{"$f":"IF(#REF!=14,27,0)","v":{"$error":"#REF!"}},{"$f":"IF(#REF!=15,26,0)","v":{"$error":"#REF!"}},{"$f":"IF(#REF!=16,25,0)","v":{"$error":"#REF!"}},{"$f":"IF(#REF!=17,24,0)","v":{"$error":"#REF!"}},{"$f":"IF(#REF!=18,23,0)","v":{"$error":"#REF!"}},{"$f":"IF(#REF!=19,22,0)","v":{"$error":"#REF!"}},{"$f":"IF(#REF!=20,21,0)","v":{"$error":"#REF!"}},{"$f":"IF(#REF!=21,20,0)","v":{"$error":"#REF!"}},{"$f":"IF(#REF!=22,19,0)","v":{"$error":"#REF!"}},{"$f":"IF(#REF!=23,18,0)","v":{"$error":"#REF!"}},{"$f":"IF(#REF!=24,17,0)","v":{"$error":"#REF!"}},{"$f":"IF(#REF!=25,16,0)","v":{"$error":"#REF!"}},{"$f":"IF(#REF!=26,15,0)","v":{"$error":"#REF!"}},{"$f":"IF(#REF!=27,14,0)","v":{"$error":"#REF!"}},{"$f":"IF(#REF!=28,13,0)","v":{"$error":"#REF!"}},{"$f":"IF(#REF!=29,12,0)","v":{"$error":"#REF!"}},{"$f":"IF(#REF!=30,11,0)","v":{"$error":"#REF!"}},{"$f":"IF(#REF!=31,10,0)","v":{"$error":"#REF!"}},{"$f":"IF(#REF!=32,9,0)","v":{"$error":"#REF!"}},{"$f":"IF(#REF!=33,8,0)","v":{"$error":"#REF!"}},{"$f":"IF(#REF!=34,7,0)","v":{"$error":"#REF!"}},{"$f":"IF(#REF!=35,6,0)","v":{"$error":"#REF!"}},{"$f":"IF(#REF!=36,5,0)","v":{"$error":"#REF!"}},{"$f":"IF(#REF!=37,4,0)","v":{"$error":"#REF!"}},{"$f":"IF(#REF!=38,3,0)","v":{"$error":"#REF!"}},{"$f":"IF(#REF!=39,2,0)","v":{"$error":"#REF!"}},{"$f":"IF(#REF!=40,1,0)","v":{"$error":"#REF!"}},{"$f":"IF(#REF!>20,0,0)","v":{"$error":"#REF!"}},{"$f":"IF(#REF!=\"сх\",0,0)","v":{"$error":"#REF!"}},{"$error":"#REF!"},{"$f":"IF(#REF!=1,45,0)","v":{"$error":"#REF!"}},{"$f":"IF(#REF!=2,42,0)","v":{"$error":"#REF!"}},{"$f":"IF(#REF!=3,40,0)","v":{"$error":"#REF!"}},{"$f":"IF(#REF!=4,38,0)","v":{"$error":"#REF!"}},{"$f":"IF(#REF!=5,36,0)","v":{"$error":"#REF!"}},{"$f":"IF(#REF!=6,35,0)","v":{"$error":"#REF!"}},{"$f":"IF(#REF!=7,34,0)","v":{"$error":"#REF!"}},{"$f":"IF(#REF!=8,33,0)","v":{"$error":"#REF!"}},{"$f":"IF(#REF!=9,32,0)","v":{"$error":"#REF!"}},{"$f":"IF(#REF!=10,31,0)","v":{"$error":"#REF!"}},{"$f":"IF(#REF!=11,30,0)","v":{"$error":"#REF!"}},{"$f":"IF(#REF!=12,29,0)","v":{"$error":"#REF!"}},{"$f":"IF(#REF!=13,28,0)","v":{"$error":"#REF!"}},{"$f":"IF(#REF!=14,27,0)","v":{"$error":"#REF!"}},{"$f":"IF(#REF!=15,26,0)","v":{"$error":"#REF!"}},{"$f":"IF(#REF!=16,25,0)","v":{"$error":"#REF!"}},{"$f":"IF(#REF!=17,24,0)","v":{"$error":"#REF!"}},{"$f":"IF(#REF!=18,23,0)","v":{"$error":"#REF!"}},{"$f":"IF(#REF!=19,22,0)","v":{"$error":"#REF!"}},{"$f":"IF(#REF!=20,21,0)","v":{"$error":"#REF!"}},{"$f":"IF(#REF!=21,20,0)","v":{"$error":"#REF!"}},{"$f":"IF(#REF!=22,19,0)","v":{"$error":"#REF!"}},{"$f":"IF(#REF!=23,18,0)","v":{"$error":"#REF!"}},{"$f":"IF(#REF!=24,17,0)","v":{"$error":"#REF!"}},{"$f":"IF(#REF!=25,16,0)","v":{"$error":"#REF!"}},{"$f":"IF(#REF!=26,15,0)","v":{"$error":"#REF!"}},{"$f":"IF(#REF!=27,14,0)","v":{"$error":"#REF!"}},{"$f":"IF(#REF!=28,13,0)","v":{"$error":"#REF!"}},{"$f":"IF(#REF!=29,12,0)","v":{"$error":"#REF!"}},{"$f":"IF(#REF!=30,11,0)","v":{"$error":"#REF!"}},{"$f":"IF(#REF!=31,10,0)","v":{"$error":"#REF!"}},{"$f":"IF(#REF!=32,9,0)","v":{"$error":"#REF!"}},{"$f":"IF(#REF!=33,8,0)","v":{"$error":"#REF!"}},{"$f":"IF(#REF!=34,7,0)","v":{"$error":"#REF!"}},{"$f":"IF(#REF!=35,6,0)","v":{"$error":"#REF!"}},{"$f":"IF(#REF!=36,5,0)","v":{"$error":"#REF!"}},{"$f":"IF(#REF!=37,4,0)","v":{"$error":"#REF!"}},{"$f":"IF(#REF!=38,3,0)","v":{"$error":"#REF!"}},{"$f":"IF(#REF!=39,2,0)","v":{"$error":"#REF!"}},{"$f":"IF(#REF!=40,1,0)","v":{"$error":"#REF!"}},{"$f":"IF(#REF!>20,0,0)","v":{"$error":"#REF!"}},{"$f":"IF(#REF!=\"сх\",0,0)","v":{"$error":"#REF!"}},{"$error":"#REF!"},null,{"$f":"IF(#REF!=\"сх\",\"ноль\",IF(#REF!>0,#REF!,\"Ноль\"))","v":{"$error":"#REF!"}},{"$f":"IF(#REF!=\"сх\",\"ноль\",IF(#REF!>0,#REF!,\"Ноль\"))","v":{"$error":"#REF!"}},null,{"$error":"#REF!"},{"$f":"IF(I17=#REF!,IF(#REF!<#REF!,#REF!,EX17),#REF!)","v":{"$error":"#REF!"}},{"$f":"IF(I17=#REF!,IF(#REF!<#REF!,0,1))","v":{"$error":"#REF!"}},{"$f":"IF(AND(ES17>=21,ES17<>0),ES17,IF(I17<#REF!,\"СТОП\",ET17+EU17))","v":{"$error":"#REF!"}},null,15,16,null,{"$f":"IF(#REF!=1,25,0)","v":{"$error":"#REF!"}},{"$f":"IF(#REF!=2,22,0)","v":{"$error":"#REF!"}},{"$f":"IF(#REF!=3,20,0)","v":{"$error":"#REF!"}},{"$f":"IF(#REF!=4,18,0)","v":{"$error":"#REF!"}},{"$f":"IF(#REF!=5,16,0)","v":{"$error":"#REF!"}},{"$f":"IF(#REF!=6,15,0)","v":{"$error":"#REF!"}},{"$f":"IF(#REF!=7,14,0)","v":{"$error":"#REF!"}},{"$f":"IF(#REF!=8,13,0)","v":{"$error":"#REF!"}},{"$f":"IF(#REF!=9,12,0)","v":{"$error":"#REF!"}},{"$f":"IF(#REF!=10,11,0)","v":{"$error":"#REF!"}},{"$f":"IF(#REF!=11,10,0)","v":{"$error":"#REF!"}},{"$f":"IF(#REF!=12,9,0)","v":{"$error":"#REF!"}},{"$f":"IF(#REF!=13,8,0)","v":{"$error":"#REF!"}},{"$f":"IF(#REF!=14,7,0)","v":{"$error":"#REF!"}},{"$f":"IF(#REF!=15,6,0)","v":{"$error":"#REF!"}},{"$f":"IF(#REF!=16,5,0)","v":{"$error":"#REF!"}},{"$f":"IF(#REF!=17,4,0)","v":{"$error":"#REF!"}},{"$f":"IF(#REF!=18,3,0)","v":{"$error":"#REF!"}},{"$f":"IF(#REF!=19,2,0)","v":{"$error":"#REF!"}},{"$f":"IF(#REF!=20,1,0)","v":{"$error":"#REF!"}},{"$f":"IF(#REF!>20,0,0)","v":{"$error":"#REF!"}},{"$f":"IF(#REF!=\"сх\",0,0)","v":{"$error":"#REF!"}},{"$error":"#REF!"},{"$f":"IF(#REF!=1,25,0)","v":{"$error":"#REF!"}},{"$f":"IF(#REF!=2,22,0)","v":{"$error":"#REF!"}},{"$f":"IF(#REF!=3,20,0)","v":{"$error":"#REF!"}},{"$f":"IF(#REF!=4,18,0)","v":{"$error":"#REF!"}},{"$f":"IF(#REF!=5,16,0)","v":{"$error":"#REF!"}},{"$f":"IF(#REF!=6,15,0)","v":{"$error":"#REF!"}},{"$f":"IF(#REF!=7,14,0)","v":{"$error":"#REF!"}},{"$f":"IF(#REF!=8,13,0)","v":{"$error":"#REF!"}},{"$f":"IF(#REF!=9,12,0)","v":{"$error":"#REF!"}},{"$f":"IF(#REF!=10,11,0)","v":{"$error":"#REF!"}},{"$f":"IF(#REF!=11,10,0)","v":{"$error":"#REF!"}},{"$f":"IF(#REF!=12,9,0)","v":{"$error":"#REF!"}},{"$f":"IF(#REF!=13,8,0)","v":{"$error":"#REF!"}},{"$f":"IF(#REF!=14,7,0)","v":{"$error":"#REF!"}},{"$f":"IF(#REF!=15,6,0)","v":{"$error":"#REF!"}},{"$f":"IF(#REF!=16,5,0)","v":{"$error":"#REF!"}},{"$f":"IF(#REF!=17,4,0)","v":{"$error":"#REF!"}},{"$f":"IF(#REF!=18,3,0)","v":{"$error":"#REF!"}},{"$f":"IF(#REF!=19,2,0)","v":{"$error":"#REF!"}},{"$f":"IF(#REF!=20,1,0)","v":{"$error":"#REF!"}},{"$f":"IF(#REF!>20,0,0)","v":{"$error":"#REF!"}},{"$f":"IF(#REF!=\"сх\",0,0)","v":{"$error":"#REF!"}},{"$error":"#REF!"},{"$f":"IF(#REF!=1,100,0)","v":{"$error":"#REF!"}},{"$f":"IF(#REF!=2,98,0)","v":{"$error":"#REF!"}},{"$f":"IF(#REF!=3,95,0)","v":{"$error":"#REF!"}},{"$f":"IF(#REF!=4,93,0)","v":{"$error":"#REF!"}},{"$f":"IF(#REF!=5,90,0)","v":{"$error":"#REF!"}},{"$f":"IF(#REF!=6,88,0)","v":{"$error":"#REF!"}},{"$f":"IF(#REF!=7,85,0)","v":{"$error":"#REF!"}},{"$f":"IF(#REF!=8,83,0)","v":{"$error":"#REF!"}},{"$f":"IF(#REF!=9,80,0)","v":{"$error":"#REF!"}},{"$f":"IF(#REF!=10,78,0)","v":{"$error":"#REF!"}},{"$f":"IF(#REF!=11,75,0)","v":{"$error":"#REF!"}},{"$f":"IF(#REF!=12,73,0)","v":{"$error":"#REF!"}},{"$f":"IF(#REF!=13,70,0)","v":{"$error":"#REF!"}},{"$f":"IF(#REF!=14,68,0)","v":{"$error":"#REF!"}},{"$f":"IF(#REF!=15,65,0)","v":{"$error":"#REF!"}},{"$f":"IF(#REF!=16,63,0)","v":{"$error":"#REF!"}},{"$f":"IF(#REF!=17,60,0)","v":{"$error":"#REF!"}},{"$f":"IF(#REF!=18,58,0)","v":{"$error":"#REF!"}},{"$f":"IF(#REF!=19,55,0)","v":{"$error":"#REF!"}},{"$f":"IF(#REF!=20,53,0)","v":{"$error":"#REF!"}},{"$f":"IF(#REF!>20,0,0)","v":{"$error":"#REF!"}},{"$f":"IF(#REF!=\"сх\",0,0)","v":{"$error":"#REF!"}},{"$error":"#REF!"},{"$f":"IF(#REF!=1,100,0)","v":{"$error":"#REF!"}},{"$f":"IF(#REF!=2,98,0)","v":{"$error":"#REF!"}},{"$f":"IF(#REF!=3,95,0)","v":{"$error":"#REF!"}},{"$f":"IF(#REF!=4,93,0)","v":{"$error":"#REF!"}},{"$f":"IF(#REF!=5,90,0)","v":{"$error":"#REF!"}},{"$f":"IF(#REF!=6,88,0)","v":{"$error":"#REF!"}},{"$f":"IF(#REF!=7,85,0)","v":{"$error":"#REF!"}},{"$f":"IF(#REF!=8,83,0)","v":{"$error":"#REF!"}},{"$f":"IF(#REF!=9,80,0)","v":{"$error":"#REF!"}},{"$f":"IF(#REF!=10,78,0)","v":{"$error":"#REF!"}},{"$f":"IF(#REF!=11,75,0)","v":{"$error":"#REF!"}},{"$f":"IF(#REF!=12,73,0)","v":{"$error":"#REF!"}},{"$f":"IF(#REF!=13,70,0)","v":{"$error":"#REF!"}},{"$f":"IF(#REF!=14,68,0)","v":{"$error":"#REF!"}},{"$f":"IF(#REF!=15,65,0)","v":{"$error":"#REF!"}},{"$f":"IF(#REF!=16,63,0)","v":{"$error":"#REF!"}},{"$f":"IF(#REF!=17,60,0)","v":{"$error":"#REF!"}},{"$f":"IF(#REF!=18,58,0)","v":{"$error":"#REF!"}},{"$f":"IF(#REF!=19,55,0)","v":{"$error":"#REF!"}},{"$f":"IF(#REF!=20,53,0)","v":{"$error":"#REF!"}},{"$f":"IF(#REF!>20,0,0)","v":{"$error":"#REF!"}},{"$f":"IF(#REF!=\"сх\",0,0)","v":{"$error":"#REF!"}},{"$error":"#REF!"}]
[10,3.9,23,"Дмитриев Даниил","б/р","г. Новый Уренгой, Ямало-Ненецкий АО","МАУ МЦ \"НОРД\"","Polaris",11,{"$f":"#REF!+#REF!","v":{"$error":"#REF!"}},null,null,{"$f":"IF(#REF!=1,25,0)","v":{"$error":"#REF!"}},{"$f":"IF(#REF!=2,22,0)","v":{"$error":"#REF!"}},{"$f":"IF(#REF!=3,20,0)","v":{"$error":"#REF!"}},{"$f":"IF(#REF!=4,18,0)","v":{"$error":"#REF!"}},{"$f":"IF(#REF!=5,16,0)","v":{"$error":"#REF!"}},{"$f":"IF(#REF!=6,15,0)","v":{"$error":"#REF!"}},{"$f":"IF(#REF!=7,14,0)","v":{"$error":"#REF!"}},{"$f":"IF(#REF!=8,13,0)","v":{"$error":"#REF!"}},{"$f":"IF(#REF!=9,12,0)","v":{"$error":"#REF!"}},{"$f":"IF(#REF!=10,11,0)","v":{"$error":"#REF!"}},{"$f":"IF(#REF!=11,10,0)","v":{"$error":"#REF!"}},{"$f":"IF(#REF!=12,9,0)","v":{"$error":"#REF!"}},{"$f":"IF(#REF!=13,8,0)","v":{"$error":"#REF!"}},{"$f":"IF(#REF!=14,7,0)","v":{"$error":"#REF!"}},{"$f":"IF(#REF!=15,6,0)","v":{"$error":"#REF!"}},{"$f":"IF(#REF!=16,5,0)","v":{"$error":"#REF!"}},{"$f":"IF(#REF!=17,4,0)","v":{"$error":"#REF!"}},{"$f":"IF(#REF!=18,3,0)","v":{"$error":"#REF!"}},{"$f":"IF(#REF!=19,2,0)","v":{"$error":"#REF!"}},{"$f":"IF(#REF!=20,1,0)","v":{"$error":"#REF!"}},{"$f":"IF(#REF!>20,0,0)","v":{"$error":"#REF!"}},{"$f":"IF(#REF!=\"сх\",0,0)","v":{"$error":"#REF!"}},{"$error":"#REF!"},{"$f":"IF(#REF!=1,25,0)","v":{"$error":"#REF!"}},{"$f":"IF(#REF!=2,22,0)","v":{"$error":"#REF!"}},{"$f":"IF(#REF!=3,20,0)","v":{"$error":"#REF!"}},{"$f":"IF(#REF!=4,18,0)","v":{"$error":"#REF!"}},{"$f":"IF(#REF!=5,16,0)","v":{"$error":"#REF!"}},{"$f":"IF(#REF!=6,15,0)","v":{"$error":"#REF!"}},{"$f":"IF(#REF!=7,14,0)","v":{"$error":"#REF!"}},{"$f":"IF(#REF!=8,13,0)","v":{"$error":"#REF!"}},{"$f":"IF(#REF!=9,12,0)","v":{"$error":"#REF!"}},{"$f":"IF(#REF!=10,11,0)","v":{"$error":"#REF!"}},{"$f":"IF(#REF!=11,10,0)","v":{"$error":"#REF!"}},{"$f":"IF(#REF!=12,9,0)","v":{"$error":"#REF!"}},{"$f":"IF(#REF!=13,8,0)","v":{"$error":"#REF!"}},{"$f":"IF(#REF!=14,7,0)","v":{"$error":"#REF!"}},{"$f":"IF(#REF!=15,6,0)","v":{"$error":"#REF!"}},{"$f":"IF(#REF!=16,5,0)","v":{"$error":"#REF!"}},{"$f":"IF(#REF!=17,4,0)","v":{"$error":"#REF!"}},{"$f":"IF(#REF!=18,3,0)","v":{"$error":"#REF!"}},{"$f":"IF(#REF!=19,2,0)","v":{"$error":"#REF!"}},{"$f":"IF(#REF!=20,1,0)","v":{"$error":"#REF!"}},{"$f":"IF(#REF!>20,0,0)","v":{"$error":"#REF!"}},{"$f":"IF(#REF!=\"сх\",0,0)","v":{"$error":"#REF!"}},{"$error":"#REF!"},{"$f":"IF(#REF!=1,45,0)","v":{"$error":"#REF!"}},{"$f":"IF(#REF!=2,42,0)","v":{"$error":"#REF!"}},{"$f":"IF(#REF!=3,40,0)","v":{"$error":"#REF!"}},{"$f":"IF(#REF!=4,38,0)","v":{"$error":"#REF!"}},{"$f":"IF(#REF!=5,36,0)","v":{"$error":"#REF!"}},{"$f":"IF(#REF!=6,35,0)","v":{"$error":"#REF!"}},{"$f":"IF(#REF!=7,34,0)","v":{"$error":"#REF!"}},{"$f":"IF(#REF!=8,33,0)","v":{"$error":"#REF!"}},{"$f":"IF(#REF!=9,32,0)","v":{"$error":"#REF!"}},{"$f":"IF(#REF!=10,31,0)","v":{"$error":"#REF!"}},{"$f":"IF(#REF!=11,30,0)","v":{"$error":"#REF!"}},{"$f":"IF(#REF!=12,29,0)","v":{"$error":"#REF!"}},{"$f":"IF(#REF!=13,28,0)","v":{"$error":"#REF!"}},{"$f":"IF(#REF!=14,27,0)","v":{"$error":"#REF!"}},{"$f":"IF(#REF!=15,26,0)","v":{"$error":"#REF!"}},{"$f":"IF(#REF!=16,25,0)","v":{"$error":"#REF!"}},{"$f":"IF(#REF!=17,24,0)","v":{"$error":"#REF!"}},{"$f":"IF(#REF!=18,23,0)","v":{"$error":"#REF!"}},{"$f":"IF(#REF!=19,22,0)","v":{"$error":"#REF!"}},{"$f":"IF(#REF!=20,21,0)","v":{"$error":"#REF!"}},{"$f":"IF(#REF!=21,20,0)","v":{"$error":"#REF!"}},{"$f":"IF(#REF!=22,19,0)","v":{"$error":"#REF!"}},{"$f":"IF(#REF!=23,18,0)","v":{"$error":"#REF!"}},{"$f":"IF(#REF!=24,17,0)","v":{"$error":"#REF!"}},{"$f":"IF(#REF!=25,16,0)","v":{"$error":"#REF!"}},{"$f":"IF(#REF!=26,15,0)","v":{"$error":"#REF!"}},{"$f":"IF(#REF!=27,14,0)","v":{"$error":"#REF!"}},{"$f":"IF(#REF!=28,13,0)","v":{"$error":"#REF!"}},{"$f":"IF(#REF!=29,12,0)","v":{"$error":"#REF!"}},{"$f":"IF(#REF!=30,11,0)","v":{"$error":"#REF!"}},{"$f":"IF(#REF!=31,10,0)","v":{"$error":"#REF!"}},{"$f":"IF(#REF!=32,9,0)","v":{"$error":"#REF!"}},{"$f":"IF(#REF!=33,8,0)","v":{"$error":"#REF!"}},{"$f":"IF(#REF!=34,7,0)","v":{"$error":"#REF!"}},{"$f":"IF(#REF!=35,6,0)","v":{"$error":"#REF!"}},{"$f":"IF(#REF!=36,5,0)","v":{"$error":"#REF!"}},{"$f":"IF(#REF!=37,4,0)","v":{"$error":"#REF!"}},{"$f":"IF(#REF!=38,3,0)","v":{"$error":"#REF!"}},{"$f":"IF(#REF!=39,2,0)","v":{"$error":"#REF!"}},{"$f":"IF(#REF!=40,1,0)","v":{"$error":"#REF!"}},{"$f":"IF(#REF!>20,0,0)","v":{"$error":"#REF!"}},{"$f":"IF(#REF!=\"сх\",0,0)","v":{"$error":"#REF!"}},{"$error":"#REF!"},{"$f":"IF(#REF!=1,45,0)","v":{"$error":"#REF!"}},{"$f":"IF(#REF!=2,42,0)","v":{"$error":"#REF!"}},{"$f":"IF(#REF!=3,40,0)","v":{"$error":"#REF!"}},{"$f":"IF(#REF!=4,38,0)","v":{"$error":"#REF!"}},{"$f":"IF(#REF!=5,36,0)","v":{"$error":"#REF!"}},{"$f":"IF(#REF!=6,35,0)","v":{"$error":"#REF!"}},{"$f":"IF(#REF!=7,34,0)","v":{"$error":"#REF!"}},{"$f":"IF(#REF!=8,33,0)","v":{"$error":"#REF!"}},{"$f":"IF(#REF!=9,32,0)","v":{"$error":"#REF!"}},{"$f":"IF(#REF!=10,31,0)","v":{"$error":"#REF!"}},{"$f":"IF(#REF!=11,30,0)","v":{"$error":"#REF!"}},{"$f":"IF(#REF!=12,29,0)","v":{"$error":"#REF!"}},{"$f":"IF(#REF!=13,28,0)","v":{"$error":"#REF!"}},{"$f":"IF(#REF!=14,27,0)","v":{"$error":"#REF!"}},{"$f":"IF(#REF!=15,26,0)","v":{"$error":"#REF!"}},{"$f":"IF(#REF!=16,25,0)","v":{"$error":"#REF!"}},{"$f":"IF(#REF!=17,24,0)","v":{"$error":"#REF!"}},{"$f":"IF(#REF!=18,23,0)","v":{"$error":"#REF!"}},{"$f":"IF(#REF!=19,22,0)","v":{"$error":"#REF!"}},{"$f":"IF(#REF!=20,21,0)","v":{"$error":"#REF!"}},{"$f":"IF(#REF!=21,20,0)","v":{"$error":"#REF!"}},{"$f":"IF(#REF!=22,19,0)","v":{"$error":"#REF!"}},{"$f":"IF(#REF!=23,18,0)","v":{"$error":"#REF!"}},{"$f":"IF(#REF!=24,17,0)","v":{"$error":"#REF!"}},{"$f":"IF(#REF!=25,16,0)","v":{"$error":"#REF!"}},{"$f":"IF(#REF!=26,15,0)","v":{"$error":"#REF!"}},{"$f":"IF(#REF!=27,14,0)","v":{"$error":"#REF!"}},{"$f":"IF(#REF!=28,13,0)","v":{"$error":"#REF!"}},{"$f":"IF(#REF!=29,12,0)","v":{"$error":"#REF!"}},{"$f":"IF(#REF!=30,11,0)","v":{"$error":"#REF!"}},{"$f":"IF(#REF!=31,10,0)","v":{"$error":"#REF!"}},{"$f":"IF(#REF!=32,9,0)","v":{"$error":"#REF!"}},{"$f":"IF(#REF!=33,8,0)","v":{"$error":"#REF!"}},{"$f":"IF(#REF!=34,7,0)","v":{"$error":"#REF!"}},{"$f":"IF(#REF!=35,6,0)","v":{"$error":"#REF!"}},{"$f":"IF(#REF!=36,5,0)","v":{"$error":"#REF!"}},{"$f":"IF(#REF!=37,4,0)","v":{"$error":"#REF!"}},{"$f":"IF(#REF!=38,3,0)","v":{"$error":"#REF!"}},{"$f":"IF(#REF!=39,2,0)","v":{"$error":"#REF!"}},{"$f":"IF(#REF!=40,1,0)","v":{"$error":"#REF!"}},{"$f":"IF(#REF!>20,0,0)","v":{"$error":"#REF!"}},{"$f":"IF(#REF!=\"сх\",0,0)","v":{"$error":"#REF!"}},{"$error":"#REF!"},null,{"$f":"IF(#REF!=\"сх\",\"ноль\",IF(#REF!>0,#REF!,\"Ноль\"))","v":{"$error":"#REF!"}},{"$f":"IF(#REF!=\"сх\",\"ноль\",IF(#REF!>0,#REF!,\"Ноль\"))","v":{"$error":"#REF!"}},null,{"$error":"#REF!"},{"$f":"IF(I18=#REF!,IF(#REF!<#REF!,#REF!,EX18),#REF!)","v":{"$error":"#REF!"}},{"$f":"IF(I18=#REF!,IF(#REF!<#REF!,0,1))","v":{"$error":"#REF!"}},{"$f":"IF(AND(ES18>=21,ES18<>0),ES18,IF(I18<#REF!,\"СТОП\",ET18+EU18))","v":{"$error":"#REF!"}},null,15,16,null,{"$f":"IF(#REF!=1,25,0)","v":{"$error":"#REF!"}},{"$f":"IF(#REF!=2,22,0)","v":{"$error":"#REF!"}},{"$f":"IF(#REF!=3,20,0)","v":{"$error":"#REF!"}},{"$f":"IF(#REF!=4,18,0)","v":{"$error":"#REF!"}},{"$f":"IF(#REF!=5,16,0)","v":{"$error":"#REF!"}},{"$f":"IF(#REF!=6,15,0)","v":{"$error":"#REF!"}},{"$f":"IF(#REF!=7,14,0)","v":{"$error":"#REF!"}},{"$f":"IF(#REF!=8,13,0)","v":{"$error":"#REF!"}},{"$f":"IF(#REF!=9,12,0)","v":{"$error":"#REF!"}},{"$f":"IF(#REF!=10,11,0)","v":{"$error":"#REF!"}},{"$f":"IF(#REF!=11,10,0)","v":{"$error":"#REF!"}},{"$f":"IF(#REF!=12,9,0)","v":{"$error":"#REF!"}},{"$f":"IF(#REF!=13,8,0)","v":{"$error":"#REF!"}},{"$f":"IF(#REF!=14,7,0)","v":{"$error":"#REF!"}},{"$f":"IF(#REF!=15,6,0)","v":{"$error":"#REF!"}},{"$f":"IF(#REF!=16,5,0)","v":{"$error":"#REF!"}},{"$f":"IF(#REF!=17,4,0)","v":{"$error":"#REF!"}},{"$f":"IF(#REF!=18,3,0)","v":{"$error":"#REF!"}},{"$f":"IF(#REF!=19,2,0)","v":{"$error":"#REF!"}},{"$f":"IF(#REF!=20,1,0)","v":{"$error":"#REF!"}},{"$f":"IF(#REF!>20,0,0)","v":{"$error":"#REF!"}},{"$f":"IF(#REF!=\"сх\",0,0)","v":{"$error":"#REF!"}},{"$error":"#REF!"},{"$f":"IF(#REF!=1,25,0)","v":{"$error":"#REF!"}},{"$f":"IF(#REF!=2,22,0)","v":{"$error":"#REF!"}},{"$f":"IF(#REF!=3,20,0)","v":{"$error":"#REF!"}},{"$f":"IF(#REF!=4,18,0)","v":{"$error":"#REF!"}},{"$f":"IF(#REF!=5,16,0)","v":{"$error":"#REF!"}},{"$f":"IF(#REF!=6,15,0)","v":{"$error":"#REF!"}},{"$f":"IF(#REF!=7,14,0)","v":{"$error":"#REF!"}},{"$f":"IF(#REF!=8,13,0)","v":{"$error":"#REF!"}},{"$f":"IF(#REF!=9,12,0)","v":{"$error":"#REF!"}},{"$f":"IF(#REF!=10,11,0)","v":{"$error":"#REF!"}},{"$f":"IF(#REF!=11,10,0)","v":{"$error":"#REF!"}},{"$f":"IF(#REF!=12,9,0)","v":{"$error":"#REF!"}},{"$f":"IF(#REF!=13,8,0)","v":{"$error":"#REF!"}},{"$f":"IF(#REF!=14,7,0)","v":{"$error":"#REF!"}},{"$f":"IF(#REF!=15,6,0)","v":{"$error":"#REF!"}},{"$f":"IF(#REF!=16,5,0)","v":{"$error":"#REF!"}},{"$f":"IF(#REF!=17,4,0)","v":{"$error":"#REF!"}},{"$f":"IF(#REF!=18,3,0)","v":{"$error":"#REF!"}},{"$f":"IF(#REF!=19,2,0)","v":{"$error":"#REF!"}},{"$f":"IF(#REF!=20,1,0)","v":{"$error":"#REF!"}},{"$f":"IF(#REF!>20,0,0)","v":{"$error":"#REF!"}},{"$f":"IF(#REF!=\"сх\",0,0)","v":{"$error":"#REF!"}},{"$error":"#REF!"},{"$f":"IF(#REF!=1,100,0)","v":{"$error":"#REF!"}},{"$f":"IF(#REF!=2,98,0)","v":{"$error":"#REF!"}},{"$f":"IF(#REF!=3,95,0)","v":{"$error":"#REF!"}},{"$f":"IF(#REF!=4,93,0)","v":{"$error":"#REF!"}},{"$f":"IF(#REF!=5,90,0)","v":{"$error":"#REF!"}},{"$f":"IF(#REF!=6,88,0)","v":{"$error":"#REF!"}},{"$f":"IF(#REF!=7,85,0)","v":{"$error":"#REF!"}},{"$f":"IF(#REF!=8,83,0)","v":{"$error":"#REF!"}},{"$f":"IF(#REF!=9,80,0)","v":{"$error":"#REF!"}},{"$f":"IF(#REF!=10,78,0)","v":{"$error":"#REF!"}},{"$f":"IF(#REF!=11,75,0)","v":{"$error":"#REF!"}},{"$f":"IF(#REF!=12,73,0)","v":{"$error":"#REF!"}},{"$f":"IF(#REF!=13,70,0)","v":{"$error":"#REF!"}},{"$f":"IF(#REF!=14,68,0)","v":{"$error":"#REF!"}},{"$f":"IF(#REF!=15,65,0)","v":{"$error":"#REF!"}},{"$f":"IF(#REF!=16,63,0)","v":{"$error":"#REF!"}},{"$f":"IF(#REF!=17,60,0)","v":{"$error":"#REF!"}},{"$f":"IF(#REF!=18,58,0)","v":{"$error":"#REF!"}},{"$f":"IF(#REF!=19,55,0)","v":{"$error":"#REF!"}},{"$f":"IF(#REF!=20,53,0)","v":{"$error":"#REF!"}},{"$f":"IF(#REF!>20,0,0)","v":{"$error":"#REF!"}},{"$f":"IF(#REF!=\"сх\",0,0)","v":{"$error":"#REF!"}},{"$error":"#REF!"},{"$f":"IF(#REF!=1,100,0)","v":{"$error":"#REF!"}},{"$f":"IF(#REF!=2,98,0)","v":{"$error":"#REF!"}},{"$f":"IF(#REF!=3,95,0)","v":{"$error":"#REF!"}},{"$f":"IF(#REF!=4,93,0)","v":{"$error":"#REF!"}},{"$f":"IF(#REF!=5,90,0)","v":{"$error":"#REF!"}},{"$f":"IF(#REF!=6,88,0)","v":{"$error":"#REF!"}},{"$f":"IF(#REF!=7,85,0)","v":{"$error":"#REF!"}},{"$f":"IF(#REF!=8,83,0)","v":{"$error":"#REF!"}},{"$f":"IF(#REF!=9,80,0)","v":{"$error":"#REF!"}},{"$f":"IF(#REF!=10,78,0)","v":{"$error":"#REF!"}},{"$f":"IF(#REF!=11,75,0)","v":{"$error":"#REF!"}},{"$f":"IF(#REF!=12,73,0)","v":{"$error":"#REF!"}},{"$f":"IF(#REF!=13,70,0)","v":{"$error":"#REF!"}},{"$f":"IF(#REF!=14,68,0)","v":{"$error":"#REF!"}},{"$f":"IF(#REF!=15,65,0)","v":{"$error":"#REF!"}},{"$f":"IF(#REF!=16,63,0)","v":{"$error":"#REF!"}},{"$f":"IF(#REF!=17,60,0)","v":{"$error":"#REF!"}},{"$f":"IF(#REF!=18,58,0)","v":{"$error":"#REF!"}},{"$f":"IF(#REF!=19,55,0)","v":{"$error":"#REF!"}},{"$f":"IF(#REF!=20,53,0)","v":{"$error":"#REF!"}},{"$f":"IF(#REF!>20,0,0)","v":{"$error":"#REF!"}},{"$f":"IF(#REF!=\"сх\",0,0)","v":{"$error":"#REF!"}},{"$error":"#REF!"}]
[]
["Главный судья соревнований"]
["судья Всероссийской категории:                                                                                                              А. Б. Стеблинский (г. Тюмень; лицензия МФР А 144)"]
[]
["Главный секретарь соревнований"]
["судья Всероссийской категории:                                                                                              А. Ю. Иванов (г. Москва/лицензия МФР А 105; FIM 11245)"]

{"sheet":"МАЛЬЧИКИ 2","index":9,"n_rows":22,"n_cols":260,"rows_kept":22,"cut":false,"hidden":false,"merged":[[20,0,20,11],[5,0,7,0],[5,2,7,2],[5,3,7,3],[5,4,7,4],[17,0,17,8],[5,5,7,5],[5,6,7,6],[5,7,7,7],[5,8,7,8],[5,9,7,9],[5,1,7,1],[0,9,2,9],[0,0,0,8],[1,0,1,8],[2,0,2,8],[3,0,3,8]]}
["Показательные выступления в рамках Кубка ЯНАО по кроссу на снегоходах 2017 года - III-й этап.                                                             "]
["ПРОТОКОЛ ЛИЧНОГО ЗАЧЕТА",null,null,null,null,null,null,null,null,null,null,null,null,null,null,null,null,null,null,null,null,null,null,null,null,null,null,null,null,null,null,null,null,null,null,null,null,null,null,null,null,null,null,null,null,null,null,null,null,null,null,null,null,null,null,null,null,null,null,null,null,null,null,null,null,null,null,null,null,null,null,null,null,null,null,null,null,null,null,null,null,null,null,null,null,null,null,null,null,null,null,null,null,null,null,null,null,null,null,null,null,null,null,null,null,null,null,null,null,null,null,null,null,null,null,null,null,null,null,null,null,null,null,null,null,null,null,null,null,null,null,null,null,null,null,null,null,null,null,null,null,null,null,null,null,null,null,null,null,null,null,null,null,null,null,null,null,null,null,null,null,null,null,null,null,null,null,null,"первый этап"]
["г. Новый Уренгой, Ямало-Ненецкий АО.                                                                                                                                                                            31 марта - 02 апреля 2017 года.",null,null,null,null,null,null,null,null,null,null,null,null,null,null,null,null,null,null,null,null,null,null,null,null,null,null,null,null,null,null,null,null,null,null,null,null,null,null,null,null,null,null,null,null,null,null,null,null,null,null,null,null,null,null,null,null,null,null,null,null,null,null,null,null,null,null,null,null,null,null,null,null,null,null,null,null,null,null,null,null,null,null,null,null,null,null,null,null,null,null,null,null,null,null,null,null,null,null,null,null,null,null,null,null,null,null,null,null,null,null,null,null,null,null,null,null,null,null,null,null,null,null,null,null,null,null,null,null,null,null,null,null,null,null,null,null,null,null,null,null,null,null,null,null,null,null,null,null,null,null,null,null,null,null,null,null,"первый заезд личные очки",null,null,null,null,null,null,null,null,null,null,null,null,null,null,null,null,null,null,null,null,null,"второй заезд личные очки",null,null,null,null,null,null,null,null,null,null,null,null,null,null,null,null,null,null,null,null,null,null,"Первый заезд командные очки",null,null,null,null,null,null,null,null,null,null,null,null,null,null,null,null,null,null,null,null,null,null,"Второй заезд командные очки"]
["Класс \"МАЛЬЧИКИ 2\". ",null,null,null,null,null,null,null,null,null,null,null,null,null,null,null,null,null,null,null,null,null,null,null,null,null,null,null,null,null,null,null,null,null,null,null,null,null,null,null,null,null,null,null,null,null,null,null,null,null,null,null,null,null,null,null,null,null,null,null,null,null,null,null,null,null,null,null,null,null,null,null,null,null,null,null,null,null,null,null,null,null,null,null,null,null,null,null,null,null,null,null,null,null,null,null,null,null,null,null,null,null,null,null,null,null,null,null,null,null,null,null,null,null,null,null,null,null,null,null,null,null,null,null,null,null,null,null,null,null,null,null,null,null,null,null,null,null,null,null,null,null,null,null,null,null,null,null,null,null,null,null,null,null,null,null,1,2,3,4,5,6,7,8,9,10,11,12,13,14,15,16,17,18,19,20,21,"сх","Sym",1,2,3,4,5,6,7,8,9,10,11,12,13,14,15,16,17,18,19,20,21,"cx","sym",1,2,3,4,5,6,7,8,9,10,11,12,13,14,15,16,17,18,19,20,21,"сх","очки",1,2,3,4,5,6,7,8,9,10,11,12,13,14,15,16,17,18,19,20,21,"сх","очки",{"$f":"COUNT(FA4:IN4)","v":84},"Н. Стро","В. стро","место"]
[]
["Место ","РЕЙТИНГОВЫЕ ОЧКИ Коэф. 0,1 ","Ст. №","Фамилия, Имя","Разряд","Город (край, район, область)","Команда","Марка снегохода","КВАЛИФИКАЦИОННЫЕ ОЧКИ","Сумма очк. в командном зачете"]
[null,null,null,null,null,null,null,null,null,null,null,null,null,"первый заезд личные очки",null,null,null,null,null,null,null,null,null,null,null,null,null,null,null,null,null,null,null,null,null,"второй заезд личные очки",null,null,null,null,null,null,null,null,null,null,null,null,null,null,null,null,null,null,null,null,null,null,"Первый заезд командные очки",null,null,null,null,null,null,null,null,null,null,null,null,null,null,null,null,null,null,null,null,null,null,null,null,null,null,null,null,null,null,null,null,null,null,null,null,null,null,null,null,null,null,"Второй заезд командные очки",null,null,null,null,null,null,null,null,null,null,null,null,null,null,null,null,null,null,null,null,null,null,null,null,null,null,null,null,null,null,null,null,null,null,null,null,null,null,null,null,null,null,null,1,2,null,null,null,null,null,null,null,null,null,null,null,null,null,null,null,null,null,null,null,null,null,"первый этап"]
[null,null,null,null,null,null,null,null,null,null,null,null,1,2,3,4,5,6,7,8,9,10,11,12,13,14,15,16,17,18,19,20,21,"сх",null,1,2,3,4,5,6,7,8,9,10,11,12,13,14,15,16,17,18,19,20,null,"cx",null,1,2,3,4,5,6,7,8,9,10,11,12,13,14,15,16,17,18,19,20,21,22,23,24,25,26,27,28,29,30,31,32,33,34,35,36,37,38,39,40,null,null,null,1,2,3,4,5,6,7,8,9,10,11,12,13,14,15,16,17,18,19,20,21,22,23,24,25,26,27,28,29,30,31,32,33,34,35,36,37,38,39,40,null,null,null,null,null,null,null,"мин","Н. Стро","В. стро","место",null,"чр1","чр2",null,null,"первый заезд личные очки",null,null,null,null,null,null,null,null,null,null,null,null,null,null,null,null,null,null,null,null,null,"второй заезд личные очки",null,null,null,null,null,null,null,null,null,null,null,null,null,null,null,null,null,null,null,null,null,null,"Первый заезд командные очки",null,null,null,null,null,null,null,null,null,null,null,null,null,null,null,null,null,null,null,null,null,null,"Второй заезд командные очки"]
[1,5,33,"Захаров Александр","б/р","г. Новый Уренгой, Ямало-Ненецкий АО","СТК \"Факел\"","Arctic-Cat",25,{"$f":"#REF!+#REF!","v":{"$error":"#REF!"}},null,null,{"$f":"IF(#REF!=1,25,0)","v":{"$error":"#REF!"}},{"$f":"IF(#REF!=2,22,0)","v":{"$error":"#REF!"}},{"$f":"IF(#REF!=3,20,0)","v":{"$error":"#REF!"}},{"$f":"IF(#REF!=4,18,0)","v":{"$error":"#REF!"}},{"$f":"IF(#REF!=5,16,0)","v":{"$error":"#REF!"}},{"$f":"IF(#REF!=6,15,0)","v":{"$error":"#REF!"}},{"$f":"IF(#REF!=7,14,0)","v":{"$error":"#REF!"}},{"$f":"IF(#REF!=8,13,0)","v":{"$error":"#REF!"}},{"$f":"IF(#REF!=9,12,0)","v":{"$error":"#REF!"}},{"$f":"IF(#REF!=10,11,0)","v":{"$error":"#REF!"}},{"$f":"IF(#REF!=11,10,0)","v":{"$error":"#REF!"}},{"$f":"IF(#REF!=12,9,0)","v":{"$error":"#REF!"}},{"$f":"IF(#REF!=13,8,0)","v":{"$error":"#REF!"}},{"$f":"IF(#REF!=14,7,0)","v":{"$error":"#REF!"}},{"$f":"IF(#REF!=15,6,0)","v":{"$error":"#REF!"}},{"$f":"IF(#REF!=16,5,0)","v":{"$error":"#REF!"}},{"$f":"IF(#REF!=17,4,0)","v":{"$error":"#REF!"}},{"$f":"IF(#REF!=18,3,0)","v":{"$error":"#REF!"}},{"$f":"IF(#REF!=19,2,0)","v":{"$error":"#REF!"}},{"$f":"IF(#REF!=20,1,0)","v":{"$error":"#REF!"}},{"$f":"IF(#REF!>20,0,0)","v":{"$error":"#REF!"}},{"$f":"IF(#REF!=\"сх\",0,0)","v":{"$error":"#REF!"}},{"$f":"SUM(M9:AG9)","v":{"$error":"#REF!"}},{"$f":"IF(#REF!=1,25,0)","v":{"$error":"#REF!"}},{"$f":"IF(#REF!=2,22,0)","v":{"$error":"#REF!"}},{"$f":"IF(#REF!=3,20,0)","v":{"$error":"#REF!"}},{"$f":"IF(#REF!=4,18,0)","v":{"$error":"#REF!"}},{"$f":"IF(#REF!=5,16,0)","v":{"$error":"#REF!"}},{"$f":"IF(#REF!=6,15,0)","v":{"$error":"#REF!"}},{"$f":"IF(#REF!=7,14,0)","v":{"$error":"#REF!"}},{"$f":"IF(#REF!=8,13,0)","v":{"$error":"#REF!"}},{"$f":"IF(#REF!=9,12,0)","v":{"$error":"#REF!"}},{"$f":"IF(#REF!=10,11,0)","v":{"$error":"#REF!"}},{"$f":"IF(#REF!=11,10,0)","v":{"$error":"#REF!"}},{"$f":"IF(#REF!=12,9,0)","v":{"$error":"#REF!"}},{"$f":"IF(#REF!=13,8,0)","v":{"$error":"#REF!"}},{"$f":"IF(#REF!=14,7,0)","v":{"$error":"#REF!"}},{"$f":"IF(#REF!=15,6,0)","v":{"$error":"#REF!"}},{"$f":"IF(#REF!=16,5,0)","v":{"$error":"#REF!"}},{"$f":"IF(#REF!=17,4,0)","v":{"$error":"#REF!"}},{"$f":"IF(#REF!=18,3,0)","v":{"$error":"#REF!"}},{"$f":"IF(#REF!=19,2,0)","v":{"$error":"#REF!"}},{"$f":"IF(#REF!=20,1,0)","v":{"$error":"#REF!"}},{"$f":"IF(#REF!>20,0,0)","v":{"$error":"#REF!"}},{"$f":"IF(#REF!=\"сх\",0,0)","v":{"$error":"#REF!"}},{"$f":"SUM(AJ9:BD9)","v":{"$error":"#REF!"}},{"$f":"IF(#REF!=1,45,0)","v":{"$error":"#REF!"}},{"$f":"IF(#REF!=2,42,0)","v":{"$error":"#REF!"}},{"$f":"IF(#REF!=3,40,0)","v":{"$error":"#REF!"}},{"$f":"IF(#REF!=4,38,0)","v":{"$error":"#REF!"}},{"$f":"IF(#REF!=5,36,0)","v":{"$error":"#REF!"}},{"$f":"IF(#REF!=6,35,0)","v":{"$error":"#REF!"}},{"$f":"IF(#REF!=7,34,0)","v":{"$error":"#REF!"}},{"$f":"IF(#REF!=8,33,0)","v":{"$error":"#REF!"}},{"$f":"IF(#REF!=9,32,0)","v":{"$error":"#REF!"}},{"$f":"IF(#REF!=10,31,0)","v":{"$error":"#REF!"}},{"$f":"IF(#REF!=11,30,0)","v":{"$error":"#REF!"}},{"$f":"IF(#REF!=12,29,0)","v":{"$error":"#REF!"}},{"$f":"IF(#REF!=13,28,0)","v":{"$error":"#REF!"}},{"$f":"IF(#REF!=14,27,0)","v":{"$error":"#REF!"}},{"$f":"IF(#REF!=15,26,0)","v":{"$error":"#REF!"}},{"$f":"IF(#REF!=16,25,0)","v":{"$error":"#REF!"}},{"$f":"IF(#REF!=17,24,0)","v":{"$error":"#REF!"}},{"$f":"IF(#REF!=18,23,0)","v":{"$error":"#REF!"}},{"$f":"IF(#REF!=19,22,0)","v":{"$error":"#REF!"}},{"$f":"IF(#REF!=20,21,0)","v":{"$error":"#REF!"}},{"$f":"IF(#REF!=21,20,0)","v":{"$error":"#REF!"}},{"$f":"IF(#REF!=22,19,0)","v":{"$error":"#REF!"}},{"$f":"IF(#REF!=23,18,0)","v":{"$error":"#REF!"}},{"$f":"IF(#REF!=24,17,0)","v":{"$error":"#REF!"}},{"$f":"IF(#REF!=25,16,0)","v":{"$error":"#REF!"}},{"$f":"IF(#REF!=26,15,0)","v":{"$error":"#REF!"}},{"$f":"IF(#REF!=27,14,0)","v":{"$error":"#REF!"}},{"$f":"IF(#REF!=28,13,0)","v":{"$error":"#REF!"}},{"$f":"IF(#REF!=29,12,0)","v":{"$error":"#REF!"}},{"$f":"IF(#REF!=30,11,0)","v":{"$error":"#REF!"}},{"$f":"IF(#REF!=31,10,0)","v":{"$error":"#REF!"}},{"$f":"IF(#REF!=32,9,0)","v":{"$error":"#REF!"}},{"$f":"IF(#REF!=33,8,0)","v":{"$error":"#REF!"}},{"$f":"IF(#REF!=34,7,0)","v":{"$error":"#REF!"}},{"$f":"IF(#REF!=35,6,0)","v":{"$error":"#REF!"}},{"$f":"IF(#REF!=36,5,0)","v":{"$error":"#REF!"}},{"$f":"IF(#REF!=37,4,0)","v":{"$error":"#REF!"}},{"$f":"IF(#REF!=38,3,0)","v":{"$error":"#REF!"}},{"$f":"IF(#REF!=39,2,0)","v":{"$error":"#REF!"}},{"$f":"IF(#REF!=40,1,0)","v":{"$error":"#REF!"}},{"$f":"IF(#REF!>20,0,0)","v":{"$error":"#REF!"}},{"$f":"IF(#REF!=\"сх\",0,0)","v":{"$error":"#REF!"}},{"$f":"SUM(BG9:CV9)","v":{"$error":"#REF!"}},{"$f":"IF(#REF!=1,45,0)","v":{"$error":"#REF!"}},{"$f":"IF(#REF!=2,42,0)","v":{"$error":"#REF!"}},{"$f":"IF(#REF!=3,40,0)","v":{"$error":"#REF!"}},{"$f":"IF(#REF!=4,38,0)","v":{"$error":"#REF!"}},{"$f":"IF(#REF!=5,36,0)","v":{"$error":"#REF!"}},{"$f":"IF(#REF!=6,35,0)","v":{"$error":"#REF!"}},{"$f":"IF(#REF!=7,34,0)","v":{"$error":"#REF!"}},{"$f":"IF(#REF!=8,33,0)","v":{"$error":"#REF!"}},{"$f":"IF(#REF!=9,32,0)","v":{"$error":"#REF!"}},{"$f":"IF(#REF!=10,31,0)","v":{"$error":"#REF!"}},{"$f":"IF(#REF!=11,30,0)","v":{"$error":"#REF!"}},{"$f":"IF(#REF!=12,29,0)","v":{"$error":"#REF!"}},{"$f":"IF(#REF!=13,28,0)","v":{"$error":"#REF!"}},{"$f":"IF(#REF!=14,27,0)","v":{"$error":"#REF!"}},{"$f":"IF(#REF!=15,26,0)","v":{"$error":"#REF!"}},{"$f":"IF(#REF!=16,25,0)","v":{"$error":"#REF!"}},{"$f":"IF(#REF!=17,24,0)","v":{"$error":"#REF!"}},{"$f":"IF(#REF!=18,23,0)","v":{"$error":"#REF!"}},{"$f":"IF(#REF!=19,22,0)","v":{"$error":"#REF!"}},{"$f":"IF(#REF!=20,21,0)","v":{"$error":"#REF!"}},{"$f":"IF(#REF!=21,20,0)","v":{"$error":"#REF!"}},{"$f":"IF(#REF!=22,19,0)","v":{"$error":"#REF!"}},{"$f":"IF(#REF!=23,18,0)","v":{"$error":"#REF!"}},{"$f":"IF(#REF!=24,17,0)","v":{"$error":"#REF!"}},{"$f":"IF(#REF!=25,16,0)","v":{"$error":"#REF!"}},{"$f":"IF(#REF!=26,15,0)","v":{"$error":"#REF!"}},{"$f":"IF(#REF!=27,14,0)","v":{"$error":"#REF!"}},{"$f":"IF(#REF!=28,13,0)","v":{"$error":"#REF!"}},{"$f":"IF(#REF!=29,12,0)","v":{"$error":"#REF!"}},{"$f":"IF(#REF!=30,11,0)","v":{"$error":"#REF!"}},{"$f":"IF(#REF!=31,10,0)","v":{"$error":"#REF!"}},{"$f":"IF(#REF!=32,9,0)","v":{"$error":"#REF!"}},{"$f":"IF(#REF!=33,8,0)","v":{"$error":"#REF!"}},{"$f":"IF(#REF!=34,7,0)","v":{"$error":"#REF!"}},{"$f":"IF(#REF!=35,6,0)","v":{"$error":"#REF!"}},{"$f":"IF(#REF!=36,5,0)","v":{"$error":"#REF!"}},{"$f":"IF(#REF!=37,4,0)","v":{"$error":"#REF!"}},{"$f":"IF(#REF!=38,3,0)","v":{"$error":"#REF!"}},{"$f":"IF(#REF!=39,2,0)","v":{"$error":"#REF!"}},{"$f":"IF(#REF!=40,1,0)","v":{"$error":"#REF!"}},{"$f":"IF(#REF!>20,0,0)","v":{"$error":"#REF!"}},{"$f":"IF(#REF!=\"сх\",0,0)","v":{"$error":"#REF!"}},{"$f":"SUM(CX9:EM9)","v":{"$error":"#REF!"}},null,{"$f":"IF(#REF!=\"сх\",\"ноль\",IF(#REF!>0,#REF!,\"Ноль\"))","v":{"$error":"#REF!"}},{"$f":"IF(#REF!=\"сх\",\"ноль\",IF(#REF!>0,#REF!,\"Ноль\"))","v":{"$error":"#REF!"}},null,{"$f":"MIN(EP9,EQ9)","v":{"$error":"#REF!"}},{"$f":"IF(I9=#REF!,IF(#REF!<#REF!,#REF!,EX9),#REF!)","v":{"$error":"#REF!"}},{"$f":"IF(I9=#REF!,IF(#REF!<#REF!,0,1))","v":{"$error":"#REF!"}},{"$f":"IF(AND(ES9>=21,ES9<>0),ES9,IF(I9<#REF!,\"СТОП\",ET9+EU9))","v":{"$error":"#REF!"}},null,15,16,null,{"$f":"IF(#REF!=1,25,0)","v":{"$error":"#REF!"}},{"$f":"IF(#REF!=2,22,0)","v":{"$error":"#REF!"}},{"$f":"IF(#REF!=3,20,0)","v":{"$error":"#REF!"}},{"$f":"IF(#REF!=4,18,0)","v":{"$error":"#REF!"}},{"$f":"IF(#REF!=5,16,0)","v":{"$error":"#REF!"}},{"$f":"IF(#REF!=6,15,0)","v":{"$error":"#REF!"}},{"$f":"IF(#REF!=7,14,0)","v":{"$error":"#REF!"}},{"$f":"IF(#REF!=8,13,0)","v":{"$error":"#REF!"}},{"$f":"IF(#REF!=9,12,0)","v":{"$error":"#REF!"}},{"$f":"IF(#REF!=10,11,0)","v":{"$error":"#REF!"}},{"$f":"IF(#REF!=11,10,0)","v":{"$error":"#REF!"}},{"$f":"IF(#REF!=12,9,0)","v":{"$error":"#REF!"}},{"$f":"IF(#REF!=13,8,0)","v":{"$error":"#REF!"}},{"$f":"IF(#REF!=14,7,0)","v":{"$error":"#REF!"}},{"$f":"IF(#REF!=15,6,0)","v":{"$error":"#REF!"}},{"$f":"IF(#REF!=16,5,0)","v":{"$error":"#REF!"}},{"$f":"IF(#REF!=17,4,0)","v":{"$error":"#REF!"}},{"$f":"IF(#REF!=18,3,0)","v":{"$error":"#REF!"}},{"$f":"IF(#REF!=19,2,0)","v":{"$error":"#REF!"}},{"$f":"IF(#REF!=20,1,0)","v":{"$error":"#REF!"}},{"$f":"IF(#REF!>20,0,0)","v":{"$error":"#REF!"}},{"$f":"IF(#REF!=\"сх\",0,0)","v":{"$error":"#REF!"}},{"$f":"SUM(FA9:FV9)","v":{"$error":"#REF!"}},{"$f":"IF(#REF!=1,25,0)","v":{"$error":"#REF!"}},{"$f":"IF(#REF!=2,22,0)","v":{"$error":"#REF!"}},{"$f":"IF(#REF!=3,20,0)","v":{"$error":"#REF!"}},{"$f":"IF(#REF!=4,18,0)","v":{"$error":"#REF!"}},{"$f":"IF(#REF!=5,16,0)","v":{"$error":"#REF!"}},{"$f":"IF(#REF!=6,15,0)","v":{"$error":"#REF!"}},{"$f":"IF(#REF!=7,14,0)","v":{"$error":"#REF!"}},{"$f":"IF(#REF!=8,13,0)","v":{"$error":"#REF!"}},{"$f":"IF(#REF!=9,12,0)","v":{"$error":"#REF!"}},{"$f":"IF(#REF!=10,11,0)","v":{"$error":"#REF!"}},{"$f":"IF(#REF!=11,10,0)","v":{"$error":"#REF!"}},{"$f":"IF(#REF!=12,9,0)","v":{"$error":"#REF!"}},{"$f":"IF(#REF!=13,8,0)","v":{"$error":"#REF!"}},{"$f":"IF(#REF!=14,7,0)","v":{"$error":"#REF!"}},{"$f":"IF(#REF!=15,6,0)","v":{"$error":"#REF!"}},{"$f":"IF(#REF!=16,5,0)","v":{"$error":"#REF!"}},{"$f":"IF(#REF!=17,4,0)","v":{"$error":"#REF!"}},{"$f":"IF(#REF!=18,3,0)","v":{"$error":"#REF!"}},{"$f":"IF(#REF!=19,2,0)","v":{"$error":"#REF!"}},{"$f":"IF(#REF!=20,1,0)","v":{"$error":"#REF!"}},{"$f":"IF(#REF!>20,0,0)","v":{"$error":"#REF!"}},{"$f":"IF(#REF!=\"сх\",0,0)","v":{"$error":"#REF!"}},{"$f":"SUM(FX9:GS9)","v":{"$error":"#REF!"}},{"$f":"IF(#REF!=1,100,0)","v":{"$error":"#REF!"}},{"$f":"IF(#REF!=2,98,0)","v":{"$error":"#REF!"}},{"$f":"IF(#REF!=3,95,0)","v":{"$error":"#REF!"}},{"$f":"IF(#REF!=4,93,0)","v":{"$error":"#REF!"}},{"$f":"IF(#REF!=5,90,0)","v":{"$error":"#REF!"}},{"$f":"IF(#REF!=6,88,0)","v":{"$error":"#REF!"}},{"$f":"IF(#REF!=7,85,0)","v":{"$error":"#REF!"}},{"$f":"IF(#REF!=8,83,0)","v":{"$error":"#REF!"}},{"$f":"IF(#REF!=9,80,0)","v":{"$error":"#REF!"}},{"$f":"IF(#REF!=10,78,0)","v":{"$error":"#REF!"}},{"$f":"IF(#REF!=11,75,0)","v":{"$error":"#REF!"}},{"$f":"IF(#REF!=12,73,0)","v":{"$error":"#REF!"}},{"$f":"IF(#REF!=13,70,0)","v":{"$error":"#REF!"}},{"$f":"IF(#REF!=14,68,0)","v":{"$error":"#REF!"}},{"$f":"IF(#REF!=15,65,0)","v":{"$error":"#REF!"}},{"$f":"IF(#REF!=16,63,0)","v":{"$error":"#REF!"}},{"$f":"IF(#REF!=17,60,0)","v":{"$error":"#REF!"}},{"$f":"IF(#REF!=18,58,0)","v":{"$error":"#REF!"}},{"$f":"IF(#REF!=19,55,0)","v":{"$error":"#REF!"}},{"$f":"IF(#REF!=20,53,0)","v":{"$error":"#REF!"}},{"$f":"IF(#REF!>20,0,0)","v":{"$error":"#REF!"}},{"$f":"IF(#REF!=\"сх\",0,0)","v":{"$error":"#REF!"}},{"$f":"SUM(GU9:HP9)","v":{"$error":"#REF!"}},{"$f":"IF(#REF!=1,100,0)","v":{"$error":"#REF!"}},{"$f":"IF(#REF!=2,98,0)","v":{"$error":"#REF!"}},{"$f":"IF(#REF!=3,95,0)","v":{"$error":"#REF!"}},{"$f":"IF(#REF!=4,93,0)","v":{"$error":"#REF!"}},{"$f":"IF(#REF!=5,90,0)","v":{"$error":"#REF!"}},{"$f":"IF(#REF!=6,88,0)","v":{"$error":"#REF!"}},{"$f":"IF(#REF!=7,85,0)","v":{"$error":"#REF!"}},{"$f":"IF(#REF!=8,83,0)","v":{"$error":"#REF!"}},{"$f":"IF(#REF!=9,80,0)","v":{"$error":"#REF!"}},{"$f":"IF(#REF!=10,78,0)","v":{"$error":"#REF!"}},{"$f":"IF(#REF!=11,75,0)","v":{"$error":"#REF!"}},{"$f":"IF(#REF!=12,73,0)","v":{"$error":"#REF!"}},{"$f":"IF(#REF!=13,70,0)","v":{"$error":"#REF!"}},{"$f":"IF(#REF!=14,68,0)","v":{"$error":"#REF!"}},{"$f":"IF(#REF!=15,65,0)","v":{"$error":"#REF!"}},{"$f":"IF(#REF!=16,63,0)","v":{"$error":"#REF!"}},{"$f":"IF(#REF!=17,60,0)","v":{"$error":"#REF!"}},{"$f":"IF(#REF!=18,58,0)","v":{"$error":"#REF!"}},{"$f":"IF(#REF!=19,55,0)","v":{"$error":"#REF!"}},{"$f":"IF(#REF!=20,53,0)","v":{"$error":"#REF!"}},{"$f":"IF(#REF!>20,0,0)","v":{"$error":"#REF!"}},{"$f":"IF(#REF!=\"сх\",0,0)","v":{"$error":"#REF!"}},{"$f":"SUM(HR9:IM9)","v":{"$error":"#REF!"}},null,null,null,null,null,null,null,null,null,null,null," "]
[2,4.8,23,"Синявин Андрей","б/р","г. Новый Уренгой, Ямало-Ненецкий АО","МАУ МЦ \"НОРД\"","Polaris",22,{"$f":"#REF!+#REF!","v":{"$error":"#REF!"}},null,null,{"$f":"IF(#REF!=1,25,0)","v":{"$error":"#REF!"}},{"$f":"IF(#REF!=2,22,0)","v":{"$error":"#REF!"}},{"$f":"IF(#REF!=3,20,0)","v":{"$error":"#REF!"}},{"$f":"IF(#REF!=4,18,0)","v":{"$error":"#REF!"}},{"$f":"IF(#REF!=5,16,0)","v":{"$error":"#REF!"}},{"$f":"IF(#REF!=6,15,0)","v":{"$error":"#REF!"}},{"$f":"IF(#REF!=7,14,0)","v":{"$error":"#REF!"}},{"$f":"IF(#REF!=8,13,0)","v":{"$error":"#REF!"}},{"$f":"IF(#REF!=9,12,0)","v":{"$error":"#REF!"}},{"$f":"IF(#REF!=10,11,0)","v":{"$error":"#REF!"}},{"$f":"IF(#REF!=11,10,0)","v":{"$error":"#REF!"}},{"$f":"IF(#REF!=12,9,0)","v":{"$error":"#REF!"}},{"$f":"IF(#REF!=13,8,0)","v":{"$error":"#REF!"}},{"$f":"IF(#REF!=14,7,0)","v":{"$error":"#REF!"}},{"$f":"IF(#REF!=15,6,0)","v":{"$error":"#REF!"}},{"$f":"IF(#REF!=16,5,0)","v":{"$error":"#REF!"}},{"$f":"IF(#REF!=17,4,0)","v":{"$error":"#REF!"}},{"$f":"IF(#REF!=18,3,0)","v":{"$error":"#REF!"}},{"$f":"IF(#REF!=19,2,0)","v":{"$error":"#REF!"}},{"$f":"IF(#REF!=20,1,0)","v":{"$error":"#REF!"}},{"$f":"IF(#REF!>20,0,0)","v":{"$error":"#REF!"}},{"$f":"IF(#REF!=\"сх\",0,0)","v":{"$error":"#REF!"}},{"$f":"SUM(M10:AG10)","v":{"$error":"#REF!"}},{"$f":"IF(#REF!=1,25,0)","v":{"$error":"#REF!"}},{"$f":"IF(#REF!=2,22,0)","v":{"$error":"#REF!"}},{"$f":"IF(#REF!=3,20,0)","v":{"$error":"#REF!"}},{"$f":"IF(#REF!=4,18,0)","v":{"$error":"#REF!"}},{"$f":"IF(#REF!=5,16,0)","v":{"$error":"#REF!"}},{"$f":"IF(#REF!=6,15,0)","v":{"$error":"#REF!"}},{"$f":"IF(#REF!=7,14,0)","v":{"$error":"#REF!"}},{"$f":"IF(#REF!=8,13,0)","v":{"$error":"#REF!"}},{"$f":"IF(#REF!=9,12,0)","v":{"$error":"#REF!"}},{"$f":"IF(#REF!=10,11,0)","v":{"$error":"#REF!"}},{"$f":"IF(#REF!=11,10,0)","v":{"$error":"#REF!"}},{"$f":"IF(#REF!=12,9,0)","v":{"$error":"#REF!"}},{"$f":"IF(#REF!=13,8,0)","v":{"$error":"#REF!"}},{"$f":"IF(#REF!=14,7,0)","v":{"$error":"#REF!"}},{"$f":"IF(#REF!=15,6,0)","v":{"$error":"#REF!"}},{"$f":"IF(#REF!=16,5,0)","v":{"$error":"#REF!"}},{"$f":"IF(#REF!=17,4,0)","v":{"$error":"#REF!"}},{"$f":"IF(#REF!=18,3,0)","v":{"$error":"#REF!"}},{"$f":"IF(#REF!=19,2,0)","v":{"$error":"#REF!"}},{"$f":"IF(#REF!=20,1,0)","v":{"$error":"#REF!"}},{"$f":"IF(#REF!>20,0,0)","v":{"$error":"#REF!"}},{"$f":"IF(#REF!=\"сх\",0,0)","v":{"$error":"#REF!"}},{"$f":"SUM(AJ10:BD10)","v":{"$error":"#REF!"}},{"$f":"IF(#REF!=1,45,0)","v":{"$error":"#REF!"}},{"$f":"IF(#REF!=2,42,0)","v":{"$error":"#REF!"}},{"$f":"IF(#REF!=3,40,0)","v":{"$error":"#REF!"}},{"$f":"IF(#REF!=4,38,0)","v":{"$error":"#REF!"}},{"$f":"IF(#REF!=5,36,0)","v":{"$error":"#REF!"}},{"$f":"IF(#REF!=6,35,0)","v":{"$error":"#REF!"}},{"$f":"IF(#REF!=7,34,0)","v":{"$error":"#REF!"}},{"$f":"IF(#REF!=8,33,0)","v":{"$error":"#REF!"}},{"$f":"IF(#REF!=9,32,0)","v":{"$error":"#REF!"}},{"$f":"IF(#REF!=10,31,0)","v":{"$error":"#REF!"}},{"$f":"IF(#REF!=11,30,0)","v":{"$error":"#REF!"}},{"$f":"IF(#REF!=12,29,0)","v":{"$error":"#REF!"}},{"$f":"IF(#REF!=13,28,0)","v":{"$error":"#REF!"}},{"$f":"IF(#REF!=14,27,0)","v":{"$error":"#REF!"}},{"$f":"IF(#REF!=15,26,0)","v":{"$error":"#REF!"}},{"$f":"IF(#REF!=16,25,0)","v":{"$error":"#REF!"}},{"$f":"IF(#REF!=17,24,0)","v":{"$error":"#REF!"}},{"$f":"IF(#REF!=18,23,0)","v":{"$error":"#REF!"}},{"$f":"IF(#REF!=19,22,0)","v":{"$error":"#REF!"}},{"$f":"IF(#REF!=20,21,0)","v":{"$error":"#REF!"}},{"$f":"IF(#REF!=21,20,0)","v":{"$error":"#REF!"}},{"$f":"IF(#REF!=22,19,0)","v":{"$error":"#REF!"}},{"$f":"IF(#REF!=23,18,0)","v":{"$error":"#REF!"}},{"$f":"IF(#REF!=24,17,0)","v":{"$error":"#REF!"}},{"$f":"IF(#REF!=25,16,0)","v":{"$error":"#REF!"}},{"$f":"IF(#REF!=26,15,0)","v":{"$error":"#REF!"}},{"$f":"IF(#REF!=27,14,0)","v":{"$error":"#REF!"}},{"$f":"IF(#REF!=28,13,0)","v":{"$error":"#REF!"}},{"$f":"IF(#REF!=29,12,0)","v":{"$error":"#REF!"}},{"$f":"IF(#REF!=30,11,0)","v":{"$error":"#REF!"}},{"$f":"IF(#REF!=31,10,0)","v":{"$error":"#REF!"}},{"$f":"IF(#REF!=32,9,0)","v":{"$error":"#REF!"}},{"$f":"IF(#REF!=33,8,0)","v":{"$error":"#REF!"}},{"$f":"IF(#REF!=34,7,0)","v":{"$error":"#REF!"}},{"$f":"IF(#REF!=35,6,0)","v":{"$error":"#REF!"}},{"$f":"IF(#REF!=36,5,0)","v":{"$error":"#REF!"}},{"$f":"IF(#REF!=37,4,0)","v":{"$error":"#REF!"}},{"$f":"IF(#REF!=38,3,0)","v":{"$error":"#REF!"}},{"$f":"IF(#REF!=39,2,0)","v":{"$error":"#REF!"}},{"$f":"IF(#REF!=40,1,0)","v":{"$error":"#REF!"}},{"$f":"IF(#REF!>20,0,0)","v":{"$error":"#REF!"}},{"$f":"IF(#REF!=\"сх\",0,0)","v":{"$error":"#REF!"}},{"$f":"SUM(BG10:CV10)","v":{"$error":"#REF!"}},{"$f":"IF(#REF!=1,45,0)","v":{"$error":"#REF!"}},{"$f":"IF(#REF!=2,42,0)","v":{"$error":"#REF!"}},{"$f":"IF(#REF!=3,40,0)","v":{"$error":"#REF!"}},{"$f":"IF(#REF!=4,38,0)","v":{"$error":"#REF!"}},{"$f":"IF(#REF!=5,36,0)","v":{"$error":"#REF!"}},{"$f":"IF(#REF!=6,35,0)","v":{"$error":"#REF!"}},{"$f":"IF(#REF!=7,34,0)","v":{"$error":"#REF!"}},{"$f":"IF(#REF!=8,33,0)","v":{"$error":"#REF!"}},{"$f":"IF(#REF!=9,32,0)","v":{"$error":"#REF!"}},{"$f":"IF(#REF!=10,31,0)","v":{"$error":"#REF!"}},{"$f":"IF(#REF!=11,30,0)","v":{"$error":"#REF!"}},{"$f":"IF(#REF!=12,29,0)","v":{"$error":"#REF!"}},{"$f":"IF(#REF!=13,28,0)","v":{"$error":"#REF!"}},{"$f":"IF(#REF!=14,27,0)","v":{"$error":"#REF!"}},{"$f":"IF(#REF!=15,26,0)","v":{"$error":"#REF!"}},{"$f":"IF(#REF!=16,25,0)","v":{"$error":"#REF!"}},{"$f":"IF(#REF!=17,24,0)","v":{"$error":"#REF!"}},{"$f":"IF(#REF!=18,23,0)","v":{"$error":"#REF!"}},{"$f":"IF(#REF!=19,22,0)","v":{"$error":"#REF!"}},{"$f":"IF(#REF!=20,21,0)","v":{"$error":"#REF!"}},{"$f":"IF(#REF!=21,20,0)","v":{"$error":"#REF!"}},{"$f":"IF(#REF!=22,19,0)","v":{"$error":"#REF!"}},{"$f":"IF(#REF!=23,18,0)","v":{"$error":"#REF!"}},{"$f":"IF(#REF!=24,17,0)","v":{"$error":"#REF!"}},{"$f":"IF(#REF!=25,16,0)","v":{"$error":"#REF!"}},{"$f":"IF(#REF!=26,15,0)","v":{"$error":"#REF!"}},{"$f":"IF(#REF!=27,14,0)","v":{"$error":"#REF!"}},{"$f":"IF(#REF!=28,13,0)","v":{"$error":"#REF!"}},{"$f":"IF(#REF!=29,12,0)","v":{"$error":"#REF!"}},{"$f":"IF(#REF!=30,11,0)","v":{"$error":"#REF!"}},{"$f":"IF(#REF!=31,10,0)","v":{"$error":"#REF!"}},{"$f":"IF(#REF!=32,9,0)","v":{"$error":"#REF!"}},{"$f":"IF(#REF!=33,8,0)","v":{"$error":"#REF!"}},{"$f":"IF(#REF!=34,7,0)","v":{"$error":"#REF!"}},{"$f":"IF(#REF!=35,6,0)","v":{"$error":"#REF!"}},{"$f":"IF(#REF!=36,5,0)","v":{"$error":"#REF!"}},{"$f":"IF(#REF!=37,4,0)","v":{"$error":"#REF!"}},{"$f":"IF(#REF!=38,3,0)","v":{"$error":"#REF!"}},{"$f":"IF(#REF!=39,2,0)","v":{"$error":"#REF!"}},{"$f":"IF(#REF!=40,1,0)","v":{"$error":"#REF!"}},{"$f":"IF(#REF!>20,0,0)","v":{"$error":"#REF!"}},{"$f":"IF(#REF!=\"сх\",0,0)","v":{"$error":"#REF!"}},{"$f":"SUM(CX10:EM10)","v":{"$error":"#REF!"}},null,{"$f":"IF(#REF!=\"сх\",\"ноль\",IF(#REF!>0,#REF!,\"Ноль\"))","v":{"$error":"#REF!"}},{"$f":"IF(#REF!=\"сх\",\"ноль\",IF(#REF!>0,#REF!,\"Ноль\"))","v":{"$error":"#REF!"}},null,{"$f":"MIN(EP10,EQ10)","v":{"$error":"#REF!"}},{"$f":"IF(I10=#REF!,IF(#REF!<#REF!,#REF!,EX10),#REF!)","v":{"$error":"#REF!"}},{"$f":"IF(I10=#REF!,IF(#REF!<#REF!,0,1))","v":{"$error":"#REF!"}},{"$f":"IF(AND(ES10>=21,ES10<>0),ES10,IF(I10<#REF!,\"СТОП\",ET10+EU10))","v":{"$error":"#REF!"}},null,15,16,null,{"$f":"IF(#REF!=1,25,0)","v":{"$error":"#REF!"}},{"$f":"IF(#REF!=2,22,0)","v":{"$error":"#REF!"}},{"$f":"IF(#REF!=3,20,0)","v":{"$error":"#REF!"}},{"$f":"IF(#REF!=4,18,0)","v":{"$error":"#REF!"}},{"$f":"IF(#REF!=5,16,0)","v":{"$error":"#REF!"}},{"$f":"IF(#REF!=6,15,0)","v":{"$error":"#REF!"}},{"$f":"IF(#REF!=7,14,0)","v":{"$error":"#REF!"}},{"$f":"IF(#REF!=8,13,0)","v":{"$error":"#REF!"}},{"$f":"IF(#REF!=9,12,0)","v":{"$error":"#REF!"}},{"$f":"IF(#REF!=10,11,0)","v":{"$error":"#REF!"}},{"$f":"IF(#REF!=11,10,0)","v":{"$error":"#REF!"}},{"$f":"IF(#REF!=12,9,0)","v":{"$error":"#REF!"}},{"$f":"IF(#REF!=13,8,0)","v":{"$error":"#REF!"}},{"$f":"IF(#REF!=14,7,0)","v":{"$error":"#REF!"}},{"$f":"IF(#REF!=15,6,0)","v":{"$error":"#REF!"}},{"$f":"IF(#REF!=16,5,0)","v":{"$error":"#REF!"}},{"$f":"IF(#REF!=17,4,0)","v":{"$error":"#REF!"}},{"$f":"IF(#REF!=18,3,0)","v":{"$error":"#REF!"}},{"$f":"IF(#REF!=19,2,0)","v":{"$error":"#REF!"}},{"$f":"IF(#REF!=20,1,0)","v":{"$error":"#REF!"}},{"$f":"IF(#REF!>20,0,0)","v":{"$error":"#REF!"}},{"$f":"IF(#REF!=\"сх\",0,0)","v":{"$error":"#REF!"}},{"$f":"SUM(FA10:FV10)","v":{"$error":"#REF!"}},{"$f":"IF(#REF!=1,25,0)","v":{"$error":"#REF!"}},{"$f":"IF(#REF!=2,22,0)","v":{"$error":"#REF!"}},{"$f":"IF(#REF!=3,20,0)","v":{"$error":"#REF!"}},{"$f":"IF(#REF!=4,18,0)","v":{"$error":"#REF!"}},{"$f":"IF(#REF!=5,16,0)","v":{"$error":"#REF!"}},{"$f":"IF(#REF!=6,15,0)","v":{"$error":"#REF!"}},{"$f":"IF(#REF!=7,14,0)","v":{"$error":"#REF!"}},{"$f":"IF(#REF!=8,13,0)","v":{"$error":"#REF!"}},{"$f":"IF(#REF!=9,12,0)","v":{"$error":"#REF!"}},{"$f":"IF(#REF!=10,11,0)","v":{"$error":"#REF!"}},{"$f":"IF(#REF!=11,10,0)","v":{"$error":"#REF!"}},{"$f":"IF(#REF!=12,9,0)","v":{"$error":"#REF!"}},{"$f":"IF(#REF!=13,8,0)","v":{"$error":"#REF!"}},{"$f":"IF(#REF!=14,7,0)","v":{"$error":"#REF!"}},{"$f":"IF(#REF!=15,6,0)","v":{"$error":"#REF!"}},{"$f":"IF(#REF!=16,5,0)","v":{"$error":"#REF!"}},{"$f":"IF(#REF!=17,4,0)","v":{"$error":"#REF!"}},{"$f":"IF(#REF!=18,3,0)","v":{"$error":"#REF!"}},{"$f":"IF(#REF!=19,2,0)","v":{"$error":"#REF!"}},{"$f":"IF(#REF!=20,1,0)","v":{"$error":"#REF!"}},{"$f":"IF(#REF!>20,0,0)","v":{"$error":"#REF!"}},{"$f":"IF(#REF!=\"сх\",0,0)","v":{"$error":"#REF!"}},{"$f":"SUM(FX10:GS10)","v":{"$error":"#REF!"}},{"$f":"IF(#REF!=1,100,0)","v":{"$error":"#REF!"}},{"$f":"IF(#REF!=2,98,0)","v":{"$error":"#REF!"}},{"$f":"IF(#REF!=3,95,0)","v":{"$error":"#REF!"}},{"$f":"IF(#REF!=4,93,0)","v":{"$error":"#REF!"}},{"$f":"IF(#REF!=5,90,0)","v":{"$error":"#REF!"}},{"$f":"IF(#REF!=6,88,0)","v":{"$error":"#REF!"}},{"$f":"IF(#REF!=7,85,0)","v":{"$error":"#REF!"}},{"$f":"IF(#REF!=8,83,0)","v":{"$error":"#REF!"}},{"$f":"IF(#REF!=9,80,0)","v":{"$error":"#REF!"}},{"$f":"IF(#REF!=10,78,0)","v":{"$error":"#REF!"}},{"$f":"IF(#REF!=11,75,0)","v":{"$error":"#REF!"}},{"$f":"IF(#REF!=12,73,0)","v":{"$error":"#REF!"}},{"$f":"IF(#REF!=13,70,0)","v":{"$error":"#REF!"}},{"$f":"IF(#REF!=14,68,0)","v":{"$error":"#REF!"}},{"$f":"IF(#REF!=15,65,0)","v":{"$error":"#REF!"}},{"$f":"IF(#REF!=16,63,0)","v":{"$error":"#REF!"}},{"$f":"IF(#REF!=17,60,0)","v":{"$error":"#REF!"}},{"$f":"IF(#REF!=18,58,0)","v":{"$error":"#REF!"}},{"$f":"IF(#REF!=19,55,0)","v":{"$error":"#REF!"}},{"$f":"IF(#REF!=20,53,0)","v":{"$error":"#REF!"}},{"$f":"IF(#REF!>20,0,0)","v":{"$error":"#REF!"}},{"$f":"IF(#REF!=\"сх\",0,0)","v":{"$error":"#REF!"}},{"$f":"SUM(GU10:HP10)","v":{"$error":"#REF!"}},{"$f":"IF(#REF!=1,100,0)","v":{"$error":"#REF!"}},{"$f":"IF(#REF!=2,98,0)","v":{"$error":"#REF!"}},{"$f":"IF(#REF!=3,95,0)","v":{"$error":"#REF!"}},{"$f":"IF(#REF!=4,93,0)","v":{"$error":"#REF!"}},{"$f":"IF(#REF!=5,90,0)","v":{"$error":"#REF!"}},{"$f":"IF(#REF!=6,88,0)","v":{"$error":"#REF!"}},{"$f":"IF(#REF!=7,85,0)","v":{"$error":"#REF!"}},{"$f":"IF(#REF!=8,83,0)","v":{"$error":"#REF!"}},{"$f":"IF(#REF!=9,80,0)","v":{"$error":"#REF!"}},{"$f":"IF(#REF!=10,78,0)","v":{"$error":"#REF!"}},{"$f":"IF(#REF!=11,75,0)","v":{"$error":"#REF!"}},{"$f":"IF(#REF!=12,73,0)","v":{"$error":"#REF!"}},{"$f":"IF(#REF!=13,70,0)","v":{"$error":"#REF!"}},{"$f":"IF(#REF!=14,68,0)","v":{"$error":"#REF!"}},{"$f":"IF(#REF!=15,65,0)","v":{"$error":"#REF!"}},{"$f":"IF(#REF!=16,63,0)","v":{"$error":"#REF!"}},{"$f":"IF(#REF!=17,60,0)","v":{"$error":"#REF!"}},{"$f":"IF(#REF!=18,58,0)","v":{"$error":"#REF!"}},{"$f":"IF(#REF!=19,55,0)","v":{"$error":"#REF!"}},{"$f":"IF(#REF!=20,53,0)","v":{"$error":"#REF!"}},{"$f":"IF(#REF!>20,0,0)","v":{"$error":"#REF!"}},{"$f":"IF(#REF!=\"сх\",0,0)","v":{"$error":"#REF!"}},{"$f":"SUM(HR10:IM10)","v":{"$error":"#REF!"}}]
[3,4.5999999999999996,14,"Жовтоног Максим","б/р","г. Надым, Ямало-Ненецкий","СТК \"Форсаж\"","Polaris",20,{"$f":"#REF!+#REF!","v":{"$error":"#REF!"}},null,null,{"$f":"IF(#REF!=1,25,0)","v":{"$error":"#REF!"}},{"$f":"IF(#REF!=2,22,0)","v":{"$error":"#REF!"}},{"$f":"IF(#REF!=3,20,0)","v":{"$error":"#REF!"}},{"$f":"IF(#REF!=4,18,0)","v":{"$error":"#REF!"}},{"$f":"IF(#REF!=5,16,0)","v":{"$error":"#REF!"}},{"$f":"IF(#REF!=6,15,0)","v":{"$error":"#REF!"}},{"$f":"IF(#REF!=7,14,0)","v":{"$error":"#REF!"}},{"$f":"IF(#REF!=8,13,0)","v":{"$error":"#REF!"}},{"$f":"IF(#REF!=9,12,0)","v":{"$error":"#REF!"}},{"$f":"IF(#REF!=10,11,0)","v":{"$error":"#REF!"}},{"$f":"IF(#REF!=11,10,0)","v":{"$error":"#REF!"}},{"$f":"IF(#REF!=12,9,0)","v":{"$error":"#REF!"}},{"$f":"IF(#REF!=13,8,0)","v":{"$error":"#REF!"}},{"$f":"IF(#REF!=14,7,0)","v":{"$error":"#REF!"}},{"$f":"IF(#REF!=15,6,0)","v":{"$error":"#REF!"}},{"$f":"IF(#REF!=16,5,0)","v":{"$error":"#REF!"}},{"$f":"IF(#REF!=17,4,0)","v":{"$error":"#REF!"}},{"$f":"IF(#REF!=18,3,0)","v":{"$error":"#REF!"}},{"$f":"IF(#REF!=19,2,0)","v":{"$error":"#REF!"}},{"$f":"IF(#REF!=20,1,0)","v":{"$error":"#REF!"}},{"$f":"IF(#REF!>20,0,0)","v":{"$error":"#REF!"}},{"$f":"IF(#REF!=\"сх\",0,0)","v":{"$error":"#REF!"}},{"$error":"#REF!"},{"$f":"IF(#REF!=1,25,0)","v":{"$error":"#REF!"}},{"$f":"IF(#REF!=2,22,0)","v":{"$error":"#REF!"}},{"$f":"IF(#REF!=3,20,0)","v":{"$error":"#REF!"}},{"$f":"IF(#REF!=4,18,0)","v":{"$error":"#REF!"}},{"$f":"IF(#REF!=5,16,0)","v":{"$error":"#REF!"}},{"$f":"IF(#REF!=6,15,0)","v":{"$error":"#REF!"}},{"$f":"IF(#REF!=7,14,0)","v":{"$error":"#REF!"}},{"$f":"IF(#REF!=8,13,0)","v":{"$error":"#REF!"}},{"$f":"IF(#REF!=9,12,0)","v":{"$error":"#REF!"}},{"$f":"IF(#REF!=10,11,0)","v":{"$error":"#REF!"}},{"$f":"IF(#REF!=11,10,0)","v":{"$error":"#REF!"}},{"$f":"IF(#REF!=12,9,0)","v":{"$error":"#REF!"}},{"$f":"IF(#REF!=13,8,0)","v":{"$error":"#REF!"}},{"$f":"IF(#REF!=14,7,0)","v":{"$error":"#REF!"}},{"$f":"IF(#REF!=15,6,0)","v":{"$error":"#REF!"}},{"$f":"IF(#REF!=16,5,0)","v":{"$error":"#REF!"}},{"$f":"IF(#REF!=17,4,0)","v":{"$error":"#REF!"}},{"$f":"IF(#REF!=18,3,0)","v":{"$error":"#REF!"}},{"$f":"IF(#REF!=19,2,0)","v":{"$error":"#REF!"}},{"$f":"IF(#REF!=20,1,0)","v":{"$error":"#REF!"}},{"$f":"IF(#REF!>20,0,0)","v":{"$error":"#REF!"}},{"$f":"IF(#REF!=\"сх\",0,0)","v":{"$error":"#REF!"}},{"$error":"#REF!"},{"$f":"IF(#REF!=1,45,0)","v":{"$error":"#REF!"}},{"$f":"IF(#REF!=2,42,0)","v":{"$error":"#REF!"}},{"$f":"IF(#REF!=3,40,0)","v":{"$error":"#REF!"}},{"$f":"IF(#REF!=4,38,0)","v":{"$error":"#REF!"}},{"$f":"IF(#REF!=5,36,0)","v":{"$error":"#REF!"}},{"$f":"IF(#REF!=6,35,0)","v":{"$error":"#REF!"}},{"$f":"IF(#REF!=7,34,0)","v":{"$error":"#REF!"}},{"$f":"IF(#REF!=8,33,0)","v":{"$error":"#REF!"}},{"$f":"IF(#REF!=9,32,0)","v":{"$error":"#REF!"}},{"$f":"IF(#REF!=10,31,0)","v":{"$error":"#REF!"}},{"$f":"IF(#REF!=11,30,0)","v":{"$error":"#REF!"}},{"$f":"IF(#REF!=12,29,0)","v":{"$error":"#REF!"}},{"$f":"IF(#REF!=13,28,0)","v":{"$error":"#REF!"}},{"$f":"IF(#REF!=14,27,0)","v":{"$error":"#REF!"}},{"$f":"IF(#REF!=15,26,0)","v":{"$error":"#REF!"}},{"$f":"IF(#REF!=16,25,0)","v":{"$error":"#REF!"}},{"$f":"IF(#REF!=17,24,0)","v":{"$error":"#REF!"}},{"$f":"IF(#REF!=18,23,0)","v":{"$error":"#REF!"}},{"$f":"IF(#REF!=19,22,0)","v":{"$error":"#REF!"}},{"$f":"IF(#REF!=20,21,0)","v":{"$error":"#REF!"}},{"$f":"IF(#REF!=21,20,0)","v":{"$error":"#REF!"}},{"$f":"IF(#REF!=22,19,0)","v":{"$error":"#REF!"}},{"$f":"IF(#REF!=23,18,0)","v":{"$error":"#REF!"}},{"$f":"IF(#REF!=24,17,0)","v":{"$error":"#REF!"}},{"$f":"IF(#REF!=25,16,0)","v":{"$error":"#REF!"}},{"$f":"IF(#REF!=26,15,0)","v":{"$error":"#REF!"}},{"$f":"IF(#REF!=27,14,0)","v":{"$error":"#REF!"}},{"$f":"IF(#REF!=28,13,0)","v":{"$error":"#REF!"}},{"$f":"IF(#REF!=29,12,0)","v":{"$error":"#REF!"}},{"$f":"IF(#REF!=30,11,0)","v":{"$error":"#REF!"}},{"$f":"IF(#REF!=31,10,0)","v":{"$error":"#REF!"}},{"$f":"IF(#REF!=32,9,0)","v":{"$error":"#REF!"}},{"$f":"IF(#REF!=33,8,0)","v":{"$error":"#REF!"}},{"$f":"IF(#REF!=34,7,0)","v":{"$error":"#REF!"}},{"$f":"IF(#REF!=35,6,0)","v":{"$error":"#REF!"}},{"$f":"IF(#REF!=36,5,0)","v":{"$error":"#REF!"}},{"$f":"IF(#REF!=37,4,0)","v":{"$error":"#REF!"}},{"$f":"IF(#REF!=38,3,0)","v":{"$error":"#REF!"}},{"$f":"IF(#REF!=39,2,0)","v":{"$error":"#REF!"}},{"$f":"IF(#REF!=40,1,0)","v":{"$error":"#REF!"}},{"$f":"IF(#REF!>20,0,0)","v":{"$error":"#REF!"}},{"$f":"IF(#REF!=\"сх\",0,0)","v":{"$error":"#REF!"}},{"$error":"#REF!"},{"$f":"IF(#REF!=1,45,0)","v":{"$error":"#REF!"}},{"$f":"IF(#REF!=2,42,0)","v":{"$error":"#REF!"}},{"$f":"IF(#REF!=3,40,0)","v":{"$error":"#REF!"}},{"$f":"IF(#REF!=4,38,0)","v":{"$error":"#REF!"}},{"$f":"IF(#REF!=5,36,0)","v":{"$error":"#REF!"}},{"$f":"IF(#REF!=6,35,0)","v":{"$error":"#REF!"}},{"$f":"IF(#REF!=7,34,0)","v":{"$error":"#REF!"}},{"$f":"IF(#REF!=8,33,0)","v":{"$error":"#REF!"}},{"$f":"IF(#REF!=9,32,0)","v":{"$error":"#REF!"}},{"$f":"IF(#REF!=10,31,0)","v":{"$error":"#REF!"}},{"$f":"IF(#REF!=11,30,0)","v":{"$error":"#REF!"}},{"$f":"IF(#REF!=12,29,0)","v":{"$error":"#REF!"}},{"$f":"IF(#REF!=13,28,0)","v":{"$error":"#REF!"}},{"$f":"IF(#REF!=14,27,0)","v":{"$error":"#REF!"}},{"$f":"IF(#REF!=15,26,0)","v":{"$error":"#REF!"}},{"$f":"IF(#REF!=16,25,0)","v":{"$error":"#REF!"}},{"$f":"IF(#REF!=17,24,0)","v":{"$error":"#REF!"}},{"$f":"IF(#REF!=18,23,0)","v":{"$error":"#REF!"}},{"$f":"IF(#REF!=19,22,0)","v":{"$error":"#REF!"}},{"$f":"IF(#REF!=20,21,0)","v":{"$error":"#REF!"}},{"$f":"IF(#REF!=21,20,0)","v":{"$error":"#REF!"}},{"$f":"IF(#REF!=22,19,0)","v":{"$error":"#REF!"}},{"$f":"IF(#REF!=23,18,0)","v":{"$error":"#REF!"}},{"$f":"IF(#REF!=24,17,0)","v":{"$error":"#REF!"}},{"$f":"IF(#REF!=25,16,0)","v":{"$error":"#REF!"}},{"$f":"IF(#REF!=26,15,0)","v":{"$error":"#REF!"}},{"$f":"IF(#REF!=27,14,0)","v":{"$error":"#REF!"}},{"$f":"IF(#REF!=28,13,0)","v":{"$error":"#REF!"}},{"$f":"IF(#REF!=29,12,0)","v":{"$error":"#REF!"}},{"$f":"IF(#REF!=30,11,0)","v":{"$error":"#REF!"}},{"$f":"IF(#REF!=31,10,0)","v":{"$error":"#REF!"}},{"$f":"IF(#REF!=32,9,0)","v":{"$error":"#REF!"}},{"$f":"IF(#REF!=33,8,0)","v":{"$error":"#REF!"}},{"$f":"IF(#REF!=34,7,0)","v":{"$error":"#REF!"}},{"$f":"IF(#REF!=35,6,0)","v":{"$error":"#REF!"}},{"$f":"IF(#REF!=36,5,0)","v":{"$error":"#REF!"}},{"$f":"IF(#REF!=37,4,0)","v":{"$error":"#REF!"}},{"$f":"IF(#REF!=38,3,0)","v":{"$error":"#REF!"}},{"$f":"IF(#REF!=39,2,0)","v":{"$error":"#REF!"}},{"$f":"IF(#REF!=40,1,0)","v":{"$error":"#REF!"}},{"$f":"IF(#REF!>20,0,0)","v":{"$error":"#REF!"}},{"$f":"IF(#REF!=\"сх\",0,0)","v":{"$error":"#REF!"}},{"$error":"#REF!"},null,{"$f":"IF(#REF!=\"сх\",\"ноль\",IF(#REF!>0,#REF!,\"Ноль\"))","v":{"$error":"#REF!"}},{"$f":"IF(#REF!=\"сх\",\"ноль\",IF(#REF!>0,#REF!,\"Ноль\"))","v":{"$error":"#REF!"}},null,{"$error":"#REF!"},{"$f":"IF(I11=#REF!,IF(#REF!<#REF!,#REF!,EX11),#REF!)","v":{"$error":"#REF!"}},{"$f":"IF(I11=#REF!,IF(#REF!<#REF!,0,1))","v":{"$error":"#REF!"}},{"$f":"IF(AND(ES11>=21,ES11<>0),ES11,IF(I11<#REF!,\"СТОП\",ET11+EU11))","v":{"$error":"#REF!"}},null,15,16,null,{"$f":"IF(#REF!=1,25,0)","v":{"$error":"#REF!"}},{"$f":"IF(#REF!=2,22,0)","v":{"$error":"#REF!"}},{"$f":"IF(#REF!=3,20,0)","v":{"$error":"#REF!"}},{"$f":"IF(#REF!=4,18,0)","v":{"$error":"#REF!"}},{"$f":"IF(#REF!=5,16,0)","v":{"$error":"#REF!"}},{"$f":"IF(#REF!=6,15,0)","v":{"$error":"#REF!"}},{"$f":"IF(#REF!=7,14,0)","v":{"$error":"#REF!"}},{"$f":"IF(#REF!=8,13,0)","v":{"$error":"#REF!"}},{"$f":"IF(#REF!=9,12,0)","v":{"$error":"#REF!"}},{"$f":"IF(#REF!=10,11,0)","v":{"$error":"#REF!"}},{"$f":"IF(#REF!=11,10,0)","v":{"$error":"#REF!"}},{"$f":"IF(#REF!=12,9,0)","v":{"$error":"#REF!"}},{"$f":"IF(#REF!=13,8,0)","v":{"$error":"#REF!"}},{"$f":"IF(#REF!=14,7,0)","v":{"$error":"#REF!"}},{"$f":"IF(#REF!=15,6,0)","v":{"$error":"#REF!"}},{"$f":"IF(#REF!=16,5,0)","v":{"$error":"#REF!"}},{"$f":"IF(#REF!=17,4,0)","v":{"$error":"#REF!"}},{"$f":"IF(#REF!=18,3,0)","v":{"$error":"#REF!"}},{"$f":"IF(#REF!=19,2,0)","v":{"$error":"#REF!"}},{"$f":"IF(#REF!=20,1,0)","v":{"$error":"#REF!"}},{"$f":"IF(#REF!>20,0,0)","v":{"$error":"#REF!"}},{"$f":"IF(#REF!=\"сх\",0,0)","v":{"$error":"#REF!"}},{"$error":"#REF!"},{"$f":"IF(#REF!=1,25,0)","v":{"$error":"#REF!"}},{"$f":"IF(#REF!=2,22,0)","v":{"$error":"#REF!"}},{"$f":"IF(#REF!=3,20,0)","v":{"$error":"#REF!"}},{"$f":"IF(#REF!=4,18,0)","v":{"$error":"#REF!"}},{"$f":"IF(#REF!=5,16,0)","v":{"$error":"#REF!"}},{"$f":"IF(#REF!=6,15,0)","v":{"$error":"#REF!"}},{"$f":"IF(#REF!=7,14,0)","v":{"$error":"#REF!"}},{"$f":"IF(#REF!=8,13,0)","v":{"$error":"#REF!"}},{"$f":"IF(#REF!=9,12,0)","v":{"$error":"#REF!"}},{"$f":"IF(#REF!=10,11,0)","v":{"$error":"#REF!"}},{"$f":"IF(#REF!=11,10,0)","v":{"$error":"#REF!"}},{"$f":"IF(#REF!=12,9,0)","v":{"$error":"#REF!"}},{"$f":"IF(#REF!=13,8,0)","v":{"$error":"#REF!"}},{"$f":"IF(#REF!=14,7,0)","v":{"$error":"#REF!"}},{"$f":"IF(#REF!=15,6,0)","v":{"$error":"#REF!"}},{"$f":"IF(#REF!=16,5,0)","v":{"$error":"#REF!"}},{"$f":"IF(#REF!=17,4,0)","v":{"$error":"#REF!"}},{"$f":"IF(#REF!=18,3,0)","v":{"$error":"#REF!"}},{"$f":"IF(#REF!=19,2,0)","v":{"$error":"#REF!"}},{"$f":"IF(#REF!=20,1,0)","v":{"$error":"#REF!"}},{"$f":"IF(#REF!>20,0,0)","v":{"$error":"#REF!"}},{"$f":"IF(#REF!=\"сх\",0,0)","v":{"$error":"#REF!"}},{"$error":"#REF!"},{"$f":"IF(#REF!=1,100,0)","v":{"$error":"#REF!"}},{"$f":"IF(#REF!=2,98,0)","v":{"$error":"#REF!"}},{"$f":"IF(#REF!=3,95,0)","v":{"$error":"#REF!"}},{"$f":"IF(#REF!=4,93,0)","v":{"$error":"#REF!"}},{"$f":"IF(#REF!=5,90,0)","v":{"$error":"#REF!"}},{"$f":"IF(#REF!=6,88,0)","v":{"$error":"#REF!"}},{"$f":"IF(#REF!=7,85,0)","v":{"$error":"#REF!"}},{"$f":"IF(#REF!=8,83,0)","v":{"$error":"#REF!"}},{"$f":"IF(#REF!=9,80,0)","v":{"$error":"#REF!"}},{"$f":"IF(#REF!=10,78,0)","v":{"$error":"#REF!"}},{"$f":"IF(#REF!=11,75,0)","v":{"$error":"#REF!"}},{"$f":"IF(#REF!=12,73,0)","v":{"$error":"#REF!"}},{"$f":"IF(#REF!=13,70,0)","v":{"$error":"#REF!"}},{"$f":"IF(#REF!=14,68,0)","v":{"$error":"#REF!"}},{"$f":"IF(#REF!=15,65,0)","v":{"$error":"#REF!"}},{"$f":"IF(#REF!=16,63,0)","v":{"$error":"#REF!"}},{"$f":"IF(#REF!=17,60,0)","v":{"$error":"#REF!"}},{"$f":"IF(#REF!=18,58,0)","v":{"$error":"#REF!"}},{"$f":"IF(#REF!=19,55,0)","v":{"$error":"#REF!"}},{"$f":"IF(#REF!=20,53,0)","v":{"$error":"#REF!"}},{"$f":"IF(#REF!>20,0,0)","v":{"$error":"#REF!"}},{"$f":"IF(#REF!=\"сх\",0,0)","v":{"$error":"#REF!"}},{"$error":"#REF!"},{"$f":"IF(#REF!=1,100,0)","v":{"$error":"#REF!"}},{"$f":"IF(#REF!=2,98,0)","v":{"$error":"#REF!"}},{"$f":"IF(#REF!=3,95,0)","v":{"$error":"#REF!"}},{"$f":"IF(#REF!=4,93,0)","v":{"$error":"#REF!"}},{"$f":"IF(#REF!=5,90,0)","v":{"$error":"#REF!"}},{"$f":"IF(#REF!=6,88,0)","v":{"$error":"#REF!"}},{"$f":"IF(#REF!=7,85,0)","v":{"$error":"#REF!"}},{"$f":"IF(#REF!=8,83,0)","v":{"$error":"#REF!"}},{"$f":"IF(#REF!=9,80,0)","v":{"$error":"#REF!"}},{"$f":"IF(#REF!=10,78,0)","v":{"$error":"#REF!"}},{"$f":"IF(#REF!=11,75,0)","v":{"$error":"#REF!"}},{"$f":"IF(#REF!=12,73,0)","v":{"$error":"#REF!"}},{"$f":"IF(#REF!=13,70,0)","v":{"$error":"#REF!"}},{"$f":"IF(#REF!=14,68,0)","v":{"$error":"#REF!"}},{"$f":"IF(#REF!=15,65,0)","v":{"$error":"#REF!"}},{"$f":"IF(#REF!=16,63,0)","v":{"$error":"#REF!"}},{"$f":"IF(#REF!=17,60,0)","v":{"$error":"#REF!"}},{"$f":"IF(#REF!=18,58,0)","v":{"$error":"#REF!"}},{"$f":"IF(#REF!=19,55,0)","v":{"$error":"#REF!"}},{"$f":"IF(#REF!=20,53,0)","v":{"$error":"#REF!"}},{"$f":"IF(#REF!>20,0,0)","v":{"$error":"#REF!"}},{"$f":"IF(#REF!=\"сх\",0,0)","v":{"$error":"#REF!"}},{"$error":"#REF!"}]
[4,4.5,2,"Бармин Ярослав","б/р","г. Новый Уренгой, Ямало-Ненецкий АО","СТК \"Ямбург\"","Тайга",18,{"$f":"#REF!+#REF!","v":{"$error":"#REF!"}},null,null,{"$f":"IF(#REF!=1,25,0)","v":{"$error":"#REF!"}},{"$f":"IF(#REF!=2,22,0)","v":{"$error":"#REF!"}},{"$f":"IF(#REF!=3,20,0)","v":{"$error":"#REF!"}},{"$f":"IF(#REF!=4,18,0)","v":{"$error":"#REF!"}},{"$f":"IF(#REF!=5,16,0)","v":{"$error":"#REF!"}},{"$f":"IF(#REF!=6,15,0)","v":{"$error":"#REF!"}},{"$f":"IF(#REF!=7,14,0)","v":{"$error":"#REF!"}},{"$f":"IF(#REF!=8,13,0)","v":{"$error":"#REF!"}},{"$f":"IF(#REF!=9,12,0)","v":{"$error":"#REF!"}},{"$f":"IF(#REF!=10,11,0)","v":{"$error":"#REF!"}},{"$f":"IF(#REF!=11,10,0)","v":{"$error":"#REF!"}},{"$f":"IF(#REF!=12,9,0)","v":{"$error":"#REF!"}},{"$f":"IF(#REF!=13,8,0)","v":{"$error":"#REF!"}},{"$f":"IF(#REF!=14,7,0)","v":{"$error":"#REF!"}},{"$f":"IF(#REF!=15,6,0)","v":{"$error":"#REF!"}},{"$f":"IF(#REF!=16,5,0)","v":{"$error":"#REF!"}},{"$f":"IF(#REF!=17,4,0)","v":{"$error":"#REF!"}},{"$f":"IF(#REF!=18,3,0)","v":{"$error":"#REF!"}},{"$f":"IF(#REF!=19,2,0)","v":{"$error":"#REF!"}},{"$f":"IF(#REF!=20,1,0)","v":{"$error":"#REF!"}},{"$f":"IF(#REF!>20,0,0)","v":{"$error":"#REF!"}},{"$f":"IF(#REF!=\"сх\",0,0)","v":{"$error":"#REF!"}},{"$f":"SUM(M12:AG12)","v":{"$error":"#REF!"}},{"$f":"IF(#REF!=1,25,0)","v":{"$error":"#REF!"}},{"$f":"IF(#REF!=2,22,0)","v":{"$error":"#REF!"}},{"$f":"IF(#REF!=3,20,0)","v":{"$error":"#REF!"}},{"$f":"IF(#REF!=4,18,0)","v":{"$error":"#REF!"}},{"$f":"IF(#REF!=5,16,0)","v":{"$error":"#REF!"}},{"$f":"IF(#REF!=6,15,0)","v":{"$error":"#REF!"}},{"$f":"IF(#REF!=7,14,0)","v":{"$error":"#REF!"}},{"$f":"IF(#REF!=8,13,0)","v":{"$error":"#REF!"}},{"$f":"IF(#REF!=9,12,0)","v":{"$error":"#REF!"}},{"$f":"IF(#REF!=10,11,0)","v":{"$error":"#REF!"}},{"$f":"IF(#REF!=11,10,0)","v":{"$error":"#REF!"}},{"$f":"IF(#REF!=12,9,0)","v":{"$error":"#REF!"}},{"$f":"IF(#REF!=13,8,0)","v":{"$error":"#REF!"}},{"$f":"IF(#REF!=14,7,0)","v":{"$error":"#REF!"}},{"$f":"IF(#REF!=15,6,0)","v":{"$error":"#REF!"}},{"$f":"IF(#REF!=16,5,0)","v":{"$error":"#REF!"}},{"$f":"IF(#REF!=17,4,0)","v":{"$error":"#REF!"}},{"$f":"IF(#REF!=18,3,0)","v":{"$error":"#REF!"}},{"$f":"IF(#REF!=19,2,0)","v":{"$error":"#REF!"}},{"$f":"IF(#REF!=20,1,0)","v":{"$error":"#REF!"}},{"$f":"IF(#REF!>20,0,0)","v":{"$error":"#REF!"}},{"$f":"IF(#REF!=\"сх\",0,0)","v":{"$error":"#REF!"}},{"$f":"SUM(AJ12:BD12)","v":{"$error":"#REF!"}},{"$f":"IF(#REF!=1,45,0)","v":{"$error":"#REF!"}},{"$f":"IF(#REF!=2,42,0)","v":{"$error":"#REF!"}},{"$f":"IF(#REF!=3,40,0)","v":{"$error":"#REF!"}},{"$f":"IF(#REF!=4,38,0)","v":{"$error":"#REF!"}},{"$f":"IF(#REF!=5,36,0)","v":{"$error":"#REF!"}},{"$f":"IF(#REF!=6,35,0)","v":{"$error":"#REF!"}},{"$f":"IF(#REF!=7,34,0)","v":{"$error":"#REF!"}},{"$f":"IF(#REF!=8,33,0)","v":{"$error":"#REF!"}},{"$f":"IF(#REF!=9,32,0)","v":{"$error":"#REF!"}},{"$f":"IF(#REF!=10,31,0)","v":{"$error":"#REF!"}},{"$f":"IF(#REF!=11,30,0)","v":{"$error":"#REF!"}},{"$f":"IF(#REF!=12,29,0)","v":{"$error":"#REF!"}},{"$f":"IF(#REF!=13,28,0)","v":{"$error":"#REF!"}},{"$f":"IF(#REF!=14,27,0)","v":{"$error":"#REF!"}},{"$f":"IF(#REF!=15,26,0)","v":{"$error":"#REF!"}},{"$f":"IF(#REF!=16,25,0)","v":{"$error":"#REF!"}},{"$f":"IF(#REF!=17,24,0)","v":{"$error":"#REF!"}},{"$f":"IF(#REF!=18,23,0)","v":{"$error":"#REF!"}},{"$f":"IF(#REF!=19,22,0)","v":{"$error":"#REF!"}},{"$f":"IF(#REF!=20,21,0)","v":{"$error":"#REF!"}},{"$f":"IF(#REF!=21,20,0)","v":{"$error":"#REF!"}},{"$f":"IF(#REF!=22,19,0)","v":{"$error":"#REF!"}},{"$f":"IF(#REF!=23,18,0)","v":{"$error":"#REF!"}},{"$f":"IF(#REF!=24,17,0)","v":{"$error":"#REF!"}},{"$f":"IF(#REF!=25,16,0)","v":{"$error":"#REF!"}},{"$f":"IF(#REF!=26,15,0)","v":{"$error":"#REF!"}},{"$f":"IF(#REF!=27,14,0)","v":{"$error":"#REF!"}},{"$f":"IF(#REF!=28,13,0)","v":{"$error":"#REF!"}},{"$f":"IF(#REF!=29,12,0)","v":{"$error":"#REF!"}},{"$f":"IF(#REF!=30,11,0)","v":{"$error":"#REF!"}},{"$f":"IF(#REF!=31,10,0)","v":{"$error":"#REF!"}},{"$f":"IF(#REF!=32,9,0)","v":{"$error":"#REF!"}},{"$f":"IF(#REF!=33,8,0)","v":{"$error":"#REF!"}},{"$f":"IF(#REF!=34,7,0)","v":{"$error":"#REF!"}},{"$f":"IF(#REF!=35,6,0)","v":{"$error":"#REF!"}},{"$f":"IF(#REF!=36,5,0)","v":{"$error":"#REF!"}},{"$f":"IF(#REF!=37,4,0)","v":{"$error":"#REF!"}},{"$f":"IF(#REF!=38,3,0)","v":{"$error":"#REF!"}},{"$f":"IF(#REF!=39,2,0)","v":{"$error":"#REF!"}},{"$f":"IF(#REF!=40,1,0)","v":{"$error":"#REF!"}},{"$f":"IF(#REF!>20,0,0)","v":{"$error":"#REF!"}},{"$f":"IF(#REF!=\"сх\",0,0)","v":{"$error":"#REF!"}},{"$f":"SUM(BG12:CV12)","v":{"$error":"#REF!"}},{"$f":"IF(#REF!=1,45,0)","v":{"$error":"#REF!"}},{"$f":"IF(#REF!=2,42,0)","v":{"$error":"#REF!"}},{"$f":"IF(#REF!=3,40,0)","v":{"$error":"#REF!"}},{"$f":"IF(#REF!=4,38,0)","v":{"$error":"#REF!"}},{"$f":"IF(#REF!=5,36,0)","v":{"$error":"#REF!"}},{"$f":"IF(#REF!=6,35,0)","v":{"$error":"#REF!"}},{"$f":"IF(#REF!=7,34,0)","v":{"$error":"#REF!"}},{"$f":"IF(#REF!=8,33,0)","v":{"$error":"#REF!"}},{"$f":"IF(#REF!=9,32,0)","v":{"$error":"#REF!"}},{"$f":"IF(#REF!=10,31,0)","v":{"$error":"#REF!"}},{"$f":"IF(#REF!=11,30,0)","v":{"$error":"#REF!"}},{"$f":"IF(#REF!=12,29,0)","v":{"$error":"#REF!"}},{"$f":"IF(#REF!=13,28,0)","v":{"$error":"#REF!"}},{"$f":"IF(#REF!=14,27,0)","v":{"$error":"#REF!"}},{"$f":"IF(#REF!=15,26,0)","v":{"$error":"#REF!"}},{"$f":"IF(#REF!=16,25,0)","v":{"$error":"#REF!"}},{"$f":"IF(#REF!=17,24,0)","v":{"$error":"#REF!"}},{"$f":"IF(#REF!=18,23,0)","v":{"$error":"#REF!"}},{"$f":"IF(#REF!=19,22,0)","v":{"$error":"#REF!"}},{"$f":"IF(#REF!=20,21,0)","v":{"$error":"#REF!"}},{"$f":"IF(#REF!=21,20,0)","v":{"$error":"#REF!"}},{"$f":"IF(#REF!=22,19,0)","v":{"$error":"#REF!"}},{"$f":"IF(#REF!=23,18,0)","v":{"$error":"#REF!"}},{"$f":"IF(#REF!=24,17,0)","v":{"$error":"#REF!"}},{"$f":"IF(#REF!=25,16,0)","v":{"$error":"#REF!"}},{"$f":"IF(#REF!=26,15,0)","v":{"$error":"#REF!"}},{"$f":"IF(#REF!=27,14,0)","v":{"$error":"#REF!"}},{"$f":"IF(#REF!=28,13,0)","v":{"$error":"#REF!"}},{"$f":"IF(#REF!=29,12,0)","v":{"$error":"#REF!"}},{"$f":"IF(#REF!=30,11,0)","v":{"$error":"#REF!"}},{"$f":"IF(#REF!=31,10,0)","v":{"$error":"#REF!"}},{"$f":"IF(#REF!=32,9,0)","v":{"$error":"#REF!"}},{"$f":"IF(#REF!=33,8,0)","v":{"$error":"#REF!"}},{"$f":"IF(#REF!=34,7,0)","v":{"$error":"#REF!"}},{"$f":"IF(#REF!=35,6,0)","v":{"$error":"#REF!"}},{"$f":"IF(#REF!=36,5,0)","v":{"$error":"#REF!"}},{"$f":"IF(#REF!=37,4,0)","v":{"$error":"#REF!"}},{"$f":"IF(#REF!=38,3,0)","v":{"$error":"#REF!"}},{"$f":"IF(#REF!=39,2,0)","v":{"$error":"#REF!"}},{"$f":"IF(#REF!=40,1,0)","v":{"$error":"#REF!"}},{"$f":"IF(#REF!>20,0,0)","v":{"$error":"#REF!"}},{"$f":"IF(#REF!=\"сх\",0,0)","v":{"$error":"#REF!"}},{"$f":"SUM(CX12:EM12)","v":{"$error":"#REF!"}},null,{"$f":"IF(#REF!=\"сх\",\"ноль\",IF(#REF!>0,#REF!,\"Ноль\"))","v":{"$error":"#REF!"}},{"$f":"IF(#REF!=\"сх\",\"ноль\",IF(#REF!>0,#REF!,\"Ноль\"))","v":{"$error":"#REF!"}},null,{"$f":"MIN(EP12,EQ12)","v":{"$error":"#REF!"}},{"$f":"IF(I12=#REF!,IF(#REF!<#REF!,#REF!,EX12),#REF!)","v":{"$error":"#REF!"}},{"$f":"IF(I12=#REF!,IF(#REF!<#REF!,0,1))","v":{"$error":"#REF!"}},{"$f":"IF(AND(ES12>=21,ES12<>0),ES12,IF(I12<#REF!,\"СТОП\",ET12+EU12))","v":{"$error":"#REF!"}},null,15,16,null,{"$f":"IF(#REF!=1,25,0)","v":{"$error":"#REF!"}},{"$f":"IF(#REF!=2,22,0)","v":{"$error":"#REF!"}},{"$f":"IF(#REF!=3,20,0)","v":{"$error":"#REF!"}},{"$f":"IF(#REF!=4,18,0)","v":{"$error":"#REF!"}},{"$f":"IF(#REF!=5,16,0)","v":{"$error":"#REF!"}},{"$f":"IF(#REF!=6,15,0)","v":{"$error":"#REF!"}},{"$f":"IF(#REF!=7,14,0)","v":{"$error":"#REF!"}},{"$f":"IF(#REF!=8,13,0)","v":{"$error":"#REF!"}},{"$f":"IF(#REF!=9,12,0)","v":{"$error":"#REF!"}},{"$f":"IF(#REF!=10,11,0)","v":{"$error":"#REF!"}},{"$f":"IF(#REF!=11,10,0)","v":{"$error":"#REF!"}},{"$f":"IF(#REF!=12,9,0)","v":{"$error":"#REF!"}},{"$f":"IF(#REF!=13,8,0)","v":{"$error":"#REF!"}},{"$f":"IF(#REF!=14,7,0)","v":{"$error":"#REF!"}},{"$f":"IF(#REF!=15,6,0)","v":{"$error":"#REF!"}},{"$f":"IF(#REF!=16,5,0)","v":{"$error":"#REF!"}},{"$f":"IF(#REF!=17,4,0)","v":{"$error":"#REF!"}},{"$f":"IF(#REF!=18,3,0)","v":{"$error":"#REF!"}},{"$f":"IF(#REF!=19,2,0)","v":{"$error":"#REF!"}},{"$f":"IF(#REF!=20,1,0)","v":{"$error":"#REF!"}},{"$f":"IF(#REF!>20,0,0)","v":{"$error":"#REF!"}},{"$f":"IF(#REF!=\"сх\",0,0)","v":{"$error":"#REF!"}},{"$f":"SUM(FA12:FV12)","v":{"$error":"#REF!"}},{"$f":"IF(#REF!=1,25,0)","v":{"$error":"#REF!"}},{"$f":"IF(#REF!=2,22,0)","v":{"$error":"#REF!"}},{"$f":"IF(#REF!=3,20,0)","v":{"$error":"#REF!"}},{"$f":"IF(#REF!=4,18,0)","v":{"$error":"#REF!"}},{"$f":"IF(#REF!=5,16,0)","v":{"$error":"#REF!"}},{"$f":"IF(#REF!=6,15,0)","v":{"$error":"#REF!"}},{"$f":"IF(#REF!=7,14,0)","v":{"$error":"#REF!"}},{"$f":"IF(#REF!=8,13,0)","v":{"$error":"#REF!"}},{"$f":"IF(#REF!=9,12,0)","v":{"$error":"#REF!"}},{"$f":"IF(#REF!=10,11,0)","v":{"$error":"#REF!"}},{"$f":"IF(#REF!=11,10,0)","v":{"$error":"#REF!"}},{"$f":"IF(#REF!=12,9,0)","v":{"$error":"#REF!"}},{"$f":"IF(#REF!=13,8,0)","v":{"$error":"#REF!"}},{"$f":"IF(#REF!=14,7,0)","v":{"$error":"#REF!"}},{"$f":"IF(#REF!=15,6,0)","v":{"$error":"#REF!"}},{"$f":"IF(#REF!=16,5,0)","v":{"$error":"#REF!"}},{"$f":"IF(#REF!=17,4,0)","v":{"$error":"#REF!"}},{"$f":"IF(#REF!=18,3,0)","v":{"$error":"#REF!"}},{"$f":"IF(#REF!=19,2,0)","v":{"$error":"#REF!"}},{"$f":"IF(#REF!=20,1,0)","v":{"$error":"#REF!"}},{"$f":"IF(#REF!>20,0,0)","v":{"$error":"#REF!"}},{"$f":"IF(#REF!=\"сх\",0,0)","v":{"$error":"#REF!"}},{"$f":"SUM(FX12:GS12)","v":{"$error":"#REF!"}},{"$f":"IF(#REF!=1,100,0)","v":{"$error":"#REF!"}},{"$f":"IF(#REF!=2,98,0)","v":{"$error":"#REF!"}},{"$f":"IF(#REF!=3,95,0)","v":{"$error":"#REF!"}},{"$f":"IF(#REF!=4,93,0)","v":{"$error":"#REF!"}},{"$f":"IF(#REF!=5,90,0)","v":{"$error":"#REF!"}},{"$f":"IF(#REF!=6,88,0)","v":{"$error":"#REF!"}},{"$f":"IF(#REF!=7,85,0)","v":{"$error":"#REF!"}},{"$f":"IF(#REF!=8,83,0)","v":{"$error":"#REF!"}},{"$f":"IF(#REF!=9,80,0)","v":{"$error":"#REF!"}},{"$f":"IF(#REF!=10,78,0)","v":{"$error":"#REF!"}},{"$f":"IF(#REF!=11,75,0)","v":{"$error":"#REF!"}},{"$f":"IF(#REF!=12,73,0)","v":{"$error":"#REF!"}},{"$f":"IF(#REF!=13,70,0)","v":{"$error":"#REF!"}},{"$f":"IF(#REF!=14,68,0)","v":{"$error":"#REF!"}},{"$f":"IF(#REF!=15,65,0)","v":{"$error":"#REF!"}},{"$f":"IF(#REF!=16,63,0)","v":{"$error":"#REF!"}},{"$f":"IF(#REF!=17,60,0)","v":{"$error":"#REF!"}},{"$f":"IF(#REF!=18,58,0)","v":{"$error":"#REF!"}},{"$f":"IF(#REF!=19,55,0)","v":{"$error":"#REF!"}},{"$f":"IF(#REF!=20,53,0)","v":{"$error":"#REF!"}},{"$f":"IF(#REF!>20,0,0)","v":{"$error":"#REF!"}},{"$f":"IF(#REF!=\"сх\",0,0)","v":{"$error":"#REF!"}},{"$f":"SUM(GU12:HP12)","v":{"$error":"#REF!"}},{"$f":"IF(#REF!=1,100,0)","v":{"$error":"#REF!"}},{"$f":"IF(#REF!=2,98,0)","v":{"$error":"#REF!"}},{"$f":"IF(#REF!=3,95,0)","v":{"$error":"#REF!"}},{"$f":"IF(#REF!=4,93,0)","v":{"$error":"#REF!"}},{"$f":"IF(#REF!=5,90,0)","v":{"$error":"#REF!"}},{"$f":"IF(#REF!=6,88,0)","v":{"$error":"#REF!"}},{"$f":"IF(#REF!=7,85,0)","v":{"$error":"#REF!"}},{"$f":"IF(#REF!=8,83,0)","v":{"$error":"#REF!"}},{"$f":"IF(#REF!=9,80,0)","v":{"$error":"#REF!"}},{"$f":"IF(#REF!=10,78,0)","v":{"$error":"#REF!"}},{"$f":"IF(#REF!=11,75,0)","v":{"$error":"#REF!"}},{"$f":"IF(#REF!=12,73,0)","v":{"$error":"#REF!"}},{"$f":"IF(#REF!=13,70,0)","v":{"$error":"#REF!"}},{"$f":"IF(#REF!=14,68,0)","v":{"$error":"#REF!"}},{"$f":"IF(#REF!=15,65,0)","v":{"$error":"#REF!"}},{"$f":"IF(#REF!=16,63,0)","v":{"$error":"#REF!"}},{"$f":"IF(#REF!=17,60,0)","v":{"$error":"#REF!"}},{"$f":"IF(#REF!=18,58,0)","v":{"$error":"#REF!"}},{"$f":"IF(#REF!=19,55,0)","v":{"$error":"#REF!"}},{"$f":"IF(#REF!=20,53,0)","v":{"$error":"#REF!"}},{"$f":"IF(#REF!>20,0,0)","v":{"$error":"#REF!"}},{"$f":"IF(#REF!=\"сх\",0,0)","v":{"$error":"#REF!"}},{"$f":"SUM(HR12:IM12)","v":{"$error":"#REF!"}}]
[5,4.4000000000000004,13,"Чернюк Дмитрий","б/р","г. Новый Уренгой, Ямало-Ненецкий АО","СТК \"Факел\"","Arctic-Cat",17,{"$f":"#REF!+#REF!","v":{"$error":"#REF!"}},null,null,{"$f":"IF(#REF!=1,25,0)","v":{"$error":"#REF!"}},{"$f":"IF(#REF!=2,22,0)","v":{"$error":"#REF!"}},{"$f":"IF(#REF!=3,20,0)","v":{"$error":"#REF!"}},{"$f":"IF(#REF!=4,18,0)","v":{"$error":"#REF!"}},{"$f":"IF(#REF!=5,16,0)","v":{"$error":"#REF!"}},{"$f":"IF(#REF!=6,15,0)","v":{"$error":"#REF!"}},{"$f":"IF(#REF!=7,14,0)","v":{"$error":"#REF!"}},{"$f":"IF(#REF!=8,13,0)","v":{"$error":"#REF!"}},{"$f":"IF(#REF!=9,12,0)","v":{"$error":"#REF!"}},{"$f":"IF(#REF!=10,11,0)","v":{"$error":"#REF!"}},{"$f":"IF(#REF!=11,10,0)","v":{"$error":"#REF!"}},{"$f":"IF(#REF!=12,9,0)","v":{"$error":"#REF!"}},{"$f":"IF(#REF!=13,8,0)","v":{"$error":"#REF!"}},{"$f":"IF(#REF!=14,7,0)","v":{"$error":"#REF!"}},{"$f":"IF(#REF!=15,6,0)","v":{"$error":"#REF!"}},{"$f":"IF(#REF!=16,5,0)","v":{"$error":"#REF!"}},{"$f":"IF(#REF!=17,4,0)","v":{"$error":"#REF!"}},{"$f":"IF(#REF!=18,3,0)","v":{"$error":"#REF!"}},{"$f":"IF(#REF!=19,2,0)","v":{"$error":"#REF!"}},{"$f":"IF(#REF!=20,1,0)","v":{"$error":"#REF!"}},{"$f":"IF(#REF!>20,0,0)","v":{"$error":"#REF!"}},{"$f":"IF(#REF!=\"сх\",0,0)","v":{"$error":"#REF!"}},{"$error":"#REF!"},{"$f":"IF(#REF!=1,25,0)","v":{"$error":"#REF!"}},{"$f":"IF(#REF!=2,22,0)","v":{"$error":"#REF!"}},{"$f":"IF(#REF!=3,20,0)","v":{"$error":"#REF!"}},{"$f":"IF(#REF!=4,18,0)","v":{"$error":"#REF!"}},{"$f":"IF(#REF!=5,16,0)","v":{"$error":"#REF!"}},{"$f":"IF(#REF!=6,15,0)","v":{"$error":"#REF!"}},{"$f":"IF(#REF!=7,14,0)","v":{"$error":"#REF!"}},{"$f":"IF(#REF!=8,13,0)","v":{"$error":"#REF!"}},{"$f":"IF(#REF!=9,12,0)","v":{"$error":"#REF!"}},{"$f":"IF(#REF!=10,11,0)","v":{"$error":"#REF!"}},{"$f":"IF(#REF!=11,10,0)","v":{"$error":"#REF!"}},{"$f":"IF(#REF!=12,9,0)","v":{"$error":"#REF!"}},{"$f":"IF(#REF!=13,8,0)","v":{"$error":"#REF!"}},{"$f":"IF(#REF!=14,7,0)","v":{"$error":"#REF!"}},{"$f":"IF(#REF!=15,6,0)","v":{"$error":"#REF!"}},{"$f":"IF(#REF!=16,5,0)","v":{"$error":"#REF!"}},{"$f":"IF(#REF!=17,4,0)","v":{"$error":"#REF!"}},{"$f":"IF(#REF!=18,3,0)","v":{"$error":"#REF!"}},{"$f":"IF(#REF!=19,2,0)","v":{"$error":"#REF!"}},{"$f":"IF(#REF!=20,1,0)","v":{"$error":"#REF!"}},{"$f":"IF(#REF!>20,0,0)","v":{"$error":"#REF!"}},{"$f":"IF(#REF!=\"сх\",0,0)","v":{"$error":"#REF!"}},{"$error":"#REF!"},{"$f":"IF(#REF!=1,45,0)","v":{"$error":"#REF!"}},{"$f":"IF(#REF!=2,42,0)","v":{"$error":"#REF!"}},{"$f":"IF(#REF!=3,40,0)","v":{"$error":"#REF!"}},{"$f":"IF(#REF!=4,38,0)","v":{"$error":"#REF!"}},{"$f":"IF(#REF!=5,36,0)","v":{"$error":"#REF!"}},{"$f":"IF(#REF!=6,35,0)","v":{"$error":"#REF!"}},{"$f":"IF(#REF!=7,34,0)","v":{"$error":"#REF!"}},{"$f":"IF(#REF!=8,33,0)","v":{"$error":"#REF!"}},{"$f":"IF(#REF!=9,32,0)","v":{"$error":"#REF!"}},{"$f":"IF(#REF!=10,31,0)","v":{"$error":"#REF!"}},{"$f":"IF(#REF!=11,30,0)","v":{"$error":"#REF!"}},{"$f":"IF(#REF!=12,29,0)","v":{"$error":"#REF!"}},{"$f":"IF(#REF!=13,28,0)","v":{"$error":"#REF!"}},{"$f":"IF(#REF!=14,27,0)","v":{"$error":"#REF!"}},{"$f":"IF(#REF!=15,26,0)","v":{"$error":"#REF!"}},{"$f":"IF(#REF!=16,25,0)","v":{"$error":"#REF!"}},{"$f":"IF(#REF!=17,24,0)","v":{"$error":"#REF!"}},{"$f":"IF(#REF!=18,23,0)","v":{"$error":"#REF!"}},{"$f":"IF(#REF!=19,22,0)","v":{"$error":"#REF!"}},{"$f":"IF(#REF!=20,21,0)","v":{"$error":"#REF!"}},{"$f":"IF(#REF!=21,20,0)","v":{"$error":"#REF!"}},{"$f":"IF(#REF!=22,19,0)","v":{"$error":"#REF!"}},{"$f":"IF(#REF!=23,18,0)","v":{"$error":"#REF!"}},{"$f":"IF(#REF!=24,17,0)","v":{"$error":"#REF!"}},{"$f":"IF(#REF!=25,16,0)","v":{"$error":"#REF!"}},{"$f":"IF(#REF!=26,15,0)","v":{"$error":"#REF!"}},{"$f":"IF(#REF!=27,14,0)","v":{"$error":"#REF!"}},{"$f":"IF(#REF!=28,13,0)","v":{"$error":"#REF!"}},{"$f":"IF(#REF!=29,12,0)","v":{"$error":"#REF!"}},{"$f":"IF(#REF!=30,11,0)","v":{"$error":"#REF!"}},{"$f":"IF(#REF!=31,10,0)","v":{"$error":"#REF!"}},{"$f":"IF(#REF!=32,9,0)","v":{"$error":"#REF!"}},{"$f":"IF(#REF!=33,8,0)","v":{"$error":"#REF!"}},{"$f":"IF(#REF!=34,7,0)","v":{"$error":"#REF!"}},{"$f":"IF(#REF!=35,6,0)","v":{"$error":"#REF!"}},{"$f":"IF(#REF!=36,5,0)","v":{"$error":"#REF!"}},{"$f":"IF(#REF!=37,4,0)","v":{"$error":"#REF!"}},{"$f":"IF(#REF!=38,3,0)","v":{"$error":"#REF!"}},{"$f":"IF(#REF!=39,2,0)","v":{"$error":"#REF!"}},{"$f":"IF(#REF!=40,1,0)","v":{"$error":"#REF!"}},{"$f":"IF(#REF!>20,0,0)","v":{"$error":"#REF!"}},{"$f":"IF(#REF!=\"сх\",0,0)","v":{"$error":"#REF!"}},{"$error":"#REF!"},{"$f":"IF(#REF!=1,45,0)","v":{"$error":"#REF!"}},{"$f":"IF(#REF!=2,42,0)","v":{"$error":"#REF!"}},{"$f":"IF(#REF!=3,40,0)","v":{"$error":"#REF!"}},{"$f":"IF(#REF!=4,38,0)","v":{"$error":"#REF!"}},{"$f":"IF(#REF!=5,36,0)","v":{"$error":"#REF!"}},{"$f":"IF(#REF!=6,35,0)","v":{"$error":"#REF!"}},{"$f":"IF(#REF!=7,34,0)","v":{"$error":"#REF!"}},{"$f":"IF(#REF!=8,33,0)","v":{"$error":"#REF!"}},{"$f":"IF(#REF!=9,32,0)","v":{"$error":"#REF!"}},{"$f":"IF(#REF!=10,31,0)","v":{"$error":"#REF!"}},{"$f":"IF(#REF!=11,30,0)","v":{"$error":"#REF!"}},{"$f":"IF(#REF!=12,29,0)","v":{"$error":"#REF!"}},{"$f":"IF(#REF!=13,28,0)","v":{"$error":"#REF!"}},{"$f":"IF(#REF!=14,27,0)","v":{"$error":"#REF!"}},{"$f":"IF(#REF!=15,26,0)","v":{"$error":"#REF!"}},{"$f":"IF(#REF!=16,25,0)","v":{"$error":"#REF!"}},{"$f":"IF(#REF!=17,24,0)","v":{"$error":"#REF!"}},{"$f":"IF(#REF!=18,23,0)","v":{"$error":"#REF!"}},{"$f":"IF(#REF!=19,22,0)","v":{"$error":"#REF!"}},{"$f":"IF(#REF!=20,21,0)","v":{"$error":"#REF!"}},{"$f":"IF(#REF!=21,20,0)","v":{"$error":"#REF!"}},{"$f":"IF(#REF!=22,19,0)","v":{"$error":"#REF!"}},{"$f":"IF(#REF!=23,18,0)","v":{"$error":"#REF!"}},{"$f":"IF(#REF!=24,17,0)","v":{"$error":"#REF!"}},{"$f":"IF(#REF!=25,16,0)","v":{"$error":"#REF!"}},{"$f":"IF(#REF!=26,15,0)","v":{"$error":"#REF!"}},{"$f":"IF(#REF!=27,14,0)","v":{"$error":"#REF!"}},{"$f":"IF(#REF!=28,13,0)","v":{"$error":"#REF!"}},{"$f":"IF(#REF!=29,12,0)","v":{"$error":"#REF!"}},{"$f":"IF(#REF!=30,11,0)","v":{"$error":"#REF!"}},{"$f":"IF(#REF!=31,10,0)","v":{"$error":"#REF!"}},{"$f":"IF(#REF!=32,9,0)","v":{"$error":"#REF!"}},{"$f":"IF(#REF!=33,8,0)","v":{"$error":"#REF!"}},{"$f":"IF(#REF!=34,7,0)","v":{"$error":"#REF!"}},{"$f":"IF(#REF!=35,6,0)","v":{"$error":"#REF!"}},{"$f":"IF(#REF!=36,5,0)","v":{"$error":"#REF!"}},{"$f":"IF(#REF!=37,4,0)","v":{"$error":"#REF!"}},{"$f":"IF(#REF!=38,3,0)","v":{"$error":"#REF!"}},{"$f":"IF(#REF!=39,2,0)","v":{"$error":"#REF!"}},{"$f":"IF(#REF!=40,1,0)","v":{"$error":"#REF!"}},{"$f":"IF(#REF!>20,0,0)","v":{"$error":"#REF!"}},{"$f":"IF(#REF!=\"сх\",0,0)","v":{"$error":"#REF!"}},{"$error":"#REF!"},null,{"$f":"IF(#REF!=\"сх\",\"ноль\",IF(#REF!>0,#REF!,\"Ноль\"))","v":{"$error":"#REF!"}},{"$f":"IF(#REF!=\"сх\",\"ноль\",IF(#REF!>0,#REF!,\"Ноль\"))","v":{"$error":"#REF!"}},null,{"$error":"#REF!"},{"$f":"IF(I13=#REF!,IF(#REF!<#REF!,#REF!,EX13),#REF!)","v":{"$error":"#REF!"}},{"$f":"IF(I13=#REF!,IF(#REF!<#REF!,0,1))","v":{"$error":"#REF!"}},{"$f":"IF(AND(ES13>=21,ES13<>0),ES13,IF(I13<#REF!,\"СТОП\",ET13+EU13))","v":{"$error":"#REF!"}},null,15,16,null,{"$f":"IF(#REF!=1,25,0)","v":{"$error":"#REF!"}},{"$f":"IF(#REF!=2,22,0)","v":{"$error":"#REF!"}},{"$f":"IF(#REF!=3,20,0)","v":{"$error":"#REF!"}},{"$f":"IF(#REF!=4,18,0)","v":{"$error":"#REF!"}},{"$f":"IF(#REF!=5,16,0)","v":{"$error":"#REF!"}},{"$f":"IF(#REF!=6,15,0)","v":{"$error":"#REF!"}},{"$f":"IF(#REF!=7,14,0)","v":{"$error":"#REF!"}},{"$f":"IF(#REF!=8,13,0)","v":{"$error":"#REF!"}},{"$f":"IF(#REF!=9,12,0)","v":{"$error":"#REF!"}},{"$f":"IF(#REF!=10,11,0)","v":{"$error":"#REF!"}},{"$f":"IF(#REF!=11,10,0)","v":{"$error":"#REF!"}},{"$f":"IF(#REF!=12,9,0)","v":{"$error":"#REF!"}},{"$f":"IF(#REF!=13,8,0)","v":{"$error":"#REF!"}},{"$f":"IF(#REF!=14,7,0)","v":{"$error":"#REF!"}},{"$f":"IF(#REF!=15,6,0)","v":{"$error":"#REF!"}},{"$f":"IF(#REF!=16,5,0)","v":{"$error":"#REF!"}},{"$f":"IF(#REF!=17,4,0)","v":{"$error":"#REF!"}},{"$f":"IF(#REF!=18,3,0)","v":{"$error":"#REF!"}},{"$f":"IF(#REF!=19,2,0)","v":{"$error":"#REF!"}},{"$f":"IF(#REF!=20,1,0)","v":{"$error":"#REF!"}},{"$f":"IF(#REF!>20,0,0)","v":{"$error":"#REF!"}},{"$f":"IF(#REF!=\"сх\",0,0)","v":{"$error":"#REF!"}},{"$error":"#REF!"},{"$f":"IF(#REF!=1,25,0)","v":{"$error":"#REF!"}},{"$f":"IF(#REF!=2,22,0)","v":{"$error":"#REF!"}},{"$f":"IF(#REF!=3,20,0)","v":{"$error":"#REF!"}},{"$f":"IF(#REF!=4,18,0)","v":{"$error":"#REF!"}},{"$f":"IF(#REF!=5,16,0)","v":{"$error":"#REF!"}},{"$f":"IF(#REF!=6,15,0)","v":{"$error":"#REF!"}},{"$f":"IF(#REF!=7,14,0)","v":{"$error":"#REF!"}},{"$f":"IF(#REF!=8,13,0)","v":{"$error":"#REF!"}},{"$f":"IF(#REF!=9,12,0)","v":{"$error":"#REF!"}},{"$f":"IF(#REF!=10,11,0)","v":{"$error":"#REF!"}},{"$f":"IF(#REF!=11,10,0)","v":{"$error":"#REF!"}},{"$f":"IF(#REF!=12,9,0)","v":{"$error":"#REF!"}},{"$f":"IF(#REF!=13,8,0)","v":{"$error":"#REF!"}},{"$f":"IF(#REF!=14,7,0)","v":{"$error":"#REF!"}},{"$f":"IF(#REF!=15,6,0)","v":{"$error":"#REF!"}},{"$f":"IF(#REF!=16,5,0)","v":{"$error":"#REF!"}},{"$f":"IF(#REF!=17,4,0)","v":{"$error":"#REF!"}},{"$f":"IF(#REF!=18,3,0)","v":{"$error":"#REF!"}},{"$f":"IF(#REF!=19,2,0)","v":{"$error":"#REF!"}},{"$f":"IF(#REF!=20,1,0)","v":{"$error":"#REF!"}},{"$f":"IF(#REF!>20,0,0)","v":{"$error":"#REF!"}},{"$f":"IF(#REF!=\"сх\",0,0)","v":{"$error":"#REF!"}},{"$error":"#REF!"},{"$f":"IF(#REF!=1,100,0)","v":{"$error":"#REF!"}},{"$f":"IF(#REF!=2,98,0)","v":{"$error":"#REF!"}},{"$f":"IF(#REF!=3,95,0)","v":{"$error":"#REF!"}},{"$f":"IF(#REF!=4,93,0)","v":{"$error":"#REF!"}},{"$f":"IF(#REF!=5,90,0)","v":{"$error":"#REF!"}},{"$f":"IF(#REF!=6,88,0)","v":{"$error":"#REF!"}},{"$f":"IF(#REF!=7,85,0)","v":{"$error":"#REF!"}},{"$f":"IF(#REF!=8,83,0)","v":{"$error":"#REF!"}},{"$f":"IF(#REF!=9,80,0)","v":{"$error":"#REF!"}},{"$f":"IF(#REF!=10,78,0)","v":{"$error":"#REF!"}},{"$f":"IF(#REF!=11,75,0)","v":{"$error":"#REF!"}},{"$f":"IF(#REF!=12,73,0)","v":{"$error":"#REF!"}},{"$f":"IF(#REF!=13,70,0)","v":{"$error":"#REF!"}},{"$f":"IF(#REF!=14,68,0)","v":{"$error":"#REF!"}},{"$f":"IF(#REF!=15,65,0)","v":{"$error":"#REF!"}},{"$f":"IF(#REF!=16,63,0)","v":{"$error":"#REF!"}},{"$f":"IF(#REF!=17,60,0)","v":{"$error":"#REF!"}},{"$f":"IF(#REF!=18,58,0)","v":{"$error":"#REF!"}},{"$f":"IF(#REF!=19,55,0)","v":{"$error":"#REF!"}},{"$f":"IF(#REF!=20,53,0)","v":{"$error":"#REF!"}},{"$f":"IF(#REF!>20,0,0)","v":{"$error":"#REF!"}},{"$f":"IF(#REF!=\"сх\",0,0)","v":{"$error":"#REF!"}},{"$error":"#REF!"},{"$f":"IF(#REF!=1,100,0)","v":{"$error":"#REF!"}},{"$f":"IF(#REF!=2,98,0)","v":{"$error":"#REF!"}},{"$f":"IF(#REF!=3,95,0)","v":{"$error":"#REF!"}},{"$f":"IF(#REF!=4,93,0)","v":{"$error":"#REF!"}},{"$f":"IF(#REF!=5,90,0)","v":{"$error":"#REF!"}},{"$f":"IF(#REF!=6,88,0)","v":{"$error":"#REF!"}},{"$f":"IF(#REF!=7,85,0)","v":{"$error":"#REF!"}},{"$f":"IF(#REF!=8,83,0)","v":{"$error":"#REF!"}},{"$f":"IF(#REF!=9,80,0)","v":{"$error":"#REF!"}},{"$f":"IF(#REF!=10,78,0)","v":{"$error":"#REF!"}},{"$f":"IF(#REF!=11,75,0)","v":{"$error":"#REF!"}},{"$f":"IF(#REF!=12,73,0)","v":{"$error":"#REF!"}},{"$f":"IF(#REF!=13,70,0)","v":{"$error":"#REF!"}},{"$f":"IF(#REF!=14,68,0)","v":{"$error":"#REF!"}},{"$f":"IF(#REF!=15,65,0)","v":{"$error":"#REF!"}},{"$f":"IF(#REF!=16,63,0)","v":{"$error":"#REF!"}},{"$f":"IF(#REF!=17,60,0)","v":{"$error":"#REF!"}},{"$f":"IF(#REF!=18,58,0)","v":{"$error":"#REF!"}},{"$f":"IF(#REF!=19,55,0)","v":{"$error":"#REF!"}},{"$f":"IF(#REF!=20,53,0)","v":{"$error":"#REF!"}},{"$f":"IF(#REF!>20,0,0)","v":{"$error":"#REF!"}},{"$f":"IF(#REF!=\"сх\",0,0)","v":{"$error":"#REF!"}},{"$error":"#REF!"}]
[6,4.3,7,"Хриспенс Кирилл","б/р","г. Новый Уренгой, Ямало-Ненецкий АО","СТК \"Факел\"","Arctic-Cat",16,{"$f":"#REF!+#REF!","v":{"$error":"#REF!"}},null,null,{"$f":"IF(#REF!=1,25,0)","v":{"$error":"#REF!"}},{"$f":"IF(#REF!=2,22,0)","v":{"$error":"#REF!"}},{"$f":"IF(#REF!=3,20,0)","v":{"$error":"#REF!"}},{"$f":"IF(#REF!=4,18,0)","v":{"$error":"#REF!"}},{"$f":"IF(#REF!=5,16,0)","v":{"$error":"#REF!"}},{"$f":"IF(#REF!=6,15,0)","v":{"$error":"#REF!"}},{"$f":"IF(#REF!=7,14,0)","v":{"$error":"#REF!"}},{"$f":"IF(#REF!=8,13,0)","v":{"$error":"#REF!"}},{"$f":"IF(#REF!=9,12,0)","v":{"$error":"#REF!"}},{"$f":"IF(#REF!=10,11,0)","v":{"$error":"#REF!"}},{"$f":"IF(#REF!=11,10,0)","v":{"$error":"#REF!"}},{"$f":"IF(#REF!=12,9,0)","v":{"$error":"#REF!"}},{"$f":"IF(#REF!=13,8,0)","v":{"$error":"#REF!"}},{"$f":"IF(#REF!=14,7,0)","v":{"$error":"#REF!"}},{"$f":"IF(#REF!=15,6,0)","v":{"$error":"#REF!"}},{"$f":"IF(#REF!=16,5,0)","v":{"$error":"#REF!"}},{"$f":"IF(#REF!=17,4,0)","v":{"$error":"#REF!"}},{"$f":"IF(#REF!=18,3,0)","v":{"$error":"#REF!"}},{"$f":"IF(#REF!=19,2,0)","v":{"$error":"#REF!"}},{"$f":"IF(#REF!=20,1,0)","v":{"$error":"#REF!"}},{"$f":"IF(#REF!>20,0,0)","v":{"$error":"#REF!"}},{"$f":"IF(#REF!=\"сх\",0,0)","v":{"$error":"#REF!"}},{"$error":"#REF!"},{"$f":"IF(#REF!=1,25,0)","v":{"$error":"#REF!"}},{"$f":"IF(#REF!=2,22,0)","v":{"$error":"#REF!"}},{"$f":"IF(#REF!=3,20,0)","v":{"$error":"#REF!"}},{"$f":"IF(#REF!=4,18,0)","v":{"$error":"#REF!"}},{"$f":"IF(#REF!=5,16,0)","v":{"$error":"#REF!"}},{"$f":"IF(#REF!=6,15,0)","v":{"$error":"#REF!"}},{"$f":"IF(#REF!=7,14,0)","v":{"$error":"#REF!"}},{"$f":"IF(#REF!=8,13,0)","v":{"$error":"#REF!"}},{"$f":"IF(#REF!=9,12,0)","v":{"$error":"#REF!"}},{"$f":"IF(#REF!=10,11,0)","v":{"$error":"#REF!"}},{"$f":"IF(#REF!=11,10,0)","v":{"$error":"#REF!"}},{"$f":"IF(#REF!=12,9,0)","v":{"$error":"#REF!"}},{"$f":"IF(#REF!=13,8,0)","v":{"$error":"#REF!"}},{"$f":"IF(#REF!=14,7,0)","v":{"$error":"#REF!"}},{"$f":"IF(#REF!=15,6,0)","v":{"$error":"#REF!"}},{"$f":"IF(#REF!=16,5,0)","v":{"$error":"#REF!"}},{"$f":"IF(#REF!=17,4,0)","v":{"$error":"#REF!"}},{"$f":"IF(#REF!=18,3,0)","v":{"$error":"#REF!"}},{"$f":"IF(#REF!=19,2,0)","v":{"$error":"#REF!"}},{"$f":"IF(#REF!=20,1,0)","v":{"$error":"#REF!"}},{"$f":"IF(#REF!>20,0,0)","v":{"$error":"#REF!"}},{"$f":"IF(#REF!=\"сх\",0,0)","v":{"$error":"#REF!"}},{"$error":"#REF!"},{"$f":"IF(#REF!=1,45,0)","v":{"$error":"#REF!"}},{"$f":"IF(#REF!=2,42,0)","v":{"$error":"#REF!"}},{"$f":"IF(#REF!=3,40,0)","v":{"$error":"#REF!"}},{"$f":"IF(#REF!=4,38,0)","v":{"$error":"#REF!"}},{"$f":"IF(#REF!=5,36,0)","v":{"$error":"#REF!"}},{"$f":"IF(#REF!=6,35,0)","v":{"$error":"#REF!"}},{"$f":"IF(#REF!=7,34,0)","v":{"$error":"#REF!"}},{"$f":"IF(#REF!=8,33,0)","v":{"$error":"#REF!"}},{"$f":"IF(#REF!=9,32,0)","v":{"$error":"#REF!"}},{"$f":"IF(#REF!=10,31,0)","v":{"$error":"#REF!"}},{"$f":"IF(#REF!=11,30,0)","v":{"$error":"#REF!"}},{"$f":"IF(#REF!=12,29,0)","v":{"$error":"#REF!"}},{"$f":"IF(#REF!=13,28,0)","v":{"$error":"#REF!"}},{"$f":"IF(#REF!=14,27,0)","v":{"$error":"#REF!"}},{"$f":"IF(#REF!=15,26,0)","v":{"$error":"#REF!"}},{"$f":"IF(#REF!=16,25,0)","v":{"$error":"#REF!"}},{"$f":"IF(#REF!=17,24,0)","v":{"$error":"#REF!"}},{"$f":"IF(#REF!=18,23,0)","v":{"$error":"#REF!"}},{"$f":"IF(#REF!=19,22,0)","v":{"$error":"#REF!"}},{"$f":"IF(#REF!=20,21,0)","v":{"$error":"#REF!"}},{"$f":"IF(#REF!=21,20,0)","v":{"$error":"#REF!"}},{"$f":"IF(#REF!=22,19,0)","v":{"$error":"#REF!"}},{"$f":"IF(#REF!=23,18,0)","v":{"$error":"#REF!"}},{"$f":"IF(#REF!=24,17,0)","v":{"$error":"#REF!"}},{"$f":"IF(#REF!=25,16,0)","v":{"$error":"#REF!"}},{"$f":"IF(#REF!=26,15,0)","v":{"$error":"#REF!"}},{"$f":"IF(#REF!=27,14,0)","v":{"$error":"#REF!"}},{"$f":"IF(#REF!=28,13,0)","v":{"$error":"#REF!"}},{"$f":"IF(#REF!=29,12,0)","v":{"$error":"#REF!"}},{"$f":"IF(#REF!=30,11,0)","v":{"$error":"#REF!"}},{"$f":"IF(#REF!=31,10,0)","v":{"$error":"#REF!"}},{"$f":"IF(#REF!=32,9,0)","v":{"$error":"#REF!"}},{"$f":"IF(#REF!=33,8,0)","v":{"$error":"#REF!"}},{"$f":"IF(#REF!=34,7,0)","v":{"$error":"#REF!"}},{"$f":"IF(#REF!=35,6,0)","v":{"$error":"#REF!"}},{"$f":"IF(#REF!=36,5,0)","v":{"$error":"#REF!"}},{"$f":"IF(#REF!=37,4,0)","v":{"$error":"#REF!"}},{"$f":"IF(#REF!=38,3,0)","v":{"$error":"#REF!"}},{"$f":"IF(#REF!=39,2,0)","v":{"$error":"#REF!"}},{"$f":"IF(#REF!=40,1,0)","v":{"$error":"#REF!"}},{"$f":"IF(#REF!>20,0,0)","v":{"$error":"#REF!"}},{"$f":"IF(#REF!=\"сх\",0,0)","v":{"$error":"#REF!"}},{"$error":"#REF!"},{"$f":"IF(#REF!=1,45,0)","v":{"$error":"#REF!"}},{"$f":"IF(#REF!=2,42,0)","v":{"$error":"#REF!"}},{"$f":"IF(#REF!=3,40,0)","v":{"$error":"#REF!"}},{"$f":"IF(#REF!=4,38,0)","v":{"$error":"#REF!"}},{"$f":"IF(#REF!=5,36,0)","v":{"$error":"#REF!"}},{"$f":"IF(#REF!=6,35,0)","v":{"$error":"#REF!"}},{"$f":"IF(#REF!=7,34,0)","v":{"$error":"#REF!"}},{"$f":"IF(#REF!=8,33,0)","v":{"$error":"#REF!"}},{"$f":"IF(#REF!=9,32,0)","v":{"$error":"#REF!"}},{"$f":"IF(#REF!=10,31,0)","v":{"$error":"#REF!"}},{"$f":"IF(#REF!=11,30,0)","v":{"$error":"#REF!"}},{"$f":"IF(#REF!=12,29,0)","v":{"$error":"#REF!"}},{"$f":"IF(#REF!=13,28,0)","v":{"$error":"#REF!"}},{"$f":"IF(#REF!=14,27,0)","v":{"$error":"#REF!"}},{"$f":"IF(#REF!=15,26,0)","v":{"$error":"#REF!"}},{"$f":"IF(#REF!=16,25,0)","v":{"$error":"#REF!"}},{"$f":"IF(#REF!=17,24,0)","v":{"$error":"#REF!"}},{"$f":"IF(#REF!=18,23,0)","v":{"$error":"#REF!"}},{"$f":"IF(#REF!=19,22,0)","v":{"$error":"#REF!"}},{"$f":"IF(#REF!=20,21,0)","v":{"$error":"#REF!"}},{"$f":"IF(#REF!=21,20,0)","v":{"$error":"#REF!"}},{"$f":"IF(#REF!=22,19,0)","v":{"$error":"#REF!"}},{"$f":"IF(#REF!=23,18,0)","v":{"$error":"#REF!"}},{"$f":"IF(#REF!=24,17,0)","v":{"$error":"#REF!"}},{"$f":"IF(#REF!=25,16,0)","v":{"$error":"#REF!"}},{"$f":"IF(#REF!=26,15,0)","v":{"$error":"#REF!"}},{"$f":"IF(#REF!=27,14,0)","v":{"$error":"#REF!"}},{"$f":"IF(#REF!=28,13,0)","v":{"$error":"#REF!"}},{"$f":"IF(#REF!=29,12,0)","v":{"$error":"#REF!"}},{"$f":"IF(#REF!=30,11,0)","v":{"$error":"#REF!"}},{"$f":"IF(#REF!=31,10,0)","v":{"$error":"#REF!"}},{"$f":"IF(#REF!=32,9,0)","v":{"$error":"#REF!"}},{"$f":"IF(#REF!=33,8,0)","v":{"$error":"#REF!"}},{"$f":"IF(#REF!=34,7,0)","v":{"$error":"#REF!"}},{"$f":"IF(#REF!=35,6,0)","v":{"$error":"#REF!"}},{"$f":"IF(#REF!=36,5,0)","v":{"$error":"#REF!"}},{"$f":"IF(#REF!=37,4,0)","v":{"$error":"#REF!"}},{"$f":"IF(#REF!=38,3,0)","v":{"$error":"#REF!"}},{"$f":"IF(#REF!=39,2,0)","v":{"$error":"#REF!"}},{"$f":"IF(#REF!=40,1,0)","v":{"$error":"#REF!"}},{"$f":"IF(#REF!>20,0,0)","v":{"$error":"#REF!"}},{"$f":"IF(#REF!=\"сх\",0,0)","v":{"$error":"#REF!"}},{"$error":"#REF!"},null,{"$f":"IF(#REF!=\"сх\",\"ноль\",IF(#REF!>0,#REF!,\"Ноль\"))","v":{"$error":"#REF!"}},{"$f":"IF(#REF!=\"сх\",\"ноль\",IF(#REF!>0,#REF!,\"Ноль\"))","v":{"$error":"#REF!"}},null,{"$error":"#REF!"},{"$f":"IF(I14=#REF!,IF(#REF!<#REF!,#REF!,EX14),#REF!)","v":{"$error":"#REF!"}},{"$f":"IF(I14=#REF!,IF(#REF!<#REF!,0,1))","v":{"$error":"#REF!"}},{"$f":"IF(AND(ES14>=21,ES14<>0),ES14,IF(I14<#REF!,\"СТОП\",ET14+EU14))","v":{"$error":"#REF!"}},null,15,16,null,{"$f":"IF(#REF!=1,25,0)","v":{"$error":"#REF!"}},{"$f":"IF(#REF!=2,22,0)","v":{"$error":"#REF!"}},{"$f":"IF(#REF!=3,20,0)","v":{"$error":"#REF!"}},{"$f":"IF(#REF!=4,18,0)","v":{"$error":"#REF!"}},{"$f":"IF(#REF!=5,16,0)","v":{"$error":"#REF!"}},{"$f":"IF(#REF!=6,15,0)","v":{"$error":"#REF!"}},{"$f":"IF(#REF!=7,14,0)","v":{"$error":"#REF!"}},{"$f":"IF(#REF!=8,13,0)","v":{"$error":"#REF!"}},{"$f":"IF(#REF!=9,12,0)","v":{"$error":"#REF!"}},{"$f":"IF(#REF!=10,11,0)","v":{"$error":"#REF!"}},{"$f":"IF(#REF!=11,10,0)","v":{"$error":"#REF!"}},{"$f":"IF(#REF!=12,9,0)","v":{"$error":"#REF!"}},{"$f":"IF(#REF!=13,8,0)","v":{"$error":"#REF!"}},{"$f":"IF(#REF!=14,7,0)","v":{"$error":"#REF!"}},{"$f":"IF(#REF!=15,6,0)","v":{"$error":"#REF!"}},{"$f":"IF(#REF!=16,5,0)","v":{"$error":"#REF!"}},{"$f":"IF(#REF!=17,4,0)","v":{"$error":"#REF!"}},{"$f":"IF(#REF!=18,3,0)","v":{"$error":"#REF!"}},{"$f":"IF(#REF!=19,2,0)","v":{"$error":"#REF!"}},{"$f":"IF(#REF!=20,1,0)","v":{"$error":"#REF!"}},{"$f":"IF(#REF!>20,0,0)","v":{"$error":"#REF!"}},{"$f":"IF(#REF!=\"сх\",0,0)","v":{"$error":"#REF!"}},{"$error":"#REF!"},{"$f":"IF(#REF!=1,25,0)","v":{"$error":"#REF!"}},{"$f":"IF(#REF!=2,22,0)","v":{"$error":"#REF!"}},{"$f":"IF(#REF!=3,20,0)","v":{"$error":"#REF!"}},{"$f":"IF(#REF!=4,18,0)","v":{"$error":"#REF!"}},{"$f":"IF(#REF!=5,16,0)","v":{"$error":"#REF!"}},{"$f":"IF(#REF!=6,15,0)","v":{"$error":"#REF!"}},{"$f":"IF(#REF!=7,14,0)","v":{"$error":"#REF!"}},{"$f":"IF(#REF!=8,13,0)","v":{"$error":"#REF!"}},{"$f":"IF(#REF!=9,12,0)","v":{"$error":"#REF!"}},{"$f":"IF(#REF!=10,11,0)","v":{"$error":"#REF!"}},{"$f":"IF(#REF!=11,10,0)","v":{"$error":"#REF!"}},{"$f":"IF(#REF!=12,9,0)","v":{"$error":"#REF!"}},{"$f":"IF(#REF!=13,8,0)","v":{"$error":"#REF!"}},{"$f":"IF(#REF!=14,7,0)","v":{"$error":"#REF!"}},{"$f":"IF(#REF!=15,6,0)","v":{"$error":"#REF!"}},{"$f":"IF(#REF!=16,5,0)","v":{"$error":"#REF!"}},{"$f":"IF(#REF!=17,4,0)","v":{"$error":"#REF!"}},{"$f":"IF(#REF!=18,3,0)","v":{"$error":"#REF!"}},{"$f":"IF(#REF!=19,2,0)","v":{"$error":"#REF!"}},{"$f":"IF(#REF!=20,1,0)","v":{"$error":"#REF!"}},{"$f":"IF(#REF!>20,0,0)","v":{"$error":"#REF!"}},{"$f":"IF(#REF!=\"сх\",0,0)","v":{"$error":"#REF!"}},{"$error":"#REF!"},{"$f":"IF(#REF!=1,100,0)","v":{"$error":"#REF!"}},{"$f":"IF(#REF!=2,98,0)","v":{"$error":"#REF!"}},{"$f":"IF(#REF!=3,95,0)","v":{"$error":"#REF!"}},{"$f":"IF(#REF!=4,93,0)","v":{"$error":"#REF!"}},{"$f":"IF(#REF!=5,90,0)","v":{"$error":"#REF!"}},{"$f":"IF(#REF!=6,88,0)","v":{"$error":"#REF!"}},{"$f":"IF(#REF!=7,85,0)","v":{"$error":"#REF!"}},{"$f":"IF(#REF!=8,83,0)","v":{"$error":"#REF!"}},{"$f":"IF(#REF!=9,80,0)","v":{"$error":"#REF!"}},{"$f":"IF(#REF!=10,78,0)","v":{"$error":"#REF!"}},{"$f":"IF(#REF!=11,75,0)","v":{"$error":"#REF!"}},{"$f":"IF(#REF!=12,73,0)","v":{"$error":"#REF!"}},{"$f":"IF(#REF!=13,70,0)","v":{"$error":"#REF!"}},{"$f":"IF(#REF!=14,68,0)","v":{"$error":"#REF!"}},{"$f":"IF(#REF!=15,65,0)","v":{"$error":"#REF!"}},{"$f":"IF(#REF!=16,63,0)","v":{"$error":"#REF!"}},{"$f":"IF(#REF!=17,60,0)","v":{"$error":"#REF!"}},{"$f":"IF(#REF!=18,58,0)","v":{"$error":"#REF!"}},{"$f":"IF(#REF!=19,55,0)","v":{"$error":"#REF!"}},{"$f":"IF(#REF!=20,53,0)","v":{"$error":"#REF!"}},{"$f":"IF(#REF!>20,0,0)","v":{"$error":"#REF!"}},{"$f":"IF(#REF!=\"сх\",0,0)","v":{"$error":"#REF!"}},{"$error":"#REF!"},{"$f":"IF(#REF!=1,100,0)","v":{"$error":"#REF!"}},{"$f":"IF(#REF!=2,98,0)","v":{"$error":"#REF!"}},{"$f":"IF(#REF!=3,95,0)","v":{"$error":"#REF!"}},{"$f":"IF(#REF!=4,93,0)","v":{"$error":"#REF!"}},{"$f":"IF(#REF!=5,90,0)","v":{"$error":"#REF!"}},{"$f":"IF(#REF!=6,88,0)","v":{"$error":"#REF!"}},{"$f":"IF(#REF!=7,85,0)","v":{"$error":"#REF!"}},{"$f":"IF(#REF!=8,83,0)","v":{"$error":"#REF!"}},{"$f":"IF(#REF!=9,80,0)","v":{"$error":"#REF!"}},{"$f":"IF(#REF!=10,78,0)","v":{"$error":"#REF!"}},{"$f":"IF(#REF!=11,75,0)","v":{"$error":"#REF!"}},{"$f":"IF(#REF!=12,73,0)","v":{"$error":"#REF!"}},{"$f":"IF(#REF!=13,70,0)","v":{"$error":"#REF!"}},{"$f":"IF(#REF!=14,68,0)","v":{"$error":"#REF!"}},{"$f":"IF(#REF!=15,65,0)","v":{"$error":"#REF!"}},{"$f":"IF(#REF!=16,63,0)","v":{"$error":"#REF!"}},{"$f":"IF(#REF!=17,60,0)","v":{"$error":"#REF!"}},{"$f":"IF(#REF!=18,58,0)","v":{"$error":"#REF!"}},{"$f":"IF(#REF!=19,55,0)","v":{"$error":"#REF!"}},{"$f":"IF(#REF!=20,53,0)","v":{"$error":"#REF!"}},{"$f":"IF(#REF!>20,0,0)","v":{"$error":"#REF!"}},{"$f":"IF(#REF!=\"сх\",0,0)","v":{"$error":"#REF!"}},{"$error":"#REF!"}]
[7,4.2,5,"Зайцев Максим","б/р","г. Новый Уренгой, Ямало-Ненецкий АО","СТК \"Факел\"","Arctic-Cat",15,{"$f":"#REF!+#REF!","v":{"$error":"#REF!"}},null,null,{"$f":"IF(#REF!=1,25,0)","v":{"$error":"#REF!"}},{"$f":"IF(#REF!=2,22,0)","v":{"$error":"#REF!"}},{"$f":"IF(#REF!=3,20,0)","v":{"$error":"#REF!"}},{"$f":"IF(#REF!=4,18,0)","v":{"$error":"#REF!"}},{"$f":"IF(#REF!=5,16,0)","v":{"$error":"#REF!"}},{"$f":"IF(#REF!=6,15,0)","v":{"$error":"#REF!"}},{"$f":"IF(#REF!=7,14,0)","v":{"$error":"#REF!"}},{"$f":"IF(#REF!=8,13,0)","v":{"$error":"#REF!"}},{"$f":"IF(#REF!=9,12,0)","v":{"$error":"#REF!"}},{"$f":"IF(#REF!=10,11,0)","v":{"$error":"#REF!"}},{"$f":"IF(#REF!=11,10,0)","v":{"$error":"#REF!"}},{"$f":"IF(#REF!=12,9,0)","v":{"$error":"#REF!"}},{"$f":"IF(#REF!=13,8,0)","v":{"$error":"#REF!"}},{"$f":"IF(#REF!=14,7,0)","v":{"$error":"#REF!"}},{"$f":"IF(#REF!=15,6,0)","v":{"$error":"#REF!"}},{"$f":"IF(#REF!=16,5,0)","v":{"$error":"#REF!"}},{"$f":"IF(#REF!=17,4,0)","v":{"$error":"#REF!"}},{"$f":"IF(#REF!=18,3,0)","v":{"$error":"#REF!"}},{"$f":"IF(#REF!=19,2,0)","v":{"$error":"#REF!"}},{"$f":"IF(#REF!=20,1,0)","v":{"$error":"#REF!"}},{"$f":"IF(#REF!>20,0,0)","v":{"$error":"#REF!"}},{"$f":"IF(#REF!=\"сх\",0,0)","v":{"$error":"#REF!"}},{"$error":"#REF!"},{"$f":"IF(#REF!=1,25,0)","v":{"$error":"#REF!"}},{"$f":"IF(#REF!=2,22,0)","v":{"$error":"#REF!"}},{"$f":"IF(#REF!=3,20,0)","v":{"$error":"#REF!"}},{"$f":"IF(#REF!=4,18,0)","v":{"$error":"#REF!"}},{"$f":"IF(#REF!=5,16,0)","v":{"$error":"#REF!"}},{"$f":"IF(#REF!=6,15,0)","v":{"$error":"#REF!"}},{"$f":"IF(#REF!=7,14,0)","v":{"$error":"#REF!"}},{"$f":"IF(#REF!=8,13,0)","v":{"$error":"#REF!"}},{"$f":"IF(#REF!=9,12,0)","v":{"$error":"#REF!"}},{"$f":"IF(#REF!=10,11,0)","v":{"$error":"#REF!"}},{"$f":"IF(#REF!=11,10,0)","v":{"$error":"#REF!"}},{"$f":"IF(#REF!=12,9,0)","v":{"$error":"#REF!"}},{"$f":"IF(#REF!=13,8,0)","v":{"$error":"#REF!"}},{"$f":"IF(#REF!=14,7,0)","v":{"$error":"#REF!"}},{"$f":"IF(#REF!=15,6,0)","v":{"$error":"#REF!"}},{"$f":"IF(#REF!=16,5,0)","v":{"$error":"#REF!"}},{"$f":"IF(#REF!=17,4,0)","v":{"$error":"#REF!"}},{"$f":"IF(#REF!=18,3,0)","v":{"$error":"#REF!"}},{"$f":"IF(#REF!=19,2,0)","v":{"$error":"#REF!"}},{"$f":"IF(#REF!=20,1,0)","v":{"$error":"#REF!"}},{"$f":"IF(#REF!>20,0,0)","v":{"$error":"#REF!"}},{"$f":"IF(#REF!=\"сх\",0,0)","v":{"$error":"#REF!"}},{"$error":"#REF!"},{"$f":"IF(#REF!=1,45,0)","v":{"$error":"#REF!"}},{"$f":"IF(#REF!=2,42,0)","v":{"$error":"#REF!"}},{"$f":"IF(#REF!=3,40,0)","v":{"$error":"#REF!"}},{"$f":"IF(#REF!=4,38,0)","v":{"$error":"#REF!"}},{"$f":"IF(#REF!=5,36,0)","v":{"$error":"#REF!"}},{"$f":"IF(#REF!=6,35,0)","v":{"$error":"#REF!"}},{"$f":"IF(#REF!=7,34,0)","v":{"$error":"#REF!"}},{"$f":"IF(#REF!=8,33,0)","v":{"$error":"#REF!"}},{"$f":"IF(#REF!=9,32,0)","v":{"$error":"#REF!"}},{"$f":"IF(#REF!=10,31,0)","v":{"$error":"#REF!"}},{"$f":"IF(#REF!=11,30,0)","v":{"$error":"#REF!"}},{"$f":"IF(#REF!=12,29,0)","v":{"$error":"#REF!"}},{"$f":"IF(#REF!=13,28,0)","v":{"$error":"#REF!"}},{"$f":"IF(#REF!=14,27,0)","v":{"$error":"#REF!"}},{"$f":"IF(#REF!=15,26,0)","v":{"$error":"#REF!"}},{"$f":"IF(#REF!=16,25,0)","v":{"$error":"#REF!"}},{"$f":"IF(#REF!=17,24,0)","v":{"$error":"#REF!"}},{"$f":"IF(#REF!=18,23,0)","v":{"$error":"#REF!"}},{"$f":"IF(#REF!=19,22,0)","v":{"$error":"#REF!"}},{"$f":"IF(#REF!=20,21,0)","v":{"$error":"#REF!"}},{"$f":"IF(#REF!=21,20,0)","v":{"$error":"#REF!"}},{"$f":"IF(#REF!=22,19,0)","v":{"$error":"#REF!"}},{"$f":"IF(#REF!=23,18,0)","v":{"$error":"#REF!"}},{"$f":"IF(#REF!=24,17,0)","v":{"$error":"#REF!"}},{"$f":"IF(#REF!=25,16,0)","v":{"$error":"#REF!"}},{"$f":"IF(#REF!=26,15,0)","v":{"$error":"#REF!"}},{"$f":"IF(#REF!=27,14,0)","v":{"$error":"#REF!"}},{"$f":"IF(#REF!=28,13,0)","v":{"$error":"#REF!"}},{"$f":"IF(#REF!=29,12,0)","v":{"$error":"#REF!"}},{"$f":"IF(#REF!=30,11,0)","v":{"$error":"#REF!"}},{"$f":"IF(#REF!=31,10,0)","v":{"$error":"#REF!"}},{"$f":"IF(#REF!=32,9,0)","v":{"$error":"#REF!"}},{"$f":"IF(#REF!=33,8,0)","v":{"$error":"#REF!"}},{"$f":"IF(#REF!=34,7,0)","v":{"$error":"#REF!"}},{"$f":"IF(#REF!=35,6,0)","v":{"$error":"#REF!"}},{"$f":"IF(#REF!=36,5,0)","v":{"$error":"#REF!"}},{"$f":"IF(#REF!=37,4,0)","v":{"$error":"#REF!"}},{"$f":"IF(#REF!=38,3,0)","v":{"$error":"#REF!"}},{"$f":"IF(#REF!=39,2,0)","v":{"$error":"#REF!"}},{"$f":"IF(#REF!=40,1,0)","v":{"$error":"#REF!"}},{"$f":"IF(#REF!>20,0,0)","v":{"$error":"#REF!"}},{"$f":"IF(#REF!=\"сх\",0,0)","v":{"$error":"#REF!"}},{"$error":"#REF!"},{"$f":"IF(#REF!=1,45,0)","v":{"$error":"#REF!"}},{"$f":"IF(#REF!=2,42,0)","v":{"$error":"#REF!"}},{"$f":"IF(#REF!=3,40,0)","v":{"$error":"#REF!"}},{"$f":"IF(#REF!=4,38,0)","v":{"$error":"#REF!"}},{"$f":"IF(#REF!=5,36,0)","v":{"$error":"#REF!"}},{"$f":"IF(#REF!=6,35,0)","v":{"$error":"#REF!"}},{"$f":"IF(#REF!=7,34,0)","v":{"$error":"#REF!"}},{"$f":"IF(#REF!=8,33,0)","v":{"$error":"#REF!"}},{"$f":"IF(#REF!=9,32,0)","v":{"$error":"#REF!"}},{"$f":"IF(#REF!=10,31,0)","v":{"$error":"#REF!"}},{"$f":"IF(#REF!=11,30,0)","v":{"$error":"#REF!"}},{"$f":"IF(#REF!=12,29,0)","v":{"$error":"#REF!"}},{"$f":"IF(#REF!=13,28,0)","v":{"$error":"#REF!"}},{"$f":"IF(#REF!=14,27,0)","v":{"$error":"#REF!"}},{"$f":"IF(#REF!=15,26,0)","v":{"$error":"#REF!"}},{"$f":"IF(#REF!=16,25,0)","v":{"$error":"#REF!"}},{"$f":"IF(#REF!=17,24,0)","v":{"$error":"#REF!"}},{"$f":"IF(#REF!=18,23,0)","v":{"$error":"#REF!"}},{"$f":"IF(#REF!=19,22,0)","v":{"$error":"#REF!"}},{"$f":"IF(#REF!=20,21,0)","v":{"$error":"#REF!"}},{"$f":"IF(#REF!=21,20,0)","v":{"$error":"#REF!"}},{"$f":"IF(#REF!=22,19,0)","v":{"$error":"#REF!"}},{"$f":"IF(#REF!=23,18,0)","v":{"$error":"#REF!"}},{"$f":"IF(#REF!=24,17,0)","v":{"$error":"#REF!"}},{"$f":"IF(#REF!=25,16,0)","v":{"$error":"#REF!"}},{"$f":"IF(#REF!=26,15,0)","v":{"$error":"#REF!"}},{"$f":"IF(#REF!=27,14,0)","v":{"$error":"#REF!"}},{"$f":"IF(#REF!=28,13,0)","v":{"$error":"#REF!"}},{"$f":"IF(#REF!=29,12,0)","v":{"$error":"#REF!"}},{"$f":"IF(#REF!=30,11,0)","v":{"$error":"#REF!"}},{"$f":"IF(#REF!=31,10,0)","v":{"$error":"#REF!"}},{"$f":"IF(#REF!=32,9,0)","v":{"$error":"#REF!"}},{"$f":"IF(#REF!=33,8,0)","v":{"$error":"#REF!"}},{"$f":"IF(#REF!=34,7,0)","v":{"$error":"#REF!"}},{"$f":"IF(#REF!=35,6,0)","v":{"$error":"#REF!"}},{"$f":"IF(#REF!=36,5,0)","v":{"$error":"#REF!"}},{"$f":"IF(#REF!=37,4,0)","v":{"$error":"#REF!"}},{"$f":"IF(#REF!=38,3,0)","v":{"$error":"#REF!"}},{"$f":"IF(#REF!=39,2,0)","v":{"$error":"#REF!"}},{"$f":"IF(#REF!=40,1,0)","v":{"$error":"#REF!"}},{"$f":"IF(#REF!>20,0,0)","v":{"$error":"#REF!"}},{"$f":"IF(#REF!=\"сх\",0,0)","v":{"$error":"#REF!"}},{"$error":"#REF!"},null,{"$f":"IF(#REF!=\"сх\",\"ноль\",IF(#REF!>0,#REF!,\"Ноль\"))","v":{"$error":"#REF!"}},{"$f":"IF(#REF!=\"сх\",\"ноль\",IF(#REF!>0,#REF!,\"Ноль\"))","v":{"$error":"#REF!"}},null,{"$error":"#REF!"},{"$f":"IF(I15=#REF!,IF(#REF!<#REF!,#REF!,EX15),#REF!)","v":{"$error":"#REF!"}},{"$f":"IF(I15=#REF!,IF(#REF!<#REF!,0,1))","v":{"$error":"#REF!"}},{"$f":"IF(AND(ES15>=21,ES15<>0),ES15,IF(I15<#REF!,\"СТОП\",ET15+EU15))","v":{"$error":"#REF!"}},null,15,16,null,{"$f":"IF(#REF!=1,25,0)","v":{"$error":"#REF!"}},{"$f":"IF(#REF!=2,22,0)","v":{"$error":"#REF!"}},{"$f":"IF(#REF!=3,20,0)","v":{"$error":"#REF!"}},{"$f":"IF(#REF!=4,18,0)","v":{"$error":"#REF!"}},{"$f":"IF(#REF!=5,16,0)","v":{"$error":"#REF!"}},{"$f":"IF(#REF!=6,15,0)","v":{"$error":"#REF!"}},{"$f":"IF(#REF!=7,14,0)","v":{"$error":"#REF!"}},{"$f":"IF(#REF!=8,13,0)","v":{"$error":"#REF!"}},{"$f":"IF(#REF!=9,12,0)","v":{"$error":"#REF!"}},{"$f":"IF(#REF!=10,11,0)","v":{"$error":"#REF!"}},{"$f":"IF(#REF!=11,10,0)","v":{"$error":"#REF!"}},{"$f":"IF(#REF!=12,9,0)","v":{"$error":"#REF!"}},{"$f":"IF(#REF!=13,8,0)","v":{"$error":"#REF!"}},{"$f":"IF(#REF!=14,7,0)","v":{"$error":"#REF!"}},{"$f":"IF(#REF!=15,6,0)","v":{"$error":"#REF!"}},{"$f":"IF(#REF!=16,5,0)","v":{"$error":"#REF!"}},{"$f":"IF(#REF!=17,4,0)","v":{"$error":"#REF!"}},{"$f":"IF(#REF!=18,3,0)","v":{"$error":"#REF!"}},{"$f":"IF(#REF!=19,2,0)","v":{"$error":"#REF!"}},{"$f":"IF(#REF!=20,1,0)","v":{"$error":"#REF!"}},{"$f":"IF(#REF!>20,0,0)","v":{"$error":"#REF!"}},{"$f":"IF(#REF!=\"сх\",0,0)","v":{"$error":"#REF!"}},{"$error":"#REF!"},{"$f":"IF(#REF!=1,25,0)","v":{"$error":"#REF!"}},{"$f":"IF(#REF!=2,22,0)","v":{"$error":"#REF!"}},{"$f":"IF(#REF!=3,20,0)","v":{"$error":"#REF!"}},{"$f":"IF(#REF!=4,18,0)","v":{"$error":"#REF!"}},{"$f":"IF(#REF!=5,16,0)","v":{"$error":"#REF!"}},{"$f":"IF(#REF!=6,15,0)","v":{"$error":"#REF!"}},{"$f":"IF(#REF!=7,14,0)","v":{"$error":"#REF!"}},{"$f":"IF(#REF!=8,13,0)","v":{"$error":"#REF!"}},{"$f":"IF(#REF!=9,12,0)","v":{"$error":"#REF!"}},{"$f":"IF(#REF!=10,11,0)","v":{"$error":"#REF!"}},{"$f":"IF(#REF!=11,10,0)","v":{"$error":"#REF!"}},{"$f":"IF(#REF!=12,9,0)","v":{"$error":"#REF!"}},{"$f":"IF(#REF!=13,8,0)","v":{"$error":"#REF!"}},{"$f":"IF(#REF!=14,7,0)","v":{"$error":"#REF!"}},{"$f":"IF(#REF!=15,6,0)","v":{"$error":"#REF!"}},{"$f":"IF(#REF!=16,5,0)","v":{"$error":"#REF!"}},{"$f":"IF(#REF!=17,4,0)","v":{"$error":"#REF!"}},{"$f":"IF(#REF!=18,3,0)","v":{"$error":"#REF!"}},{"$f":"IF(#REF!=19,2,0)","v":{"$error":"#REF!"}},{"$f":"IF(#REF!=20,1,0)","v":{"$error":"#REF!"}},{"$f":"IF(#REF!>20,0,0)","v":{"$error":"#REF!"}},{"$f":"IF(#REF!=\"сх\",0,0)","v":{"$error":"#REF!"}},{"$error":"#REF!"},{"$f":"IF(#REF!=1,100,0)","v":{"$error":"#REF!"}},{"$f":"IF(#REF!=2,98,0)","v":{"$error":"#REF!"}},{"$f":"IF(#REF!=3,95,0)","v":{"$error":"#REF!"}},{"$f":"IF(#REF!=4,93,0)","v":{"$error":"#REF!"}},{"$f":"IF(#REF!=5,90,0)","v":{"$error":"#REF!"}},{"$f":"IF(#REF!=6,88,0)","v":{"$error":"#REF!"}},{"$f":"IF(#REF!=7,85,0)","v":{"$error":"#REF!"}},{"$f":"IF(#REF!=8,83,0)","v":{"$error":"#REF!"}},{"$f":"IF(#REF!=9,80,0)","v":{"$error":"#REF!"}},{"$f":"IF(#REF!=10,78,0)","v":{"$error":"#REF!"}},{"$f":"IF(#REF!=11,75,0)","v":{"$error":"#REF!"}},{"$f":"IF(#REF!=12,73,0)","v":{"$error":"#REF!"}},{"$f":"IF(#REF!=13,70,0)","v":{"$error":"#REF!"}},{"$f":"IF(#REF!=14,68,0)","v":{"$error":"#REF!"}},{"$f":"IF(#REF!=15,65,0)","v":{"$error":"#REF!"}},{"$f":"IF(#REF!=16,63,0)","v":{"$error":"#REF!"}},{"$f":"IF(#REF!=17,60,0)","v":{"$error":"#REF!"}},{"$f":"IF(#REF!=18,58,0)","v":{"$error":"#REF!"}},{"$f":"IF(#REF!=19,55,0)","v":{"$error":"#REF!"}},{"$f":"IF(#REF!=20,53,0)","v":{"$error":"#REF!"}},{"$f":"IF(#REF!>20,0,0)","v":{"$error":"#REF!"}},{"$f":"IF(#REF!=\"сх\",0,0)","v":{"$error":"#REF!"}},{"$error":"#REF!"},{"$f":"IF(#REF!=1,100,0)","v":{"$error":"#REF!"}},{"$f":"IF(#REF!=2,98,0)","v":{"$error":"#REF!"}},{"$f":"IF(#REF!=3,95,0)","v":{"$error":"#REF!"}},{"$f":"IF(#REF!=4,93,0)","v":{"$error":"#REF!"}},{"$f":"IF(#REF!=5,90,0)","v":{"$error":"#REF!"}},{"$f":"IF(#REF!=6,88,0)","v":{"$error":"#REF!"}},{"$f":"IF(#REF!=7,85,0)","v":{"$error":"#REF!"}},{"$f":"IF(#REF!=8,83,0)","v":{"$error":"#REF!"}},{"$f":"IF(#REF!=9,80,0)","v":{"$error":"#REF!"}},{"$f":"IF(#REF!=10,78,0)","v":{"$error":"#REF!"}},{"$f":"IF(#REF!=11,75,0)","v":{"$error":"#REF!"}},{"$f":"IF(#REF!=12,73,0)","v":{"$error":"#REF!"}},{"$f":"IF(#REF!=13,70,0)","v":{"$error":"#REF!"}},{"$f":"IF(#REF!=14,68,0)","v":{"$error":"#REF!"}},{"$f":"IF(#REF!=15,65,0)","v":{"$error":"#REF!"}},{"$f":"IF(#REF!=16,63,0)","v":{"$error":"#REF!"}},{"$f":"IF(#REF!=17,60,0)","v":{"$error":"#REF!"}},{"$f":"IF(#REF!=18,58,0)","v":{"$error":"#REF!"}},{"$f":"IF(#REF!=19,55,0)","v":{"$error":"#REF!"}},{"$f":"IF(#REF!=20,53,0)","v":{"$error":"#REF!"}},{"$f":"IF(#REF!>20,0,0)","v":{"$error":"#REF!"}},{"$f":"IF(#REF!=\"сх\",0,0)","v":{"$error":"#REF!"}},{"$error":"#REF!"}]
[]
[]
["  "]
["судья Всероссийской категории:                                                                                                              А. Б. Стеблинский (г. Тюмень; лицензия МФР А 144)"]
[]
["Главный секретарь соревнований"]
["судья Всероссийской категории:                                                                                              А. Ю. Иванов (г. Москва/лицензия МФР А 105; FIM 11245)"]

{"sheet":"МАЛЬЧИКИ 3","index":10,"n_rows":29,"n_cols":260,"rows_kept":29,"cut":false,"hidden":false,"merged":[[24,0,24,8],[27,0,27,11],[5,12,7,12],[5,8,5,9],[5,10,5,11],[6,8,7,8],[6,9,7,9],[6,10,7,10],[6,11,7,11],[5,0,7,0],[5,2,7,2],[5,3,7,3],[5,4,7,4],[5,5,7,5],[5,6,7,6],[5,7,7,7],[5,16,7,16],[5,17,7,17],[0,17,2,17],[0,0,0,16],[1,0,1,16],[2,0,2,16],[3,0,3,16],[5,1,7,1]]}
["Показательные выступления в рамках Кубка ЯНАО по кроссу на снегоходах 2017 года - III-й этап.                                                             "]
["ПРОТОКОЛ ЛИЧНОГО ЗАЧЕТА",null,null,null,null,null,null,null,null,null,null,null,null,null,null,null,null,null,null,null,null,null,null,null,null,null,null,null,null,null,null,null,null,null,null,null,null,null,null,null,null,null,null,null,null,null,null,null,null,null,null,null,null,null,null,null,null,null,null,null,null,null,null,null,null,null,null,null,null,null,null,null,null,null,null,null,null,null,null,null,null,null,null,null,null,null,null,null,null,null,null,null,null,null,null,null,null,null,null,null,null,null,null,null,null,null,null,null,null,null,null,null,null,null,null,null,null,null,null,null,null,null,null,null,null,null,null,null,null,null,null,null,null,null,null,null,null,null,null,null,null,null,null,null,null,null,null,null,null,null,null,null,null,null,null,null,null,null,null,null,null,null,null,null,null,null,null,null,null,null,null,null,null,null,null,null,"первый этап"]
["г. Новый Уренгой, Ямало-Ненецкий АО.                                                                                                                                                                                                 31 марта - 02 апреля 2017 года.",null,null,null,null,null,null,null,null,null,null,null,null,null,null,null,null,null,null,null,null,null,null,null,null,null,null,null,null,null,null,null,null,null,null,null,null,null,null,null,null,null,null,null,null,null,null,null,null,null,null,null,null,null,null,null,null,null,null,null,null,null,null,null,null,null,null,null,null,null,null,null,null,null,null,null,null,null,null,null,null,null,null,null,null,null,null,null,null,null,null,null,null,null,null,null,null,null,null,null,null,null,null,null,null,null,null,null,null,null,null,null,null,null,null,null,null,null,null,null,null,null,null,null,null,null,null,null,null,null,null,null,null,null,null,null,null,null,null,null,null,null,null,null,null,null,null,null,null,null,null,null,null,null,null,null,null,null,null,null,null,null,null,null,null,"первый заезд личные очки",null,null,null,null,null,null,null,null,null,null,null,null,null,null,null,null,null,null,null,null,null,"второй заезд личные очки",null,null,null,null,null,null,null,null,null,null,null,null,null,null,null,null,null,null,null,null,null,null,"Первый заезд командные очки",null,null,null,null,null,null,null,null,null,null,null,null,null,null,null,null,null,null,null,null,null,null,"Второй заезд командные очки"]
["Класс \"МАЛЬЧИКИ 3\". ",null,null,null,null,null,null,null,null,null,null,null,null,null,null,null,null,null,null,null,null,null,null,null,null,null,null,null,null,null,null,null,null,null,null,null,null,null,null,null,null,null,null,null,null,null,null,null,null,null,null,null,null,null,null,null,null,null,null,null,null,null,null,null,null,null,null,null,null,null,null,null,null,null,null,null,null,null,null,null,null,null,null,null,null,null,null,null,null,null,null,null,null,null,null,null,null,null,null,null,null,null,null,null,null,null,null,null,null,null,null,null,null,null,null,null,null,null,null,null,null,null,null,null,null,null,null,null,null,null,null,null,null,null,null,null,null,null,null,null,null,null,null,null,null,null,null,null,null,null,null,null,null,null,null,null,null,null,null,null,null,null,null,null,1,2,3,4,5,6,7,8,9,10,11,12,13,14,15,16,17,18,19,20,21,"сх","Sym",1,2,3,4,5,6,7,8,9,10,11,12,13,14,15,16,17,18,19,20,21,"cx","sym",1,2,3,4,5,6,7,8,9,10,11,12,13,14,15,16,17,18,19,20,21,"сх","очки",1,2,3,4,5,6,7,8,9,10,11,12,13,14,15,16,17,18,19,20,21,"сх","очки",{"$f":"COUNT(FI4:IV4)","v":84},"Н. Стро","В. стро","место"]
[]
["Место ","РЕЙТИНГОВЫЕ ОЧКИ Коэф. 0,1 ","Ст. №","Фамилия, Имя","Разряд","Город (край, район, область)","Команда","Марка снегохода","1-й заезд",null,"2-й заезд",null,"Сумма очк. в командном зачете",null,null,null,"СУММА ОЧКОВ","Сумма очк. в командном зачете"]
[null,null,null,null,null,null,null,null,"место","лич. очки","место","лич. очки",null,null,null,null,null,null,null,null,null,"первый заезд личные очки",null,null,null,null,null,null,null,null,null,null,null,null,null,null,null,null,null,null,null,null,null,"второй заезд личные очки",null,null,null,null,null,null,null,null,null,null,null,null,null,null,null,null,null,null,null,null,null,null,"Первый заезд командные очки",null,null,null,null,null,null,null,null,null,null,null,null,null,null,null,null,null,null,null,null,null,null,null,null,null,null,null,null,null,null,null,null,null,null,null,null,null,null,null,null,null,null,"Второй заезд командные очки",null,null,null,null,null,null,null,null,null,null,null,null,null,null,null,null,null,null,null,null,null,null,null,null,null,null,null,null,null,null,null,null,null,null,null,null,null,null,null,null,null,null,null,1,2,null,null,null,null,null,null,null,null,null,null,null,null,null,null,null,null,null,null,null,null,null,"первый этап"]
[null,null,null,null,null,null,null,null,null,null,null,null,null,null,null,1,null,null,null,null,1,2,3,4,5,6,7,8,9,10,11,12,13,14,15,16,17,18,19,20,21,"сх",null,1,2,3,4,5,6,7,8,9,10,11,12,13,14,15,16,17,18,19,20,null,"cx",null,1,2,3,4,5,6,7,8,9,10,11,12,13,14,15,16,17,18,19,20,21,22,23,24,25,26,27,28,29,30,31,32,33,34,35,36,37,38,39,40,null,null,null,1,2,3,4,5,6,7,8,9,10,11,12,13,14,15,16,17,18,19,20,21,22,23,24,25,26,27,28,29,30,31,32,33,34,35,36,37,38,39,40,null,null,null,null,null,null,null,"мин","Н. Стро","В. стро","место",null,"чр1","чр2",null,null,"первый заезд личные очки",null,null,null,null,null,null,null,null,null,null,null,null,null,null,null,null,null,null,null,null,null,"второй заезд личные очки",null,null,null,null,null,null,null,null,null,null,null,null,null,null,null,null,null,null,null,null,null,null,"Первый заезд командные очки",null,null,null,null,null,null,null,null,null,null,null,null,null,null,null,null,null,null,null,null,null,null,"Второй заезд командные очки"]
[1,5,99,"Скиданов Лев","I","г. Новый Уренгой, Ямало-Ненецкий АО","СТК \"Факел\"","LYNX",1,25,1,25,{"$f":"#REF!+#REF!","v":{"$error":"#REF!"}},null,null,{"$f":"IF(#REF!=1,25,0)","v":{"$error":"#REF!"}},{"$f":"SUM(J9+L9)","v":50},{"$f":"#REF!+#REF!","v":{"$error":"#REF!"}},null,null,{"$f":"IF(#REF!=1,25,0)","v":{"$error":"#REF!"}},{"$f":"IF(#REF!=2,22,0)","v":{"$error":"#REF!"}},{"$f":"IF(#REF!=3,20,0)","v":{"$error":"#REF!"}},{"$f":"IF(#REF!=4,18,0)","v":{"$error":"#REF!"}},{"$f":"IF(#REF!=5,16,0)","v":{"$error":"#REF!"}},{"$f":"IF(#REF!=6,15,0)","v":{"$error":"#REF!"}},{"$f":"IF(#REF!=7,14,0)","v":{"$error":"#REF!"}},{"$f":"IF(#REF!=8,13,0)","v":{"$error":"#REF!"}},{"$f":"IF(#REF!=9,12,0)","v":{"$error":"#REF!"}},{"$f":"IF(#REF!=10,11,0)","v":{"$error":"#REF!"}},{"$f":"IF(#REF!=11,10,0)","v":{"$error":"#REF!"}},{"$f":"IF(#REF!=12,9,0)","v":{"$error":"#REF!"}},{"$f":"IF(#REF!=13,8,0)","v":{"$error":"#REF!"}},{"$f":"IF(#REF!=14,7,0)","v":{"$error":"#REF!"}},{"$f":"IF(#REF!=15,6,0)","v":{"$error":"#REF!"}},{"$f":"IF(#REF!=16,5,0)","v":{"$error":"#REF!"}},{"$f":"IF(#REF!=17,4,0)","v":{"$error":"#REF!"}},{"$f":"IF(#REF!=18,3,0)","v":{"$error":"#REF!"}},{"$f":"IF(#REF!=19,2,0)","v":{"$error":"#REF!"}},{"$f":"IF(#REF!=20,1,0)","v":{"$error":"#REF!"}},{"$f":"IF(#REF!>20,0,0)","v":{"$error":"#REF!"}},{"$f":"IF(#REF!=\"сх\",0,0)","v":{"$error":"#REF!"}},{"$f":"SUM(U9:AO9)","v":{"$error":"#REF!"}},{"$f":"IF(#REF!=1,25,0)","v":{"$error":"#REF!"}},{"$f":"IF(#REF!=2,22,0)","v":{"$error":"#REF!"}},{"$f":"IF(#REF!=3,20,0)","v":{"$error":"#REF!"}},{"$f":"IF(#REF!=4,18,0)","v":{"$error":"#REF!"}},{"$f":"IF(#REF!=5,16,0)","v":{"$error":"#REF!"}},{"$f":"IF(#REF!=6,15,0)","v":{"$error":"#REF!"}},{"$f":"IF(#REF!=7,14,0)","v":{"$error":"#REF!"}},{"$f":"IF(#REF!=8,13,0)","v":{"$error":"#REF!"}},{"$f":"IF(#REF!=9,12,0)","v":{"$error":"#REF!"}},{"$f":"IF(#REF!=10,11,0)","v":{"$error":"#REF!"}},{"$f":"IF(#REF!=11,10,0)","v":{"$error":"#REF!"}},{"$f":"IF(#REF!=12,9,0)","v":{"$error":"#REF!"}},{"$f":"IF(#REF!=13,8,0)","v":{"$error":"#REF!"}},{"$f":"IF(#REF!=14,7,0)","v":{"$error":"#REF!"}},{"$f":"IF(#REF!=15,6,0)","v":{"$error":"#REF!"}},{"$f":"IF(#REF!=16,5,0)","v":{"$error":"#REF!"}},{"$f":"IF(#REF!=17,4,0)","v":{"$error":"#REF!"}},{"$f":"IF(#REF!=18,3,0)","v":{"$error":"#REF!"}},{"$f":"IF(#REF!=19,2,0)","v":{"$error":"#REF!"}},{"$f":"IF(#REF!=20,1,0)","v":{"$error":"#REF!"}},{"$f":"IF(#REF!>20,0,0)","v":{"$error":"#REF!"}},{"$f":"IF(#REF!=\"сх\",0,0)","v":{"$error":"#REF!"}},{"$f":"SUM(AR9:BL9)","v":{"$error":"#REF!"}},{"$f":"IF(#REF!=1,45,0)","v":{"$error":"#REF!"}},{"$f":"IF(#REF!=2,42,0)","v":{"$error":"#REF!"}},{"$f":"IF(#REF!=3,40,0)","v":{"$error":"#REF!"}},{"$f":"IF(#REF!=4,38,0)","v":{"$error":"#REF!"}},{"$f":"IF(#REF!=5,36,0)","v":{"$error":"#REF!"}},{"$f":"IF(#REF!=6,35,0)","v":{"$error":"#REF!"}},{"$f":"IF(#REF!=7,34,0)","v":{"$error":"#REF!"}},{"$f":"IF(#REF!=8,33,0)","v":{"$error":"#REF!"}},{"$f":"IF(#REF!=9,32,0)","v":{"$error":"#REF!"}},{"$f":"IF(#REF!=10,31,0)","v":{"$error":"#REF!"}},{"$f":"IF(#REF!=11,30,0)","v":{"$error":"#REF!"}},{"$f":"IF(#REF!=12,29,0)","v":{"$error":"#REF!"}},{"$f":"IF(#REF!=13,28,0)","v":{"$error":"#REF!"}},{"$f":"IF(#REF!=14,27,0)","v":{"$error":"#REF!"}},{"$f":"IF(#REF!=15,26,0)","v":{"$error":"#REF!"}},{"$f":"IF(#REF!=16,25,0)","v":{"$error":"#REF!"}},{"$f":"IF(#REF!=17,24,0)","v":{"$error":"#REF!"}},{"$f":"IF(#REF!=18,23,0)","v":{"$error":"#REF!"}},{"$f":"IF(#REF!=19,22,0)","v":{"$error":"#REF!"}},{"$f":"IF(#REF!=20,21,0)","v":{"$error":"#REF!"}},{"$f":"IF(#REF!=21,20,0)","v":{"$error":"#REF!"}},{"$f":"IF(#REF!=22,19,0)","v":{"$error":"#REF!"}},{"$f":"IF(#REF!=23,18,0)","v":{"$error":"#REF!"}},{"$f":"IF(#REF!=24,17,0)","v":{"$error":"#REF!"}},{"$f":"IF(#REF!=25,16,0)","v":{"$error":"#REF!"}},{"$f":"IF(#REF!=26,15,0)","v":{"$error":"#REF!"}},{"$f":"IF(#REF!=27,14,0)","v":{"$error":"#REF!"}},{"$f":"IF(#REF!=28,13,0)","v":{"$error":"#REF!"}},{"$f":"IF(#REF!=29,12,0)","v":{"$error":"#REF!"}},{"$f":"IF(#REF!=30,11,0)","v":{"$error":"#REF!"}},{"$f":"IF(#REF!=31,10,0)","v":{"$error":"#REF!"}},{"$f":"IF(#REF!=32,9,0)","v":{"$error":"#REF!"}},{"$f":"IF(#REF!=33,8,0)","v":{"$error":"#REF!"}},{"$f":"IF(#REF!=34,7,0)","v":{"$error":"#REF!"}},{"$f":"IF(#REF!=35,6,0)","v":{"$error":"#REF!"}},{"$f":"IF(#REF!=36,5,0)","v":{"$error":"#REF!"}},{"$f":"IF(#REF!=37,4,0)","v":{"$error":"#REF!"}},{"$f":"IF(#REF!=38,3,0)","v":{"$error":"#REF!"}},{"$f":"IF(#REF!=39,2,0)","v":{"$error":"#REF!"}},{"$f":"IF(#REF!=40,1,0)","v":{"$error":"#REF!"}},{"$f":"IF(#REF!>20,0,0)","v":{"$error":"#REF!"}},{"$f":"IF(#REF!=\"сх\",0,0)","v":{"$error":"#REF!"}},{"$f":"SUM(BO9:DD9)","v":{"$error":"#REF!"}},{"$f":"IF(#REF!=1,45,0)","v":{"$error":"#REF!"}},{"$f":"IF(#REF!=2,42,0)","v":{"$error":"#REF!"}},{"$f":"IF(#REF!=3,40,0)","v":{"$error":"#REF!"}},{"$f":"IF(#REF!=4,38,0)","v":{"$error":"#REF!"}},{"$f":"IF(#REF!=5,36,0)","v":{"$error":"#REF!"}},{"$f":"IF(#REF!=6,35,0)","v":{"$error":"#REF!"}},{"$f":"IF(#REF!=7,34,0)","v":{"$error":"#REF!"}},{"$f":"IF(#REF!=8,33,0)","v":{"$error":"#REF!"}},{"$f":"IF(#REF!=9,32,0)","v":{"$error":"#REF!"}},{"$f":"IF(#REF!=10,31,0)","v":{"$error":"#REF!"}},{"$f":"IF(#REF!=11,30,0)","v":{"$error":"#REF!"}},{"$f":"IF(#REF!=12,29,0)","v":{"$error":"#REF!"}},{"$f":"IF(#REF!=13,28,0)","v":{"$error":"#REF!"}},{"$f":"IF(#REF!=14,27,0)","v":{"$error":"#REF!"}},{"$f":"IF(#REF!=15,26,0)","v":{"$error":"#REF!"}},{"$f":"IF(#REF!=16,25,0)","v":{"$error":"#REF!"}},{"$f":"IF(#REF!=17,24,0)","v":{"$error":"#REF!"}},{"$f":"IF(#REF!=18,23,0)","v":{"$error":"#REF!"}},{"$f":"IF(#REF!=19,22,0)","v":{"$error":"#REF!"}},{"$f":"IF(#REF!=20,21,0)","v":{"$error":"#REF!"}},{"$f":"IF(#REF!=21,20,0)","v":{"$error":"#REF!"}},{"$f":"IF(#REF!=22,19,0)","v":{"$error":"#REF!"}},{"$f":"IF(#REF!=23,18,0)","v":{"$error":"#REF!"}},{"$f":"IF(#REF!=24,17,0)","v":{"$error":"#REF!"}},{"$f":"IF(#REF!=25,16,0)","v":{"$error":"#REF!"}},{"$f":"IF(#REF!=26,15,0)","v":{"$error":"#REF!"}},{"$f":"IF(#REF!=27,14,0)","v":{"$error":"#REF!"}},{"$f":"IF(#REF!=28,13,0)","v":{"$error":"#REF!"}},{"$f":"IF(#REF!=29,12,0)","v":{"$error":"#REF!"}},{"$f":"IF(#REF!=30,11,0)","v":{"$error":"#REF!"}},{"$f":"IF(#REF!=31,10,0)","v":{"$error":"#REF!"}},{"$f":"IF(#REF!=32,9,0)","v":{"$error":"#REF!"}},{"$f":"IF(#REF!=33,8,0)","v":{"$error":"#REF!"}},{"$f":"IF(#REF!=34,7,0)","v":{"$error":"#REF!"}},{"$f":"IF(#REF!=35,6,0)","v":{"$error":"#REF!"}},{"$f":"IF(#REF!=36,5,0)","v":{"$error":"#REF!"}},{"$f":"IF(#REF!=37,4,0)","v":{"$error":"#REF!"}},{"$f":"IF(#REF!=38,3,0)","v":{"$error":"#REF!"}},{"$f":"IF(#REF!=39,2,0)","v":{"$error":"#REF!"}},{"$f":"IF(#REF!=40,1,0)","v":{"$error":"#REF!"}},{"$f":"IF(#REF!>20,0,0)","v":{"$error":"#REF!"}},{"$f":"IF(#REF!=\"сх\",0,0)","v":{"$error":"#REF!"}},{"$f":"SUM(DF9:EU9)","v":{"$error":"#REF!"}},null,{"$f":"IF(#REF!=\"сх\",\"ноль\",IF(#REF!>0,#REF!,\"Ноль\"))","v":{"$error":"#REF!"}},{"$f":"IF(#REF!=\"сх\",\"ноль\",IF(#REF!>0,#REF!,\"Ноль\"))","v":{"$error":"#REF!"}},null,{"$f":"MIN(EX9,EY9)","v":{"$error":"#REF!"}},{"$f":"IF(Q9=#REF!,IF(#REF!<#REF!,#REF!,FF9),#REF!)","v":{"$error":"#REF!"}},{"$f":"IF(Q9=#REF!,IF(#REF!<#REF!,0,1))","v":{"$error":"#REF!"}},{"$f":"IF(AND(FA9>=21,FA9<>0),FA9,IF(Q9<#REF!,\"СТОП\",FB9+FC9))","v":{"$error":"#REF!"}},null,15,16,null,{"$f":"IF(#REF!=1,25,0)","v":{"$error":"#REF!"}},{"$f":"IF(#REF!=2,22,0)","v":{"$error":"#REF!"}},{"$f":"IF(#REF!=3,20,0)","v":{"$error":"#REF!"}},{"$f":"IF(#REF!=4,18,0)","v":{"$error":"#REF!"}},{"$f":"IF(#REF!=5,16,0)","v":{"$error":"#REF!"}},{"$f":"IF(#REF!=6,15,0)","v":{"$error":"#REF!"}},{"$f":"IF(#REF!=7,14,0)","v":{"$error":"#REF!"}},{"$f":"IF(#REF!=8,13,0)","v":{"$error":"#REF!"}},{"$f":"IF(#REF!=9,12,0)","v":{"$error":"#REF!"}},{"$f":"IF(#REF!=10,11,0)","v":{"$error":"#REF!"}},{"$f":"IF(#REF!=11,10,0)","v":{"$error":"#REF!"}},{"$f":"IF(#REF!=12,9,0)","v":{"$error":"#REF!"}},{"$f":"IF(#REF!=13,8,0)","v":{"$error":"#REF!"}},{"$f":"IF(#REF!=14,7,0)","v":{"$error":"#REF!"}},{"$f":"IF(#REF!=15,6,0)","v":{"$error":"#REF!"}},{"$f":"IF(#REF!=16,5,0)","v":{"$error":"#REF!"}},{"$f":"IF(#REF!=17,4,0)","v":{"$error":"#REF!"}},{"$f":"IF(#REF!=18,3,0)","v":{"$error":"#REF!"}},{"$f":"IF(#REF!=19,2,0)","v":{"$error":"#REF!"}},{"$f":"IF(#REF!=20,1,0)","v":{"$error":"#REF!"}},{"$f":"IF(#REF!>20,0,0)","v":{"$error":"#REF!"}},{"$f":"IF(#REF!=\"сх\",0,0)","v":{"$error":"#REF!"}},{"$f":"SUM(FI9:GD9)","v":{"$error":"#REF!"}},{"$f":"IF(#REF!=1,25,0)","v":{"$error":"#REF!"}},{"$f":"IF(#REF!=2,22,0)","v":{"$error":"#REF!"}},{"$f":"IF(#REF!=3,20,0)","v":{"$error":"#REF!"}},{"$f":"IF(#REF!=4,18,0)","v":{"$error":"#REF!"}},{"$f":"IF(#REF!=5,16,0)","v":{"$error":"#REF!"}},{"$f":"IF(#REF!=6,15,0)","v":{"$error":"#REF!"}},{"$f":"IF(#REF!=7,14,0)","v":{"$error":"#REF!"}},{"$f":"IF(#REF!=8,13,0)","v":{"$error":"#REF!"}},{"$f":"IF(#REF!=9,12,0)","v":{"$error":"#REF!"}},{"$f":"IF(#REF!=10,11,0)","v":{"$error":"#REF!"}},{"$f":"IF(#REF!=11,10,0)","v":{"$error":"#REF!"}},{"$f":"IF(#REF!=12,9,0)","v":{"$error":"#REF!"}},{"$f":"IF(#REF!=13,8,0)","v":{"$error":"#REF!"}},{"$f":"IF(#REF!=14,7,0)","v":{"$error":"#REF!"}},{"$f":"IF(#REF!=15,6,0)","v":{"$error":"#REF!"}},{"$f":"IF(#REF!=16,5,0)","v":{"$error":"#REF!"}},{"$f":"IF(#REF!=17,4,0)","v":{"$error":"#REF!"}},{"$f":"IF(#REF!=18,3,0)","v":{"$error":"#REF!"}},{"$f":"IF(#REF!=19,2,0)","v":{"$error":"#REF!"}},{"$f":"IF(#REF!=20,1,0)","v":{"$error":"#REF!"}},{"$f":"IF(#REF!>20,0,0)","v":{"$error":"#REF!"}},{"$f":"IF(#REF!=\"сх\",0,0)","v":{"$error":"#REF!"}},{"$f":"SUM(GF9:HA9)","v":{"$error":"#REF!"}},{"$f":"IF(#REF!=1,100,0)","v":{"$error":"#REF!"}},{"$f":"IF(#REF!=2,98,0)","v":{"$error":"#REF!"}},{"$f":"IF(#REF!=3,95,0)","v":{"$error":"#REF!"}},{"$f":"IF(#REF!=4,93,0)","v":{"$error":"#REF!"}},{"$f":"IF(#REF!=5,90,0)","v":{"$error":"#REF!"}},{"$f":"IF(#REF!=6,88,0)","v":{"$error":"#REF!"}},{"$f":"IF(#REF!=7,85,0)","v":{"$error":"#REF!"}},{"$f":"IF(#REF!=8,83,0)","v":{"$error":"#REF!"}},{"$f":"IF(#REF!=9,80,0)","v":{"$error":"#REF!"}},{"$f":"IF(#REF!=10,78,0)","v":{"$error":"#REF!"}},{"$f":"IF(#REF!=11,75,0)","v":{"$error":"#REF!"}},{"$f":"IF(#REF!=12,73,0)","v":{"$error":"#REF!"}},{"$f":"IF(#REF!=13,70,0)","v":{"$error":"#REF!"}},{"$f":"IF(#REF!=14,68,0)","v":{"$error":"#REF!"}},{"$f":"IF(#REF!=15,65,0)","v":{"$error":"#REF!"}},{"$f":"IF(#REF!=16,63,0)","v":{"$error":"#REF!"}},{"$f":"IF(#REF!=17,60,0)","v":{"$error":"#REF!"}},{"$f":"IF(#REF!=18,58,0)","v":{"$error":"#REF!"}},{"$f":"IF(#REF!=19,55,0)","v":{"$error":"#REF!"}},{"$f":"IF(#REF!=20,53,0)","v":{"$error":"#REF!"}},{"$f":"IF(#REF!>20,0,0)","v":{"$error":"#REF!"}},{"$f":"IF(#REF!=\"сх\",0,0)","v":{"$error":"#REF!"}},{"$f":"SUM(HC9:HX9)","v":{"$error":"#REF!"}},{"$f":"IF(#REF!=1,100,0)","v":{"$error":"#REF!"}},{"$f":"IF(#REF!=2,98,0)","v":{"$error":"#REF!"}},{"$f":"IF(#REF!=3,95,0)","v":{"$error":"#REF!"}},{"$f":"IF(#REF!=4,93,0)","v":{"$error":"#REF!"}},{"$f":"IF(#REF!=5,90,0)","v":{"$error":"#REF!"}},{"$f":"IF(#REF!=6,88,0)","v":{"$error":"#REF!"}},{"$f":"IF(#REF!=7,85,0)","v":{"$error":"#REF!"}},{"$f":"IF(#REF!=8,83,0)","v":{"$error":"#REF!"}},{"$f":"IF(#REF!=9,80,0)","v":{"$error":"#REF!"}},{"$f":"IF(#REF!=10,78,0)","v":{"$error":"#REF!"}},{"$f":"IF(#REF!=11,75,0)","v":{"$error":"#REF!"}},{"$f":"IF(#REF!=12,73,0)","v":{"$error":"#REF!"}},{"$f":"IF(#REF!=13,70,0)","v":{"$error":"#REF!"}},{"$f":"IF(#REF!=14,68,0)","v":{"$error":"#REF!"}},{"$f":"IF(#REF!=15,65,0)","v":{"$error":"#REF!"}},{"$f":"IF(#REF!=16,63,0)","v":{"$error":"#REF!"}},{"$f":"IF(#REF!=17,60,0)","v":{"$error":"#REF!"}},{"$f":"IF(#REF!=18,58,0)","v":{"$error":"#REF!"}},{"$f":"IF(#REF!=19,55,0)","v":{"$error":"#REF!"}},{"$f":"IF(#REF!=20,53,0)","v":{"$error":"#REF!"}},{"$f":"IF(#REF!>20,0,0)","v":{"$error":"#REF!"}},{"$f":"IF(#REF!=\"сх\",0,0)","v":{"$error":"#REF!"}},{"$f":"SUM(HZ9:IU9)","v":{"$error":"#REF!"}}]
[2,4.8,173,"Синявин Роман","б/р","г. Новый Уренгой, Ямало-Ненецкий АО","МАУ МЦ \"НОРД\"","KTM",3,20,2,22,{"$f":"#REF!+#REF!","v":{"$error":"#REF!"}},null,null,{"$f":"IF(#REF!=1,25,0)","v":{"$error":"#REF!"}},42,{"$f":"#REF!+#REF!","v":{"$error":"#REF!"}},null,null,{"$f":"IF(#REF!=1,25,0)","v":{"$error":"#REF!"}},{"$f":"IF(#REF!=2,22,0)","v":{"$error":"#REF!"}},{"$f":"IF(#REF!=3,20,0)","v":{"$error":"#REF!"}},{"$f":"IF(#REF!=4,18,0)","v":{"$error":"#REF!"}},{"$f":"IF(#REF!=5,16,0)","v":{"$error":"#REF!"}},{"$f":"IF(#REF!=6,15,0)","v":{"$error":"#REF!"}},{"$f":"IF(#REF!=7,14,0)","v":{"$error":"#REF!"}},{"$f":"IF(#REF!=8,13,0)","v":{"$error":"#REF!"}},{"$f":"IF(#REF!=9,12,0)","v":{"$error":"#REF!"}},{"$f":"IF(#REF!=10,11,0)","v":{"$error":"#REF!"}},{"$f":"IF(#REF!=11,10,0)","v":{"$error":"#REF!"}},{"$f":"IF(#REF!=12,9,0)","v":{"$error":"#REF!"}},{"$f":"IF(#REF!=13,8,0)","v":{"$error":"#REF!"}},{"$f":"IF(#REF!=14,7,0)","v":{"$error":"#REF!"}},{"$f":"IF(#REF!=15,6,0)","v":{"$error":"#REF!"}},{"$f":"IF(#REF!=16,5,0)","v":{"$error":"#REF!"}},{"$f":"IF(#REF!=17,4,0)","v":{"$error":"#REF!"}},{"$f":"IF(#REF!=18,3,0)","v":{"$error":"#REF!"}},{"$f":"IF(#REF!=19,2,0)","v":{"$error":"#REF!"}},{"$f":"IF(#REF!=20,1,0)","v":{"$error":"#REF!"}},{"$f":"IF(#REF!>20,0,0)","v":{"$error":"#REF!"}},{"$f":"IF(#REF!=\"сх\",0,0)","v":{"$error":"#REF!"}},{"$f":"SUM(U10:AO10)","v":{"$error":"#REF!"}},{"$f":"IF(#REF!=1,25,0)","v":{"$error":"#REF!"}},{"$f":"IF(#REF!=2,22,0)","v":{"$error":"#REF!"}},{"$f":"IF(#REF!=3,20,0)","v":{"$error":"#REF!"}},{"$f":"IF(#REF!=4,18,0)","v":{"$error":"#REF!"}},{"$f":"IF(#REF!=5,16,0)","v":{"$error":"#REF!"}},{"$f":"IF(#REF!=6,15,0)","v":{"$error":"#REF!"}},{"$f":"IF(#REF!=7,14,0)","v":{"$error":"#REF!"}},{"$f":"IF(#REF!=8,13,0)","v":{"$error":"#REF!"}},{"$f":"IF(#REF!=9,12,0)","v":{"$error":"#REF!"}},{"$f":"IF(#REF!=10,11,0)","v":{"$error":"#REF!"}},{"$f":"IF(#REF!=11,10,0)","v":{"$error":"#REF!"}},{"$f":"IF(#REF!=12,9,0)","v":{"$error":"#REF!"}},{"$f":"IF(#REF!=13,8,0)","v":{"$error":"#REF!"}},{"$f":"IF(#REF!=14,7,0)","v":{"$error":"#REF!"}},{"$f":"IF(#REF!=15,6,0)","v":{"$error":"#REF!"}},{"$f":"IF(#REF!=16,5,0)","v":{"$error":"#REF!"}},{"$f":"IF(#REF!=17,4,0)","v":{"$error":"#REF!"}},{"$f":"IF(#REF!=18,3,0)","v":{"$error":"#REF!"}},{"$f":"IF(#REF!=19,2,0)","v":{"$error":"#REF!"}},{"$f":"IF(#REF!=20,1,0)","v":{"$error":"#REF!"}},{"$f":"IF(#REF!>20,0,0)","v":{"$error":"#REF!"}},{"$f":"IF(#REF!=\"сх\",0,0)","v":{"$error":"#REF!"}},{"$f":"SUM(AR10:BL10)","v":{"$error":"#REF!"}},{"$f":"IF(#REF!=1,45,0)","v":{"$error":"#REF!"}},{"$f":"IF(#REF!=2,42,0)","v":{"$error":"#REF!"}},{"$f":"IF(#REF!=3,40,0)","v":{"$error":"#REF!"}},{"$f":"IF(#REF!=4,38,0)","v":{"$error":"#REF!"}},{"$f":"IF(#REF!=5,36,0)","v":{"$error":"#REF!"}},{"$f":"IF(#REF!=6,35,0)","v":{"$error":"#REF!"}},{"$f":"IF(#REF!=7,34,0)","v":{"$error":"#REF!"}},{"$f":"IF(#REF!=8,33,0)","v":{"$error":"#REF!"}},{"$f":"IF(#REF!=9,32,0)","v":{"$error":"#REF!"}},{"$f":"IF(#REF!=10,31,0)","v":{"$error":"#REF!"}},{"$f":"IF(#REF!=11,30,0)","v":{"$error":"#REF!"}},{"$f":"IF(#REF!=12,29,0)","v":{"$error":"#REF!"}},{"$f":"IF(#REF!=13,28,0)","v":{"$error":"#REF!"}},{"$f":"IF(#REF!=14,27,0)","v":{"$error":"#REF!"}},{"$f":"IF(#REF!=15,26,0)","v":{"$error":"#REF!"}},{"$f":"IF(#REF!=16,25,0)","v":{"$error":"#REF!"}},{"$f":"IF(#REF!=17,24,0)","v":{"$error":"#REF!"}},{"$f":"IF(#REF!=18,23,0)","v":{"$error":"#REF!"}},{"$f":"IF(#REF!=19,22,0)","v":{"$error":"#REF!"}},{"$f":"IF(#REF!=20,21,0)","v":{"$error":"#REF!"}},{"$f":"IF(#REF!=21,20,0)","v":{"$error":"#REF!"}},{"$f":"IF(#REF!=22,19,0)","v":{"$error":"#REF!"}},{"$f":"IF(#REF!=23,18,0)","v":{"$error":"#REF!"}},{"$f":"IF(#REF!=24,17,0)","v":{"$error":"#REF!"}},{"$f":"IF(#REF!=25,16,0)","v":{"$error":"#REF!"}},{"$f":"IF(#REF!=26,15,0)","v":{"$error":"#REF!"}},{"$f":"IF(#REF!=27,14,0)","v":{"$error":"#REF!"}},{"$f":"IF(#REF!=28,13,0)","v":{"$error":"#REF!"}},{"$f":"IF(#REF!=29,12,0)","v":{"$error":"#REF!"}},{"$f":"IF(#REF!=30,11,0)","v":{"$error":"#REF!"}},{"$f":"IF(#REF!=31,10,0)","v":{"$error":"#REF!"}},{"$f":"IF(#REF!=32,9,0)","v":{"$error":"#REF!"}},{"$f":"IF(#REF!=33,8,0)","v":{"$error":"#REF!"}},{"$f":"IF(#REF!=34,7,0)","v":{"$error":"#REF!"}},{"$f":"IF(#REF!=35,6,0)","v":{"$error":"#REF!"}},{"$f":"IF(#REF!=36,5,0)","v":{"$error":"#REF!"}},{"$f":"IF(#REF!=37,4,0)","v":{"$error":"#REF!"}},{"$f":"IF(#REF!=38,3,0)","v":{"$error":"#REF!"}},{"$f":"IF(#REF!=39,2,0)","v":{"$error":"#REF!"}},{"$f":"IF(#REF!=40,1,0)","v":{"$error":"#REF!"}},{"$f":"IF(#REF!>20,0,0)","v":{"$error":"#REF!"}},{"$f":"IF(#REF!=\"сх\",0,0)","v":{"$error":"#REF!"}},{"$f":"SUM(BO10:DD10)","v":{"$error":"#REF!"}},{"$f":"IF(#REF!=1,45,0)","v":{"$error":"#REF!"}},{"$f":"IF(#REF!=2,42,0)","v":{"$error":"#REF!"}},{"$f":"IF(#REF!=3,40,0)","v":{"$error":"#REF!"}},{"$f":"IF(#REF!=4,38,0)","v":{"$error":"#REF!"}},{"$f":"IF(#REF!=5,36,0)","v":{"$error":"#REF!"}},{"$f":"IF(#REF!=6,35,0)","v":{"$error":"#REF!"}},{"$f":"IF(#REF!=7,34,0)","v":{"$error":"#REF!"}},{"$f":"IF(#REF!=8,33,0)","v":{"$error":"#REF!"}},{"$f":"IF(#REF!=9,32,0)","v":{"$error":"#REF!"}},{"$f":"IF(#REF!=10,31,0)","v":{"$error":"#REF!"}},{"$f":"IF(#REF!=11,30,0)","v":{"$error":"#REF!"}},{"$f":"IF(#REF!=12,29,0)","v":{"$error":"#REF!"}},{"$f":"IF(#REF!=13,28,0)","v":{"$error":"#REF!"}},{"$f":"IF(#REF!=14,27,0)","v":{"$error":"#REF!"}},{"$f":"IF(#REF!=15,26,0)","v":{"$error":"#REF!"}},{"$f":"IF(#REF!=16,25,0)","v":{"$error":"#REF!"}},{"$f":"IF(#REF!=17,24,0)","v":{"$error":"#REF!"}},{"$f":"IF(#REF!=18,23,0)","v":{"$error":"#REF!"}},{"$f":"IF(#REF!=19,22,0)","v":{"$error":"#REF!"}},{"$f":"IF(#REF!=20,21,0)","v":{"$error":"#REF!"}},{"$f":"IF(#REF!=21,20,0)","v":{"$error":"#REF!"}},{"$f":"IF(#REF!=22,19,0)","v":{"$error":"#REF!"}},{"$f":"IF(#REF!=23,18,0)","v":{"$error":"#REF!"}},{"$f":"IF(#REF!=24,17,0)","v":{"$error":"#REF!"}},{"$f":"IF(#REF!=25,16,0)","v":{"$error":"#REF!"}},{"$f":"IF(#REF!=26,15,0)","v":{"$error":"#REF!"}},{"$f":"IF(#REF!=27,14,0)","v":{"$error":"#REF!"}},{"$f":"IF(#REF!=28,13,0)","v":{"$error":"#REF!"}},{"$f":"IF(#REF!=29,12,0)","v":{"$error":"#REF!"}},{"$f":"IF(#REF!=30,11,0)","v":{"$error":"#REF!"}},{"$f":"IF(#REF!=31,10,0)","v":{"$error":"#REF!"}},{"$f":"IF(#REF!=32,9,0)","v":{"$error":"#REF!"}},{"$f":"IF(#REF!=33,8,0)","v":{"$error":"#REF!"}},{"$f":"IF(#REF!=34,7,0)","v":{"$error":"#REF!"}},{"$f":"IF(#REF!=35,6,0)","v":{"$error":"#REF!"}},{"$f":"IF(#REF!=36,5,0)","v":{"$error":"#REF!"}},{"$f":"IF(#REF!=37,4,0)","v":{"$error":"#REF!"}},{"$f":"IF(#REF!=38,3,0)","v":{"$error":"#REF!"}},{"$f":"IF(#REF!=39,2,0)","v":{"$error":"#REF!"}},{"$f":"IF(#REF!=40,1,0)","v":{"$error":"#REF!"}},{"$f":"IF(#REF!>20,0,0)","v":{"$error":"#REF!"}},{"$f":"IF(#REF!=\"сх\",0,0)","v":{"$error":"#REF!"}},{"$f":"SUM(DF10:EU10)","v":{"$error":"#REF!"}},null,{"$f":"IF(#REF!=\"сх\",\"ноль\",IF(#REF!>0,#REF!,\"Ноль\"))","v":{"$error":"#REF!"}},{"$f":"IF(#REF!=\"сх\",\"ноль\",IF(#REF!>0,#REF!,\"Ноль\"))","v":{"$error":"#REF!"}},null,{"$f":"MIN(EX10,EY10)","v":{"$error":"#REF!"}},{"$f":"IF(Q10=#REF!,IF(#REF!<#REF!,#REF!,FF10),#REF!)","v":{"$error":"#REF!"}},{"$f":"IF(Q10=#REF!,IF(#REF!<#REF!,0,1))","v":{"$error":"#REF!"}},{"$f":"IF(AND(FA10>=21,FA10<>0),FA10,IF(Q10<#REF!,\"СТОП\",FB10+FC10))","v":{"$error":"#REF!"}},null,15,16,null,{"$f":"IF(#REF!=1,25,0)","v":{"$error":"#REF!"}},{"$f":"IF(#REF!=2,22,0)","v":{"$error":"#REF!"}},{"$f":"IF(#REF!=3,20,0)","v":{"$error":"#REF!"}},{"$f":"IF(#REF!=4,18,0)","v":{"$error":"#REF!"}},{"$f":"IF(#REF!=5,16,0)","v":{"$error":"#REF!"}},{"$f":"IF(#REF!=6,15,0)","v":{"$error":"#REF!"}},{"$f":"IF(#REF!=7,14,0)","v":{"$error":"#REF!"}},{"$f":"IF(#REF!=8,13,0)","v":{"$error":"#REF!"}},{"$f":"IF(#REF!=9,12,0)","v":{"$error":"#REF!"}},{"$f":"IF(#REF!=10,11,0)","v":{"$error":"#REF!"}},{"$f":"IF(#REF!=11,10,0)","v":{"$error":"#REF!"}},{"$f":"IF(#REF!=12,9,0)","v":{"$error":"#REF!"}},{"$f":"IF(#REF!=13,8,0)","v":{"$error":"#REF!"}},{"$f":"IF(#REF!=14,7,0)","v":{"$error":"#REF!"}},{"$f":"IF(#REF!=15,6,0)","v":{"$error":"#REF!"}},{"$f":"IF(#REF!=16,5,0)","v":{"$error":"#REF!"}},{"$f":"IF(#REF!=17,4,0)","v":{"$error":"#REF!"}},{"$f":"IF(#REF!=18,3,0)","v":{"$error":"#REF!"}},{"$f":"IF(#REF!=19,2,0)","v":{"$error":"#REF!"}},{"$f":"IF(#REF!=20,1,0)","v":{"$error":"#REF!"}},{"$f":"IF(#REF!>20,0,0)","v":{"$error":"#REF!"}},{"$f":"IF(#REF!=\"сх\",0,0)","v":{"$error":"#REF!"}},{"$f":"SUM(FI10:GD10)","v":{"$error":"#REF!"}},{"$f":"IF(#REF!=1,25,0)","v":{"$error":"#REF!"}},{"$f":"IF(#REF!=2,22,0)","v":{"$error":"#REF!"}},{"$f":"IF(#REF!=3,20,0)","v":{"$error":"#REF!"}},{"$f":"IF(#REF!=4,18,0)","v":{"$error":"#REF!"}},{"$f":"IF(#REF!=5,16,0)","v":{"$error":"#REF!"}},{"$f":"IF(#REF!=6,15,0)","v":{"$error":"#REF!"}},{"$f":"IF(#REF!=7,14,0)","v":{"$error":"#REF!"}},{"$f":"IF(#REF!=8,13,0)","v":{"$error":"#REF!"}},{"$f":"IF(#REF!=9,12,0)","v":{"$error":"#REF!"}},{"$f":"IF(#REF!=10,11,0)","v":{"$error":"#REF!"}},{"$f":"IF(#REF!=11,10,0)","v":{"$error":"#REF!"}},{"$f":"IF(#REF!=12,9,0)","v":{"$error":"#REF!"}},{"$f":"IF(#REF!=13,8,0)","v":{"$error":"#REF!"}},{"$f":"IF(#REF!=14,7,0)","v":{"$error":"#REF!"}},{"$f":"IF(#REF!=15,6,0)","v":{"$error":"#REF!"}},{"$f":"IF(#REF!=16,5,0)","v":{"$error":"#REF!"}},{"$f":"IF(#REF!=17,4,0)","v":{"$error":"#REF!"}},{"$f":"IF(#REF!=18,3,0)","v":{"$error":"#REF!"}},{"$f":"IF(#REF!=19,2,0)","v":{"$error":"#REF!"}},{"$f":"IF(#REF!=20,1,0)","v":{"$error":"#REF!"}},{"$f":"IF(#REF!>20,0,0)","v":{"$error":"#REF!"}},{"$f":"IF(#REF!=\"сх\",0,0)","v":{"$error":"#REF!"}},{"$f":"SUM(GF10:HA10)","v":{"$error":"#REF!"}},{"$f":"IF(#REF!=1,100,0)","v":{"$error":"#REF!"}},{"$f":"IF(#REF!=2,98,0)","v":{"$error":"#REF!"}},{"$f":"IF(#REF!=3,95,0)","v":{"$error":"#REF!"}},{"$f":"IF(#REF!=4,93,0)","v":{"$error":"#REF!"}},{"$f":"IF(#REF!=5,90,0)","v":{"$error":"#REF!"}},{"$f":"IF(#REF!=6,88,0)","v":{"$error":"#REF!"}},{"$f":"IF(#REF!=7,85,0)","v":{"$error":"#REF!"}},{"$f":"IF(#REF!=8,83,0)","v":{"$error":"#REF!"}},{"$f":"IF(#REF!=9,80,0)","v":{"$error":"#REF!"}},{"$f":"IF(#REF!=10,78,0)","v":{"$error":"#REF!"}},{"$f":"IF(#REF!=11,75,0)","v":{"$error":"#REF!"}},{"$f":"IF(#REF!=12,73,0)","v":{"$error":"#REF!"}},{"$f":"IF(#REF!=13,70,0)","v":{"$error":"#REF!"}},{"$f":"IF(#REF!=14,68,0)","v":{"$error":"#REF!"}},{"$f":"IF(#REF!=15,65,0)","v":{"$error":"#REF!"}},{"$f":"IF(#REF!=16,63,0)","v":{"$error":"#REF!"}},{"$f":"IF(#REF!=17,60,0)","v":{"$error":"#REF!"}},{"$f":"IF(#REF!=18,58,0)","v":{"$error":"#REF!"}},{"$f":"IF(#REF!=19,55,0)","v":{"$error":"#REF!"}},{"$f":"IF(#REF!=20,53,0)","v":{"$error":"#REF!"}},{"$f":"IF(#REF!>20,0,0)","v":{"$error":"#REF!"}},{"$f":"IF(#REF!=\"сх\",0,0)","v":{"$error":"#REF!"}},{"$f":"SUM(HC10:HX10)","v":{"$error":"#REF!"}},{"$f":"IF(#REF!=1,100,0)","v":{"$error":"#REF!"}},{"$f":"IF(#REF!=2,98,0)","v":{"$error":"#REF!"}},{"$f":"IF(#REF!=3,95,0)","v":{"$error":"#REF!"}},{"$f":"IF(#REF!=4,93,0)","v":{"$error":"#REF!"}},{"$f":"IF(#REF!=5,90,0)","v":{"$error":"#REF!"}},{"$f":"IF(#REF!=6,88,0)","v":{"$error":"#REF!"}},{"$f":"IF(#REF!=7,85,0)","v":{"$error":"#REF!"}},{"$f":"IF(#REF!=8,83,0)","v":{"$error":"#REF!"}},{"$f":"IF(#REF!=9,80,0)","v":{"$error":"#REF!"}},{"$f":"IF(#REF!=10,78,0)","v":{"$error":"#REF!"}},{"$f":"IF(#REF!=11,75,0)","v":{"$error":"#REF!"}},{"$f":"IF(#REF!=12,73,0)","v":{"$error":"#REF!"}},{"$f":"IF(#REF!=13,70,0)","v":{"$error":"#REF!"}},{"$f":"IF(#REF!=14,68,0)","v":{"$error":"#REF!"}},{"$f":"IF(#REF!=15,65,0)","v":{"$error":"#REF!"}},{"$f":"IF(#REF!=16,63,0)","v":{"$error":"#REF!"}},{"$f":"IF(#REF!=17,60,0)","v":{"$error":"#REF!"}},{"$f":"IF(#REF!=18,58,0)","v":{"$error":"#REF!"}},{"$f":"IF(#REF!=19,55,0)","v":{"$error":"#REF!"}},{"$f":"IF(#REF!=20,53,0)","v":{"$error":"#REF!"}},{"$f":"IF(#REF!>20,0,0)","v":{"$error":"#REF!"}},{"$f":"IF(#REF!=\"сх\",0,0)","v":{"$error":"#REF!"}},{"$f":"SUM(HZ10:IU10)","v":{"$error":"#REF!"}}]
[3,4.5999999999999996,88,"Кряков Александр","б/р","г. Новый Уренгой, Ямало-Ненецкий АО","лично","LYNX",2,22,4,18,{"$f":"#REF!+#REF!","v":{"$error":"#REF!"}},null,null,{"$f":"IF(#REF!=1,25,0)","v":{"$error":"#REF!"}},40,{"$f":"#REF!+#REF!","v":{"$error":"#REF!"}},null,null,{"$f":"IF(#REF!=1,25,0)","v":{"$error":"#REF!"}},{"$f":"IF(#REF!=2,22,0)","v":{"$error":"#REF!"}},{"$f":"IF(#REF!=3,20,0)","v":{"$error":"#REF!"}},{"$f":"IF(#REF!=4,18,0)","v":{"$error":"#REF!"}},{"$f":"IF(#REF!=5,16,0)","v":{"$error":"#REF!"}},{"$f":"IF(#REF!=6,15,0)","v":{"$error":"#REF!"}},{"$f":"IF(#REF!=7,14,0)","v":{"$error":"#REF!"}},{"$f":"IF(#REF!=8,13,0)","v":{"$error":"#REF!"}},{"$f":"IF(#REF!=9,12,0)","v":{"$error":"#REF!"}},{"$f":"IF(#REF!=10,11,0)","v":{"$error":"#REF!"}},{"$f":"IF(#REF!=11,10,0)","v":{"$error":"#REF!"}},{"$f":"IF(#REF!=12,9,0)","v":{"$error":"#REF!"}},{"$f":"IF(#REF!=13,8,0)","v":{"$error":"#REF!"}},{"$f":"IF(#REF!=14,7,0)","v":{"$error":"#REF!"}},{"$f":"IF(#REF!=15,6,0)","v":{"$error":"#REF!"}},{"$f":"IF(#REF!=16,5,0)","v":{"$error":"#REF!"}},{"$f":"IF(#REF!=17,4,0)","v":{"$error":"#REF!"}},{"$f":"IF(#REF!=18,3,0)","v":{"$error":"#REF!"}},{"$f":"IF(#REF!=19,2,0)","v":{"$error":"#REF!"}},{"$f":"IF(#REF!=20,1,0)","v":{"$error":"#REF!"}},{"$f":"IF(#REF!>20,0,0)","v":{"$error":"#REF!"}},{"$f":"IF(#REF!=\"сх\",0,0)","v":{"$error":"#REF!"}},{"$f":"SUM(U11:AO11)","v":{"$error":"#REF!"}},{"$f":"IF(#REF!=1,25,0)","v":{"$error":"#REF!"}},{"$f":"IF(#REF!=2,22,0)","v":{"$error":"#REF!"}},{"$f":"IF(#REF!=3,20,0)","v":{"$error":"#REF!"}},{"$f":"IF(#REF!=4,18,0)","v":{"$error":"#REF!"}},{"$f":"IF(#REF!=5,16,0)","v":{"$error":"#REF!"}},{"$f":"IF(#REF!=6,15,0)","v":{"$error":"#REF!"}},{"$f":"IF(#REF!=7,14,0)","v":{"$error":"#REF!"}},{"$f":"IF(#REF!=8,13,0)","v":{"$error":"#REF!"}},{"$f":"IF(#REF!=9,12,0)","v":{"$error":"#REF!"}},{"$f":"IF(#REF!=10,11,0)","v":{"$error":"#REF!"}},{"$f":"IF(#REF!=11,10,0)","v":{"$error":"#REF!"}},{"$f":"IF(#REF!=12,9,0)","v":{"$error":"#REF!"}},{"$f":"IF(#REF!=13,8,0)","v":{"$error":"#REF!"}},{"$f":"IF(#REF!=14,7,0)","v":{"$error":"#REF!"}},{"$f":"IF(#REF!=15,6,0)","v":{"$error":"#REF!"}},{"$f":"IF(#REF!=16,5,0)","v":{"$error":"#REF!"}},{"$f":"IF(#REF!=17,4,0)","v":{"$error":"#REF!"}},{"$f":"IF(#REF!=18,3,0)","v":{"$error":"#REF!"}},{"$f":"IF(#REF!=19,2,0)","v":{"$error":"#REF!"}},{"$f":"IF(#REF!=20,1,0)","v":{"$error":"#REF!"}},{"$f":"IF(#REF!>20,0,0)","v":{"$error":"#REF!"}},{"$f":"IF(#REF!=\"сх\",0,0)","v":{"$error":"#REF!"}},{"$f":"SUM(AR11:BL11)","v":{"$error":"#REF!"}},{"$f":"IF(#REF!=1,45,0)","v":{"$error":"#REF!"}},{"$f":"IF(#REF!=2,42,0)","v":{"$error":"#REF!"}},{"$f":"IF(#REF!=3,40,0)","v":{"$error":"#REF!"}},{"$f":"IF(#REF!=4,38,0)","v":{"$error":"#REF!"}},{"$f":"IF(#REF!=5,36,0)","v":{"$error":"#REF!"}},{"$f":"IF(#REF!=6,35,0)","v":{"$error":"#REF!"}},{"$f":"IF(#REF!=7,34,0)","v":{"$error":"#REF!"}},{"$f":"IF(#REF!=8,33,0)","v":{"$error":"#REF!"}},{"$f":"IF(#REF!=9,32,0)","v":{"$error":"#REF!"}},{"$f":"IF(#REF!=10,31,0)","v":{"$error":"#REF!"}},{"$f":"IF(#REF!=11,30,0)","v":{"$error":"#REF!"}},{"$f":"IF(#REF!=12,29,0)","v":{"$error":"#REF!"}},{"$f":"IF(#REF!=13,28,0)","v":{"$error":"#REF!"}},{"$f":"IF(#REF!=14,27,0)","v":{"$error":"#REF!"}},{"$f":"IF(#REF!=15,26,0)","v":{"$error":"#REF!"}},{"$f":"IF(#REF!=16,25,0)","v":{"$error":"#REF!"}},{"$f":"IF(#REF!=17,24,0)","v":{"$error":"#REF!"}},{"$f":"IF(#REF!=18,23,0)","v":{"$error":"#REF!"}},{"$f":"IF(#REF!=19,22,0)","v":{"$error":"#REF!"}},{"$f":"IF(#REF!=20,21,0)","v":{"$error":"#REF!"}},{"$f":"IF(#REF!=21,20,0)","v":{"$error":"#REF!"}},{"$f":"IF(#REF!=22,19,0)","v":{"$error":"#REF!"}},{"$f":"IF(#REF!=23,18,0)","v":{"$error":"#REF!"}},{"$f":"IF(#REF!=24,17,0)","v":{"$error":"#REF!"}},{"$f":"IF(#REF!=25,16,0)","v":{"$error":"#REF!"}},{"$f":"IF(#REF!=26,15,0)","v":{"$error":"#REF!"}},{"$f":"IF(#REF!=27,14,0)","v":{"$error":"#REF!"}},{"$f":"IF(#REF!=28,13,0)","v":{"$error":"#REF!"}},{"$f":"IF(#REF!=29,12,0)","v":{"$error":"#REF!"}},{"$f":"IF(#REF!=30,11,0)","v":{"$error":"#REF!"}},{"$f":"IF(#REF!=31,10,0)","v":{"$error":"#REF!"}},{"$f":"IF(#REF!=32,9,0)","v":{"$error":"#REF!"}},{"$f":"IF(#REF!=33,8,0)","v":{"$error":"#REF!"}},{"$f":"IF(#REF!=34,7,0)","v":{"$error":"#REF!"}},{"$f":"IF(#REF!=35,6,0)","v":{"$error":"#REF!"}},{"$f":"IF(#REF!=36,5,0)","v":{"$error":"#REF!"}},{"$f":"IF(#REF!=37,4,0)","v":{"$error":"#REF!"}},{"$f":"IF(#REF!=38,3,0)","v":{"$error":"#REF!"}},{"$f":"IF(#REF!=39,2,0)","v":{"$error":"#REF!"}},{"$f":"IF(#REF!=40,1,0)","v":{"$error":"#REF!"}},{"$f":"IF(#REF!>20,0,0)","v":{"$error":"#REF!"}},{"$f":"IF(#REF!=\"сх\",0,0)","v":{"$error":"#REF!"}},{"$f":"SUM(BO11:DD11)","v":{"$error":"#REF!"}},{"$f":"IF(#REF!=1,45,0)","v":{"$error":"#REF!"}},{"$f":"IF(#REF!=2,42,0)","v":{"$error":"#REF!"}},{"$f":"IF(#REF!=3,40,0)","v":{"$error":"#REF!"}},{"$f":"IF(#REF!=4,38,0)","v":{"$error":"#REF!"}},{"$f":"IF(#REF!=5,36,0)","v":{"$error":"#REF!"}},{"$f":"IF(#REF!=6,35,0)","v":{"$error":"#REF!"}},{"$f":"IF(#REF!=7,34,0)","v":{"$error":"#REF!"}},{"$f":"IF(#REF!=8,33,0)","v":{"$error":"#REF!"}},{"$f":"IF(#REF!=9,32,0)","v":{"$error":"#REF!"}},{"$f":"IF(#REF!=10,31,0)","v":{"$error":"#REF!"}},{"$f":"IF(#REF!=11,30,0)","v":{"$error":"#REF!"}},{"$f":"IF(#REF!=12,29,0)","v":{"$error":"#REF!"}},{"$f":"IF(#REF!=13,28,0)","v":{"$error":"#REF!"}},{"$f":"IF(#REF!=14,27,0)","v":{"$error":"#REF!"}},{"$f":"IF(#REF!=15,26,0)","v":{"$error":"#REF!"}},{"$f":"IF(#REF!=16,25,0)","v":{"$error":"#REF!"}},{"$f":"IF(#REF!=17,24,0)","v":{"$error":"#REF!"}},{"$f":"IF(#REF!=18,23,0)","v":{"$error":"#REF!"}},{"$f":"IF(#REF!=19,22,0)","v":{"$error":"#REF!"}},{"$f":"IF(#REF!=20,21,0)","v":{"$error":"#REF!"}},{"$f":"IF(#REF!=21,20,0)","v":{"$error":"#REF!"}},{"$f":"IF(#REF!=22,19,0)","v":{"$error":"#REF!"}},{"$f":"IF(#REF!=23,18,0)","v":{"$error":"#REF!"}},{"$f":"IF(#REF!=24,17,0)","v":{"$error":"#REF!"}},{"$f":"IF(#REF!=25,16,0)","v":{"$error":"#REF!"}},{"$f":"IF(#REF!=26,15,0)","v":{"$error":"#REF!"}},{"$f":"IF(#REF!=27,14,0)","v":{"$error":"#REF!"}},{"$f":"IF(#REF!=28,13,0)","v":{"$error":"#REF!"}},{"$f":"IF(#REF!=29,12,0)","v":{"$error":"#REF!"}},{"$f":"IF(#REF!=30,11,0)","v":{"$error":"#REF!"}},{"$f":"IF(#REF!=31,10,0)","v":{"$error":"#REF!"}},{"$f":"IF(#REF!=32,9,0)","v":{"$error":"#REF!"}},{"$f":"IF(#REF!=33,8,0)","v":{"$error":"#REF!"}},{"$f":"IF(#REF!=34,7,0)","v":{"$error":"#REF!"}},{"$f":"IF(#REF!=35,6,0)","v":{"$error":"#REF!"}},{"$f":"IF(#REF!=36,5,0)","v":{"$error":"#REF!"}},{"$f":"IF(#REF!=37,4,0)","v":{"$error":"#REF!"}},{"$f":"IF(#REF!=38,3,0)","v":{"$error":"#REF!"}},{"$f":"IF(#REF!=39,2,0)","v":{"$error":"#REF!"}},{"$f":"IF(#REF!=40,1,0)","v":{"$error":"#REF!"}},{"$f":"IF(#REF!>20,0,0)","v":{"$error":"#REF!"}},{"$f":"IF(#REF!=\"сх\",0,0)","v":{"$error":"#REF!"}},{"$f":"SUM(DF11:EU11)","v":{"$error":"#REF!"}},null,{"$f":"IF(#REF!=\"сх\",\"ноль\",IF(#REF!>0,#REF!,\"Ноль\"))","v":{"$error":"#REF!"}},{"$f":"IF(#REF!=\"сх\",\"ноль\",IF(#REF!>0,#REF!,\"Ноль\"))","v":{"$error":"#REF!"}},null,{"$f":"MIN(EX11,EY11)","v":{"$error":"#REF!"}},{"$f":"IF(Q11=#REF!,IF(#REF!<#REF!,#REF!,FF11),#REF!)","v":{"$error":"#REF!"}},{"$f":"IF(Q11=#REF!,IF(#REF!<#REF!,0,1))","v":{"$error":"#REF!"}},{"$f":"IF(AND(FA11>=21,FA11<>0),FA11,IF(Q11<#REF!,\"СТОП\",FB11+FC11))","v":{"$error":"#REF!"}},null,15,16,null,{"$f":"IF(#REF!=1,25,0)","v":{"$error":"#REF!"}},{"$f":"IF(#REF!=2,22,0)","v":{"$error":"#REF!"}},{"$f":"IF(#REF!=3,20,0)","v":{"$error":"#REF!"}},{"$f":"IF(#REF!=4,18,0)","v":{"$error":"#REF!"}},{"$f":"IF(#REF!=5,16,0)","v":{"$error":"#REF!"}},{"$f":"IF(#REF!=6,15,0)","v":{"$error":"#REF!"}},{"$f":"IF(#REF!=7,14,0)","v":{"$error":"#REF!"}},{"$f":"IF(#REF!=8,13,0)","v":{"$error":"#REF!"}},{"$f":"IF(#REF!=9,12,0)","v":{"$error":"#REF!"}},{"$f":"IF(#REF!=10,11,0)","v":{"$error":"#REF!"}},{"$f":"IF(#REF!=11,10,0)","v":{"$error":"#REF!"}},{"$f":"IF(#REF!=12,9,0)","v":{"$error":"#REF!"}},{"$f":"IF(#REF!=13,8,0)","v":{"$error":"#REF!"}},{"$f":"IF(#REF!=14,7,0)","v":{"$error":"#REF!"}},{"$f":"IF(#REF!=15,6,0)","v":{"$error":"#REF!"}},{"$f":"IF(#REF!=16,5,0)","v":{"$error":"#REF!"}},{"$f":"IF(#REF!=17,4,0)","v":{"$error":"#REF!"}},{"$f":"IF(#REF!=18,3,0)","v":{"$error":"#REF!"}},{"$f":"IF(#REF!=19,2,0)","v":{"$error":"#REF!"}},{"$f":"IF(#REF!=20,1,0)","v":{"$error":"#REF!"}},{"$f":"IF(#REF!>20,0,0)","v":{"$error":"#REF!"}},{"$f":"IF(#REF!=\"сх\",0,0)","v":{"$error":"#REF!"}},{"$f":"SUM(FI11:GD11)","v":{"$error":"#REF!"}},{"$f":"IF(#REF!=1,25,0)","v":{"$error":"#REF!"}},{"$f":"IF(#REF!=2,22,0)","v":{"$error":"#REF!"}},{"$f":"IF(#REF!=3,20,0)","v":{"$error":"#REF!"}},{"$f":"IF(#REF!=4,18,0)","v":{"$error":"#REF!"}},{"$f":"IF(#REF!=5,16,0)","v":{"$error":"#REF!"}},{"$f":"IF(#REF!=6,15,0)","v":{"$error":"#REF!"}},{"$f":"IF(#REF!=7,14,0)","v":{"$error":"#REF!"}},{"$f":"IF(#REF!=8,13,0)","v":{"$error":"#REF!"}},{"$f":"IF(#REF!=9,12,0)","v":{"$error":"#REF!"}},{"$f":"IF(#REF!=10,11,0)","v":{"$error":"#REF!"}},{"$f":"IF(#REF!=11,10,0)","v":{"$error":"#REF!"}},{"$f":"IF(#REF!=12,9,0)","v":{"$error":"#REF!"}},{"$f":"IF(#REF!=13,8,0)","v":{"$error":"#REF!"}},{"$f":"IF(#REF!=14,7,0)","v":{"$error":"#REF!"}},{"$f":"IF(#REF!=15,6,0)","v":{"$error":"#REF!"}},{"$f":"IF(#REF!=16,5,0)","v":{"$error":"#REF!"}},{"$f":"IF(#REF!=17,4,0)","v":{"$error":"#REF!"}},{"$f":"IF(#REF!=18,3,0)","v":{"$error":"#REF!"}},{"$f":"IF(#REF!=19,2,0)","v":{"$error":"#REF!"}},{"$f":"IF(#REF!=20,1,0)","v":{"$error":"#REF!"}},{"$f":"IF(#REF!>20,0,0)","v":{"$error":"#REF!"}},{"$f":"IF(#REF!=\"сх\",0,0)","v":{"$error":"#REF!"}},{"$f":"SUM(GF11:HA11)","v":{"$error":"#REF!"}},{"$f":"IF(#REF!=1,100,0)","v":{"$error":"#REF!"}},{"$f":"IF(#REF!=2,98,0)","v":{"$error":"#REF!"}},{"$f":"IF(#REF!=3,95,0)","v":{"$error":"#REF!"}},{"$f":"IF(#REF!=4,93,0)","v":{"$error":"#REF!"}},{"$f":"IF(#REF!=5,90,0)","v":{"$error":"#REF!"}},{"$f":"IF(#REF!=6,88,0)","v":{"$error":"#REF!"}},{"$f":"IF(#REF!=7,85,0)","v":{"$error":"#REF!"}},{"$f":"IF(#REF!=8,83,0)","v":{"$error":"#REF!"}},{"$f":"IF(#REF!=9,80,0)","v":{"$error":"#REF!"}},{"$f":"IF(#REF!=10,78,0)","v":{"$error":"#REF!"}},{"$f":"IF(#REF!=11,75,0)","v":{"$error":"#REF!"}},{"$f":"IF(#REF!=12,73,0)","v":{"$error":"#REF!"}},{"$f":"IF(#REF!=13,70,0)","v":{"$error":"#REF!"}},{"$f":"IF(#REF!=14,68,0)","v":{"$error":"#REF!"}},{"$f":"IF(#REF!=15,65,0)","v":{"$error":"#REF!"}},{"$f":"IF(#REF!=16,63,0)","v":{"$error":"#REF!"}},{"$f":"IF(#REF!=17,60,0)","v":{"$error":"#REF!"}},{"$f":"IF(#REF!=18,58,0)","v":{"$error":"#REF!"}},{"$f":"IF(#REF!=19,55,0)","v":{"$error":"#REF!"}},{"$f":"IF(#REF!=20,53,0)","v":{"$error":"#REF!"}},{"$f":"IF(#REF!>20,0,0)","v":{"$error":"#REF!"}},{"$f":"IF(#REF!=\"сх\",0,0)","v":{"$error":"#REF!"}},{"$f":"SUM(HC11:HX11)","v":{"$error":"#REF!"}},{"$f":"IF(#REF!=1,100,0)","v":{"$error":"#REF!"}},{"$f":"IF(#REF!=2,98,0)","v":{"$error":"#REF!"}},{"$f":"IF(#REF!=3,95,0)","v":{"$error":"#REF!"}},{"$f":"IF(#REF!=4,93,0)","v":{"$error":"#REF!"}},{"$f":"IF(#REF!=5,90,0)","v":{"$error":"#REF!"}},{"$f":"IF(#REF!=6,88,0)","v":{"$error":"#REF!"}},{"$f":"IF(#REF!=7,85,0)","v":{"$error":"#REF!"}},{"$f":"IF(#REF!=8,83,0)","v":{"$error":"#REF!"}},{"$f":"IF(#REF!=9,80,0)","v":{"$error":"#REF!"}},{"$f":"IF(#REF!=10,78,0)","v":{"$error":"#REF!"}},{"$f":"IF(#REF!=11,75,0)","v":{"$error":"#REF!"}},{"$f":"IF(#REF!=12,73,0)","v":{"$error":"#REF!"}},{"$f":"IF(#REF!=13,70,0)","v":{"$error":"#REF!"}},{"$f":"IF(#REF!=14,68,0)","v":{"$error":"#REF!"}},{"$f":"IF(#REF!=15,65,0)","v":{"$error":"#REF!"}},{"$f":"IF(#REF!=16,63,0)","v":{"$error":"#REF!"}},{"$f":"IF(#REF!=17,60,0)","v":{"$error":"#REF!"}},{"$f":"IF(#REF!=18,58,0)","v":{"$error":"#REF!"}},{"$f":"IF(#REF!=19,55,0)","v":{"$error":"#REF!"}},{"$f":"IF(#REF!=20,53,0)","v":{"$error":"#REF!"}},{"$f":"IF(#REF!>20,0,0)","v":{"$error":"#REF!"}},{"$f":"IF(#REF!=\"сх\",0,0)","v":{"$error":"#REF!"}},{"$f":"SUM(HZ11:IU11)","v":{"$error":"#REF!"}}]
[4,4.5,77,"Гнатюк Егор","б/р","г. Новый Уренгой, Ямало-Ненецкий АО","СТК \"Факел\"","LYNX",4,18,3,20,{"$f":"#REF!+#REF!","v":{"$error":"#REF!"}},null,null,{"$f":"IF(#REF!=1,25,0)","v":{"$error":"#REF!"}},38,{"$f":"#REF!+#REF!","v":{"$error":"#REF!"}},null,null,{"$f":"IF(#REF!=1,25,0)","v":{"$error":"#REF!"}},{"$f":"IF(#REF!=2,22,0)","v":{"$error":"#REF!"}},{"$f":"IF(#REF!=3,20,0)","v":{"$error":"#REF!"}},{"$f":"IF(#REF!=4,18,0)","v":{"$error":"#REF!"}},{"$f":"IF(#REF!=5,16,0)","v":{"$error":"#REF!"}},{"$f":"IF(#REF!=6,15,0)","v":{"$error":"#REF!"}},{"$f":"IF(#REF!=7,14,0)","v":{"$error":"#REF!"}},{"$f":"IF(#REF!=8,13,0)","v":{"$error":"#REF!"}},{"$f":"IF(#REF!=9,12,0)","v":{"$error":"#REF!"}},{"$f":"IF(#REF!=10,11,0)","v":{"$error":"#REF!"}},{"$f":"IF(#REF!=11,10,0)","v":{"$error":"#REF!"}},{"$f":"IF(#REF!=12,9,0)","v":{"$error":"#REF!"}},{"$f":"IF(#REF!=13,8,0)","v":{"$error":"#REF!"}},{"$f":"IF(#REF!=14,7,0)","v":{"$error":"#REF!"}},{"$f":"IF(#REF!=15,6,0)","v":{"$error":"#REF!"}},{"$f":"IF(#REF!=16,5,0)","v":{"$error":"#REF!"}},{"$f":"IF(#REF!=17,4,0)","v":{"$error":"#REF!"}},{"$f":"IF(#REF!=18,3,0)","v":{"$error":"#REF!"}},{"$f":"IF(#REF!=19,2,0)","v":{"$error":"#REF!"}},{"$f":"IF(#REF!=20,1,0)","v":{"$error":"#REF!"}},{"$f":"IF(#REF!>20,0,0)","v":{"$error":"#REF!"}},{"$f":"IF(#REF!=\"сх\",0,0)","v":{"$error":"#REF!"}},{"$f":"SUM(U12:AO12)","v":{"$error":"#REF!"}},{"$f":"IF(#REF!=1,25,0)","v":{"$error":"#REF!"}},{"$f":"IF(#REF!=2,22,0)","v":{"$error":"#REF!"}},{"$f":"IF(#REF!=3,20,0)","v":{"$error":"#REF!"}},{"$f":"IF(#REF!=4,18,0)","v":{"$error":"#REF!"}},{"$f":"IF(#REF!=5,16,0)","v":{"$error":"#REF!"}},{"$f":"IF(#REF!=6,15,0)","v":{"$error":"#REF!"}},{"$f":"IF(#REF!=7,14,0)","v":{"$error":"#REF!"}},{"$f":"IF(#REF!=8,13,0)","v":{"$error":"#REF!"}},{"$f":"IF(#REF!=9,12,0)","v":{"$error":"#REF!"}},{"$f":"IF(#REF!=10,11,0)","v":{"$error":"#REF!"}},{"$f":"IF(#REF!=11,10,0)","v":{"$error":"#REF!"}},{"$f":"IF(#REF!=12,9,0)","v":{"$error":"#REF!"}},{"$f":"IF(#REF!=13,8,0)","v":{"$error":"#REF!"}},{"$f":"IF(#REF!=14,7,0)","v":{"$error":"#REF!"}},{"$f":"IF(#REF!=15,6,0)","v":{"$error":"#REF!"}},{"$f":"IF(#REF!=16,5,0)","v":{"$error":"#REF!"}},{"$f":"IF(#REF!=17,4,0)","v":{"$error":"#REF!"}},{"$f":"IF(#REF!=18,3,0)","v":{"$error":"#REF!"}},{"$f":"IF(#REF!=19,2,0)","v":{"$error":"#REF!"}},{"$f":"IF(#REF!=20,1,0)","v":{"$error":"#REF!"}},{"$f":"IF(#REF!>20,0,0)","v":{"$error":"#REF!"}},{"$f":"IF(#REF!=\"сх\",0,0)","v":{"$error":"#REF!"}},{"$f":"SUM(AR12:BL12)","v":{"$error":"#REF!"}},{"$f":"IF(#REF!=1,45,0)","v":{"$error":"#REF!"}},{"$f":"IF(#REF!=2,42,0)","v":{"$error":"#REF!"}},{"$f":"IF(#REF!=3,40,0)","v":{"$error":"#REF!"}},{"$f":"IF(#REF!=4,38,0)","v":{"$error":"#REF!"}},{"$f":"IF(#REF!=5,36,0)","v":{"$error":"#REF!"}},{"$f":"IF(#REF!=6,35,0)","v":{"$error":"#REF!"}},{"$f":"IF(#REF!=7,34,0)","v":{"$error":"#REF!"}},{"$f":"IF(#REF!=8,33,0)","v":{"$error":"#REF!"}},{"$f":"IF(#REF!=9,32,0)","v":{"$error":"#REF!"}},{"$f":"IF(#REF!=10,31,0)","v":{"$error":"#REF!"}},{"$f":"IF(#REF!=11,30,0)","v":{"$error":"#REF!"}},{"$f":"IF(#REF!=12,29,0)","v":{"$error":"#REF!"}},{"$f":"IF(#REF!=13,28,0)","v":{"$error":"#REF!"}},{"$f":"IF(#REF!=14,27,0)","v":{"$error":"#REF!"}},{"$f":"IF(#REF!=15,26,0)","v":{"$error":"#REF!"}},{"$f":"IF(#REF!=16,25,0)","v":{"$error":"#REF!"}},{"$f":"IF(#REF!=17,24,0)","v":{"$error":"#REF!"}},{"$f":"IF(#REF!=18,23,0)","v":{"$error":"#REF!"}},{"$f":"IF(#REF!=19,22,0)","v":{"$error":"#REF!"}},{"$f":"IF(#REF!=20,21,0)","v":{"$error":"#REF!"}},{"$f":"IF(#REF!=21,20,0)","v":{"$error":"#REF!"}},{"$f":"IF(#REF!=22,19,0)","v":{"$error":"#REF!"}},{"$f":"IF(#REF!=23,18,0)","v":{"$error":"#REF!"}},{"$f":"IF(#REF!=24,17,0)","v":{"$error":"#REF!"}},{"$f":"IF(#REF!=25,16,0)","v":{"$error":"#REF!"}},{"$f":"IF(#REF!=26,15,0)","v":{"$error":"#REF!"}},{"$f":"IF(#REF!=27,14,0)","v":{"$error":"#REF!"}},{"$f":"IF(#REF!=28,13,0)","v":{"$error":"#REF!"}},{"$f":"IF(#REF!=29,12,0)","v":{"$error":"#REF!"}},{"$f":"IF(#REF!=30,11,0)","v":{"$error":"#REF!"}},{"$f":"IF(#REF!=31,10,0)","v":{"$error":"#REF!"}},{"$f":"IF(#REF!=32,9,0)","v":{"$error":"#REF!"}},{"$f":"IF(#REF!=33,8,0)","v":{"$error":"#REF!"}},{"$f":"IF(#REF!=34,7,0)","v":{"$error":"#REF!"}},{"$f":"IF(#REF!=35,6,0)","v":{"$error":"#REF!"}},{"$f":"IF(#REF!=36,5,0)","v":{"$error":"#REF!"}},{"$f":"IF(#REF!=37,4,0)","v":{"$error":"#REF!"}},{"$f":"IF(#REF!=38,3,0)","v":{"$error":"#REF!"}},{"$f":"IF(#REF!=39,2,0)","v":{"$error":"#REF!"}},{"$f":"IF(#REF!=40,1,0)","v":{"$error":"#REF!"}},{"$f":"IF(#REF!>20,0,0)","v":{"$error":"#REF!"}},{"$f":"IF(#REF!=\"сх\",0,0)","v":{"$error":"#REF!"}},{"$f":"SUM(BO12:DD12)","v":{"$error":"#REF!"}},{"$f":"IF(#REF!=1,45,0)","v":{"$error":"#REF!"}},{"$f":"IF(#REF!=2,42,0)","v":{"$error":"#REF!"}},{"$f":"IF(#REF!=3,40,0)","v":{"$error":"#REF!"}},{"$f":"IF(#REF!=4,38,0)","v":{"$error":"#REF!"}},{"$f":"IF(#REF!=5,36,0)","v":{"$error":"#REF!"}},{"$f":"IF(#REF!=6,35,0)","v":{"$error":"#REF!"}},{"$f":"IF(#REF!=7,34,0)","v":{"$error":"#REF!"}},{"$f":"IF(#REF!=8,33,0)","v":{"$error":"#REF!"}},{"$f":"IF(#REF!=9,32,0)","v":{"$error":"#REF!"}},{"$f":"IF(#REF!=10,31,0)","v":{"$error":"#REF!"}},{"$f":"IF(#REF!=11,30,0)","v":{"$error":"#REF!"}},{"$f":"IF(#REF!=12,29,0)","v":{"$error":"#REF!"}},{"$f":"IF(#REF!=13,28,0)","v":{"$error":"#REF!"}},{"$f":"IF(#REF!=14,27,0)","v":{"$error":"#REF!"}},{"$f":"IF(#REF!=15,26,0)","v":{"$error":"#REF!"}},{"$f":"IF(#REF!=16,25,0)","v":{"$error":"#REF!"}},{"$f":"IF(#REF!=17,24,0)","v":{"$error":"#REF!"}},{"$f":"IF(#REF!=18,23,0)","v":{"$error":"#REF!"}},{"$f":"IF(#REF!=19,22,0)","v":{"$error":"#REF!"}},{"$f":"IF(#REF!=20,21,0)","v":{"$error":"#REF!"}},{"$f":"IF(#REF!=21,20,0)","v":{"$error":"#REF!"}},{"$f":"IF(#REF!=22,19,0)","v":{"$error":"#REF!"}},{"$f":"IF(#REF!=23,18,0)","v":{"$error":"#REF!"}},{"$f":"IF(#REF!=24,17,0)","v":{"$error":"#REF!"}},{"$f":"IF(#REF!=25,16,0)","v":{"$error":"#REF!"}},{"$f":"IF(#REF!=26,15,0)","v":{"$error":"#REF!"}},{"$f":"IF(#REF!=27,14,0)","v":{"$error":"#REF!"}},{"$f":"IF(#REF!=28,13,0)","v":{"$error":"#REF!"}},{"$f":"IF(#REF!=29,12,0)","v":{"$error":"#REF!"}},{"$f":"IF(#REF!=30,11,0)","v":{"$error":"#REF!"}},{"$f":"IF(#REF!=31,10,0)","v":{"$error":"#REF!"}},{"$f":"IF(#REF!=32,9,0)","v":{"$error":"#REF!"}},{"$f":"IF(#REF!=33,8,0)","v":{"$error":"#REF!"}},{"$f":"IF(#REF!=34,7,0)","v":{"$error":"#REF!"}},{"$f":"IF(#REF!=35,6,0)","v":{"$error":"#REF!"}},{"$f":"IF(#REF!=36,5,0)","v":{"$error":"#REF!"}},{"$f":"IF(#REF!=37,4,0)","v":{"$error":"#REF!"}},{"$f":"IF(#REF!=38,3,0)","v":{"$error":"#REF!"}},{"$f":"IF(#REF!=39,2,0)","v":{"$error":"#REF!"}},{"$f":"IF(#REF!=40,1,0)","v":{"$error":"#REF!"}},{"$f":"IF(#REF!>20,0,0)","v":{"$error":"#REF!"}},{"$f":"IF(#REF!=\"сх\",0,0)","v":{"$error":"#REF!"}},{"$f":"SUM(DF12:EU12)","v":{"$error":"#REF!"}},null,{"$f":"IF(#REF!=\"сх\",\"ноль\",IF(#REF!>0,#REF!,\"Ноль\"))","v":{"$error":"#REF!"}},{"$f":"IF(#REF!=\"сх\",\"ноль\",IF(#REF!>0,#REF!,\"Ноль\"))","v":{"$error":"#REF!"}},null,{"$f":"MIN(EX12,EY12)","v":{"$error":"#REF!"}},{"$f":"IF(Q12=#REF!,IF(#REF!<#REF!,#REF!,FF12),#REF!)","v":{"$error":"#REF!"}},{"$f":"IF(Q12=#REF!,IF(#REF!<#REF!,0,1))","v":{"$error":"#REF!"}},{"$f":"IF(AND(FA12>=21,FA12<>0),FA12,IF(Q12<#REF!,\"СТОП\",FB12+FC12))","v":{"$error":"#REF!"}},null,15,16,null,{"$f":"IF(#REF!=1,25,0)","v":{"$error":"#REF!"}},{"$f":"IF(#REF!=2,22,0)","v":{"$error":"#REF!"}},{"$f":"IF(#REF!=3,20,0)","v":{"$error":"#REF!"}},{"$f":"IF(#REF!=4,18,0)","v":{"$error":"#REF!"}},{"$f":"IF(#REF!=5,16,0)","v":{"$error":"#REF!"}},{"$f":"IF(#REF!=6,15,0)","v":{"$error":"#REF!"}},{"$f":"IF(#REF!=7,14,0)","v":{"$error":"#REF!"}},{"$f":"IF(#REF!=8,13,0)","v":{"$error":"#REF!"}},{"$f":"IF(#REF!=9,12,0)","v":{"$error":"#REF!"}},{"$f":"IF(#REF!=10,11,0)","v":{"$error":"#REF!"}},{"$f":"IF(#REF!=11,10,0)","v":{"$error":"#REF!"}},{"$f":"IF(#REF!=12,9,0)","v":{"$error":"#REF!"}},{"$f":"IF(#REF!=13,8,0)","v":{"$error":"#REF!"}},{"$f":"IF(#REF!=14,7,0)","v":{"$error":"#REF!"}},{"$f":"IF(#REF!=15,6,0)","v":{"$error":"#REF!"}},{"$f":"IF(#REF!=16,5,0)","v":{"$error":"#REF!"}},{"$f":"IF(#REF!=17,4,0)","v":{"$error":"#REF!"}},{"$f":"IF(#REF!=18,3,0)","v":{"$error":"#REF!"}},{"$f":"IF(#REF!=19,2,0)","v":{"$error":"#REF!"}},{"$f":"IF(#REF!=20,1,0)","v":{"$error":"#REF!"}},{"$f":"IF(#REF!>20,0,0)","v":{"$error":"#REF!"}},{"$f":"IF(#REF!=\"сх\",0,0)","v":{"$error":"#REF!"}},{"$f":"SUM(FI12:GD12)","v":{"$error":"#REF!"}},{"$f":"IF(#REF!=1,25,0)","v":{"$error":"#REF!"}},{"$f":"IF(#REF!=2,22,0)","v":{"$error":"#REF!"}},{"$f":"IF(#REF!=3,20,0)","v":{"$error":"#REF!"}},{"$f":"IF(#REF!=4,18,0)","v":{"$error":"#REF!"}},{"$f":"IF(#REF!=5,16,0)","v":{"$error":"#REF!"}},{"$f":"IF(#REF!=6,15,0)","v":{"$error":"#REF!"}},{"$f":"IF(#REF!=7,14,0)","v":{"$error":"#REF!"}},{"$f":"IF(#REF!=8,13,0)","v":{"$error":"#REF!"}},{"$f":"IF(#REF!=9,12,0)","v":{"$error":"#REF!"}},{"$f":"IF(#REF!=10,11,0)","v":{"$error":"#REF!"}},{"$f":"IF(#REF!=11,10,0)","v":{"$error":"#REF!"}},{"$f":"IF(#REF!=12,9,0)","v":{"$error":"#REF!"}},{"$f":"IF(#REF!=13,8,0)","v":{"$error":"#REF!"}},{"$f":"IF(#REF!=14,7,0)","v":{"$error":"#REF!"}},{"$f":"IF(#REF!=15,6,0)","v":{"$error":"#REF!"}},{"$f":"IF(#REF!=16,5,0)","v":{"$error":"#REF!"}},{"$f":"IF(#REF!=17,4,0)","v":{"$error":"#REF!"}},{"$f":"IF(#REF!=18,3,0)","v":{"$error":"#REF!"}},{"$f":"IF(#REF!=19,2,0)","v":{"$error":"#REF!"}},{"$f":"IF(#REF!=20,1,0)","v":{"$error":"#REF!"}},{"$f":"IF(#REF!>20,0,0)","v":{"$error":"#REF!"}},{"$f":"IF(#REF!=\"сх\",0,0)","v":{"$error":"#REF!"}},{"$f":"SUM(GF12:HA12)","v":{"$error":"#REF!"}},{"$f":"IF(#REF!=1,100,0)","v":{"$error":"#REF!"}},{"$f":"IF(#REF!=2,98,0)","v":{"$error":"#REF!"}},{"$f":"IF(#REF!=3,95,0)","v":{"$error":"#REF!"}},{"$f":"IF(#REF!=4,93,0)","v":{"$error":"#REF!"}},{"$f":"IF(#REF!=5,90,0)","v":{"$error":"#REF!"}},{"$f":"IF(#REF!=6,88,0)","v":{"$error":"#REF!"}},{"$f":"IF(#REF!=7,85,0)","v":{"$error":"#REF!"}},{"$f":"IF(#REF!=8,83,0)","v":{"$error":"#REF!"}},{"$f":"IF(#REF!=9,80,0)","v":{"$error":"#REF!"}},{"$f":"IF(#REF!=10,78,0)","v":{"$error":"#REF!"}},{"$f":"IF(#REF!=11,75,0)","v":{"$error":"#REF!"}},{"$f":"IF(#REF!=12,73,0)","v":{"$error":"#REF!"}},{"$f":"IF(#REF!=13,70,0)","v":{"$error":"#REF!"}},{"$f":"IF(#REF!=14,68,0)","v":{"$error":"#REF!"}},{"$f":"IF(#REF!=15,65,0)","v":{"$error":"#REF!"}},{"$f":"IF(#REF!=16,63,0)","v":{"$error":"#REF!"}},{"$f":"IF(#REF!=17,60,0)","v":{"$error":"#REF!"}},{"$f":"IF(#REF!=18,58,0)","v":{"$error":"#REF!"}},{"$f":"IF(#REF!=19,55,0)","v":{"$error":"#REF!"}},{"$f":"IF(#REF!=20,53,0)","v":{"$error":"#REF!"}},{"$f":"IF(#REF!>20,0,0)","v":{"$error":"#REF!"}},{"$f":"IF(#REF!=\"сх\",0,0)","v":{"$error":"#REF!"}},{"$f":"SUM(HC12:HX12)","v":{"$error":"#REF!"}},{"$f":"IF(#REF!=1,100,0)","v":{"$error":"#REF!"}},{"$f":"IF(#REF!=2,98,0)","v":{"$error":"#REF!"}},{"$f":"IF(#REF!=3,95,0)","v":{"$error":"#REF!"}},{"$f":"IF(#REF!=4,93,0)","v":{"$error":"#REF!"}},{"$f":"IF(#REF!=5,90,0)","v":{"$error":"#REF!"}},{"$f":"IF(#REF!=6,88,0)","v":{"$error":"#REF!"}},{"$f":"IF(#REF!=7,85,0)","v":{"$error":"#REF!"}},{"$f":"IF(#REF!=8,83,0)","v":{"$error":"#REF!"}},{"$f":"IF(#REF!=9,80,0)","v":{"$error":"#REF!"}},{"$f":"IF(#REF!=10,78,0)","v":{"$error":"#REF!"}},{"$f":"IF(#REF!=11,75,0)","v":{"$error":"#REF!"}},{"$f":"IF(#REF!=12,73,0)","v":{"$error":"#REF!"}},{"$f":"IF(#REF!=13,70,0)","v":{"$error":"#REF!"}},{"$f":"IF(#REF!=14,68,0)","v":{"$error":"#REF!"}},{"$f":"IF(#REF!=15,65,0)","v":{"$error":"#REF!"}},{"$f":"IF(#REF!=16,63,0)","v":{"$error":"#REF!"}},{"$f":"IF(#REF!=17,60,0)","v":{"$error":"#REF!"}},{"$f":"IF(#REF!=18,58,0)","v":{"$error":"#REF!"}},{"$f":"IF(#REF!=19,55,0)","v":{"$error":"#REF!"}},{"$f":"IF(#REF!=20,53,0)","v":{"$error":"#REF!"}},{"$f":"IF(#REF!>20,0,0)","v":{"$error":"#REF!"}},{"$f":"IF(#REF!=\"сх\",0,0)","v":{"$error":"#REF!"}},{"$f":"SUM(HZ12:IU12)","v":{"$error":"#REF!"}}]
[6,4.4000000000000004,55,"Пархоменко Данила","б/р","г. Новый Уренгой, Ямало-Ненецкий АО","СТК \"Факел\"","LYNX",5,16,6,15,{"$f":"#REF!+#REF!","v":{"$error":"#REF!"}},null,null,{"$f":"IF(#REF!=1,25,0)","v":{"$error":"#REF!"}},31,{"$f":"#REF!+#REF!","v":{"$error":"#REF!"}},null,null,{"$f":"IF(#REF!=1,25,0)","v":{"$error":"#REF!"}},{"$f":"IF(#REF!=2,22,0)","v":{"$error":"#REF!"}},{"$f":"IF(#REF!=3,20,0)","v":{"$error":"#REF!"}},{"$f":"IF(#REF!=4,18,0)","v":{"$error":"#REF!"}},{"$f":"IF(#REF!=5,16,0)","v":{"$error":"#REF!"}},{"$f":"IF(#REF!=6,15,0)","v":{"$error":"#REF!"}},{"$f":"IF(#REF!=7,14,0)","v":{"$error":"#REF!"}},{"$f":"IF(#REF!=8,13,0)","v":{"$error":"#REF!"}},{"$f":"IF(#REF!=9,12,0)","v":{"$error":"#REF!"}},{"$f":"IF(#REF!=10,11,0)","v":{"$error":"#REF!"}},{"$f":"IF(#REF!=11,10,0)","v":{"$error":"#REF!"}},{"$f":"IF(#REF!=12,9,0)","v":{"$error":"#REF!"}},{"$f":"IF(#REF!=13,8,0)","v":{"$error":"#REF!"}},{"$f":"IF(#REF!=14,7,0)","v":{"$error":"#REF!"}},{"$f":"IF(#REF!=15,6,0)","v":{"$error":"#REF!"}},{"$f":"IF(#REF!=16,5,0)","v":{"$error":"#REF!"}},{"$f":"IF(#REF!=17,4,0)","v":{"$error":"#REF!"}},{"$f":"IF(#REF!=18,3,0)","v":{"$error":"#REF!"}},{"$f":"IF(#REF!=19,2,0)","v":{"$error":"#REF!"}},{"$f":"IF(#REF!=20,1,0)","v":{"$error":"#REF!"}},{"$f":"IF(#REF!>20,0,0)","v":{"$error":"#REF!"}},{"$f":"IF(#REF!=\"сх\",0,0)","v":{"$error":"#REF!"}},{"$f":"SUM(U13:AO13)","v":{"$error":"#REF!"}},{"$f":"IF(#REF!=1,25,0)","v":{"$error":"#REF!"}},{"$f":"IF(#REF!=2,22,0)","v":{"$error":"#REF!"}},{"$f":"IF(#REF!=3,20,0)","v":{"$error":"#REF!"}},{"$f":"IF(#REF!=4,18,0)","v":{"$error":"#REF!"}},{"$f":"IF(#REF!=5,16,0)","v":{"$error":"#REF!"}},{"$f":"IF(#REF!=6,15,0)","v":{"$error":"#REF!"}},{"$f":"IF(#REF!=7,14,0)","v":{"$error":"#REF!"}},{"$f":"IF(#REF!=8,13,0)","v":{"$error":"#REF!"}},{"$f":"IF(#REF!=9,12,0)","v":{"$error":"#REF!"}},{"$f":"IF(#REF!=10,11,0)","v":{"$error":"#REF!"}},{"$f":"IF(#REF!=11,10,0)","v":{"$error":"#REF!"}},{"$f":"IF(#REF!=12,9,0)","v":{"$error":"#REF!"}},{"$f":"IF(#REF!=13,8,0)","v":{"$error":"#REF!"}},{"$f":"IF(#REF!=14,7,0)","v":{"$error":"#REF!"}},{"$f":"IF(#REF!=15,6,0)","v":{"$error":"#REF!"}},{"$f":"IF(#REF!=16,5,0)","v":{"$error":"#REF!"}},{"$f":"IF(#REF!=17,4,0)","v":{"$error":"#REF!"}},{"$f":"IF(#REF!=18,3,0)","v":{"$error":"#REF!"}},{"$f":"IF(#REF!=19,2,0)","v":{"$error":"#REF!"}},{"$f":"IF(#REF!=20,1,0)","v":{"$error":"#REF!"}},{"$f":"IF(#REF!>20,0,0)","v":{"$error":"#REF!"}},{"$f":"IF(#REF!=\"сх\",0,0)","v":{"$error":"#REF!"}},{"$f":"SUM(AR13:BL13)","v":{"$error":"#REF!"}},{"$f":"IF(#REF!=1,45,0)","v":{"$error":"#REF!"}},{"$f":"IF(#REF!=2,42,0)","v":{"$error":"#REF!"}},{"$f":"IF(#REF!=3,40,0)","v":{"$error":"#REF!"}},{"$f":"IF(#REF!=4,38,0)","v":{"$error":"#REF!"}},{"$f":"IF(#REF!=5,36,0)","v":{"$error":"#REF!"}},{"$f":"IF(#REF!=6,35,0)","v":{"$error":"#REF!"}},{"$f":"IF(#REF!=7,34,0)","v":{"$error":"#REF!"}},{"$f":"IF(#REF!=8,33,0)","v":{"$error":"#REF!"}},{"$f":"IF(#REF!=9,32,0)","v":{"$error":"#REF!"}},{"$f":"IF(#REF!=10,31,0)","v":{"$error":"#REF!"}},{"$f":"IF(#REF!=11,30,0)","v":{"$error":"#REF!"}},{"$f":"IF(#REF!=12,29,0)","v":{"$error":"#REF!"}},{"$f":"IF(#REF!=13,28,0)","v":{"$error":"#REF!"}},{"$f":"IF(#REF!=14,27,0)","v":{"$error":"#REF!"}},{"$f":"IF(#REF!=15,26,0)","v":{"$error":"#REF!"}},{"$f":"IF(#REF!=16,25,0)","v":{"$error":"#REF!"}},{"$f":"IF(#REF!=17,24,0)","v":{"$error":"#REF!"}},{"$f":"IF(#REF!=18,23,0)","v":{"$error":"#REF!"}},{"$f":"IF(#REF!=19,22,0)","v":{"$error":"#REF!"}},{"$f":"IF(#REF!=20,21,0)","v":{"$error":"#REF!"}},{"$f":"IF(#REF!=21,20,0)","v":{"$error":"#REF!"}},{"$f":"IF(#REF!=22,19,0)","v":{"$error":"#REF!"}},{"$f":"IF(#REF!=23,18,0)","v":{"$error":"#REF!"}},{"$f":"IF(#REF!=24,17,0)","v":{"$error":"#REF!"}},{"$f":"IF(#REF!=25,16,0)","v":{"$error":"#REF!"}},{"$f":"IF(#REF!=26,15,0)","v":{"$error":"#REF!"}},{"$f":"IF(#REF!=27,14,0)","v":{"$error":"#REF!"}},{"$f":"IF(#REF!=28,13,0)","v":{"$error":"#REF!"}},{"$f":"IF(#REF!=29,12,0)","v":{"$error":"#REF!"}},{"$f":"IF(#REF!=30,11,0)","v":{"$error":"#REF!"}},{"$f":"IF(#REF!=31,10,0)","v":{"$error":"#REF!"}},{"$f":"IF(#REF!=32,9,0)","v":{"$error":"#REF!"}},{"$f":"IF(#REF!=33,8,0)","v":{"$error":"#REF!"}},{"$f":"IF(#REF!=34,7,0)","v":{"$error":"#REF!"}},{"$f":"IF(#REF!=35,6,0)","v":{"$error":"#REF!"}},{"$f":"IF(#REF!=36,5,0)","v":{"$error":"#REF!"}},{"$f":"IF(#REF!=37,4,0)","v":{"$error":"#REF!"}},{"$f":"IF(#REF!=38,3,0)","v":{"$error":"#REF!"}},{"$f":"IF(#REF!=39,2,0)","v":{"$error":"#REF!"}},{"$f":"IF(#REF!=40,1,0)","v":{"$error":"#REF!"}},{"$f":"IF(#REF!>20,0,0)","v":{"$error":"#REF!"}},{"$f":"IF(#REF!=\"сх\",0,0)","v":{"$error":"#REF!"}},{"$f":"SUM(BO13:DD13)","v":{"$error":"#REF!"}},{"$f":"IF(#REF!=1,45,0)","v":{"$error":"#REF!"}},{"$f":"IF(#REF!=2,42,0)","v":{"$error":"#REF!"}},{"$f":"IF(#REF!=3,40,0)","v":{"$error":"#REF!"}},{"$f":"IF(#REF!=4,38,0)","v":{"$error":"#REF!"}},{"$f":"IF(#REF!=5,36,0)","v":{"$error":"#REF!"}},{"$f":"IF(#REF!=6,35,0)","v":{"$error":"#REF!"}},{"$f":"IF(#REF!=7,34,0)","v":{"$error":"#REF!"}},{"$f":"IF(#REF!=8,33,0)","v":{"$error":"#REF!"}},{"$f":"IF(#REF!=9,32,0)","v":{"$error":"#REF!"}},{"$f":"IF(#REF!=10,31,0)","v":{"$error":"#REF!"}},{"$f":"IF(#REF!=11,30,0)","v":{"$error":"#REF!"}},{"$f":"IF(#REF!=12,29,0)","v":{"$error":"#REF!"}},{"$f":"IF(#REF!=13,28,0)","v":{"$error":"#REF!"}},{"$f":"IF(#REF!=14,27,0)","v":{"$error":"#REF!"}},{"$f":"IF(#REF!=15,26,0)","v":{"$error":"#REF!"}},{"$f":"IF(#REF!=16,25,0)","v":{"$error":"#REF!"}},{"$f":"IF(#REF!=17,24,0)","v":{"$error":"#REF!"}},{"$f":"IF(#REF!=18,23,0)","v":{"$error":"#REF!"}},{"$f":"IF(#REF!=19,22,0)","v":{"$error":"#REF!"}},{"$f":"IF(#REF!=20,21,0)","v":{"$error":"#REF!"}},{"$f":"IF(#REF!=21,20,0)","v":{"$error":"#REF!"}},{"$f":"IF(#REF!=22,19,0)","v":{"$error":"#REF!"}},{"$f":"IF(#REF!=23,18,0)","v":{"$error":"#REF!"}},{"$f":"IF(#REF!=24,17,0)","v":{"$error":"#REF!"}},{"$f":"IF(#REF!=25,16,0)","v":{"$error":"#REF!"}},{"$f":"IF(#REF!=26,15,0)","v":{"$error":"#REF!"}},{"$f":"IF(#REF!=27,14,0)","v":{"$error":"#REF!"}},{"$f":"IF(#REF!=28,13,0)","v":{"$error":"#REF!"}},{"$f":"IF(#REF!=29,12,0)","v":{"$error":"#REF!"}},{"$f":"IF(#REF!=30,11,0)","v":{"$error":"#REF!"}},{"$f":"IF(#REF!=31,10,0)","v":{"$error":"#REF!"}},{"$f":"IF(#REF!=32,9,0)","v":{"$error":"#REF!"}},{"$f":"IF(#REF!=33,8,0)","v":{"$error":"#REF!"}},{"$f":"IF(#REF!=34,7,0)","v":{"$error":"#REF!"}},{"$f":"IF(#REF!=35,6,0)","v":{"$error":"#REF!"}},{"$f":"IF(#REF!=36,5,0)","v":{"$error":"#REF!"}},{"$f":"IF(#REF!=37,4,0)","v":{"$error":"#REF!"}},{"$f":"IF(#REF!=38,3,0)","v":{"$error":"#REF!"}},{"$f":"IF(#REF!=39,2,0)","v":{"$error":"#REF!"}},{"$f":"IF(#REF!=40,1,0)","v":{"$error":"#REF!"}},{"$f":"IF(#REF!>20,0,0)","v":{"$error":"#REF!"}},{"$f":"IF(#REF!=\"сх\",0,0)","v":{"$error":"#REF!"}},{"$f":"SUM(DF13:EU13)","v":{"$error":"#REF!"}},null,{"$f":"IF(#REF!=\"сх\",\"ноль\",IF(#REF!>0,#REF!,\"Ноль\"))","v":{"$error":"#REF!"}},{"$f":"IF(#REF!=\"сх\",\"ноль\",IF(#REF!>0,#REF!,\"Ноль\"))","v":{"$error":"#REF!"}},null,{"$f":"MIN(EX13,EY13)","v":{"$error":"#REF!"}},{"$f":"IF(Q13=#REF!,IF(#REF!<#REF!,#REF!,FF13),#REF!)","v":{"$error":"#REF!"}},{"$f":"IF(Q13=#REF!,IF(#REF!<#REF!,0,1))","v":{"$error":"#REF!"}},{"$f":"IF(AND(FA13>=21,FA13<>0),FA13,IF(Q13<#REF!,\"СТОП\",FB13+FC13))","v":{"$error":"#REF!"}},null,15,16,null,{"$f":"IF(#REF!=1,25,0)","v":{"$error":"#REF!"}},{"$f":"IF(#REF!=2,22,0)","v":{"$error":"#REF!"}},{"$f":"IF(#REF!=3,20,0)","v":{"$error":"#REF!"}},{"$f":"IF(#REF!=4,18,0)","v":{"$error":"#REF!"}},{"$f":"IF(#REF!=5,16,0)","v":{"$error":"#REF!"}},{"$f":"IF(#REF!=6,15,0)","v":{"$error":"#REF!"}},{"$f":"IF(#REF!=7,14,0)","v":{"$error":"#REF!"}},{"$f":"IF(#REF!=8,13,0)","v":{"$error":"#REF!"}},{"$f":"IF(#REF!=9,12,0)","v":{"$error":"#REF!"}},{"$f":"IF(#REF!=10,11,0)","v":{"$error":"#REF!"}},{"$f":"IF(#REF!=11,10,0)","v":{"$error":"#REF!"}},{"$f":"IF(#REF!=12,9,0)","v":{"$error":"#REF!"}},{"$f":"IF(#REF!=13,8,0)","v":{"$error":"#REF!"}},{"$f":"IF(#REF!=14,7,0)","v":{"$error":"#REF!"}},{"$f":"IF(#REF!=15,6,0)","v":{"$error":"#REF!"}},{"$f":"IF(#REF!=16,5,0)","v":{"$error":"#REF!"}},{"$f":"IF(#REF!=17,4,0)","v":{"$error":"#REF!"}},{"$f":"IF(#REF!=18,3,0)","v":{"$error":"#REF!"}},{"$f":"IF(#REF!=19,2,0)","v":{"$error":"#REF!"}},{"$f":"IF(#REF!=20,1,0)","v":{"$error":"#REF!"}},{"$f":"IF(#REF!>20,0,0)","v":{"$error":"#REF!"}},{"$f":"IF(#REF!=\"сх\",0,0)","v":{"$error":"#REF!"}},{"$f":"SUM(FI13:GD13)","v":{"$error":"#REF!"}},{"$f":"IF(#REF!=1,25,0)","v":{"$error":"#REF!"}},{"$f":"IF(#REF!=2,22,0)","v":{"$error":"#REF!"}},{"$f":"IF(#REF!=3,20,0)","v":{"$error":"#REF!"}},{"$f":"IF(#REF!=4,18,0)","v":{"$error":"#REF!"}},{"$f":"IF(#REF!=5,16,0)","v":{"$error":"#REF!"}},{"$f":"IF(#REF!=6,15,0)","v":{"$error":"#REF!"}},{"$f":"IF(#REF!=7,14,0)","v":{"$error":"#REF!"}},{"$f":"IF(#REF!=8,13,0)","v":{"$error":"#REF!"}},{"$f":"IF(#REF!=9,12,0)","v":{"$error":"#REF!"}},{"$f":"IF(#REF!=10,11,0)","v":{"$error":"#REF!"}},{"$f":"IF(#REF!=11,10,0)","v":{"$error":"#REF!"}},{"$f":"IF(#REF!=12,9,0)","v":{"$error":"#REF!"}},{"$f":"IF(#REF!=13,8,0)","v":{"$error":"#REF!"}},{"$f":"IF(#REF!=14,7,0)","v":{"$error":"#REF!"}},{"$f":"IF(#REF!=15,6,0)","v":{"$error":"#REF!"}},{"$f":"IF(#REF!=16,5,0)","v":{"$error":"#REF!"}},{"$f":"IF(#REF!=17,4,0)","v":{"$error":"#REF!"}},{"$f":"IF(#REF!=18,3,0)","v":{"$error":"#REF!"}},{"$f":"IF(#REF!=19,2,0)","v":{"$error":"#REF!"}},{"$f":"IF(#REF!=20,1,0)","v":{"$error":"#REF!"}},{"$f":"IF(#REF!>20,0,0)","v":{"$error":"#REF!"}},{"$f":"IF(#REF!=\"сх\",0,0)","v":{"$error":"#REF!"}},{"$f":"SUM(GF13:HA13)","v":{"$error":"#REF!"}},{"$f":"IF(#REF!=1,100,0)","v":{"$error":"#REF!"}},{"$f":"IF(#REF!=2,98,0)","v":{"$error":"#REF!"}},{"$f":"IF(#REF!=3,95,0)","v":{"$error":"#REF!"}},{"$f":"IF(#REF!=4,93,0)","v":{"$error":"#REF!"}},{"$f":"IF(#REF!=5,90,0)","v":{"$error":"#REF!"}},{"$f":"IF(#REF!=6,88,0)","v":{"$error":"#REF!"}},{"$f":"IF(#REF!=7,85,0)","v":{"$error":"#REF!"}},{"$f":"IF(#REF!=8,83,0)","v":{"$error":"#REF!"}},{"$f":"IF(#REF!=9,80,0)","v":{"$error":"#REF!"}},{"$f":"IF(#REF!=10,78,0)","v":{"$error":"#REF!"}},{"$f":"IF(#REF!=11,75,0)","v":{"$error":"#REF!"}},{"$f":"IF(#REF!=12,73,0)","v":{"$error":"#REF!"}},{"$f":"IF(#REF!=13,70,0)","v":{"$error":"#REF!"}},{"$f":"IF(#REF!=14,68,0)","v":{"$error":"#REF!"}},{"$f":"IF(#REF!=15,65,0)","v":{"$error":"#REF!"}},{"$f":"IF(#REF!=16,63,0)","v":{"$error":"#REF!"}},{"$f":"IF(#REF!=17,60,0)","v":{"$error":"#REF!"}},{"$f":"IF(#REF!=18,58,0)","v":{"$error":"#REF!"}},{"$f":"IF(#REF!=19,55,0)","v":{"$error":"#REF!"}},{"$f":"IF(#REF!=20,53,0)","v":{"$error":"#REF!"}},{"$f":"IF(#REF!>20,0,0)","v":{"$error":"#REF!"}},{"$f":"IF(#REF!=\"сх\",0,0)","v":{"$error":"#REF!"}},{"$f":"SUM(HC13:HX13)","v":{"$error":"#REF!"}},{"$f":"IF(#REF!=1,100,0)","v":{"$error":"#REF!"}},{"$f":"IF(#REF!=2,98,0)","v":{"$error":"#REF!"}},{"$f":"IF(#REF!=3,95,0)","v":{"$error":"#REF!"}},{"$f":"IF(#REF!=4,93,0)","v":{"$error":"#REF!"}},{"$f":"IF(#REF!=5,90,0)","v":{"$error":"#REF!"}},{"$f":"IF(#REF!=6,88,0)","v":{"$error":"#REF!"}},{"$f":"IF(#REF!=7,85,0)","v":{"$error":"#REF!"}},{"$f":"IF(#REF!=8,83,0)","v":{"$error":"#REF!"}},{"$f":"IF(#REF!=9,80,0)","v":{"$error":"#REF!"}},{"$f":"IF(#REF!=10,78,0)","v":{"$error":"#REF!"}},{"$f":"IF(#REF!=11,75,0)","v":{"$error":"#REF!"}},{"$f":"IF(#REF!=12,73,0)","v":{"$error":"#REF!"}},{"$f":"IF(#REF!=13,70,0)","v":{"$error":"#REF!"}},{"$f":"IF(#REF!=14,68,0)","v":{"$error":"#REF!"}},{"$f":"IF(#REF!=15,65,0)","v":{"$error":"#REF!"}},{"$f":"IF(#REF!=16,63,0)","v":{"$error":"#REF!"}},{"$f":"IF(#REF!=17,60,0)","v":{"$error":"#REF!"}},{"$f":"IF(#REF!=18,58,0)","v":{"$error":"#REF!"}},{"$f":"IF(#REF!=19,55,0)","v":{"$error":"#REF!"}},{"$f":"IF(#REF!=20,53,0)","v":{"$error":"#REF!"}},{"$f":"IF(#REF!>20,0,0)","v":{"$error":"#REF!"}},{"$f":"IF(#REF!=\"сх\",0,0)","v":{"$error":"#REF!"}},{"$f":"SUM(HZ13:IU13)","v":{"$error":"#REF!"}}]
[5,4.3,161,"Каленчин Дмитрий","II","г. Новый Уренгой, Ямало-Ненецкий АО","СТК \"Ямбург\"","LYNX",6,15,5,16,{"$f":"#REF!+#REF!","v":{"$error":"#REF!"}},null,null,{"$f":"IF(#REF!=1,25,0)","v":{"$error":"#REF!"}},31,{"$f":"#REF!+#REF!","v":{"$error":"#REF!"}},null,null,{"$f":"IF(#REF!=1,25,0)","v":{"$error":"#REF!"}},{"$f":"IF(#REF!=2,22,0)","v":{"$error":"#REF!"}},{"$f":"IF(#REF!=3,20,0)","v":{"$error":"#REF!"}},{"$f":"IF(#REF!=4,18,0)","v":{"$error":"#REF!"}},{"$f":"IF(#REF!=5,16,0)","v":{"$error":"#REF!"}},{"$f":"IF(#REF!=6,15,0)","v":{"$error":"#REF!"}},{"$f":"IF(#REF!=7,14,0)","v":{"$error":"#REF!"}},{"$f":"IF(#REF!=8,13,0)","v":{"$error":"#REF!"}},{"$f":"IF(#REF!=9,12,0)","v":{"$error":"#REF!"}},{"$f":"IF(#REF!=10,11,0)","v":{"$error":"#REF!"}},{"$f":"IF(#REF!=11,10,0)","v":{"$error":"#REF!"}},{"$f":"IF(#REF!=12,9,0)","v":{"$error":"#REF!"}},{"$f":"IF(#REF!=13,8,0)","v":{"$error":"#REF!"}},{"$f":"IF(#REF!=14,7,0)","v":{"$error":"#REF!"}},{"$f":"IF(#REF!=15,6,0)","v":{"$error":"#REF!"}},{"$f":"IF(#REF!=16,5,0)","v":{"$error":"#REF!"}},{"$f":"IF(#REF!=17,4,0)","v":{"$error":"#REF!"}},{"$f":"IF(#REF!=18,3,0)","v":{"$error":"#REF!"}},{"$f":"IF(#REF!=19,2,0)","v":{"$error":"#REF!"}},{"$f":"IF(#REF!=20,1,0)","v":{"$error":"#REF!"}},{"$f":"IF(#REF!>20,0,0)","v":{"$error":"#REF!"}},{"$f":"IF(#REF!=\"сх\",0,0)","v":{"$error":"#REF!"}},{"$error":"#REF!"},{"$f":"IF(#REF!=1,25,0)","v":{"$error":"#REF!"}},{"$f":"IF(#REF!=2,22,0)","v":{"$error":"#REF!"}},{"$f":"IF(#REF!=3,20,0)","v":{"$error":"#REF!"}},{"$f":"IF(#REF!=4,18,0)","v":{"$error":"#REF!"}},{"$f":"IF(#REF!=5,16,0)","v":{"$error":"#REF!"}},{"$f":"IF(#REF!=6,15,0)","v":{"$error":"#REF!"}},{"$f":"IF(#REF!=7,14,0)","v":{"$error":"#REF!"}},{"$f":"IF(#REF!=8,13,0)","v":{"$error":"#REF!"}},{"$f":"IF(#REF!=9,12,0)","v":{"$error":"#REF!"}},{"$f":"IF(#REF!=10,11,0)","v":{"$error":"#REF!"}},{"$f":"IF(#REF!=11,10,0)","v":{"$error":"#REF!"}},{"$f":"IF(#REF!=12,9,0)","v":{"$error":"#REF!"}},{"$f":"IF(#REF!=13,8,0)","v":{"$error":"#REF!"}},{"$f":"IF(#REF!=14,7,0)","v":{"$error":"#REF!"}},{"$f":"IF(#REF!=15,6,0)","v":{"$error":"#REF!"}},{"$f":"IF(#REF!=16,5,0)","v":{"$error":"#REF!"}},{"$f":"IF(#REF!=17,4,0)","v":{"$error":"#REF!"}},{"$f":"IF(#REF!=18,3,0)","v":{"$error":"#REF!"}},{"$f":"IF(#REF!=19,2,0)","v":{"$error":"#REF!"}},{"$f":"IF(#REF!=20,1,0)","v":{"$error":"#REF!"}},{"$f":"IF(#REF!>20,0,0)","v":{"$error":"#REF!"}},{"$f":"IF(#REF!=\"сх\",0,0)","v":{"$error":"#REF!"}},{"$error":"#REF!"},{"$f":"IF(#REF!=1,45,0)","v":{"$error":"#REF!"}},{"$f":"IF(#REF!=2,42,0)","v":{"$error":"#REF!"}},{"$f":"IF(#REF!=3,40,0)","v":{"$error":"#REF!"}},{"$f":"IF(#REF!=4,38,0)","v":{"$error":"#REF!"}},{"$f":"IF(#REF!=5,36,0)","v":{"$error":"#REF!"}},{"$f":"IF(#REF!=6,35,0)","v":{"$error":"#REF!"}},{"$f":"IF(#REF!=7,34,0)","v":{"$error":"#REF!"}},{"$f":"IF(#REF!=8,33,0)","v":{"$error":"#REF!"}},{"$f":"IF(#REF!=9,32,0)","v":{"$error":"#REF!"}},{"$f":"IF(#REF!=10,31,0)","v":{"$error":"#REF!"}},{"$f":"IF(#REF!=11,30,0)","v":{"$error":"#REF!"}},{"$f":"IF(#REF!=12,29,0)","v":{"$error":"#REF!"}},{"$f":"IF(#REF!=13,28,0)","v":{"$error":"#REF!"}},{"$f":"IF(#REF!=14,27,0)","v":{"$error":"#REF!"}},{"$f":"IF(#REF!=15,26,0)","v":{"$error":"#REF!"}},{"$f":"IF(#REF!=16,25,0)","v":{"$error":"#REF!"}},{"$f":"IF(#REF!=17,24,0)","v":{"$error":"#REF!"}},{"$f":"IF(#REF!=18,23,0)","v":{"$error":"#REF!"}},{"$f":"IF(#REF!=19,22,0)","v":{"$error":"#REF!"}},{"$f":"IF(#REF!=20,21,0)","v":{"$error":"#REF!"}},{"$f":"IF(#REF!=21,20,0)","v":{"$error":"#REF!"}},{"$f":"IF(#REF!=22,19,0)","v":{"$error":"#REF!"}},{"$f":"IF(#REF!=23,18,0)","v":{"$error":"#REF!"}},{"$f":"IF(#REF!=24,17,0)","v":{"$error":"#REF!"}},{"$f":"IF(#REF!=25,16,0)","v":{"$error":"#REF!"}},{"$f":"IF(#REF!=26,15,0)","v":{"$error":"#REF!"}},{"$f":"IF(#REF!=27,14,0)","v":{"$error":"#REF!"}},{"$f":"IF(#REF!=28,13,0)","v":{"$error":"#REF!"}},{"$f":"IF(#REF!=29,12,0)","v":{"$error":"#REF!"}},{"$f":"IF(#REF!=30,11,0)","v":{"$error":"#REF!"}},{"$f":"IF(#REF!=31,10,0)","v":{"$error":"#REF!"}},{"$f":"IF(#REF!=32,9,0)","v":{"$error":"#REF!"}},{"$f":"IF(#REF!=33,8,0)","v":{"$error":"#REF!"}},{"$f":"IF(#REF!=34,7,0)","v":{"$error":"#REF!"}},{"$f":"IF(#REF!=35,6,0)","v":{"$error":"#REF!"}},{"$f":"IF(#REF!=36,5,0)","v":{"$error":"#REF!"}},{"$f":"IF(#REF!=37,4,0)","v":{"$error":"#REF!"}},{"$f":"IF(#REF!=38,3,0)","v":{"$error":"#REF!"}},{"$f":"IF(#REF!=39,2,0)","v":{"$error":"#REF!"}},{"$f":"IF(#REF!=40,1,0)","v":{"$error":"#REF!"}},{"$f":"IF(#REF!>20,0,0)","v":{"$error":"#REF!"}},{"$f":"IF(#REF!=\"сх\",0,0)","v":{"$error":"#REF!"}},{"$error":"#REF!"},{"$f":"IF(#REF!=1,45,0)","v":{"$error":"#REF!"}},{"$f":"IF(#REF!=2,42,0)","v":{"$error":"#REF!"}},{"$f":"IF(#REF!=3,40,0)","v":{"$error":"#REF!"}},{"$f":"IF(#REF!=4,38,0)","v":{"$error":"#REF!"}},{"$f":"IF(#REF!=5,36,0)","v":{"$error":"#REF!"}},{"$f":"IF(#REF!=6,35,0)","v":{"$error":"#REF!"}},{"$f":"IF(#REF!=7,34,0)","v":{"$error":"#REF!"}},{"$f":"IF(#REF!=8,33,0)","v":{"$error":"#REF!"}},{"$f":"IF(#REF!=9,32,0)","v":{"$error":"#REF!"}},{"$f":"IF(#REF!=10,31,0)","v":{"$error":"#REF!"}},{"$f":"IF(#REF!=11,30,0)","v":{"$error":"#REF!"}},{"$f":"IF(#REF!=12,29,0)","v":{"$error":"#REF!"}},{"$f":"IF(#REF!=13,28,0)","v":{"$error":"#REF!"}},{"$f":"IF(#REF!=14,27,0)","v":{"$error":"#REF!"}},{"$f":"IF(#REF!=15,26,0)","v":{"$error":"#REF!"}},{"$f":"IF(#REF!=16,25,0)","v":{"$error":"#REF!"}},{"$f":"IF(#REF!=17,24,0)","v":{"$error":"#REF!"}},{"$f":"IF(#REF!=18,23,0)","v":{"$error":"#REF!"}},{"$f":"IF(#REF!=19,22,0)","v":{"$error":"#REF!"}},{"$f":"IF(#REF!=20,21,0)","v":{"$error":"#REF!"}},{"$f":"IF(#REF!=21,20,0)","v":{"$error":"#REF!"}},{"$f":"IF(#REF!=22,19,0)","v":{"$error":"#REF!"}},{"$f":"IF(#REF!=23,18,0)","v":{"$error":"#REF!"}},{"$f":"IF(#REF!=24,17,0)","v":{"$error":"#REF!"}},{"$f":"IF(#REF!=25,16,0)","v":{"$error":"#REF!"}},{"$f":"IF(#REF!=26,15,0)","v":{"$error":"#REF!"}},{"$f":"IF(#REF!=27,14,0)","v":{"$error":"#REF!"}},{"$f":"IF(#REF!=28,13,0)","v":{"$error":"#REF!"}},{"$f":"IF(#REF!=29,12,0)","v":{"$error":"#REF!"}},{"$f":"IF(#REF!=30,11,0)","v":{"$error":"#REF!"}},{"$f":"IF(#REF!=31,10,0)","v":{"$error":"#REF!"}},{"$f":"IF(#REF!=32,9,0)","v":{"$error":"#REF!"}},{"$f":"IF(#REF!=33,8,0)","v":{"$error":"#REF!"}},{"$f":"IF(#REF!=34,7,0)","v":{"$error":"#REF!"}},{"$f":"IF(#REF!=35,6,0)","v":{"$error":"#REF!"}},{"$f":"IF(#REF!=36,5,0)","v":{"$error":"#REF!"}},{"$f":"IF(#REF!=37,4,0)","v":{"$error":"#REF!"}},{"$f":"IF(#REF!=38,3,0)","v":{"$error":"#REF!"}},{"$f":"IF(#REF!=39,2,0)","v":{"$error":"#REF!"}},{"$f":"IF(#REF!=40,1,0)","v":{"$error":"#REF!"}},{"$f":"IF(#REF!>20,0,0)","v":{"$error":"#REF!"}},{"$f":"IF(#REF!=\"сх\",0,0)","v":{"$error":"#REF!"}},{"$error":"#REF!"},null,{"$f":"IF(#REF!=\"сх\",\"ноль\",IF(#REF!>0,#REF!,\"Ноль\"))","v":{"$error":"#REF!"}},{"$f":"IF(#REF!=\"сх\",\"ноль\",IF(#REF!>0,#REF!,\"Ноль\"))","v":{"$error":"#REF!"}},null,{"$error":"#REF!"},{"$f":"IF(Q14=#REF!,IF(#REF!<#REF!,#REF!,FF14),#REF!)","v":{"$error":"#REF!"}},{"$f":"IF(Q14=#REF!,IF(#REF!<#REF!,0,1))","v":{"$error":"#REF!"}},{"$f":"IF(AND(FA14>=21,FA14<>0),FA14,IF(Q14<#REF!,\"СТОП\",FB14+FC14))","v":{"$error":"#REF!"}},null,15,16,null,{"$f":"IF(#REF!=1,25,0)","v":{"$error":"#REF!"}},{"$f":"IF(#REF!=2,22,0)","v":{"$error":"#REF!"}},{"$f":"IF(#REF!=3,20,0)","v":{"$error":"#REF!"}},{"$f":"IF(#REF!=4,18,0)","v":{"$error":"#REF!"}},{"$f":"IF(#REF!=5,16,0)","v":{"$error":"#REF!"}},{"$f":"IF(#REF!=6,15,0)","v":{"$error":"#REF!"}},{"$f":"IF(#REF!=7,14,0)","v":{"$error":"#REF!"}},{"$f":"IF(#REF!=8,13,0)","v":{"$error":"#REF!"}},{"$f":"IF(#REF!=9,12,0)","v":{"$error":"#REF!"}},{"$f":"IF(#REF!=10,11,0)","v":{"$error":"#REF!"}},{"$f":"IF(#REF!=11,10,0)","v":{"$error":"#REF!"}},{"$f":"IF(#REF!=12,9,0)","v":{"$error":"#REF!"}},{"$f":"IF(#REF!=13,8,0)","v":{"$error":"#REF!"}},{"$f":"IF(#REF!=14,7,0)","v":{"$error":"#REF!"}},{"$f":"IF(#REF!=15,6,0)","v":{"$error":"#REF!"}},{"$f":"IF(#REF!=16,5,0)","v":{"$error":"#REF!"}},{"$f":"IF(#REF!=17,4,0)","v":{"$error":"#REF!"}},{"$f":"IF(#REF!=18,3,0)","v":{"$error":"#REF!"}},{"$f":"IF(#REF!=19,2,0)","v":{"$error":"#REF!"}},{"$f":"IF(#REF!=20,1,0)","v":{"$error":"#REF!"}},{"$f":"IF(#REF!>20,0,0)","v":{"$error":"#REF!"}},{"$f":"IF(#REF!=\"сх\",0,0)","v":{"$error":"#REF!"}},{"$error":"#REF!"},{"$f":"IF(#REF!=1,25,0)","v":{"$error":"#REF!"}},{"$f":"IF(#REF!=2,22,0)","v":{"$error":"#REF!"}},{"$f":"IF(#REF!=3,20,0)","v":{"$error":"#REF!"}},{"$f":"IF(#REF!=4,18,0)","v":{"$error":"#REF!"}},{"$f":"IF(#REF!=5,16,0)","v":{"$error":"#REF!"}},{"$f":"IF(#REF!=6,15,0)","v":{"$error":"#REF!"}},{"$f":"IF(#REF!=7,14,0)","v":{"$error":"#REF!"}},{"$f":"IF(#REF!=8,13,0)","v":{"$error":"#REF!"}},{"$f":"IF(#REF!=9,12,0)","v":{"$error":"#REF!"}},{"$f":"IF(#REF!=10,11,0)","v":{"$error":"#REF!"}},{"$f":"IF(#REF!=11,10,0)","v":{"$error":"#REF!"}},{"$f":"IF(#REF!=12,9,0)","v":{"$error":"#REF!"}},{"$f":"IF(#REF!=13,8,0)","v":{"$error":"#REF!"}},{"$f":"IF(#REF!=14,7,0)","v":{"$error":"#REF!"}},{"$f":"IF(#REF!=15,6,0)","v":{"$error":"#REF!"}},{"$f":"IF(#REF!=16,5,0)","v":{"$error":"#REF!"}},{"$f":"IF(#REF!=17,4,0)","v":{"$error":"#REF!"}},{"$f":"IF(#REF!=18,3,0)","v":{"$error":"#REF!"}},{"$f":"IF(#REF!=19,2,0)","v":{"$error":"#REF!"}},{"$f":"IF(#REF!=20,1,0)","v":{"$error":"#REF!"}},{"$f":"IF(#REF!>20,0,0)","v":{"$error":"#REF!"}},{"$f":"IF(#REF!=\"сх\",0,0)","v":{"$error":"#REF!"}},{"$error":"#REF!"},{"$f":"IF(#REF!=1,100,0)","v":{"$error":"#REF!"}},{"$f":"IF(#REF!=2,98,0)","v":{"$error":"#REF!"}},{"$f":"IF(#REF!=3,95,0)","v":{"$error":"#REF!"}},{"$f":"IF(#REF!=4,93,0)","v":{"$error":"#REF!"}},{"$f":"IF(#REF!=5,90,0)","v":{"$error":"#REF!"}},{"$f":"IF(#REF!=6,88,0)","v":{"$error":"#REF!"}},{"$f":"IF(#REF!=7,85,0)","v":{"$error":"#REF!"}},{"$f":"IF(#REF!=8,83,0)","v":{"$error":"#REF!"}},{"$f":"IF(#REF!=9,80,0)","v":{"$error":"#REF!"}},{"$f":"IF(#REF!=10,78,0)","v":{"$error":"#REF!"}},{"$f":"IF(#REF!=11,75,0)","v":{"$error":"#REF!"}},{"$f":"IF(#REF!=12,73,0)","v":{"$error":"#REF!"}},{"$f":"IF(#REF!=13,70,0)","v":{"$error":"#REF!"}},{"$f":"IF(#REF!=14,68,0)","v":{"$error":"#REF!"}},{"$f":"IF(#REF!=15,65,0)","v":{"$error":"#REF!"}},{"$f":"IF(#REF!=16,63,0)","v":{"$error":"#REF!"}},{"$f":"IF(#REF!=17,60,0)","v":{"$error":"#REF!"}},{"$f":"IF(#REF!=18,58,0)","v":{"$error":"#REF!"}},{"$f":"IF(#REF!=19,55,0)","v":{"$error":"#REF!"}},{"$f":"IF(#REF!=20,53,0)","v":{"$error":"#REF!"}},{"$f":"IF(#REF!>20,0,0)","v":{"$error":"#REF!"}},{"$f":"IF(#REF!=\"сх\",0,0)","v":{"$error":"#REF!"}},{"$error":"#REF!"},{"$f":"IF(#REF!=1,100,0)","v":{"$error":"#REF!"}},{"$f":"IF(#REF!=2,98,0)","v":{"$error":"#REF!"}},{"$f":"IF(#REF!=3,95,0)","v":{"$error":"#REF!"}},{"$f":"IF(#REF!=4,93,0)","v":{"$error":"#REF!"}},{"$f":"IF(#REF!=5,90,0)","v":{"$error":"#REF!"}},{"$f":"IF(#REF!=6,88,0)","v":{"$error":"#REF!"}},{"$f":"IF(#REF!=7,85,0)","v":{"$error":"#REF!"}},{"$f":"IF(#REF!=8,83,0)","v":{"$error":"#REF!"}},{"$f":"IF(#REF!=9,80,0)","v":{"$error":"#REF!"}},{"$f":"IF(#REF!=10,78,0)","v":{"$error":"#REF!"}},{"$f":"IF(#REF!=11,75,0)","v":{"$error":"#REF!"}},{"$f":"IF(#REF!=12,73,0)","v":{"$error":"#REF!"}},{"$f":"IF(#REF!=13,70,0)","v":{"$error":"#REF!"}},{"$f":"IF(#REF!=14,68,0)","v":{"$error":"#REF!"}},{"$f":"IF(#REF!=15,65,0)","v":{"$error":"#REF!"}},{"$f":"IF(#REF!=16,63,0)","v":{"$error":"#REF!"}},{"$f":"IF(#REF!=17,60,0)","v":{"$error":"#REF!"}},{"$f":"IF(#REF!=18,58,0)","v":{"$error":"#REF!"}},{"$f":"IF(#REF!=19,55,0)","v":{"$error":"#REF!"}},{"$f":"IF(#REF!=20,53,0)","v":{"$error":"#REF!"}},{"$f":"IF(#REF!>20,0,0)","v":{"$error":"#REF!"}},{"$f":"IF(#REF!=\"сх\",0,0)","v":{"$error":"#REF!"}},{"$error":"#REF!"}]
[7,4.2,44,"Дубовик Иван","I","г. Новый Уренгой, Ямало-Ненецкий АО","СТК \"Факел\"","LYNX",7,14,9,12,{"$f":"#REF!+#REF!","v":{"$error":"#REF!"}},null,null,{"$f":"IF(#REF!=1,25,0)","v":{"$error":"#REF!"}},26,{"$f":"#REF!+#REF!","v":{"$error":"#REF!"}},null,null,{"$f":"IF(#REF!=1,25,0)","v":{"$error":"#REF!"}},{"$f":"IF(#REF!=2,22,0)","v":{"$error":"#REF!"}},{"$f":"IF(#REF!=3,20,0)","v":{"$error":"#REF!"}},{"$f":"IF(#REF!=4,18,0)","v":{"$error":"#REF!"}},{"$f":"IF(#REF!=5,16,0)","v":{"$error":"#REF!"}},{"$f":"IF(#REF!=6,15,0)","v":{"$error":"#REF!"}},{"$f":"IF(#REF!=7,14,0)","v":{"$error":"#REF!"}},{"$f":"IF(#REF!=8,13,0)","v":{"$error":"#REF!"}},{"$f":"IF(#REF!=9,12,0)","v":{"$error":"#REF!"}},{"$f":"IF(#REF!=10,11,0)","v":{"$error":"#REF!"}},{"$f":"IF(#REF!=11,10,0)","v":{"$error":"#REF!"}},{"$f":"IF(#REF!=12,9,0)","v":{"$error":"#REF!"}},{"$f":"IF(#REF!=13,8,0)","v":{"$error":"#REF!"}},{"$f":"IF(#REF!=14,7,0)","v":{"$error":"#REF!"}},{"$f":"IF(#REF!=15,6,0)","v":{"$error":"#REF!"}},{"$f":"IF(#REF!=16,5,0)","v":{"$error":"#REF!"}},{"$f":"IF(#REF!=17,4,0)","v":{"$error":"#REF!"}},{"$f":"IF(#REF!=18,3,0)","v":{"$error":"#REF!"}},{"$f":"IF(#REF!=19,2,0)","v":{"$error":"#REF!"}},{"$f":"IF(#REF!=20,1,0)","v":{"$error":"#REF!"}},{"$f":"IF(#REF!>20,0,0)","v":{"$error":"#REF!"}},{"$f":"IF(#REF!=\"сх\",0,0)","v":{"$error":"#REF!"}},{"$error":"#REF!"},{"$f":"IF(#REF!=1,25,0)","v":{"$error":"#REF!"}},{"$f":"IF(#REF!=2,22,0)","v":{"$error":"#REF!"}},{"$f":"IF(#REF!=3,20,0)","v":{"$error":"#REF!"}},{"$f":"IF(#REF!=4,18,0)","v":{"$error":"#REF!"}},{"$f":"IF(#REF!=5,16,0)","v":{"$error":"#REF!"}},{"$f":"IF(#REF!=6,15,0)","v":{"$error":"#REF!"}},{"$f":"IF(#REF!=7,14,0)","v":{"$error":"#REF!"}},{"$f":"IF(#REF!=8,13,0)","v":{"$error":"#REF!"}},{"$f":"IF(#REF!=9,12,0)","v":{"$error":"#REF!"}},{"$f":"IF(#REF!=10,11,0)","v":{"$error":"#REF!"}},{"$f":"IF(#REF!=11,10,0)","v":{"$error":"#REF!"}},{"$f":"IF(#REF!=12,9,0)","v":{"$error":"#REF!"}},{"$f":"IF(#REF!=13,8,0)","v":{"$error":"#REF!"}},{"$f":"IF(#REF!=14,7,0)","v":{"$error":"#REF!"}},{"$f":"IF(#REF!=15,6,0)","v":{"$error":"#REF!"}},{"$f":"IF(#REF!=16,5,0)","v":{"$error":"#REF!"}},{"$f":"IF(#REF!=17,4,0)","v":{"$error":"#REF!"}},{"$f":"IF(#REF!=18,3,0)","v":{"$error":"#REF!"}},{"$f":"IF(#REF!=19,2,0)","v":{"$error":"#REF!"}},{"$f":"IF(#REF!=20,1,0)","v":{"$error":"#REF!"}},{"$f":"IF(#REF!>20,0,0)","v":{"$error":"#REF!"}},{"$f":"IF(#REF!=\"сх\",0,0)","v":{"$error":"#REF!"}},{"$error":"#REF!"},{"$f":"IF(#REF!=1,45,0)","v":{"$error":"#REF!"}},{"$f":"IF(#REF!=2,42,0)","v":{"$error":"#REF!"}},{"$f":"IF(#REF!=3,40,0)","v":{"$error":"#REF!"}},{"$f":"IF(#REF!=4,38,0)","v":{"$error":"#REF!"}},{"$f":"IF(#REF!=5,36,0)","v":{"$error":"#REF!"}},{"$f":"IF(#REF!=6,35,0)","v":{"$error":"#REF!"}},{"$f":"IF(#REF!=7,34,0)","v":{"$error":"#REF!"}},{"$f":"IF(#REF!=8,33,0)","v":{"$error":"#REF!"}},{"$f":"IF(#REF!=9,32,0)","v":{"$error":"#REF!"}},{"$f":"IF(#REF!=10,31,0)","v":{"$error":"#REF!"}},{"$f":"IF(#REF!=11,30,0)","v":{"$error":"#REF!"}},{"$f":"IF(#REF!=12,29,0)","v":{"$error":"#REF!"}},{"$f":"IF(#REF!=13,28,0)","v":{"$error":"#REF!"}},{"$f":"IF(#REF!=14,27,0)","v":{"$error":"#REF!"}},{"$f":"IF(#REF!=15,26,0)","v":{"$error":"#REF!"}},{"$f":"IF(#REF!=16,25,0)","v":{"$error":"#REF!"}},{"$f":"IF(#REF!=17,24,0)","v":{"$error":"#REF!"}},{"$f":"IF(#REF!=18,23,0)","v":{"$error":"#REF!"}},{"$f":"IF(#REF!=19,22,0)","v":{"$error":"#REF!"}},{"$f":"IF(#REF!=20,21,0)","v":{"$error":"#REF!"}},{"$f":"IF(#REF!=21,20,0)","v":{"$error":"#REF!"}},{"$f":"IF(#REF!=22,19,0)","v":{"$error":"#REF!"}},{"$f":"IF(#REF!=23,18,0)","v":{"$error":"#REF!"}},{"$f":"IF(#REF!=24,17,0)","v":{"$error":"#REF!"}},{"$f":"IF(#REF!=25,16,0)","v":{"$error":"#REF!"}},{"$f":"IF(#REF!=26,15,0)","v":{"$error":"#REF!"}},{"$f":"IF(#REF!=27,14,0)","v":{"$error":"#REF!"}},{"$f":"IF(#REF!=28,13,0)","v":{"$error":"#REF!"}},{"$f":"IF(#REF!=29,12,0)","v":{"$error":"#REF!"}},{"$f":"IF(#REF!=30,11,0)","v":{"$error":"#REF!"}},{"$f":"IF(#REF!=31,10,0)","v":{"$error":"#REF!"}},{"$f":"IF(#REF!=32,9,0)","v":{"$error":"#REF!"}},{"$f":"IF(#REF!=33,8,0)","v":{"$error":"#REF!"}},{"$f":"IF(#REF!=34,7,0)","v":{"$error":"#REF!"}},{"$f":"IF(#REF!=35,6,0)","v":{"$error":"#REF!"}},{"$f":"IF(#REF!=36,5,0)","v":{"$error":"#REF!"}},{"$f":"IF(#REF!=37,4,0)","v":{"$error":"#REF!"}},{"$f":"IF(#REF!=38,3,0)","v":{"$error":"#REF!"}},{"$f":"IF(#REF!=39,2,0)","v":{"$error":"#REF!"}},{"$f":"IF(#REF!=40,1,0)","v":{"$error":"#REF!"}},{"$f":"IF(#REF!>20,0,0)","v":{"$error":"#REF!"}},{"$f":"IF(#REF!=\"сх\",0,0)","v":{"$error":"#REF!"}},{"$error":"#REF!"},{"$f":"IF(#REF!=1,45,0)","v":{"$error":"#REF!"}},{"$f":"IF(#REF!=2,42,0)","v":{"$error":"#REF!"}},{"$f":"IF(#REF!=3,40,0)","v":{"$error":"#REF!"}},{"$f":"IF(#REF!=4,38,0)","v":{"$error":"#REF!"}},{"$f":"IF(#REF!=5,36,0)","v":{"$error":"#REF!"}},{"$f":"IF(#REF!=6,35,0)","v":{"$error":"#REF!"}},{"$f":"IF(#REF!=7,34,0)","v":{"$error":"#REF!"}},{"$f":"IF(#REF!=8,33,0)","v":{"$error":"#REF!"}},{"$f":"IF(#REF!=9,32,0)","v":{"$error":"#REF!"}},{"$f":"IF(#REF!=10,31,0)","v":{"$error":"#REF!"}},{"$f":"IF(#REF!=11,30,0)","v":{"$error":"#REF!"}},{"$f":"IF(#REF!=12,29,0)","v":{"$error":"#REF!"}},{"$f":"IF(#REF!=13,28,0)","v":{"$error":"#REF!"}},{"$f":"IF(#REF!=14,27,0)","v":{"$error":"#REF!"}},{"$f":"IF(#REF!=15,26,0)","v":{"$error":"#REF!"}},{"$f":"IF(#REF!=16,25,0)","v":{"$error":"#REF!"}},{"$f":"IF(#REF!=17,24,0)","v":{"$error":"#REF!"}},{"$f":"IF(#REF!=18,23,0)","v":{"$error":"#REF!"}},{"$f":"IF(#REF!=19,22,0)","v":{"$error":"#REF!"}},{"$f":"IF(#REF!=20,21,0)","v":{"$error":"#REF!"}},{"$f":"IF(#REF!=21,20,0)","v":{"$error":"#REF!"}},{"$f":"IF(#REF!=22,19,0)","v":{"$error":"#REF!"}},{"$f":"IF(#REF!=23,18,0)","v":{"$error":"#REF!"}},{"$f":"IF(#REF!=24,17,0)","v":{"$error":"#REF!"}},{"$f":"IF(#REF!=25,16,0)","v":{"$error":"#REF!"}},{"$f":"IF(#REF!=26,15,0)","v":{"$error":"#REF!"}},{"$f":"IF(#REF!=27,14,0)","v":{"$error":"#REF!"}},{"$f":"IF(#REF!=28,13,0)","v":{"$error":"#REF!"}},{"$f":"IF(#REF!=29,12,0)","v":{"$error":"#REF!"}},{"$f":"IF(#REF!=30,11,0)","v":{"$error":"#REF!"}},{"$f":"IF(#REF!=31,10,0)","v":{"$error":"#REF!"}},{"$f":"IF(#REF!=32,9,0)","v":{"$error":"#REF!"}},{"$f":"IF(#REF!=33,8,0)","v":{"$error":"#REF!"}},{"$f":"IF(#REF!=34,7,0)","v":{"$error":"#REF!"}},{"$f":"IF(#REF!=35,6,0)","v":{"$error":"#REF!"}},{"$f":"IF(#REF!=36,5,0)","v":{"$error":"#REF!"}},{"$f":"IF(#REF!=37,4,0)","v":{"$error":"#REF!"}},{"$f":"IF(#REF!=38,3,0)","v":{"$error":"#REF!"}},{"$f":"IF(#REF!=39,2,0)","v":{"$error":"#REF!"}},{"$f":"IF(#REF!=40,1,0)","v":{"$error":"#REF!"}},{"$f":"IF(#REF!>20,0,0)","v":{"$error":"#REF!"}},{"$f":"IF(#REF!=\"сх\",0,0)","v":{"$error":"#REF!"}},{"$error":"#REF!"},null,{"$f":"IF(#REF!=\"сх\",\"ноль\",IF(#REF!>0,#REF!,\"Ноль\"))","v":{"$error":"#REF!"}},{"$f":"IF(#REF!=\"сх\",\"ноль\",IF(#REF!>0,#REF!,\"Ноль\"))","v":{"$error":"#REF!"}},null,{"$error":"#REF!"},{"$f":"IF(Q15=#REF!,IF(#REF!<#REF!,#REF!,FF15),#REF!)","v":{"$error":"#REF!"}},{"$f":"IF(Q15=#REF!,IF(#REF!<#REF!,0,1))","v":{"$error":"#REF!"}},{"$f":"IF(AND(FA15>=21,FA15<>0),FA15,IF(Q15<#REF!,\"СТОП\",FB15+FC15))","v":{"$error":"#REF!"}},null,15,16,null,{"$f":"IF(#REF!=1,25,0)","v":{"$error":"#REF!"}},{"$f":"IF(#REF!=2,22,0)","v":{"$error":"#REF!"}},{"$f":"IF(#REF!=3,20,0)","v":{"$error":"#REF!"}},{"$f":"IF(#REF!=4,18,0)","v":{"$error":"#REF!"}},{"$f":"IF(#REF!=5,16,0)","v":{"$error":"#REF!"}},{"$f":"IF(#REF!=6,15,0)","v":{"$error":"#REF!"}},{"$f":"IF(#REF!=7,14,0)","v":{"$error":"#REF!"}},{"$f":"IF(#REF!=8,13,0)","v":{"$error":"#REF!"}},{"$f":"IF(#REF!=9,12,0)","v":{"$error":"#REF!"}},{"$f":"IF(#REF!=10,11,0)","v":{"$error":"#REF!"}},{"$f":"IF(#REF!=11,10,0)","v":{"$error":"#REF!"}},{"$f":"IF(#REF!=12,9,0)","v":{"$error":"#REF!"}},{"$f":"IF(#REF!=13,8,0)","v":{"$error":"#REF!"}},{"$f":"IF(#REF!=14,7,0)","v":{"$error":"#REF!"}},{"$f":"IF(#REF!=15,6,0)","v":{"$error":"#REF!"}},{"$f":"IF(#REF!=16,5,0)","v":{"$error":"#REF!"}},{"$f":"IF(#REF!=17,4,0)","v":{"$error":"#REF!"}},{"$f":"IF(#REF!=18,3,0)","v":{"$error":"#REF!"}},{"$f":"IF(#REF!=19,2,0)","v":{"$error":"#REF!"}},{"$f":"IF(#REF!=20,1,0)","v":{"$error":"#REF!"}},{"$f":"IF(#REF!>20,0,0)","v":{"$error":"#REF!"}},{"$f":"IF(#REF!=\"сх\",0,0)","v":{"$error":"#REF!"}},{"$error":"#REF!"},{"$f":"IF(#REF!=1,25,0)","v":{"$error":"#REF!"}},{"$f":"IF(#REF!=2,22,0)","v":{"$error":"#REF!"}},{"$f":"IF(#REF!=3,20,0)","v":{"$error":"#REF!"}},{"$f":"IF(#REF!=4,18,0)","v":{"$error":"#REF!"}},{"$f":"IF(#REF!=5,16,0)","v":{"$error":"#REF!"}},{"$f":"IF(#REF!=6,15,0)","v":{"$error":"#REF!"}},{"$f":"IF(#REF!=7,14,0)","v":{"$error":"#REF!"}},{"$f":"IF(#REF!=8,13,0)","v":{"$error":"#REF!"}},{"$f":"IF(#REF!=9,12,0)","v":{"$error":"#REF!"}},{"$f":"IF(#REF!=10,11,0)","v":{"$error":"#REF!"}},{"$f":"IF(#REF!=11,10,0)","v":{"$error":"#REF!"}},{"$f":"IF(#REF!=12,9,0)","v":{"$error":"#REF!"}},{"$f":"IF(#REF!=13,8,0)","v":{"$error":"#REF!"}},{"$f":"IF(#REF!=14,7,0)","v":{"$error":"#REF!"}},{"$f":"IF(#REF!=15,6,0)","v":{"$error":"#REF!"}},{"$f":"IF(#REF!=16,5,0)","v":{"$error":"#REF!"}},{"$f":"IF(#REF!=17,4,0)","v":{"$error":"#REF!"}},{"$f":"IF(#REF!=18,3,0)","v":{"$error":"#REF!"}},{"$f":"IF(#REF!=19,2,0)","v":{"$error":"#REF!"}},{"$f":"IF(#REF!=20,1,0)","v":{"$error":"#REF!"}},{"$f":"IF(#REF!>20,0,0)","v":{"$error":"#REF!"}},{"$f":"IF(#REF!=\"сх\",0,0)","v":{"$error":"#REF!"}},{"$error":"#REF!"},{"$f":"IF(#REF!=1,100,0)","v":{"$error":"#REF!"}},{"$f":"IF(#REF!=2,98,0)","v":{"$error":"#REF!"}},{"$f":"IF(#REF!=3,95,0)","v":{"$error":"#REF!"}},{"$f":"IF(#REF!=4,93,0)","v":{"$error":"#REF!"}},{"$f":"IF(#REF!=5,90,0)","v":{"$error":"#REF!"}},{"$f":"IF(#REF!=6,88,0)","v":{"$error":"#REF!"}},{"$f":"IF(#REF!=7,85,0)","v":{"$error":"#REF!"}},{"$f":"IF(#REF!=8,83,0)","v":{"$error":"#REF!"}},{"$f":"IF(#REF!=9,80,0)","v":{"$error":"#REF!"}},{"$f":"IF(#REF!=10,78,0)","v":{"$error":"#REF!"}},{"$f":"IF(#REF!=11,75,0)","v":{"$error":"#REF!"}},{"$f":"IF(#REF!=12,73,0)","v":{"$error":"#REF!"}},{"$f":"IF(#REF!=13,70,0)","v":{"$error":"#REF!"}},{"$f":"IF(#REF!=14,68,0)","v":{"$error":"#REF!"}},{"$f":"IF(#REF!=15,65,0)","v":{"$error":"#REF!"}},{"$f":"IF(#REF!=16,63,0)","v":{"$error":"#REF!"}},{"$f":"IF(#REF!=17,60,0)","v":{"$error":"#REF!"}},{"$f":"IF(#REF!=18,58,0)","v":{"$error":"#REF!"}},{"$f":"IF(#REF!=19,55,0)","v":{"$error":"#REF!"}},{"$f":"IF(#REF!=20,53,0)","v":{"$error":"#REF!"}},{"$f":"IF(#REF!>20,0,0)","v":{"$error":"#REF!"}},{"$f":"IF(#REF!=\"сх\",0,0)","v":{"$error":"#REF!"}},{"$error":"#REF!"},{"$f":"IF(#REF!=1,100,0)","v":{"$error":"#REF!"}},{"$f":"IF(#REF!=2,98,0)","v":{"$error":"#REF!"}},{"$f":"IF(#REF!=3,95,0)","v":{"$error":"#REF!"}},{"$f":"IF(#REF!=4,93,0)","v":{"$error":"#REF!"}},{"$f":"IF(#REF!=5,90,0)","v":{"$error":"#REF!"}},{"$f":"IF(#REF!=6,88,0)","v":{"$error":"#REF!"}},{"$f":"IF(#REF!=7,85,0)","v":{"$error":"#REF!"}},{"$f":"IF(#REF!=8,83,0)","v":{"$error":"#REF!"}},{"$f":"IF(#REF!=9,80,0)","v":{"$error":"#REF!"}},{"$f":"IF(#REF!=10,78,0)","v":{"$error":"#REF!"}},{"$f":"IF(#REF!=11,75,0)","v":{"$error":"#REF!"}},{"$f":"IF(#REF!=12,73,0)","v":{"$error":"#REF!"}},{"$f":"IF(#REF!=13,70,0)","v":{"$error":"#REF!"}},{"$f":"IF(#REF!=14,68,0)","v":{"$error":"#REF!"}},{"$f":"IF(#REF!=15,65,0)","v":{"$error":"#REF!"}},{"$f":"IF(#REF!=16,63,0)","v":{"$error":"#REF!"}},{"$f":"IF(#REF!=17,60,0)","v":{"$error":"#REF!"}},{"$f":"IF(#REF!=18,58,0)","v":{"$error":"#REF!"}},{"$f":"IF(#REF!=19,55,0)","v":{"$error":"#REF!"}},{"$f":"IF(#REF!=20,53,0)","v":{"$error":"#REF!"}},{"$f":"IF(#REF!>20,0,0)","v":{"$error":"#REF!"}},{"$f":"IF(#REF!=\"сх\",0,0)","v":{"$error":"#REF!"}},{"$error":"#REF!"}]
[8,4.0999999999999996,41,"Колегов Матвей","II","г. Новый Уренгой, Ямало-Ненецкий АО","СТК \"Ямбург\"","LYNX",8,13,8,13,{"$f":"#REF!+#REF!","v":{"$error":"#REF!"}},null,null,{"$f":"IF(#REF!=1,25,0)","v":{"$error":"#REF!"}},26,{"$f":"#REF!+#REF!","v":{"$error":"#REF!"}},null,null,{"$f":"IF(#REF!=1,25,0)","v":{"$error":"#REF!"}},{"$f":"IF(#REF!=2,22,0)","v":{"$error":"#REF!"}},{"$f":"IF(#REF!=3,20,0)","v":{"$error":"#REF!"}},{"$f":"IF(#REF!=4,18,0)","v":{"$error":"#REF!"}},{"$f":"IF(#REF!=5,16,0)","v":{"$error":"#REF!"}},{"$f":"IF(#REF!=6,15,0)","v":{"$error":"#REF!"}},{"$f":"IF(#REF!=7,14,0)","v":{"$error":"#REF!"}},{"$f":"IF(#REF!=8,13,0)","v":{"$error":"#REF!"}},{"$f":"IF(#REF!=9,12,0)","v":{"$error":"#REF!"}},{"$f":"IF(#REF!=10,11,0)","v":{"$error":"#REF!"}},{"$f":"IF(#REF!=11,10,0)","v":{"$error":"#REF!"}},{"$f":"IF(#REF!=12,9,0)","v":{"$error":"#REF!"}},{"$f":"IF(#REF!=13,8,0)","v":{"$error":"#REF!"}},{"$f":"IF(#REF!=14,7,0)","v":{"$error":"#REF!"}},{"$f":"IF(#REF!=15,6,0)","v":{"$error":"#REF!"}},{"$f":"IF(#REF!=16,5,0)","v":{"$error":"#REF!"}},{"$f":"IF(#REF!=17,4,0)","v":{"$error":"#REF!"}},{"$f":"IF(#REF!=18,3,0)","v":{"$error":"#REF!"}},{"$f":"IF(#REF!=19,2,0)","v":{"$error":"#REF!"}},{"$f":"IF(#REF!=20,1,0)","v":{"$error":"#REF!"}},{"$f":"IF(#REF!>20,0,0)","v":{"$error":"#REF!"}},{"$f":"IF(#REF!=\"сх\",0,0)","v":{"$error":"#REF!"}},{"$error":"#REF!"},{"$f":"IF(#REF!=1,25,0)","v":{"$error":"#REF!"}},{"$f":"IF(#REF!=2,22,0)","v":{"$error":"#REF!"}},{"$f":"IF(#REF!=3,20,0)","v":{"$error":"#REF!"}},{"$f":"IF(#REF!=4,18,0)","v":{"$error":"#REF!"}},{"$f":"IF(#REF!=5,16,0)","v":{"$error":"#REF!"}},{"$f":"IF(#REF!=6,15,0)","v":{"$error":"#REF!"}},{"$f":"IF(#REF!=7,14,0)","v":{"$error":"#REF!"}},{"$f":"IF(#REF!=8,13,0)","v":{"$error":"#REF!"}},{"$f":"IF(#REF!=9,12,0)","v":{"$error":"#REF!"}},{"$f":"IF(#REF!=10,11,0)","v":{"$error":"#REF!"}},{"$f":"IF(#REF!=11,10,0)","v":{"$error":"#REF!"}},{"$f":"IF(#REF!=12,9,0)","v":{"$error":"#REF!"}},{"$f":"IF(#REF!=13,8,0)","v":{"$error":"#REF!"}},{"$f":"IF(#REF!=14,7,0)","v":{"$error":"#REF!"}},{"$f":"IF(#REF!=15,6,0)","v":{"$error":"#REF!"}},{"$f":"IF(#REF!=16,5,0)","v":{"$error":"#REF!"}},{"$f":"IF(#REF!=17,4,0)","v":{"$error":"#REF!"}},{"$f":"IF(#REF!=18,3,0)","v":{"$error":"#REF!"}},{"$f":"IF(#REF!=19,2,0)","v":{"$error":"#REF!"}},{"$f":"IF(#REF!=20,1,0)","v":{"$error":"#REF!"}},{"$f":"IF(#REF!>20,0,0)","v":{"$error":"#REF!"}},{"$f":"IF(#REF!=\"сх\",0,0)","v":{"$error":"#REF!"}},{"$error":"#REF!"},{"$f":"IF(#REF!=1,45,0)","v":{"$error":"#REF!"}},{"$f":"IF(#REF!=2,42,0)","v":{"$error":"#REF!"}},{"$f":"IF(#REF!=3,40,0)","v":{"$error":"#REF!"}},{"$f":"IF(#REF!=4,38,0)","v":{"$error":"#REF!"}},{"$f":"IF(#REF!=5,36,0)","v":{"$error":"#REF!"}},{"$f":"IF(#REF!=6,35,0)","v":{"$error":"#REF!"}},{"$f":"IF(#REF!=7,34,0)","v":{"$error":"#REF!"}},{"$f":"IF(#REF!=8,33,0)","v":{"$error":"#REF!"}},{"$f":"IF(#REF!=9,32,0)","v":{"$error":"#REF!"}},{"$f":"IF(#REF!=10,31,0)","v":{"$error":"#REF!"}},{"$f":"IF(#REF!=11,30,0)","v":{"$error":"#REF!"}},{"$f":"IF(#REF!=12,29,0)","v":{"$error":"#REF!"}},{"$f":"IF(#REF!=13,28,0)","v":{"$error":"#REF!"}},{"$f":"IF(#REF!=14,27,0)","v":{"$error":"#REF!"}},{"$f":"IF(#REF!=15,26,0)","v":{"$error":"#REF!"}},{"$f":"IF(#REF!=16,25,0)","v":{"$error":"#REF!"}},{"$f":"IF(#REF!=17,24,0)","v":{"$error":"#REF!"}},{"$f":"IF(#REF!=18,23,0)","v":{"$error":"#REF!"}},{"$f":"IF(#REF!=19,22,0)","v":{"$error":"#REF!"}},{"$f":"IF(#REF!=20,21,0)","v":{"$error":"#REF!"}},{"$f":"IF(#REF!=21,20,0)","v":{"$error":"#REF!"}},{"$f":"IF(#REF!=22,19,0)","v":{"$error":"#REF!"}},{"$f":"IF(#REF!=23,18,0)","v":{"$error":"#REF!"}},{"$f":"IF(#REF!=24,17,0)","v":{"$error":"#REF!"}},{"$f":"IF(#REF!=25,16,0)","v":{"$error":"#REF!"}},{"$f":"IF(#REF!=26,15,0)","v":{"$error":"#REF!"}},{"$f":"IF(#REF!=27,14,0)","v":{"$error":"#REF!"}},{"$f":"IF(#REF!=28,13,0)","v":{"$error":"#REF!"}},{"$f":"IF(#REF!=29,12,0)","v":{"$error":"#REF!"}},{"$f":"IF(#REF!=30,11,0)","v":{"$error":"#REF!"}},{"$f":"IF(#REF!=31,10,0)","v":{"$error":"#REF!"}},{"$f":"IF(#REF!=32,9,0)","v":{"$error":"#REF!"}},{"$f":"IF(#REF!=33,8,0)","v":{"$error":"#REF!"}},{"$f":"IF(#REF!=34,7,0)","v":{"$error":"#REF!"}},{"$f":"IF(#REF!=35,6,0)","v":{"$error":"#REF!"}},{"$f":"IF(#REF!=36,5,0)","v":{"$error":"#REF!"}},{"$f":"IF(#REF!=37,4,0)","v":{"$error":"#REF!"}},{"$f":"IF(#REF!=38,3,0)","v":{"$error":"#REF!"}},{"$f":"IF(#REF!=39,2,0)","v":{"$error":"#REF!"}},{"$f":"IF(#REF!=40,1,0)","v":{"$error":"#REF!"}},{"$f":"IF(#REF!>20,0,0)","v":{"$error":"#REF!"}},{"$f":"IF(#REF!=\"сх\",0,0)","v":{"$error":"#REF!"}},{"$error":"#REF!"},{"$f":"IF(#REF!=1,45,0)","v":{"$error":"#REF!"}},{"$f":"IF(#REF!=2,42,0)","v":{"$error":"#REF!"}},{"$f":"IF(#REF!=3,40,0)","v":{"$error":"#REF!"}},{"$f":"IF(#REF!=4,38,0)","v":{"$error":"#REF!"}},{"$f":"IF(#REF!=5,36,0)","v":{"$error":"#REF!"}},{"$f":"IF(#REF!=6,35,0)","v":{"$error":"#REF!"}},{"$f":"IF(#REF!=7,34,0)","v":{"$error":"#REF!"}},{"$f":"IF(#REF!=8,33,0)","v":{"$error":"#REF!"}},{"$f":"IF(#REF!=9,32,0)","v":{"$error":"#REF!"}},{"$f":"IF(#REF!=10,31,0)","v":{"$error":"#REF!"}},{"$f":"IF(#REF!=11,30,0)","v":{"$error":"#REF!"}},{"$f":"IF(#REF!=12,29,0)","v":{"$error":"#REF!"}},{"$f":"IF(#REF!=13,28,0)","v":{"$error":"#REF!"}},{"$f":"IF(#REF!=14,27,0)","v":{"$error":"#REF!"}},{"$f":"IF(#REF!=15,26,0)","v":{"$error":"#REF!"}},{"$f":"IF(#REF!=16,25,0)","v":{"$error":"#REF!"}},{"$f":"IF(#REF!=17,24,0)","v":{"$error":"#REF!"}},{"$f":"IF(#REF!=18,23,0)","v":{"$error":"#REF!"}},{"$f":"IF(#REF!=19,22,0)","v":{"$error":"#REF!"}},{"$f":"IF(#REF!=20,21,0)","v":{"$error":"#REF!"}},{"$f":"IF(#REF!=21,20,0)","v":{"$error":"#REF!"}},{"$f":"IF(#REF!=22,19,0)","v":{"$error":"#REF!"}},{"$f":"IF(#REF!=23,18,0)","v":{"$error":"#REF!"}},{"$f":"IF(#REF!=24,17,0)","v":{"$error":"#REF!"}},{"$f":"IF(#REF!=25,16,0)","v":{"$error":"#REF!"}},{"$f":"IF(#REF!=26,15,0)","v":{"$error":"#REF!"}},{"$f":"IF(#REF!=27,14,0)","v":{"$error":"#REF!"}},{"$f":"IF(#REF!=28,13,0)","v":{"$error":"#REF!"}},{"$f":"IF(#REF!=29,12,0)","v":{"$error":"#REF!"}},{"$f":"IF(#REF!=30,11,0)","v":{"$error":"#REF!"}},{"$f":"IF(#REF!=31,10,0)","v":{"$error":"#REF!"}},{"$f":"IF(#REF!=32,9,0)","v":{"$error":"#REF!"}},{"$f":"IF(#REF!=33,8,0)","v":{"$error":"#REF!"}},{"$f":"IF(#REF!=34,7,0)","v":{"$error":"#REF!"}},{"$f":"IF(#REF!=35,6,0)","v":{"$error":"#REF!"}},{"$f":"IF(#REF!=36,5,0)","v":{"$error":"#REF!"}},{"$f":"IF(#REF!=37,4,0)","v":{"$error":"#REF!"}},{"$f":"IF(#REF!=38,3,0)","v":{"$error":"#REF!"}},{"$f":"IF(#REF!=39,2,0)","v":{"$error":"#REF!"}},{"$f":"IF(#REF!=40,1,0)","v":{"$error":"#REF!"}},{"$f":"IF(#REF!>20,0,0)","v":{"$error":"#REF!"}},{"$f":"IF(#REF!=\"сх\",0,0)","v":{"$error":"#REF!"}},{"$error":"#REF!"},null,{"$f":"IF(#REF!=\"сх\",\"ноль\",IF(#REF!>0,#REF!,\"Ноль\"))","v":{"$error":"#REF!"}},{"$f":"IF(#REF!=\"сх\",\"ноль\",IF(#REF!>0,#REF!,\"Ноль\"))","v":{"$error":"#REF!"}},null,{"$error":"#REF!"},{"$f":"IF(Q16=#REF!,IF(#REF!<#REF!,#REF!,FF16),#REF!)","v":{"$error":"#REF!"}},{"$f":"IF(Q16=#REF!,IF(#REF!<#REF!,0,1))","v":{"$error":"#REF!"}},{"$f":"IF(AND(FA16>=21,FA16<>0),FA16,IF(Q16<#REF!,\"СТОП\",FB16+FC16))","v":{"$error":"#REF!"}},null,15,16,null,{"$f":"IF(#REF!=1,25,0)","v":{"$error":"#REF!"}},{"$f":"IF(#REF!=2,22,0)","v":{"$error":"#REF!"}},{"$f":"IF(#REF!=3,20,0)","v":{"$error":"#REF!"}},{"$f":"IF(#REF!=4,18,0)","v":{"$error":"#REF!"}},{"$f":"IF(#REF!=5,16,0)","v":{"$error":"#REF!"}},{"$f":"IF(#REF!=6,15,0)","v":{"$error":"#REF!"}},{"$f":"IF(#REF!=7,14,0)","v":{"$error":"#REF!"}},{"$f":"IF(#REF!=8,13,0)","v":{"$error":"#REF!"}},{"$f":"IF(#REF!=9,12,0)","v":{"$error":"#REF!"}},{"$f":"IF(#REF!=10,11,0)","v":{"$error":"#REF!"}},{"$f":"IF(#REF!=11,10,0)","v":{"$error":"#REF!"}},{"$f":"IF(#REF!=12,9,0)","v":{"$error":"#REF!"}},{"$f":"IF(#REF!=13,8,0)","v":{"$error":"#REF!"}},{"$f":"IF(#REF!=14,7,0)","v":{"$error":"#REF!"}},{"$f":"IF(#REF!=15,6,0)","v":{"$error":"#REF!"}},{"$f":"IF(#REF!=16,5,0)","v":{"$error":"#REF!"}},{"$f":"IF(#REF!=17,4,0)","v":{"$error":"#REF!"}},{"$f":"IF(#REF!=18,3,0)","v":{"$error":"#REF!"}},{"$f":"IF(#REF!=19,2,0)","v":{"$error":"#REF!"}},{"$f":"IF(#REF!=20,1,0)","v":{"$error":"#REF!"}},{"$f":"IF(#REF!>20,0,0)","v":{"$error":"#REF!"}},{"$f":"IF(#REF!=\"сх\",0,0)","v":{"$error":"#REF!"}},{"$error":"#REF!"},{"$f":"IF(#REF!=1,25,0)","v":{"$error":"#REF!"}},{"$f":"IF(#REF!=2,22,0)","v":{"$error":"#REF!"}},{"$f":"IF(#REF!=3,20,0)","v":{"$error":"#REF!"}},{"$f":"IF(#REF!=4,18,0)","v":{"$error":"#REF!"}},{"$f":"IF(#REF!=5,16,0)","v":{"$error":"#REF!"}},{"$f":"IF(#REF!=6,15,0)","v":{"$error":"#REF!"}},{"$f":"IF(#REF!=7,14,0)","v":{"$error":"#REF!"}},{"$f":"IF(#REF!=8,13,0)","v":{"$error":"#REF!"}},{"$f":"IF(#REF!=9,12,0)","v":{"$error":"#REF!"}},{"$f":"IF(#REF!=10,11,0)","v":{"$error":"#REF!"}},{"$f":"IF(#REF!=11,10,0)","v":{"$error":"#REF!"}},{"$f":"IF(#REF!=12,9,0)","v":{"$error":"#REF!"}},{"$f":"IF(#REF!=13,8,0)","v":{"$error":"#REF!"}},{"$f":"IF(#REF!=14,7,0)","v":{"$error":"#REF!"}},{"$f":"IF(#REF!=15,6,0)","v":{"$error":"#REF!"}},{"$f":"IF(#REF!=16,5,0)","v":{"$error":"#REF!"}},{"$f":"IF(#REF!=17,4,0)","v":{"$error":"#REF!"}},{"$f":"IF(#REF!=18,3,0)","v":{"$error":"#REF!"}},{"$f":"IF(#REF!=19,2,0)","v":{"$error":"#REF!"}},{"$f":"IF(#REF!=20,1,0)","v":{"$error":"#REF!"}},{"$f":"IF(#REF!>20,0,0)","v":{"$error":"#REF!"}},{"$f":"IF(#REF!=\"сх\",0,0)","v":{"$error":"#REF!"}},{"$error":"#REF!"},{"$f":"IF(#REF!=1,100,0)","v":{"$error":"#REF!"}},{"$f":"IF(#REF!=2,98,0)","v":{"$error":"#REF!"}},{"$f":"IF(#REF!=3,95,0)","v":{"$error":"#REF!"}},{"$f":"IF(#REF!=4,93,0)","v":{"$error":"#REF!"}},{"$f":"IF(#REF!=5,90,0)","v":{"$error":"#REF!"}},{"$f":"IF(#REF!=6,88,0)","v":{"$error":"#REF!"}},{"$f":"IF(#REF!=7,85,0)","v":{"$error":"#REF!"}},{"$f":"IF(#REF!=8,83,0)","v":{"$error":"#REF!"}},{"$f":"IF(#REF!=9,80,0)","v":{"$error":"#REF!"}},{"$f":"IF(#REF!=10,78,0)","v":{"$error":"#REF!"}},{"$f":"IF(#REF!=11,75,0)","v":{"$error":"#REF!"}},{"$f":"IF(#REF!=12,73,0)","v":{"$error":"#REF!"}},{"$f":"IF(#REF!=13,70,0)","v":{"$error":"#REF!"}},{"$f":"IF(#REF!=14,68,0)","v":{"$error":"#REF!"}},{"$f":"IF(#REF!=15,65,0)","v":{"$error":"#REF!"}},{"$f":"IF(#REF!=16,63,0)","v":{"$error":"#REF!"}},{"$f":"IF(#REF!=17,60,0)","v":{"$error":"#REF!"}},{"$f":"IF(#REF!=18,58,0)","v":{"$error":"#REF!"}},{"$f":"IF(#REF!=19,55,0)","v":{"$error":"#REF!"}},{"$f":"IF(#REF!=20,53,0)","v":{"$error":"#REF!"}},{"$f":"IF(#REF!>20,0,0)","v":{"$error":"#REF!"}},{"$f":"IF(#REF!=\"сх\",0,0)","v":{"$error":"#REF!"}},{"$error":"#REF!"},{"$f":"IF(#REF!=1,100,0)","v":{"$error":"#REF!"}},{"$f":"IF(#REF!=2,98,0)","v":{"$error":"#REF!"}},{"$f":"IF(#REF!=3,95,0)","v":{"$error":"#REF!"}},{"$f":"IF(#REF!=4,93,0)","v":{"$error":"#REF!"}},{"$f":"IF(#REF!=5,90,0)","v":{"$error":"#REF!"}},{"$f":"IF(#REF!=6,88,0)","v":{"$error":"#REF!"}},{"$f":"IF(#REF!=7,85,0)","v":{"$error":"#REF!"}},{"$f":"IF(#REF!=8,83,0)","v":{"$error":"#REF!"}},{"$f":"IF(#REF!=9,80,0)","v":{"$error":"#REF!"}},{"$f":"IF(#REF!=10,78,0)","v":{"$error":"#REF!"}},{"$f":"IF(#REF!=11,75,0)","v":{"$error":"#REF!"}},{"$f":"IF(#REF!=12,73,0)","v":{"$error":"#REF!"}},{"$f":"IF(#REF!=13,70,0)","v":{"$error":"#REF!"}},{"$f":"IF(#REF!=14,68,0)","v":{"$error":"#REF!"}},{"$f":"IF(#REF!=15,65,0)","v":{"$error":"#REF!"}},{"$f":"IF(#REF!=16,63,0)","v":{"$error":"#REF!"}},{"$f":"IF(#REF!=17,60,0)","v":{"$error":"#REF!"}},{"$f":"IF(#REF!=18,58,0)","v":{"$error":"#REF!"}},{"$f":"IF(#REF!=19,55,0)","v":{"$error":"#REF!"}},{"$f":"IF(#REF!=20,53,0)","v":{"$error":"#REF!"}},{"$f":"IF(#REF!>20,0,0)","v":{"$error":"#REF!"}},{"$f":"IF(#REF!=\"сх\",0,0)","v":{"$error":"#REF!"}},{"$error":"#REF!"}]
[9,4,66,"Шевяков Никита","б/р","г. Новый Уренгой, Ямало-Ненецкий АО","СТК \"Факел\"","LYNX",10,11,7,14,{"$f":"#REF!+#REF!","v":{"$error":"#REF!"}},null,null,{"$f":"IF(#REF!=1,25,0)","v":{"$error":"#REF!"}},25,{"$f":"#REF!+#REF!","v":{"$error":"#REF!"}},null,null,{"$f":"IF(#REF!=1,25,0)","v":{"$error":"#REF!"}},{"$f":"IF(#REF!=2,22,0)","v":{"$error":"#REF!"}},{"$f":"IF(#REF!=3,20,0)","v":{"$error":"#REF!"}},{"$f":"IF(#REF!=4,18,0)","v":{"$error":"#REF!"}},{"$f":"IF(#REF!=5,16,0)","v":{"$error":"#REF!"}},{"$f":"IF(#REF!=6,15,0)","v":{"$error":"#REF!"}},{"$f":"IF(#REF!=7,14,0)","v":{"$error":"#REF!"}},{"$f":"IF(#REF!=8,13,0)","v":{"$error":"#REF!"}},{"$f":"IF(#REF!=9,12,0)","v":{"$error":"#REF!"}},{"$f":"IF(#REF!=10,11,0)","v":{"$error":"#REF!"}},{"$f":"IF(#REF!=11,10,0)","v":{"$error":"#REF!"}},{"$f":"IF(#REF!=12,9,0)","v":{"$error":"#REF!"}},{"$f":"IF(#REF!=13,8,0)","v":{"$error":"#REF!"}},{"$f":"IF(#REF!=14,7,0)","v":{"$error":"#REF!"}},{"$f":"IF(#REF!=15,6,0)","v":{"$error":"#REF!"}},{"$f":"IF(#REF!=16,5,0)","v":{"$error":"#REF!"}},{"$f":"IF(#REF!=17,4,0)","v":{"$error":"#REF!"}},{"$f":"IF(#REF!=18,3,0)","v":{"$error":"#REF!"}},{"$f":"IF(#REF!=19,2,0)","v":{"$error":"#REF!"}},{"$f":"IF(#REF!=20,1,0)","v":{"$error":"#REF!"}},{"$f":"IF(#REF!>20,0,0)","v":{"$error":"#REF!"}},{"$f":"IF(#REF!=\"сх\",0,0)","v":{"$error":"#REF!"}},{"$error":"#REF!"},{"$f":"IF(#REF!=1,25,0)","v":{"$error":"#REF!"}},{"$f":"IF(#REF!=2,22,0)","v":{"$error":"#REF!"}},{"$f":"IF(#REF!=3,20,0)","v":{"$error":"#REF!"}},{"$f":"IF(#REF!=4,18,0)","v":{"$error":"#REF!"}},{"$f":"IF(#REF!=5,16,0)","v":{"$error":"#REF!"}},{"$f":"IF(#REF!=6,15,0)","v":{"$error":"#REF!"}},{"$f":"IF(#REF!=7,14,0)","v":{"$error":"#REF!"}},{"$f":"IF(#REF!=8,13,0)","v":{"$error":"#REF!"}},{"$f":"IF(#REF!=9,12,0)","v":{"$error":"#REF!"}},{"$f":"IF(#REF!=10,11,0)","v":{"$error":"#REF!"}},{"$f":"IF(#REF!=11,10,0)","v":{"$error":"#REF!"}},{"$f":"IF(#REF!=12,9,0)","v":{"$error":"#REF!"}},{"$f":"IF(#REF!=13,8,0)","v":{"$error":"#REF!"}},{"$f":"IF(#REF!=14,7,0)","v":{"$error":"#REF!"}},{"$f":"IF(#REF!=15,6,0)","v":{"$error":"#REF!"}},{"$f":"IF(#REF!=16,5,0)","v":{"$error":"#REF!"}},{"$f":"IF(#REF!=17,4,0)","v":{"$error":"#REF!"}},{"$f":"IF(#REF!=18,3,0)","v":{"$error":"#REF!"}},{"$f":"IF(#REF!=19,2,0)","v":{"$error":"#REF!"}},{"$f":"IF(#REF!=20,1,0)","v":{"$error":"#REF!"}},{"$f":"IF(#REF!>20,0,0)","v":{"$error":"#REF!"}},{"$f":"IF(#REF!=\"сх\",0,0)","v":{"$error":"#REF!"}},{"$error":"#REF!"},{"$f":"IF(#REF!=1,45,0)","v":{"$error":"#REF!"}},{"$f":"IF(#REF!=2,42,0)","v":{"$error":"#REF!"}},{"$f":"IF(#REF!=3,40,0)","v":{"$error":"#REF!"}},{"$f":"IF(#REF!=4,38,0)","v":{"$error":"#REF!"}},{"$f":"IF(#REF!=5,36,0)","v":{"$error":"#REF!"}},{"$f":"IF(#REF!=6,35,0)","v":{"$error":"#REF!"}},{"$f":"IF(#REF!=7,34,0)","v":{"$error":"#REF!"}},{"$f":"IF(#REF!=8,33,0)","v":{"$error":"#REF!"}},{"$f":"IF(#REF!=9,32,0)","v":{"$error":"#REF!"}},{"$f":"IF(#REF!=10,31,0)","v":{"$error":"#REF!"}},{"$f":"IF(#REF!=11,30,0)","v":{"$error":"#REF!"}},{"$f":"IF(#REF!=12,29,0)","v":{"$error":"#REF!"}},{"$f":"IF(#REF!=13,28,0)","v":{"$error":"#REF!"}},{"$f":"IF(#REF!=14,27,0)","v":{"$error":"#REF!"}},{"$f":"IF(#REF!=15,26,0)","v":{"$error":"#REF!"}},{"$f":"IF(#REF!=16,25,0)","v":{"$error":"#REF!"}},{"$f":"IF(#REF!=17,24,0)","v":{"$error":"#REF!"}},{"$f":"IF(#REF!=18,23,0)","v":{"$error":"#REF!"}},{"$f":"IF(#REF!=19,22,0)","v":{"$error":"#REF!"}},{"$f":"IF(#REF!=20,21,0)","v":{"$error":"#REF!"}},{"$f":"IF(#REF!=21,20,0)","v":{"$error":"#REF!"}},{"$f":"IF(#REF!=22,19,0)","v":{"$error":"#REF!"}},{"$f":"IF(#REF!=23,18,0)","v":{"$error":"#REF!"}},{"$f":"IF(#REF!=24,17,0)","v":{"$error":"#REF!"}},{"$f":"IF(#REF!=25,16,0)","v":{"$error":"#REF!"}},{"$f":"IF(#REF!=26,15,0)","v":{"$error":"#REF!"}},{"$f":"IF(#REF!=27,14,0)","v":{"$error":"#REF!"}},{"$f":"IF(#REF!=28,13,0)","v":{"$error":"#REF!"}},{"$f":"IF(#REF!=29,12,0)","v":{"$error":"#REF!"}},{"$f":"IF(#REF!=30,11,0)","v":{"$error":"#REF!"}},{"$f":"IF(#REF!=31,10,0)","v":{"$error":"#REF!"}},{"$f":"IF(#REF!=32,9,0)","v":{"$error":"#REF!"}},{"$f":"IF(#REF!=33,8,0)","v":{"$error":"#REF!"}},{"$f":"IF(#REF!=34,7,0)","v":{"$error":"#REF!"}},{"$f":"IF(#REF!=35,6,0)","v":{"$error":"#REF!"}},{"$f":"IF(#REF!=36,5,0)","v":{"$error":"#REF!"}},{"$f":"IF(#REF!=37,4,0)","v":{"$error":"#REF!"}},{"$f":"IF(#REF!=38,3,0)","v":{"$error":"#REF!"}},{"$f":"IF(#REF!=39,2,0)","v":{"$error":"#REF!"}},{"$f":"IF(#REF!=40,1,0)","v":{"$error":"#REF!"}},{"$f":"IF(#REF!>20,0,0)","v":{"$error":"#REF!"}},{"$f":"IF(#REF!=\"сх\",0,0)","v":{"$error":"#REF!"}},{"$error":"#REF!"},{"$f":"IF(#REF!=1,45,0)","v":{"$error":"#REF!"}},{"$f":"IF(#REF!=2,42,0)","v":{"$error":"#REF!"}},{"$f":"IF(#REF!=3,40,0)","v":{"$error":"#REF!"}},{"$f":"IF(#REF!=4,38,0)","v":{"$error":"#REF!"}},{"$f":"IF(#REF!=5,36,0)","v":{"$error":"#REF!"}},{"$f":"IF(#REF!=6,35,0)","v":{"$error":"#REF!"}},{"$f":"IF(#REF!=7,34,0)","v":{"$error":"#REF!"}},{"$f":"IF(#REF!=8,33,0)","v":{"$error":"#REF!"}},{"$f":"IF(#REF!=9,32,0)","v":{"$error":"#REF!"}},{"$f":"IF(#REF!=10,31,0)","v":{"$error":"#REF!"}},{"$f":"IF(#REF!=11,30,0)","v":{"$error":"#REF!"}},{"$f":"IF(#REF!=12,29,0)","v":{"$error":"#REF!"}},{"$f":"IF(#REF!=13,28,0)","v":{"$error":"#REF!"}},{"$f":"IF(#REF!=14,27,0)","v":{"$error":"#REF!"}},{"$f":"IF(#REF!=15,26,0)","v":{"$error":"#REF!"}},{"$f":"IF(#REF!=16,25,0)","v":{"$error":"#REF!"}},{"$f":"IF(#REF!=17,24,0)","v":{"$error":"#REF!"}},{"$f":"IF(#REF!=18,23,0)","v":{"$error":"#REF!"}},{"$f":"IF(#REF!=19,22,0)","v":{"$error":"#REF!"}},{"$f":"IF(#REF!=20,21,0)","v":{"$error":"#REF!"}},{"$f":"IF(#REF!=21,20,0)","v":{"$error":"#REF!"}},{"$f":"IF(#REF!=22,19,0)","v":{"$error":"#REF!"}},{"$f":"IF(#REF!=23,18,0)","v":{"$error":"#REF!"}},{"$f":"IF(#REF!=24,17,0)","v":{"$error":"#REF!"}},{"$f":"IF(#REF!=25,16,0)","v":{"$error":"#REF!"}},{"$f":"IF(#REF!=26,15,0)","v":{"$error":"#REF!"}},{"$f":"IF(#REF!=27,14,0)","v":{"$error":"#REF!"}},{"$f":"IF(#REF!=28,13,0)","v":{"$error":"#REF!"}},{"$f":"IF(#REF!=29,12,0)","v":{"$error":"#REF!"}},{"$f":"IF(#REF!=30,11,0)","v":{"$error":"#REF!"}},{"$f":"IF(#REF!=31,10,0)","v":{"$error":"#REF!"}},{"$f":"IF(#REF!=32,9,0)","v":{"$error":"#REF!"}},{"$f":"IF(#REF!=33,8,0)","v":{"$error":"#REF!"}},{"$f":"IF(#REF!=34,7,0)","v":{"$error":"#REF!"}},{"$f":"IF(#REF!=35,6,0)","v":{"$error":"#REF!"}},{"$f":"IF(#REF!=36,5,0)","v":{"$error":"#REF!"}},{"$f":"IF(#REF!=37,4,0)","v":{"$error":"#REF!"}},{"$f":"IF(#REF!=38,3,0)","v":{"$error":"#REF!"}},{"$f":"IF(#REF!=39,2,0)","v":{"$error":"#REF!"}},{"$f":"IF(#REF!=40,1,0)","v":{"$error":"#REF!"}},{"$f":"IF(#REF!>20,0,0)","v":{"$error":"#REF!"}},{"$f":"IF(#REF!=\"сх\",0,0)","v":{"$error":"#REF!"}},{"$error":"#REF!"},null,{"$f":"IF(#REF!=\"сх\",\"ноль\",IF(#REF!>0,#REF!,\"Ноль\"))","v":{"$error":"#REF!"}},{"$f":"IF(#REF!=\"сх\",\"ноль\",IF(#REF!>0,#REF!,\"Ноль\"))","v":{"$error":"#REF!"}},null,{"$error":"#REF!"},{"$f":"IF(Q17=#REF!,IF(#REF!<#REF!,#REF!,FF17),#REF!)","v":{"$error":"#REF!"}},{"$f":"IF(Q17=#REF!,IF(#REF!<#REF!,0,1))","v":{"$error":"#REF!"}},{"$f":"IF(AND(FA17>=21,FA17<>0),FA17,IF(Q17<#REF!,\"СТОП\",FB17+FC17))","v":{"$error":"#REF!"}},null,15,16,null,{"$f":"IF(#REF!=1,25,0)","v":{"$error":"#REF!"}},{"$f":"IF(#REF!=2,22,0)","v":{"$error":"#REF!"}},{"$f":"IF(#REF!=3,20,0)","v":{"$error":"#REF!"}},{"$f":"IF(#REF!=4,18,0)","v":{"$error":"#REF!"}},{"$f":"IF(#REF!=5,16,0)","v":{"$error":"#REF!"}},{"$f":"IF(#REF!=6,15,0)","v":{"$error":"#REF!"}},{"$f":"IF(#REF!=7,14,0)","v":{"$error":"#REF!"}},{"$f":"IF(#REF!=8,13,0)","v":{"$error":"#REF!"}},{"$f":"IF(#REF!=9,12,0)","v":{"$error":"#REF!"}},{"$f":"IF(#REF!=10,11,0)","v":{"$error":"#REF!"}},{"$f":"IF(#REF!=11,10,0)","v":{"$error":"#REF!"}},{"$f":"IF(#REF!=12,9,0)","v":{"$error":"#REF!"}},{"$f":"IF(#REF!=13,8,0)","v":{"$error":"#REF!"}},{"$f":"IF(#REF!=14,7,0)","v":{"$error":"#REF!"}},{"$f":"IF(#REF!=15,6,0)","v":{"$error":"#REF!"}},{"$f":"IF(#REF!=16,5,0)","v":{"$error":"#REF!"}},{"$f":"IF(#REF!=17,4,0)","v":{"$error":"#REF!"}},{"$f":"IF(#REF!=18,3,0)","v":{"$error":"#REF!"}},{"$f":"IF(#REF!=19,2,0)","v":{"$error":"#REF!"}},{"$f":"IF(#REF!=20,1,0)","v":{"$error":"#REF!"}},{"$f":"IF(#REF!>20,0,0)","v":{"$error":"#REF!"}},{"$f":"IF(#REF!=\"сх\",0,0)","v":{"$error":"#REF!"}},{"$error":"#REF!"},{"$f":"IF(#REF!=1,25,0)","v":{"$error":"#REF!"}},{"$f":"IF(#REF!=2,22,0)","v":{"$error":"#REF!"}},{"$f":"IF(#REF!=3,20,0)","v":{"$error":"#REF!"}},{"$f":"IF(#REF!=4,18,0)","v":{"$error":"#REF!"}},{"$f":"IF(#REF!=5,16,0)","v":{"$error":"#REF!"}},{"$f":"IF(#REF!=6,15,0)","v":{"$error":"#REF!"}},{"$f":"IF(#REF!=7,14,0)","v":{"$error":"#REF!"}},{"$f":"IF(#REF!=8,13,0)","v":{"$error":"#REF!"}},{"$f":"IF(#REF!=9,12,0)","v":{"$error":"#REF!"}},{"$f":"IF(#REF!=10,11,0)","v":{"$error":"#REF!"}},{"$f":"IF(#REF!=11,10,0)","v":{"$error":"#REF!"}},{"$f":"IF(#REF!=12,9,0)","v":{"$error":"#REF!"}},{"$f":"IF(#REF!=13,8,0)","v":{"$error":"#REF!"}},{"$f":"IF(#REF!=14,7,0)","v":{"$error":"#REF!"}},{"$f":"IF(#REF!=15,6,0)","v":{"$error":"#REF!"}},{"$f":"IF(#REF!=16,5,0)","v":{"$error":"#REF!"}},{"$f":"IF(#REF!=17,4,0)","v":{"$error":"#REF!"}},{"$f":"IF(#REF!=18,3,0)","v":{"$error":"#REF!"}},{"$f":"IF(#REF!=19,2,0)","v":{"$error":"#REF!"}},{"$f":"IF(#REF!=20,1,0)","v":{"$error":"#REF!"}},{"$f":"IF(#REF!>20,0,0)","v":{"$error":"#REF!"}},{"$f":"IF(#REF!=\"сх\",0,0)","v":{"$error":"#REF!"}},{"$error":"#REF!"},{"$f":"IF(#REF!=1,100,0)","v":{"$error":"#REF!"}},{"$f":"IF(#REF!=2,98,0)","v":{"$error":"#REF!"}},{"$f":"IF(#REF!=3,95,0)","v":{"$error":"#REF!"}},{"$f":"IF(#REF!=4,93,0)","v":{"$error":"#REF!"}},{"$f":"IF(#REF!=5,90,0)","v":{"$error":"#REF!"}},{"$f":"IF(#REF!=6,88,0)","v":{"$error":"#REF!"}},{"$f":"IF(#REF!=7,85,0)","v":{"$error":"#REF!"}},{"$f":"IF(#REF!=8,83,0)","v":{"$error":"#REF!"}},{"$f":"IF(#REF!=9,80,0)","v":{"$error":"#REF!"}},{"$f":"IF(#REF!=10,78,0)","v":{"$error":"#REF!"}},{"$f":"IF(#REF!=11,75,0)","v":{"$error":"#REF!"}},{"$f":"IF(#REF!=12,73,0)","v":{"$error":"#REF!"}},{"$f":"IF(#REF!=13,70,0)","v":{"$error":"#REF!"}},{"$f":"IF(#REF!=14,68,0)","v":{"$error":"#REF!"}},{"$f":"IF(#REF!=15,65,0)","v":{"$error":"#REF!"}},{"$f":"IF(#REF!=16,63,0)","v":{"$error":"#REF!"}},{"$f":"IF(#REF!=17,60,0)","v":{"$error":"#REF!"}},{"$f":"IF(#REF!=18,58,0)","v":{"$error":"#REF!"}},{"$f":"IF(#REF!=19,55,0)","v":{"$error":"#REF!"}},{"$f":"IF(#REF!=20,53,0)","v":{"$error":"#REF!"}},{"$f":"IF(#REF!>20,0,0)","v":{"$error":"#REF!"}},{"$f":"IF(#REF!=\"сх\",0,0)","v":{"$error":"#REF!"}},{"$error":"#REF!"},{"$f":"IF(#REF!=1,100,0)","v":{"$error":"#REF!"}},{"$f":"IF(#REF!=2,98,0)","v":{"$error":"#REF!"}},{"$f":"IF(#REF!=3,95,0)","v":{"$error":"#REF!"}},{"$f":"IF(#REF!=4,93,0)","v":{"$error":"#REF!"}},{"$f":"IF(#REF!=5,90,0)","v":{"$error":"#REF!"}},{"$f":"IF(#REF!=6,88,0)","v":{"$error":"#REF!"}},{"$f":"IF(#REF!=7,85,0)","v":{"$error":"#REF!"}},{"$f":"IF(#REF!=8,83,0)","v":{"$error":"#REF!"}},{"$f":"IF(#REF!=9,80,0)","v":{"$error":"#REF!"}},{"$f":"IF(#REF!=10,78,0)","v":{"$error":"#REF!"}},{"$f":"IF(#REF!=11,75,0)","v":{"$error":"#REF!"}},{"$f":"IF(#REF!=12,73,0)","v":{"$error":"#REF!"}},{"$f":"IF(#REF!=13,70,0)","v":{"$error":"#REF!"}},{"$f":"IF(#REF!=14,68,0)","v":{"$error":"#REF!"}},{"$f":"IF(#REF!=15,65,0)","v":{"$error":"#REF!"}},{"$f":"IF(#REF!=16,63,0)","v":{"$error":"#REF!"}},{"$f":"IF(#REF!=17,60,0)","v":{"$error":"#REF!"}},{"$f":"IF(#REF!=18,58,0)","v":{"$error":"#REF!"}},{"$f":"IF(#REF!=19,55,0)","v":{"$error":"#REF!"}},{"$f":"IF(#REF!=20,53,0)","v":{"$error":"#REF!"}},{"$f":"IF(#REF!>20,0,0)","v":{"$error":"#REF!"}},{"$f":"IF(#REF!=\"сх\",0,0)","v":{"$error":"#REF!"}},{"$error":"#REF!"}]
[10,3.9,121,"Воробьев Александр","II","г. Новый Уренгой, Ямало-Ненецкий АО","СТК \"Ямбург\"","LYNX",12,9,10,11,{"$f":"#REF!+#REF!","v":{"$error":"#REF!"}},null,null,{"$f":"IF(#REF!=1,25,0)","v":{"$error":"#REF!"}},20,{"$f":"#REF!+#REF!","v":{"$error":"#REF!"}},null,null,{"$f":"IF(#REF!=1,25,0)","v":{"$error":"#REF!"}},{"$f":"IF(#REF!=2,22,0)","v":{"$error":"#REF!"}},{"$f":"IF(#REF!=3,20,0)","v":{"$error":"#REF!"}},{"$f":"IF(#REF!=4,18,0)","v":{"$error":"#REF!"}},{"$f":"IF(#REF!=5,16,0)","v":{"$error":"#REF!"}},{"$f":"IF(#REF!=6,15,0)","v":{"$error":"#REF!"}},{"$f":"IF(#REF!=7,14,0)","v":{"$error":"#REF!"}},{"$f":"IF(#REF!=8,13,0)","v":{"$error":"#REF!"}},{"$f":"IF(#REF!=9,12,0)","v":{"$error":"#REF!"}},{"$f":"IF(#REF!=10,11,0)","v":{"$error":"#REF!"}},{"$f":"IF(#REF!=11,10,0)","v":{"$error":"#REF!"}},{"$f":"IF(#REF!=12,9,0)","v":{"$error":"#REF!"}},{"$f":"IF(#REF!=13,8,0)","v":{"$error":"#REF!"}},{"$f":"IF(#REF!=14,7,0)","v":{"$error":"#REF!"}},{"$f":"IF(#REF!=15,6,0)","v":{"$error":"#REF!"}},{"$f":"IF(#REF!=16,5,0)","v":{"$error":"#REF!"}},{"$f":"IF(#REF!=17,4,0)","v":{"$error":"#REF!"}},{"$f":"IF(#REF!=18,3,0)","v":{"$error":"#REF!"}},{"$f":"IF(#REF!=19,2,0)","v":{"$error":"#REF!"}},{"$f":"IF(#REF!=20,1,0)","v":{"$error":"#REF!"}},{"$f":"IF(#REF!>20,0,0)","v":{"$error":"#REF!"}},{"$f":"IF(#REF!=\"сх\",0,0)","v":{"$error":"#REF!"}},{"$error":"#REF!"},{"$f":"IF(#REF!=1,25,0)","v":{"$error":"#REF!"}},{"$f":"IF(#REF!=2,22,0)","v":{"$error":"#REF!"}},{"$f":"IF(#REF!=3,20,0)","v":{"$error":"#REF!"}},{"$f":"IF(#REF!=4,18,0)","v":{"$error":"#REF!"}},{"$f":"IF(#REF!=5,16,0)","v":{"$error":"#REF!"}},{"$f":"IF(#REF!=6,15,0)","v":{"$error":"#REF!"}},{"$f":"IF(#REF!=7,14,0)","v":{"$error":"#REF!"}},{"$f":"IF(#REF!=8,13,0)","v":{"$error":"#REF!"}},{"$f":"IF(#REF!=9,12,0)","v":{"$error":"#REF!"}},{"$f":"IF(#REF!=10,11,0)","v":{"$error":"#REF!"}},{"$f":"IF(#REF!=11,10,0)","v":{"$error":"#REF!"}},{"$f":"IF(#REF!=12,9,0)","v":{"$error":"#REF!"}},{"$f":"IF(#REF!=13,8,0)","v":{"$error":"#REF!"}},{"$f":"IF(#REF!=14,7,0)","v":{"$error":"#REF!"}},{"$f":"IF(#REF!=15,6,0)","v":{"$error":"#REF!"}},{"$f":"IF(#REF!=16,5,0)","v":{"$error":"#REF!"}},{"$f":"IF(#REF!=17,4,0)","v":{"$error":"#REF!"}},{"$f":"IF(#REF!=18,3,0)","v":{"$error":"#REF!"}},{"$f":"IF(#REF!=19,2,0)","v":{"$error":"#REF!"}},{"$f":"IF(#REF!=20,1,0)","v":{"$error":"#REF!"}},{"$f":"IF(#REF!>20,0,0)","v":{"$error":"#REF!"}},{"$f":"IF(#REF!=\"сх\",0,0)","v":{"$error":"#REF!"}},{"$error":"#REF!"},{"$f":"IF(#REF!=1,45,0)","v":{"$error":"#REF!"}},{"$f":"IF(#REF!=2,42,0)","v":{"$error":"#REF!"}},{"$f":"IF(#REF!=3,40,0)","v":{"$error":"#REF!"}},{"$f":"IF(#REF!=4,38,0)","v":{"$error":"#REF!"}},{"$f":"IF(#REF!=5,36,0)","v":{"$error":"#REF!"}},{"$f":"IF(#REF!=6,35,0)","v":{"$error":"#REF!"}},{"$f":"IF(#REF!=7,34,0)","v":{"$error":"#REF!"}},{"$f":"IF(#REF!=8,33,0)","v":{"$error":"#REF!"}},{"$f":"IF(#REF!=9,32,0)","v":{"$error":"#REF!"}},{"$f":"IF(#REF!=10,31,0)","v":{"$error":"#REF!"}},{"$f":"IF(#REF!=11,30,0)","v":{"$error":"#REF!"}},{"$f":"IF(#REF!=12,29,0)","v":{"$error":"#REF!"}},{"$f":"IF(#REF!=13,28,0)","v":{"$error":"#REF!"}},{"$f":"IF(#REF!=14,27,0)","v":{"$error":"#REF!"}},{"$f":"IF(#REF!=15,26,0)","v":{"$error":"#REF!"}},{"$f":"IF(#REF!=16,25,0)","v":{"$error":"#REF!"}},{"$f":"IF(#REF!=17,24,0)","v":{"$error":"#REF!"}},{"$f":"IF(#REF!=18,23,0)","v":{"$error":"#REF!"}},{"$f":"IF(#REF!=19,22,0)","v":{"$error":"#REF!"}},{"$f":"IF(#REF!=20,21,0)","v":{"$error":"#REF!"}},{"$f":"IF(#REF!=21,20,0)","v":{"$error":"#REF!"}},{"$f":"IF(#REF!=22,19,0)","v":{"$error":"#REF!"}},{"$f":"IF(#REF!=23,18,0)","v":{"$error":"#REF!"}},{"$f":"IF(#REF!=24,17,0)","v":{"$error":"#REF!"}},{"$f":"IF(#REF!=25,16,0)","v":{"$error":"#REF!"}},{"$f":"IF(#REF!=26,15,0)","v":{"$error":"#REF!"}},{"$f":"IF(#REF!=27,14,0)","v":{"$error":"#REF!"}},{"$f":"IF(#REF!=28,13,0)","v":{"$error":"#REF!"}},{"$f":"IF(#REF!=29,12,0)","v":{"$error":"#REF!"}},{"$f":"IF(#REF!=30,11,0)","v":{"$error":"#REF!"}},{"$f":"IF(#REF!=31,10,0)","v":{"$error":"#REF!"}},{"$f":"IF(#REF!=32,9,0)","v":{"$error":"#REF!"}},{"$f":"IF(#REF!=33,8,0)","v":{"$error":"#REF!"}},{"$f":"IF(#REF!=34,7,0)","v":{"$error":"#REF!"}},{"$f":"IF(#REF!=35,6,0)","v":{"$error":"#REF!"}},{"$f":"IF(#REF!=36,5,0)","v":{"$error":"#REF!"}},{"$f":"IF(#REF!=37,4,0)","v":{"$error":"#REF!"}},{"$f":"IF(#REF!=38,3,0)","v":{"$error":"#REF!"}},{"$f":"IF(#REF!=39,2,0)","v":{"$error":"#REF!"}},{"$f":"IF(#REF!=40,1,0)","v":{"$error":"#REF!"}},{"$f":"IF(#REF!>20,0,0)","v":{"$error":"#REF!"}},{"$f":"IF(#REF!=\"сх\",0,0)","v":{"$error":"#REF!"}},{"$error":"#REF!"},{"$f":"IF(#REF!=1,45,0)","v":{"$error":"#REF!"}},{"$f":"IF(#REF!=2,42,0)","v":{"$error":"#REF!"}},{"$f":"IF(#REF!=3,40,0)","v":{"$error":"#REF!"}},{"$f":"IF(#REF!=4,38,0)","v":{"$error":"#REF!"}},{"$f":"IF(#REF!=5,36,0)","v":{"$error":"#REF!"}},{"$f":"IF(#REF!=6,35,0)","v":{"$error":"#REF!"}},{"$f":"IF(#REF!=7,34,0)","v":{"$error":"#REF!"}},{"$f":"IF(#REF!=8,33,0)","v":{"$error":"#REF!"}},{"$f":"IF(#REF!=9,32,0)","v":{"$error":"#REF!"}},{"$f":"IF(#REF!=10,31,0)","v":{"$error":"#REF!"}},{"$f":"IF(#REF!=11,30,0)","v":{"$error":"#REF!"}},{"$f":"IF(#REF!=12,29,0)","v":{"$error":"#REF!"}},{"$f":"IF(#REF!=13,28,0)","v":{"$error":"#REF!"}},{"$f":"IF(#REF!=14,27,0)","v":{"$error":"#REF!"}},{"$f":"IF(#REF!=15,26,0)","v":{"$error":"#REF!"}},{"$f":"IF(#REF!=16,25,0)","v":{"$error":"#REF!"}},{"$f":"IF(#REF!=17,24,0)","v":{"$error":"#REF!"}},{"$f":"IF(#REF!=18,23,0)","v":{"$error":"#REF!"}},{"$f":"IF(#REF!=19,22,0)","v":{"$error":"#REF!"}},{"$f":"IF(#REF!=20,21,0)","v":{"$error":"#REF!"}},{"$f":"IF(#REF!=21,20,0)","v":{"$error":"#REF!"}},{"$f":"IF(#REF!=22,19,0)","v":{"$error":"#REF!"}},{"$f":"IF(#REF!=23,18,0)","v":{"$error":"#REF!"}},{"$f":"IF(#REF!=24,17,0)","v":{"$error":"#REF!"}},{"$f":"IF(#REF!=25,16,0)","v":{"$error":"#REF!"}},{"$f":"IF(#REF!=26,15,0)","v":{"$error":"#REF!"}},{"$f":"IF(#REF!=27,14,0)","v":{"$error":"#REF!"}},{"$f":"IF(#REF!=28,13,0)","v":{"$error":"#REF!"}},{"$f":"IF(#REF!=29,12,0)","v":{"$error":"#REF!"}},{"$f":"IF(#REF!=30,11,0)","v":{"$error":"#REF!"}},{"$f":"IF(#REF!=31,10,0)","v":{"$error":"#REF!"}},{"$f":"IF(#REF!=32,9,0)","v":{"$error":"#REF!"}},{"$f":"IF(#REF!=33,8,0)","v":{"$error":"#REF!"}},{"$f":"IF(#REF!=34,7,0)","v":{"$error":"#REF!"}},{"$f":"IF(#REF!=35,6,0)","v":{"$error":"#REF!"}},{"$f":"IF(#REF!=36,5,0)","v":{"$error":"#REF!"}},{"$f":"IF(#REF!=37,4,0)","v":{"$error":"#REF!"}},{"$f":"IF(#REF!=38,3,0)","v":{"$error":"#REF!"}},{"$f":"IF(#REF!=39,2,0)","v":{"$error":"#REF!"}},{"$f":"IF(#REF!=40,1,0)","v":{"$error":"#REF!"}},{"$f":"IF(#REF!>20,0,0)","v":{"$error":"#REF!"}},{"$f":"IF(#REF!=\"сх\",0,0)","v":{"$error":"#REF!"}},{"$error":"#REF!"},null,{"$f":"IF(#REF!=\"сх\",\"ноль\",IF(#REF!>0,#REF!,\"Ноль\"))","v":{"$error":"#REF!"}},{"$f":"IF(#REF!=\"сх\",\"ноль\",IF(#REF!>0,#REF!,\"Ноль\"))","v":{"$error":"#REF!"}},null,{"$error":"#REF!"},{"$f":"IF(Q18=#REF!,IF(#REF!<#REF!,#REF!,FF18),#REF!)","v":{"$error":"#REF!"}},{"$f":"IF(Q18=#REF!,IF(#REF!<#REF!,0,1))","v":{"$error":"#REF!"}},{"$f":"IF(AND(FA18>=21,FA18<>0),FA18,IF(Q18<#REF!,\"СТОП\",FB18+FC18))","v":{"$error":"#REF!"}},null,15,16,null,{"$f":"IF(#REF!=1,25,0)","v":{"$error":"#REF!"}},{"$f":"IF(#REF!=2,22,0)","v":{"$error":"#REF!"}},{"$f":"IF(#REF!=3,20,0)","v":{"$error":"#REF!"}},{"$f":"IF(#REF!=4,18,0)","v":{"$error":"#REF!"}},{"$f":"IF(#REF!=5,16,0)","v":{"$error":"#REF!"}},{"$f":"IF(#REF!=6,15,0)","v":{"$error":"#REF!"}},{"$f":"IF(#REF!=7,14,0)","v":{"$error":"#REF!"}},{"$f":"IF(#REF!=8,13,0)","v":{"$error":"#REF!"}},{"$f":"IF(#REF!=9,12,0)","v":{"$error":"#REF!"}},{"$f":"IF(#REF!=10,11,0)","v":{"$error":"#REF!"}},{"$f":"IF(#REF!=11,10,0)","v":{"$error":"#REF!"}},{"$f":"IF(#REF!=12,9,0)","v":{"$error":"#REF!"}},{"$f":"IF(#REF!=13,8,0)","v":{"$error":"#REF!"}},{"$f":"IF(#REF!=14,7,0)","v":{"$error":"#REF!"}},{"$f":"IF(#REF!=15,6,0)","v":{"$error":"#REF!"}},{"$f":"IF(#REF!=16,5,0)","v":{"$error":"#REF!"}},{"$f":"IF(#REF!=17,4,0)","v":{"$error":"#REF!"}},{"$f":"IF(#REF!=18,3,0)","v":{"$error":"#REF!"}},{"$f":"IF(#REF!=19,2,0)","v":{"$error":"#REF!"}},{"$f":"IF(#REF!=20,1,0)","v":{"$error":"#REF!"}},{"$f":"IF(#REF!>20,0,0)","v":{"$error":"#REF!"}},{"$f":"IF(#REF!=\"сх\",0,0)","v":{"$error":"#REF!"}},{"$error":"#REF!"},{"$f":"IF(#REF!=1,25,0)","v":{"$error":"#REF!"}},{"$f":"IF(#REF!=2,22,0)","v":{"$error":"#REF!"}},{"$f":"IF(#REF!=3,20,0)","v":{"$error":"#REF!"}},{"$f":"IF(#REF!=4,18,0)","v":{"$error":"#REF!"}},{"$f":"IF(#REF!=5,16,0)","v":{"$error":"#REF!"}},{"$f":"IF(#REF!=6,15,0)","v":{"$error":"#REF!"}},{"$f":"IF(#REF!=7,14,0)","v":{"$error":"#REF!"}},{"$f":"IF(#REF!=8,13,0)","v":{"$error":"#REF!"}},{"$f":"IF(#REF!=9,12,0)","v":{"$error":"#REF!"}},{"$f":"IF(#REF!=10,11,0)","v":{"$error":"#REF!"}},{"$f":"IF(#REF!=11,10,0)","v":{"$error":"#REF!"}},{"$f":"IF(#REF!=12,9,0)","v":{"$error":"#REF!"}},{"$f":"IF(#REF!=13,8,0)","v":{"$error":"#REF!"}},{"$f":"IF(#REF!=14,7,0)","v":{"$error":"#REF!"}},{"$f":"IF(#REF!=15,6,0)","v":{"$error":"#REF!"}},{"$f":"IF(#REF!=16,5,0)","v":{"$error":"#REF!"}},{"$f":"IF(#REF!=17,4,0)","v":{"$error":"#REF!"}},{"$f":"IF(#REF!=18,3,0)","v":{"$error":"#REF!"}},{"$f":"IF(#REF!=19,2,0)","v":{"$error":"#REF!"}},{"$f":"IF(#REF!=20,1,0)","v":{"$error":"#REF!"}},{"$f":"IF(#REF!>20,0,0)","v":{"$error":"#REF!"}},{"$f":"IF(#REF!=\"сх\",0,0)","v":{"$error":"#REF!"}},{"$error":"#REF!"},{"$f":"IF(#REF!=1,100,0)","v":{"$error":"#REF!"}},{"$f":"IF(#REF!=2,98,0)","v":{"$error":"#REF!"}},{"$f":"IF(#REF!=3,95,0)","v":{"$error":"#REF!"}},{"$f":"IF(#REF!=4,93,0)","v":{"$error":"#REF!"}},{"$f":"IF(#REF!=5,90,0)","v":{"$error":"#REF!"}},{"$f":"IF(#REF!=6,88,0)","v":{"$error":"#REF!"}},{"$f":"IF(#REF!=7,85,0)","v":{"$error":"#REF!"}},{"$f":"IF(#REF!=8,83,0)","v":{"$error":"#REF!"}},{"$f":"IF(#REF!=9,80,0)","v":{"$error":"#REF!"}},{"$f":"IF(#REF!=10,78,0)","v":{"$error":"#REF!"}},{"$f":"IF(#REF!=11,75,0)","v":{"$error":"#REF!"}},{"$f":"IF(#REF!=12,73,0)","v":{"$error":"#REF!"}},{"$f":"IF(#REF!=13,70,0)","v":{"$error":"#REF!"}},{"$f":"IF(#REF!=14,68,0)","v":{"$error":"#REF!"}},{"$f":"IF(#REF!=15,65,0)","v":{"$error":"#REF!"}},{"$f":"IF(#REF!=16,63,0)","v":{"$error":"#REF!"}},{"$f":"IF(#REF!=17,60,0)","v":{"$error":"#REF!"}},{"$f":"IF(#REF!=18,58,0)","v":{"$error":"#REF!"}},{"$f":"IF(#REF!=19,55,0)","v":{"$error":"#REF!"}},{"$f":"IF(#REF!=20,53,0)","v":{"$error":"#REF!"}},{"$f":"IF(#REF!>20,0,0)","v":{"$error":"#REF!"}},{"$f":"IF(#REF!=\"сх\",0,0)","v":{"$error":"#REF!"}},{"$error":"#REF!"},{"$f":"IF(#REF!=1,100,0)","v":{"$error":"#REF!"}},{"$f":"IF(#REF!=2,98,0)","v":{"$error":"#REF!"}},{"$f":"IF(#REF!=3,95,0)","v":{"$error":"#REF!"}},{"$f":"IF(#REF!=4,93,0)","v":{"$error":"#REF!"}},{"$f":"IF(#REF!=5,90,0)","v":{"$error":"#REF!"}},{"$f":"IF(#REF!=6,88,0)","v":{"$error":"#REF!"}},{"$f":"IF(#REF!=7,85,0)","v":{"$error":"#REF!"}},{"$f":"IF(#REF!=8,83,0)","v":{"$error":"#REF!"}},{"$f":"IF(#REF!=9,80,0)","v":{"$error":"#REF!"}},{"$f":"IF(#REF!=10,78,0)","v":{"$error":"#REF!"}},{"$f":"IF(#REF!=11,75,0)","v":{"$error":"#REF!"}},{"$f":"IF(#REF!=12,73,0)","v":{"$error":"#REF!"}},{"$f":"IF(#REF!=13,70,0)","v":{"$error":"#REF!"}},{"$f":"IF(#REF!=14,68,0)","v":{"$error":"#REF!"}},{"$f":"IF(#REF!=15,65,0)","v":{"$error":"#REF!"}},{"$f":"IF(#REF!=16,63,0)","v":{"$error":"#REF!"}},{"$f":"IF(#REF!=17,60,0)","v":{"$error":"#REF!"}},{"$f":"IF(#REF!=18,58,0)","v":{"$error":"#REF!"}},{"$f":"IF(#REF!=19,55,0)","v":{"$error":"#REF!"}},{"$f":"IF(#REF!=20,53,0)","v":{"$error":"#REF!"}},{"$f":"IF(#REF!>20,0,0)","v":{"$error":"#REF!"}},{"$f":"IF(#REF!=\"сх\",0,0)","v":{"$error":"#REF!"}},{"$error":"#REF!"}]
[11,3.8,935,"Дидур Марк","б/р","г. Новый Уренгой, Ямало-Ненецкий АО","МАУ МЦ \"НОРД\"","Sky-Doo",11,10,12,9,{"$f":"#REF!+#REF!","v":{"$error":"#REF!"}},null,null,{"$f":"IF(#REF!=1,25,0)","v":{"$error":"#REF!"}},19,{"$f":"#REF!+#REF!","v":{"$error":"#REF!"}},null,null,{"$f":"IF(#REF!=1,25,0)","v":{"$error":"#REF!"}},{"$f":"IF(#REF!=2,22,0)","v":{"$error":"#REF!"}},{"$f":"IF(#REF!=3,20,0)","v":{"$error":"#REF!"}},{"$f":"IF(#REF!=4,18,0)","v":{"$error":"#REF!"}},{"$f":"IF(#REF!=5,16,0)","v":{"$error":"#REF!"}},{"$f":"IF(#REF!=6,15,0)","v":{"$error":"#REF!"}},{"$f":"IF(#REF!=7,14,0)","v":{"$error":"#REF!"}},{"$f":"IF(#REF!=8,13,0)","v":{"$error":"#REF!"}},{"$f":"IF(#REF!=9,12,0)","v":{"$error":"#REF!"}},{"$f":"IF(#REF!=10,11,0)","v":{"$error":"#REF!"}},{"$f":"IF(#REF!=11,10,0)","v":{"$error":"#REF!"}},{"$f":"IF(#REF!=12,9,0)","v":{"$error":"#REF!"}},{"$f":"IF(#REF!=13,8,0)","v":{"$error":"#REF!"}},{"$f":"IF(#REF!=14,7,0)","v":{"$error":"#REF!"}},{"$f":"IF(#REF!=15,6,0)","v":{"$error":"#REF!"}},{"$f":"IF(#REF!=16,5,0)","v":{"$error":"#REF!"}},{"$f":"IF(#REF!=17,4,0)","v":{"$error":"#REF!"}},{"$f":"IF(#REF!=18,3,0)","v":{"$error":"#REF!"}},{"$f":"IF(#REF!=19,2,0)","v":{"$error":"#REF!"}},{"$f":"IF(#REF!=20,1,0)","v":{"$error":"#REF!"}},{"$f":"IF(#REF!>20,0,0)","v":{"$error":"#REF!"}},{"$f":"IF(#REF!=\"сх\",0,0)","v":{"$error":"#REF!"}},{"$error":"#REF!"},{"$f":"IF(#REF!=1,25,0)","v":{"$error":"#REF!"}},{"$f":"IF(#REF!=2,22,0)","v":{"$error":"#REF!"}},{"$f":"IF(#REF!=3,20,0)","v":{"$error":"#REF!"}},{"$f":"IF(#REF!=4,18,0)","v":{"$error":"#REF!"}},{"$f":"IF(#REF!=5,16,0)","v":{"$error":"#REF!"}},{"$f":"IF(#REF!=6,15,0)","v":{"$error":"#REF!"}},{"$f":"IF(#REF!=7,14,0)","v":{"$error":"#REF!"}},{"$f":"IF(#REF!=8,13,0)","v":{"$error":"#REF!"}},{"$f":"IF(#REF!=9,12,0)","v":{"$error":"#REF!"}},{"$f":"IF(#REF!=10,11,0)","v":{"$error":"#REF!"}},{"$f":"IF(#REF!=11,10,0)","v":{"$error":"#REF!"}},{"$f":"IF(#REF!=12,9,0)","v":{"$error":"#REF!"}},{"$f":"IF(#REF!=13,8,0)","v":{"$error":"#REF!"}},{"$f":"IF(#REF!=14,7,0)","v":{"$error":"#REF!"}},{"$f":"IF(#REF!=15,6,0)","v":{"$error":"#REF!"}},{"$f":"IF(#REF!=16,5,0)","v":{"$error":"#REF!"}},{"$f":"IF(#REF!=17,4,0)","v":{"$error":"#REF!"}},{"$f":"IF(#REF!=18,3,0)","v":{"$error":"#REF!"}},{"$f":"IF(#REF!=19,2,0)","v":{"$error":"#REF!"}},{"$f":"IF(#REF!=20,1,0)","v":{"$error":"#REF!"}},{"$f":"IF(#REF!>20,0,0)","v":{"$error":"#REF!"}},{"$f":"IF(#REF!=\"сх\",0,0)","v":{"$error":"#REF!"}},{"$error":"#REF!"},{"$f":"IF(#REF!=1,45,0)","v":{"$error":"#REF!"}},{"$f":"IF(#REF!=2,42,0)","v":{"$error":"#REF!"}},{"$f":"IF(#REF!=3,40,0)","v":{"$error":"#REF!"}},{"$f":"IF(#REF!=4,38,0)","v":{"$error":"#REF!"}},{"$f":"IF(#REF!=5,36,0)","v":{"$error":"#REF!"}},{"$f":"IF(#REF!=6,35,0)","v":{"$error":"#REF!"}},{"$f":"IF(#REF!=7,34,0)","v":{"$error":"#REF!"}},{"$f":"IF(#REF!=8,33,0)","v":{"$error":"#REF!"}},{"$f":"IF(#REF!=9,32,0)","v":{"$error":"#REF!"}},{"$f":"IF(#REF!=10,31,0)","v":{"$error":"#REF!"}},{"$f":"IF(#REF!=11,30,0)","v":{"$error":"#REF!"}},{"$f":"IF(#REF!=12,29,0)","v":{"$error":"#REF!"}},{"$f":"IF(#REF!=13,28,0)","v":{"$error":"#REF!"}},{"$f":"IF(#REF!=14,27,0)","v":{"$error":"#REF!"}},{"$f":"IF(#REF!=15,26,0)","v":{"$error":"#REF!"}},{"$f":"IF(#REF!=16,25,0)","v":{"$error":"#REF!"}},{"$f":"IF(#REF!=17,24,0)","v":{"$error":"#REF!"}},{"$f":"IF(#REF!=18,23,0)","v":{"$error":"#REF!"}},{"$f":"IF(#REF!=19,22,0)","v":{"$error":"#REF!"}},{"$f":"IF(#REF!=20,21,0)","v":{"$error":"#REF!"}},{"$f":"IF(#REF!=21,20,0)","v":{"$error":"#REF!"}},{"$f":"IF(#REF!=22,19,0)","v":{"$error":"#REF!"}},{"$f":"IF(#REF!=23,18,0)","v":{"$error":"#REF!"}},{"$f":"IF(#REF!=24,17,0)","v":{"$error":"#REF!"}},{"$f":"IF(#REF!=25,16,0)","v":{"$error":"#REF!"}},{"$f":"IF(#REF!=26,15,0)","v":{"$error":"#REF!"}},{"$f":"IF(#REF!=27,14,0)","v":{"$error":"#REF!"}},{"$f":"IF(#REF!=28,13,0)","v":{"$error":"#REF!"}},{"$f":"IF(#REF!=29,12,0)","v":{"$error":"#REF!"}},{"$f":"IF(#REF!=30,11,0)","v":{"$error":"#REF!"}},{"$f":"IF(#REF!=31,10,0)","v":{"$error":"#REF!"}},{"$f":"IF(#REF!=32,9,0)","v":{"$error":"#REF!"}},{"$f":"IF(#REF!=33,8,0)","v":{"$error":"#REF!"}},{"$f":"IF(#REF!=34,7,0)","v":{"$error":"#REF!"}},{"$f":"IF(#REF!=35,6,0)","v":{"$error":"#REF!"}},{"$f":"IF(#REF!=36,5,0)","v":{"$error":"#REF!"}},{"$f":"IF(#REF!=37,4,0)","v":{"$error":"#REF!"}},{"$f":"IF(#REF!=38,3,0)","v":{"$error":"#REF!"}},{"$f":"IF(#REF!=39,2,0)","v":{"$error":"#REF!"}},{"$f":"IF(#REF!=40,1,0)","v":{"$error":"#REF!"}},{"$f":"IF(#REF!>20,0,0)","v":{"$error":"#REF!"}},{"$f":"IF(#REF!=\"сх\",0,0)","v":{"$error":"#REF!"}},{"$error":"#REF!"},{"$f":"IF(#REF!=1,45,0)","v":{"$error":"#REF!"}},{"$f":"IF(#REF!=2,42,0)","v":{"$error":"#REF!"}},{"$f":"IF(#REF!=3,40,0)","v":{"$error":"#REF!"}},{"$f":"IF(#REF!=4,38,0)","v":{"$error":"#REF!"}},{"$f":"IF(#REF!=5,36,0)","v":{"$error":"#REF!"}},{"$f":"IF(#REF!=6,35,0)","v":{"$error":"#REF!"}},{"$f":"IF(#REF!=7,34,0)","v":{"$error":"#REF!"}},{"$f":"IF(#REF!=8,33,0)","v":{"$error":"#REF!"}},{"$f":"IF(#REF!=9,32,0)","v":{"$error":"#REF!"}},{"$f":"IF(#REF!=10,31,0)","v":{"$error":"#REF!"}},{"$f":"IF(#REF!=11,30,0)","v":{"$error":"#REF!"}},{"$f":"IF(#REF!=12,29,0)","v":{"$error":"#REF!"}},{"$f":"IF(#REF!=13,28,0)","v":{"$error":"#REF!"}},{"$f":"IF(#REF!=14,27,0)","v":{"$error":"#REF!"}},{"$f":"IF(#REF!=15,26,0)","v":{"$error":"#REF!"}},{"$f":"IF(#REF!=16,25,0)","v":{"$error":"#REF!"}},{"$f":"IF(#REF!=17,24,0)","v":{"$error":"#REF!"}},{"$f":"IF(#REF!=18,23,0)","v":{"$error":"#REF!"}},{"$f":"IF(#REF!=19,22,0)","v":{"$error":"#REF!"}},{"$f":"IF(#REF!=20,21,0)","v":{"$error":"#REF!"}},{"$f":"IF(#REF!=21,20,0)","v":{"$error":"#REF!"}},{"$f":"IF(#REF!=22,19,0)","v":{"$error":"#REF!"}},{"$f":"IF(#REF!=23,18,0)","v":{"$error":"#REF!"}},{"$f":"IF(#REF!=24,17,0)","v":{"$error":"#REF!"}},{"$f":"IF(#REF!=25,16,0)","v":{"$error":"#REF!"}},{"$f":"IF(#REF!=26,15,0)","v":{"$error":"#REF!"}},{"$f":"IF(#REF!=27,14,0)","v":{"$error":"#REF!"}},{"$f":"IF(#REF!=28,13,0)","v":{"$error":"#REF!"}},{"$f":"IF(#REF!=29,12,0)","v":{"$error":"#REF!"}},{"$f":"IF(#REF!=30,11,0)","v":{"$error":"#REF!"}},{"$f":"IF(#REF!=31,10,0)","v":{"$error":"#REF!"}},{"$f":"IF(#REF!=32,9,0)","v":{"$error":"#REF!"}},{"$f":"IF(#REF!=33,8,0)","v":{"$error":"#REF!"}},{"$f":"IF(#REF!=34,7,0)","v":{"$error":"#REF!"}},{"$f":"IF(#REF!=35,6,0)","v":{"$error":"#REF!"}},{"$f":"IF(#REF!=36,5,0)","v":{"$error":"#REF!"}},{"$f":"IF(#REF!=37,4,0)","v":{"$error":"#REF!"}},{"$f":"IF(#REF!=38,3,0)","v":{"$error":"#REF!"}},{"$f":"IF(#REF!=39,2,0)","v":{"$error":"#REF!"}},{"$f":"IF(#REF!=40,1,0)","v":{"$error":"#REF!"}},{"$f":"IF(#REF!>20,0,0)","v":{"$error":"#REF!"}},{"$f":"IF(#REF!=\"сх\",0,0)","v":{"$error":"#REF!"}},{"$error":"#REF!"},null,{"$f":"IF(#REF!=\"сх\",\"ноль\",IF(#REF!>0,#REF!,\"Ноль\"))","v":{"$error":"#REF!"}},{"$f":"IF(#REF!=\"сх\",\"ноль\",IF(#REF!>0,#REF!,\"Ноль\"))","v":{"$error":"#REF!"}},null,{"$error":"#REF!"},{"$f":"IF(Q19=#REF!,IF(#REF!<#REF!,#REF!,FF19),#REF!)","v":{"$error":"#REF!"}},{"$f":"IF(Q19=#REF!,IF(#REF!<#REF!,0,1))","v":{"$error":"#REF!"}},{"$f":"IF(AND(FA19>=21,FA19<>0),FA19,IF(Q19<#REF!,\"СТОП\",FB19+FC19))","v":{"$error":"#REF!"}},null,15,16,null,{"$f":"IF(#REF!=1,25,0)","v":{"$error":"#REF!"}},{"$f":"IF(#REF!=2,22,0)","v":{"$error":"#REF!"}},{"$f":"IF(#REF!=3,20,0)","v":{"$error":"#REF!"}},{"$f":"IF(#REF!=4,18,0)","v":{"$error":"#REF!"}},{"$f":"IF(#REF!=5,16,0)","v":{"$error":"#REF!"}},{"$f":"IF(#REF!=6,15,0)","v":{"$error":"#REF!"}},{"$f":"IF(#REF!=7,14,0)","v":{"$error":"#REF!"}},{"$f":"IF(#REF!=8,13,0)","v":{"$error":"#REF!"}},{"$f":"IF(#REF!=9,12,0)","v":{"$error":"#REF!"}},{"$f":"IF(#REF!=10,11,0)","v":{"$error":"#REF!"}},{"$f":"IF(#REF!=11,10,0)","v":{"$error":"#REF!"}},{"$f":"IF(#REF!=12,9,0)","v":{"$error":"#REF!"}},{"$f":"IF(#REF!=13,8,0)","v":{"$error":"#REF!"}},{"$f":"IF(#REF!=14,7,0)","v":{"$error":"#REF!"}},{"$f":"IF(#REF!=15,6,0)","v":{"$error":"#REF!"}},{"$f":"IF(#REF!=16,5,0)","v":{"$error":"#REF!"}},{"$f":"IF(#REF!=17,4,0)","v":{"$error":"#REF!"}},{"$f":"IF(#REF!=18,3,0)","v":{"$error":"#REF!"}},{"$f":"IF(#REF!=19,2,0)","v":{"$error":"#REF!"}},{"$f":"IF(#REF!=20,1,0)","v":{"$error":"#REF!"}},{"$f":"IF(#REF!>20,0,0)","v":{"$error":"#REF!"}},{"$f":"IF(#REF!=\"сх\",0,0)","v":{"$error":"#REF!"}},{"$error":"#REF!"},{"$f":"IF(#REF!=1,25,0)","v":{"$error":"#REF!"}},{"$f":"IF(#REF!=2,22,0)","v":{"$error":"#REF!"}},{"$f":"IF(#REF!=3,20,0)","v":{"$error":"#REF!"}},{"$f":"IF(#REF!=4,18,0)","v":{"$error":"#REF!"}},{"$f":"IF(#REF!=5,16,0)","v":{"$error":"#REF!"}},{"$f":"IF(#REF!=6,15,0)","v":{"$error":"#REF!"}},{"$f":"IF(#REF!=7,14,0)","v":{"$error":"#REF!"}},{"$f":"IF(#REF!=8,13,0)","v":{"$error":"#REF!"}},{"$f":"IF(#REF!=9,12,0)","v":{"$error":"#REF!"}},{"$f":"IF(#REF!=10,11,0)","v":{"$error":"#REF!"}},{"$f":"IF(#REF!=11,10,0)","v":{"$error":"#REF!"}},{"$f":"IF(#REF!=12,9,0)","v":{"$error":"#REF!"}},{"$f":"IF(#REF!=13,8,0)","v":{"$error":"#REF!"}},{"$f":"IF(#REF!=14,7,0)","v":{"$error":"#REF!"}},{"$f":"IF(#REF!=15,6,0)","v":{"$error":"#REF!"}},{"$f":"IF(#REF!=16,5,0)","v":{"$error":"#REF!"}},{"$f":"IF(#REF!=17,4,0)","v":{"$error":"#REF!"}},{"$f":"IF(#REF!=18,3,0)","v":{"$error":"#REF!"}},{"$f":"IF(#REF!=19,2,0)","v":{"$error":"#REF!"}},{"$f":"IF(#REF!=20,1,0)","v":{"$error":"#REF!"}},{"$f":"IF(#REF!>20,0,0)","v":{"$error":"#REF!"}},{"$f":"IF(#REF!=\"сх\",0,0)","v":{"$error":"#REF!"}},{"$error":"#REF!"},{"$f":"IF(#REF!=1,100,0)","v":{"$error":"#REF!"}},{"$f":"IF(#REF!=2,98,0)","v":{"$error":"#REF!"}},{"$f":"IF(#REF!=3,95,0)","v":{"$error":"#REF!"}},{"$f":"IF(#REF!=4,93,0)","v":{"$error":"#REF!"}},{"$f":"IF(#REF!=5,90,0)","v":{"$error":"#REF!"}},{"$f":"IF(#REF!=6,88,0)","v":{"$error":"#REF!"}},{"$f":"IF(#REF!=7,85,0)","v":{"$error":"#REF!"}},{"$f":"IF(#REF!=8,83,0)","v":{"$error":"#REF!"}},{"$f":"IF(#REF!=9,80,0)","v":{"$error":"#REF!"}},{"$f":"IF(#REF!=10,78,0)","v":{"$error":"#REF!"}},{"$f":"IF(#REF!=11,75,0)","v":{"$error":"#REF!"}},{"$f":"IF(#REF!=12,73,0)","v":{"$error":"#REF!"}},{"$f":"IF(#REF!=13,70,0)","v":{"$error":"#REF!"}},{"$f":"IF(#REF!=14,68,0)","v":{"$error":"#REF!"}},{"$f":"IF(#REF!=15,65,0)","v":{"$error":"#REF!"}},{"$f":"IF(#REF!=16,63,0)","v":{"$error":"#REF!"}},{"$f":"IF(#REF!=17,60,0)","v":{"$error":"#REF!"}},{"$f":"IF(#REF!=18,58,0)","v":{"$error":"#REF!"}},{"$f":"IF(#REF!=19,55,0)","v":{"$error":"#REF!"}},{"$f":"IF(#REF!=20,53,0)","v":{"$error":"#REF!"}},{"$f":"IF(#REF!>20,0,0)","v":{"$error":"#REF!"}},{"$f":"IF(#REF!=\"сх\",0,0)","v":{"$error":"#REF!"}},{"$error":"#REF!"},{"$f":"IF(#REF!=1,100,0)","v":{"$error":"#REF!"}},{"$f":"IF(#REF!=2,98,0)","v":{"$error":"#REF!"}},{"$f":"IF(#REF!=3,95,0)","v":{"$error":"#REF!"}},{"$f":"IF(#REF!=4,93,0)","v":{"$error":"#REF!"}},{"$f":"IF(#REF!=5,90,0)","v":{"$error":"#REF!"}},{"$f":"IF(#REF!=6,88,0)","v":{"$error":"#REF!"}},{"$f":"IF(#REF!=7,85,0)","v":{"$error":"#REF!"}},{"$f":"IF(#REF!=8,83,0)","v":{"$error":"#REF!"}},{"$f":"IF(#REF!=9,80,0)","v":{"$error":"#REF!"}},{"$f":"IF(#REF!=10,78,0)","v":{"$error":"#REF!"}},{"$f":"IF(#REF!=11,75,0)","v":{"$error":"#REF!"}},{"$f":"IF(#REF!=12,73,0)","v":{"$error":"#REF!"}},{"$f":"IF(#REF!=13,70,0)","v":{"$error":"#REF!"}},{"$f":"IF(#REF!=14,68,0)","v":{"$error":"#REF!"}},{"$f":"IF(#REF!=15,65,0)","v":{"$error":"#REF!"}},{"$f":"IF(#REF!=16,63,0)","v":{"$error":"#REF!"}},{"$f":"IF(#REF!=17,60,0)","v":{"$error":"#REF!"}},{"$f":"IF(#REF!=18,58,0)","v":{"$error":"#REF!"}},{"$f":"IF(#REF!=19,55,0)","v":{"$error":"#REF!"}},{"$f":"IF(#REF!=20,53,0)","v":{"$error":"#REF!"}},{"$f":"IF(#REF!>20,0,0)","v":{"$error":"#REF!"}},{"$f":"IF(#REF!=\"сх\",0,0)","v":{"$error":"#REF!"}},{"$error":"#REF!"}]
[12,3.7,181,"Меркурьев Алексей","II","г. Новый Уренгой, Ямало-Ненецкий АО","СТК \"Ямбург\"","LYNX",13,8,11,10,{"$f":"#REF!+#REF!","v":{"$error":"#REF!"}},null,null,{"$f":"IF(#REF!=1,25,0)","v":{"$error":"#REF!"}},18,{"$f":"#REF!+#REF!","v":{"$error":"#REF!"}},null,null,{"$f":"IF(#REF!=1,25,0)","v":{"$error":"#REF!"}},{"$f":"IF(#REF!=2,22,0)","v":{"$error":"#REF!"}},{"$f":"IF(#REF!=3,20,0)","v":{"$error":"#REF!"}},{"$f":"IF(#REF!=4,18,0)","v":{"$error":"#REF!"}},{"$f":"IF(#REF!=5,16,0)","v":{"$error":"#REF!"}},{"$f":"IF(#REF!=6,15,0)","v":{"$error":"#REF!"}},{"$f":"IF(#REF!=7,14,0)","v":{"$error":"#REF!"}},{"$f":"IF(#REF!=8,13,0)","v":{"$error":"#REF!"}},{"$f":"IF(#REF!=9,12,0)","v":{"$error":"#REF!"}},{"$f":"IF(#REF!=10,11,0)","v":{"$error":"#REF!"}},{"$f":"IF(#REF!=11,10,0)","v":{"$error":"#REF!"}},{"$f":"IF(#REF!=12,9,0)","v":{"$error":"#REF!"}},{"$f":"IF(#REF!=13,8,0)","v":{"$error":"#REF!"}},{"$f":"IF(#REF!=14,7,0)","v":{"$error":"#REF!"}},{"$f":"IF(#REF!=15,6,0)","v":{"$error":"#REF!"}},{"$f":"IF(#REF!=16,5,0)","v":{"$error":"#REF!"}},{"$f":"IF(#REF!=17,4,0)","v":{"$error":"#REF!"}},{"$f":"IF(#REF!=18,3,0)","v":{"$error":"#REF!"}},{"$f":"IF(#REF!=19,2,0)","v":{"$error":"#REF!"}},{"$f":"IF(#REF!=20,1,0)","v":{"$error":"#REF!"}},{"$f":"IF(#REF!>20,0,0)","v":{"$error":"#REF!"}},{"$f":"IF(#REF!=\"сх\",0,0)","v":{"$error":"#REF!"}},{"$error":"#REF!"},{"$f":"IF(#REF!=1,25,0)","v":{"$error":"#REF!"}},{"$f":"IF(#REF!=2,22,0)","v":{"$error":"#REF!"}},{"$f":"IF(#REF!=3,20,0)","v":{"$error":"#REF!"}},{"$f":"IF(#REF!=4,18,0)","v":{"$error":"#REF!"}},{"$f":"IF(#REF!=5,16,0)","v":{"$error":"#REF!"}},{"$f":"IF(#REF!=6,15,0)","v":{"$error":"#REF!"}},{"$f":"IF(#REF!=7,14,0)","v":{"$error":"#REF!"}},{"$f":"IF(#REF!=8,13,0)","v":{"$error":"#REF!"}},{"$f":"IF(#REF!=9,12,0)","v":{"$error":"#REF!"}},{"$f":"IF(#REF!=10,11,0)","v":{"$error":"#REF!"}},{"$f":"IF(#REF!=11,10,0)","v":{"$error":"#REF!"}},{"$f":"IF(#REF!=12,9,0)","v":{"$error":"#REF!"}},{"$f":"IF(#REF!=13,8,0)","v":{"$error":"#REF!"}},{"$f":"IF(#REF!=14,7,0)","v":{"$error":"#REF!"}},{"$f":"IF(#REF!=15,6,0)","v":{"$error":"#REF!"}},{"$f":"IF(#REF!=16,5,0)","v":{"$error":"#REF!"}},{"$f":"IF(#REF!=17,4,0)","v":{"$error":"#REF!"}},{"$f":"IF(#REF!=18,3,0)","v":{"$error":"#REF!"}},{"$f":"IF(#REF!=19,2,0)","v":{"$error":"#REF!"}},{"$f":"IF(#REF!=20,1,0)","v":{"$error":"#REF!"}},{"$f":"IF(#REF!>20,0,0)","v":{"$error":"#REF!"}},{"$f":"IF(#REF!=\"сх\",0,0)","v":{"$error":"#REF!"}},{"$error":"#REF!"},{"$f":"IF(#REF!=1,45,0)","v":{"$error":"#REF!"}},{"$f":"IF(#REF!=2,42,0)","v":{"$error":"#REF!"}},{"$f":"IF(#REF!=3,40,0)","v":{"$error":"#REF!"}},{"$f":"IF(#REF!=4,38,0)","v":{"$error":"#REF!"}},{"$f":"IF(#REF!=5,36,0)","v":{"$error":"#REF!"}},{"$f":"IF(#REF!=6,35,0)","v":{"$error":"#REF!"}},{"$f":"IF(#REF!=7,34,0)","v":{"$error":"#REF!"}},{"$f":"IF(#REF!=8,33,0)","v":{"$error":"#REF!"}},{"$f":"IF(#REF!=9,32,0)","v":{"$error":"#REF!"}},{"$f":"IF(#REF!=10,31,0)","v":{"$error":"#REF!"}},{"$f":"IF(#REF!=11,30,0)","v":{"$error":"#REF!"}},{"$f":"IF(#REF!=12,29,0)","v":{"$error":"#REF!"}},{"$f":"IF(#REF!=13,28,0)","v":{"$error":"#REF!"}},{"$f":"IF(#REF!=14,27,0)","v":{"$error":"#REF!"}},{"$f":"IF(#REF!=15,26,0)","v":{"$error":"#REF!"}},{"$f":"IF(#REF!=16,25,0)","v":{"$error":"#REF!"}},{"$f":"IF(#REF!=17,24,0)","v":{"$error":"#REF!"}},{"$f":"IF(#REF!=18,23,0)","v":{"$error":"#REF!"}},{"$f":"IF(#REF!=19,22,0)","v":{"$error":"#REF!"}},{"$f":"IF(#REF!=20,21,0)","v":{"$error":"#REF!"}},{"$f":"IF(#REF!=21,20,0)","v":{"$error":"#REF!"}},{"$f":"IF(#REF!=22,19,0)","v":{"$error":"#REF!"}},{"$f":"IF(#REF!=23,18,0)","v":{"$error":"#REF!"}},{"$f":"IF(#REF!=24,17,0)","v":{"$error":"#REF!"}},{"$f":"IF(#REF!=25,16,0)","v":{"$error":"#REF!"}},{"$f":"IF(#REF!=26,15,0)","v":{"$error":"#REF!"}},{"$f":"IF(#REF!=27,14,0)","v":{"$error":"#REF!"}},{"$f":"IF(#REF!=28,13,0)","v":{"$error":"#REF!"}},{"$f":"IF(#REF!=29,12,0)","v":{"$error":"#REF!"}},{"$f":"IF(#REF!=30,11,0)","v":{"$error":"#REF!"}},{"$f":"IF(#REF!=31,10,0)","v":{"$error":"#REF!"}},{"$f":"IF(#REF!=32,9,0)","v":{"$error":"#REF!"}},{"$f":"IF(#REF!=33,8,0)","v":{"$error":"#REF!"}},{"$f":"IF(#REF!=34,7,0)","v":{"$error":"#REF!"}},{"$f":"IF(#REF!=35,6,0)","v":{"$error":"#REF!"}},{"$f":"IF(#REF!=36,5,0)","v":{"$error":"#REF!"}},{"$f":"IF(#REF!=37,4,0)","v":{"$error":"#REF!"}},{"$f":"IF(#REF!=38,3,0)","v":{"$error":"#REF!"}},{"$f":"IF(#REF!=39,2,0)","v":{"$error":"#REF!"}},{"$f":"IF(#REF!=40,1,0)","v":{"$error":"#REF!"}},{"$f":"IF(#REF!>20,0,0)","v":{"$error":"#REF!"}},{"$f":"IF(#REF!=\"сх\",0,0)","v":{"$error":"#REF!"}},{"$error":"#REF!"},{"$f":"IF(#REF!=1,45,0)","v":{"$error":"#REF!"}},{"$f":"IF(#REF!=2,42,0)","v":{"$error":"#REF!"}},{"$f":"IF(#REF!=3,40,0)","v":{"$error":"#REF!"}},{"$f":"IF(#REF!=4,38,0)","v":{"$error":"#REF!"}},{"$f":"IF(#REF!=5,36,0)","v":{"$error":"#REF!"}},{"$f":"IF(#REF!=6,35,0)","v":{"$error":"#REF!"}},{"$f":"IF(#REF!=7,34,0)","v":{"$error":"#REF!"}},{"$f":"IF(#REF!=8,33,0)","v":{"$error":"#REF!"}},{"$f":"IF(#REF!=9,32,0)","v":{"$error":"#REF!"}},{"$f":"IF(#REF!=10,31,0)","v":{"$error":"#REF!"}},{"$f":"IF(#REF!=11,30,0)","v":{"$error":"#REF!"}},{"$f":"IF(#REF!=12,29,0)","v":{"$error":"#REF!"}},{"$f":"IF(#REF!=13,28,0)","v":{"$error":"#REF!"}},{"$f":"IF(#REF!=14,27,0)","v":{"$error":"#REF!"}},{"$f":"IF(#REF!=15,26,0)","v":{"$error":"#REF!"}},{"$f":"IF(#REF!=16,25,0)","v":{"$error":"#REF!"}},{"$f":"IF(#REF!=17,24,0)","v":{"$error":"#REF!"}},{"$f":"IF(#REF!=18,23,0)","v":{"$error":"#REF!"}},{"$f":"IF(#REF!=19,22,0)","v":{"$error":"#REF!"}},{"$f":"IF(#REF!=20,21,0)","v":{"$error":"#REF!"}},{"$f":"IF(#REF!=21,20,0)","v":{"$error":"#REF!"}},{"$f":"IF(#REF!=22,19,0)","v":{"$error":"#REF!"}},{"$f":"IF(#REF!=23,18,0)","v":{"$error":"#REF!"}},{"$f":"IF(#REF!=24,17,0)","v":{"$error":"#REF!"}},{"$f":"IF(#REF!=25,16,0)","v":{"$error":"#REF!"}},{"$f":"IF(#REF!=26,15,0)","v":{"$error":"#REF!"}},{"$f":"IF(#REF!=27,14,0)","v":{"$error":"#REF!"}},{"$f":"IF(#REF!=28,13,0)","v":{"$error":"#REF!"}},{"$f":"IF(#REF!=29,12,0)","v":{"$error":"#REF!"}},{"$f":"IF(#REF!=30,11,0)","v":{"$error":"#REF!"}},{"$f":"IF(#REF!=31,10,0)","v":{"$error":"#REF!"}},{"$f":"IF(#REF!=32,9,0)","v":{"$error":"#REF!"}},{"$f":"IF(#REF!=33,8,0)","v":{"$error":"#REF!"}},{"$f":"IF(#REF!=34,7,0)","v":{"$error":"#REF!"}},{"$f":"IF(#REF!=35,6,0)","v":{"$error":"#REF!"}},{"$f":"IF(#REF!=36,5,0)","v":{"$error":"#REF!"}},{"$f":"IF(#REF!=37,4,0)","v":{"$error":"#REF!"}},{"$f":"IF(#REF!=38,3,0)","v":{"$error":"#REF!"}},{"$f":"IF(#REF!=39,2,0)","v":{"$error":"#REF!"}},{"$f":"IF(#REF!=40,1,0)","v":{"$error":"#REF!"}},{"$f":"IF(#REF!>20,0,0)","v":{"$error":"#REF!"}},{"$f":"IF(#REF!=\"сх\",0,0)","v":{"$error":"#REF!"}},{"$error":"#REF!"},null,{"$f":"IF(#REF!=\"сх\",\"ноль\",IF(#REF!>0,#REF!,\"Ноль\"))","v":{"$error":"#REF!"}},{"$f":"IF(#REF!=\"сх\",\"ноль\",IF(#REF!>0,#REF!,\"Ноль\"))","v":{"$error":"#REF!"}},null,{"$error":"#REF!"},{"$f":"IF(Q20=#REF!,IF(#REF!<#REF!,#REF!,FF20),#REF!)","v":{"$error":"#REF!"}},{"$f":"IF(Q20=#REF!,IF(#REF!<#REF!,0,1))","v":{"$error":"#REF!"}},{"$f":"IF(AND(FA20>=21,FA20<>0),FA20,IF(Q20<#REF!,\"СТОП\",FB20+FC20))","v":{"$error":"#REF!"}},null,15,16,null,{"$f":"IF(#REF!=1,25,0)","v":{"$error":"#REF!"}},{"$f":"IF(#REF!=2,22,0)","v":{"$error":"#REF!"}},{"$f":"IF(#REF!=3,20,0)","v":{"$error":"#REF!"}},{"$f":"IF(#REF!=4,18,0)","v":{"$error":"#REF!"}},{"$f":"IF(#REF!=5,16,0)","v":{"$error":"#REF!"}},{"$f":"IF(#REF!=6,15,0)","v":{"$error":"#REF!"}},{"$f":"IF(#REF!=7,14,0)","v":{"$error":"#REF!"}},{"$f":"IF(#REF!=8,13,0)","v":{"$error":"#REF!"}},{"$f":"IF(#REF!=9,12,0)","v":{"$error":"#REF!"}},{"$f":"IF(#REF!=10,11,0)","v":{"$error":"#REF!"}},{"$f":"IF(#REF!=11,10,0)","v":{"$error":"#REF!"}},{"$f":"IF(#REF!=12,9,0)","v":{"$error":"#REF!"}},{"$f":"IF(#REF!=13,8,0)","v":{"$error":"#REF!"}},{"$f":"IF(#REF!=14,7,0)","v":{"$error":"#REF!"}},{"$f":"IF(#REF!=15,6,0)","v":{"$error":"#REF!"}},{"$f":"IF(#REF!=16,5,0)","v":{"$error":"#REF!"}},{"$f":"IF(#REF!=17,4,0)","v":{"$error":"#REF!"}},{"$f":"IF(#REF!=18,3,0)","v":{"$error":"#REF!"}},{"$f":"IF(#REF!=19,2,0)","v":{"$error":"#REF!"}},{"$f":"IF(#REF!=20,1,0)","v":{"$error":"#REF!"}},{"$f":"IF(#REF!>20,0,0)","v":{"$error":"#REF!"}},{"$f":"IF(#REF!=\"сх\",0,0)","v":{"$error":"#REF!"}},{"$error":"#REF!"},{"$f":"IF(#REF!=1,25,0)","v":{"$error":"#REF!"}},{"$f":"IF(#REF!=2,22,0)","v":{"$error":"#REF!"}},{"$f":"IF(#REF!=3,20,0)","v":{"$error":"#REF!"}},{"$f":"IF(#REF!=4,18,0)","v":{"$error":"#REF!"}},{"$f":"IF(#REF!=5,16,0)","v":{"$error":"#REF!"}},{"$f":"IF(#REF!=6,15,0)","v":{"$error":"#REF!"}},{"$f":"IF(#REF!=7,14,0)","v":{"$error":"#REF!"}},{"$f":"IF(#REF!=8,13,0)","v":{"$error":"#REF!"}},{"$f":"IF(#REF!=9,12,0)","v":{"$error":"#REF!"}},{"$f":"IF(#REF!=10,11,0)","v":{"$error":"#REF!"}},{"$f":"IF(#REF!=11,10,0)","v":{"$error":"#REF!"}},{"$f":"IF(#REF!=12,9,0)","v":{"$error":"#REF!"}},{"$f":"IF(#REF!=13,8,0)","v":{"$error":"#REF!"}},{"$f":"IF(#REF!=14,7,0)","v":{"$error":"#REF!"}},{"$f":"IF(#REF!=15,6,0)","v":{"$error":"#REF!"}},{"$f":"IF(#REF!=16,5,0)","v":{"$error":"#REF!"}},{"$f":"IF(#REF!=17,4,0)","v":{"$error":"#REF!"}},{"$f":"IF(#REF!=18,3,0)","v":{"$error":"#REF!"}},{"$f":"IF(#REF!=19,2,0)","v":{"$error":"#REF!"}},{"$f":"IF(#REF!=20,1,0)","v":{"$error":"#REF!"}},{"$f":"IF(#REF!>20,0,0)","v":{"$error":"#REF!"}},{"$f":"IF(#REF!=\"сх\",0,0)","v":{"$error":"#REF!"}},{"$error":"#REF!"},{"$f":"IF(#REF!=1,100,0)","v":{"$error":"#REF!"}},{"$f":"IF(#REF!=2,98,0)","v":{"$error":"#REF!"}},{"$f":"IF(#REF!=3,95,0)","v":{"$error":"#REF!"}},{"$f":"IF(#REF!=4,93,0)","v":{"$error":"#REF!"}},{"$f":"IF(#REF!=5,90,0)","v":{"$error":"#REF!"}},{"$f":"IF(#REF!=6,88,0)","v":{"$error":"#REF!"}},{"$f":"IF(#REF!=7,85,0)","v":{"$error":"#REF!"}},{"$f":"IF(#REF!=8,83,0)","v":{"$error":"#REF!"}},{"$f":"IF(#REF!=9,80,0)","v":{"$error":"#REF!"}},{"$f":"IF(#REF!=10,78,0)","v":{"$error":"#REF!"}},{"$f":"IF(#REF!=11,75,0)","v":{"$error":"#REF!"}},{"$f":"IF(#REF!=12,73,0)","v":{"$error":"#REF!"}},{"$f":"IF(#REF!=13,70,0)","v":{"$error":"#REF!"}},{"$f":"IF(#REF!=14,68,0)","v":{"$error":"#REF!"}},{"$f":"IF(#REF!=15,65,0)","v":{"$error":"#REF!"}},{"$f":"IF(#REF!=16,63,0)","v":{"$error":"#REF!"}},{"$f":"IF(#REF!=17,60,0)","v":{"$error":"#REF!"}},{"$f":"IF(#REF!=18,58,0)","v":{"$error":"#REF!"}},{"$f":"IF(#REF!=19,55,0)","v":{"$error":"#REF!"}},{"$f":"IF(#REF!=20,53,0)","v":{"$error":"#REF!"}},{"$f":"IF(#REF!>20,0,0)","v":{"$error":"#REF!"}},{"$f":"IF(#REF!=\"сх\",0,0)","v":{"$error":"#REF!"}},{"$error":"#REF!"},{"$f":"IF(#REF!=1,100,0)","v":{"$error":"#REF!"}},{"$f":"IF(#REF!=2,98,0)","v":{"$error":"#REF!"}},{"$f":"IF(#REF!=3,95,0)","v":{"$error":"#REF!"}},{"$f":"IF(#REF!=4,93,0)","v":{"$error":"#REF!"}},{"$f":"IF(#REF!=5,90,0)","v":{"$error":"#REF!"}},{"$f":"IF(#REF!=6,88,0)","v":{"$error":"#REF!"}},{"$f":"IF(#REF!=7,85,0)","v":{"$error":"#REF!"}},{"$f":"IF(#REF!=8,83,0)","v":{"$error":"#REF!"}},{"$f":"IF(#REF!=9,80,0)","v":{"$error":"#REF!"}},{"$f":"IF(#REF!=10,78,0)","v":{"$error":"#REF!"}},{"$f":"IF(#REF!=11,75,0)","v":{"$error":"#REF!"}},{"$f":"IF(#REF!=12,73,0)","v":{"$error":"#REF!"}},{"$f":"IF(#REF!=13,70,0)","v":{"$error":"#REF!"}},{"$f":"IF(#REF!=14,68,0)","v":{"$error":"#REF!"}},{"$f":"IF(#REF!=15,65,0)","v":{"$error":"#REF!"}},{"$f":"IF(#REF!=16,63,0)","v":{"$error":"#REF!"}},{"$f":"IF(#REF!=17,60,0)","v":{"$error":"#REF!"}},{"$f":"IF(#REF!=18,58,0)","v":{"$error":"#REF!"}},{"$f":"IF(#REF!=19,55,0)","v":{"$error":"#REF!"}},{"$f":"IF(#REF!=20,53,0)","v":{"$error":"#REF!"}},{"$f":"IF(#REF!>20,0,0)","v":{"$error":"#REF!"}},{"$f":"IF(#REF!=\"сх\",0,0)","v":{"$error":"#REF!"}},{"$error":"#REF!"}]
[13,3.6,17,"Литвинова Дарина","I","г. Надым, Ямало-Ненецкий АО","СТК \"Форсаж\"","Sky-Doo",9,12,"н/с",0,{"$f":"#REF!+#REF!","v":{"$error":"#REF!"}},null,null,{"$f":"IF(#REF!=1,25,0)","v":{"$error":"#REF!"}},12,{"$f":"#REF!+#REF!","v":{"$error":"#REF!"}},null,null,{"$f":"IF(#REF!=1,25,0)","v":{"$error":"#REF!"}},{"$f":"IF(#REF!=2,22,0)","v":{"$error":"#REF!"}},{"$f":"IF(#REF!=3,20,0)","v":{"$error":"#REF!"}},{"$f":"IF(#REF!=4,18,0)","v":{"$error":"#REF!"}},{"$f":"IF(#REF!=5,16,0)","v":{"$error":"#REF!"}},{"$f":"IF(#REF!=6,15,0)","v":{"$error":"#REF!"}},{"$f":"IF(#REF!=7,14,0)","v":{"$error":"#REF!"}},{"$f":"IF(#REF!=8,13,0)","v":{"$error":"#REF!"}},{"$f":"IF(#REF!=9,12,0)","v":{"$error":"#REF!"}},{"$f":"IF(#REF!=10,11,0)","v":{"$error":"#REF!"}},{"$f":"IF(#REF!=11,10,0)","v":{"$error":"#REF!"}},{"$f":"IF(#REF!=12,9,0)","v":{"$error":"#REF!"}},{"$f":"IF(#REF!=13,8,0)","v":{"$error":"#REF!"}},{"$f":"IF(#REF!=14,7,0)","v":{"$error":"#REF!"}},{"$f":"IF(#REF!=15,6,0)","v":{"$error":"#REF!"}},{"$f":"IF(#REF!=16,5,0)","v":{"$error":"#REF!"}},{"$f":"IF(#REF!=17,4,0)","v":{"$error":"#REF!"}},{"$f":"IF(#REF!=18,3,0)","v":{"$error":"#REF!"}},{"$f":"IF(#REF!=19,2,0)","v":{"$error":"#REF!"}},{"$f":"IF(#REF!=20,1,0)","v":{"$error":"#REF!"}},{"$f":"IF(#REF!>20,0,0)","v":{"$error":"#REF!"}},{"$f":"IF(#REF!=\"сх\",0,0)","v":{"$error":"#REF!"}},{"$error":"#REF!"},{"$f":"IF(#REF!=1,25,0)","v":{"$error":"#REF!"}},{"$f":"IF(#REF!=2,22,0)","v":{"$error":"#REF!"}},{"$f":"IF(#REF!=3,20,0)","v":{"$error":"#REF!"}},{"$f":"IF(#REF!=4,18,0)","v":{"$error":"#REF!"}},{"$f":"IF(#REF!=5,16,0)","v":{"$error":"#REF!"}},{"$f":"IF(#REF!=6,15,0)","v":{"$error":"#REF!"}},{"$f":"IF(#REF!=7,14,0)","v":{"$error":"#REF!"}},{"$f":"IF(#REF!=8,13,0)","v":{"$error":"#REF!"}},{"$f":"IF(#REF!=9,12,0)","v":{"$error":"#REF!"}},{"$f":"IF(#REF!=10,11,0)","v":{"$error":"#REF!"}},{"$f":"IF(#REF!=11,10,0)","v":{"$error":"#REF!"}},{"$f":"IF(#REF!=12,9,0)","v":{"$error":"#REF!"}},{"$f":"IF(#REF!=13,8,0)","v":{"$error":"#REF!"}},{"$f":"IF(#REF!=14,7,0)","v":{"$error":"#REF!"}},{"$f":"IF(#REF!=15,6,0)","v":{"$error":"#REF!"}},{"$f":"IF(#REF!=16,5,0)","v":{"$error":"#REF!"}},{"$f":"IF(#REF!=17,4,0)","v":{"$error":"#REF!"}},{"$f":"IF(#REF!=18,3,0)","v":{"$error":"#REF!"}},{"$f":"IF(#REF!=19,2,0)","v":{"$error":"#REF!"}},{"$f":"IF(#REF!=20,1,0)","v":{"$error":"#REF!"}},{"$f":"IF(#REF!>20,0,0)","v":{"$error":"#REF!"}},{"$f":"IF(#REF!=\"сх\",0,0)","v":{"$error":"#REF!"}},{"$error":"#REF!"},{"$f":"IF(#REF!=1,45,0)","v":{"$error":"#REF!"}},{"$f":"IF(#REF!=2,42,0)","v":{"$error":"#REF!"}},{"$f":"IF(#REF!=3,40,0)","v":{"$error":"#REF!"}},{"$f":"IF(#REF!=4,38,0)","v":{"$error":"#REF!"}},{"$f":"IF(#REF!=5,36,0)","v":{"$error":"#REF!"}},{"$f":"IF(#REF!=6,35,0)","v":{"$error":"#REF!"}},{"$f":"IF(#REF!=7,34,0)","v":{"$error":"#REF!"}},{"$f":"IF(#REF!=8,33,0)","v":{"$error":"#REF!"}},{"$f":"IF(#REF!=9,32,0)","v":{"$error":"#REF!"}},{"$f":"IF(#REF!=10,31,0)","v":{"$error":"#REF!"}},{"$f":"IF(#REF!=11,30,0)","v":{"$error":"#REF!"}},{"$f":"IF(#REF!=12,29,0)","v":{"$error":"#REF!"}},{"$f":"IF(#REF!=13,28,0)","v":{"$error":"#REF!"}},{"$f":"IF(#REF!=14,27,0)","v":{"$error":"#REF!"}},{"$f":"IF(#REF!=15,26,0)","v":{"$error":"#REF!"}},{"$f":"IF(#REF!=16,25,0)","v":{"$error":"#REF!"}},{"$f":"IF(#REF!=17,24,0)","v":{"$error":"#REF!"}},{"$f":"IF(#REF!=18,23,0)","v":{"$error":"#REF!"}},{"$f":"IF(#REF!=19,22,0)","v":{"$error":"#REF!"}},{"$f":"IF(#REF!=20,21,0)","v":{"$error":"#REF!"}},{"$f":"IF(#REF!=21,20,0)","v":{"$error":"#REF!"}},{"$f":"IF(#REF!=22,19,0)","v":{"$error":"#REF!"}},{"$f":"IF(#REF!=23,18,0)","v":{"$error":"#REF!"}},{"$f":"IF(#REF!=24,17,0)","v":{"$error":"#REF!"}},{"$f":"IF(#REF!=25,16,0)","v":{"$error":"#REF!"}},{"$f":"IF(#REF!=26,15,0)","v":{"$error":"#REF!"}},{"$f":"IF(#REF!=27,14,0)","v":{"$error":"#REF!"}},{"$f":"IF(#REF!=28,13,0)","v":{"$error":"#REF!"}},{"$f":"IF(#REF!=29,12,0)","v":{"$error":"#REF!"}},{"$f":"IF(#REF!=30,11,0)","v":{"$error":"#REF!"}},{"$f":"IF(#REF!=31,10,0)","v":{"$error":"#REF!"}},{"$f":"IF(#REF!=32,9,0)","v":{"$error":"#REF!"}},{"$f":"IF(#REF!=33,8,0)","v":{"$error":"#REF!"}},{"$f":"IF(#REF!=34,7,0)","v":{"$error":"#REF!"}},{"$f":"IF(#REF!=35,6,0)","v":{"$error":"#REF!"}},{"$f":"IF(#REF!=36,5,0)","v":{"$error":"#REF!"}},{"$f":"IF(#REF!=37,4,0)","v":{"$error":"#REF!"}},{"$f":"IF(#REF!=38,3,0)","v":{"$error":"#REF!"}},{"$f":"IF(#REF!=39,2,0)","v":{"$error":"#REF!"}},{"$f":"IF(#REF!=40,1,0)","v":{"$error":"#REF!"}},{"$f":"IF(#REF!>20,0,0)","v":{"$error":"#REF!"}},{"$f":"IF(#REF!=\"сх\",0,0)","v":{"$error":"#REF!"}},{"$error":"#REF!"},{"$f":"IF(#REF!=1,45,0)","v":{"$error":"#REF!"}},{"$f":"IF(#REF!=2,42,0)","v":{"$error":"#REF!"}},{"$f":"IF(#REF!=3,40,0)","v":{"$error":"#REF!"}},{"$f":"IF(#REF!=4,38,0)","v":{"$error":"#REF!"}},{"$f":"IF(#REF!=5,36,0)","v":{"$error":"#REF!"}},{"$f":"IF(#REF!=6,35,0)","v":{"$error":"#REF!"}},{"$f":"IF(#REF!=7,34,0)","v":{"$error":"#REF!"}},{"$f":"IF(#REF!=8,33,0)","v":{"$error":"#REF!"}},{"$f":"IF(#REF!=9,32,0)","v":{"$error":"#REF!"}},{"$f":"IF(#REF!=10,31,0)","v":{"$error":"#REF!"}},{"$f":"IF(#REF!=11,30,0)","v":{"$error":"#REF!"}},{"$f":"IF(#REF!=12,29,0)","v":{"$error":"#REF!"}},{"$f":"IF(#REF!=13,28,0)","v":{"$error":"#REF!"}},{"$f":"IF(#REF!=14,27,0)","v":{"$error":"#REF!"}},{"$f":"IF(#REF!=15,26,0)","v":{"$error":"#REF!"}},{"$f":"IF(#REF!=16,25,0)","v":{"$error":"#REF!"}},{"$f":"IF(#REF!=17,24,0)","v":{"$error":"#REF!"}},{"$f":"IF(#REF!=18,23,0)","v":{"$error":"#REF!"}},{"$f":"IF(#REF!=19,22,0)","v":{"$error":"#REF!"}},{"$f":"IF(#REF!=20,21,0)","v":{"$error":"#REF!"}},{"$f":"IF(#REF!=21,20,0)","v":{"$error":"#REF!"}},{"$f":"IF(#REF!=22,19,0)","v":{"$error":"#REF!"}},{"$f":"IF(#REF!=23,18,0)","v":{"$error":"#REF!"}},{"$f":"IF(#REF!=24,17,0)","v":{"$error":"#REF!"}},{"$f":"IF(#REF!=25,16,0)","v":{"$error":"#REF!"}},{"$f":"IF(#REF!=26,15,0)","v":{"$error":"#REF!"}},{"$f":"IF(#REF!=27,14,0)","v":{"$error":"#REF!"}},{"$f":"IF(#REF!=28,13,0)","v":{"$error":"#REF!"}},{"$f":"IF(#REF!=29,12,0)","v":{"$error":"#REF!"}},{"$f":"IF(#REF!=30,11,0)","v":{"$error":"#REF!"}},{"$f":"IF(#REF!=31,10,0)","v":{"$error":"#REF!"}},{"$f":"IF(#REF!=32,9,0)","v":{"$error":"#REF!"}},{"$f":"IF(#REF!=33,8,0)","v":{"$error":"#REF!"}},{"$f":"IF(#REF!=34,7,0)","v":{"$error":"#REF!"}},{"$f":"IF(#REF!=35,6,0)","v":{"$error":"#REF!"}},{"$f":"IF(#REF!=36,5,0)","v":{"$error":"#REF!"}},{"$f":"IF(#REF!=37,4,0)","v":{"$error":"#REF!"}},{"$f":"IF(#REF!=38,3,0)","v":{"$error":"#REF!"}},{"$f":"IF(#REF!=39,2,0)","v":{"$error":"#REF!"}},{"$f":"IF(#REF!=40,1,0)","v":{"$error":"#REF!"}},{"$f":"IF(#REF!>20,0,0)","v":{"$error":"#REF!"}},{"$f":"IF(#REF!=\"сх\",0,0)","v":{"$error":"#REF!"}},{"$error":"#REF!"},null,{"$f":"IF(#REF!=\"сх\",\"ноль\",IF(#REF!>0,#REF!,\"Ноль\"))","v":{"$error":"#REF!"}},{"$f":"IF(#REF!=\"сх\",\"ноль\",IF(#REF!>0,#REF!,\"Ноль\"))","v":{"$error":"#REF!"}},null,{"$error":"#REF!"},{"$f":"IF(Q21=#REF!,IF(#REF!<#REF!,#REF!,FF21),#REF!)","v":{"$error":"#REF!"}},{"$f":"IF(Q21=#REF!,IF(#REF!<#REF!,0,1))","v":{"$error":"#REF!"}},{"$f":"IF(AND(FA21>=21,FA21<>0),FA21,IF(Q21<#REF!,\"СТОП\",FB21+FC21))","v":{"$error":"#REF!"}},null,15,16,null,{"$f":"IF(#REF!=1,25,0)","v":{"$error":"#REF!"}},{"$f":"IF(#REF!=2,22,0)","v":{"$error":"#REF!"}},{"$f":"IF(#REF!=3,20,0)","v":{"$error":"#REF!"}},{"$f":"IF(#REF!=4,18,0)","v":{"$error":"#REF!"}},{"$f":"IF(#REF!=5,16,0)","v":{"$error":"#REF!"}},{"$f":"IF(#REF!=6,15,0)","v":{"$error":"#REF!"}},{"$f":"IF(#REF!=7,14,0)","v":{"$error":"#REF!"}},{"$f":"IF(#REF!=8,13,0)","v":{"$error":"#REF!"}},{"$f":"IF(#REF!=9,12,0)","v":{"$error":"#REF!"}},{"$f":"IF(#REF!=10,11,0)","v":{"$error":"#REF!"}},{"$f":"IF(#REF!=11,10,0)","v":{"$error":"#REF!"}},{"$f":"IF(#REF!=12,9,0)","v":{"$error":"#REF!"}},{"$f":"IF(#REF!=13,8,0)","v":{"$error":"#REF!"}},{"$f":"IF(#REF!=14,7,0)","v":{"$error":"#REF!"}},{"$f":"IF(#REF!=15,6,0)","v":{"$error":"#REF!"}},{"$f":"IF(#REF!=16,5,0)","v":{"$error":"#REF!"}},{"$f":"IF(#REF!=17,4,0)","v":{"$error":"#REF!"}},{"$f":"IF(#REF!=18,3,0)","v":{"$error":"#REF!"}},{"$f":"IF(#REF!=19,2,0)","v":{"$error":"#REF!"}},{"$f":"IF(#REF!=20,1,0)","v":{"$error":"#REF!"}},{"$f":"IF(#REF!>20,0,0)","v":{"$error":"#REF!"}},{"$f":"IF(#REF!=\"сх\",0,0)","v":{"$error":"#REF!"}},{"$error":"#REF!"},{"$f":"IF(#REF!=1,25,0)","v":{"$error":"#REF!"}},{"$f":"IF(#REF!=2,22,0)","v":{"$error":"#REF!"}},{"$f":"IF(#REF!=3,20,0)","v":{"$error":"#REF!"}},{"$f":"IF(#REF!=4,18,0)","v":{"$error":"#REF!"}},{"$f":"IF(#REF!=5,16,0)","v":{"$error":"#REF!"}},{"$f":"IF(#REF!=6,15,0)","v":{"$error":"#REF!"}},{"$f":"IF(#REF!=7,14,0)","v":{"$error":"#REF!"}},{"$f":"IF(#REF!=8,13,0)","v":{"$error":"#REF!"}},{"$f":"IF(#REF!=9,12,0)","v":{"$error":"#REF!"}},{"$f":"IF(#REF!=10,11,0)","v":{"$error":"#REF!"}},{"$f":"IF(#REF!=11,10,0)","v":{"$error":"#REF!"}},{"$f":"IF(#REF!=12,9,0)","v":{"$error":"#REF!"}},{"$f":"IF(#REF!=13,8,0)","v":{"$error":"#REF!"}},{"$f":"IF(#REF!=14,7,0)","v":{"$error":"#REF!"}},{"$f":"IF(#REF!=15,6,0)","v":{"$error":"#REF!"}},{"$f":"IF(#REF!=16,5,0)","v":{"$error":"#REF!"}},{"$f":"IF(#REF!=17,4,0)","v":{"$error":"#REF!"}},{"$f":"IF(#REF!=18,3,0)","v":{"$error":"#REF!"}},{"$f":"IF(#REF!=19,2,0)","v":{"$error":"#REF!"}},{"$f":"IF(#REF!=20,1,0)","v":{"$error":"#REF!"}},{"$f":"IF(#REF!>20,0,0)","v":{"$error":"#REF!"}},{"$f":"IF(#REF!=\"сх\",0,0)","v":{"$error":"#REF!"}},{"$error":"#REF!"},{"$f":"IF(#REF!=1,100,0)","v":{"$error":"#REF!"}},{"$f":"IF(#REF!=2,98,0)","v":{"$error":"#REF!"}},{"$f":"IF(#REF!=3,95,0)","v":{"$error":"#REF!"}},{"$f":"IF(#REF!=4,93,0)","v":{"$error":"#REF!"}},{"$f":"IF(#REF!=5,90,0)","v":{"$error":"#REF!"}},{"$f":"IF(#REF!=6,88,0)","v":{"$error":"#REF!"}},{"$f":"IF(#REF!=7,85,0)","v":{"$error":"#REF!"}},{"$f":"IF(#REF!=8,83,0)","v":{"$error":"#REF!"}},{"$f":"IF(#REF!=9,80,0)","v":{"$error":"#REF!"}},{"$f":"IF(#REF!=10,78,0)","v":{"$error":"#REF!"}},{"$f":"IF(#REF!=11,75,0)","v":{"$error":"#REF!"}},{"$f":"IF(#REF!=12,73,0)","v":{"$error":"#REF!"}},{"$f":"IF(#REF!=13,70,0)","v":{"$error":"#REF!"}},{"$f":"IF(#REF!=14,68,0)","v":{"$error":"#REF!"}},{"$f":"IF(#REF!=15,65,0)","v":{"$error":"#REF!"}},{"$f":"IF(#REF!=16,63,0)","v":{"$error":"#REF!"}},{"$f":"IF(#REF!=17,60,0)","v":{"$error":"#REF!"}},{"$f":"IF(#REF!=18,58,0)","v":{"$error":"#REF!"}},{"$f":"IF(#REF!=19,55,0)","v":{"$error":"#REF!"}},{"$f":"IF(#REF!=20,53,0)","v":{"$error":"#REF!"}},{"$f":"IF(#REF!>20,0,0)","v":{"$error":"#REF!"}},{"$f":"IF(#REF!=\"сх\",0,0)","v":{"$error":"#REF!"}},{"$error":"#REF!"},{"$f":"IF(#REF!=1,100,0)","v":{"$error":"#REF!"}},{"$f":"IF(#REF!=2,98,0)","v":{"$error":"#REF!"}},{"$f":"IF(#REF!=3,95,0)","v":{"$error":"#REF!"}},{"$f":"IF(#REF!=4,93,0)","v":{"$error":"#REF!"}},{"$f":"IF(#REF!=5,90,0)","v":{"$error":"#REF!"}},{"$f":"IF(#REF!=6,88,0)","v":{"$error":"#REF!"}},{"$f":"IF(#REF!=7,85,0)","v":{"$error":"#REF!"}},{"$f":"IF(#REF!=8,83,0)","v":{"$error":"#REF!"}},{"$f":"IF(#REF!=9,80,0)","v":{"$error":"#REF!"}},{"$f":"IF(#REF!=10,78,0)","v":{"$error":"#REF!"}},{"$f":"IF(#REF!=11,75,0)","v":{"$error":"#REF!"}},{"$f":"IF(#REF!=12,73,0)","v":{"$error":"#REF!"}},{"$f":"IF(#REF!=13,70,0)","v":{"$error":"#REF!"}},{"$f":"IF(#REF!=14,68,0)","v":{"$error":"#REF!"}},{"$f":"IF(#REF!=15,65,0)","v":{"$error":"#REF!"}},{"$f":"IF(#REF!=16,63,0)","v":{"$error":"#REF!"}},{"$f":"IF(#REF!=17,60,0)","v":{"$error":"#REF!"}},{"$f":"IF(#REF!=18,58,0)","v":{"$error":"#REF!"}},{"$f":"IF(#REF!=19,55,0)","v":{"$error":"#REF!"}},{"$f":"IF(#REF!=20,53,0)","v":{"$error":"#REF!"}},{"$f":"IF(#REF!>20,0,0)","v":{"$error":"#REF!"}},{"$f":"IF(#REF!=\"сх\",0,0)","v":{"$error":"#REF!"}},{"$error":"#REF!"}]
[]
[]
[]
["Главный судья соревнований"]
["судья Всероссийской категории:                                                                                                              А. Б. Стеблинский (г. Тюмень; лицензия МФР А 144)"]
[]
["Главный секретарь соревнований"]
["судья Всероссийской категории:                                                                                              А. Ю. Иванов (г. Москва/лицензия МФР А 105; FIM 11245)"]