{"text_format":"1","workbook":"xlsx","n_sheets":8,"sheets":["ЮНИОРЫ ЯНАО","ВЗРОСЛЫЕ ЯНАО","СПОРТ ЯНАО","ЛЮБИТЕЛИ ЯНАО","Мальчики 1","Мальчики 2","Мальчики 3","ШАБЛОН"],"not_rendered":{"charts":0,"images":6,"macros":1,"external_links":0,"defined_names":8,"comments":0,"pivot_tables":0},"unopened":[],"bounds":{"document_bytes":16777216,"sheet_cells":100000,"rows_first":2000,"rows_last":500,"rows_between":2000,"halvings":0,"cell_chars":16384,"cell_head_chars":4096},"cells_cut":0,"cells_raw":0,"read":"whole","date_system":"1900"}

{"sheet":"ЮНИОРЫ ЯНАО","index":0,"n_rows":35,"n_cols":271,"rows_kept":35,"cut":false,"hidden":false,"merged":[[33,0,33,7],[6,1,8,1],[6,2,8,2],[6,3,8,3],[6,4,8,4],[30,0,30,7],[6,21,6,22],[6,23,6,24],[6,25,6,26],[7,21,8,21],[7,22,8,22],[7,23,8,23],[7,24,8,24],[7,25,8,25],[7,26,8,26],[0,28,3,28],[3,0,3,27],[4,0,4,27],[6,0,8,0],[6,5,8,5],[6,6,8,6],[6,7,8,7],[6,27,8,27],[6,28,8,28],[6,19,6,20],[7,19,8,19],[7,20,8,20],[5,11,5,14],[5,15,5,20],[6,15,6,16],[5,21,5,26],[6,17,6,18],[1,0,1,27],[2,0,2,27],[6,8,8,8],[6,9,8,9],[6,10,8,10],[6,11,6,12],[7,15,8,15],[7,16,8,16],[7,17,8,17],[7,18,8,18],[7,11,8,11],[7,12,8,12],[7,13,8,13],[7,14,8,14],[6,13,6,14]]}
[]
["Кубок Ямало-Ненецкого АО по кроссу на снегоходах 2016/2017 года            "]
["СВОДНЫЙ ПРОТОКОЛ  ЛИЧНОГО  ЗАЧЕТА по сумме 3-х этапов.",null,null,null,null,null,null,null,null,null,null,null,null,null,null,null,null,null,null,null,null,null,null,null,null,null,null,null,null,null,null,null,null,null,null,null,null,null,null,null,null,null,null,null,null,null,null,null,null,null,null,null,null,null,null,null,null,null,null,null,null,null,null,null,null,null,null,null,null,null,null,null,null,null,null,null,null,null,null,null,null,null,null,null,null,null,null,null,null,null,null,null,null,null,null,null,null,null,null,null,null,null,null,null,null,null,null,null,null,null,null,null,null,null,null,null,null,null,null,null,null,null,null,null,null,null,null,null,null,null,null,null,null,null,null,null,null,null,null,null,null,null,null,null,null,null,null,null,null,null,null,null,null,null,null,null,null,null,null,null,null,null,null,null,null,null,null,null,null,null,null,null,null,null,null,null,null,null,null,null,null,null,null,null,null,null,null,"первый этап"]
["1-й этап: 03 - 04 декабря 2016 года - г. Новый Уренгой, Ямало-Ненецкий АО; 2-й этап: 24 - 26 марта 2017 года - г. Муравленко, Ямало-Ненецкий АО; 3-й этап: 31 марта - 02 апреля 2017 года - г. Новый Уренгой, Ямало-Ненецкий АО.                                                                         ",null,null,null,null,null,null,null,null,null,null,null,null,null,null,null,null,null,null,null,null,null,null,null,null,null,null,null,null,null,null,null,null,null,null,null,null,null,null,null,null,null,null,null,null,null,null,null,null,null,null,null,null,null,null,null,null,null,null,null,null,null,null,null,null,null,null,null,null,null,null,null,null,null,null,null,null,null,null,null,null,null,null,null,null,null,null,null,null,null,null,null,null,null,null,null,null,null,null,null,null,null,null,null,null,null,null,null,null,null,null,null,null,null,null,null,null,null,null,null,null,null,null,null,null,null,null,null,null,null,null,null,null,null,null,null,null,null,null,null,null,null,null,null,null,null,null,null,null,null,null,null,null,null,null,null,null,null,null,null,null,null,null,null,null,null,null,null,null,null,null,null,null,null,null,null,"первый заезд личные очки",null,null,null,null,null,null,null,null,null,null,null,null,null,null,null,null,null,null,null,null,null,"второй заезд личные очки",null,null,null,null,null,null,null,null,null,null,null,null,null,null,null,null,null,null,null,null,null,null,"Первый заезд командные очки",null,null,null,null,null,null,null,null,null,null,null,null,null,null,null,null,null,null,null,null,null,null,"Второй заезд командные очки"]
["Класс \"ЮНИОРЫ\" (0910203811А).",null,null,null,null,null,null,null,null,null,null,null,null,null,null,null,null,null,null,null,null,null,null,null,null,null,null,null,null,null,null,null,null,null,null,null,null,null,null,null,null,null,null,null,null,null,null,null,null,null,null,null,null,null,null,null,null,null,null,null,null,null,null,null,null,null,null,null,null,null,null,null,null,null,null,null,null,null,null,null,null,null,null,null,null,null,null,null,null,null,null,null,null,null,null,null,null,null,null,null,null,null,null,null,null,null,null,null,null,null,null,null,null,null,null,null,null,null,null,null,null,null,null,null,null,null,null,null,null,null,null,null,null,null,null,null,null,null,null,null,null,null,null,null,null,null,null,null,null,null,null,null,null,null,null,null,null,null,null,null,null,null,null,null,null,null,null,null,null,null,null,null,null,null,null,1,2,3,4,5,6,7,8,9,10,11,12,13,14,15,16,17,18,19,20,21,"сх","Sym",1,2,3,4,5,6,7,8,9,10,11,12,13,14,15,16,17,18,19,20,21,"cx","sym",1,2,3,4,5,6,7,8,9,10,11,12,13,14,15,16,17,18,19,20,21,"сх","очки",1,2,3,4,5,6,7,8,9,10,11,12,13,14,15,16,17,18,19,20,21,"сх","очки",{"$f":"COUNT(FT5:JG5)","v":84},"Н. Стро","В. стро","место"]
[null,null,null,null,null,null,null,null,null,null,null,"1-й этап",null,null,null,"2-й этап",null,null,null,null,null,"3-й этап"]
["Место","СУММА РЕЙТИНГОВЫЕ ОЧКИ","1-й этап РЕЙТИНГОВЫЕ ОЧКИ Коэф. 0,3","2-й этап РЕЙТИНГОВЫЕ ОЧКИ Коэф. 0,3","3-й этап РЕЙТИНГОВЫЕ ОЧКИ Коэф. 0,3","Ст. №","Фамилия, Имя","Раз  ряд","Город (край, район, область)","Команда","Мото","I-й заезд",null,"II-й заезд",null,"I-й заезд",null,"II-й заезд",null,"III-й заезд",null,"I-й заезд",null,"II-й заезд",null,"III-й заезд",null,"Сумма очков              в личном зачете","Сумма очк. в командном зачете"]
[null,null,null,null,null,null,null,null,null,null,null,"место","лич. Очки.","место","лич. Очки.","место","лич. Очки.","место","лич. Очки.","место","лич. Очки.","место","лич. Очки.","место","лич. Очки.","место","лич. Очки.",null,null,null,null,null,"первый заезд личные очки",null,null,null,null,null,null,null,null,null,null,null,null,null,null,null,null,null,null,null,null,null,"второй заезд личные очки",null,null,null,null,null,null,null,null,null,null,null,null,null,null,null,null,null,null,null,null,null,null,"Первый заезд командные очки",null,null,null,null,null,null,null,null,null,null,null,null,null,null,null,null,null,null,null,null,null,null,null,null,null,null,null,null,null,null,null,null,null,null,null,null,null,null,null,null,null,null,"Второй заезд командные очки",null,null,null,null,null,null,null,null,null,null,null,null,null,null,null,null,null,null,null,null,null,null,null,null,null,null,null,null,null,null,null,null,null,null,null,null,null,null,null,null,null,null,null,1,2,null,null,null,null,null,null,null,null,null,null,null,null,null,null,null,null,null,null,null,null,null,"первый этап"]
[null,null,null,null,null,null,null,null,null,null,null,null,null,null,null,null,null,null,null,null,null,null,null,null,null,null,null,null,null,null,null,1,2,3,4,5,6,7,8,9,10,11,12,13,14,15,16,17,18,19,20,21,"сх",null,1,2,3,4,5,6,7,8,9,10,11,12,13,14,15,16,17,18,19,20,null,"cx",null,1,2,3,4,5,6,7,8,9,10,11,12,13,14,15,16,17,18,19,20,21,22,23,24,25,26,27,28,29,30,31,32,33,34,35,36,37,38,39,40,null,null,null,1,2,3,4,5,6,7,8,9,10,11,12,13,14,15,16,17,18,19,20,21,22,23,24,25,26,27,28,29,30,31,32,33,34,35,36,37,38,39,40,null,null,null,null,null,null,null,"мин","Н. Стро","В. стро","место",null,"чр1","чр2",null,null,"первый заезд личные очки",null,null,null,null,null,null,null,null,null,null,null,null,null,null,null,null,null,null,null,null,null,"второй заезд личные очки",null,null,null,null,null,null,null,null,null,null,null,null,null,null,null,null,null,null,null,null,null,null,"Первый заезд командные очки",null,null,null,null,null,null,null,null,null,null,null,null,null,null,null,null,null,null,null,null,null,null,"Второй заезд командные очки"]
[1,{"$f":"SUM(C10+D10+E10)","v":45},15,15,15,10,"Колегов Михаил","II","г. Новый Уренгой, Ямало-Ненецкий АО","СТК \"Ямбург\"","LYNX",1,25,"-",0,1,25,1,25,"-",0,1,25,1,25,1,25,{"$f":"SUM(M10+O10+Q10+S10+U10+W10+Y10+AA10)","v":150},{"$f":"M10+O10","v":25},null,null,{"$f":"IF(L10=1,25,0)","v":25},{"$f":"IF(L10=2,22,0)","v":0},{"$f":"IF(L10=3,20,0)","v":0},{"$f":"IF(L10=4,18,0)","v":0},{"$f":"IF(L10=5,16,0)","v":0},{"$f":"IF(L10=6,15,0)","v":0},{"$f":"IF(L10=7,14,0)","v":0},{"$f":"IF(L10=8,13,0)","v":0},{"$f":"IF(L10=9,12,0)","v":0},{"$f":"IF(L10=10,11,0)","v":0},{"$f":"IF(L10=11,10,0)","v":0},{"$f":"IF(L10=12,9,0)","v":0},{"$f":"IF(L10=13,8,0)","v":0},{"$f":"IF(L10=14,7,0)","v":0},{"$f":"IF(L10=15,6,0)","v":0},{"$f":"IF(L10=16,5,0)","v":0},{"$f":"IF(L10=17,4,0)","v":0},{"$f":"IF(L10=18,3,0)","v":0},{"$f":"IF(L10=19,2,0)","v":0},{"$f":"IF(L10=20,1,0)","v":0},{"$f":"IF(L10>20,0,0)","v":0},{"$f":"IF(L10=\"сх\",0,0)","v":0},{"$f":"SUM(AF10:AZ10)","v":25},{"$f":"IF(N10=1,25,0)","v":0},{"$f":"IF(N10=2,22,0)","v":0},{"$f":"IF(N10=3,20,0)","v":0},{"$f":"IF(N10=4,18,0)","v":0},{"$f":"IF(N10=5,16,0)","v":0},{"$f":"IF(N10=6,15,0)","v":0},{"$f":"IF(N10=7,14,0)","v":0},{"$f":"IF(N10=8,13,0)","v":0},{"$f":"IF(N10=9,12,0)","v":0},{"$f":"IF(N10=10,11,0)","v":0},{"$f":"IF(N10=11,10,0)","v":0},{"$f":"IF(N10=12,9,0)","v":0},{"$f":"IF(N10=13,8,0)","v":0},{"$f":"IF(N10=14,7,0)","v":0},{"$f":"IF(N10=15,6,0)","v":0},{"$f":"IF(N10=16,5,0)","v":0},{"$f":"IF(N10=17,4,0)","v":0},{"$f":"IF(N10=18,3,0)","v":0},{"$f":"IF(N10=19,2,0)","v":0},{"$f":"IF(N10=20,1,0)","v":0},{"$f":"IF(N10>20,0,0)","v":0},{"$f":"IF(N10=\"сх\",0,0)","v":0},{"$f":"SUM(BC10:BW10)","v":0},{"$f":"IF(L10=1,45,0)","v":45},{"$f":"IF(L10=2,42,0)","v":0},{"$f":"IF(L10=3,40,0)","v":0},{"$f":"IF(L10=4,38,0)","v":0},{"$f":"IF(L10=5,36,0)","v":0},{"$f":"IF(L10=6,35,0)","v":0},{"$f":"IF(L10=7,34,0)","v":0},{"$f":"IF(L10=8,33,0)","v":0},{"$f":"IF(L10=9,32,0)","v":0},{"$f":"IF(L10=10,31,0)","v":0},{"$f":"IF(L10=11,30,0)","v":0},{"$f":"IF(L10=12,29,0)","v":0},{"$f":"IF(L10=13,28,0)","v":0},{"$f":"IF(L10=14,27,0)","v":0},{"$f":"IF(L10=15,26,0)","v":0},{"$f":"IF(L10=16,25,0)","v":0},{"$f":"IF(L10=17,24,0)","v":0},{"$f":"IF(L10=18,23,0)","v":0},{"$f":"IF(L10=19,22,0)","v":0},{"$f":"IF(L10=20,21,0)","v":0},{"$f":"IF(L10=21,20,0)","v":0},{"$f":"IF(L10=22,19,0)","v":0},{"$f":"IF(L10=23,18,0)","v":0},{"$f":"IF(L10=24,17,0)","v":0},{"$f":"IF(L10=25,16,0)","v":0},{"$f":"IF(L10=26,15,0)","v":0},{"$f":"IF(L10=27,14,0)","v":0},{"$f":"IF(L10=28,13,0)","v":0},{"$f":"IF(L10=29,12,0)","v":0},{"$f":"IF(L10=30,11,0)","v":0},{"$f":"IF(L10=31,10,0)","v":0},{"$f":"IF(L10=32,9,0)","v":0},{"$f":"IF(L10=33,8,0)","v":0},{"$f":"IF(L10=34,7,0)","v":0},{"$f":"IF(L10=35,6,0)","v":0},{"$f":"IF(L10=36,5,0)","v":0},{"$f":"IF(L10=37,4,0)","v":0},{"$f":"IF(L10=38,3,0)","v":0},{"$f":"IF(L10=39,2,0)","v":0},{"$f":"IF(L10=40,1,0)","v":0},{"$f":"IF(L10>20,0,0)","v":0},{"$f":"IF(L10=\"сх\",0,0)","v":0},{"$f":"SUM(BZ10:DO10)","v":45},{"$f":"IF(N10=1,45,0)","v":0},{"$f":"IF(N10=2,42,0)","v":0},{"$f":"IF(N10=3,40,0)","v":0},{"$f":"IF(N10=4,38,0)","v":0},{"$f":"IF(N10=5,36,0)","v":0},{"$f":"IF(N10=6,35,0)","v":0},{"$f":"IF(N10=7,34,0)","v":0},{"$f":"IF(N10=8,33,0)","v":0},{"$f":"IF(N10=9,32,0)","v":0},{"$f":"IF(N10=10,31,0)","v":0},{"$f":"IF(N10=11,30,0)","v":0},{"$f":"IF(N10=12,29,0)","v":0},{"$f":"IF(N10=13,28,0)","v":0},{"$f":"IF(N10=14,27,0)","v":0},{"$f":"IF(N10=15,26,0)","v":0},{"$f":"IF(N10=16,25,0)","v":0},{"$f":"IF(N10=17,24,0)","v":0},{"$f":"IF(N10=18,23,0)","v":0},{"$f":"IF(N10=19,22,0)","v":0},{"$f":"IF(N10=20,21,0)","v":0},{"$f":"IF(N10=21,20,0)","v":0},{"$f":"IF(N10=22,19,0)","v":0},{"$f":"IF(N10=23,18,0)","v":0},{"$f":"IF(N10=24,17,0)","v":0},{"$f":"IF(N10=25,16,0)","v":0},{"$f":"IF(N10=26,15,0)","v":0},{"$f":"IF(N10=27,14,0)","v":0},{"$f":"IF(N10=28,13,0)","v":0},{"$f":"IF(N10=29,12,0)","v":0},{"$f":"IF(N10=30,11,0)","v":0},{"$f":"IF(N10=31,10,0)","v":0},{"$f":"IF(N10=32,9,0)","v":0},{"$f":"IF(N10=33,8,0)","v":0},{"$f":"IF(N10=34,7,0)","v":0},{"$f":"IF(N10=35,6,0)","v":0},{"$f":"IF(N10=36,5,0)","v":0},{"$f":"IF(N10=37,4,0)","v":0},{"$f":"IF(N10=38,3,0)","v":0},{"$f":"IF(N10=39,2,0)","v":0},{"$f":"IF(N10=40,1,0)","v":0},{"$f":"IF(N10>20,0,0)","v":0},{"$f":"IF(N10=\"сх\",0,0)","v":0},{"$f":"SUM(DQ10:FF10)","v":0},null,{"$f":"IF(L10=\"сх\",\"ноль\",IF(L10>0,L10,\"Ноль\"))","v":1},{"$f":"IF(N10=\"сх\",\"ноль\",IF(N10>0,N10,\"Ноль\"))","v":"-"},null,{"$f":"MIN(FI10,FJ10)","v":1},{"$f":"IF(AB10=#REF!,IF(N10<#REF!,#REF!,FQ10),#REF!)","v":{"$error":"#REF!"}},{"$f":"IF(AB10=#REF!,IF(N10<#REF!,0,1))","v":{"$error":"#REF!"}},{"$f":"IF(AND(FL10>=21,FL10<>0),FL10,IF(AB10<#REF!,\"СТОП\",FM10+FN10))","v":{"$error":"#REF!"}},null,15,16,null,{"$f":"IF(L10=1,25,0)","v":25},{"$f":"IF(L10=2,22,0)","v":0},{"$f":"IF(L10=3,20,0)","v":0},{"$f":"IF(L10=4,18,0)","v":0},{"$f":"IF(L10=5,16,0)","v":0},{"$f":"IF(L10=6,15,0)","v":0},{"$f":"IF(L10=7,14,0)","v":0},{"$f":"IF(L10=8,13,0)","v":0},{"$f":"IF(L10=9,12,0)","v":0},{"$f":"IF(L10=10,11,0)","v":0},{"$f":"IF(L10=11,10,0)","v":0},{"$f":"IF(L10=12,9,0)","v":0},{"$f":"IF(L10=13,8,0)","v":0},{"$f":"IF(L10=14,7,0)","v":0},{"$f":"IF(L10=15,6,0)","v":0},{"$f":"IF(L10=16,5,0)","v":0},{"$f":"IF(L10=17,4,0)","v":0},{"$f":"IF(L10=18,3,0)","v":0},{"$f":"IF(L10=19,2,0)","v":0},{"$f":"IF(L10=20,1,0)","v":0},{"$f":"IF(L10>20,0,0)","v":0},{"$f":"IF(L10=\"сх\",0,0)","v":0},{"$f":"SUM(FT10:GO10)","v":25},{"$f":"IF(N10=1,25,0)","v":0},{"$f":"IF(N10=2,22,0)","v":0},{"$f":"IF(N10=3,20,0)","v":0},{"$f":"IF(N10=4,18,0)","v":0},{"$f":"IF(N10=5,16,0)","v":0},{"$f":"IF(N10=6,15,0)","v":0},{"$f":"IF(N10=7,14,0)","v":0},{"$f":"IF(N10=8,13,0)","v":0},{"$f":"IF(N10=9,12,0)","v":0},{"$f":"IF(N10=10,11,0)","v":0},{"$f":"IF(N10=11,10,0)","v":0},{"$f":"IF(N10=12,9,0)","v":0},{"$f":"IF(N10=13,8,0)","v":0},{"$f":"IF(N10=14,7,0)","v":0},{"$f":"IF(N10=15,6,0)","v":0},{"$f":"IF(N10=16,5,0)","v":0},{"$f":"IF(N10=17,4,0)","v":0},{"$f":"IF(N10=18,3,0)","v":0},{"$f":"IF(N10=19,2,0)","v":0},{"$f":"IF(N10=20,1,0)","v":0},{"$f":"IF(N10>20,0,0)","v":0},{"$f":"IF(N10=\"сх\",0,0)","v":0},{"$f":"SUM(GQ10:HL10)","v":0},{"$f":"IF(L10=1,100,0)","v":100},{"$f":"IF(L10=2,98,0)","v":0},{"$f":"IF(L10=3,95,0)","v":0},{"$f":"IF(L10=4,93,0)","v":0},{"$f":"IF(L10=5,90,0)","v":0},{"$f":"IF(L10=6,88,0)","v":0},{"$f":"IF(L10=7,85,0)","v":0},{"$f":"IF(L10=8,83,0)","v":0},{"$f":"IF(L10=9,80,0)","v":0},{"$f":"IF(L10=10,78,0)","v":0},{"$f":"IF(L10=11,75,0)","v":0},{"$f":"IF(L10=12,73,0)","v":0},{"$f":"IF(L10=13,70,0)","v":0},{"$f":"IF(L10=14,68,0)","v":0},{"$f":"IF(L10=15,65,0)","v":0},{"$f":"IF(L10=16,63,0)","v":0},{"$f":"IF(L10=17,60,0)","v":0},{"$f":"IF(L10=18,58,0)","v":0},{"$f":"IF(L10=19,55,0)","v":0},{"$f":"IF(L10=20,53,0)","v":0},{"$f":"IF(L10>20,0,0)","v":0},{"$f":"IF(L10=\"сх\",0,0)","v":0},{"$f":"SUM(HN10:II10)","v":100},{"$f":"IF(N10=1,100,0)","v":0},{"$f":"IF(N10=2,98,0)","v":0},{"$f":"IF(N10=3,95,0)","v":0},{"$f":"IF(N10=4,93,0)","v":0},{"$f":"IF(N10=5,90,0)","v":0},{"$f":"IF(N10=6,88,0)","v":0},{"$f":"IF(N10=7,85,0)","v":0},{"$f":"IF(N10=8,83,0)","v":0},{"$f":"IF(N10=9,80,0)","v":0},{"$f":"IF(N10=10,78,0)","v":0},{"$f":"IF(N10=11,75,0)","v":0},{"$f":"IF(N10=12,73,0)","v":0},{"$f":"IF(N10=13,70,0)","v":0},{"$f":"IF(N10=14,68,0)","v":0},{"$f":"IF(N10=15,65,0)","v":0},{"$f":"IF(N10=16,63,0)","v":0},{"$f":"IF(N10=17,60,0)","v":0},{"$f":"IF(N10=18,58,0)","v":0},{"$f":"IF(N10=19,55,0)","v":0},{"$f":"IF(N10=20,53,0)","v":0},{"$f":"IF(N10>20,0,0)","v":0},{"$f":"IF(N10=\"сх\",0,0)","v":0},{"$f":"SUM(IK10:JF10)","v":0}]
[2,42.3,14.4,14.4,13.5,14,"Довбуш Евгений","I","г. Новый Уренгой, Ямало-Ненецкий АО","СТК \"Факел\"","LYNX",2,22,"-",0,3,20,2,22,"-",0,11,10,3,20,3,20,114,{"$f":"M11+O11","v":22},null,null,{"$f":"IF(L11=1,25,0)","v":0},{"$f":"IF(L11=2,22,0)","v":22},{"$f":"IF(L11=3,20,0)","v":0},{"$f":"IF(L11=4,18,0)","v":0},{"$f":"IF(L11=5,16,0)","v":0},{"$f":"IF(L11=6,15,0)","v":0},{"$f":"IF(L11=7,14,0)","v":0},{"$f":"IF(L11=8,13,0)","v":0},{"$f":"IF(L11=9,12,0)","v":0},{"$f":"IF(L11=10,11,0)","v":0},{"$f":"IF(L11=11,10,0)","v":0},{"$f":"IF(L11=12,9,0)","v":0},{"$f":"IF(L11=13,8,0)","v":0},{"$f":"IF(L11=14,7,0)","v":0},{"$f":"IF(L11=15,6,0)","v":0},{"$f":"IF(L11=16,5,0)","v":0},{"$f":"IF(L11=17,4,0)","v":0},{"$f":"IF(L11=18,3,0)","v":0},{"$f":"IF(L11=19,2,0)","v":0},{"$f":"IF(L11=20,1,0)","v":0},{"$f":"IF(L11>20,0,0)","v":0},{"$f":"IF(L11=\"сх\",0,0)","v":0},22,{"$f":"IF(N11=1,25,0)","v":0},{"$f":"IF(N11=2,22,0)","v":0},{"$f":"IF(N11=3,20,0)","v":0},{"$f":"IF(N11=4,18,0)","v":0},{"$f":"IF(N11=5,16,0)","v":0},{"$f":"IF(N11=6,15,0)","v":0},{"$f":"IF(N11=7,14,0)","v":0},{"$f":"IF(N11=8,13,0)","v":0},{"$f":"IF(N11=9,12,0)","v":0},{"$f":"IF(N11=10,11,0)","v":0},{"$f":"IF(N11=11,10,0)","v":0},{"$f":"IF(N11=12,9,0)","v":0},{"$f":"IF(N11=13,8,0)","v":0},{"$f":"IF(N11=14,7,0)","v":0},{"$f":"IF(N11=15,6,0)","v":0},{"$f":"IF(N11=16,5,0)","v":0},{"$f":"IF(N11=17,4,0)","v":0},{"$f":"IF(N11=18,3,0)","v":0},{"$f":"IF(N11=19,2,0)","v":0},{"$f":"IF(N11=20,1,0)","v":0},{"$f":"IF(N11>20,0,0)","v":0},{"$f":"IF(N11=\"сх\",0,0)","v":0},0,{"$f":"IF(L11=1,45,0)","v":0},{"$f":"IF(L11=2,42,0)","v":42},{"$f":"IF(L11=3,40,0)","v":0},{"$f":"IF(L11=4,38,0)","v":0},{"$f":"IF(L11=5,36,0)","v":0},{"$f":"IF(L11=6,35,0)","v":0},{"$f":"IF(L11=7,34,0)","v":0},{"$f":"IF(L11=8,33,0)","v":0},{"$f":"IF(L11=9,32,0)","v":0},{"$f":"IF(L11=10,31,0)","v":0},{"$f":"IF(L11=11,30,0)","v":0},{"$f":"IF(L11=12,29,0)","v":0},{"$f":"IF(L11=13,28,0)","v":0},{"$f":"IF(L11=14,27,0)","v":0},{"$f":"IF(L11=15,26,0)","v":0},{"$f":"IF(L11=16,25,0)","v":0},{"$f":"IF(L11=17,24,0)","v":0},{"$f":"IF(L11=18,23,0)","v":0},{"$f":"IF(L11=19,22,0)","v":0},{"$f":"IF(L11=20,21,0)","v":0},{"$f":"IF(L11=21,20,0)","v":0},{"$f":"IF(L11=22,19,0)","v":0},{"$f":"IF(L11=23,18,0)","v":0},{"$f":"IF(L11=24,17,0)","v":0},{"$f":"IF(L11=25,16,0)","v":0},{"$f":"IF(L11=26,15,0)","v":0},{"$f":"IF(L11=27,14,0)","v":0},{"$f":"IF(L11=28,13,0)","v":0},{"$f":"IF(L11=29,12,0)","v":0},{"$f":"IF(L11=30,11,0)","v":0},{"$f":"IF(L11=31,10,0)","v":0},{"$f":"IF(L11=32,9,0)","v":0},{"$f":"IF(L11=33,8,0)","v":0},{"$f":"IF(L11=34,7,0)","v":0},{"$f":"IF(L11=35,6,0)","v":0},{"$f":"IF(L11=36,5,0)","v":0},{"$f":"IF(L11=37,4,0)","v":0},{"$f":"IF(L11=38,3,0)","v":0},{"$f":"IF(L11=39,2,0)","v":0},{"$f":"IF(L11=40,1,0)","v":0},{"$f":"IF(L11>20,0,0)","v":0},{"$f":"IF(L11=\"сх\",0,0)","v":0},42,{"$f":"IF(N11=1,45,0)","v":0},{"$f":"IF(N11=2,42,0)","v":0},{"$f":"IF(N11=3,40,0)","v":0},{"$f":"IF(N11=4,38,0)","v":0},{"$f":"IF(N11=5,36,0)","v":0},{"$f":"IF(N11=6,35,0)","v":0},{"$f":"IF(N11=7,34,0)","v":0},{"$f":"IF(N11=8,33,0)","v":0},{"$f":"IF(N11=9,32,0)","v":0},{"$f":"IF(N11=10,31,0)","v":0},{"$f":"IF(N11=11,30,0)","v":0},{"$f":"IF(N11=12,29,0)","v":0},{"$f":"IF(N11=13,28,0)","v":0},{"$f":"IF(N11=14,27,0)","v":0},{"$f":"IF(N11=15,26,0)","v":0},{"$f":"IF(N11=16,25,0)","v":0},{"$f":"IF(N11=17,24,0)","v":0},{"$f":"IF(N11=18,23,0)","v":0},{"$f":"IF(N11=19,22,0)","v":0},{"$f":"IF(N11=20,21,0)","v":0},{"$f":"IF(N11=21,20,0)","v":0},{"$f":"IF(N11=22,19,0)","v":0},{"$f":"IF(N11=23,18,0)","v":0},{"$f":"IF(N11=24,17,0)","v":0},{"$f":"IF(N11=25,16,0)","v":0},{"$f":"IF(N11=26,15,0)","v":0},{"$f":"IF(N11=27,14,0)","v":0},{"$f":"IF(N11=28,13,0)","v":0},{"$f":"IF(N11=29,12,0)","v":0},{"$f":"IF(N11=30,11,0)","v":0},{"$f":"IF(N11=31,10,0)","v":0},{"$f":"IF(N11=32,9,0)","v":0},{"$f":"IF(N11=33,8,0)","v":0},{"$f":"IF(N11=34,7,0)","v":0},{"$f":"IF(N11=35,6,0)","v":0},{"$f":"IF(N11=36,5,0)","v":0},{"$f":"IF(N11=37,4,0)","v":0},{"$f":"IF(N11=38,3,0)","v":0},{"$f":"IF(N11=39,2,0)","v":0},{"$f":"IF(N11=40,1,0)","v":0},{"$f":"IF(N11>20,0,0)","v":0},{"$f":"IF(N11=\"сх\",0,0)","v":0},0,null,{"$f":"IF(L11=\"сх\",\"ноль\",IF(L11>0,L11,\"Ноль\"))","v":2},{"$f":"IF(N11=\"сх\",\"ноль\",IF(N11>0,N11,\"Ноль\"))","v":"-"},null,2,{"$f":"IF(AB11=#REF!,IF(N11<#REF!,#REF!,FQ11),#REF!)","v":{"$error":"#REF!"}},{"$f":"IF(AB11=#REF!,IF(N11<#REF!,0,1))","v":{"$error":"#REF!"}},{"$f":"IF(AND(FL11>=21,FL11<>0),FL11,IF(AB11<#REF!,\"СТОП\",FM11+FN11))","v":{"$error":"#REF!"}},null,15,16,null,{"$f":"IF(L11=1,25,0)","v":0},{"$f":"IF(L11=2,22,0)","v":22},{"$f":"IF(L11=3,20,0)","v":0},{"$f":"IF(L11=4,18,0)","v":0},{"$f":"IF(L11=5,16,0)","v":0},{"$f":"IF(L11=6,15,0)","v":0},{"$f":"IF(L11=7,14,0)","v":0},{"$f":"IF(L11=8,13,0)","v":0},{"$f":"IF(L11=9,12,0)","v":0},{"$f":"IF(L11=10,11,0)","v":0},{"$f":"IF(L11=11,10,0)","v":0},{"$f":"IF(L11=12,9,0)","v":0},{"$f":"IF(L11=13,8,0)","v":0},{"$f":"IF(L11=14,7,0)","v":0},{"$f":"IF(L11=15,6,0)","v":0},{"$f":"IF(L11=16,5,0)","v":0},{"$f":"IF(L11=17,4,0)","v":0},{"$f":"IF(L11=18,3,0)","v":0},{"$f":"IF(L11=19,2,0)","v":0},{"$f":"IF(L11=20,1,0)","v":0},{"$f":"IF(L11>20,0,0)","v":0},{"$f":"IF(L11=\"сх\",0,0)","v":0},22,{"$f":"IF(N11=1,25,0)","v":0},{"$f":"IF(N11=2,22,0)","v":0},{"$f":"IF(N11=3,20,0)","v":0},{"$f":"IF(N11=4,18,0)","v":0},{"$f":"IF(N11=5,16,0)","v":0},{"$f":"IF(N11=6,15,0)","v":0},{"$f":"IF(N11=7,14,0)","v":0},{"$f":"IF(N11=8,13,0)","v":0},{"$f":"IF(N11=9,12,0)","v":0},{"$f":"IF(N11=10,11,0)","v":0},{"$f":"IF(N11=11,10,0)","v":0},{"$f":"IF(N11=12,9,0)","v":0},{"$f":"IF(N11=13,8,0)","v":0},{"$f":"IF(N11=14,7,0)","v":0},{"$f":"IF(N11=15,6,0)","v":0},{"$f":"IF(N11=16,5,0)","v":0},{"$f":"IF(N11=17,4,0)","v":0},{"$f":"IF(N11=18,3,0)","v":0},{"$f":"IF(N11=19,2,0)","v":0},{"$f":"IF(N11=20,1,0)","v":0},{"$f":"IF(N11>20,0,0)","v":0},{"$f":"IF(N11=\"сх\",0,0)","v":0},0,{"$f":"IF(L11=1,100,0)","v":0},{"$f":"IF(L11=2,98,0)","v":98},{"$f":"IF(L11=3,95,0)","v":0},{"$f":"IF(L11=4,93,0)","v":0},{"$f":"IF(L11=5,90,0)","v":0},{"$f":"IF(L11=6,88,0)","v":0},{"$f":"IF(L11=7,85,0)","v":0},{"$f":"IF(L11=8,83,0)","v":0},{"$f":"IF(L11=9,80,0)","v":0},{"$f":"IF(L11=10,78,0)","v":0},{"$f":"IF(L11=11,75,0)","v":0},{"$f":"IF(L11=12,73,0)","v":0},{"$f":"IF(L11=13,70,0)","v":0},{"$f":"IF(L11=14,68,0)","v":0},{"$f":"IF(L11=15,65,0)","v":0},{"$f":"IF(L11=16,63,0)","v":0},{"$f":"IF(L11=17,60,0)","v":0},{"$f":"IF(L11=18,58,0)","v":0},{"$f":"IF(L11=19,55,0)","v":0},{"$f":"IF(L11=20,53,0)","v":0},{"$f":"IF(L11>20,0,0)","v":0},{"$f":"IF(L11=\"сх\",0,0)","v":0},98,{"$f":"IF(N11=1,100,0)","v":0},{"$f":"IF(N11=2,98,0)","v":0},{"$f":"IF(N11=3,95,0)","v":0},{"$f":"IF(N11=4,93,0)","v":0},{"$f":"IF(N11=5,90,0)","v":0},{"$f":"IF(N11=6,88,0)","v":0},{"$f":"IF(N11=7,85,0)","v":0},{"$f":"IF(N11=8,83,0)","v":0},{"$f":"IF(N11=9,80,0)","v":0},{"$f":"IF(N11=10,78,0)","v":0},{"$f":"IF(N11=11,75,0)","v":0},{"$f":"IF(N11=12,73,0)","v":0},{"$f":"IF(N11=13,70,0)","v":0},{"$f":"IF(N11=14,68,0)","v":0},{"$f":"IF(N11=15,65,0)","v":0},{"$f":"IF(N11=16,63,0)","v":0},{"$f":"IF(N11=17,60,0)","v":0},{"$f":"IF(N11=18,58,0)","v":0},{"$f":"IF(N11=19,55,0)","v":0},{"$f":"IF(N11=20,53,0)","v":0},{"$f":"IF(N11>20,0,0)","v":0},{"$f":"IF(N11=\"сх\",0,0)","v":0},0]
[3,14.4,0,0,14.4,9,"Санин Константин","кмс","г. Новый Уренгой, Ямало-Ненецкий АО","СТК \"Ямбург\"","LYNX","-",0,"-",0,2,22,4,18,"-",0,2,22,2,22,2,22,106,{"$f":"M12+O12","v":0},null,null,{"$f":"IF(L12=1,25,0)","v":0},{"$f":"IF(L12=2,22,0)","v":0},{"$f":"IF(L12=3,20,0)","v":0},{"$f":"IF(L12=4,18,0)","v":0},{"$f":"IF(L12=5,16,0)","v":0},{"$f":"IF(L12=6,15,0)","v":0},{"$f":"IF(L12=7,14,0)","v":0},{"$f":"IF(L12=8,13,0)","v":0},{"$f":"IF(L12=9,12,0)","v":0},{"$f":"IF(L12=10,11,0)","v":0},{"$f":"IF(L12=11,10,0)","v":0},{"$f":"IF(L12=12,9,0)","v":0},{"$f":"IF(L12=13,8,0)","v":0},{"$f":"IF(L12=14,7,0)","v":0},{"$f":"IF(L12=15,6,0)","v":0},{"$f":"IF(L12=16,5,0)","v":0},{"$f":"IF(L12=17,4,0)","v":0},{"$f":"IF(L12=18,3,0)","v":0},{"$f":"IF(L12=19,2,0)","v":0},{"$f":"IF(L12=20,1,0)","v":0},{"$f":"IF(L12>20,0,0)","v":0},{"$f":"IF(L12=\"сх\",0,0)","v":0},{"$f":"SUM(AF12:AZ12)","v":0},{"$f":"IF(N12=1,25,0)","v":0},{"$f":"IF(N12=2,22,0)","v":0},{"$f":"IF(N12=3,20,0)","v":0},{"$f":"IF(N12=4,18,0)","v":0},{"$f":"IF(N12=5,16,0)","v":0},{"$f":"IF(N12=6,15,0)","v":0},{"$f":"IF(N12=7,14,0)","v":0},{"$f":"IF(N12=8,13,0)","v":0},{"$f":"IF(N12=9,12,0)","v":0},{"$f":"IF(N12=10,11,0)","v":0},{"$f":"IF(N12=11,10,0)","v":0},{"$f":"IF(N12=12,9,0)","v":0},{"$f":"IF(N12=13,8,0)","v":0},{"$f":"IF(N12=14,7,0)","v":0},{"$f":"IF(N12=15,6,0)","v":0},{"$f":"IF(N12=16,5,0)","v":0},{"$f":"IF(N12=17,4,0)","v":0},{"$f":"IF(N12=18,3,0)","v":0},{"$f":"IF(N12=19,2,0)","v":0},{"$f":"IF(N12=20,1,0)","v":0},{"$f":"IF(N12>20,0,0)","v":0},{"$f":"IF(N12=\"сх\",0,0)","v":0},{"$f":"SUM(BC12:BW12)","v":0},{"$f":"IF(L12=1,45,0)","v":0},{"$f":"IF(L12=2,42,0)","v":0},{"$f":"IF(L12=3,40,0)","v":0},{"$f":"IF(L12=4,38,0)","v":0},{"$f":"IF(L12=5,36,0)","v":0},{"$f":"IF(L12=6,35,0)","v":0},{"$f":"IF(L12=7,34,0)","v":0},{"$f":"IF(L12=8,33,0)","v":0},{"$f":"IF(L12=9,32,0)","v":0},{"$f":"IF(L12=10,31,0)","v":0},{"$f":"IF(L12=11,30,0)","v":0},{"$f":"IF(L12=12,29,0)","v":0},{"$f":"IF(L12=13,28,0)","v":0},{"$f":"IF(L12=14,27,0)","v":0},{"$f":"IF(L12=15,26,0)","v":0},{"$f":"IF(L12=16,25,0)","v":0},{"$f":"IF(L12=17,24,0)","v":0},{"$f":"IF(L12=18,23,0)","v":0},{"$f":"IF(L12=19,22,0)","v":0},{"$f":"IF(L12=20,21,0)","v":0},{"$f":"IF(L12=21,20,0)","v":0},{"$f":"IF(L12=22,19,0)","v":0},{"$f":"IF(L12=23,18,0)","v":0},{"$f":"IF(L12=24,17,0)","v":0},{"$f":"IF(L12=25,16,0)","v":0},{"$f":"IF(L12=26,15,0)","v":0},{"$f":"IF(L12=27,14,0)","v":0},{"$f":"IF(L12=28,13,0)","v":0},{"$f":"IF(L12=29,12,0)","v":0},{"$f":"IF(L12=30,11,0)","v":0},{"$f":"IF(L12=31,10,0)","v":0},{"$f":"IF(L12=32,9,0)","v":0},{"$f":"IF(L12=33,8,0)","v":0},{"$f":"IF(L12=34,7,0)","v":0},{"$f":"IF(L12=35,6,0)","v":0},{"$f":"IF(L12=36,5,0)","v":0},{"$f":"IF(L12=37,4,0)","v":0},{"$f":"IF(L12=38,3,0)","v":0},{"$f":"IF(L12=39,2,0)","v":0},{"$f":"IF(L12=40,1,0)","v":0},{"$f":"IF(L12>20,0,0)","v":0},{"$f":"IF(L12=\"сх\",0,0)","v":0},{"$f":"SUM(BZ12:DO12)","v":0},{"$f":"IF(N12=1,45,0)","v":0},{"$f":"IF(N12=2,42,0)","v":0},{"$f":"IF(N12=3,40,0)","v":0},{"$f":"IF(N12=4,38,0)","v":0},{"$f":"IF(N12=5,36,0)","v":0},{"$f":"IF(N12=6,35,0)","v":0},{"$f":"IF(N12=7,34,0)","v":0},{"$f":"IF(N12=8,33,0)","v":0},{"$f":"IF(N12=9,32,0)","v":0},{"$f":"IF(N12=10,31,0)","v":0},{"$f":"IF(N12=11,30,0)","v":0},{"$f":"IF(N12=12,29,0)","v":0},{"$f":"IF(N12=13,28,0)","v":0},{"$f":"IF(N12=14,27,0)","v":0},{"$f":"IF(N12=15,26,0)","v":0},{"$f":"IF(N12=16,25,0)","v":0},{"$f":"IF(N12=17,24,0)","v":0},{"$f":"IF(N12=18,23,0)","v":0},{"$f":"IF(N12=19,22,0)","v":0},{"$f":"IF(N12=20,21,0)","v":0},{"$f":"IF(N12=21,20,0)","v":0},{"$f":"IF(N12=22,19,0)","v":0},{"$f":"IF(N12=23,18,0)","v":0},{"$f":"IF(N12=24,17,0)","v":0},{"$f":"IF(N12=25,16,0)","v":0},{"$f":"IF(N12=26,15,0)","v":0},{"$f":"IF(N12=27,14,0)","v":0},{"$f":"IF(N12=28,13,0)","v":0},{"$f":"IF(N12=29,12,0)","v":0},{"$f":"IF(N12=30,11,0)","v":0},{"$f":"IF(N12=31,10,0)","v":0},{"$f":"IF(N12=32,9,0)","v":0},{"$f":"IF(N12=33,8,0)","v":0},{"$f":"IF(N12=34,7,0)","v":0},{"$f":"IF(N12=35,6,0)","v":0},{"$f":"IF(N12=36,5,0)","v":0},{"$f":"IF(N12=37,4,0)","v":0},{"$f":"IF(N12=38,3,0)","v":0},{"$f":"IF(N12=39,2,0)","v":0},{"$f":"IF(N12=40,1,0)","v":0},{"$f":"IF(N12>20,0,0)","v":0},{"$f":"IF(N12=\"сх\",0,0)","v":0},{"$f":"SUM(DQ12:FF12)","v":0},null,{"$f":"IF(L12=\"сх\",\"ноль\",IF(L12>0,L12,\"Ноль\"))","v":"-"},{"$f":"IF(N12=\"сх\",\"ноль\",IF(N12>0,N12,\"Ноль\"))","v":"-"},null,{"$f":"MIN(FI12,FJ12)","v":0},{"$f":"IF(AB12=#REF!,IF(N12<#REF!,#REF!,FQ12),#REF!)","v":{"$error":"#REF!"}},{"$f":"IF(AB12=#REF!,IF(N12<#REF!,0,1))","v":{"$error":"#REF!"}},{"$f":"IF(AND(FL12>=21,FL12<>0),FL12,IF(AB12<#REF!,\"СТОП\",FM12+FN12))","v":{"$error":"#REF!"}},null,15,16,null,{"$f":"IF(L12=1,25,0)","v":0},{"$f":"IF(L12=2,22,0)","v":0},{"$f":"IF(L12=3,20,0)","v":0},{"$f":"IF(L12=4,18,0)","v":0},{"$f":"IF(L12=5,16,0)","v":0},{"$f":"IF(L12=6,15,0)","v":0},{"$f":"IF(L12=7,14,0)","v":0},{"$f":"IF(L12=8,13,0)","v":0},{"$f":"IF(L12=9,12,0)","v":0},{"$f":"IF(L12=10,11,0)","v":0},{"$f":"IF(L12=11,10,0)","v":0},{"$f":"IF(L12=12,9,0)","v":0},{"$f":"IF(L12=13,8,0)","v":0},{"$f":"IF(L12=14,7,0)","v":0},{"$f":"IF(L12=15,6,0)","v":0},{"$f":"IF(L12=16,5,0)","v":0},{"$f":"IF(L12=17,4,0)","v":0},{"$f":"IF(L12=18,3,0)","v":0},{"$f":"IF(L12=19,2,0)","v":0},{"$f":"IF(L12=20,1,0)","v":0},{"$f":"IF(L12>20,0,0)","v":0},{"$f":"IF(L12=\"сх\",0,0)","v":0},{"$f":"SUM(FT12:GO12)","v":0},{"$f":"IF(N12=1,25,0)","v":0},{"$f":"IF(N12=2,22,0)","v":0},{"$f":"IF(N12=3,20,0)","v":0},{"$f":"IF(N12=4,18,0)","v":0},{"$f":"IF(N12=5,16,0)","v":0},{"$f":"IF(N12=6,15,0)","v":0},{"$f":"IF(N12=7,14,0)","v":0},{"$f":"IF(N12=8,13,0)","v":0},{"$f":"IF(N12=9,12,0)","v":0},{"$f":"IF(N12=10,11,0)","v":0},{"$f":"IF(N12=11,10,0)","v":0},{"$f":"IF(N12=12,9,0)","v":0},{"$f":"IF(N12=13,8,0)","v":0},{"$f":"IF(N12=14,7,0)","v":0},{"$f":"IF(N12=15,6,0)","v":0},{"$f":"IF(N12=16,5,0)","v":0},{"$f":"IF(N12=17,4,0)","v":0},{"$f":"IF(N12=18,3,0)","v":0},{"$f":"IF(N12=19,2,0)","v":0},{"$f":"IF(N12=20,1,0)","v":0},{"$f":"IF(N12>20,0,0)","v":0},{"$f":"IF(N12=\"сх\",0,0)","v":0},{"$f":"SUM(GQ12:HL12)","v":0},{"$f":"IF(L12=1,100,0)","v":0},{"$f":"IF(L12=2,98,0)","v":0},{"$f":"IF(L12=3,95,0)","v":0},{"$f":"IF(L12=4,93,0)","v":0},{"$f":"IF(L12=5,90,0)","v":0},{"$f":"IF(L12=6,88,0)","v":0},{"$f":"IF(L12=7,85,0)","v":0},{"$f":"IF(L12=8,83,0)","v":0},{"$f":"IF(L12=9,80,0)","v":0},{"$f":"IF(L12=10,78,0)","v":0},{"$f":"IF(L12=11,75,0)","v":0},{"$f":"IF(L12=12,73,0)","v":0},{"$f":"IF(L12=13,70,0)","v":0},{"$f":"IF(L12=14,68,0)","v":0},{"$f":"IF(L12=15,65,0)","v":0},{"$f":"IF(L12=16,63,0)","v":0},{"$f":"IF(L12=17,60,0)","v":0},{"$f":"IF(L12=18,58,0)","v":0},{"$f":"IF(L12=19,55,0)","v":0},{"$f":"IF(L12=20,53,0)","v":0},{"$f":"IF(L12>20,0,0)","v":0},{"$f":"IF(L12=\"сх\",0,0)","v":0},{"$f":"SUM(HN12:II12)","v":0},{"$f":"IF(N12=1,100,0)","v":0},{"$f":"IF(N12=2,98,0)","v":0},{"$f":"IF(N12=3,95,0)","v":0},{"$f":"IF(N12=4,93,0)","v":0},{"$f":"IF(N12=5,90,0)","v":0},{"$f":"IF(N12=6,88,0)","v":0},{"$f":"IF(N12=7,85,0)","v":0},{"$f":"IF(N12=8,83,0)","v":0},{"$f":"IF(N12=9,80,0)","v":0},{"$f":"IF(N12=10,78,0)","v":0},{"$f":"IF(N12=11,75,0)","v":0},{"$f":"IF(N12=12,73,0)","v":0},{"$f":"IF(N12=13,70,0)","v":0},{"$f":"IF(N12=14,68,0)","v":0},{"$f":"IF(N12=15,65,0)","v":0},{"$f":"IF(N12=16,63,0)","v":0},{"$f":"IF(N12=17,60,0)","v":0},{"$f":"IF(N12=18,58,0)","v":0},{"$f":"IF(N12=19,55,0)","v":0},{"$f":"IF(N12=20,53,0)","v":0},{"$f":"IF(N12>20,0,0)","v":0},{"$f":"IF(N12=\"сх\",0,0)","v":0},{"$f":"SUM(IK12:JF12)","v":0}]
[4,40.799999999999997,13.8,13.2,13.8,19,"Рылеев Максим","II","г. Новый Уренгой, Ямало-Ненецкий АО","СТК \"Ямбург\"","LYNX",3,20,"-",0,7,14,5,16,"-",0,6,15,4,18,4,18,101,{"$f":"M13+O13","v":20},null,null,{"$f":"IF(L13=1,25,0)","v":0},{"$f":"IF(L13=2,22,0)","v":0},{"$f":"IF(L13=3,20,0)","v":20},{"$f":"IF(L13=4,18,0)","v":0},{"$f":"IF(L13=5,16,0)","v":0},{"$f":"IF(L13=6,15,0)","v":0},{"$f":"IF(L13=7,14,0)","v":0},{"$f":"IF(L13=8,13,0)","v":0},{"$f":"IF(L13=9,12,0)","v":0},{"$f":"IF(L13=10,11,0)","v":0},{"$f":"IF(L13=11,10,0)","v":0},{"$f":"IF(L13=12,9,0)","v":0},{"$f":"IF(L13=13,8,0)","v":0},{"$f":"IF(L13=14,7,0)","v":0},{"$f":"IF(L13=15,6,0)","v":0},{"$f":"IF(L13=16,5,0)","v":0},{"$f":"IF(L13=17,4,0)","v":0},{"$f":"IF(L13=18,3,0)","v":0},{"$f":"IF(L13=19,2,0)","v":0},{"$f":"IF(L13=20,1,0)","v":0},{"$f":"IF(L13>20,0,0)","v":0},{"$f":"IF(L13=\"сх\",0,0)","v":0},{"$f":"SUM(AF13:AZ13)","v":20},{"$f":"IF(N13=1,25,0)","v":0},{"$f":"IF(N13=2,22,0)","v":0},{"$f":"IF(N13=3,20,0)","v":0},{"$f":"IF(N13=4,18,0)","v":0},{"$f":"IF(N13=5,16,0)","v":0},{"$f":"IF(N13=6,15,0)","v":0},{"$f":"IF(N13=7,14,0)","v":0},{"$f":"IF(N13=8,13,0)","v":0},{"$f":"IF(N13=9,12,0)","v":0},{"$f":"IF(N13=10,11,0)","v":0},{"$f":"IF(N13=11,10,0)","v":0},{"$f":"IF(N13=12,9,0)","v":0},{"$f":"IF(N13=13,8,0)","v":0},{"$f":"IF(N13=14,7,0)","v":0},{"$f":"IF(N13=15,6,0)","v":0},{"$f":"IF(N13=16,5,0)","v":0},{"$f":"IF(N13=17,4,0)","v":0},{"$f":"IF(N13=18,3,0)","v":0},{"$f":"IF(N13=19,2,0)","v":0},{"$f":"IF(N13=20,1,0)","v":0},{"$f":"IF(N13>20,0,0)","v":0},{"$f":"IF(N13=\"сх\",0,0)","v":0},{"$f":"SUM(BC13:BW13)","v":0},{"$f":"IF(L13=1,45,0)","v":0},{"$f":"IF(L13=2,42,0)","v":0},{"$f":"IF(L13=3,40,0)","v":40},{"$f":"IF(L13=4,38,0)","v":0},{"$f":"IF(L13=5,36,0)","v":0},{"$f":"IF(L13=6,35,0)","v":0},{"$f":"IF(L13=7,34,0)","v":0},{"$f":"IF(L13=8,33,0)","v":0},{"$f":"IF(L13=9,32,0)","v":0},{"$f":"IF(L13=10,31,0)","v":0},{"$f":"IF(L13=11,30,0)","v":0},{"$f":"IF(L13=12,29,0)","v":0},{"$f":"IF(L13=13,28,0)","v":0},{"$f":"IF(L13=14,27,0)","v":0},{"$f":"IF(L13=15,26,0)","v":0},{"$f":"IF(L13=16,25,0)","v":0},{"$f":"IF(L13=17,24,0)","v":0},{"$f":"IF(L13=18,23,0)","v":0},{"$f":"IF(L13=19,22,0)","v":0},{"$f":"IF(L13=20,21,0)","v":0},{"$f":"IF(L13=21,20,0)","v":0},{"$f":"IF(L13=22,19,0)","v":0},{"$f":"IF(L13=23,18,0)","v":0},{"$f":"IF(L13=24,17,0)","v":0},{"$f":"IF(L13=25,16,0)","v":0},{"$f":"IF(L13=26,15,0)","v":0},{"$f":"IF(L13=27,14,0)","v":0},{"$f":"IF(L13=28,13,0)","v":0},{"$f":"IF(L13=29,12,0)","v":0},{"$f":"IF(L13=30,11,0)","v":0},{"$f":"IF(L13=31,10,0)","v":0},{"$f":"IF(L13=32,9,0)","v":0},{"$f":"IF(L13=33,8,0)","v":0},{"$f":"IF(L13=34,7,0)","v":0},{"$f":"IF(L13=35,6,0)","v":0},{"$f":"IF(L13=36,5,0)","v":0},{"$f":"IF(L13=37,4,0)","v":0},{"$f":"IF(L13=38,3,0)","v":0},{"$f":"IF(L13=39,2,0)","v":0},{"$f":"IF(L13=40,1,0)","v":0},{"$f":"IF(L13>20,0,0)","v":0},{"$f":"IF(L13=\"сх\",0,0)","v":0},{"$f":"SUM(BZ13:DO13)","v":40},{"$f":"IF(N13=1,45,0)","v":0},{"$f":"IF(N13=2,42,0)","v":0},{"$f":"IF(N13=3,40,0)","v":0},{"$f":"IF(N13=4,38,0)","v":0},{"$f":"IF(N13=5,36,0)","v":0},{"$f":"IF(N13=6,35,0)","v":0},{"$f":"IF(N13=7,34,0)","v":0},{"$f":"IF(N13=8,33,0)","v":0},{"$f":"IF(N13=9,32,0)","v":0},{"$f":"IF(N13=10,31,0)","v":0},{"$f":"IF(N13=11,30,0)","v":0},{"$f":"IF(N13=12,29,0)","v":0},{"$f":"IF(N13=13,28,0)","v":0},{"$f":"IF(N13=14,27,0)","v":0},{"$f":"IF(N13=15,26,0)","v":0},{"$f":"IF(N13=16,25,0)","v":0},{"$f":"IF(N13=17,24,0)","v":0},{"$f":"IF(N13=18,23,0)","v":0},{"$f":"IF(N13=19,22,0)","v":0},{"$f":"IF(N13=20,21,0)","v":0},{"$f":"IF(N13=21,20,0)","v":0},{"$f":"IF(N13=22,19,0)","v":0},{"$f":"IF(N13=23,18,0)","v":0},{"$f":"IF(N13=24,17,0)","v":0},{"$f":"IF(N13=25,16,0)","v":0},{"$f":"IF(N13=26,15,0)","v":0},{"$f":"IF(N13=27,14,0)","v":0},{"$f":"IF(N13=28,13,0)","v":0},{"$f":"IF(N13=29,12,0)","v":0},{"$f":"IF(N13=30,11,0)","v":0},{"$f":"IF(N13=31,10,0)","v":0},{"$f":"IF(N13=32,9,0)","v":0},{"$f":"IF(N13=33,8,0)","v":0},{"$f":"IF(N13=34,7,0)","v":0},{"$f":"IF(N13=35,6,0)","v":0},{"$f":"IF(N13=36,5,0)","v":0},{"$f":"IF(N13=37,4,0)","v":0},{"$f":"IF(N13=38,3,0)","v":0},{"$f":"IF(N13=39,2,0)","v":0},{"$f":"IF(N13=40,1,0)","v":0},{"$f":"IF(N13>20,0,0)","v":0},{"$f":"IF(N13=\"сх\",0,0)","v":0},{"$f":"SUM(DQ13:FF13)","v":0},null,{"$f":"IF(L13=\"сх\",\"ноль\",IF(L13>0,L13,\"Ноль\"))","v":3},{"$f":"IF(N13=\"сх\",\"ноль\",IF(N13>0,N13,\"Ноль\"))","v":"-"},null,{"$f":"MIN(FI13,FJ13)","v":3},{"$f":"IF(AB13=#REF!,IF(N13<#REF!,#REF!,FQ13),#REF!)","v":{"$error":"#REF!"}},{"$f":"IF(AB13=#REF!,IF(N13<#REF!,0,1))","v":{"$error":"#REF!"}},{"$f":"IF(AND(FL13>=21,FL13<>0),FL13,IF(AB13<#REF!,\"СТОП\",FM13+FN13))","v":{"$error":"#REF!"}},null,15,16,null,{"$f":"IF(L13=1,25,0)","v":0},{"$f":"IF(L13=2,22,0)","v":0},{"$f":"IF(L13=3,20,0)","v":20},{"$f":"IF(L13=4,18,0)","v":0},{"$f":"IF(L13=5,16,0)","v":0},{"$f":"IF(L13=6,15,0)","v":0},{"$f":"IF(L13=7,14,0)","v":0},{"$f":"IF(L13=8,13,0)","v":0},{"$f":"IF(L13=9,12,0)","v":0},{"$f":"IF(L13=10,11,0)","v":0},{"$f":"IF(L13=11,10,0)","v":0},{"$f":"IF(L13=12,9,0)","v":0},{"$f":"IF(L13=13,8,0)","v":0},{"$f":"IF(L13=14,7,0)","v":0},{"$f":"IF(L13=15,6,0)","v":0},{"$f":"IF(L13=16,5,0)","v":0},{"$f":"IF(L13=17,4,0)","v":0},{"$f":"IF(L13=18,3,0)","v":0},{"$f":"IF(L13=19,2,0)","v":0},{"$f":"IF(L13=20,1,0)","v":0},{"$f":"IF(L13>20,0,0)","v":0},{"$f":"IF(L13=\"сх\",0,0)","v":0},{"$f":"SUM(FT13:GO13)","v":20},{"$f":"IF(N13=1,25,0)","v":0},{"$f":"IF(N13=2,22,0)","v":0},{"$f":"IF(N13=3,20,0)","v":0},{"$f":"IF(N13=4,18,0)","v":0},{"$f":"IF(N13=5,16,0)","v":0},{"$f":"IF(N13=6,15,0)","v":0},{"$f":"IF(N13=7,14,0)","v":0},{"$f":"IF(N13=8,13,0)","v":0},{"$f":"IF(N13=9,12,0)","v":0},{"$f":"IF(N13=10,11,0)","v":0},{"$f":"IF(N13=11,10,0)","v":0},{"$f":"IF(N13=12,9,0)","v":0},{"$f":"IF(N13=13,8,0)","v":0},{"$f":"IF(N13=14,7,0)","v":0},{"$f":"IF(N13=15,6,0)","v":0},{"$f":"IF(N13=16,5,0)","v":0},{"$f":"IF(N13=17,4,0)","v":0},{"$f":"IF(N13=18,3,0)","v":0},{"$f":"IF(N13=19,2,0)","v":0},{"$f":"IF(N13=20,1,0)","v":0},{"$f":"IF(N13>20,0,0)","v":0},{"$f":"IF(N13=\"сх\",0,0)","v":0},{"$f":"SUM(GQ13:HL13)","v":0},{"$f":"IF(L13=1,100,0)","v":0},{"$f":"IF(L13=2,98,0)","v":0},{"$f":"IF(L13=3,95,0)","v":95},{"$f":"IF(L13=4,93,0)","v":0},{"$f":"IF(L13=5,90,0)","v":0},{"$f":"IF(L13=6,88,0)","v":0},{"$f":"IF(L13=7,85,0)","v":0},{"$f":"IF(L13=8,83,0)","v":0},{"$f":"IF(L13=9,80,0)","v":0},{"$f":"IF(L13=10,78,0)","v":0},{"$f":"IF(L13=11,75,0)","v":0},{"$f":"IF(L13=12,73,0)","v":0},{"$f":"IF(L13=13,70,0)","v":0},{"$f":"IF(L13=14,68,0)","v":0},{"$f":"IF(L13=15,65,0)","v":0},{"$f":"IF(L13=16,63,0)","v":0},{"$f":"IF(L13=17,60,0)","v":0},{"$f":"IF(L13=18,58,0)","v":0},{"$f":"IF(L13=19,55,0)","v":0},{"$f":"IF(L13=20,53,0)","v":0},{"$f":"IF(L13>20,0,0)","v":0},{"$f":"IF(L13=\"сх\",0,0)","v":0},{"$f":"SUM(HN13:II13)","v":95},{"$f":"IF(N13=1,100,0)","v":0},{"$f":"IF(N13=2,98,0)","v":0},{"$f":"IF(N13=3,95,0)","v":0},{"$f":"IF(N13=4,93,0)","v":0},{"$f":"IF(N13=5,90,0)","v":0},{"$f":"IF(N13=6,88,0)","v":0},{"$f":"IF(N13=7,85,0)","v":0},{"$f":"IF(N13=8,83,0)","v":0},{"$f":"IF(N13=9,80,0)","v":0},{"$f":"IF(N13=10,78,0)","v":0},{"$f":"IF(N13=11,75,0)","v":0},{"$f":"IF(N13=12,73,0)","v":0},{"$f":"IF(N13=13,70,0)","v":0},{"$f":"IF(N13=14,68,0)","v":0},{"$f":"IF(N13=15,65,0)","v":0},{"$f":"IF(N13=16,63,0)","v":0},{"$f":"IF(N13=17,60,0)","v":0},{"$f":"IF(N13=18,58,0)","v":0},{"$f":"IF(N13=19,55,0)","v":0},{"$f":"IF(N13=20,53,0)","v":0},{"$f":"IF(N13>20,0,0)","v":0},{"$f":"IF(N13=\"сх\",0,0)","v":0},{"$f":"SUM(IK13:JF13)","v":0}]
[5,37.5,12.3,13.5,11.7,62,"Лавров Кирилл","III","г. Новый Уренгой, Ямало-Ненецкий АО","СТК \"Факел\"","LYNX",8,13,"-",0,4,18,3,20,"-",0,3,20,"сх",0,5,16,87]
[6,36.9,11.7,12,13.2,18,"Хункаев Булат","II","г. Новый Уренгой, Ямало-Ненецкий АО","СТК \"Ямбург\"","LYNX",10,11,"-",0,5,16,"сх",0,"-",0,7,14,6,15,6,15,71]
[7,25.200000000000003,0,12.9,12.3,68,"Чернега Максим","II","г. Новый Уренгой, Ямало-Ненецкий АО","СТК \"Факел\"","LYNX","-",0,"-",0,6,15,6,15,"-",0,5,16,9,12,9,12,70]
[8,25.5,0,12.6,12.9,33,"Колибаба Богдан","III","г. Новый Уренгой, Ямало-Ненецкий АО","СТК \"Факел\"","LYNX","сх",0,"-",0,9,12,7,14,"-",0,4,18,7,14,10,11,69]
[9,25.799999999999997,13.2,0,12.6,162,"Пилюгин Антон","II","г. Новый Уренгой, Ямало-Ненецкий АО","СТК \"Ямбург\"","LYNX",5,16,"-",0,"сх",0,"н/с",0,"-",0,10,11,5,16,7,14,57]
[10,24.9,12.9,0,12,35,"Садрисламов Данил","II","г. Новый Уренгой, Ямало-Ненецкий АО","СТК \"Ямбург\"","LYNX",6,15,"-",0,"-",0,"-",0,"-",0,8,13,8,13,8,13,54]
[11,22.8,0,12.3,10.5,71,"Свиридок Максим","II","г. Новый Уренгой, Ямало-Ненецкий АО","СТК \"Факел\"","LYNX","-",0,"-",0,8,13,8,13,"-",0,13,8,14,7,15,6,47]
[12,23.4,12,0,11.4,51,"Перфильев Сергей","III","г. Новый Уренгой, Ямало-Ненецкий АО","СТК \"Факел\"","LYNX",9,12,"-",0,"-",0,"-",0,"-",0,9,12,10,11,13,8,43]
[13,23.7,12.6,0,11.1,29,"Вишняков Илья","II","г. Новый Уренгой, Ямало-Ненецкий АО","СТК \"Ямбург\"","LYNX",7,14,"-",0,"-",0,"-",0,"-",0,12,9,12,9,11,10,42]
[14,22.5,0,11.7,10.8,16,"Артемьев Алексей","II","г. Надым, Ямало-Ненецкий АО","СТК \"Форсаж\"","Sky-Doo","-",0,"-",0,10,11,"сх",0,"-",0,14,7,11,10,12,9,37]
[15,10.199999999999999,0,0,10.199999999999999,91,"Зиангиров Адам","II","г. Новый Уренгой, Ямало-Ненецкий АО","СТК \"Ямбург\"","LYNX","-",0,"-",0,"-",0,"-",0,"-",0,15,6,13,8,14,7,21]
[16,13.5,13.5,0,0,17,"Моторин Александр","II","г. Новый Уренгой, Ямало-Ненецкий АО","СТК \"Ямбург\"","LYNX",4,18,"-",0,"-",0,"-",0,"-",0,"-",0,"-",0,"-",0,18]
[17,9.8999999999999897,0,0,9.8999999999999897,78,"Шимолин Владислав","II","г. Новый Уренгой, Ямало-Ненецкий АО","СТК \"Ямбург\"","LYNX","-",0,"-",0,"-",0,"-",0,"-",0,16,5,15,6,16,5,16]
[]
[]
[]
[]
["Главный судья соревнований"]
["судья Всероссийской категории:                                                                                                              А. Б. Стеблинский (г. Тюмень; лицензия МФР А 144)"]
[]
["Главный секретарь соревнований"]
["судья Всероссийской категории:                                                                                              А. Ю. Иванов (г. Москва/лицензия МФР А 105; FIM 11245)"]

{"sheet":"ВЗРОСЛЫЕ ЯНАО","index":1,"n_rows":32,"n_cols":271,"rows_kept":32,"cut":false,"hidden":false,"merged":[[1,0,1,27],[2,0,2,27],[6,19,6,20],[7,19,8,19],[7,20,8,20],[5,11,5,14],[5,15,5,20],[6,15,6,16],[6,17,6,18],[7,15,8,15],[7,16,8,16],[7,17,8,17],[7,18,8,18],[6,8,8,8],[6,9,8,9],[0,28,3,28],[3,0,3,27],[4,0,4,27],[6,0,8,0],[6,5,8,5],[6,6,8,6],[6,7,8,7],[6,13,6,14],[6,27,8,27],[6,28,8,28],[7,11,8,11],[7,12,8,12],[7,13,8,13],[6,10,8,10],[6,11,6,12],[7,14,8,14],[5,21,5,26],[6,21,6,22],[6,23,6,24],[6,25,6,26],[7,21,8,21],[7,22,8,22],[7,23,8,23],[7,24,8,24],[7,25,8,25],[7,26,8,26],[30,0,30,7],[6,1,8,1],[6,2,8,2],[6,3,8,3],[6,4,8,4],[27,0,27,7]]}
[]
["Кубок Ямало-Ненецкого АО по кроссу на снегоходах 2016/2017 года            "]
["СВОДНЫЙ ПРОТОКОЛ  ЛИЧНОГО  ЗАЧЕТА по сумме 3-х этапов.",null,null,null,null,null,null,null,null,null,null,null,null,null,null,null,null,null,null,null,null,null,null,null,null,null,null,null,null,null,null,null,null,null,null,null,null,null,null,null,null,null,null,null,null,null,null,null,null,null,null,null,null,null,null,null,null,null,null,null,null,null,null,null,null,null,null,null,null,null,null,null,null,null,null,null,null,null,null,null,null,null,null,null,null,null,null,null,null,null,null,null,null,null,null,null,null,null,null,null,null,null,null,null,null,null,null,null,null,null,null,null,null,null,null,null,null,null,null,null,null,null,null,null,null,null,null,null,null,null,null,null,null,null,null,null,null,null,null,null,null,null,null,null,null,null,null,null,null,null,null,null,null,null,null,null,null,null,null,null,null,null,null,null,null,null,null,null,null,null,null,null,null,null,null,null,null,null,null,null,null,null,null,null,null,null,null,"первый этап"]
["1-й этап: 03 - 04 декабря 2016 года - г. Новый Уренгой, Ямало-Ненецкий АО; 2-й этап: 24 - 26 марта 2017 года - г. Муравленко, Ямало-Ненецкий АО; 3-й этап: 31 марта - 02 апреля 2017 года - г. Новый Уренгой, Ямало-Ненецкий АО.                                                                         ",null,null,null,null,null,null,null,null,null,null,null,null,null,null,null,null,null,null,null,null,null,null,null,null,null,null,null,null,null,null,null,null,null,null,null,null,null,null,null,null,null,null,null,null,null,null,null,null,null,null,null,null,null,null,null,null,null,null,null,null,null,null,null,null,null,null,null,null,null,null,null,null,null,null,null,null,null,null,null,null,null,null,null,null,null,null,null,null,null,null,null,null,null,null,null,null,null,null,null,null,null,null,null,null,null,null,null,null,null,null,null,null,null,null,null,null,null,null,null,null,null,null,null,null,null,null,null,null,null,null,null,null,null,null,null,null,null,null,null,null,null,null,null,null,null,null,null,null,null,null,null,null,null,null,null,null,null,null,null,null,null,null,null,null,null,null,null,null,null,null,null,null,null,null,null,"первый заезд личные очки",null,null,null,null,null,null,null,null,null,null,null,null,null,null,null,null,null,null,null,null,null,"второй заезд личные очки",null,null,null,null,null,null,null,null,null,null,null,null,null,null,null,null,null,null,null,null,null,null,"Первый заезд командные очки",null,null,null,null,null,null,null,null,null,null,null,null,null,null,null,null,null,null,null,null,null,null,"Второй заезд командные очки"]
["Класс \"ВЗРОСЛЫЕ\" (0910203811А).",null,null,null,null,null,null,null,null,null,null,null,null,null,null,null,null,null,null,null,null,null,null,null,null,null,null,null,null,null,null,null,null,null,null,null,null,null,null,null,null,null,null,null,null,null,null,null,null,null,null,null,null,null,null,null,null,null,null,null,null,null,null,null,null,null,null,null,null,null,null,null,null,null,null,null,null,null,null,null,null,null,null,null,null,null,null,null,null,null,null,null,null,null,null,null,null,null,null,null,null,null,null,null,null,null,null,null,null,null,null,null,null,null,null,null,null,null,null,null,null,null,null,null,null,null,null,null,null,null,null,null,null,null,null,null,null,null,null,null,null,null,null,null,null,null,null,null,null,null,null,null,null,null,null,null,null,null,null,null,null,null,null,null,null,null,null,null,null,null,null,null,null,null,null,1,2,3,4,5,6,7,8,9,10,11,12,13,14,15,16,17,18,19,20,21,"сх","Sym",1,2,3,4,5,6,7,8,9,10,11,12,13,14,15,16,17,18,19,20,21,"cx","sym",1,2,3,4,5,6,7,8,9,10,11,12,13,14,15,16,17,18,19,20,21,"сх","очки",1,2,3,4,5,6,7,8,9,10,11,12,13,14,15,16,17,18,19,20,21,"сх","очки",{"$f":"COUNT(FT5:JG5)","v":84},"Н. Стро","В. стро","место"]
[null,null,null,null,null,null,null,null,null,null,null,"1-й этап",null,null,null,"2-й этап",null,null,null,null,null,"2-й этап"]
["Место","СУММА РЕЙТИНГОВЫЕ ОЧКИ","1-й этап РЕЙТИНГОВЫЕ ОЧКИ Коэф. 0,4","2-й этап РЕЙТИНГОВЫЕ ОЧКИ Коэф. 0,4","3-й этап РЕЙТИНГОВЫЕ ОЧКИ Коэф. 0,4","Ст. №","Фамилия, Имя","Раз  ряд","Город (край, район, область)","Команда","Мото","I-й заезд",null,"II-й заезд",null,"I-й заезд",null,"II-й заезд",null,"III-й заезд",null,"I-й заезд",null,"II-й заезд",null,"III-й заезд",null,"Сумма очков              в личном зачете","Сумма очк. в командном зачете"]
[null,null,null,null,null,null,null,null,null,null,null,"место","лич. очки","место","лич. очки","место","лич. очки","место","лич. очки","место","лич. очки","место","лич. очки","место","лич. очки","место","лич. очки",null,null,null,null,null,"первый заезд личные очки",null,null,null,null,null,null,null,null,null,null,null,null,null,null,null,null,null,null,null,null,null,"второй заезд личные очки",null,null,null,null,null,null,null,null,null,null,null,null,null,null,null,null,null,null,null,null,null,null,"Первый заезд командные очки",null,null,null,null,null,null,null,null,null,null,null,null,null,null,null,null,null,null,null,null,null,null,null,null,null,null,null,null,null,null,null,null,null,null,null,null,null,null,null,null,null,null,"Второй заезд командные очки",null,null,null,null,null,null,null,null,null,null,null,null,null,null,null,null,null,null,null,null,null,null,null,null,null,null,null,null,null,null,null,null,null,null,null,null,null,null,null,null,null,null,null,1,2,null,null,null,null,null,null,null,null,null,null,null,null,null,null,null,null,null,null,null,null,null,"первый этап"]
[null,null,null,null,null,null,null,null,null,null,null,null,null,null,null,null,null,null,null,null,null,null,null,null,null,null,null,null,null,null,null,1,2,3,4,5,6,7,8,9,10,11,12,13,14,15,16,17,18,19,20,21,"сх",null,1,2,3,4,5,6,7,8,9,10,11,12,13,14,15,16,17,18,19,20,null,"cx",null,1,2,3,4,5,6,7,8,9,10,11,12,13,14,15,16,17,18,19,20,21,22,23,24,25,26,27,28,29,30,31,32,33,34,35,36,37,38,39,40,null,null,null,1,2,3,4,5,6,7,8,9,10,11,12,13,14,15,16,17,18,19,20,21,22,23,24,25,26,27,28,29,30,31,32,33,34,35,36,37,38,39,40,null,null,null,null,null,null,null,"мин","Н. Стро","В. стро","место",null,"чр1","чр2",null,null,"первый заезд личные очки",null,null,null,null,null,null,null,null,null,null,null,null,null,null,null,null,null,null,null,null,null,"второй заезд личные очки",null,null,null,null,null,null,null,null,null,null,null,null,null,null,null,null,null,null,null,null,null,null,"Первый заезд командные очки",null,null,null,null,null,null,null,null,null,null,null,null,null,null,null,null,null,null,null,null,null,null,"Второй заезд командные очки"]
[1,{"$f":"SUM(C10+D10+E10)","v":60},20,20,20,11,"Скляров Дмитрий","мс","г. Новый Уренгой, Ямало-Ненецкий АО","СТК \"Ямбург\"","LYNX",1,25,"-",0,1,25,"-",0,"-",0,1,25,2,22,1,25,{"$f":"SUM(M10+O10+Q10+S10+U10+W10+Y10+AA10)","v":122},{"$f":"M10+O10","v":25},null,null,{"$f":"IF(L10=1,25,0)","v":25},{"$f":"IF(L10=2,22,0)","v":0},{"$f":"IF(L10=3,20,0)","v":0},{"$f":"IF(L10=4,18,0)","v":0},{"$f":"IF(L10=5,16,0)","v":0},{"$f":"IF(L10=6,15,0)","v":0},{"$f":"IF(L10=7,14,0)","v":0},{"$f":"IF(L10=8,13,0)","v":0},{"$f":"IF(L10=9,12,0)","v":0},{"$f":"IF(L10=10,11,0)","v":0},{"$f":"IF(L10=11,10,0)","v":0},{"$f":"IF(L10=12,9,0)","v":0},{"$f":"IF(L10=13,8,0)","v":0},{"$f":"IF(L10=14,7,0)","v":0},{"$f":"IF(L10=15,6,0)","v":0},{"$f":"IF(L10=16,5,0)","v":0},{"$f":"IF(L10=17,4,0)","v":0},{"$f":"IF(L10=18,3,0)","v":0},{"$f":"IF(L10=19,2,0)","v":0},{"$f":"IF(L10=20,1,0)","v":0},{"$f":"IF(L10>20,0,0)","v":0},{"$f":"IF(L10=\"сх\",0,0)","v":0},{"$f":"SUM(AF10:AZ10)","v":25},{"$f":"IF(N10=1,25,0)","v":0},{"$f":"IF(N10=2,22,0)","v":0},{"$f":"IF(N10=3,20,0)","v":0},{"$f":"IF(N10=4,18,0)","v":0},{"$f":"IF(N10=5,16,0)","v":0},{"$f":"IF(N10=6,15,0)","v":0},{"$f":"IF(N10=7,14,0)","v":0},{"$f":"IF(N10=8,13,0)","v":0},{"$f":"IF(N10=9,12,0)","v":0},{"$f":"IF(N10=10,11,0)","v":0},{"$f":"IF(N10=11,10,0)","v":0},{"$f":"IF(N10=12,9,0)","v":0},{"$f":"IF(N10=13,8,0)","v":0},{"$f":"IF(N10=14,7,0)","v":0},{"$f":"IF(N10=15,6,0)","v":0},{"$f":"IF(N10=16,5,0)","v":0},{"$f":"IF(N10=17,4,0)","v":0},{"$f":"IF(N10=18,3,0)","v":0},{"$f":"IF(N10=19,2,0)","v":0},{"$f":"IF(N10=20,1,0)","v":0},{"$f":"IF(N10>20,0,0)","v":0},{"$f":"IF(N10=\"сх\",0,0)","v":0},{"$f":"SUM(BC10:BW10)","v":0},{"$f":"IF(L10=1,45,0)","v":45},{"$f":"IF(L10=2,42,0)","v":0},{"$f":"IF(L10=3,40,0)","v":0},{"$f":"IF(L10=4,38,0)","v":0},{"$f":"IF(L10=5,36,0)","v":0},{"$f":"IF(L10=6,35,0)","v":0},{"$f":"IF(L10=7,34,0)","v":0},{"$f":"IF(L10=8,33,0)","v":0},{"$f":"IF(L10=9,32,0)","v":0},{"$f":"IF(L10=10,31,0)","v":0},{"$f":"IF(L10=11,30,0)","v":0},{"$f":"IF(L10=12,29,0)","v":0},{"$f":"IF(L10=13,28,0)","v":0},{"$f":"IF(L10=14,27,0)","v":0},{"$f":"IF(L10=15,26,0)","v":0},{"$f":"IF(L10=16,25,0)","v":0},{"$f":"IF(L10=17,24,0)","v":0},{"$f":"IF(L10=18,23,0)","v":0},{"$f":"IF(L10=19,22,0)","v":0},{"$f":"IF(L10=20,21,0)","v":0},{"$f":"IF(L10=21,20,0)","v":0},{"$f":"IF(L10=22,19,0)","v":0},{"$f":"IF(L10=23,18,0)","v":0},{"$f":"IF(L10=24,17,0)","v":0},{"$f":"IF(L10=25,16,0)","v":0},{"$f":"IF(L10=26,15,0)","v":0},{"$f":"IF(L10=27,14,0)","v":0},{"$f":"IF(L10=28,13,0)","v":0},{"$f":"IF(L10=29,12,0)","v":0},{"$f":"IF(L10=30,11,0)","v":0},{"$f":"IF(L10=31,10,0)","v":0},{"$f":"IF(L10=32,9,0)","v":0},{"$f":"IF(L10=33,8,0)","v":0},{"$f":"IF(L10=34,7,0)","v":0},{"$f":"IF(L10=35,6,0)","v":0},{"$f":"IF(L10=36,5,0)","v":0},{"$f":"IF(L10=37,4,0)","v":0},{"$f":"IF(L10=38,3,0)","v":0},{"$f":"IF(L10=39,2,0)","v":0},{"$f":"IF(L10=40,1,0)","v":0},{"$f":"IF(L10>20,0,0)","v":0},{"$f":"IF(L10=\"сх\",0,0)","v":0},{"$f":"SUM(BZ10:DO10)","v":45},{"$f":"IF(N10=1,45,0)","v":0},{"$f":"IF(N10=2,42,0)","v":0},{"$f":"IF(N10=3,40,0)","v":0},{"$f":"IF(N10=4,38,0)","v":0},{"$f":"IF(N10=5,36,0)","v":0},{"$f":"IF(N10=6,35,0)","v":0},{"$f":"IF(N10=7,34,0)","v":0},{"$f":"IF(N10=8,33,0)","v":0},{"$f":"IF(N10=9,32,0)","v":0},{"$f":"IF(N10=10,31,0)","v":0},{"$f":"IF(N10=11,30,0)","v":0},{"$f":"IF(N10=12,29,0)","v":0},{"$f":"IF(N10=13,28,0)","v":0},{"$f":"IF(N10=14,27,0)","v":0},{"$f":"IF(N10=15,26,0)","v":0},{"$f":"IF(N10=16,25,0)","v":0},{"$f":"IF(N10=17,24,0)","v":0},{"$f":"IF(N10=18,23,0)","v":0},{"$f":"IF(N10=19,22,0)","v":0},{"$f":"IF(N10=20,21,0)","v":0},{"$f":"IF(N10=21,20,0)","v":0},{"$f":"IF(N10=22,19,0)","v":0},{"$f":"IF(N10=23,18,0)","v":0},{"$f":"IF(N10=24,17,0)","v":0},{"$f":"IF(N10=25,16,0)","v":0},{"$f":"IF(N10=26,15,0)","v":0},{"$f":"IF(N10=27,14,0)","v":0},{"$f":"IF(N10=28,13,0)","v":0},{"$f":"IF(N10=29,12,0)","v":0},{"$f":"IF(N10=30,11,0)","v":0},{"$f":"IF(N10=31,10,0)","v":0},{"$f":"IF(N10=32,9,0)","v":0},{"$f":"IF(N10=33,8,0)","v":0},{"$f":"IF(N10=34,7,0)","v":0},{"$f":"IF(N10=35,6,0)","v":0},{"$f":"IF(N10=36,5,0)","v":0},{"$f":"IF(N10=37,4,0)","v":0},{"$f":"IF(N10=38,3,0)","v":0},{"$f":"IF(N10=39,2,0)","v":0},{"$f":"IF(N10=40,1,0)","v":0},{"$f":"IF(N10>20,0,0)","v":0},{"$f":"IF(N10=\"сх\",0,0)","v":0},{"$f":"SUM(DQ10:FF10)","v":0},null,{"$f":"IF(L10=\"сх\",\"ноль\",IF(L10>0,L10,\"Ноль\"))","v":1},{"$f":"IF(N10=\"сх\",\"ноль\",IF(N10>0,N10,\"Ноль\"))","v":"-"},null,{"$f":"MIN(FI10,FJ10)","v":1},{"$f":"IF(AB10=#REF!,IF(N10<#REF!,#REF!,FQ10),#REF!)","v":{"$error":"#REF!"}},{"$f":"IF(AB10=#REF!,IF(N10<#REF!,0,1))","v":{"$error":"#REF!"}},{"$f":"IF(AND(FL10>=21,FL10<>0),FL10,IF(AB10<#REF!,\"СТОП\",FM10+FN10))","v":{"$error":"#REF!"}},null,15,16,null,{"$f":"IF(L10=1,25,0)","v":25},{"$f":"IF(L10=2,22,0)","v":0},{"$f":"IF(L10=3,20,0)","v":0},{"$f":"IF(L10=4,18,0)","v":0},{"$f":"IF(L10=5,16,0)","v":0},{"$f":"IF(L10=6,15,0)","v":0},{"$f":"IF(L10=7,14,0)","v":0},{"$f":"IF(L10=8,13,0)","v":0},{"$f":"IF(L10=9,12,0)","v":0},{"$f":"IF(L10=10,11,0)","v":0},{"$f":"IF(L10=11,10,0)","v":0},{"$f":"IF(L10=12,9,0)","v":0},{"$f":"IF(L10=13,8,0)","v":0},{"$f":"IF(L10=14,7,0)","v":0},{"$f":"IF(L10=15,6,0)","v":0},{"$f":"IF(L10=16,5,0)","v":0},{"$f":"IF(L10=17,4,0)","v":0},{"$f":"IF(L10=18,3,0)","v":0},{"$f":"IF(L10=19,2,0)","v":0},{"$f":"IF(L10=20,1,0)","v":0},{"$f":"IF(L10>20,0,0)","v":0},{"$f":"IF(L10=\"сх\",0,0)","v":0},{"$f":"SUM(FT10:GO10)","v":25},{"$f":"IF(N10=1,25,0)","v":0},{"$f":"IF(N10=2,22,0)","v":0},{"$f":"IF(N10=3,20,0)","v":0},{"$f":"IF(N10=4,18,0)","v":0},{"$f":"IF(N10=5,16,0)","v":0},{"$f":"IF(N10=6,15,0)","v":0},{"$f":"IF(N10=7,14,0)","v":0},{"$f":"IF(N10=8,13,0)","v":0},{"$f":"IF(N10=9,12,0)","v":0},{"$f":"IF(N10=10,11,0)","v":0},{"$f":"IF(N10=11,10,0)","v":0},{"$f":"IF(N10=12,9,0)","v":0},{"$f":"IF(N10=13,8,0)","v":0},{"$f":"IF(N10=14,7,0)","v":0},{"$f":"IF(N10=15,6,0)","v":0},{"$f":"IF(N10=16,5,0)","v":0},{"$f":"IF(N10=17,4,0)","v":0},{"$f":"IF(N10=18,3,0)","v":0},{"$f":"IF(N10=19,2,0)","v":0},{"$f":"IF(N10=20,1,0)","v":0},{"$f":"IF(N10>20,0,0)","v":0},{"$f":"IF(N10=\"сх\",0,0)","v":0},{"$f":"SUM(GQ10:HL10)","v":0},{"$f":"IF(L10=1,100,0)","v":100},{"$f":"IF(L10=2,98,0)","v":0},{"$f":"IF(L10=3,95,0)","v":0},{"$f":"IF(L10=4,93,0)","v":0},{"$f":"IF(L10=5,90,0)","v":0},{"$f":"IF(L10=6,88,0)","v":0},{"$f":"IF(L10=7,85,0)","v":0},{"$f":"IF(L10=8,83,0)","v":0},{"$f":"IF(L10=9,80,0)","v":0},{"$f":"IF(L10=10,78,0)","v":0},{"$f":"IF(L10=11,75,0)","v":0},{"$f":"IF(L10=12,73,0)","v":0},{"$f":"IF(L10=13,70,0)","v":0},{"$f":"IF(L10=14,68,0)","v":0},{"$f":"IF(L10=15,65,0)","v":0},{"$f":"IF(L10=16,63,0)","v":0},{"$f":"IF(L10=17,60,0)","v":0},{"$f":"IF(L10=18,58,0)","v":0},{"$f":"IF(L10=19,55,0)","v":0},{"$f":"IF(L10=20,53,0)","v":0},{"$f":"IF(L10>20,0,0)","v":0},{"$f":"IF(L10=\"сх\",0,0)","v":0},{"$f":"SUM(HN10:II10)","v":100},{"$f":"IF(N10=1,100,0)","v":0},{"$f":"IF(N10=2,98,0)","v":0},{"$f":"IF(N10=3,95,0)","v":0},{"$f":"IF(N10=4,93,0)","v":0},{"$f":"IF(N10=5,90,0)","v":0},{"$f":"IF(N10=6,88,0)","v":0},{"$f":"IF(N10=7,85,0)","v":0},{"$f":"IF(N10=8,83,0)","v":0},{"$f":"IF(N10=9,80,0)","v":0},{"$f":"IF(N10=10,78,0)","v":0},{"$f":"IF(N10=11,75,0)","v":0},{"$f":"IF(N10=12,73,0)","v":0},{"$f":"IF(N10=13,70,0)","v":0},{"$f":"IF(N10=14,68,0)","v":0},{"$f":"IF(N10=15,65,0)","v":0},{"$f":"IF(N10=16,63,0)","v":0},{"$f":"IF(N10=17,60,0)","v":0},{"$f":"IF(N10=18,58,0)","v":0},{"$f":"IF(N10=19,55,0)","v":0},{"$f":"IF(N10=20,53,0)","v":0},{"$f":"IF(N10>20,0,0)","v":0},{"$f":"IF(N10=\"сх\",0,0)","v":0},{"$f":"SUM(IK10:JF10)","v":0}]
[2,38.4,0,19.2,19.2,959,"Мартюченко Евгений","мс","г. Тюмень","\"Сборная команда Тюменской области\"","LYNX","-",0,"-",0,2,22,"-",0,"-",0,2,22,1,25,2,22,91,{"$f":"M11+O11","v":0},null,null,{"$f":"IF(L11=1,25,0)","v":0},{"$f":"IF(L11=2,22,0)","v":0},{"$f":"IF(L11=3,20,0)","v":0},{"$f":"IF(L11=4,18,0)","v":0},{"$f":"IF(L11=5,16,0)","v":0},{"$f":"IF(L11=6,15,0)","v":0},{"$f":"IF(L11=7,14,0)","v":0},{"$f":"IF(L11=8,13,0)","v":0},{"$f":"IF(L11=9,12,0)","v":0},{"$f":"IF(L11=10,11,0)","v":0},{"$f":"IF(L11=11,10,0)","v":0},{"$f":"IF(L11=12,9,0)","v":0},{"$f":"IF(L11=13,8,0)","v":0},{"$f":"IF(L11=14,7,0)","v":0},{"$f":"IF(L11=15,6,0)","v":0},{"$f":"IF(L11=16,5,0)","v":0},{"$f":"IF(L11=17,4,0)","v":0},{"$f":"IF(L11=18,3,0)","v":0},{"$f":"IF(L11=19,2,0)","v":0},{"$f":"IF(L11=20,1,0)","v":0},{"$f":"IF(L11>20,0,0)","v":0},{"$f":"IF(L11=\"сх\",0,0)","v":0},{"$f":"SUM(AF11:AZ11)","v":0},{"$f":"IF(N11=1,25,0)","v":0},{"$f":"IF(N11=2,22,0)","v":0},{"$f":"IF(N11=3,20,0)","v":0},{"$f":"IF(N11=4,18,0)","v":0},{"$f":"IF(N11=5,16,0)","v":0},{"$f":"IF(N11=6,15,0)","v":0},{"$f":"IF(N11=7,14,0)","v":0},{"$f":"IF(N11=8,13,0)","v":0},{"$f":"IF(N11=9,12,0)","v":0},{"$f":"IF(N11=10,11,0)","v":0},{"$f":"IF(N11=11,10,0)","v":0},{"$f":"IF(N11=12,9,0)","v":0},{"$f":"IF(N11=13,8,0)","v":0},{"$f":"IF(N11=14,7,0)","v":0},{"$f":"IF(N11=15,6,0)","v":0},{"$f":"IF(N11=16,5,0)","v":0},{"$f":"IF(N11=17,4,0)","v":0},{"$f":"IF(N11=18,3,0)","v":0},{"$f":"IF(N11=19,2,0)","v":0},{"$f":"IF(N11=20,1,0)","v":0},{"$f":"IF(N11>20,0,0)","v":0},{"$f":"IF(N11=\"сх\",0,0)","v":0},{"$f":"SUM(BC11:BW11)","v":0},{"$f":"IF(L11=1,45,0)","v":0},{"$f":"IF(L11=2,42,0)","v":0},{"$f":"IF(L11=3,40,0)","v":0},{"$f":"IF(L11=4,38,0)","v":0},{"$f":"IF(L11=5,36,0)","v":0},{"$f":"IF(L11=6,35,0)","v":0},{"$f":"IF(L11=7,34,0)","v":0},{"$f":"IF(L11=8,33,0)","v":0},{"$f":"IF(L11=9,32,0)","v":0},{"$f":"IF(L11=10,31,0)","v":0},{"$f":"IF(L11=11,30,0)","v":0},{"$f":"IF(L11=12,29,0)","v":0},{"$f":"IF(L11=13,28,0)","v":0},{"$f":"IF(L11=14,27,0)","v":0},{"$f":"IF(L11=15,26,0)","v":0},{"$f":"IF(L11=16,25,0)","v":0},{"$f":"IF(L11=17,24,0)","v":0},{"$f":"IF(L11=18,23,0)","v":0},{"$f":"IF(L11=19,22,0)","v":0},{"$f":"IF(L11=20,21,0)","v":0},{"$f":"IF(L11=21,20,0)","v":0},{"$f":"IF(L11=22,19,0)","v":0},{"$f":"IF(L11=23,18,0)","v":0},{"$f":"IF(L11=24,17,0)","v":0},{"$f":"IF(L11=25,16,0)","v":0},{"$f":"IF(L11=26,15,0)","v":0},{"$f":"IF(L11=27,14,0)","v":0},{"$f":"IF(L11=28,13,0)","v":0},{"$f":"IF(L11=29,12,0)","v":0},{"$f":"IF(L11=30,11,0)","v":0},{"$f":"IF(L11=31,10,0)","v":0},{"$f":"IF(L11=32,9,0)","v":0},{"$f":"IF(L11=33,8,0)","v":0},{"$f":"IF(L11=34,7,0)","v":0},{"$f":"IF(L11=35,6,0)","v":0},{"$f":"IF(L11=36,5,0)","v":0},{"$f":"IF(L11=37,4,0)","v":0},{"$f":"IF(L11=38,3,0)","v":0},{"$f":"IF(L11=39,2,0)","v":0},{"$f":"IF(L11=40,1,0)","v":0},{"$f":"IF(L11>20,0,0)","v":0},{"$f":"IF(L11=\"сх\",0,0)","v":0},{"$f":"SUM(BZ11:DO11)","v":0},{"$f":"IF(N11=1,45,0)","v":0},{"$f":"IF(N11=2,42,0)","v":0},{"$f":"IF(N11=3,40,0)","v":0},{"$f":"IF(N11=4,38,0)","v":0},{"$f":"IF(N11=5,36,0)","v":0},{"$f":"IF(N11=6,35,0)","v":0},{"$f":"IF(N11=7,34,0)","v":0},{"$f":"IF(N11=8,33,0)","v":0},{"$f":"IF(N11=9,32,0)","v":0},{"$f":"IF(N11=10,31,0)","v":0},{"$f":"IF(N11=11,30,0)","v":0},{"$f":"IF(N11=12,29,0)","v":0},{"$f":"IF(N11=13,28,0)","v":0},{"$f":"IF(N11=14,27,0)","v":0},{"$f":"IF(N11=15,26,0)","v":0},{"$f":"IF(N11=16,25,0)","v":0},{"$f":"IF(N11=17,24,0)","v":0},{"$f":"IF(N11=18,23,0)","v":0},{"$f":"IF(N11=19,22,0)","v":0},{"$f":"IF(N11=20,21,0)","v":0},{"$f":"IF(N11=21,20,0)","v":0},{"$f":"IF(N11=22,19,0)","v":0},{"$f":"IF(N11=23,18,0)","v":0},{"$f":"IF(N11=24,17,0)","v":0},{"$f":"IF(N11=25,16,0)","v":0},{"$f":"IF(N11=26,15,0)","v":0},{"$f":"IF(N11=27,14,0)","v":0},{"$f":"IF(N11=28,13,0)","v":0},{"$f":"IF(N11=29,12,0)","v":0},{"$f":"IF(N11=30,11,0)","v":0},{"$f":"IF(N11=31,10,0)","v":0},{"$f":"IF(N11=32,9,0)","v":0},{"$f":"IF(N11=33,8,0)","v":0},{"$f":"IF(N11=34,7,0)","v":0},{"$f":"IF(N11=35,6,0)","v":0},{"$f":"IF(N11=36,5,0)","v":0},{"$f":"IF(N11=37,4,0)","v":0},{"$f":"IF(N11=38,3,0)","v":0},{"$f":"IF(N11=39,2,0)","v":0},{"$f":"IF(N11=40,1,0)","v":0},{"$f":"IF(N11>20,0,0)","v":0},{"$f":"IF(N11=\"сх\",0,0)","v":0},{"$f":"SUM(DQ11:FF11)","v":0},null,{"$f":"IF(L11=\"сх\",\"ноль\",IF(L11>0,L11,\"Ноль\"))","v":"-"},{"$f":"IF(N11=\"сх\",\"ноль\",IF(N11>0,N11,\"Ноль\"))","v":"-"},null,{"$f":"MIN(FI11,FJ11)","v":0},{"$f":"IF(AB11=#REF!,IF(N11<#REF!,#REF!,FQ11),#REF!)","v":{"$error":"#REF!"}},{"$f":"IF(AB11=#REF!,IF(N11<#REF!,0,1))","v":{"$error":"#REF!"}},{"$f":"IF(AND(FL11>=21,FL11<>0),FL11,IF(AB11<#REF!,\"СТОП\",FM11+FN11))","v":{"$error":"#REF!"}},null,15,16,null,{"$f":"IF(L11=1,25,0)","v":0},{"$f":"IF(L11=2,22,0)","v":0},{"$f":"IF(L11=3,20,0)","v":0},{"$f":"IF(L11=4,18,0)","v":0},{"$f":"IF(L11=5,16,0)","v":0},{"$f":"IF(L11=6,15,0)","v":0},{"$f":"IF(L11=7,14,0)","v":0},{"$f":"IF(L11=8,13,0)","v":0},{"$f":"IF(L11=9,12,0)","v":0},{"$f":"IF(L11=10,11,0)","v":0},{"$f":"IF(L11=11,10,0)","v":0},{"$f":"IF(L11=12,9,0)","v":0},{"$f":"IF(L11=13,8,0)","v":0},{"$f":"IF(L11=14,7,0)","v":0},{"$f":"IF(L11=15,6,0)","v":0},{"$f":"IF(L11=16,5,0)","v":0},{"$f":"IF(L11=17,4,0)","v":0},{"$f":"IF(L11=18,3,0)","v":0},{"$f":"IF(L11=19,2,0)","v":0},{"$f":"IF(L11=20,1,0)","v":0},{"$f":"IF(L11>20,0,0)","v":0},{"$f":"IF(L11=\"сх\",0,0)","v":0},{"$f":"SUM(FT11:GO11)","v":0},{"$f":"IF(N11=1,25,0)","v":0},{"$f":"IF(N11=2,22,0)","v":0},{"$f":"IF(N11=3,20,0)","v":0},{"$f":"IF(N11=4,18,0)","v":0},{"$f":"IF(N11=5,16,0)","v":0},{"$f":"IF(N11=6,15,0)","v":0},{"$f":"IF(N11=7,14,0)","v":0},{"$f":"IF(N11=8,13,0)","v":0},{"$f":"IF(N11=9,12,0)","v":0},{"$f":"IF(N11=10,11,0)","v":0},{"$f":"IF(N11=11,10,0)","v":0},{"$f":"IF(N11=12,9,0)","v":0},{"$f":"IF(N11=13,8,0)","v":0},{"$f":"IF(N11=14,7,0)","v":0},{"$f":"IF(N11=15,6,0)","v":0},{"$f":"IF(N11=16,5,0)","v":0},{"$f":"IF(N11=17,4,0)","v":0},{"$f":"IF(N11=18,3,0)","v":0},{"$f":"IF(N11=19,2,0)","v":0},{"$f":"IF(N11=20,1,0)","v":0},{"$f":"IF(N11>20,0,0)","v":0},{"$f":"IF(N11=\"сх\",0,0)","v":0},{"$f":"SUM(GQ11:HL11)","v":0},{"$f":"IF(L11=1,100,0)","v":0},{"$f":"IF(L11=2,98,0)","v":0},{"$f":"IF(L11=3,95,0)","v":0},{"$f":"IF(L11=4,93,0)","v":0},{"$f":"IF(L11=5,90,0)","v":0},{"$f":"IF(L11=6,88,0)","v":0},{"$f":"IF(L11=7,85,0)","v":0},{"$f":"IF(L11=8,83,0)","v":0},{"$f":"IF(L11=9,80,0)","v":0},{"$f":"IF(L11=10,78,0)","v":0},{"$f":"IF(L11=11,75,0)","v":0},{"$f":"IF(L11=12,73,0)","v":0},{"$f":"IF(L11=13,70,0)","v":0},{"$f":"IF(L11=14,68,0)","v":0},{"$f":"IF(L11=15,65,0)","v":0},{"$f":"IF(L11=16,63,0)","v":0},{"$f":"IF(L11=17,60,0)","v":0},{"$f":"IF(L11=18,58,0)","v":0},{"$f":"IF(L11=19,55,0)","v":0},{"$f":"IF(L11=20,53,0)","v":0},{"$f":"IF(L11>20,0,0)","v":0},{"$f":"IF(L11=\"сх\",0,0)","v":0},{"$f":"SUM(HN11:II11)","v":0},{"$f":"IF(N11=1,100,0)","v":0},{"$f":"IF(N11=2,98,0)","v":0},{"$f":"IF(N11=3,95,0)","v":0},{"$f":"IF(N11=4,93,0)","v":0},{"$f":"IF(N11=5,90,0)","v":0},{"$f":"IF(N11=6,88,0)","v":0},{"$f":"IF(N11=7,85,0)","v":0},{"$f":"IF(N11=8,83,0)","v":0},{"$f":"IF(N11=9,80,0)","v":0},{"$f":"IF(N11=10,78,0)","v":0},{"$f":"IF(N11=11,75,0)","v":0},{"$f":"IF(N11=12,73,0)","v":0},{"$f":"IF(N11=13,70,0)","v":0},{"$f":"IF(N11=14,68,0)","v":0},{"$f":"IF(N11=15,65,0)","v":0},{"$f":"IF(N11=16,63,0)","v":0},{"$f":"IF(N11=17,60,0)","v":0},{"$f":"IF(N11=18,58,0)","v":0},{"$f":"IF(N11=19,55,0)","v":0},{"$f":"IF(N11=20,53,0)","v":0},{"$f":"IF(N11>20,0,0)","v":0},{"$f":"IF(N11=\"сх\",0,0)","v":0},{"$f":"SUM(IK11:JF11)","v":0}]
[3,53.2,19.2,17.2,16.8,1,"Смолин Евгений","кмс","г. Новый Уренгой, Ямало-Ненецкий АО","СТК \"Факел\"","Arctic-Cat",2,22,"-",0,6,15,"-",0,"-",0,8,13,4,18,9,12,80,{"$f":"M12+O12","v":22},null,null,{"$f":"IF(L12=1,25,0)","v":0},{"$f":"IF(L12=2,22,0)","v":22},{"$f":"IF(L12=3,20,0)","v":0},{"$f":"IF(L12=4,18,0)","v":0},{"$f":"IF(L12=5,16,0)","v":0},{"$f":"IF(L12=6,15,0)","v":0},{"$f":"IF(L12=7,14,0)","v":0},{"$f":"IF(L12=8,13,0)","v":0},{"$f":"IF(L12=9,12,0)","v":0},{"$f":"IF(L12=10,11,0)","v":0},{"$f":"IF(L12=11,10,0)","v":0},{"$f":"IF(L12=12,9,0)","v":0},{"$f":"IF(L12=13,8,0)","v":0},{"$f":"IF(L12=14,7,0)","v":0},{"$f":"IF(L12=15,6,0)","v":0},{"$f":"IF(L12=16,5,0)","v":0},{"$f":"IF(L12=17,4,0)","v":0},{"$f":"IF(L12=18,3,0)","v":0},{"$f":"IF(L12=19,2,0)","v":0},{"$f":"IF(L12=20,1,0)","v":0},{"$f":"IF(L12>20,0,0)","v":0},{"$f":"IF(L12=\"сх\",0,0)","v":0},{"$f":"SUM(AF12:AZ12)","v":22},{"$f":"IF(N12=1,25,0)","v":0},{"$f":"IF(N12=2,22,0)","v":0},{"$f":"IF(N12=3,20,0)","v":0},{"$f":"IF(N12=4,18,0)","v":0},{"$f":"IF(N12=5,16,0)","v":0},{"$f":"IF(N12=6,15,0)","v":0},{"$f":"IF(N12=7,14,0)","v":0},{"$f":"IF(N12=8,13,0)","v":0},{"$f":"IF(N12=9,12,0)","v":0},{"$f":"IF(N12=10,11,0)","v":0},{"$f":"IF(N12=11,10,0)","v":0},{"$f":"IF(N12=12,9,0)","v":0},{"$f":"IF(N12=13,8,0)","v":0},{"$f":"IF(N12=14,7,0)","v":0},{"$f":"IF(N12=15,6,0)","v":0},{"$f":"IF(N12=16,5,0)","v":0},{"$f":"IF(N12=17,4,0)","v":0},{"$f":"IF(N12=18,3,0)","v":0},{"$f":"IF(N12=19,2,0)","v":0},{"$f":"IF(N12=20,1,0)","v":0},{"$f":"IF(N12>20,0,0)","v":0},{"$f":"IF(N12=\"сх\",0,0)","v":0},{"$f":"SUM(BC12:BW12)","v":0},{"$f":"IF(L12=1,45,0)","v":0},{"$f":"IF(L12=2,42,0)","v":42},{"$f":"IF(L12=3,40,0)","v":0},{"$f":"IF(L12=4,38,0)","v":0},{"$f":"IF(L12=5,36,0)","v":0},{"$f":"IF(L12=6,35,0)","v":0},{"$f":"IF(L12=7,34,0)","v":0},{"$f":"IF(L12=8,33,0)","v":0},{"$f":"IF(L12=9,32,0)","v":0},{"$f":"IF(L12=10,31,0)","v":0},{"$f":"IF(L12=11,30,0)","v":0},{"$f":"IF(L12=12,29,0)","v":0},{"$f":"IF(L12=13,28,0)","v":0},{"$f":"IF(L12=14,27,0)","v":0},{"$f":"IF(L12=15,26,0)","v":0},{"$f":"IF(L12=16,25,0)","v":0},{"$f":"IF(L12=17,24,0)","v":0},{"$f":"IF(L12=18,23,0)","v":0},{"$f":"IF(L12=19,22,0)","v":0},{"$f":"IF(L12=20,21,0)","v":0},{"$f":"IF(L12=21,20,0)","v":0},{"$f":"IF(L12=22,19,0)","v":0},{"$f":"IF(L12=23,18,0)","v":0},{"$f":"IF(L12=24,17,0)","v":0},{"$f":"IF(L12=25,16,0)","v":0},{"$f":"IF(L12=26,15,0)","v":0},{"$f":"IF(L12=27,14,0)","v":0},{"$f":"IF(L12=28,13,0)","v":0},{"$f":"IF(L12=29,12,0)","v":0},{"$f":"IF(L12=30,11,0)","v":0},{"$f":"IF(L12=31,10,0)","v":0},{"$f":"IF(L12=32,9,0)","v":0},{"$f":"IF(L12=33,8,0)","v":0},{"$f":"IF(L12=34,7,0)","v":0},{"$f":"IF(L12=35,6,0)","v":0},{"$f":"IF(L12=36,5,0)","v":0},{"$f":"IF(L12=37,4,0)","v":0},{"$f":"IF(L12=38,3,0)","v":0},{"$f":"IF(L12=39,2,0)","v":0},{"$f":"IF(L12=40,1,0)","v":0},{"$f":"IF(L12>20,0,0)","v":0},{"$f":"IF(L12=\"сх\",0,0)","v":0},{"$f":"SUM(BZ12:DO12)","v":42},{"$f":"IF(N12=1,45,0)","v":0},{"$f":"IF(N12=2,42,0)","v":0},{"$f":"IF(N12=3,40,0)","v":0},{"$f":"IF(N12=4,38,0)","v":0},{"$f":"IF(N12=5,36,0)","v":0},{"$f":"IF(N12=6,35,0)","v":0},{"$f":"IF(N12=7,34,0)","v":0},{"$f":"IF(N12=8,33,0)","v":0},{"$f":"IF(N12=9,32,0)","v":0},{"$f":"IF(N12=10,31,0)","v":0},{"$f":"IF(N12=11,30,0)","v":0},{"$f":"IF(N12=12,29,0)","v":0},{"$f":"IF(N12=13,28,0)","v":0},{"$f":"IF(N12=14,27,0)","v":0},{"$f":"IF(N12=15,26,0)","v":0},{"$f":"IF(N12=16,25,0)","v":0},{"$f":"IF(N12=17,24,0)","v":0},{"$f":"IF(N12=18,23,0)","v":0},{"$f":"IF(N12=19,22,0)","v":0},{"$f":"IF(N12=20,21,0)","v":0},{"$f":"IF(N12=21,20,0)","v":0},{"$f":"IF(N12=22,19,0)","v":0},{"$f":"IF(N12=23,18,0)","v":0},{"$f":"IF(N12=24,17,0)","v":0},{"$f":"IF(N12=25,16,0)","v":0},{"$f":"IF(N12=26,15,0)","v":0},{"$f":"IF(N12=27,14,0)","v":0},{"$f":"IF(N12=28,13,0)","v":0},{"$f":"IF(N12=29,12,0)","v":0},{"$f":"IF(N12=30,11,0)","v":0},{"$f":"IF(N12=31,10,0)","v":0},{"$f":"IF(N12=32,9,0)","v":0},{"$f":"IF(N12=33,8,0)","v":0},{"$f":"IF(N12=34,7,0)","v":0},{"$f":"IF(N12=35,6,0)","v":0},{"$f":"IF(N12=36,5,0)","v":0},{"$f":"IF(N12=37,4,0)","v":0},{"$f":"IF(N12=38,3,0)","v":0},{"$f":"IF(N12=39,2,0)","v":0},{"$f":"IF(N12=40,1,0)","v":0},{"$f":"IF(N12>20,0,0)","v":0},{"$f":"IF(N12=\"сх\",0,0)","v":0},{"$f":"SUM(DQ12:FF12)","v":0},null,{"$f":"IF(L12=\"сх\",\"ноль\",IF(L12>0,L12,\"Ноль\"))","v":2},{"$f":"IF(N12=\"сх\",\"ноль\",IF(N12>0,N12,\"Ноль\"))","v":"-"},null,{"$f":"MIN(FI12,FJ12)","v":2},{"$f":"IF(AB12=#REF!,IF(N12<#REF!,#REF!,FQ12),#REF!)","v":{"$error":"#REF!"}},{"$f":"IF(AB12=#REF!,IF(N12<#REF!,0,1))","v":{"$error":"#REF!"}},{"$f":"IF(AND(FL12>=21,FL12<>0),FL12,IF(AB12<#REF!,\"СТОП\",FM12+FN12))","v":{"$error":"#REF!"}},null,15,16,null,{"$f":"IF(L12=1,25,0)","v":0},{"$f":"IF(L12=2,22,0)","v":22},{"$f":"IF(L12=3,20,0)","v":0},{"$f":"IF(L12=4,18,0)","v":0},{"$f":"IF(L12=5,16,0)","v":0},{"$f":"IF(L12=6,15,0)","v":0},{"$f":"IF(L12=7,14,0)","v":0},{"$f":"IF(L12=8,13,0)","v":0},{"$f":"IF(L12=9,12,0)","v":0},{"$f":"IF(L12=10,11,0)","v":0},{"$f":"IF(L12=11,10,0)","v":0},{"$f":"IF(L12=12,9,0)","v":0},{"$f":"IF(L12=13,8,0)","v":0},{"$f":"IF(L12=14,7,0)","v":0},{"$f":"IF(L12=15,6,0)","v":0},{"$f":"IF(L12=16,5,0)","v":0},{"$f":"IF(L12=17,4,0)","v":0},{"$f":"IF(L12=18,3,0)","v":0},{"$f":"IF(L12=19,2,0)","v":0},{"$f":"IF(L12=20,1,0)","v":0},{"$f":"IF(L12>20,0,0)","v":0},{"$f":"IF(L12=\"сх\",0,0)","v":0},{"$f":"SUM(FT12:GO12)","v":22},{"$f":"IF(N12=1,25,0)","v":0},{"$f":"IF(N12=2,22,0)","v":0},{"$f":"IF(N12=3,20,0)","v":0},{"$f":"IF(N12=4,18,0)","v":0},{"$f":"IF(N12=5,16,0)","v":0},{"$f":"IF(N12=6,15,0)","v":0},{"$f":"IF(N12=7,14,0)","v":0},{"$f":"IF(N12=8,13,0)","v":0},{"$f":"IF(N12=9,12,0)","v":0},{"$f":"IF(N12=10,11,0)","v":0},{"$f":"IF(N12=11,10,0)","v":0},{"$f":"IF(N12=12,9,0)","v":0},{"$f":"IF(N12=13,8,0)","v":0},{"$f":"IF(N12=14,7,0)","v":0},{"$f":"IF(N12=15,6,0)","v":0},{"$f":"IF(N12=16,5,0)","v":0},{"$f":"IF(N12=17,4,0)","v":0},{"$f":"IF(N12=18,3,0)","v":0},{"$f":"IF(N12=19,2,0)","v":0},{"$f":"IF(N12=20,1,0)","v":0},{"$f":"IF(N12>20,0,0)","v":0},{"$f":"IF(N12=\"сх\",0,0)","v":0},{"$f":"SUM(GQ12:HL12)","v":0},{"$f":"IF(L12=1,100,0)","v":0},{"$f":"IF(L12=2,98,0)","v":98},{"$f":"IF(L12=3,95,0)","v":0},{"$f":"IF(L12=4,93,0)","v":0},{"$f":"IF(L12=5,90,0)","v":0},{"$f":"IF(L12=6,88,0)","v":0},{"$f":"IF(L12=7,85,0)","v":0},{"$f":"IF(L12=8,83,0)","v":0},{"$f":"IF(L12=9,80,0)","v":0},{"$f":"IF(L12=10,78,0)","v":0},{"$f":"IF(L12=11,75,0)","v":0},{"$f":"IF(L12=12,73,0)","v":0},{"$f":"IF(L12=13,70,0)","v":0},{"$f":"IF(L12=14,68,0)","v":0},{"$f":"IF(L12=15,65,0)","v":0},{"$f":"IF(L12=16,63,0)","v":0},{"$f":"IF(L12=17,60,0)","v":0},{"$f":"IF(L12=18,58,0)","v":0},{"$f":"IF(L12=19,55,0)","v":0},{"$f":"IF(L12=20,53,0)","v":0},{"$f":"IF(L12>20,0,0)","v":0},{"$f":"IF(L12=\"сх\",0,0)","v":0},{"$f":"SUM(HN12:II12)","v":98},{"$f":"IF(N12=1,100,0)","v":0},{"$f":"IF(N12=2,98,0)","v":0},{"$f":"IF(N12=3,95,0)","v":0},{"$f":"IF(N12=4,93,0)","v":0},{"$f":"IF(N12=5,90,0)","v":0},{"$f":"IF(N12=6,88,0)","v":0},{"$f":"IF(N12=7,85,0)","v":0},{"$f":"IF(N12=8,83,0)","v":0},{"$f":"IF(N12=9,80,0)","v":0},{"$f":"IF(N12=10,78,0)","v":0},{"$f":"IF(N12=11,75,0)","v":0},{"$f":"IF(N12=12,73,0)","v":0},{"$f":"IF(N12=13,70,0)","v":0},{"$f":"IF(N12=14,68,0)","v":0},{"$f":"IF(N12=15,65,0)","v":0},{"$f":"IF(N12=16,63,0)","v":0},{"$f":"IF(N12=17,60,0)","v":0},{"$f":"IF(N12=18,58,0)","v":0},{"$f":"IF(N12=19,55,0)","v":0},{"$f":"IF(N12=20,53,0)","v":0},{"$f":"IF(N12>20,0,0)","v":0},{"$f":"IF(N12=\"сх\",0,0)","v":0},{"$f":"SUM(IK12:JF12)","v":0}]
[4,36.799999999999997,0,18.399999999999999,18.399999999999999,188,"Рязанцев Денис","мс","г. Ярославль","СТК \"Атлант\"","LYNX","-",0,"-",0,3,20,"-",0,"-",0,3,20,3,20,4,18,78]
[5,50,16.8,15.6,17.600000000000001,6,"Знайдюк Александр","кмс","г. Новый Уренгой, Ямало-Ненецкий АО","СТК \"Ямбург\"","LYNX",7,14,"-",0,10,11,"-",0,"-",0,4,18,6,15,5,16,74]
[6,51.6,18.399999999999999,16.8,16.399999999999999,3,"Романенко Сергей","мс","г. Новый Уренгой, Ямало-Ненецкий АО","СТК \"Факел\"","LYNX",3,20,"-",0,7,14,"-",0,"-",0,7,14,8,13,10,11,72]
[7,36,0,18,18,4,"Попов Алексей","мс","г. Ярославль","СТК \"Атлант\"","LYNX","-",0,"-",0,4,18,"-",0,"-",0,6,15,5,16,3,20,69]
[8,50.4,18,16.399999999999999,16,5,"Хоменко Валерий","кмс","г. Новый Уренгой, Ямало-Ненецкий АО","СТК \"Факел\"","LYNX",4,18,"-",0,8,13,"-",0,"-",0,9,12,10,11,7,14,68]
[9,34.799999999999997,0,17.600000000000001,17.2,16,"Пехтерев Артем","кмс","г. Ярославль","СТК \"Атлант\"","LYNX","-",0,"-",0,5,16,"-",0,"-",0,5,16,7,14,6,15,61]
[10,48,16.399999999999999,16,15.6,7,"Садрисламов Денис","I","г. Новый Уренгой, Ямало-Ненецкий АО","СТК \"Ямбург\"","LYNX","сх",0,"-",0,9,12,"-",0,"-",0,10,11,9,12,8,13,48]
[11,17.600000000000001,17.600000000000001,0,0,369,"Шмаль Руслан","I","г. Новый Уренгой, Ямало-Ненецкий АО","СТК \"Факел\"","LYNX",5,16,"-",0,"-",0,"-",0,"-",0,"-",0,"-",0,"-",0,16]
[12,17.2,17.2,0,0,9,"Санин Константин","I","г. Новый Уренгой, Ямало-Ненецкий АО","СТК \"Ямбург\"","LYNX",6,15,"-",0,"-",0,"-",0,"-",0,"-",0,"-",0,"-",0,15]
[13,15.2,0,15.2,0,8,"Карпман Яков","кмс","г. Ярославль","СТК \"Атлант\"","LYNX","-",0,"-",0,11,10,"-",0,"-",0,"н/с",0,"н/с",0,"н/с",0,10]
[]
[]
[]
[]
[]
["Главный судья соревнований"]
["судья Всероссийской категории:                                                                                                              А. Б. Стеблинский (г. Тюмень; лицензия МФР А 144)"]
[]
["Главный секретарь соревнований"]
["судья Всероссийской категории:                                                                                              А. Ю. Иванов (г. Москва/лицензия МФР А 105; FIM 11245)"]

{"sheet":"СПОРТ ЯНАО","index":2,"n_rows":31,"n_cols":268,"rows_kept":31,"cut":false,"hidden":false,"merged":[[0,25,3,25],[3,0,3,24],[4,0,4,24],[6,9,8,9],[6,10,8,10],[6,11,8,11],[6,12,6,13],[6,14,6,15],[5,12,5,15],[6,24,8,24],[6,25,8,25],[7,12,8,12],[7,13,8,13],[7,14,8,14],[7,15,8,15],[2,0,2,24],[1,0,1,24],[6,0,8,0],[6,1,8,1],[6,6,8,6],[6,7,8,7],[6,8,8,8],[6,16,6,17],[6,18,6,19],[7,16,8,16],[7,17,8,17],[7,18,8,18],[7,19,8,19],[6,20,6,21],[26,0,26,7],[29,0,29,7],[5,16,5,19],[5,20,5,23],[6,2,8,2],[6,3,8,3],[6,4,8,4],[6,5,8,5],[6,22,6,23],[7,20,8,20],[7,21,8,21],[7,22,8,22],[7,23,8,23]]}
[]
["Кубок Ямало-Ненецкого АО по кроссу на снегоходах2016/2017 года."]
["СВОДНЫЙ ПРОТОКОЛ  ЛИЧНОГО  ЗАЧЕТА по сумме 3-х этапов",null,null,null,null,null,null,null,null,null,null,null,null,null,null,null,null,null,null,null,null,null,null,null,null,null,null,null,null,null,null,null,null,null,null,null,null,null,null,null,null,null,null,null,null,null,null,null,null,null,null,null,null,null,null,null,null,null,null,null,null,null,null,null,null,null,null,null,null,null,null,null,null,null,null,null,null,null,null,null,null,null,null,null,null,null,null,null,null,null,null,null,null,null,null,null,null,null,null,null,null,null,null,null,null,null,null,null,null,null,null,null,null,null,null,null,null,null,null,null,null,null,null,null,null,null,null,null,null,null,null,null,null,null,null,null,null,null,null,null,null,null,null,null,null,null,null,null,null,null,null,null,null,null,null,null,null,null,null,null,null,null,null,null,null,null,null,null,null,null,null,null,null,null,null,null,null,null,null,null,null,null,null,null,"первый этап"]
["1-й этап: 03 - 04 декабря 2016 года - г. Новый Уренгой, Ямало-Ненецкий АО; 2-й этап: 24 - 26 марта 2017 года - г. Муравленко, Ямало-Ненецкий АО; 3-й этап: 31 марта - 02 апреля 2017 года - г. Новый Уренгой, Ямало-Ненецкий АО.",null,null,null,null,null,null,null,null,null,null,null,null,null,null,null,null,null,null,null,null,null,null,null,null,null,null,null,null,null,null,null,null,null,null,null,null,null,null,null,null,null,null,null,null,null,null,null,null,null,null,null,null,null,null,null,null,null,null,null,null,null,null,null,null,null,null,null,null,null,null,null,null,null,null,null,null,null,null,null,null,null,null,null,null,null,null,null,null,null,null,null,null,null,null,null,null,null,null,null,null,null,null,null,null,null,null,null,null,null,null,null,null,null,null,null,null,null,null,null,null,null,null,null,null,null,null,null,null,null,null,null,null,null,null,null,null,null,null,null,null,null,null,null,null,null,null,null,null,null,null,null,null,null,null,null,null,null,null,null,null,null,null,null,null,null,null,null,null,null,null,null,null,"первый заезд личные очки",null,null,null,null,null,null,null,null,null,null,null,null,null,null,null,null,null,null,null,null,null,"второй заезд личные очки",null,null,null,null,null,null,null,null,null,null,null,null,null,null,null,null,null,null,null,null,null,null,"Первый заезд командные очки",null,null,null,null,null,null,null,null,null,null,null,null,null,null,null,null,null,null,null,null,null,null,"Второй заезд командные очки"]
["Класс \"СПОРТ\".",null,null,null,null,null,null,null,null,null,null,null,null,null,null,null,null,null,null,null,null,null,null,null,null,null,null,null,null,null,null,null,null,null,null,null,null,null,null,null,null,null,null,null,null,null,null,null,null,null,null,null,null,null,null,null,null,null,null,null,null,null,null,null,null,null,null,null,null,null,null,null,null,null,null,null,null,null,null,null,null,null,null,null,null,null,null,null,null,null,null,null,null,null,null,null,null,null,null,null,null,null,null,null,null,null,null,null,null,null,null,null,null,null,null,null,null,null,null,null,null,null,null,null,null,null,null,null,null,null,null,null,null,null,null,null,null,null,null,null,null,null,null,null,null,null,null,null,null,null,null,null,null,null,null,null,null,null,null,null,null,null,null,null,null,null,null,null,null,null,null,null,1,2,3,4,5,6,7,8,9,10,11,12,13,14,15,16,17,18,19,20,21,"сх","Sym",1,2,3,4,5,6,7,8,9,10,11,12,13,14,15,16,17,18,19,20,21,"cx","sym",1,2,3,4,5,6,7,8,9,10,11,12,13,14,15,16,17,18,19,20,21,"сх","очки",1,2,3,4,5,6,7,8,9,10,11,12,13,14,15,16,17,18,19,20,21,"сх","очки",{"$f":"COUNT(FQ5:JD5)","v":84},"Н. Стро","В. стро","место"]
[null,null,null,null,null,null,null,null,null,null,null,null,"1-й этап",null,null,null,"2-й этап",null,null,null,"3-й этап"]
["Место","РЕЙТИНГ Коэф.  0,5","СУММА РЕЙТИНГОВЫЕ ОЧКИ","1-й этап РЕЙТИНГОВЫЕ ОЧКИ Коэф. 0,2","2-й этап РЕЙТИНГОВЫЕ ОЧКИ Коэф. 0,2","3-й этап РЕЙТИНГОВЫЕ ОЧКИ Коэф. 0,2","Ст. №","Фамилия, Имя","Раз  ряд","Город (край, район, область)","Команда","Мото","I-й заезд",null,"II-й заезд",null,"I-й заезд",null,"II-й заезд",null,"I-й заезд",null,"II-й заезд",null,"Сумма очков              в личном зачете","Сумма очк. в командном зачете"]
[null,null,null,null,null,null,null,null,null,null,null,null,"место","лич. очки","место","лич. очки","место","лич. очки","место","лич. очки","место","лич. очки","место","лич. очки",null,null,null,null,null,"первый заезд личные очки",null,null,null,null,null,null,null,null,null,null,null,null,null,null,null,null,null,null,null,null,null,"второй заезд личные очки",null,null,null,null,null,null,null,null,null,null,null,null,null,null,null,null,null,null,null,null,null,null,"Первый заезд командные очки",null,null,null,null,null,null,null,null,null,null,null,null,null,null,null,null,null,null,null,null,null,null,null,null,null,null,null,null,null,null,null,null,null,null,null,null,null,null,null,null,null,null,"Второй заезд командные очки",null,null,null,null,null,null,null,null,null,null,null,null,null,null,null,null,null,null,null,null,null,null,null,null,null,null,null,null,null,null,null,null,null,null,null,null,null,null,null,null,null,null,null,1,2,null,null,null,null,null,null,null,null,null,null,null,null,null,null,null,null,null,null,null,null,null,"первый этап"]
[null,null,null,null,null,null,null,null,null,null,null,null,null,null,null,null,null,null,null,null,null,null,null,null,null,null,null,null,1,2,3,4,5,6,7,8,9,10,11,12,13,14,15,16,17,18,19,20,21,"сх",null,1,2,3,4,5,6,7,8,9,10,11,12,13,14,15,16,17,18,19,20,null,"cx",null,1,2,3,4,5,6,7,8,9,10,11,12,13,14,15,16,17,18,19,20,21,22,23,24,25,26,27,28,29,30,31,32,33,34,35,36,37,38,39,40,null,null,null,1,2,3,4,5,6,7,8,9,10,11,12,13,14,15,16,17,18,19,20,21,22,23,24,25,26,27,28,29,30,31,32,33,34,35,36,37,38,39,40,null,null,null,null,null,null,null,"мин","Н. Стро","В. стро","место",null,"чр1","чр2",null,null,"первый заезд личные очки",null,null,null,null,null,null,null,null,null,null,null,null,null,null,null,null,null,null,null,null,null,"второй заезд личные очки",null,null,null,null,null,null,null,null,null,null,null,null,null,null,null,null,null,null,null,null,null,null,"Первый заезд командные очки",null,null,null,null,null,null,null,null,null,null,null,null,null,null,null,null,null,null,null,null,null,null,"Второй заезд командные очки"]
[1,null,{"$f":"SUM(F10+E10+D10)","v":28.2},10,9,9.1999999999999993,333,"Куклин Вадим","кмс","г. Новый Уренгой, Ямало-Ненецкий АО","СТК \"Факел\"","LYNX",1,25,"-",0,4,18,"-",0,3,20,3,20,{"$f":"SUM(N10+P10+R10+T10+V10+X10)","v":83},{"$f":"N10+P10","v":25},null,null,{"$f":"IF(M10=1,25,0)","v":25},{"$f":"IF(M10=2,22,0)","v":0},{"$f":"IF(M10=3,20,0)","v":0},{"$f":"IF(M10=4,18,0)","v":0},{"$f":"IF(M10=5,16,0)","v":0},{"$f":"IF(M10=6,15,0)","v":0},{"$f":"IF(M10=7,14,0)","v":0},{"$f":"IF(M10=8,13,0)","v":0},{"$f":"IF(M10=9,12,0)","v":0},{"$f":"IF(M10=10,11,0)","v":0},{"$f":"IF(M10=11,10,0)","v":0},{"$f":"IF(M10=12,9,0)","v":0},{"$f":"IF(M10=13,8,0)","v":0},{"$f":"IF(M10=14,7,0)","v":0},{"$f":"IF(M10=15,6,0)","v":0},{"$f":"IF(M10=16,5,0)","v":0},{"$f":"IF(M10=17,4,0)","v":0},{"$f":"IF(M10=18,3,0)","v":0},{"$f":"IF(M10=19,2,0)","v":0},{"$f":"IF(M10=20,1,0)","v":0},{"$f":"IF(M10>20,0,0)","v":0},{"$f":"IF(M10=\"сх\",0,0)","v":0},{"$f":"SUM(AC10:AW10)","v":25},{"$f":"IF(O10=1,25,0)","v":0},{"$f":"IF(O10=2,22,0)","v":0},{"$f":"IF(O10=3,20,0)","v":0},{"$f":"IF(O10=4,18,0)","v":0},{"$f":"IF(O10=5,16,0)","v":0},{"$f":"IF(O10=6,15,0)","v":0},{"$f":"IF(O10=7,14,0)","v":0},{"$f":"IF(O10=8,13,0)","v":0},{"$f":"IF(O10=9,12,0)","v":0},{"$f":"IF(O10=10,11,0)","v":0},{"$f":"IF(O10=11,10,0)","v":0},{"$f":"IF(O10=12,9,0)","v":0},{"$f":"IF(O10=13,8,0)","v":0},{"$f":"IF(O10=14,7,0)","v":0},{"$f":"IF(O10=15,6,0)","v":0},{"$f":"IF(O10=16,5,0)","v":0},{"$f":"IF(O10=17,4,0)","v":0},{"$f":"IF(O10=18,3,0)","v":0},{"$f":"IF(O10=19,2,0)","v":0},{"$f":"IF(O10=20,1,0)","v":0},{"$f":"IF(O10>20,0,0)","v":0},{"$f":"IF(O10=\"сх\",0,0)","v":0},{"$f":"SUM(AZ10:BT10)","v":0},{"$f":"IF(M10=1,45,0)","v":45},{"$f":"IF(M10=2,42,0)","v":0},{"$f":"IF(M10=3,40,0)","v":0},{"$f":"IF(M10=4,38,0)","v":0},{"$f":"IF(M10=5,36,0)","v":0},{"$f":"IF(M10=6,35,0)","v":0},{"$f":"IF(M10=7,34,0)","v":0},{"$f":"IF(M10=8,33,0)","v":0},{"$f":"IF(M10=9,32,0)","v":0},{"$f":"IF(M10=10,31,0)","v":0},{"$f":"IF(M10=11,30,0)","v":0},{"$f":"IF(M10=12,29,0)","v":0},{"$f":"IF(M10=13,28,0)","v":0},{"$f":"IF(M10=14,27,0)","v":0},{"$f":"IF(M10=15,26,0)","v":0},{"$f":"IF(M10=16,25,0)","v":0},{"$f":"IF(M10=17,24,0)","v":0},{"$f":"IF(M10=18,23,0)","v":0},{"$f":"IF(M10=19,22,0)","v":0},{"$f":"IF(M10=20,21,0)","v":0},{"$f":"IF(M10=21,20,0)","v":0},{"$f":"IF(M10=22,19,0)","v":0},{"$f":"IF(M10=23,18,0)","v":0},{"$f":"IF(M10=24,17,0)","v":0},{"$f":"IF(M10=25,16,0)","v":0},{"$f":"IF(M10=26,15,0)","v":0},{"$f":"IF(M10=27,14,0)","v":0},{"$f":"IF(M10=28,13,0)","v":0},{"$f":"IF(M10=29,12,0)","v":0},{"$f":"IF(M10=30,11,0)","v":0},{"$f":"IF(M10=31,10,0)","v":0},{"$f":"IF(M10=32,9,0)","v":0},{"$f":"IF(M10=33,8,0)","v":0},{"$f":"IF(M10=34,7,0)","v":0},{"$f":"IF(M10=35,6,0)","v":0},{"$f":"IF(M10=36,5,0)","v":0},{"$f":"IF(M10=37,4,0)","v":0},{"$f":"IF(M10=38,3,0)","v":0},{"$f":"IF(M10=39,2,0)","v":0},{"$f":"IF(M10=40,1,0)","v":0},{"$f":"IF(M10>20,0,0)","v":0},{"$f":"IF(M10=\"сх\",0,0)","v":0},{"$f":"SUM(BW10:DL10)","v":45},{"$f":"IF(O10=1,45,0)","v":0},{"$f":"IF(O10=2,42,0)","v":0},{"$f":"IF(O10=3,40,0)","v":0},{"$f":"IF(O10=4,38,0)","v":0},{"$f":"IF(O10=5,36,0)","v":0},{"$f":"IF(O10=6,35,0)","v":0},{"$f":"IF(O10=7,34,0)","v":0},{"$f":"IF(O10=8,33,0)","v":0},{"$f":"IF(O10=9,32,0)","v":0},{"$f":"IF(O10=10,31,0)","v":0},{"$f":"IF(O10=11,30,0)","v":0},{"$f":"IF(O10=12,29,0)","v":0},{"$f":"IF(O10=13,28,0)","v":0},{"$f":"IF(O10=14,27,0)","v":0},{"$f":"IF(O10=15,26,0)","v":0},{"$f":"IF(O10=16,25,0)","v":0},{"$f":"IF(O10=17,24,0)","v":0},{"$f":"IF(O10=18,23,0)","v":0},{"$f":"IF(O10=19,22,0)","v":0},{"$f":"IF(O10=20,21,0)","v":0},{"$f":"IF(O10=21,20,0)","v":0},{"$f":"IF(O10=22,19,0)","v":0},{"$f":"IF(O10=23,18,0)","v":0},{"$f":"IF(O10=24,17,0)","v":0},{"$f":"IF(O10=25,16,0)","v":0},{"$f":"IF(O10=26,15,0)","v":0},{"$f":"IF(O10=27,14,0)","v":0},{"$f":"IF(O10=28,13,0)","v":0},{"$f":"IF(O10=29,12,0)","v":0},{"$f":"IF(O10=30,11,0)","v":0},{"$f":"IF(O10=31,10,0)","v":0},{"$f":"IF(O10=32,9,0)","v":0},{"$f":"IF(O10=33,8,0)","v":0},{"$f":"IF(O10=34,7,0)","v":0},{"$f":"IF(O10=35,6,0)","v":0},{"$f":"IF(O10=36,5,0)","v":0},{"$f":"IF(O10=37,4,0)","v":0},{"$f":"IF(O10=38,3,0)","v":0},{"$f":"IF(O10=39,2,0)","v":0},{"$f":"IF(O10=40,1,0)","v":0},{"$f":"IF(O10>20,0,0)","v":0},{"$f":"IF(O10=\"сх\",0,0)","v":0},{"$f":"SUM(DN10:FC10)","v":0},null,{"$f":"IF(M10=\"сх\",\"ноль\",IF(M10>0,M10,\"Ноль\"))","v":1},{"$f":"IF(O10=\"сх\",\"ноль\",IF(O10>0,O10,\"Ноль\"))","v":"-"},null,{"$f":"MIN(FF10,FG10)","v":1},{"$f":"IF(Y10=#REF!,IF(O10<#REF!,#REF!,FN10),#REF!)","v":{"$error":"#REF!"}},{"$f":"IF(Y10=#REF!,IF(O10<#REF!,0,1))","v":{"$error":"#REF!"}},{"$f":"IF(AND(FI10>=21,FI10<>0),FI10,IF(Y10<#REF!,\"СТОП\",FJ10+FK10))","v":{"$error":"#REF!"}},null,15,16,null,{"$f":"IF(M10=1,25,0)","v":25},{"$f":"IF(M10=2,22,0)","v":0},{"$f":"IF(M10=3,20,0)","v":0},{"$f":"IF(M10=4,18,0)","v":0},{"$f":"IF(M10=5,16,0)","v":0},{"$f":"IF(M10=6,15,0)","v":0},{"$f":"IF(M10=7,14,0)","v":0},{"$f":"IF(M10=8,13,0)","v":0},{"$f":"IF(M10=9,12,0)","v":0},{"$f":"IF(M10=10,11,0)","v":0},{"$f":"IF(M10=11,10,0)","v":0},{"$f":"IF(M10=12,9,0)","v":0},{"$f":"IF(M10=13,8,0)","v":0},{"$f":"IF(M10=14,7,0)","v":0},{"$f":"IF(M10=15,6,0)","v":0},{"$f":"IF(M10=16,5,0)","v":0},{"$f":"IF(M10=17,4,0)","v":0},{"$f":"IF(M10=18,3,0)","v":0},{"$f":"IF(M10=19,2,0)","v":0},{"$f":"IF(M10=20,1,0)","v":0},{"$f":"IF(M10>20,0,0)","v":0},{"$f":"IF(M10=\"сх\",0,0)","v":0},{"$f":"SUM(FQ10:GL10)","v":25},{"$f":"IF(O10=1,25,0)","v":0},{"$f":"IF(O10=2,22,0)","v":0},{"$f":"IF(O10=3,20,0)","v":0},{"$f":"IF(O10=4,18,0)","v":0},{"$f":"IF(O10=5,16,0)","v":0},{"$f":"IF(O10=6,15,0)","v":0},{"$f":"IF(O10=7,14,0)","v":0},{"$f":"IF(O10=8,13,0)","v":0},{"$f":"IF(O10=9,12,0)","v":0},{"$f":"IF(O10=10,11,0)","v":0},{"$f":"IF(O10=11,10,0)","v":0},{"$f":"IF(O10=12,9,0)","v":0},{"$f":"IF(O10=13,8,0)","v":0},{"$f":"IF(O10=14,7,0)","v":0},{"$f":"IF(O10=15,6,0)","v":0},{"$f":"IF(O10=16,5,0)","v":0},{"$f":"IF(O10=17,4,0)","v":0},{"$f":"IF(O10=18,3,0)","v":0},{"$f":"IF(O10=19,2,0)","v":0},{"$f":"IF(O10=20,1,0)","v":0},{"$f":"IF(O10>20,0,0)","v":0},{"$f":"IF(O10=\"сх\",0,0)","v":0},{"$f":"SUM(GN10:HI10)","v":0},{"$f":"IF(M10=1,100,0)","v":100},{"$f":"IF(M10=2,98,0)","v":0},{"$f":"IF(M10=3,95,0)","v":0},{"$f":"IF(M10=4,93,0)","v":0},{"$f":"IF(M10=5,90,0)","v":0},{"$f":"IF(M10=6,88,0)","v":0},{"$f":"IF(M10=7,85,0)","v":0},{"$f":"IF(M10=8,83,0)","v":0},{"$f":"IF(M10=9,80,0)","v":0},{"$f":"IF(M10=10,78,0)","v":0},{"$f":"IF(M10=11,75,0)","v":0},{"$f":"IF(M10=12,73,0)","v":0},{"$f":"IF(M10=13,70,0)","v":0},{"$f":"IF(M10=14,68,0)","v":0},{"$f":"IF(M10=15,65,0)","v":0},{"$f":"IF(M10=16,63,0)","v":0},{"$f":"IF(M10=17,60,0)","v":0},{"$f":"IF(M10=18,58,0)","v":0},{"$f":"IF(M10=19,55,0)","v":0},{"$f":"IF(M10=20,53,0)","v":0},{"$f":"IF(M10>20,0,0)","v":0},{"$f":"IF(M10=\"сх\",0,0)","v":0},{"$f":"SUM(HK10:IF10)","v":100},{"$f":"IF(O10=1,100,0)","v":0},{"$f":"IF(O10=2,98,0)","v":0},{"$f":"IF(O10=3,95,0)","v":0},{"$f":"IF(O10=4,93,0)","v":0},{"$f":"IF(O10=5,90,0)","v":0},{"$f":"IF(O10=6,88,0)","v":0},{"$f":"IF(O10=7,85,0)","v":0},{"$f":"IF(O10=8,83,0)","v":0},{"$f":"IF(O10=9,80,0)","v":0},{"$f":"IF(O10=10,78,0)","v":0},{"$f":"IF(O10=11,75,0)","v":0},{"$f":"IF(O10=12,73,0)","v":0},{"$f":"IF(O10=13,70,0)","v":0},{"$f":"IF(O10=14,68,0)","v":0},{"$f":"IF(O10=15,65,0)","v":0},{"$f":"IF(O10=16,63,0)","v":0},{"$f":"IF(O10=17,60,0)","v":0},{"$f":"IF(O10=18,58,0)","v":0},{"$f":"IF(O10=19,55,0)","v":0},{"$f":"IF(O10=20,53,0)","v":0},{"$f":"IF(O10>20,0,0)","v":0},{"$f":"IF(O10=\"сх\",0,0)","v":0},{"$f":"SUM(IH10:JC10)","v":0}]
[2,null,27.799999999999997,9.6,9.1999999999999993,9,37,"Богомолов Никита","I","г. Новый Уренгой, Ямало-Ненецкий АО","СТК \"Факел\"","LYNX",2,22,"-",0,3,20,"-",0,2,22,7,14,78,22,null,null,0,22,0,0,0,0,0,0,0,0,0,0,0,0,0,0,0,0,0,0,0,0,22,0,0,0,0,0,0,0,0,0,0,0,0,0,0,0,0,0,0,0,0,0,0,0,0,42,0,0,0,0,0,0,0,0,0,0,0,0,0,0,0,0,0,0,0,0,0,0,0,0,0,0,0,0,0,0,0,0,0,0,0,0,0,0,0,0,42,0,0,0,0,0,0,0,0,0,0,0,0,0,0,0,0,0,0,0,0,0,0,0,0,0,0,0,0,0,0,0,0,0,0,0,0,0,0,0,0,0,0,0,null,2,"-",null,2,{"$f":"IF(Y11=#REF!,IF(O11<#REF!,#REF!,FN11),#REF!)","v":{"$error":"#REF!"}},{"$f":"IF(Y11=#REF!,IF(O11<#REF!,0,1))","v":{"$error":"#REF!"}},{"$f":"IF(AND(FI11>=21,FI11<>0),FI11,IF(Y11<#REF!,\"СТОП\",FJ11+FK11))","v":{"$error":"#REF!"}},null,15,16,null,0,22,0,0,0,0,0,0,0,0,0,0,0,0,0,0,0,0,0,0,0,0,22,0,0,0,0,0,0,0,0,0,0,0,0,0,0,0,0,0,0,0,0,0,0,0,0,98,0,0,0,0,0,0,0,0,0,0,0,0,0,0,0,0,0,0,0,0,98,0,0,0,0,0,0,0,0,0,0,0,0,0,0,0,0,0,0,0,0,0,0,0]
[3,null,19.600000000000001,0,9.6,10,117,"Красников Николай","змс","г. Уфа, Республика Башкортостан","ЦТВС \"Имени Г. Кадырова\"","LYNX","-",0,"-",0,2,22,"-",0,1,25,1,25,72]
[4,null,26.8,9.1999999999999993,8.8000000000000007,8.8000000000000007,23,"Дмитриев Виталий","б/р","г. Новый Уренгой, Ямало-Ненецкий АО","МАУ МЦ \"НОРД\"","KTM",3,20,"-",0,5,16,"-",0,5,16,5,16,68]
[5,null,9.6,0,0,9.6,10,"Караченцев Владимир","б/р","г. Новый Уренгой, Ямало-Ненецкий АО","СТК \"Ямбург\"","LYNX","-",0,"-",0,"-",0,"-",0,4,18,2,22,40]
[6,null,8.6,0,0,8.6,174,"Сахаров Григорий","б/р","г. Новый Уренгой, Ямало-Ненецкий АО","МАУ МЦ \"НОРД\"","SKY-DOO","-",0,"-",0,"-",0,"-",0,6,15,6,15,30]
[7,null,10,0,10,0,958,"Грачев Николай","мс","г. Тюмень","Сборная команда Тюменской области","LYNX","-",0,"-",0,1,25,"-",0,"-",0,"-",0,25]
[8,null,8.4,0,0,8.4,838,"Степура Владислав","б/р","г. Новый Уренгой, Ямало-Ненецкий АО","СТК \"Факел\"","SKY-DOO","-",0,"-",0,"-",0,"-",0,"сх",0,4,18,18]
[]
[]
[]
[]
[]
[]
[]
[]
[]
["Главный судья соревнований"]
["судья Всероссийской категории:                                                                                                              А. Б. Стеблинский (г. Тюмень; лицензия МФР А 144)"]
[]
["Главный секретарь соревнований"]
["судья Всероссийской категории:                                                                                              А. Ю. Иванов (г. Москва/лицензия МФР А 105; FIM 11245)"]

{"sheet":"ЛЮБИТЕЛИ ЯНАО","index":3,"n_rows":30,"n_cols":267,"rows_kept":30,"cut":false,"hidden":false,"merged":[[25,0,25,7],[28,0,28,7],[1,0,1,23],[2,0,2,23],[7,21,8,21],[7,22,8,22],[5,11,5,14],[5,15,5,18],[5,19,5,22],[6,0,8,0],[6,5,8,5],[6,6,8,6],[6,7,8,7],[6,2,8,2],[6,3,8,3],[6,4,8,4],[6,1,8,1],[0,24,3,24],[3,0,3,23],[4,0,4,23],[6,8,8,8],[6,9,8,9],[6,10,8,10],[6,11,6,12],[6,13,6,14],[6,24,8,24],[7,11,8,11],[7,12,8,12],[7,13,8,13],[7,14,8,14],[6,23,8,23],[6,15,6,16],[6,17,6,18],[7,15,8,15],[7,16,8,16],[7,17,8,17],[7,18,8,18],[6,19,6,20],[6,21,6,22],[7,19,8,19],[7,20,8,20]]}
[]
["Кубок Ямало-Ненецкого АО по кроссу на снегоходах2016/2017 года."]
["СВОДНЫЙ ПРОТОКОЛ  ЛИЧНОГО  ЗАЧЕТА по сумме 3-х этапов",null,null,null,null,null,null,null,null,null,null,null,null,null,null,null,null,null,null,null,null,null,null,null,null,null,null,null,null,null,null,null,null,null,null,null,null,null,null,null,null,null,null,null,null,null,null,null,null,null,null,null,null,null,null,null,null,null,null,null,null,null,null,null,null,null,null,null,null,null,null,null,null,null,null,null,null,null,null,null,null,null,null,null,null,null,null,null,null,null,null,null,null,null,null,null,null,null,null,null,null,null,null,null,null,null,null,null,null,null,null,null,null,null,null,null,null,null,null,null,null,null,null,null,null,null,null,null,null,null,null,null,null,null,null,null,null,null,null,null,null,null,null,null,null,null,null,null,null,null,null,null,null,null,null,null,null,null,null,null,null,null,null,null,null,null,null,null,null,null,null,null,null,null,null,null,null,null,null,null,null,null,null,"первый этап"]
["1-й этап: 03 - 04 декабря 2016 года - г. Новый Уренгой, Ямало-Ненецкий АО; 2-й этап: 24 - 26 марта 2017 года - г. Муравленко, Ямало-Ненецкий АО; 3-й этап: 31 марта - 02 апреля 2017 года - г. Новый Уренгой, Ямало-Ненецкий АО.",null,null,null,null,null,null,null,null,null,null,null,null,null,null,null,null,null,null,null,null,null,null,null,null,null,null,null,null,null,null,null,null,null,null,null,null,null,null,null,null,null,null,null,null,null,null,null,null,null,null,null,null,null,null,null,null,null,null,null,null,null,null,null,null,null,null,null,null,null,null,null,null,null,null,null,null,null,null,null,null,null,null,null,null,null,null,null,null,null,null,null,null,null,null,null,null,null,null,null,null,null,null,null,null,null,null,null,null,null,null,null,null,null,null,null,null,null,null,null,null,null,null,null,null,null,null,null,null,null,null,null,null,null,null,null,null,null,null,null,null,null,null,null,null,null,null,null,null,null,null,null,null,null,null,null,null,null,null,null,null,null,null,null,null,null,null,null,null,null,null,null,"первый заезд личные очки",null,null,null,null,null,null,null,null,null,null,null,null,null,null,null,null,null,null,null,null,null,"второй заезд личные очки",null,null,null,null,null,null,null,null,null,null,null,null,null,null,null,null,null,null,null,null,null,null,"Первый заезд командные очки",null,null,null,null,null,null,null,null,null,null,null,null,null,null,null,null,null,null,null,null,null,null,"Второй заезд командные очки"]
["Класс \"ЛЮБИТЕЛИ\".",null,null,null,null,null,null,null,null,null,null,null,null,null,null,null,null,null,null,null,null,null,null,null,null,null,null,null,null,null,null,null,null,null,null,null,null,null,null,null,null,null,null,null,null,null,null,null,null,null,null,null,null,null,null,null,null,null,null,null,null,null,null,null,null,null,null,null,null,null,null,null,null,null,null,null,null,null,null,null,null,null,null,null,null,null,null,null,null,null,null,null,null,null,null,null,null,null,null,null,null,null,null,null,null,null,null,null,null,null,null,null,null,null,null,null,null,null,null,null,null,null,null,null,null,null,null,null,null,null,null,null,null,null,null,null,null,null,null,null,null,null,null,null,null,null,null,null,null,null,null,null,null,null,null,null,null,null,null,null,null,null,null,null,null,null,null,null,null,null,null,1,2,3,4,5,6,7,8,9,10,11,12,13,14,15,16,17,18,19,20,21,"сх","Sym",1,2,3,4,5,6,7,8,9,10,11,12,13,14,15,16,17,18,19,20,21,"cx","sym",1,2,3,4,5,6,7,8,9,10,11,12,13,14,15,16,17,18,19,20,21,"сх","очки",1,2,3,4,5,6,7,8,9,10,11,12,13,14,15,16,17,18,19,20,21,"сх","очки",{"$f":"COUNT(FP5:JC5)","v":84},"Н. Стро","В. стро","место"]
[null,null,null,null,null,null,null,null,null,null,null,"1-й этап",null,null,null,"2-й этап",null,null,null,"3-й этап"]
["Место","СУММА РЕЙТИНГОВЫЕ ОЧКИ","1-й этап РЕЙТИНГОВЫЕ ОЧКИ Коэф. 0,2","2-й этап РЕЙТИНГОВЫЕ ОЧКИ Коэф. 0,2","3-й этап РЕЙТИНГОВЫЕ ОЧКИ Коэф. 0,2","Ст. №","Фамилия, Имя","Раз  ряд","Город (край, район, область)","Команда","Мото","I-й заезд",null,"II-й заезд",null,"I-й заезд",null,"II-й заезд",null,"I-й заезд",null,"II-й заезд",null,"Сумма очков              в личном зачете","Сумма очк. в командном зачете"]
[null,null,null,null,null,null,null,null,null,null,null,"место","лич. очки","место","лич. очки","место","лич. очки","место","лич. очки","место","лич. очки","место","лич. очки",null,null,null,null,null,"первый заезд личные очки",null,null,null,null,null,null,null,null,null,null,null,null,null,null,null,null,null,null,null,null,null,"второй заезд личные очки",null,null,null,null,null,null,null,null,null,null,null,null,null,null,null,null,null,null,null,null,null,null,"Первый заезд командные очки",null,null,null,null,null,null,null,null,null,null,null,null,null,null,null,null,null,null,null,null,null,null,null,null,null,null,null,null,null,null,null,null,null,null,null,null,null,null,null,null,null,null,"Второй заезд командные очки",null,null,null,null,null,null,null,null,null,null,null,null,null,null,null,null,null,null,null,null,null,null,null,null,null,null,null,null,null,null,null,null,null,null,null,null,null,null,null,null,null,null,null,1,2,null,null,null,null,null,null,null,null,null,null,null,null,null,null,null,null,null,null,null,null,null,"первый этап"]
[null,null,null,null,null,null,null,null,null,null,null,null,null,null,null,null,null,null,null,null,null,null,null,null,null,null,null,1,2,3,4,5,6,7,8,9,10,11,12,13,14,15,16,17,18,19,20,21,"сх",null,1,2,3,4,5,6,7,8,9,10,11,12,13,14,15,16,17,18,19,20,null,"cx",null,1,2,3,4,5,6,7,8,9,10,11,12,13,14,15,16,17,18,19,20,21,22,23,24,25,26,27,28,29,30,31,32,33,34,35,36,37,38,39,40,null,null,null,1,2,3,4,5,6,7,8,9,10,11,12,13,14,15,16,17,18,19,20,21,22,23,24,25,26,27,28,29,30,31,32,33,34,35,36,37,38,39,40,null,null,null,null,null,null,null,"мин","Н. Стро","В. стро","место",null,"чр1","чр2",null,null,"первый заезд личные очки",null,null,null,null,null,null,null,null,null,null,null,null,null,null,null,null,null,null,null,null,null,"второй заезд личные очки",null,null,null,null,null,null,null,null,null,null,null,null,null,null,null,null,null,null,null,null,null,null,"Первый заезд командные очки",null,null,null,null,null,null,null,null,null,null,null,null,null,null,null,null,null,null,null,null,null,null,"Второй заезд командные очки"]
[1,{"$f":"SUM(C10+D10+E10)","v":29.6},9.6,10,10,789,"Дубовик Дмитрий","б/р","г. Муравленко, Ямало-Ненецкий АО","лично","Arctic - Cat",2,22,"-",0,1,25,"-",0,1,25,1,25,{"$f":"SUM(M10+O10+Q10+S10+U10+W10)","v":97},{"$f":"M10+O10","v":22},null,null,{"$f":"IF(L10=1,25,0)","v":0},{"$f":"IF(L10=2,22,0)","v":22},{"$f":"IF(L10=3,20,0)","v":0},{"$f":"IF(L10=4,18,0)","v":0},{"$f":"IF(L10=5,16,0)","v":0},{"$f":"IF(L10=6,15,0)","v":0},{"$f":"IF(L10=7,14,0)","v":0},{"$f":"IF(L10=8,13,0)","v":0},{"$f":"IF(L10=9,12,0)","v":0},{"$f":"IF(L10=10,11,0)","v":0},{"$f":"IF(L10=11,10,0)","v":0},{"$f":"IF(L10=12,9,0)","v":0},{"$f":"IF(L10=13,8,0)","v":0},{"$f":"IF(L10=14,7,0)","v":0},{"$f":"IF(L10=15,6,0)","v":0},{"$f":"IF(L10=16,5,0)","v":0},{"$f":"IF(L10=17,4,0)","v":0},{"$f":"IF(L10=18,3,0)","v":0},{"$f":"IF(L10=19,2,0)","v":0},{"$f":"IF(L10=20,1,0)","v":0},{"$f":"IF(L10>20,0,0)","v":0},{"$f":"IF(L10=\"сх\",0,0)","v":0},{"$f":"SUM(AB10:AV10)","v":22},{"$f":"IF(N10=1,25,0)","v":0},{"$f":"IF(N10=2,22,0)","v":0},{"$f":"IF(N10=3,20,0)","v":0},{"$f":"IF(N10=4,18,0)","v":0},{"$f":"IF(N10=5,16,0)","v":0},{"$f":"IF(N10=6,15,0)","v":0},{"$f":"IF(N10=7,14,0)","v":0},{"$f":"IF(N10=8,13,0)","v":0},{"$f":"IF(N10=9,12,0)","v":0},{"$f":"IF(N10=10,11,0)","v":0},{"$f":"IF(N10=11,10,0)","v":0},{"$f":"IF(N10=12,9,0)","v":0},{"$f":"IF(N10=13,8,0)","v":0},{"$f":"IF(N10=14,7,0)","v":0},{"$f":"IF(N10=15,6,0)","v":0},{"$f":"IF(N10=16,5,0)","v":0},{"$f":"IF(N10=17,4,0)","v":0},{"$f":"IF(N10=18,3,0)","v":0},{"$f":"IF(N10=19,2,0)","v":0},{"$f":"IF(N10=20,1,0)","v":0},{"$f":"IF(N10>20,0,0)","v":0},{"$f":"IF(N10=\"сх\",0,0)","v":0},{"$f":"SUM(AY10:BS10)","v":0},{"$f":"IF(L10=1,45,0)","v":0},{"$f":"IF(L10=2,42,0)","v":42},{"$f":"IF(L10=3,40,0)","v":0},{"$f":"IF(L10=4,38,0)","v":0},{"$f":"IF(L10=5,36,0)","v":0},{"$f":"IF(L10=6,35,0)","v":0},{"$f":"IF(L10=7,34,0)","v":0},{"$f":"IF(L10=8,33,0)","v":0},{"$f":"IF(L10=9,32,0)","v":0},{"$f":"IF(L10=10,31,0)","v":0},{"$f":"IF(L10=11,30,0)","v":0},{"$f":"IF(L10=12,29,0)","v":0},{"$f":"IF(L10=13,28,0)","v":0},{"$f":"IF(L10=14,27,0)","v":0},{"$f":"IF(L10=15,26,0)","v":0},{"$f":"IF(L10=16,25,0)","v":0},{"$f":"IF(L10=17,24,0)","v":0},{"$f":"IF(L10=18,23,0)","v":0},{"$f":"IF(L10=19,22,0)","v":0},{"$f":"IF(L10=20,21,0)","v":0},{"$f":"IF(L10=21,20,0)","v":0},{"$f":"IF(L10=22,19,0)","v":0},{"$f":"IF(L10=23,18,0)","v":0},{"$f":"IF(L10=24,17,0)","v":0},{"$f":"IF(L10=25,16,0)","v":0},{"$f":"IF(L10=26,15,0)","v":0},{"$f":"IF(L10=27,14,0)","v":0},{"$f":"IF(L10=28,13,0)","v":0},{"$f":"IF(L10=29,12,0)","v":0},{"$f":"IF(L10=30,11,0)","v":0},{"$f":"IF(L10=31,10,0)","v":0},{"$f":"IF(L10=32,9,0)","v":0},{"$f":"IF(L10=33,8,0)","v":0},{"$f":"IF(L10=34,7,0)","v":0},{"$f":"IF(L10=35,6,0)","v":0},{"$f":"IF(L10=36,5,0)","v":0},{"$f":"IF(L10=37,4,0)","v":0},{"$f":"IF(L10=38,3,0)","v":0},{"$f":"IF(L10=39,2,0)","v":0},{"$f":"IF(L10=40,1,0)","v":0},{"$f":"IF(L10>20,0,0)","v":0},{"$f":"IF(L10=\"сх\",0,0)","v":0},{"$f":"SUM(BV10:DK10)","v":42},{"$f":"IF(N10=1,45,0)","v":0},{"$f":"IF(N10=2,42,0)","v":0},{"$f":"IF(N10=3,40,0)","v":0},{"$f":"IF(N10=4,38,0)","v":0},{"$f":"IF(N10=5,36,0)","v":0},{"$f":"IF(N10=6,35,0)","v":0},{"$f":"IF(N10=7,34,0)","v":0},{"$f":"IF(N10=8,33,0)","v":0},{"$f":"IF(N10=9,32,0)","v":0},{"$f":"IF(N10=10,31,0)","v":0},{"$f":"IF(N10=11,30,0)","v":0},{"$f":"IF(N10=12,29,0)","v":0},{"$f":"IF(N10=13,28,0)","v":0},{"$f":"IF(N10=14,27,0)","v":0},{"$f":"IF(N10=15,26,0)","v":0},{"$f":"IF(N10=16,25,0)","v":0},{"$f":"IF(N10=17,24,0)","v":0},{"$f":"IF(N10=18,23,0)","v":0},{"$f":"IF(N10=19,22,0)","v":0},{"$f":"IF(N10=20,21,0)","v":0},{"$f":"IF(N10=21,20,0)","v":0},{"$f":"IF(N10=22,19,0)","v":0},{"$f":"IF(N10=23,18,0)","v":0},{"$f":"IF(N10=24,17,0)","v":0},{"$f":"IF(N10=25,16,0)","v":0},{"$f":"IF(N10=26,15,0)","v":0},{"$f":"IF(N10=27,14,0)","v":0},{"$f":"IF(N10=28,13,0)","v":0},{"$f":"IF(N10=29,12,0)","v":0},{"$f":"IF(N10=30,11,0)","v":0},{"$f":"IF(N10=31,10,0)","v":0},{"$f":"IF(N10=32,9,0)","v":0},{"$f":"IF(N10=33,8,0)","v":0},{"$f":"IF(N10=34,7,0)","v":0},{"$f":"IF(N10=35,6,0)","v":0},{"$f":"IF(N10=36,5,0)","v":0},{"$f":"IF(N10=37,4,0)","v":0},{"$f":"IF(N10=38,3,0)","v":0},{"$f":"IF(N10=39,2,0)","v":0},{"$f":"IF(N10=40,1,0)","v":0},{"$f":"IF(N10>20,0,0)","v":0},{"$f":"IF(N10=\"сх\",0,0)","v":0},{"$f":"SUM(DM10:FB10)","v":0},null,{"$f":"IF(L10=\"сх\",\"ноль\",IF(L10>0,L10,\"Ноль\"))","v":2},{"$f":"IF(N10=\"сх\",\"ноль\",IF(N10>0,N10,\"Ноль\"))","v":"-"},null,{"$f":"MIN(FE10,FF10)","v":2},{"$f":"IF(X10=#REF!,IF(N10<#REF!,#REF!,FM10),#REF!)","v":{"$error":"#REF!"}},{"$f":"IF(X10=#REF!,IF(N10<#REF!,0,1))","v":{"$error":"#REF!"}},{"$f":"IF(AND(FH10>=21,FH10<>0),FH10,IF(X10<#REF!,\"СТОП\",FI10+FJ10))","v":{"$error":"#REF!"}},null,15,16,null,{"$f":"IF(L10=1,25,0)","v":0},{"$f":"IF(L10=2,22,0)","v":22},{"$f":"IF(L10=3,20,0)","v":0},{"$f":"IF(L10=4,18,0)","v":0},{"$f":"IF(L10=5,16,0)","v":0},{"$f":"IF(L10=6,15,0)","v":0},{"$f":"IF(L10=7,14,0)","v":0},{"$f":"IF(L10=8,13,0)","v":0},{"$f":"IF(L10=9,12,0)","v":0},{"$f":"IF(L10=10,11,0)","v":0},{"$f":"IF(L10=11,10,0)","v":0},{"$f":"IF(L10=12,9,0)","v":0},{"$f":"IF(L10=13,8,0)","v":0},{"$f":"IF(L10=14,7,0)","v":0},{"$f":"IF(L10=15,6,0)","v":0},{"$f":"IF(L10=16,5,0)","v":0},{"$f":"IF(L10=17,4,0)","v":0},{"$f":"IF(L10=18,3,0)","v":0},{"$f":"IF(L10=19,2,0)","v":0},{"$f":"IF(L10=20,1,0)","v":0},{"$f":"IF(L10>20,0,0)","v":0},{"$f":"IF(L10=\"сх\",0,0)","v":0},{"$f":"SUM(FP10:GK10)","v":22},{"$f":"IF(N10=1,25,0)","v":0},{"$f":"IF(N10=2,22,0)","v":0},{"$f":"IF(N10=3,20,0)","v":0},{"$f":"IF(N10=4,18,0)","v":0},{"$f":"IF(N10=5,16,0)","v":0},{"$f":"IF(N10=6,15,0)","v":0},{"$f":"IF(N10=7,14,0)","v":0},{"$f":"IF(N10=8,13,0)","v":0},{"$f":"IF(N10=9,12,0)","v":0},{"$f":"IF(N10=10,11,0)","v":0},{"$f":"IF(N10=11,10,0)","v":0},{"$f":"IF(N10=12,9,0)","v":0},{"$f":"IF(N10=13,8,0)","v":0},{"$f":"IF(N10=14,7,0)","v":0},{"$f":"IF(N10=15,6,0)","v":0},{"$f":"IF(N10=16,5,0)","v":0},{"$f":"IF(N10=17,4,0)","v":0},{"$f":"IF(N10=18,3,0)","v":0},{"$f":"IF(N10=19,2,0)","v":0},{"$f":"IF(N10=20,1,0)","v":0},{"$f":"IF(N10>20,0,0)","v":0},{"$f":"IF(N10=\"сх\",0,0)","v":0},{"$f":"SUM(GM10:HH10)","v":0},{"$f":"IF(L10=1,100,0)","v":0},{"$f":"IF(L10=2,98,0)","v":98},{"$f":"IF(L10=3,95,0)","v":0},{"$f":"IF(L10=4,93,0)","v":0},{"$f":"IF(L10=5,90,0)","v":0},{"$f":"IF(L10=6,88,0)","v":0},{"$f":"IF(L10=7,85,0)","v":0},{"$f":"IF(L10=8,83,0)","v":0},{"$f":"IF(L10=9,80,0)","v":0},{"$f":"IF(L10=10,78,0)","v":0},{"$f":"IF(L10=11,75,0)","v":0},{"$f":"IF(L10=12,73,0)","v":0},{"$f":"IF(L10=13,70,0)","v":0},{"$f":"IF(L10=14,68,0)","v":0},{"$f":"IF(L10=15,65,0)","v":0},{"$f":"IF(L10=16,63,0)","v":0},{"$f":"IF(L10=17,60,0)","v":0},{"$f":"IF(L10=18,58,0)","v":0},{"$f":"IF(L10=19,55,0)","v":0},{"$f":"IF(L10=20,53,0)","v":0},{"$f":"IF(L10>20,0,0)","v":0},{"$f":"IF(L10=\"сх\",0,0)","v":0},{"$f":"SUM(HJ10:IE10)","v":98},{"$f":"IF(N10=1,100,0)","v":0},{"$f":"IF(N10=2,98,0)","v":0},{"$f":"IF(N10=3,95,0)","v":0},{"$f":"IF(N10=4,93,0)","v":0},{"$f":"IF(N10=5,90,0)","v":0},{"$f":"IF(N10=6,88,0)","v":0},{"$f":"IF(N10=7,85,0)","v":0},{"$f":"IF(N10=8,83,0)","v":0},{"$f":"IF(N10=9,80,0)","v":0},{"$f":"IF(N10=10,78,0)","v":0},{"$f":"IF(N10=11,75,0)","v":0},{"$f":"IF(N10=12,73,0)","v":0},{"$f":"IF(N10=13,70,0)","v":0},{"$f":"IF(N10=14,68,0)","v":0},{"$f":"IF(N10=15,65,0)","v":0},{"$f":"IF(N10=16,63,0)","v":0},{"$f":"IF(N10=17,60,0)","v":0},{"$f":"IF(N10=18,58,0)","v":0},{"$f":"IF(N10=19,55,0)","v":0},{"$f":"IF(N10=20,53,0)","v":0},{"$f":"IF(N10>20,0,0)","v":0},{"$f":"IF(N10=\"сх\",0,0)","v":0},{"$f":"SUM(IG10:JB10)","v":0}]
[2,{"$f":"SUM(C11+D11+E11)","v":27.799999999999997},9.1999999999999993,9,9.6,44,"Синявин Александр","б/р","г. Новый Уренгой, Ямало-Ненецкий АО","МАУ МЦ \"НОРД\"","Yam",3,20,"-",0,4,18,"-",0,3,20,2,22,{"$f":"SUM(M11+O11+Q11+S11+U11+W11)","v":80},{"$f":"M11+O11","v":20},null,null,{"$f":"IF(L11=1,25,0)","v":0},{"$f":"IF(L11=2,22,0)","v":0},{"$f":"IF(L11=3,20,0)","v":20},{"$f":"IF(L11=4,18,0)","v":0},{"$f":"IF(L11=5,16,0)","v":0},{"$f":"IF(L11=6,15,0)","v":0},{"$f":"IF(L11=7,14,0)","v":0},{"$f":"IF(L11=8,13,0)","v":0},{"$f":"IF(L11=9,12,0)","v":0},{"$f":"IF(L11=10,11,0)","v":0},{"$f":"IF(L11=11,10,0)","v":0},{"$f":"IF(L11=12,9,0)","v":0},{"$f":"IF(L11=13,8,0)","v":0},{"$f":"IF(L11=14,7,0)","v":0},{"$f":"IF(L11=15,6,0)","v":0},{"$f":"IF(L11=16,5,0)","v":0},{"$f":"IF(L11=17,4,0)","v":0},{"$f":"IF(L11=18,3,0)","v":0},{"$f":"IF(L11=19,2,0)","v":0},{"$f":"IF(L11=20,1,0)","v":0},{"$f":"IF(L11>20,0,0)","v":0},{"$f":"IF(L11=\"сх\",0,0)","v":0},20,{"$f":"IF(N11=1,25,0)","v":0},{"$f":"IF(N11=2,22,0)","v":0},{"$f":"IF(N11=3,20,0)","v":0},{"$f":"IF(N11=4,18,0)","v":0},{"$f":"IF(N11=5,16,0)","v":0},{"$f":"IF(N11=6,15,0)","v":0},{"$f":"IF(N11=7,14,0)","v":0},{"$f":"IF(N11=8,13,0)","v":0},{"$f":"IF(N11=9,12,0)","v":0},{"$f":"IF(N11=10,11,0)","v":0},{"$f":"IF(N11=11,10,0)","v":0},{"$f":"IF(N11=12,9,0)","v":0},{"$f":"IF(N11=13,8,0)","v":0},{"$f":"IF(N11=14,7,0)","v":0},{"$f":"IF(N11=15,6,0)","v":0},{"$f":"IF(N11=16,5,0)","v":0},{"$f":"IF(N11=17,4,0)","v":0},{"$f":"IF(N11=18,3,0)","v":0},{"$f":"IF(N11=19,2,0)","v":0},{"$f":"IF(N11=20,1,0)","v":0},{"$f":"IF(N11>20,0,0)","v":0},{"$f":"IF(N11=\"сх\",0,0)","v":0},0,{"$f":"IF(L11=1,45,0)","v":0},{"$f":"IF(L11=2,42,0)","v":0},{"$f":"IF(L11=3,40,0)","v":40},{"$f":"IF(L11=4,38,0)","v":0},{"$f":"IF(L11=5,36,0)","v":0},{"$f":"IF(L11=6,35,0)","v":0},{"$f":"IF(L11=7,34,0)","v":0},{"$f":"IF(L11=8,33,0)","v":0},{"$f":"IF(L11=9,32,0)","v":0},{"$f":"IF(L11=10,31,0)","v":0},{"$f":"IF(L11=11,30,0)","v":0},{"$f":"IF(L11=12,29,0)","v":0},{"$f":"IF(L11=13,28,0)","v":0},{"$f":"IF(L11=14,27,0)","v":0},{"$f":"IF(L11=15,26,0)","v":0},{"$f":"IF(L11=16,25,0)","v":0},{"$f":"IF(L11=17,24,0)","v":0},{"$f":"IF(L11=18,23,0)","v":0},{"$f":"IF(L11=19,22,0)","v":0},{"$f":"IF(L11=20,21,0)","v":0},{"$f":"IF(L11=21,20,0)","v":0},{"$f":"IF(L11=22,19,0)","v":0},{"$f":"IF(L11=23,18,0)","v":0},{"$f":"IF(L11=24,17,0)","v":0},{"$f":"IF(L11=25,16,0)","v":0},{"$f":"IF(L11=26,15,0)","v":0},{"$f":"IF(L11=27,14,0)","v":0},{"$f":"IF(L11=28,13,0)","v":0},{"$f":"IF(L11=29,12,0)","v":0},{"$f":"IF(L11=30,11,0)","v":0},{"$f":"IF(L11=31,10,0)","v":0},{"$f":"IF(L11=32,9,0)","v":0},{"$f":"IF(L11=33,8,0)","v":0},{"$f":"IF(L11=34,7,0)","v":0},{"$f":"IF(L11=35,6,0)","v":0},{"$f":"IF(L11=36,5,0)","v":0},{"$f":"IF(L11=37,4,0)","v":0},{"$f":"IF(L11=38,3,0)","v":0},{"$f":"IF(L11=39,2,0)","v":0},{"$f":"IF(L11=40,1,0)","v":0},{"$f":"IF(L11>20,0,0)","v":0},{"$f":"IF(L11=\"сх\",0,0)","v":0},40,{"$f":"IF(N11=1,45,0)","v":0},{"$f":"IF(N11=2,42,0)","v":0},{"$f":"IF(N11=3,40,0)","v":0},{"$f":"IF(N11=4,38,0)","v":0},{"$f":"IF(N11=5,36,0)","v":0},{"$f":"IF(N11=6,35,0)","v":0},{"$f":"IF(N11=7,34,0)","v":0},{"$f":"IF(N11=8,33,0)","v":0},{"$f":"IF(N11=9,32,0)","v":0},{"$f":"IF(N11=10,31,0)","v":0},{"$f":"IF(N11=11,30,0)","v":0},{"$f":"IF(N11=12,29,0)","v":0},{"$f":"IF(N11=13,28,0)","v":0},{"$f":"IF(N11=14,27,0)","v":0},{"$f":"IF(N11=15,26,0)","v":0},{"$f":"IF(N11=16,25,0)","v":0},{"$f":"IF(N11=17,24,0)","v":0},{"$f":"IF(N11=18,23,0)","v":0},{"$f":"IF(N11=19,22,0)","v":0},{"$f":"IF(N11=20,21,0)","v":0},{"$f":"IF(N11=21,20,0)","v":0},{"$f":"IF(N11=22,19,0)","v":0},{"$f":"IF(N11=23,18,0)","v":0},{"$f":"IF(N11=24,17,0)","v":0},{"$f":"IF(N11=25,16,0)","v":0},{"$f":"IF(N11=26,15,0)","v":0},{"$f":"IF(N11=27,14,0)","v":0},{"$f":"IF(N11=28,13,0)","v":0},{"$f":"IF(N11=29,12,0)","v":0},{"$f":"IF(N11=30,11,0)","v":0},{"$f":"IF(N11=31,10,0)","v":0},{"$f":"IF(N11=32,9,0)","v":0},{"$f":"IF(N11=33,8,0)","v":0},{"$f":"IF(N11=34,7,0)","v":0},{"$f":"IF(N11=35,6,0)","v":0},{"$f":"IF(N11=36,5,0)","v":0},{"$f":"IF(N11=37,4,0)","v":0},{"$f":"IF(N11=38,3,0)","v":0},{"$f":"IF(N11=39,2,0)","v":0},{"$f":"IF(N11=40,1,0)","v":0},{"$f":"IF(N11>20,0,0)","v":0},{"$f":"IF(N11=\"сх\",0,0)","v":0},0,null,{"$f":"IF(L11=\"сх\",\"ноль\",IF(L11>0,L11,\"Ноль\"))","v":3},{"$f":"IF(N11=\"сх\",\"ноль\",IF(N11>0,N11,\"Ноль\"))","v":"-"},null,3,{"$f":"IF(X11=#REF!,IF(N11<#REF!,#REF!,FM11),#REF!)","v":{"$error":"#REF!"}},{"$f":"IF(X11=#REF!,IF(N11<#REF!,0,1))","v":{"$error":"#REF!"}},{"$f":"IF(AND(FH11>=21,FH11<>0),FH11,IF(X11<#REF!,\"СТОП\",FI11+FJ11))","v":{"$error":"#REF!"}},null,15,16,null,{"$f":"IF(L11=1,25,0)","v":0},{"$f":"IF(L11=2,22,0)","v":0},{"$f":"IF(L11=3,20,0)","v":20},{"$f":"IF(L11=4,18,0)","v":0},{"$f":"IF(L11=5,16,0)","v":0},{"$f":"IF(L11=6,15,0)","v":0},{"$f":"IF(L11=7,14,0)","v":0},{"$f":"IF(L11=8,13,0)","v":0},{"$f":"IF(L11=9,12,0)","v":0},{"$f":"IF(L11=10,11,0)","v":0},{"$f":"IF(L11=11,10,0)","v":0},{"$f":"IF(L11=12,9,0)","v":0},{"$f":"IF(L11=13,8,0)","v":0},{"$f":"IF(L11=14,7,0)","v":0},{"$f":"IF(L11=15,6,0)","v":0},{"$f":"IF(L11=16,5,0)","v":0},{"$f":"IF(L11=17,4,0)","v":0},{"$f":"IF(L11=18,3,0)","v":0},{"$f":"IF(L11=19,2,0)","v":0},{"$f":"IF(L11=20,1,0)","v":0},{"$f":"IF(L11>20,0,0)","v":0},{"$f":"IF(L11=\"сх\",0,0)","v":0},20,{"$f":"IF(N11=1,25,0)","v":0},{"$f":"IF(N11=2,22,0)","v":0},{"$f":"IF(N11=3,20,0)","v":0},{"$f":"IF(N11=4,18,0)","v":0},{"$f":"IF(N11=5,16,0)","v":0},{"$f":"IF(N11=6,15,0)","v":0},{"$f":"IF(N11=7,14,0)","v":0},{"$f":"IF(N11=8,13,0)","v":0},{"$f":"IF(N11=9,12,0)","v":0},{"$f":"IF(N11=10,11,0)","v":0},{"$f":"IF(N11=11,10,0)","v":0},{"$f":"IF(N11=12,9,0)","v":0},{"$f":"IF(N11=13,8,0)","v":0},{"$f":"IF(N11=14,7,0)","v":0},{"$f":"IF(N11=15,6,0)","v":0},{"$f":"IF(N11=16,5,0)","v":0},{"$f":"IF(N11=17,4,0)","v":0},{"$f":"IF(N11=18,3,0)","v":0},{"$f":"IF(N11=19,2,0)","v":0},{"$f":"IF(N11=20,1,0)","v":0},{"$f":"IF(N11>20,0,0)","v":0},{"$f":"IF(N11=\"сх\",0,0)","v":0},0,{"$f":"IF(L11=1,100,0)","v":0},{"$f":"IF(L11=2,98,0)","v":0},{"$f":"IF(L11=3,95,0)","v":95},{"$f":"IF(L11=4,93,0)","v":0},{"$f":"IF(L11=5,90,0)","v":0},{"$f":"IF(L11=6,88,0)","v":0},{"$f":"IF(L11=7,85,0)","v":0},{"$f":"IF(L11=8,83,0)","v":0},{"$f":"IF(L11=9,80,0)","v":0},{"$f":"IF(L11=10,78,0)","v":0},{"$f":"IF(L11=11,75,0)","v":0},{"$f":"IF(L11=12,73,0)","v":0},{"$f":"IF(L11=13,70,0)","v":0},{"$f":"IF(L11=14,68,0)","v":0},{"$f":"IF(L11=15,65,0)","v":0},{"$f":"IF(L11=16,63,0)","v":0},{"$f":"IF(L11=17,60,0)","v":0},{"$f":"IF(L11=18,58,0)","v":0},{"$f":"IF(L11=19,55,0)","v":0},{"$f":"IF(L11=20,53,0)","v":0},{"$f":"IF(L11>20,0,0)","v":0},{"$f":"IF(L11=\"сх\",0,0)","v":0},95,{"$f":"IF(N11=1,100,0)","v":0},{"$f":"IF(N11=2,98,0)","v":0},{"$f":"IF(N11=3,95,0)","v":0},{"$f":"IF(N11=4,93,0)","v":0},{"$f":"IF(N11=5,90,0)","v":0},{"$f":"IF(N11=6,88,0)","v":0},{"$f":"IF(N11=7,85,0)","v":0},{"$f":"IF(N11=8,83,0)","v":0},{"$f":"IF(N11=9,80,0)","v":0},{"$f":"IF(N11=10,78,0)","v":0},{"$f":"IF(N11=11,75,0)","v":0},{"$f":"IF(N11=12,73,0)","v":0},{"$f":"IF(N11=13,70,0)","v":0},{"$f":"IF(N11=14,68,0)","v":0},{"$f":"IF(N11=15,65,0)","v":0},{"$f":"IF(N11=16,63,0)","v":0},{"$f":"IF(N11=17,60,0)","v":0},{"$f":"IF(N11=18,58,0)","v":0},{"$f":"IF(N11=19,55,0)","v":0},{"$f":"IF(N11=20,53,0)","v":0},{"$f":"IF(N11>20,0,0)","v":0},{"$f":"IF(N11=\"сх\",0,0)","v":0},0]
[3,{"$f":"SUM(C12+D12+E12)","v":19.2},10,0,9.1999999999999993,255,"Жовтоног Эдуард","кмс","г. Новый Уренгой, Ямало-Ненецкий АО","СТК \"Факел\"","Arctic - Cat",1,25,"-",0,"н/з",0,"-",0,2,22,3,20,{"$f":"SUM(M12+O12+Q12+S12+U12+W12)","v":67},{"$f":"M12+O12","v":25},null,null,{"$f":"IF(L12=1,25,0)","v":25},{"$f":"IF(L12=2,22,0)","v":0},{"$f":"IF(L12=3,20,0)","v":0},{"$f":"IF(L12=4,18,0)","v":0},{"$f":"IF(L12=5,16,0)","v":0},{"$f":"IF(L12=6,15,0)","v":0},{"$f":"IF(L12=7,14,0)","v":0},{"$f":"IF(L12=8,13,0)","v":0},{"$f":"IF(L12=9,12,0)","v":0},{"$f":"IF(L12=10,11,0)","v":0},{"$f":"IF(L12=11,10,0)","v":0},{"$f":"IF(L12=12,9,0)","v":0},{"$f":"IF(L12=13,8,0)","v":0},{"$f":"IF(L12=14,7,0)","v":0},{"$f":"IF(L12=15,6,0)","v":0},{"$f":"IF(L12=16,5,0)","v":0},{"$f":"IF(L12=17,4,0)","v":0},{"$f":"IF(L12=18,3,0)","v":0},{"$f":"IF(L12=19,2,0)","v":0},{"$f":"IF(L12=20,1,0)","v":0},{"$f":"IF(L12>20,0,0)","v":0},{"$f":"IF(L12=\"сх\",0,0)","v":0},{"$f":"SUM(AB12:AV12)","v":25},{"$f":"IF(N12=1,25,0)","v":0},{"$f":"IF(N12=2,22,0)","v":0},{"$f":"IF(N12=3,20,0)","v":0},{"$f":"IF(N12=4,18,0)","v":0},{"$f":"IF(N12=5,16,0)","v":0},{"$f":"IF(N12=6,15,0)","v":0},{"$f":"IF(N12=7,14,0)","v":0},{"$f":"IF(N12=8,13,0)","v":0},{"$f":"IF(N12=9,12,0)","v":0},{"$f":"IF(N12=10,11,0)","v":0},{"$f":"IF(N12=11,10,0)","v":0},{"$f":"IF(N12=12,9,0)","v":0},{"$f":"IF(N12=13,8,0)","v":0},{"$f":"IF(N12=14,7,0)","v":0},{"$f":"IF(N12=15,6,0)","v":0},{"$f":"IF(N12=16,5,0)","v":0},{"$f":"IF(N12=17,4,0)","v":0},{"$f":"IF(N12=18,3,0)","v":0},{"$f":"IF(N12=19,2,0)","v":0},{"$f":"IF(N12=20,1,0)","v":0},{"$f":"IF(N12>20,0,0)","v":0},{"$f":"IF(N12=\"сх\",0,0)","v":0},{"$f":"SUM(AY12:BS12)","v":0},{"$f":"IF(L12=1,45,0)","v":45},{"$f":"IF(L12=2,42,0)","v":0},{"$f":"IF(L12=3,40,0)","v":0},{"$f":"IF(L12=4,38,0)","v":0},{"$f":"IF(L12=5,36,0)","v":0},{"$f":"IF(L12=6,35,0)","v":0},{"$f":"IF(L12=7,34,0)","v":0},{"$f":"IF(L12=8,33,0)","v":0},{"$f":"IF(L12=9,32,0)","v":0},{"$f":"IF(L12=10,31,0)","v":0},{"$f":"IF(L12=11,30,0)","v":0},{"$f":"IF(L12=12,29,0)","v":0},{"$f":"IF(L12=13,28,0)","v":0},{"$f":"IF(L12=14,27,0)","v":0},{"$f":"IF(L12=15,26,0)","v":0},{"$f":"IF(L12=16,25,0)","v":0},{"$f":"IF(L12=17,24,0)","v":0},{"$f":"IF(L12=18,23,0)","v":0},{"$f":"IF(L12=19,22,0)","v":0},{"$f":"IF(L12=20,21,0)","v":0},{"$f":"IF(L12=21,20,0)","v":0},{"$f":"IF(L12=22,19,0)","v":0},{"$f":"IF(L12=23,18,0)","v":0},{"$f":"IF(L12=24,17,0)","v":0},{"$f":"IF(L12=25,16,0)","v":0},{"$f":"IF(L12=26,15,0)","v":0},{"$f":"IF(L12=27,14,0)","v":0},{"$f":"IF(L12=28,13,0)","v":0},{"$f":"IF(L12=29,12,0)","v":0},{"$f":"IF(L12=30,11,0)","v":0},{"$f":"IF(L12=31,10,0)","v":0},{"$f":"IF(L12=32,9,0)","v":0},{"$f":"IF(L12=33,8,0)","v":0},{"$f":"IF(L12=34,7,0)","v":0},{"$f":"IF(L12=35,6,0)","v":0},{"$f":"IF(L12=36,5,0)","v":0},{"$f":"IF(L12=37,4,0)","v":0},{"$f":"IF(L12=38,3,0)","v":0},{"$f":"IF(L12=39,2,0)","v":0},{"$f":"IF(L12=40,1,0)","v":0},{"$f":"IF(L12>20,0,0)","v":0},{"$f":"IF(L12=\"сх\",0,0)","v":0},{"$f":"SUM(BV12:DK12)","v":45},{"$f":"IF(N12=1,45,0)","v":0},{"$f":"IF(N12=2,42,0)","v":0},{"$f":"IF(N12=3,40,0)","v":0},{"$f":"IF(N12=4,38,0)","v":0},{"$f":"IF(N12=5,36,0)","v":0},{"$f":"IF(N12=6,35,0)","v":0},{"$f":"IF(N12=7,34,0)","v":0},{"$f":"IF(N12=8,33,0)","v":0},{"$f":"IF(N12=9,32,0)","v":0},{"$f":"IF(N12=10,31,0)","v":0},{"$f":"IF(N12=11,30,0)","v":0},{"$f":"IF(N12=12,29,0)","v":0},{"$f":"IF(N12=13,28,0)","v":0},{"$f":"IF(N12=14,27,0)","v":0},{"$f":"IF(N12=15,26,0)","v":0},{"$f":"IF(N12=16,25,0)","v":0},{"$f":"IF(N12=17,24,0)","v":0},{"$f":"IF(N12=18,23,0)","v":0},{"$f":"IF(N12=19,22,0)","v":0},{"$f":"IF(N12=20,21,0)","v":0},{"$f":"IF(N12=21,20,0)","v":0},{"$f":"IF(N12=22,19,0)","v":0},{"$f":"IF(N12=23,18,0)","v":0},{"$f":"IF(N12=24,17,0)","v":0},{"$f":"IF(N12=25,16,0)","v":0},{"$f":"IF(N12=26,15,0)","v":0},{"$f":"IF(N12=27,14,0)","v":0},{"$f":"IF(N12=28,13,0)","v":0},{"$f":"IF(N12=29,12,0)","v":0},{"$f":"IF(N12=30,11,0)","v":0},{"$f":"IF(N12=31,10,0)","v":0},{"$f":"IF(N12=32,9,0)","v":0},{"$f":"IF(N12=33,8,0)","v":0},{"$f":"IF(N12=34,7,0)","v":0},{"$f":"IF(N12=35,6,0)","v":0},{"$f":"IF(N12=36,5,0)","v":0},{"$f":"IF(N12=37,4,0)","v":0},{"$f":"IF(N12=38,3,0)","v":0},{"$f":"IF(N12=39,2,0)","v":0},{"$f":"IF(N12=40,1,0)","v":0},{"$f":"IF(N12>20,0,0)","v":0},{"$f":"IF(N12=\"сх\",0,0)","v":0},{"$f":"SUM(DM12:FB12)","v":0},null,{"$f":"IF(L12=\"сх\",\"ноль\",IF(L12>0,L12,\"Ноль\"))","v":1},{"$f":"IF(N12=\"сх\",\"ноль\",IF(N12>0,N12,\"Ноль\"))","v":"-"},null,{"$f":"MIN(FE12,FF12)","v":1},{"$f":"IF(X12=#REF!,IF(N12<#REF!,#REF!,FM12),#REF!)","v":{"$error":"#REF!"}},{"$f":"IF(X12=#REF!,IF(N12<#REF!,0,1))","v":{"$error":"#REF!"}},{"$f":"IF(AND(FH12>=21,FH12<>0),FH12,IF(X12<#REF!,\"СТОП\",FI12+FJ12))","v":{"$error":"#REF!"}},null,15,16,null,{"$f":"IF(L12=1,25,0)","v":25},{"$f":"IF(L12=2,22,0)","v":0},{"$f":"IF(L12=3,20,0)","v":0},{"$f":"IF(L12=4,18,0)","v":0},{"$f":"IF(L12=5,16,0)","v":0},{"$f":"IF(L12=6,15,0)","v":0},{"$f":"IF(L12=7,14,0)","v":0},{"$f":"IF(L12=8,13,0)","v":0},{"$f":"IF(L12=9,12,0)","v":0},{"$f":"IF(L12=10,11,0)","v":0},{"$f":"IF(L12=11,10,0)","v":0},{"$f":"IF(L12=12,9,0)","v":0},{"$f":"IF(L12=13,8,0)","v":0},{"$f":"IF(L12=14,7,0)","v":0},{"$f":"IF(L12=15,6,0)","v":0},{"$f":"IF(L12=16,5,0)","v":0},{"$f":"IF(L12=17,4,0)","v":0},{"$f":"IF(L12=18,3,0)","v":0},{"$f":"IF(L12=19,2,0)","v":0},{"$f":"IF(L12=20,1,0)","v":0},{"$f":"IF(L12>20,0,0)","v":0},{"$f":"IF(L12=\"сх\",0,0)","v":0},{"$f":"SUM(FP12:GK12)","v":25},{"$f":"IF(N12=1,25,0)","v":0},{"$f":"IF(N12=2,22,0)","v":0},{"$f":"IF(N12=3,20,0)","v":0},{"$f":"IF(N12=4,18,0)","v":0},{"$f":"IF(N12=5,16,0)","v":0},{"$f":"IF(N12=6,15,0)","v":0},{"$f":"IF(N12=7,14,0)","v":0},{"$f":"IF(N12=8,13,0)","v":0},{"$f":"IF(N12=9,12,0)","v":0},{"$f":"IF(N12=10,11,0)","v":0},{"$f":"IF(N12=11,10,0)","v":0},{"$f":"IF(N12=12,9,0)","v":0},{"$f":"IF(N12=13,8,0)","v":0},{"$f":"IF(N12=14,7,0)","v":0},{"$f":"IF(N12=15,6,0)","v":0},{"$f":"IF(N12=16,5,0)","v":0},{"$f":"IF(N12=17,4,0)","v":0},{"$f":"IF(N12=18,3,0)","v":0},{"$f":"IF(N12=19,2,0)","v":0},{"$f":"IF(N12=20,1,0)","v":0},{"$f":"IF(N12>20,0,0)","v":0},{"$f":"IF(N12=\"сх\",0,0)","v":0},{"$f":"SUM(GM12:HH12)","v":0},{"$f":"IF(L12=1,100,0)","v":100},{"$f":"IF(L12=2,98,0)","v":0},{"$f":"IF(L12=3,95,0)","v":0},{"$f":"IF(L12=4,93,0)","v":0},{"$f":"IF(L12=5,90,0)","v":0},{"$f":"IF(L12=6,88,0)","v":0},{"$f":"IF(L12=7,85,0)","v":0},{"$f":"IF(L12=8,83,0)","v":0},{"$f":"IF(L12=9,80,0)","v":0},{"$f":"IF(L12=10,78,0)","v":0},{"$f":"IF(L12=11,75,0)","v":0},{"$f":"IF(L12=12,73,0)","v":0},{"$f":"IF(L12=13,70,0)","v":0},{"$f":"IF(L12=14,68,0)","v":0},{"$f":"IF(L12=15,65,0)","v":0},{"$f":"IF(L12=16,63,0)","v":0},{"$f":"IF(L12=17,60,0)","v":0},{"$f":"IF(L12=18,58,0)","v":0},{"$f":"IF(L12=19,55,0)","v":0},{"$f":"IF(L12=20,53,0)","v":0},{"$f":"IF(L12>20,0,0)","v":0},{"$f":"IF(L12=\"сх\",0,0)","v":0},{"$f":"SUM(HJ12:IE12)","v":100},{"$f":"IF(N12=1,100,0)","v":0},{"$f":"IF(N12=2,98,0)","v":0},{"$f":"IF(N12=3,95,0)","v":0},{"$f":"IF(N12=4,93,0)","v":0},{"$f":"IF(N12=5,90,0)","v":0},{"$f":"IF(N12=6,88,0)","v":0},{"$f":"IF(N12=7,85,0)","v":0},{"$f":"IF(N12=8,83,0)","v":0},{"$f":"IF(N12=9,80,0)","v":0},{"$f":"IF(N12=10,78,0)","v":0},{"$f":"IF(N12=11,75,0)","v":0},{"$f":"IF(N12=12,73,0)","v":0},{"$f":"IF(N12=13,70,0)","v":0},{"$f":"IF(N12=14,68,0)","v":0},{"$f":"IF(N12=15,65,0)","v":0},{"$f":"IF(N12=16,63,0)","v":0},{"$f":"IF(N12=17,60,0)","v":0},{"$f":"IF(N12=18,58,0)","v":0},{"$f":"IF(N12=19,55,0)","v":0},{"$f":"IF(N12=20,53,0)","v":0},{"$f":"IF(N12>20,0,0)","v":0},{"$f":"IF(N12=\"сх\",0,0)","v":0},{"$f":"SUM(IG12:JB12)","v":0}]
[4,{"$f":"SUM(C13+D13+E13)","v":18.600000000000001},0,9.6,9,102,"Прокопченко Евгений","б/р","г. Сургут, Ханты-Мансийский АО-Югра","лично","Polaris","-",0,"-",0,2,22,"-",0,4,18,5,16,{"$f":"SUM(M13+O13+Q13+S13+U13+W13)","v":56},{"$f":"M13+O13","v":0},null,null,{"$f":"IF(L13=1,25,0)","v":0},{"$f":"IF(L13=2,22,0)","v":0},{"$f":"IF(L13=3,20,0)","v":0},{"$f":"IF(L13=4,18,0)","v":0},{"$f":"IF(L13=5,16,0)","v":0},{"$f":"IF(L13=6,15,0)","v":0},{"$f":"IF(L13=7,14,0)","v":0},{"$f":"IF(L13=8,13,0)","v":0},{"$f":"IF(L13=9,12,0)","v":0},{"$f":"IF(L13=10,11,0)","v":0},{"$f":"IF(L13=11,10,0)","v":0},{"$f":"IF(L13=12,9,0)","v":0},{"$f":"IF(L13=13,8,0)","v":0},{"$f":"IF(L13=14,7,0)","v":0},{"$f":"IF(L13=15,6,0)","v":0},{"$f":"IF(L13=16,5,0)","v":0},{"$f":"IF(L13=17,4,0)","v":0},{"$f":"IF(L13=18,3,0)","v":0},{"$f":"IF(L13=19,2,0)","v":0},{"$f":"IF(L13=20,1,0)","v":0},{"$f":"IF(L13>20,0,0)","v":0},{"$f":"IF(L13=\"сх\",0,0)","v":0},0,{"$f":"IF(N13=1,25,0)","v":0},{"$f":"IF(N13=2,22,0)","v":0},{"$f":"IF(N13=3,20,0)","v":0},{"$f":"IF(N13=4,18,0)","v":0},{"$f":"IF(N13=5,16,0)","v":0},{"$f":"IF(N13=6,15,0)","v":0},{"$f":"IF(N13=7,14,0)","v":0},{"$f":"IF(N13=8,13,0)","v":0},{"$f":"IF(N13=9,12,0)","v":0},{"$f":"IF(N13=10,11,0)","v":0},{"$f":"IF(N13=11,10,0)","v":0},{"$f":"IF(N13=12,9,0)","v":0},{"$f":"IF(N13=13,8,0)","v":0},{"$f":"IF(N13=14,7,0)","v":0},{"$f":"IF(N13=15,6,0)","v":0},{"$f":"IF(N13=16,5,0)","v":0},{"$f":"IF(N13=17,4,0)","v":0},{"$f":"IF(N13=18,3,0)","v":0},{"$f":"IF(N13=19,2,0)","v":0},{"$f":"IF(N13=20,1,0)","v":0},{"$f":"IF(N13>20,0,0)","v":0},{"$f":"IF(N13=\"сх\",0,0)","v":0},0,{"$f":"IF(L13=1,45,0)","v":0},{"$f":"IF(L13=2,42,0)","v":0},{"$f":"IF(L13=3,40,0)","v":0},{"$f":"IF(L13=4,38,0)","v":0},{"$f":"IF(L13=5,36,0)","v":0},{"$f":"IF(L13=6,35,0)","v":0},{"$f":"IF(L13=7,34,0)","v":0},{"$f":"IF(L13=8,33,0)","v":0},{"$f":"IF(L13=9,32,0)","v":0},{"$f":"IF(L13=10,31,0)","v":0},{"$f":"IF(L13=11,30,0)","v":0},{"$f":"IF(L13=12,29,0)","v":0},{"$f":"IF(L13=13,28,0)","v":0},{"$f":"IF(L13=14,27,0)","v":0},{"$f":"IF(L13=15,26,0)","v":0},{"$f":"IF(L13=16,25,0)","v":0},{"$f":"IF(L13=17,24,0)","v":0},{"$f":"IF(L13=18,23,0)","v":0},{"$f":"IF(L13=19,22,0)","v":0},{"$f":"IF(L13=20,21,0)","v":0},{"$f":"IF(L13=21,20,0)","v":0},{"$f":"IF(L13=22,19,0)","v":0},{"$f":"IF(L13=23,18,0)","v":0},{"$f":"IF(L13=24,17,0)","v":0},{"$f":"IF(L13=25,16,0)","v":0},{"$f":"IF(L13=26,15,0)","v":0},{"$f":"IF(L13=27,14,0)","v":0},{"$f":"IF(L13=28,13,0)","v":0},{"$f":"IF(L13=29,12,0)","v":0},{"$f":"IF(L13=30,11,0)","v":0},{"$f":"IF(L13=31,10,0)","v":0},{"$f":"IF(L13=32,9,0)","v":0},{"$f":"IF(L13=33,8,0)","v":0},{"$f":"IF(L13=34,7,0)","v":0},{"$f":"IF(L13=35,6,0)","v":0},{"$f":"IF(L13=36,5,0)","v":0},{"$f":"IF(L13=37,4,0)","v":0},{"$f":"IF(L13=38,3,0)","v":0},{"$f":"IF(L13=39,2,0)","v":0},{"$f":"IF(L13=40,1,0)","v":0},{"$f":"IF(L13>20,0,0)","v":0},{"$f":"IF(L13=\"сх\",0,0)","v":0},0,{"$f":"IF(N13=1,45,0)","v":0},{"$f":"IF(N13=2,42,0)","v":0},{"$f":"IF(N13=3,40,0)","v":0},{"$f":"IF(N13=4,38,0)","v":0},{"$f":"IF(N13=5,36,0)","v":0},{"$f":"IF(N13=6,35,0)","v":0},{"$f":"IF(N13=7,34,0)","v":0},{"$f":"IF(N13=8,33,0)","v":0},{"$f":"IF(N13=9,32,0)","v":0},{"$f":"IF(N13=10,31,0)","v":0},{"$f":"IF(N13=11,30,0)","v":0},{"$f":"IF(N13=12,29,0)","v":0},{"$f":"IF(N13=13,28,0)","v":0},{"$f":"IF(N13=14,27,0)","v":0},{"$f":"IF(N13=15,26,0)","v":0},{"$f":"IF(N13=16,25,0)","v":0},{"$f":"IF(N13=17,24,0)","v":0},{"$f":"IF(N13=18,23,0)","v":0},{"$f":"IF(N13=19,22,0)","v":0},{"$f":"IF(N13=20,21,0)","v":0},{"$f":"IF(N13=21,20,0)","v":0},{"$f":"IF(N13=22,19,0)","v":0},{"$f":"IF(N13=23,18,0)","v":0},{"$f":"IF(N13=24,17,0)","v":0},{"$f":"IF(N13=25,16,0)","v":0},{"$f":"IF(N13=26,15,0)","v":0},{"$f":"IF(N13=27,14,0)","v":0},{"$f":"IF(N13=28,13,0)","v":0},{"$f":"IF(N13=29,12,0)","v":0},{"$f":"IF(N13=30,11,0)","v":0},{"$f":"IF(N13=31,10,0)","v":0},{"$f":"IF(N13=32,9,0)","v":0},{"$f":"IF(N13=33,8,0)","v":0},{"$f":"IF(N13=34,7,0)","v":0},{"$f":"IF(N13=35,6,0)","v":0},{"$f":"IF(N13=36,5,0)","v":0},{"$f":"IF(N13=37,4,0)","v":0},{"$f":"IF(N13=38,3,0)","v":0},{"$f":"IF(N13=39,2,0)","v":0},{"$f":"IF(N13=40,1,0)","v":0},{"$f":"IF(N13>20,0,0)","v":0},{"$f":"IF(N13=\"сх\",0,0)","v":0},0,null,{"$f":"IF(L13=\"сх\",\"ноль\",IF(L13>0,L13,\"Ноль\"))","v":"-"},{"$f":"IF(N13=\"сх\",\"ноль\",IF(N13>0,N13,\"Ноль\"))","v":"-"},null,0,{"$f":"IF(X13=#REF!,IF(N13<#REF!,#REF!,FM13),#REF!)","v":{"$error":"#REF!"}},{"$f":"IF(X13=#REF!,IF(N13<#REF!,0,1))","v":{"$error":"#REF!"}},{"$f":"IF(AND(FH13>=21,FH13<>0),FH13,IF(X13<#REF!,\"СТОП\",FI13+FJ13))","v":{"$error":"#REF!"}},null,15,16,null,{"$f":"IF(L13=1,25,0)","v":0},{"$f":"IF(L13=2,22,0)","v":0},{"$f":"IF(L13=3,20,0)","v":0},{"$f":"IF(L13=4,18,0)","v":0},{"$f":"IF(L13=5,16,0)","v":0},{"$f":"IF(L13=6,15,0)","v":0},{"$f":"IF(L13=7,14,0)","v":0},{"$f":"IF(L13=8,13,0)","v":0},{"$f":"IF(L13=9,12,0)","v":0},{"$f":"IF(L13=10,11,0)","v":0},{"$f":"IF(L13=11,10,0)","v":0},{"$f":"IF(L13=12,9,0)","v":0},{"$f":"IF(L13=13,8,0)","v":0},{"$f":"IF(L13=14,7,0)","v":0},{"$f":"IF(L13=15,6,0)","v":0},{"$f":"IF(L13=16,5,0)","v":0},{"$f":"IF(L13=17,4,0)","v":0},{"$f":"IF(L13=18,3,0)","v":0},{"$f":"IF(L13=19,2,0)","v":0},{"$f":"IF(L13=20,1,0)","v":0},{"$f":"IF(L13>20,0,0)","v":0},{"$f":"IF(L13=\"сх\",0,0)","v":0},0,{"$f":"IF(N13=1,25,0)","v":0},{"$f":"IF(N13=2,22,0)","v":0},{"$f":"IF(N13=3,20,0)","v":0},{"$f":"IF(N13=4,18,0)","v":0},{"$f":"IF(N13=5,16,0)","v":0},{"$f":"IF(N13=6,15,0)","v":0},{"$f":"IF(N13=7,14,0)","v":0},{"$f":"IF(N13=8,13,0)","v":0},{"$f":"IF(N13=9,12,0)","v":0},{"$f":"IF(N13=10,11,0)","v":0},{"$f":"IF(N13=11,10,0)","v":0},{"$f":"IF(N13=12,9,0)","v":0},{"$f":"IF(N13=13,8,0)","v":0},{"$f":"IF(N13=14,7,0)","v":0},{"$f":"IF(N13=15,6,0)","v":0},{"$f":"IF(N13=16,5,0)","v":0},{"$f":"IF(N13=17,4,0)","v":0},{"$f":"IF(N13=18,3,0)","v":0},{"$f":"IF(N13=19,2,0)","v":0},{"$f":"IF(N13=20,1,0)","v":0},{"$f":"IF(N13>20,0,0)","v":0},{"$f":"IF(N13=\"сх\",0,0)","v":0},0,{"$f":"IF(L13=1,100,0)","v":0},{"$f":"IF(L13=2,98,0)","v":0},{"$f":"IF(L13=3,95,0)","v":0},{"$f":"IF(L13=4,93,0)","v":0},{"$f":"IF(L13=5,90,0)","v":0},{"$f":"IF(L13=6,88,0)","v":0},{"$f":"IF(L13=7,85,0)","v":0},{"$f":"IF(L13=8,83,0)","v":0},{"$f":"IF(L13=9,80,0)","v":0},{"$f":"IF(L13=10,78,0)","v":0},{"$f":"IF(L13=11,75,0)","v":0},{"$f":"IF(L13=12,73,0)","v":0},{"$f":"IF(L13=13,70,0)","v":0},{"$f":"IF(L13=14,68,0)","v":0},{"$f":"IF(L13=15,65,0)","v":0},{"$f":"IF(L13=16,63,0)","v":0},{"$f":"IF(L13=17,60,0)","v":0},{"$f":"IF(L13=18,58,0)","v":0},{"$f":"IF(L13=19,55,0)","v":0},{"$f":"IF(L13=20,53,0)","v":0},{"$f":"IF(L13>20,0,0)","v":0},{"$f":"IF(L13=\"сх\",0,0)","v":0},0,{"$f":"IF(N13=1,100,0)","v":0},{"$f":"IF(N13=2,98,0)","v":0},{"$f":"IF(N13=3,95,0)","v":0},{"$f":"IF(N13=4,93,0)","v":0},{"$f":"IF(N13=5,90,0)","v":0},{"$f":"IF(N13=6,88,0)","v":0},{"$f":"IF(N13=7,85,0)","v":0},{"$f":"IF(N13=8,83,0)","v":0},{"$f":"IF(N13=9,80,0)","v":0},{"$f":"IF(N13=10,78,0)","v":0},{"$f":"IF(N13=11,75,0)","v":0},{"$f":"IF(N13=12,73,0)","v":0},{"$f":"IF(N13=13,70,0)","v":0},{"$f":"IF(N13=14,68,0)","v":0},{"$f":"IF(N13=15,65,0)","v":0},{"$f":"IF(N13=16,63,0)","v":0},{"$f":"IF(N13=17,60,0)","v":0},{"$f":"IF(N13=18,58,0)","v":0},{"$f":"IF(N13=19,55,0)","v":0},{"$f":"IF(N13=20,53,0)","v":0},{"$f":"IF(N13>20,0,0)","v":0},{"$f":"IF(N13=\"сх\",0,0)","v":0},0]
[5,{"$f":"SUM(C14+D14+E14)","v":17.799999999999997},0,9.1999999999999993,8.6,18,"Белехов Александр","б/р","г. Сургут, Ханты-Мансийский АО-Югра","лично","Polaris","-",0,"-",0,3,20,"-",0,5,16,"сх",0,{"$f":"SUM(M14+O14+Q14+S14+U14+W14)","v":36},0,null,null,null,null,null,null,null,null,null,null,null,null,null,null,null,null,null,null,null,null,null,null,null,null,null,0,0,0,0,0,0,0,0,0,0,0,0,0,0,0,0,0,0,0,0,0,0,0,null,null,null,null,null,null,null,null,null,null,null,null,null,null,null,null,null,null,null,null,null,null,null,null,null,null,null,null,null,null,null,null,null,null,null,null,null,null,null,null,null,null,null,0,0,0,0,0,0,0,0,0,0,0,0,0,0,0,0,0,0,0,0,0,0,0,0,0,0,0,0,0,0,0,0,0,0,0,0,0,0,0,0,0,0,0,null,null,"-",null,null,null,null,null,null,null,null,null,null,null,null,null,null,null,null,null,null,null,null,null,null,null,null,null,null,null,null,null,null,null,null,0,0,0,0,0,0,0,0,0,0,0,0,0,0,0,0,0,0,0,0,0,0,0,null,null,null,null,null,null,null,null,null,null,null,null,null,null,null,null,null,null,null,null,null,null,null,0,0,0,0,0,0,0,0,0,0,0,0,0,0,0,0,0,0,0,0,0,0,0]
[6,{"$f":"SUM(C15+D15+E15)","v":8.8000000000000007},0,0,8.8000000000000007,125,"Григорьев Евгений","б/р","г. Новый Уренгой, Ямало-Ненецкий АО","МАУ МЦ \"НОРД\"","Yam","-",0,"-",0,"-",0,"-",0,6,15,4,18,{"$f":"SUM(M15+O15+Q15+S15+U15+W15)","v":33},0,null,null,null,null,null,null,null,null,null,null,null,null,null,null,null,null,null,null,null,null,null,null,null,null,null,0,0,0,0,0,0,0,0,0,0,0,0,0,0,0,0,0,0,0,0,0,0,0,null,null,null,null,null,null,null,null,null,null,null,null,null,null,null,null,null,null,null,null,null,null,null,null,null,null,null,null,null,null,null,null,null,null,null,null,null,null,null,null,null,null,null,0,0,0,0,0,0,0,0,0,0,0,0,0,0,0,0,0,0,0,0,0,0,0,0,0,0,0,0,0,0,0,0,0,0,0,0,0,0,0,0,0,0,0,null,null,"-",null,null,null,null,null,null,null,null,null,null,null,null,null,null,null,null,null,null,null,null,null,null,null,null,null,null,null,null,null,null,null,null,0,0,0,0,0,0,0,0,0,0,0,0,0,0,0,0,0,0,0,0,0,0,0,null,null,null,null,null,null,null,null,null,null,null,null,null,null,null,null,null,null,null,null,null,null,null,0,0,0,0,0,0,0,0,0,0,0,0,0,0,0,0,0,0,0,0,0,0,0]
[7,{"$f":"SUM(C16+D16+E16)","v":9},9,0,0,884,"Васюнин Вадим","б/р","г. Надым, Ямало-Ненецкий АО","МК \"Поршень\"","BBI",4,18,"-",0,"-",0,"-",0,"-",0,"-",0,{"$f":"SUM(M16+O16+Q16+S16+U16+W16)","v":18},18,null,null,null,null,null,null,null,null,null,null,null,null,null,null,null,null,null,null,null,null,null,null,null,null,null,0,0,0,0,0,0,0,0,0,0,0,0,0,0,0,0,0,0,0,0,0,0,0,null,null,null,null,null,null,null,null,null,null,null,null,null,null,null,null,null,null,null,null,null,null,null,null,null,null,null,null,null,null,null,null,null,null,null,null,null,null,null,null,null,null,null,0,0,0,0,0,0,0,0,0,0,0,0,0,0,0,0,0,0,0,0,0,0,0,0,0,0,0,0,0,0,0,0,0,0,0,0,0,0,0,0,0,0,0,null,null,"-",null,null,null,null,null,null,null,null,null,null,null,null,null,null,null,null,null,null,null,null,null,null,null,null,null,null,null,null,null,null,null,null,0,0,0,0,0,0,0,0,0,0,0,0,0,0,0,0,0,0,0,0,0,0,0,null,null,null,null,null,null,null,null,null,null,null,null,null,null,null,null,null,null,null,null,null,null,null,0,0,0,0,0,0,0,0,0,0,0,0,0,0,0,0,0,0,0,0,0,0,0]
[8,{"$f":"SUM(C17+D17+E17)","v":8.8000000000000007},0,8.8000000000000007,0,33,"Аксенов Максим","б/р","г. Муравленко, Ямало-Ненецкий АО","лично","Polaris","-",0,"-",0,5,16,"-",0,"-",0,"-",0,{"$f":"SUM(M17+O17+Q17+S17+U17+W17)","v":16}]
[9,{"$f":"SUM(C18+D18+E18)","v":8.8000000000000007},8.8000000000000007,0,0,883,"Копейкин Алексей","б/р","г. Надым, Ямало-Ненецкий АО","лично","Yam",5,16,"-",0,"-",0,"-",0,"-",0,"-",0,{"$f":"SUM(M18+O18+Q18+S18+U18+W18)","v":16}]
[10,{"$f":"SUM(C19+D19+E19)","v":8.6},0,8.6,0,7,"Бекиров Михаил","б/р","г. Муравленко, Ямало-Ненецкий АО","лично","Arctic - Cat","-",0,"-",0,6,15,"-",0,"-",0,"-",0,{"$f":"SUM(M19+O19+Q19+S19+U19+W19)","v":15}]
[11,{"$f":"SUM(C20+D20+E20)","v":8.4},0,8.4,0,5,"Хохлов Евгений","б/р","г. Муравленко, Ямало-Ненецкий АО","лично","Arctic - Cat","-",0,"-",0,7,14,"-",0,"-",0,"-",0,{"$f":"SUM(M20+O20+Q20+S20+U20+W20)","v":14}]
[]
[]
[]
[]
[]
["Главный судья соревнований"]
["судья Всероссийской категории:                                                                                                              А. Б. Стеблинский (г. Тюмень; лицензия МФР А 144)"]
[]
["Главный секретарь соревнований"]
["судья Всероссийской категории:                                                                                              А. Ю. Иванов (г. Москва/лицензия МФР А 105; FIM 11245)"]

{"sheet":"Мальчики 1","index":4,"n_rows":32,"n_cols":258,"rows_kept":32,"cut":false,"hidden":false,"merged":[[30,0,30,7],[6,8,8,8],[6,9,8,9],[6,10,8,10],[6,1,8,1],[6,2,8,2],[6,3,8,3],[27,0,27,7],[6,15,8,15],[6,14,8,14],[6,12,8,12],[6,11,8,11],[1,15,3,15],[3,0,3,14],[4,0,4,14],[1,0,1,14],[2,0,2,14],[6,0,8,0],[6,4,8,4],[6,5,8,5],[6,6,8,6],[6,7,8,7],[6,13,8,13]]}
[]
["Показательные выступления в рамках Кубка ЯНАО по кроссу на снегоходах 2016/2017 года.                         "]
["СВОДНЫЙ ПРОТОКОЛ  ЛИЧНОГО  ЗАЧЕТА по сумме 3-х этапов.",null,null,null,null,null,null,null,null,null,null,null,null,null,null,null,null,null,null,null,null,null,null,null,null,null,null,null,null,null,null,null,null,null,null,null,null,null,null,null,null,null,null,null,null,null,null,null,null,null,null,null,null,null,null,null,null,null,null,null,null,null,null,null,null,null,null,null,null,null,null,null,null,null,null,null,null,null,null,null,null,null,null,null,null,null,null,null,null,null,null,null,null,null,null,null,null,null,null,null,null,null,null,null,null,null,null,null,null,null,null,null,null,null,null,null,null,null,null,null,null,null,null,null,null,null,null,null,null,null,null,null,null,null,null,null,null,null,null,null,null,null,null,null,null,null,null,null,null,null,null,null,null,null,null,null,null,null,null,null,null,null,null,null,null,null,null,null,null,null,null,null,null,null,"первый этап"]
["1-й этап: 03 - 04 декабря 2016 года - г. Новый Уренгой, Ямало-Ненецкий АО; 2-й этап: 24 - 26 марта 2017 года - г. Муравленко, Ямало-Ненецкий АО; 3-й этап: 31 марта - 02 апреля 2017 года - г. Новый Уренгой, Ямало-Ненецкий АО.",null,null,null,null,null,null,null,null,null,null,null,null,null,null,null,null,null,null,null,null,null,null,null,null,null,null,null,null,null,null,null,null,null,null,null,null,null,null,null,null,null,null,null,null,null,null,null,null,null,null,null,null,null,null,null,null,null,null,null,null,null,null,null,null,null,null,null,null,null,null,null,null,null,null,null,null,null,null,null,null,null,null,null,null,null,null,null,null,null,null,null,null,null,null,null,null,null,null,null,null,null,null,null,null,null,null,null,null,null,null,null,null,null,null,null,null,null,null,null,null,null,null,null,null,null,null,null,null,null,null,null,null,null,null,null,null,null,null,null,null,null,null,null,null,null,null,null,null,null,null,null,null,null,null,null,null,null,null,null,null,null,null,"первый заезд личные очки",null,null,null,null,null,null,null,null,null,null,null,null,null,null,null,null,null,null,null,null,null,"второй заезд личные очки",null,null,null,null,null,null,null,null,null,null,null,null,null,null,null,null,null,null,null,null,null,null,"Первый заезд командные очки",null,null,null,null,null,null,null,null,null,null,null,null,null,null,null,null,null,null,null,null,null,null,"Второй заезд командные очки"]
["Класс \"Мальчики 1\".",null,null,null,null,null,null,null,null,null,null,null,null,null,null,null,null,null,null,null,null,null,null,null,null,null,null,null,null,null,null,null,null,null,null,null,null,null,null,null,null,null,null,null,null,null,null,null,null,null,null,null,null,null,null,null,null,null,null,null,null,null,null,null,null,null,null,null,null,null,null,null,null,null,null,null,null,null,null,null,null,null,null,null,null,null,null,null,null,null,null,null,null,null,null,null,null,null,null,null,null,null,null,null,null,null,null,null,null,null,null,null,null,null,null,null,null,null,null,null,null,null,null,null,null,null,null,null,null,null,null,null,null,null,null,null,null,null,null,null,null,null,null,null,null,null,null,null,null,null,null,null,null,null,null,null,null,null,null,null,null,null,1,2,3,4,5,6,7,8,9,10,11,12,13,14,15,16,17,18,19,20,21,"сх","Sym",1,2,3,4,5,6,7,8,9,10,11,12,13,14,15,16,17,18,19,20,21,"cx","sym",1,2,3,4,5,6,7,8,9,10,11,12,13,14,15,16,17,18,19,20,21,"сх","очки",1,2,3,4,5,6,7,8,9,10,11,12,13,14,15,16,17,18,19,20,21,"сх","очки",{"$f":"COUNT(FG5:IT5)","v":84},"Н. Стро","В. стро","место"]
[]
["Место","СУММА РЕЙТИНГОВЫЕ ОЧКИ","1-й этап РЕЙТИНГОВЫЕ ОЧКИ Коэф. 0,1","2-й этап РЕЙТИНГОВЫЕ ОЧКИ Коэф. 0,1","3-й этап РЕЙТИНГОВЫЕ ОЧКИ Коэф. 0,1","Ст. №","Фамилия, Имя","Раз  ряд","Город (край, район, область)","Команда","Мото","ОЧКИ 1-й этап","ОЧКИ 2-й этап","ОЧКИ 3-й этап","Сумма очков              в личном зачете","Сумма очк. в командном зачете"]
[null,null,null,null,null,null,null,null,null,null,null,null,null,null,null,null,null,null,null,"первый заезд личные очки",null,null,null,null,null,null,null,null,null,null,null,null,null,null,null,null,null,null,null,null,null,"второй заезд личные очки",null,null,null,null,null,null,null,null,null,null,null,null,null,null,null,null,null,null,null,null,null,null,"Первый заезд командные очки",null,null,null,null,null,null,null,null,null,null,null,null,null,null,null,null,null,null,null,null,null,null,null,null,null,null,null,null,null,null,null,null,null,null,null,null,null,null,null,null,null,null,"Второй заезд командные очки",null,null,null,null,null,null,null,null,null,null,null,null,null,null,null,null,null,null,null,null,null,null,null,null,null,null,null,null,null,null,null,null,null,null,null,null,null,null,null,null,null,null,null,1,2,null,null,null,null,null,null,null,null,null,null,null,null,null,null,null,null,null,null,null,null,null,"первый этап"]
[null,null,null,null,null,null,null,null,null,null,null,null,null,null,null,null,null,null,1,2,3,4,5,6,7,8,9,10,11,12,13,14,15,16,17,18,19,20,21,"сх",null,1,2,3,4,5,6,7,8,9,10,11,12,13,14,15,16,17,18,19,20,null,"cx",null,1,2,3,4,5,6,7,8,9,10,11,12,13,14,15,16,17,18,19,20,21,22,23,24,25,26,27,28,29,30,31,32,33,34,35,36,37,38,39,40,null,null,null,1,2,3,4,5,6,7,8,9,10,11,12,13,14,15,16,17,18,19,20,21,22,23,24,25,26,27,28,29,30,31,32,33,34,35,36,37,38,39,40,null,null,null,null,null,null,null,"мин","Н. Стро","В. стро","место",null,"чр1","чр2",null,null,"первый заезд личные очки",null,null,null,null,null,null,null,null,null,null,null,null,null,null,null,null,null,null,null,null,null,"второй заезд личные очки",null,null,null,null,null,null,null,null,null,null,null,null,null,null,null,null,null,null,null,null,null,null,"Первый заезд командные очки",null,null,null,null,null,null,null,null,null,null,null,null,null,null,null,null,null,null,null,null,null,null,"Второй заезд командные очки"]
[1,{"$f":"SUM(C10+D10+E10)","v":14},4.8,4.4000000000000004,4.8,7,"Насыров Даниэль","б/р","г. Новый Уренгой, Ямало-Ненецкий АО","СТК \"Факел\"","LYNX",22,16,22,{"$f":"SUM(L10+M10+N10)","v":60},{"$f":"#REF!+#REF!","v":{"$error":"#REF!"}},null,null,{"$f":"IF(#REF!=1,25,0)","v":{"$error":"#REF!"}},{"$f":"IF(#REF!=2,22,0)","v":{"$error":"#REF!"}},{"$f":"IF(#REF!=3,20,0)","v":{"$error":"#REF!"}},{"$f":"IF(#REF!=4,18,0)","v":{"$error":"#REF!"}},{"$f":"IF(#REF!=5,16,0)","v":{"$error":"#REF!"}},{"$f":"IF(#REF!=6,15,0)","v":{"$error":"#REF!"}},{"$f":"IF(#REF!=7,14,0)","v":{"$error":"#REF!"}},{"$f":"IF(#REF!=8,13,0)","v":{"$error":"#REF!"}},{"$f":"IF(#REF!=9,12,0)","v":{"$error":"#REF!"}},{"$f":"IF(#REF!=10,11,0)","v":{"$error":"#REF!"}},{"$f":"IF(#REF!=11,10,0)","v":{"$error":"#REF!"}},{"$f":"IF(#REF!=12,9,0)","v":{"$error":"#REF!"}},{"$f":"IF(#REF!=13,8,0)","v":{"$error":"#REF!"}},{"$f":"IF(#REF!=14,7,0)","v":{"$error":"#REF!"}},{"$f":"IF(#REF!=15,6,0)","v":{"$error":"#REF!"}},{"$f":"IF(#REF!=16,5,0)","v":{"$error":"#REF!"}},{"$f":"IF(#REF!=17,4,0)","v":{"$error":"#REF!"}},{"$f":"IF(#REF!=18,3,0)","v":{"$error":"#REF!"}},{"$f":"IF(#REF!=19,2,0)","v":{"$error":"#REF!"}},{"$f":"IF(#REF!=20,1,0)","v":{"$error":"#REF!"}},{"$f":"IF(#REF!>20,0,0)","v":{"$error":"#REF!"}},{"$f":"IF(#REF!=\"сх\",0,0)","v":{"$error":"#REF!"}},{"$f":"SUM(S10:AM10)","v":{"$error":"#REF!"}},{"$f":"IF(#REF!=1,25,0)","v":{"$error":"#REF!"}},{"$f":"IF(#REF!=2,22,0)","v":{"$error":"#REF!"}},{"$f":"IF(#REF!=3,20,0)","v":{"$error":"#REF!"}},{"$f":"IF(#REF!=4,18,0)","v":{"$error":"#REF!"}},{"$f":"IF(#REF!=5,16,0)","v":{"$error":"#REF!"}},{"$f":"IF(#REF!=6,15,0)","v":{"$error":"#REF!"}},{"$f":"IF(#REF!=7,14,0)","v":{"$error":"#REF!"}},{"$f":"IF(#REF!=8,13,0)","v":{"$error":"#REF!"}},{"$f":"IF(#REF!=9,12,0)","v":{"$error":"#REF!"}},{"$f":"IF(#REF!=10,11,0)","v":{"$error":"#REF!"}},{"$f":"IF(#REF!=11,10,0)","v":{"$error":"#REF!"}},{"$f":"IF(#REF!=12,9,0)","v":{"$error":"#REF!"}},{"$f":"IF(#REF!=13,8,0)","v":{"$error":"#REF!"}},{"$f":"IF(#REF!=14,7,0)","v":{"$error":"#REF!"}},{"$f":"IF(#REF!=15,6,0)","v":{"$error":"#REF!"}},{"$f":"IF(#REF!=16,5,0)","v":{"$error":"#REF!"}},{"$f":"IF(#REF!=17,4,0)","v":{"$error":"#REF!"}},{"$f":"IF(#REF!=18,3,0)","v":{"$error":"#REF!"}},{"$f":"IF(#REF!=19,2,0)","v":{"$error":"#REF!"}},{"$f":"IF(#REF!=20,1,0)","v":{"$error":"#REF!"}},{"$f":"IF(#REF!>20,0,0)","v":{"$error":"#REF!"}},{"$f":"IF(#REF!=\"сх\",0,0)","v":{"$error":"#REF!"}},{"$f":"SUM(AP10:BJ10)","v":{"$error":"#REF!"}},{"$f":"IF(#REF!=1,45,0)","v":{"$error":"#REF!"}},{"$f":"IF(#REF!=2,42,0)","v":{"$error":"#REF!"}},{"$f":"IF(#REF!=3,40,0)","v":{"$error":"#REF!"}},{"$f":"IF(#REF!=4,38,0)","v":{"$error":"#REF!"}},{"$f":"IF(#REF!=5,36,0)","v":{"$error":"#REF!"}},{"$f":"IF(#REF!=6,35,0)","v":{"$error":"#REF!"}},{"$f":"IF(#REF!=7,34,0)","v":{"$error":"#REF!"}},{"$f":"IF(#REF!=8,33,0)","v":{"$error":"#REF!"}},{"$f":"IF(#REF!=9,32,0)","v":{"$error":"#REF!"}},{"$f":"IF(#REF!=10,31,0)","v":{"$error":"#REF!"}},{"$f":"IF(#REF!=11,30,0)","v":{"$error":"#REF!"}},{"$f":"IF(#REF!=12,29,0)","v":{"$error":"#REF!"}},{"$f":"IF(#REF!=13,28,0)","v":{"$error":"#REF!"}},{"$f":"IF(#REF!=14,27,0)","v":{"$error":"#REF!"}},{"$f":"IF(#REF!=15,26,0)","v":{"$error":"#REF!"}},{"$f":"IF(#REF!=16,25,0)","v":{"$error":"#REF!"}},{"$f":"IF(#REF!=17,24,0)","v":{"$error":"#REF!"}},{"$f":"IF(#REF!=18,23,0)","v":{"$error":"#REF!"}},{"$f":"IF(#REF!=19,22,0)","v":{"$error":"#REF!"}},{"$f":"IF(#REF!=20,21,0)","v":{"$error":"#REF!"}},{"$f":"IF(#REF!=21,20,0)","v":{"$error":"#REF!"}},{"$f":"IF(#REF!=22,19,0)","v":{"$error":"#REF!"}},{"$f":"IF(#REF!=23,18,0)","v":{"$error":"#REF!"}},{"$f":"IF(#REF!=24,17,0)","v":{"$error":"#REF!"}},{"$f":"IF(#REF!=25,16,0)","v":{"$error":"#REF!"}},{"$f":"IF(#REF!=26,15,0)","v":{"$error":"#REF!"}},{"$f":"IF(#REF!=27,14,0)","v":{"$error":"#REF!"}},{"$f":"IF(#REF!=28,13,0)","v":{"$error":"#REF!"}},{"$f":"IF(#REF!=29,12,0)","v":{"$error":"#REF!"}},{"$f":"IF(#REF!=30,11,0)","v":{"$error":"#REF!"}},{"$f":"IF(#REF!=31,10,0)","v":{"$error":"#REF!"}},{"$f":"IF(#REF!=32,9,0)","v":{"$error":"#REF!"}},{"$f":"IF(#REF!=33,8,0)","v":{"$error":"#REF!"}},{"$f":"IF(#REF!=34,7,0)","v":{"$error":"#REF!"}},{"$f":"IF(#REF!=35,6,0)","v":{"$error":"#REF!"}},{"$f":"IF(#REF!=36,5,0)","v":{"$error":"#REF!"}},{"$f":"IF(#REF!=37,4,0)","v":{"$error":"#REF!"}},{"$f":"IF(#REF!=38,3,0)","v":{"$error":"#REF!"}},{"$f":"IF(#REF!=39,2,0)","v":{"$error":"#REF!"}},{"$f":"IF(#REF!=40,1,0)","v":{"$error":"#REF!"}},{"$f":"IF(#REF!>20,0,0)","v":{"$error":"#REF!"}},{"$f":"IF(#REF!=\"сх\",0,0)","v":{"$error":"#REF!"}},{"$f":"SUM(BM10:DB10)","v":{"$error":"#REF!"}},{"$f":"IF(#REF!=1,45,0)","v":{"$error":"#REF!"}},{"$f":"IF(#REF!=2,42,0)","v":{"$error":"#REF!"}},{"$f":"IF(#REF!=3,40,0)","v":{"$error":"#REF!"}},{"$f":"IF(#REF!=4,38,0)","v":{"$error":"#REF!"}},{"$f":"IF(#REF!=5,36,0)","v":{"$error":"#REF!"}},{"$f":"IF(#REF!=6,35,0)","v":{"$error":"#REF!"}},{"$f":"IF(#REF!=7,34,0)","v":{"$error":"#REF!"}},{"$f":"IF(#REF!=8,33,0)","v":{"$error":"#REF!"}},{"$f":"IF(#REF!=9,32,0)","v":{"$error":"#REF!"}},{"$f":"IF(#REF!=10,31,0)","v":{"$error":"#REF!"}},{"$f":"IF(#REF!=11,30,0)","v":{"$error":"#REF!"}},{"$f":"IF(#REF!=12,29,0)","v":{"$error":"#REF!"}},{"$f":"IF(#REF!=13,28,0)","v":{"$error":"#REF!"}},{"$f":"IF(#REF!=14,27,0)","v":{"$error":"#REF!"}},{"$f":"IF(#REF!=15,26,0)","v":{"$error":"#REF!"}},{"$f":"IF(#REF!=16,25,0)","v":{"$error":"#REF!"}},{"$f":"IF(#REF!=17,24,0)","v":{"$error":"#REF!"}},{"$f":"IF(#REF!=18,23,0)","v":{"$error":"#REF!"}},{"$f":"IF(#REF!=19,22,0)","v":{"$error":"#REF!"}},{"$f":"IF(#REF!=20,21,0)","v":{"$error":"#REF!"}},{"$f":"IF(#REF!=21,20,0)","v":{"$error":"#REF!"}},{"$f":"IF(#REF!=22,19,0)","v":{"$error":"#REF!"}},{"$f":"IF(#REF!=23,18,0)","v":{"$error":"#REF!"}},{"$f":"IF(#REF!=24,17,0)","v":{"$error":"#REF!"}},{"$f":"IF(#REF!=25,16,0)","v":{"$error":"#REF!"}},{"$f":"IF(#REF!=26,15,0)","v":{"$error":"#REF!"}},{"$f":"IF(#REF!=27,14,0)","v":{"$error":"#REF!"}},{"$f":"IF(#REF!=28,13,0)","v":{"$error":"#REF!"}},{"$f":"IF(#REF!=29,12,0)","v":{"$error":"#REF!"}},{"$f":"IF(#REF!=30,11,0)","v":{"$error":"#REF!"}},{"$f":"IF(#REF!=31,10,0)","v":{"$error":"#REF!"}},{"$f":"IF(#REF!=32,9,0)","v":{"$error":"#REF!"}},{"$f":"IF(#REF!=33,8,0)","v":{"$error":"#REF!"}},{"$f":"IF(#REF!=34,7,0)","v":{"$error":"#REF!"}},{"$f":"IF(#REF!=35,6,0)","v":{"$error":"#REF!"}},{"$f":"IF(#REF!=36,5,0)","v":{"$error":"#REF!"}},{"$f":"IF(#REF!=37,4,0)","v":{"$error":"#REF!"}},{"$f":"IF(#REF!=38,3,0)","v":{"$error":"#REF!"}},{"$f":"IF(#REF!=39,2,0)","v":{"$error":"#REF!"}},{"$f":"IF(#REF!=40,1,0)","v":{"$error":"#REF!"}},{"$f":"IF(#REF!>20,0,0)","v":{"$error":"#REF!"}},{"$f":"IF(#REF!=\"сх\",0,0)","v":{"$error":"#REF!"}},{"$f":"SUM(DD10:ES10)","v":{"$error":"#REF!"}},null,{"$f":"IF(#REF!=\"сх\",\"ноль\",IF(#REF!>0,#REF!,\"Ноль\"))","v":{"$error":"#REF!"}},{"$f":"IF(#REF!=\"сх\",\"ноль\",IF(#REF!>0,#REF!,\"Ноль\"))","v":{"$error":"#REF!"}},null,{"$f":"MIN(EV10,EW10)","v":{"$error":"#REF!"}},{"$f":"IF(O10=#REF!,IF(#REF!<#REF!,#REF!,FD10),#REF!)","v":{"$error":"#REF!"}},{"$f":"IF(O10=#REF!,IF(#REF!<#REF!,0,1))","v":{"$error":"#REF!"}},{"$f":"IF(AND(EY10>=21,EY10<>0),EY10,IF(O10<#REF!,\"СТОП\",EZ10+FA10))","v":{"$error":"#REF!"}},null,15,16,null,{"$f":"IF(#REF!=1,25,0)","v":{"$error":"#REF!"}},{"$f":"IF(#REF!=2,22,0)","v":{"$error":"#REF!"}},{"$f":"IF(#REF!=3,20,0)","v":{"$error":"#REF!"}},{"$f":"IF(#REF!=4,18,0)","v":{"$error":"#REF!"}},{"$f":"IF(#REF!=5,16,0)","v":{"$error":"#REF!"}},{"$f":"IF(#REF!=6,15,0)","v":{"$error":"#REF!"}},{"$f":"IF(#REF!=7,14,0)","v":{"$error":"#REF!"}},{"$f":"IF(#REF!=8,13,0)","v":{"$error":"#REF!"}},{"$f":"IF(#REF!=9,12,0)","v":{"$error":"#REF!"}},{"$f":"IF(#REF!=10,11,0)","v":{"$error":"#REF!"}},{"$f":"IF(#REF!=11,10,0)","v":{"$error":"#REF!"}},{"$f":"IF(#REF!=12,9,0)","v":{"$error":"#REF!"}},{"$f":"IF(#REF!=13,8,0)","v":{"$error":"#REF!"}},{"$f":"IF(#REF!=14,7,0)","v":{"$error":"#REF!"}},{"$f":"IF(#REF!=15,6,0)","v":{"$error":"#REF!"}},{"$f":"IF(#REF!=16,5,0)","v":{"$error":"#REF!"}},{"$f":"IF(#REF!=17,4,0)","v":{"$error":"#REF!"}},{"$f":"IF(#REF!=18,3,0)","v":{"$error":"#REF!"}},{"$f":"IF(#REF!=19,2,0)","v":{"$error":"#REF!"}},{"$f":"IF(#REF!=20,1,0)","v":{"$error":"#REF!"}},{"$f":"IF(#REF!>20,0,0)","v":{"$error":"#REF!"}},{"$f":"IF(#REF!=\"сх\",0,0)","v":{"$error":"#REF!"}},{"$f":"SUM(FG10:GB10)","v":{"$error":"#REF!"}},{"$f":"IF(#REF!=1,25,0)","v":{"$error":"#REF!"}},{"$f":"IF(#REF!=2,22,0)","v":{"$error":"#REF!"}},{"$f":"IF(#REF!=3,20,0)","v":{"$error":"#REF!"}},{"$f":"IF(#REF!=4,18,0)","v":{"$error":"#REF!"}},{"$f":"IF(#REF!=5,16,0)","v":{"$error":"#REF!"}},{"$f":"IF(#REF!=6,15,0)","v":{"$error":"#REF!"}},{"$f":"IF(#REF!=7,14,0)","v":{"$error":"#REF!"}},{"$f":"IF(#REF!=8,13,0)","v":{"$error":"#REF!"}},{"$f":"IF(#REF!=9,12,0)","v":{"$error":"#REF!"}},{"$f":"IF(#REF!=10,11,0)","v":{"$error":"#REF!"}},{"$f":"IF(#REF!=11,10,0)","v":{"$error":"#REF!"}},{"$f":"IF(#REF!=12,9,0)","v":{"$error":"#REF!"}},{"$f":"IF(#REF!=13,8,0)","v":{"$error":"#REF!"}},{"$f":"IF(#REF!=14,7,0)","v":{"$error":"#REF!"}},{"$f":"IF(#REF!=15,6,0)","v":{"$error":"#REF!"}},{"$f":"IF(#REF!=16,5,0)","v":{"$error":"#REF!"}},{"$f":"IF(#REF!=17,4,0)","v":{"$error":"#REF!"}},{"$f":"IF(#REF!=18,3,0)","v":{"$error":"#REF!"}},{"$f":"IF(#REF!=19,2,0)","v":{"$error":"#REF!"}},{"$f":"IF(#REF!=20,1,0)","v":{"$error":"#REF!"}},{"$f":"IF(#REF!>20,0,0)","v":{"$error":"#REF!"}},{"$f":"IF(#REF!=\"сх\",0,0)","v":{"$error":"#REF!"}},{"$f":"SUM(GD10:GY10)","v":{"$error":"#REF!"}},{"$f":"IF(#REF!=1,100,0)","v":{"$error":"#REF!"}},{"$f":"IF(#REF!=2,98,0)","v":{"$error":"#REF!"}},{"$f":"IF(#REF!=3,95,0)","v":{"$error":"#REF!"}},{"$f":"IF(#REF!=4,93,0)","v":{"$error":"#REF!"}},{"$f":"IF(#REF!=5,90,0)","v":{"$error":"#REF!"}},{"$f":"IF(#REF!=6,88,0)","v":{"$error":"#REF!"}},{"$f":"IF(#REF!=7,85,0)","v":{"$error":"#REF!"}},{"$f":"IF(#REF!=8,83,0)","v":{"$error":"#REF!"}},{"$f":"IF(#REF!=9,80,0)","v":{"$error":"#REF!"}},{"$f":"IF(#REF!=10,78,0)","v":{"$error":"#REF!"}},{"$f":"IF(#REF!=11,75,0)","v":{"$error":"#REF!"}},{"$f":"IF(#REF!=12,73,0)","v":{"$error":"#REF!"}},{"$f":"IF(#REF!=13,70,0)","v":{"$error":"#REF!"}},{"$f":"IF(#REF!=14,68,0)","v":{"$error":"#REF!"}},{"$f":"IF(#REF!=15,65,0)","v":{"$error":"#REF!"}},{"$f":"IF(#REF!=16,63,0)","v":{"$error":"#REF!"}},{"$f":"IF(#REF!=17,60,0)","v":{"$error":"#REF!"}},{"$f":"IF(#REF!=18,58,0)","v":{"$error":"#REF!"}},{"$f":"IF(#REF!=19,55,0)","v":{"$error":"#REF!"}},{"$f":"IF(#REF!=20,53,0)","v":{"$error":"#REF!"}},{"$f":"IF(#REF!>20,0,0)","v":{"$error":"#REF!"}},{"$f":"IF(#REF!=\"сх\",0,0)","v":{"$error":"#REF!"}},{"$f":"SUM(HA10:HV10)","v":{"$error":"#REF!"}},{"$f":"IF(#REF!=1,100,0)","v":{"$error":"#REF!"}},{"$f":"IF(#REF!=2,98,0)","v":{"$error":"#REF!"}},{"$f":"IF(#REF!=3,95,0)","v":{"$error":"#REF!"}},{"$f":"IF(#REF!=4,93,0)","v":{"$error":"#REF!"}},{"$f":"IF(#REF!=5,90,0)","v":{"$error":"#REF!"}},{"$f":"IF(#REF!=6,88,0)","v":{"$error":"#REF!"}},{"$f":"IF(#REF!=7,85,0)","v":{"$error":"#REF!"}},{"$f":"IF(#REF!=8,83,0)","v":{"$error":"#REF!"}},{"$f":"IF(#REF!=9,80,0)","v":{"$error":"#REF!"}},{"$f":"IF(#REF!=10,78,0)","v":{"$error":"#REF!"}},{"$f":"IF(#REF!=11,75,0)","v":{"$error":"#REF!"}},{"$f":"IF(#REF!=12,73,0)","v":{"$error":"#REF!"}},{"$f":"IF(#REF!=13,70,0)","v":{"$error":"#REF!"}},{"$f":"IF(#REF!=14,68,0)","v":{"$error":"#REF!"}},{"$f":"IF(#REF!=15,65,0)","v":{"$error":"#REF!"}},{"$f":"IF(#REF!=16,63,0)","v":{"$error":"#REF!"}},{"$f":"IF(#REF!=17,60,0)","v":{"$error":"#REF!"}},{"$f":"IF(#REF!=18,58,0)","v":{"$error":"#REF!"}},{"$f":"IF(#REF!=19,55,0)","v":{"$error":"#REF!"}},{"$f":"IF(#REF!=20,53,0)","v":{"$error":"#REF!"}},{"$f":"IF(#REF!>20,0,0)","v":{"$error":"#REF!"}},{"$f":"IF(#REF!=\"сх\",0,0)","v":{"$error":"#REF!"}},{"$f":"SUM(HX10:IS10)","v":{"$error":"#REF!"}}]
[2,{"$f":"SUM(C11+D11+E11)","v":13.3},4.5999999999999996,4.5,4.2,5,"Дубовик Степан","б/р","г. Новый Уренгой, Ямало-Ненецкий АО","СТК \"Факел\"","Arctic Cat",20,18,14,{"$f":"SUM(L11+M11+N11)","v":52},{"$f":"#REF!+#REF!","v":{"$error":"#REF!"}},null,null,{"$f":"IF(#REF!=1,25,0)","v":{"$error":"#REF!"}},{"$f":"IF(#REF!=2,22,0)","v":{"$error":"#REF!"}},{"$f":"IF(#REF!=3,20,0)","v":{"$error":"#REF!"}},{"$f":"IF(#REF!=4,18,0)","v":{"$error":"#REF!"}},{"$f":"IF(#REF!=5,16,0)","v":{"$error":"#REF!"}},{"$f":"IF(#REF!=6,15,0)","v":{"$error":"#REF!"}},{"$f":"IF(#REF!=7,14,0)","v":{"$error":"#REF!"}},{"$f":"IF(#REF!=8,13,0)","v":{"$error":"#REF!"}},{"$f":"IF(#REF!=9,12,0)","v":{"$error":"#REF!"}},{"$f":"IF(#REF!=10,11,0)","v":{"$error":"#REF!"}},{"$f":"IF(#REF!=11,10,0)","v":{"$error":"#REF!"}},{"$f":"IF(#REF!=12,9,0)","v":{"$error":"#REF!"}},{"$f":"IF(#REF!=13,8,0)","v":{"$error":"#REF!"}},{"$f":"IF(#REF!=14,7,0)","v":{"$error":"#REF!"}},{"$f":"IF(#REF!=15,6,0)","v":{"$error":"#REF!"}},{"$f":"IF(#REF!=16,5,0)","v":{"$error":"#REF!"}},{"$f":"IF(#REF!=17,4,0)","v":{"$error":"#REF!"}},{"$f":"IF(#REF!=18,3,0)","v":{"$error":"#REF!"}},{"$f":"IF(#REF!=19,2,0)","v":{"$error":"#REF!"}},{"$f":"IF(#REF!=20,1,0)","v":{"$error":"#REF!"}},{"$f":"IF(#REF!>20,0,0)","v":{"$error":"#REF!"}},{"$f":"IF(#REF!=\"сх\",0,0)","v":{"$error":"#REF!"}},{"$f":"SUM(S11:AM11)","v":{"$error":"#REF!"}},{"$f":"IF(#REF!=1,25,0)","v":{"$error":"#REF!"}},{"$f":"IF(#REF!=2,22,0)","v":{"$error":"#REF!"}},{"$f":"IF(#REF!=3,20,0)","v":{"$error":"#REF!"}},{"$f":"IF(#REF!=4,18,0)","v":{"$error":"#REF!"}},{"$f":"IF(#REF!=5,16,0)","v":{"$error":"#REF!"}},{"$f":"IF(#REF!=6,15,0)","v":{"$error":"#REF!"}},{"$f":"IF(#REF!=7,14,0)","v":{"$error":"#REF!"}},{"$f":"IF(#REF!=8,13,0)","v":{"$error":"#REF!"}},{"$f":"IF(#REF!=9,12,0)","v":{"$error":"#REF!"}},{"$f":"IF(#REF!=10,11,0)","v":{"$error":"#REF!"}},{"$f":"IF(#REF!=11,10,0)","v":{"$error":"#REF!"}},{"$f":"IF(#REF!=12,9,0)","v":{"$error":"#REF!"}},{"$f":"IF(#REF!=13,8,0)","v":{"$error":"#REF!"}},{"$f":"IF(#REF!=14,7,0)","v":{"$error":"#REF!"}},{"$f":"IF(#REF!=15,6,0)","v":{"$error":"#REF!"}},{"$f":"IF(#REF!=16,5,0)","v":{"$error":"#REF!"}},{"$f":"IF(#REF!=17,4,0)","v":{"$error":"#REF!"}},{"$f":"IF(#REF!=18,3,0)","v":{"$error":"#REF!"}},{"$f":"IF(#REF!=19,2,0)","v":{"$error":"#REF!"}},{"$f":"IF(#REF!=20,1,0)","v":{"$error":"#REF!"}},{"$f":"IF(#REF!>20,0,0)","v":{"$error":"#REF!"}},{"$f":"IF(#REF!=\"сх\",0,0)","v":{"$error":"#REF!"}},{"$f":"SUM(AP11:BJ11)","v":{"$error":"#REF!"}},{"$f":"IF(#REF!=1,45,0)","v":{"$error":"#REF!"}},{"$f":"IF(#REF!=2,42,0)","v":{"$error":"#REF!"}},{"$f":"IF(#REF!=3,40,0)","v":{"$error":"#REF!"}},{"$f":"IF(#REF!=4,38,0)","v":{"$error":"#REF!"}},{"$f":"IF(#REF!=5,36,0)","v":{"$error":"#REF!"}},{"$f":"IF(#REF!=6,35,0)","v":{"$error":"#REF!"}},{"$f":"IF(#REF!=7,34,0)","v":{"$error":"#REF!"}},{"$f":"IF(#REF!=8,33,0)","v":{"$error":"#REF!"}},{"$f":"IF(#REF!=9,32,0)","v":{"$error":"#REF!"}},{"$f":"IF(#REF!=10,31,0)","v":{"$error":"#REF!"}},{"$f":"IF(#REF!=11,30,0)","v":{"$error":"#REF!"}},{"$f":"IF(#REF!=12,29,0)","v":{"$error":"#REF!"}},{"$f":"IF(#REF!=13,28,0)","v":{"$error":"#REF!"}},{"$f":"IF(#REF!=14,27,0)","v":{"$error":"#REF!"}},{"$f":"IF(#REF!=15,26,0)","v":{"$error":"#REF!"}},{"$f":"IF(#REF!=16,25,0)","v":{"$error":"#REF!"}},{"$f":"IF(#REF!=17,24,0)","v":{"$error":"#REF!"}},{"$f":"IF(#REF!=18,23,0)","v":{"$error":"#REF!"}},{"$f":"IF(#REF!=19,22,0)","v":{"$error":"#REF!"}},{"$f":"IF(#REF!=20,21,0)","v":{"$error":"#REF!"}},{"$f":"IF(#REF!=21,20,0)","v":{"$error":"#REF!"}},{"$f":"IF(#REF!=22,19,0)","v":{"$error":"#REF!"}},{"$f":"IF(#REF!=23,18,0)","v":{"$error":"#REF!"}},{"$f":"IF(#REF!=24,17,0)","v":{"$error":"#REF!"}},{"$f":"IF(#REF!=25,16,0)","v":{"$error":"#REF!"}},{"$f":"IF(#REF!=26,15,0)","v":{"$error":"#REF!"}},{"$f":"IF(#REF!=27,14,0)","v":{"$error":"#REF!"}},{"$f":"IF(#REF!=28,13,0)","v":{"$error":"#REF!"}},{"$f":"IF(#REF!=29,12,0)","v":{"$error":"#REF!"}},{"$f":"IF(#REF!=30,11,0)","v":{"$error":"#REF!"}},{"$f":"IF(#REF!=31,10,0)","v":{"$error":"#REF!"}},{"$f":"IF(#REF!=32,9,0)","v":{"$error":"#REF!"}},{"$f":"IF(#REF!=33,8,0)","v":{"$error":"#REF!"}},{"$f":"IF(#REF!=34,7,0)","v":{"$error":"#REF!"}},{"$f":"IF(#REF!=35,6,0)","v":{"$error":"#REF!"}},{"$f":"IF(#REF!=36,5,0)","v":{"$error":"#REF!"}},{"$f":"IF(#REF!=37,4,0)","v":{"$error":"#REF!"}},{"$f":"IF(#REF!=38,3,0)","v":{"$error":"#REF!"}},{"$f":"IF(#REF!=39,2,0)","v":{"$error":"#REF!"}},{"$f":"IF(#REF!=40,1,0)","v":{"$error":"#REF!"}},{"$f":"IF(#REF!>20,0,0)","v":{"$error":"#REF!"}},{"$f":"IF(#REF!=\"сх\",0,0)","v":{"$error":"#REF!"}},{"$f":"SUM(BM11:DB11)","v":{"$error":"#REF!"}},{"$f":"IF(#REF!=1,45,0)","v":{"$error":"#REF!"}},{"$f":"IF(#REF!=2,42,0)","v":{"$error":"#REF!"}},{"$f":"IF(#REF!=3,40,0)","v":{"$error":"#REF!"}},{"$f":"IF(#REF!=4,38,0)","v":{"$error":"#REF!"}},{"$f":"IF(#REF!=5,36,0)","v":{"$error":"#REF!"}},{"$f":"IF(#REF!=6,35,0)","v":{"$error":"#REF!"}},{"$f":"IF(#REF!=7,34,0)","v":{"$error":"#REF!"}},{"$f":"IF(#REF!=8,33,0)","v":{"$error":"#REF!"}},{"$f":"IF(#REF!=9,32,0)","v":{"$error":"#REF!"}},{"$f":"IF(#REF!=10,31,0)","v":{"$error":"#REF!"}},{"$f":"IF(#REF!=11,30,0)","v":{"$error":"#REF!"}},{"$f":"IF(#REF!=12,29,0)","v":{"$error":"#REF!"}},{"$f":"IF(#REF!=13,28,0)","v":{"$error":"#REF!"}},{"$f":"IF(#REF!=14,27,0)","v":{"$error":"#REF!"}},{"$f":"IF(#REF!=15,26,0)","v":{"$error":"#REF!"}},{"$f":"IF(#REF!=16,25,0)","v":{"$error":"#REF!"}},{"$f":"IF(#REF!=17,24,0)","v":{"$error":"#REF!"}},{"$f":"IF(#REF!=18,23,0)","v":{"$error":"#REF!"}},{"$f":"IF(#REF!=19,22,0)","v":{"$error":"#REF!"}},{"$f":"IF(#REF!=20,21,0)","v":{"$error":"#REF!"}},{"$f":"IF(#REF!=21,20,0)","v":{"$error":"#REF!"}},{"$f":"IF(#REF!=22,19,0)","v":{"$error":"#REF!"}},{"$f":"IF(#REF!=23,18,0)","v":{"$error":"#REF!"}},{"$f":"IF(#REF!=24,17,0)","v":{"$error":"#REF!"}},{"$f":"IF(#REF!=25,16,0)","v":{"$error":"#REF!"}},{"$f":"IF(#REF!=26,15,0)","v":{"$error":"#REF!"}},{"$f":"IF(#REF!=27,14,0)","v":{"$error":"#REF!"}},{"$f":"IF(#REF!=28,13,0)","v":{"$error":"#REF!"}},{"$f":"IF(#REF!=29,12,0)","v":{"$error":"#REF!"}},{"$f":"IF(#REF!=30,11,0)","v":{"$error":"#REF!"}},{"$f":"IF(#REF!=31,10,0)","v":{"$error":"#REF!"}},{"$f":"IF(#REF!=32,9,0)","v":{"$error":"#REF!"}},{"$f":"IF(#REF!=33,8,0)","v":{"$error":"#REF!"}},{"$f":"IF(#REF!=34,7,0)","v":{"$error":"#REF!"}},{"$f":"IF(#REF!=35,6,0)","v":{"$error":"#REF!"}},{"$f":"IF(#REF!=36,5,0)","v":{"$error":"#REF!"}},{"$f":"IF(#REF!=37,4,0)","v":{"$error":"#REF!"}},{"$f":"IF(#REF!=38,3,0)","v":{"$error":"#REF!"}},{"$f":"IF(#REF!=39,2,0)","v":{"$error":"#REF!"}},{"$f":"IF(#REF!=40,1,0)","v":{"$error":"#REF!"}},{"$f":"IF(#REF!>20,0,0)","v":{"$error":"#REF!"}},{"$f":"IF(#REF!=\"сх\",0,0)","v":{"$error":"#REF!"}},{"$f":"SUM(DD11:ES11)","v":{"$error":"#REF!"}},null,{"$f":"IF(#REF!=\"сх\",\"ноль\",IF(#REF!>0,#REF!,\"Ноль\"))","v":{"$error":"#REF!"}},{"$f":"IF(#REF!=\"сх\",\"ноль\",IF(#REF!>0,#REF!,\"Ноль\"))","v":{"$error":"#REF!"}},null,{"$f":"MIN(EV11,EW11)","v":{"$error":"#REF!"}},{"$f":"IF(O11=#REF!,IF(#REF!<#REF!,#REF!,FD11),#REF!)","v":{"$error":"#REF!"}},{"$f":"IF(O11=#REF!,IF(#REF!<#REF!,0,1))","v":{"$error":"#REF!"}},{"$f":"IF(AND(EY11>=21,EY11<>0),EY11,IF(O11<#REF!,\"СТОП\",EZ11+FA11))","v":{"$error":"#REF!"}},null,15,16,null,{"$f":"IF(#REF!=1,25,0)","v":{"$error":"#REF!"}},{"$f":"IF(#REF!=2,22,0)","v":{"$error":"#REF!"}},{"$f":"IF(#REF!=3,20,0)","v":{"$error":"#REF!"}},{"$f":"IF(#REF!=4,18,0)","v":{"$error":"#REF!"}},{"$f":"IF(#REF!=5,16,0)","v":{"$error":"#REF!"}},{"$f":"IF(#REF!=6,15,0)","v":{"$error":"#REF!"}},{"$f":"IF(#REF!=7,14,0)","v":{"$error":"#REF!"}},{"$f":"IF(#REF!=8,13,0)","v":{"$error":"#REF!"}},{"$f":"IF(#REF!=9,12,0)","v":{"$error":"#REF!"}},{"$f":"IF(#REF!=10,11,0)","v":{"$error":"#REF!"}},{"$f":"IF(#REF!=11,10,0)","v":{"$error":"#REF!"}},{"$f":"IF(#REF!=12,9,0)","v":{"$error":"#REF!"}},{"$f":"IF(#REF!=13,8,0)","v":{"$error":"#REF!"}},{"$f":"IF(#REF!=14,7,0)","v":{"$error":"#REF!"}},{"$f":"IF(#REF!=15,6,0)","v":{"$error":"#REF!"}},{"$f":"IF(#REF!=16,5,0)","v":{"$error":"#REF!"}},{"$f":"IF(#REF!=17,4,0)","v":{"$error":"#REF!"}},{"$f":"IF(#REF!=18,3,0)","v":{"$error":"#REF!"}},{"$f":"IF(#REF!=19,2,0)","v":{"$error":"#REF!"}},{"$f":"IF(#REF!=20,1,0)","v":{"$error":"#REF!"}},{"$f":"IF(#REF!>20,0,0)","v":{"$error":"#REF!"}},{"$f":"IF(#REF!=\"сх\",0,0)","v":{"$error":"#REF!"}},{"$f":"SUM(FG11:GB11)","v":{"$error":"#REF!"}},{"$f":"IF(#REF!=1,25,0)","v":{"$error":"#REF!"}},{"$f":"IF(#REF!=2,22,0)","v":{"$error":"#REF!"}},{"$f":"IF(#REF!=3,20,0)","v":{"$error":"#REF!"}},{"$f":"IF(#REF!=4,18,0)","v":{"$error":"#REF!"}},{"$f":"IF(#REF!=5,16,0)","v":{"$error":"#REF!"}},{"$f":"IF(#REF!=6,15,0)","v":{"$error":"#REF!"}},{"$f":"IF(#REF!=7,14,0)","v":{"$error":"#REF!"}},{"$f":"IF(#REF!=8,13,0)","v":{"$error":"#REF!"}},{"$f":"IF(#REF!=9,12,0)","v":{"$error":"#REF!"}},{"$f":"IF(#REF!=10,11,0)","v":{"$error":"#REF!"}},{"$f":"IF(#REF!=11,10,0)","v":{"$error":"#REF!"}},{"$f":"IF(#REF!=12,9,0)","v":{"$error":"#REF!"}},{"$f":"IF(#REF!=13,8,0)","v":{"$error":"#REF!"}},{"$f":"IF(#REF!=14,7,0)","v":{"$error":"#REF!"}},{"$f":"IF(#REF!=15,6,0)","v":{"$error":"#REF!"}},{"$f":"IF(#REF!=16,5,0)","v":{"$error":"#REF!"}},{"$f":"IF(#REF!=17,4,0)","v":{"$error":"#REF!"}},{"$f":"IF(#REF!=18,3,0)","v":{"$error":"#REF!"}},{"$f":"IF(#REF!=19,2,0)","v":{"$error":"#REF!"}},{"$f":"IF(#REF!=20,1,0)","v":{"$error":"#REF!"}},{"$f":"IF(#REF!>20,0,0)","v":{"$error":"#REF!"}},{"$f":"IF(#REF!=\"сх\",0,0)","v":{"$error":"#REF!"}},{"$f":"SUM(GD11:GY11)","v":{"$error":"#REF!"}},{"$f":"IF(#REF!=1,100,0)","v":{"$error":"#REF!"}},{"$f":"IF(#REF!=2,98,0)","v":{"$error":"#REF!"}},{"$f":"IF(#REF!=3,95,0)","v":{"$error":"#REF!"}},{"$f":"IF(#REF!=4,93,0)","v":{"$error":"#REF!"}},{"$f":"IF(#REF!=5,90,0)","v":{"$error":"#REF!"}},{"$f":"IF(#REF!=6,88,0)","v":{"$error":"#REF!"}},{"$f":"IF(#REF!=7,85,0)","v":{"$error":"#REF!"}},{"$f":"IF(#REF!=8,83,0)","v":{"$error":"#REF!"}},{"$f":"IF(#REF!=9,80,0)","v":{"$error":"#REF!"}},{"$f":"IF(#REF!=10,78,0)","v":{"$error":"#REF!"}},{"$f":"IF(#REF!=11,75,0)","v":{"$error":"#REF!"}},{"$f":"IF(#REF!=12,73,0)","v":{"$error":"#REF!"}},{"$f":"IF(#REF!=13,70,0)","v":{"$error":"#REF!"}},{"$f":"IF(#REF!=14,68,0)","v":{"$error":"#REF!"}},{"$f":"IF(#REF!=15,65,0)","v":{"$error":"#REF!"}},{"$f":"IF(#REF!=16,63,0)","v":{"$error":"#REF!"}},{"$f":"IF(#REF!=17,60,0)","v":{"$error":"#REF!"}},{"$f":"IF(#REF!=18,58,0)","v":{"$error":"#REF!"}},{"$f":"IF(#REF!=19,55,0)","v":{"$error":"#REF!"}},{"$f":"IF(#REF!=20,53,0)","v":{"$error":"#REF!"}},{"$f":"IF(#REF!>20,0,0)","v":{"$error":"#REF!"}},{"$f":"IF(#REF!=\"сх\",0,0)","v":{"$error":"#REF!"}},{"$f":"SUM(HA11:HV11)","v":{"$error":"#REF!"}},{"$f":"IF(#REF!=1,100,0)","v":{"$error":"#REF!"}},{"$f":"IF(#REF!=2,98,0)","v":{"$error":"#REF!"}},{"$f":"IF(#REF!=3,95,0)","v":{"$error":"#REF!"}},{"$f":"IF(#REF!=4,93,0)","v":{"$error":"#REF!"}},{"$f":"IF(#REF!=5,90,0)","v":{"$error":"#REF!"}},{"$f":"IF(#REF!=6,88,0)","v":{"$error":"#REF!"}},{"$f":"IF(#REF!=7,85,0)","v":{"$error":"#REF!"}},{"$f":"IF(#REF!=8,83,0)","v":{"$error":"#REF!"}},{"$f":"IF(#REF!=9,80,0)","v":{"$error":"#REF!"}},{"$f":"IF(#REF!=10,78,0)","v":{"$error":"#REF!"}},{"$f":"IF(#REF!=11,75,0)","v":{"$error":"#REF!"}},{"$f":"IF(#REF!=12,73,0)","v":{"$error":"#REF!"}},{"$f":"IF(#REF!=13,70,0)","v":{"$error":"#REF!"}},{"$f":"IF(#REF!=14,68,0)","v":{"$error":"#REF!"}},{"$f":"IF(#REF!=15,65,0)","v":{"$error":"#REF!"}},{"$f":"IF(#REF!=16,63,0)","v":{"$error":"#REF!"}},{"$f":"IF(#REF!=17,60,0)","v":{"$error":"#REF!"}},{"$f":"IF(#REF!=18,58,0)","v":{"$error":"#REF!"}},{"$f":"IF(#REF!=19,55,0)","v":{"$error":"#REF!"}},{"$f":"IF(#REF!=20,53,0)","v":{"$error":"#REF!"}},{"$f":"IF(#REF!>20,0,0)","v":{"$error":"#REF!"}},{"$f":"IF(#REF!=\"сх\",0,0)","v":{"$error":"#REF!"}},{"$f":"SUM(HX11:IS11)","v":{"$error":"#REF!"}}]
[3,{"$f":"SUM(C12+D12+E12)","v":9.3000000000000007},0,5,4.3,"01","Вобликов Никита","б/р","г. Муравленко, Ямало-Ненецкий АО","\"Миг\"","Arctic-Cat",0,25,15,{"$f":"SUM(L12+M12+N12)","v":40}]
[4,{"$f":"SUM(C13+D13+E13)","v":9.1999999999999993},0,4.8,4.4000000000000004,"02","Аксаметов Родион","б/р","г. Муравленко, Ямало-Ненецкий АО","\"Миг\"","Arctic-Cat",0,22,16,{"$f":"SUM(L13+M13+N13)","v":38}]
[5,{"$f":"SUM(C14+D14+E14)","v":9.1},0,4.5999999999999996,4.5,"03","Арчибасов Артем","б/р","г. Муравленко, Ямало-Ненецкий АО","\"Миг\"","Arctic-Cat",0,20,18,{"$f":"SUM(L14+M14+N14)","v":38}]
[6,{"$f":"SUM(C15+D15+E15)","v":8.8000000000000007},0,4.2,4.5999999999999996,"04","Русанов Данил","б/р","г. Муравленко, Ямало-Ненецкий АО","\"Миг\"","Arctic-Cat",0,14,20,{"$f":"SUM(L15+M15+N15)","v":34}]
[7,{"$f":"SUM(C16+D16+E16)","v":4.2},null,null,4.2,13,"Марков Матвей","б/р","г. Новый Уренгой, Ямало-Ненецкий АО","СТК \"Факел\"","Arctic-Cat",0,0,0,{"$f":"SUM(L16+M16+N16)","v":0}]
[8,{"$f":"SUM(C17+D17+E17)","v":8.6},4.5,0,4.0999999999999996,22,"Сергеев Владислав","б/р","г. Новый Уренгой, Ямало-Ненецкий АО","СТК \"Факел\"","LYNX",18,0,13,{"$f":"SUM(L17+M17+N17)","v":31}]
[9,{"$f":"SUM(C18+D18+E18)","v":8.6999999999999993},4.4000000000000004,4.3,0,4,"Бармин Ярослав","б/р","г. Новый Уренгой, Ямало-Ненецкий АО","СТК \"Ямбург\"","Тайга 120",16,15,0,{"$f":"SUM(L18+M18+N18)","v":31}]
[10,{"$f":"SUM(C19+D19+E19)","v":5},0,0,5,13,"Марков Матвей","б/р","г. Новый Уренгой, Ямало-Ненецкий АО","СТК \"Факел\"","Arctic-Cat",0,0,25,{"$f":"SUM(L19+M19+N19)","v":25}]
[11,{"$f":"SUM(C20+D20+E20)","v":5},5,0,0,13,"Чернюк Дмитрий","б/р","г. Новый Уренгой, Ямало-Ненецкий АО","СТК \"Факел\"","LYNX",25,0,0,{"$f":"SUM(L20+M20+N20)","v":25}]
[12,{"$f":"SUM(C21+D21+E21)","v":8},0,4.0999999999999996,3.9,23,"Дмитриев Даниил","б/р","г. Новый Уренгой, Ямало-Ненецкий АО","МАУ МЦ \"НОРД\"","Arctic-Cat",0,13,11,{"$f":"SUM(L21+M21+N21)","v":24}]
[13,{"$f":"SUM(C22+D22+E22)","v":4},0,0,4,6,"Журавлев Иван","б/р","г. Надым, Ямало-Ненецкий АО","СТК \"Форсаж\"","Yam",0,0,12,{"$f":"SUM(L22+M22+N22)","v":12}]
[]
[]
[]
[]
[]
["Главный судья соревнований"]
["судья Всероссийской категории:                                                                                                              А. Б. Стеблинский (г. Тюмень; лицензия МФР А 144)"]
[]
["Главный секретарь соревнований"]
["судья Всероссийской категории:                                                                                              А. Ю. Иванов (г. Москва/лицензия МФР А 105; FIM 11245)"]

{"sheet":"Мальчики 2","index":5,"n_rows":24,"n_cols":258,"rows_kept":24,"cut":false,"hidden":false,"merged":[[2,0,2,14],[1,0,1,14],[6,8,8,8],[6,9,8,9],[6,10,8,10],[6,13,8,13],[6,1,8,1],[6,2,8,2],[6,3,8,3],[6,4,8,4],[19,0,19,7],[22,0,22,7],[6,15,8,15],[6,14,8,14],[6,12,8,12],[6,11,8,11],[1,15,3,15],[3,0,3,14],[4,0,4,14],[6,0,8,0],[6,5,8,5],[6,6,8,6],[6,7,8,7]]}
[]
["Показательные выступления в рамках Кубка ЯНАО по кроссу на снегоходах 2016/2017 года.                         "]
["СВОДНЫЙ ПРОТОКОЛ  ЛИЧНОГО  ЗАЧЕТА по сумме 3-х этапов.",null,null,null,null,null,null,null,null,null,null,null,null,null,null,null,null,null,null,null,null,null,null,null,null,null,null,null,null,null,null,null,null,null,null,null,null,null,null,null,null,null,null,null,null,null,null,null,null,null,null,null,null,null,null,null,null,null,null,null,null,null,null,null,null,null,null,null,null,null,null,null,null,null,null,null,null,null,null,null,null,null,null,null,null,null,null,null,null,null,null,null,null,null,null,null,null,null,null,null,null,null,null,null,null,null,null,null,null,null,null,null,null,null,null,null,null,null,null,null,null,null,null,null,null,null,null,null,null,null,null,null,null,null,null,null,null,null,null,null,null,null,null,null,null,null,null,null,null,null,null,null,null,null,null,null,null,null,null,null,null,null,null,null,null,null,null,null,null,null,null,null,null,null,"первый этап"]
["1-й этап: 03 - 04 декабря 2016 года - г. Новый Уренгой, Ямало-Ненецкий АО; 2-й этап: 24 - 26 марта 2017 года - г. Муравленко, Ямало-Ненецкий АО; 3-й этап: 31 марта - 02 апреля 2017 года - г. Новый Уренгой, Ямало-Ненецкий АО.",null,null,null,null,null,null,null,null,null,null,null,null,null,null,null,null,null,null,null,null,null,null,null,null,null,null,null,null,null,null,null,null,null,null,null,null,null,null,null,null,null,null,null,null,null,null,null,null,null,null,null,null,null,null,null,null,null,null,null,null,null,null,null,null,null,null,null,null,null,null,null,null,null,null,null,null,null,null,null,null,null,null,null,null,null,null,null,null,null,null,null,null,null,null,null,null,null,null,null,null,null,null,null,null,null,null,null,null,null,null,null,null,null,null,null,null,null,null,null,null,null,null,null,null,null,null,null,null,null,null,null,null,null,null,null,null,null,null,null,null,null,null,null,null,null,null,null,null,null,null,null,null,null,null,null,null,null,null,null,null,null,null,"первый заезд личные очки",null,null,null,null,null,null,null,null,null,null,null,null,null,null,null,null,null,null,null,null,null,"второй заезд личные очки",null,null,null,null,null,null,null,null,null,null,null,null,null,null,null,null,null,null,null,null,null,null,"Первый заезд командные очки",null,null,null,null,null,null,null,null,null,null,null,null,null,null,null,null,null,null,null,null,null,null,"Второй заезд командные очки"]
["Класс \"Мальчики 2\".",null,null,null,null,null,null,null,null,null,null,null,null,null,null,null,null,null,null,null,null,null,null,null,null,null,null,null,null,null,null,null,null,null,null,null,null,null,null,null,null,null,null,null,null,null,null,null,null,null,null,null,null,null,null,null,null,null,null,null,null,null,null,null,null,null,null,null,null,null,null,null,null,null,null,null,null,null,null,null,null,null,null,null,null,null,null,null,null,null,null,null,null,null,null,null,null,null,null,null,null,null,null,null,null,null,null,null,null,null,null,null,null,null,null,null,null,null,null,null,null,null,null,null,null,null,null,null,null,null,null,null,null,null,null,null,null,null,null,null,null,null,null,null,null,null,null,null,null,null,null,null,null,null,null,null,null,null,null,null,null,null,1,2,3,4,5,6,7,8,9,10,11,12,13,14,15,16,17,18,19,20,21,"сх","Sym",1,2,3,4,5,6,7,8,9,10,11,12,13,14,15,16,17,18,19,20,21,"cx","sym",1,2,3,4,5,6,7,8,9,10,11,12,13,14,15,16,17,18,19,20,21,"сх","очки",1,2,3,4,5,6,7,8,9,10,11,12,13,14,15,16,17,18,19,20,21,"сх","очки",{"$f":"COUNT(FG5:IT5)","v":84},"Н. Стро","В. стро","место"]
[]
["Место","СУММА РЕЙТИНГОВЫЕ ОЧКИ","1-й этап РЕЙТИНГОВЫЕ ОЧКИ Коэф. 0,1","2-й этап РЕЙТИНГОВЫЕ ОЧКИ Коэф. 0,1","3-й этап РЕЙТИНГОВЫЕ ОЧКИ Коэф. 0,1","Ст. №","Фамилия, Имя","Раз  ряд","Город (край, район, область)","Команда","Мото","ОЧКИ 1-й этап","ОЧКИ 2-й этап","ОЧКИ 3-й этап","Сумма очков              в личном зачете","Сумма очк. в командном зачете"]
[null,null,null,null,null,null,null,null,null,null,null,null,null,null,null,null,null,null,null,"первый заезд личные очки",null,null,null,null,null,null,null,null,null,null,null,null,null,null,null,null,null,null,null,null,null,"второй заезд личные очки",null,null,null,null,null,null,null,null,null,null,null,null,null,null,null,null,null,null,null,null,null,null,"Первый заезд командные очки",null,null,null,null,null,null,null,null,null,null,null,null,null,null,null,null,null,null,null,null,null,null,null,null,null,null,null,null,null,null,null,null,null,null,null,null,null,null,null,null,null,null,"Второй заезд командные очки",null,null,null,null,null,null,null,null,null,null,null,null,null,null,null,null,null,null,null,null,null,null,null,null,null,null,null,null,null,null,null,null,null,null,null,null,null,null,null,null,null,null,null,1,2,null,null,null,null,null,null,null,null,null,null,null,null,null,null,null,null,null,null,null,null,null,"первый этап"]
[null,null,null,null,null,null,null,null,null,null,null,null,null,null,null,null,null,null,1,2,3,4,5,6,7,8,9,10,11,12,13,14,15,16,17,18,19,20,21,"сх",null,1,2,3,4,5,6,7,8,9,10,11,12,13,14,15,16,17,18,19,20,null,"cx",null,1,2,3,4,5,6,7,8,9,10,11,12,13,14,15,16,17,18,19,20,21,22,23,24,25,26,27,28,29,30,31,32,33,34,35,36,37,38,39,40,null,null,null,1,2,3,4,5,6,7,8,9,10,11,12,13,14,15,16,17,18,19,20,21,22,23,24,25,26,27,28,29,30,31,32,33,34,35,36,37,38,39,40,null,null,null,null,null,null,null,"мин","Н. Стро","В. стро","место",null,"чр1","чр2",null,null,"первый заезд личные очки",null,null,null,null,null,null,null,null,null,null,null,null,null,null,null,null,null,null,null,null,null,"второй заезд личные очки",null,null,null,null,null,null,null,null,null,null,null,null,null,null,null,null,null,null,null,null,null,null,"Первый заезд командные очки",null,null,null,null,null,null,null,null,null,null,null,null,null,null,null,null,null,null,null,null,null,null,"Второй заезд командные очки"]
[1,{"$f":"SUM(E10+D10+C10)","v":15},5,5,5,33,"Захаров Александр","б/р","г. Новый Уренгой, Ямало-Ненецкий АО","СТК \"Факел\"","LYNX",25,25,25,{"$f":"SUM(L10+M10+N10)","v":75},{"$f":"#REF!+#REF!","v":{"$error":"#REF!"}},null,null,{"$f":"IF(#REF!=1,25,0)","v":{"$error":"#REF!"}},{"$f":"IF(#REF!=2,22,0)","v":{"$error":"#REF!"}},{"$f":"IF(#REF!=3,20,0)","v":{"$error":"#REF!"}},{"$f":"IF(#REF!=4,18,0)","v":{"$error":"#REF!"}},{"$f":"IF(#REF!=5,16,0)","v":{"$error":"#REF!"}},{"$f":"IF(#REF!=6,15,0)","v":{"$error":"#REF!"}},{"$f":"IF(#REF!=7,14,0)","v":{"$error":"#REF!"}},{"$f":"IF(#REF!=8,13,0)","v":{"$error":"#REF!"}},{"$f":"IF(#REF!=9,12,0)","v":{"$error":"#REF!"}},{"$f":"IF(#REF!=10,11,0)","v":{"$error":"#REF!"}},{"$f":"IF(#REF!=11,10,0)","v":{"$error":"#REF!"}},{"$f":"IF(#REF!=12,9,0)","v":{"$error":"#REF!"}},{"$f":"IF(#REF!=13,8,0)","v":{"$error":"#REF!"}},{"$f":"IF(#REF!=14,7,0)","v":{"$error":"#REF!"}},{"$f":"IF(#REF!=15,6,0)","v":{"$error":"#REF!"}},{"$f":"IF(#REF!=16,5,0)","v":{"$error":"#REF!"}},{"$f":"IF(#REF!=17,4,0)","v":{"$error":"#REF!"}},{"$f":"IF(#REF!=18,3,0)","v":{"$error":"#REF!"}},{"$f":"IF(#REF!=19,2,0)","v":{"$error":"#REF!"}},{"$f":"IF(#REF!=20,1,0)","v":{"$error":"#REF!"}},{"$f":"IF(#REF!>20,0,0)","v":{"$error":"#REF!"}},{"$f":"IF(#REF!=\"сх\",0,0)","v":{"$error":"#REF!"}},{"$f":"SUM(S10:AM10)","v":{"$error":"#REF!"}},{"$f":"IF(#REF!=1,25,0)","v":{"$error":"#REF!"}},{"$f":"IF(#REF!=2,22,0)","v":{"$error":"#REF!"}},{"$f":"IF(#REF!=3,20,0)","v":{"$error":"#REF!"}},{"$f":"IF(#REF!=4,18,0)","v":{"$error":"#REF!"}},{"$f":"IF(#REF!=5,16,0)","v":{"$error":"#REF!"}},{"$f":"IF(#REF!=6,15,0)","v":{"$error":"#REF!"}},{"$f":"IF(#REF!=7,14,0)","v":{"$error":"#REF!"}},{"$f":"IF(#REF!=8,13,0)","v":{"$error":"#REF!"}},{"$f":"IF(#REF!=9,12,0)","v":{"$error":"#REF!"}},{"$f":"IF(#REF!=10,11,0)","v":{"$error":"#REF!"}},{"$f":"IF(#REF!=11,10,0)","v":{"$error":"#REF!"}},{"$f":"IF(#REF!=12,9,0)","v":{"$error":"#REF!"}},{"$f":"IF(#REF!=13,8,0)","v":{"$error":"#REF!"}},{"$f":"IF(#REF!=14,7,0)","v":{"$error":"#REF!"}},{"$f":"IF(#REF!=15,6,0)","v":{"$error":"#REF!"}},{"$f":"IF(#REF!=16,5,0)","v":{"$error":"#REF!"}},{"$f":"IF(#REF!=17,4,0)","v":{"$error":"#REF!"}},{"$f":"IF(#REF!=18,3,0)","v":{"$error":"#REF!"}},{"$f":"IF(#REF!=19,2,0)","v":{"$error":"#REF!"}},{"$f":"IF(#REF!=20,1,0)","v":{"$error":"#REF!"}},{"$f":"IF(#REF!>20,0,0)","v":{"$error":"#REF!"}},{"$f":"IF(#REF!=\"сх\",0,0)","v":{"$error":"#REF!"}},{"$f":"SUM(AP10:BJ10)","v":{"$error":"#REF!"}},{"$f":"IF(#REF!=1,45,0)","v":{"$error":"#REF!"}},{"$f":"IF(#REF!=2,42,0)","v":{"$error":"#REF!"}},{"$f":"IF(#REF!=3,40,0)","v":{"$error":"#REF!"}},{"$f":"IF(#REF!=4,38,0)","v":{"$error":"#REF!"}},{"$f":"IF(#REF!=5,36,0)","v":{"$error":"#REF!"}},{"$f":"IF(#REF!=6,35,0)","v":{"$error":"#REF!"}},{"$f":"IF(#REF!=7,34,0)","v":{"$error":"#REF!"}},{"$f":"IF(#REF!=8,33,0)","v":{"$error":"#REF!"}},{"$f":"IF(#REF!=9,32,0)","v":{"$error":"#REF!"}},{"$f":"IF(#REF!=10,31,0)","v":{"$error":"#REF!"}},{"$f":"IF(#REF!=11,30,0)","v":{"$error":"#REF!"}},{"$f":"IF(#REF!=12,29,0)","v":{"$error":"#REF!"}},{"$f":"IF(#REF!=13,28,0)","v":{"$error":"#REF!"}},{"$f":"IF(#REF!=14,27,0)","v":{"$error":"#REF!"}},{"$f":"IF(#REF!=15,26,0)","v":{"$error":"#REF!"}},{"$f":"IF(#REF!=16,25,0)","v":{"$error":"#REF!"}},{"$f":"IF(#REF!=17,24,0)","v":{"$error":"#REF!"}},{"$f":"IF(#REF!=18,23,0)","v":{"$error":"#REF!"}},{"$f":"IF(#REF!=19,22,0)","v":{"$error":"#REF!"}},{"$f":"IF(#REF!=20,21,0)","v":{"$error":"#REF!"}},{"$f":"IF(#REF!=21,20,0)","v":{"$error":"#REF!"}},{"$f":"IF(#REF!=22,19,0)","v":{"$error":"#REF!"}},{"$f":"IF(#REF!=23,18,0)","v":{"$error":"#REF!"}},{"$f":"IF(#REF!=24,17,0)","v":{"$error":"#REF!"}},{"$f":"IF(#REF!=25,16,0)","v":{"$error":"#REF!"}},{"$f":"IF(#REF!=26,15,0)","v":{"$error":"#REF!"}},{"$f":"IF(#REF!=27,14,0)","v":{"$error":"#REF!"}},{"$f":"IF(#REF!=28,13,0)","v":{"$error":"#REF!"}},{"$f":"IF(#REF!=29,12,0)","v":{"$error":"#REF!"}},{"$f":"IF(#REF!=30,11,0)","v":{"$error":"#REF!"}},{"$f":"IF(#REF!=31,10,0)","v":{"$error":"#REF!"}},{"$f":"IF(#REF!=32,9,0)","v":{"$error":"#REF!"}},{"$f":"IF(#REF!=33,8,0)","v":{"$error":"#REF!"}},{"$f":"IF(#REF!=34,7,0)","v":{"$error":"#REF!"}},{"$f":"IF(#REF!=35,6,0)","v":{"$error":"#REF!"}},{"$f":"IF(#REF!=36,5,0)","v":{"$error":"#REF!"}},{"$f":"IF(#REF!=37,4,0)","v":{"$error":"#REF!"}},{"$f":"IF(#REF!=38,3,0)","v":{"$error":"#REF!"}},{"$f":"IF(#REF!=39,2,0)","v":{"$error":"#REF!"}},{"$f":"IF(#REF!=40,1,0)","v":{"$error":"#REF!"}},{"$f":"IF(#REF!>20,0,0)","v":{"$error":"#REF!"}},{"$f":"IF(#REF!=\"сх\",0,0)","v":{"$error":"#REF!"}},{"$f":"SUM(BM10:DB10)","v":{"$error":"#REF!"}},{"$f":"IF(#REF!=1,45,0)","v":{"$error":"#REF!"}},{"$f":"IF(#REF!=2,42,0)","v":{"$error":"#REF!"}},{"$f":"IF(#REF!=3,40,0)","v":{"$error":"#REF!"}},{"$f":"IF(#REF!=4,38,0)","v":{"$error":"#REF!"}},{"$f":"IF(#REF!=5,36,0)","v":{"$error":"#REF!"}},{"$f":"IF(#REF!=6,35,0)","v":{"$error":"#REF!"}},{"$f":"IF(#REF!=7,34,0)","v":{"$error":"#REF!"}},{"$f":"IF(#REF!=8,33,0)","v":{"$error":"#REF!"}},{"$f":"IF(#REF!=9,32,0)","v":{"$error":"#REF!"}},{"$f":"IF(#REF!=10,31,0)","v":{"$error":"#REF!"}},{"$f":"IF(#REF!=11,30,0)","v":{"$error":"#REF!"}},{"$f":"IF(#REF!=12,29,0)","v":{"$error":"#REF!"}},{"$f":"IF(#REF!=13,28,0)","v":{"$error":"#REF!"}},{"$f":"IF(#REF!=14,27,0)","v":{"$error":"#REF!"}},{"$f":"IF(#REF!=15,26,0)","v":{"$error":"#REF!"}},{"$f":"IF(#REF!=16,25,0)","v":{"$error":"#REF!"}},{"$f":"IF(#REF!=17,24,0)","v":{"$error":"#REF!"}},{"$f":"IF(#REF!=18,23,0)","v":{"$error":"#REF!"}},{"$f":"IF(#REF!=19,22,0)","v":{"$error":"#REF!"}},{"$f":"IF(#REF!=20,21,0)","v":{"$error":"#REF!"}},{"$f":"IF(#REF!=21,20,0)","v":{"$error":"#REF!"}},{"$f":"IF(#REF!=22,19,0)","v":{"$error":"#REF!"}},{"$f":"IF(#REF!=23,18,0)","v":{"$error":"#REF!"}},{"$f":"IF(#REF!=24,17,0)","v":{"$error":"#REF!"}},{"$f":"IF(#REF!=25,16,0)","v":{"$error":"#REF!"}},{"$f":"IF(#REF!=26,15,0)","v":{"$error":"#REF!"}},{"$f":"IF(#REF!=27,14,0)","v":{"$error":"#REF!"}},{"$f":"IF(#REF!=28,13,0)","v":{"$error":"#REF!"}},{"$f":"IF(#REF!=29,12,0)","v":{"$error":"#REF!"}},{"$f":"IF(#REF!=30,11,0)","v":{"$error":"#REF!"}},{"$f":"IF(#REF!=31,10,0)","v":{"$error":"#REF!"}},{"$f":"IF(#REF!=32,9,0)","v":{"$error":"#REF!"}},{"$f":"IF(#REF!=33,8,0)","v":{"$error":"#REF!"}},{"$f":"IF(#REF!=34,7,0)","v":{"$error":"#REF!"}},{"$f":"IF(#REF!=35,6,0)","v":{"$error":"#REF!"}},{"$f":"IF(#REF!=36,5,0)","v":{"$error":"#REF!"}},{"$f":"IF(#REF!=37,4,0)","v":{"$error":"#REF!"}},{"$f":"IF(#REF!=38,3,0)","v":{"$error":"#REF!"}},{"$f":"IF(#REF!=39,2,0)","v":{"$error":"#REF!"}},{"$f":"IF(#REF!=40,1,0)","v":{"$error":"#REF!"}},{"$f":"IF(#REF!>20,0,0)","v":{"$error":"#REF!"}},{"$f":"IF(#REF!=\"сх\",0,0)","v":{"$error":"#REF!"}},{"$f":"SUM(DD10:ES10)","v":{"$error":"#REF!"}},null,{"$f":"IF(#REF!=\"сх\",\"ноль\",IF(#REF!>0,#REF!,\"Ноль\"))","v":{"$error":"#REF!"}},{"$f":"IF(#REF!=\"сх\",\"ноль\",IF(#REF!>0,#REF!,\"Ноль\"))","v":{"$error":"#REF!"}},null,{"$f":"MIN(EV10,EW10)","v":{"$error":"#REF!"}},{"$f":"IF(O10=#REF!,IF(#REF!<#REF!,#REF!,FD10),#REF!)","v":{"$error":"#REF!"}},{"$f":"IF(O10=#REF!,IF(#REF!<#REF!,0,1))","v":{"$error":"#REF!"}},{"$f":"IF(AND(EY10>=21,EY10<>0),EY10,IF(O10<#REF!,\"СТОП\",EZ10+FA10))","v":{"$error":"#REF!"}},null,15,16,null,{"$f":"IF(#REF!=1,25,0)","v":{"$error":"#REF!"}},{"$f":"IF(#REF!=2,22,0)","v":{"$error":"#REF!"}},{"$f":"IF(#REF!=3,20,0)","v":{"$error":"#REF!"}},{"$f":"IF(#REF!=4,18,0)","v":{"$error":"#REF!"}},{"$f":"IF(#REF!=5,16,0)","v":{"$error":"#REF!"}},{"$f":"IF(#REF!=6,15,0)","v":{"$error":"#REF!"}},{"$f":"IF(#REF!=7,14,0)","v":{"$error":"#REF!"}},{"$f":"IF(#REF!=8,13,0)","v":{"$error":"#REF!"}},{"$f":"IF(#REF!=9,12,0)","v":{"$error":"#REF!"}},{"$f":"IF(#REF!=10,11,0)","v":{"$error":"#REF!"}},{"$f":"IF(#REF!=11,10,0)","v":{"$error":"#REF!"}},{"$f":"IF(#REF!=12,9,0)","v":{"$error":"#REF!"}},{"$f":"IF(#REF!=13,8,0)","v":{"$error":"#REF!"}},{"$f":"IF(#REF!=14,7,0)","v":{"$error":"#REF!"}},{"$f":"IF(#REF!=15,6,0)","v":{"$error":"#REF!"}},{"$f":"IF(#REF!=16,5,0)","v":{"$error":"#REF!"}},{"$f":"IF(#REF!=17,4,0)","v":{"$error":"#REF!"}},{"$f":"IF(#REF!=18,3,0)","v":{"$error":"#REF!"}},{"$f":"IF(#REF!=19,2,0)","v":{"$error":"#REF!"}},{"$f":"IF(#REF!=20,1,0)","v":{"$error":"#REF!"}},{"$f":"IF(#REF!>20,0,0)","v":{"$error":"#REF!"}},{"$f":"IF(#REF!=\"сх\",0,0)","v":{"$error":"#REF!"}},{"$f":"SUM(FG10:GB10)","v":{"$error":"#REF!"}},{"$f":"IF(#REF!=1,25,0)","v":{"$error":"#REF!"}},{"$f":"IF(#REF!=2,22,0)","v":{"$error":"#REF!"}},{"$f":"IF(#REF!=3,20,0)","v":{"$error":"#REF!"}},{"$f":"IF(#REF!=4,18,0)","v":{"$error":"#REF!"}},{"$f":"IF(#REF!=5,16,0)","v":{"$error":"#REF!"}},{"$f":"IF(#REF!=6,15,0)","v":{"$error":"#REF!"}},{"$f":"IF(#REF!=7,14,0)","v":{"$error":"#REF!"}},{"$f":"IF(#REF!=8,13,0)","v":{"$error":"#REF!"}},{"$f":"IF(#REF!=9,12,0)","v":{"$error":"#REF!"}},{"$f":"IF(#REF!=10,11,0)","v":{"$error":"#REF!"}},{"$f":"IF(#REF!=11,10,0)","v":{"$error":"#REF!"}},{"$f":"IF(#REF!=12,9,0)","v":{"$error":"#REF!"}},{"$f":"IF(#REF!=13,8,0)","v":{"$error":"#REF!"}},{"$f":"IF(#REF!=14,7,0)","v":{"$error":"#REF!"}},{"$f":"IF(#REF!=15,6,0)","v":{"$error":"#REF!"}},{"$f":"IF(#REF!=16,5,0)","v":{"$error":"#REF!"}},{"$f":"IF(#REF!=17,4,0)","v":{"$error":"#REF!"}},{"$f":"IF(#REF!=18,3,0)","v":{"$error":"#REF!"}},{"$f":"IF(#REF!=19,2,0)","v":{"$error":"#REF!"}},{"$f":"IF(#REF!=20,1,0)","v":{"$error":"#REF!"}},{"$f":"IF(#REF!>20,0,0)","v":{"$error":"#REF!"}},{"$f":"IF(#REF!=\"сх\",0,0)","v":{"$error":"#REF!"}},{"$f":"SUM(GD10:GY10)","v":{"$error":"#REF!"}},{"$f":"IF(#REF!=1,100,0)","v":{"$error":"#REF!"}},{"$f":"IF(#REF!=2,98,0)","v":{"$error":"#REF!"}},{"$f":"IF(#REF!=3,95,0)","v":{"$error":"#REF!"}},{"$f":"IF(#REF!=4,93,0)","v":{"$error":"#REF!"}},{"$f":"IF(#REF!=5,90,0)","v":{"$error":"#REF!"}},{"$f":"IF(#REF!=6,88,0)","v":{"$error":"#REF!"}},{"$f":"IF(#REF!=7,85,0)","v":{"$error":"#REF!"}},{"$f":"IF(#REF!=8,83,0)","v":{"$error":"#REF!"}},{"$f":"IF(#REF!=9,80,0)","v":{"$error":"#REF!"}},{"$f":"IF(#REF!=10,78,0)","v":{"$error":"#REF!"}},{"$f":"IF(#REF!=11,75,0)","v":{"$error":"#REF!"}},{"$f":"IF(#REF!=12,73,0)","v":{"$error":"#REF!"}},{"$f":"IF(#REF!=13,70,0)","v":{"$error":"#REF!"}},{"$f":"IF(#REF!=14,68,0)","v":{"$error":"#REF!"}},{"$f":"IF(#REF!=15,65,0)","v":{"$error":"#REF!"}},{"$f":"IF(#REF!=16,63,0)","v":{"$error":"#REF!"}},{"$f":"IF(#REF!=17,60,0)","v":{"$error":"#REF!"}},{"$f":"IF(#REF!=18,58,0)","v":{"$error":"#REF!"}},{"$f":"IF(#REF!=19,55,0)","v":{"$error":"#REF!"}},{"$f":"IF(#REF!=20,53,0)","v":{"$error":"#REF!"}},{"$f":"IF(#REF!>20,0,0)","v":{"$error":"#REF!"}},{"$f":"IF(#REF!=\"сх\",0,0)","v":{"$error":"#REF!"}},{"$f":"SUM(HA10:HV10)","v":{"$error":"#REF!"}},{"$f":"IF(#REF!=1,100,0)","v":{"$error":"#REF!"}},{"$f":"IF(#REF!=2,98,0)","v":{"$error":"#REF!"}},{"$f":"IF(#REF!=3,95,0)","v":{"$error":"#REF!"}},{"$f":"IF(#REF!=4,93,0)","v":{"$error":"#REF!"}},{"$f":"IF(#REF!=5,90,0)","v":{"$error":"#REF!"}},{"$f":"IF(#REF!=6,88,0)","v":{"$error":"#REF!"}},{"$f":"IF(#REF!=7,85,0)","v":{"$error":"#REF!"}},{"$f":"IF(#REF!=8,83,0)","v":{"$error":"#REF!"}},{"$f":"IF(#REF!=9,80,0)","v":{"$error":"#REF!"}},{"$f":"IF(#REF!=10,78,0)","v":{"$error":"#REF!"}},{"$f":"IF(#REF!=11,75,0)","v":{"$error":"#REF!"}},{"$f":"IF(#REF!=12,73,0)","v":{"$error":"#REF!"}},{"$f":"IF(#REF!=13,70,0)","v":{"$error":"#REF!"}},{"$f":"IF(#REF!=14,68,0)","v":{"$error":"#REF!"}},{"$f":"IF(#REF!=15,65,0)","v":{"$error":"#REF!"}},{"$f":"IF(#REF!=16,63,0)","v":{"$error":"#REF!"}},{"$f":"IF(#REF!=17,60,0)","v":{"$error":"#REF!"}},{"$f":"IF(#REF!=18,58,0)","v":{"$error":"#REF!"}},{"$f":"IF(#REF!=19,55,0)","v":{"$error":"#REF!"}},{"$f":"IF(#REF!=20,53,0)","v":{"$error":"#REF!"}},{"$f":"IF(#REF!>20,0,0)","v":{"$error":"#REF!"}},{"$f":"IF(#REF!=\"сх\",0,0)","v":{"$error":"#REF!"}},{"$f":"SUM(HX10:IS10)","v":{"$error":"#REF!"}}]
[2,{"$f":"SUM(E11+D11+C11)","v":13.200000000000001},4.5999999999999996,4.4000000000000004,4.2,5,"Зайцев Максим","б/р","г. Новый Уренгой, Ямало-Ненецкий АО","СТК \"Факел\"","LYNX",20,16,15,{"$f":"SUM(L11+M11+N11)","v":51},{"$f":"#REF!+#REF!","v":{"$error":"#REF!"}},null,null,{"$f":"IF(#REF!=1,25,0)","v":{"$error":"#REF!"}},{"$f":"IF(#REF!=2,22,0)","v":{"$error":"#REF!"}},{"$f":"IF(#REF!=3,20,0)","v":{"$error":"#REF!"}},{"$f":"IF(#REF!=4,18,0)","v":{"$error":"#REF!"}},{"$f":"IF(#REF!=5,16,0)","v":{"$error":"#REF!"}},{"$f":"IF(#REF!=6,15,0)","v":{"$error":"#REF!"}},{"$f":"IF(#REF!=7,14,0)","v":{"$error":"#REF!"}},{"$f":"IF(#REF!=8,13,0)","v":{"$error":"#REF!"}},{"$f":"IF(#REF!=9,12,0)","v":{"$error":"#REF!"}},{"$f":"IF(#REF!=10,11,0)","v":{"$error":"#REF!"}},{"$f":"IF(#REF!=11,10,0)","v":{"$error":"#REF!"}},{"$f":"IF(#REF!=12,9,0)","v":{"$error":"#REF!"}},{"$f":"IF(#REF!=13,8,0)","v":{"$error":"#REF!"}},{"$f":"IF(#REF!=14,7,0)","v":{"$error":"#REF!"}},{"$f":"IF(#REF!=15,6,0)","v":{"$error":"#REF!"}},{"$f":"IF(#REF!=16,5,0)","v":{"$error":"#REF!"}},{"$f":"IF(#REF!=17,4,0)","v":{"$error":"#REF!"}},{"$f":"IF(#REF!=18,3,0)","v":{"$error":"#REF!"}},{"$f":"IF(#REF!=19,2,0)","v":{"$error":"#REF!"}},{"$f":"IF(#REF!=20,1,0)","v":{"$error":"#REF!"}},{"$f":"IF(#REF!>20,0,0)","v":{"$error":"#REF!"}},{"$f":"IF(#REF!=\"сх\",0,0)","v":{"$error":"#REF!"}},{"$error":"#REF!"},{"$f":"IF(#REF!=1,25,0)","v":{"$error":"#REF!"}},{"$f":"IF(#REF!=2,22,0)","v":{"$error":"#REF!"}},{"$f":"IF(#REF!=3,20,0)","v":{"$error":"#REF!"}},{"$f":"IF(#REF!=4,18,0)","v":{"$error":"#REF!"}},{"$f":"IF(#REF!=5,16,0)","v":{"$error":"#REF!"}},{"$f":"IF(#REF!=6,15,0)","v":{"$error":"#REF!"}},{"$f":"IF(#REF!=7,14,0)","v":{"$error":"#REF!"}},{"$f":"IF(#REF!=8,13,0)","v":{"$error":"#REF!"}},{"$f":"IF(#REF!=9,12,0)","v":{"$error":"#REF!"}},{"$f":"IF(#REF!=10,11,0)","v":{"$error":"#REF!"}},{"$f":"IF(#REF!=11,10,0)","v":{"$error":"#REF!"}},{"$f":"IF(#REF!=12,9,0)","v":{"$error":"#REF!"}},{"$f":"IF(#REF!=13,8,0)","v":{"$error":"#REF!"}},{"$f":"IF(#REF!=14,7,0)","v":{"$error":"#REF!"}},{"$f":"IF(#REF!=15,6,0)","v":{"$error":"#REF!"}},{"$f":"IF(#REF!=16,5,0)","v":{"$error":"#REF!"}},{"$f":"IF(#REF!=17,4,0)","v":{"$error":"#REF!"}},{"$f":"IF(#REF!=18,3,0)","v":{"$error":"#REF!"}},{"$f":"IF(#REF!=19,2,0)","v":{"$error":"#REF!"}},{"$f":"IF(#REF!=20,1,0)","v":{"$error":"#REF!"}},{"$f":"IF(#REF!>20,0,0)","v":{"$error":"#REF!"}},{"$f":"IF(#REF!=\"сх\",0,0)","v":{"$error":"#REF!"}},{"$error":"#REF!"},{"$f":"IF(#REF!=1,45,0)","v":{"$error":"#REF!"}},{"$f":"IF(#REF!=2,42,0)","v":{"$error":"#REF!"}},{"$f":"IF(#REF!=3,40,0)","v":{"$error":"#REF!"}},{"$f":"IF(#REF!=4,38,0)","v":{"$error":"#REF!"}},{"$f":"IF(#REF!=5,36,0)","v":{"$error":"#REF!"}},{"$f":"IF(#REF!=6,35,0)","v":{"$error":"#REF!"}},{"$f":"IF(#REF!=7,34,0)","v":{"$error":"#REF!"}},{"$f":"IF(#REF!=8,33,0)","v":{"$error":"#REF!"}},{"$f":"IF(#REF!=9,32,0)","v":{"$error":"#REF!"}},{"$f":"IF(#REF!=10,31,0)","v":{"$error":"#REF!"}},{"$f":"IF(#REF!=11,30,0)","v":{"$error":"#REF!"}},{"$f":"IF(#REF!=12,29,0)","v":{"$error":"#REF!"}},{"$f":"IF(#REF!=13,28,0)","v":{"$error":"#REF!"}},{"$f":"IF(#REF!=14,27,0)","v":{"$error":"#REF!"}},{"$f":"IF(#REF!=15,26,0)","v":{"$error":"#REF!"}},{"$f":"IF(#REF!=16,25,0)","v":{"$error":"#REF!"}},{"$f":"IF(#REF!=17,24,0)","v":{"$error":"#REF!"}},{"$f":"IF(#REF!=18,23,0)","v":{"$error":"#REF!"}},{"$f":"IF(#REF!=19,22,0)","v":{"$error":"#REF!"}},{"$f":"IF(#REF!=20,21,0)","v":{"$error":"#REF!"}},{"$f":"IF(#REF!=21,20,0)","v":{"$error":"#REF!"}},{"$f":"IF(#REF!=22,19,0)","v":{"$error":"#REF!"}},{"$f":"IF(#REF!=23,18,0)","v":{"$error":"#REF!"}},{"$f":"IF(#REF!=24,17,0)","v":{"$error":"#REF!"}},{"$f":"IF(#REF!=25,16,0)","v":{"$error":"#REF!"}},{"$f":"IF(#REF!=26,15,0)","v":{"$error":"#REF!"}},{"$f":"IF(#REF!=27,14,0)","v":{"$error":"#REF!"}},{"$f":"IF(#REF!=28,13,0)","v":{"$error":"#REF!"}},{"$f":"IF(#REF!=29,12,0)","v":{"$error":"#REF!"}},{"$f":"IF(#REF!=30,11,0)","v":{"$error":"#REF!"}},{"$f":"IF(#REF!=31,10,0)","v":{"$error":"#REF!"}},{"$f":"IF(#REF!=32,9,0)","v":{"$error":"#REF!"}},{"$f":"IF(#REF!=33,8,0)","v":{"$error":"#REF!"}},{"$f":"IF(#REF!=34,7,0)","v":{"$error":"#REF!"}},{"$f":"IF(#REF!=35,6,0)","v":{"$error":"#REF!"}},{"$f":"IF(#REF!=36,5,0)","v":{"$error":"#REF!"}},{"$f":"IF(#REF!=37,4,0)","v":{"$error":"#REF!"}},{"$f":"IF(#REF!=38,3,0)","v":{"$error":"#REF!"}},{"$f":"IF(#REF!=39,2,0)","v":{"$error":"#REF!"}},{"$f":"IF(#REF!=40,1,0)","v":{"$error":"#REF!"}},{"$f":"IF(#REF!>20,0,0)","v":{"$error":"#REF!"}},{"$f":"IF(#REF!=\"сх\",0,0)","v":{"$error":"#REF!"}},{"$error":"#REF!"},{"$f":"IF(#REF!=1,45,0)","v":{"$error":"#REF!"}},{"$f":"IF(#REF!=2,42,0)","v":{"$error":"#REF!"}},{"$f":"IF(#REF!=3,40,0)","v":{"$error":"#REF!"}},{"$f":"IF(#REF!=4,38,0)","v":{"$error":"#REF!"}},{"$f":"IF(#REF!=5,36,0)","v":{"$error":"#REF!"}},{"$f":"IF(#REF!=6,35,0)","v":{"$error":"#REF!"}},{"$f":"IF(#REF!=7,34,0)","v":{"$error":"#REF!"}},{"$f":"IF(#REF!=8,33,0)","v":{"$error":"#REF!"}},{"$f":"IF(#REF!=9,32,0)","v":{"$error":"#REF!"}},{"$f":"IF(#REF!=10,31,0)","v":{"$error":"#REF!"}},{"$f":"IF(#REF!=11,30,0)","v":{"$error":"#REF!"}},{"$f":"IF(#REF!=12,29,0)","v":{"$error":"#REF!"}},{"$f":"IF(#REF!=13,28,0)","v":{"$error":"#REF!"}},{"$f":"IF(#REF!=14,27,0)","v":{"$error":"#REF!"}},{"$f":"IF(#REF!=15,26,0)","v":{"$error":"#REF!"}},{"$f":"IF(#REF!=16,25,0)","v":{"$error":"#REF!"}},{"$f":"IF(#REF!=17,24,0)","v":{"$error":"#REF!"}},{"$f":"IF(#REF!=18,23,0)","v":{"$error":"#REF!"}},{"$f":"IF(#REF!=19,22,0)","v":{"$error":"#REF!"}},{"$f":"IF(#REF!=20,21,0)","v":{"$error":"#REF!"}},{"$f":"IF(#REF!=21,20,0)","v":{"$error":"#REF!"}},{"$f":"IF(#REF!=22,19,0)","v":{"$error":"#REF!"}},{"$f":"IF(#REF!=23,18,0)","v":{"$error":"#REF!"}},{"$f":"IF(#REF!=24,17,0)","v":{"$error":"#REF!"}},{"$f":"IF(#REF!=25,16,0)","v":{"$error":"#REF!"}},{"$f":"IF(#REF!=26,15,0)","v":{"$error":"#REF!"}},{"$f":"IF(#REF!=27,14,0)","v":{"$error":"#REF!"}},{"$f":"IF(#REF!=28,13,0)","v":{"$error":"#REF!"}},{"$f":"IF(#REF!=29,12,0)","v":{"$error":"#REF!"}},{"$f":"IF(#REF!=30,11,0)","v":{"$error":"#REF!"}},{"$f":"IF(#REF!=31,10,0)","v":{"$error":"#REF!"}},{"$f":"IF(#REF!=32,9,0)","v":{"$error":"#REF!"}},{"$f":"IF(#REF!=33,8,0)","v":{"$error":"#REF!"}},{"$f":"IF(#REF!=34,7,0)","v":{"$error":"#REF!"}},{"$f":"IF(#REF!=35,6,0)","v":{"$error":"#REF!"}},{"$f":"IF(#REF!=36,5,0)","v":{"$error":"#REF!"}},{"$f":"IF(#REF!=37,4,0)","v":{"$error":"#REF!"}},{"$f":"IF(#REF!=38,3,0)","v":{"$error":"#REF!"}},{"$f":"IF(#REF!=39,2,0)","v":{"$error":"#REF!"}},{"$f":"IF(#REF!=40,1,0)","v":{"$error":"#REF!"}},{"$f":"IF(#REF!>20,0,0)","v":{"$error":"#REF!"}},{"$f":"IF(#REF!=\"сх\",0,0)","v":{"$error":"#REF!"}},{"$error":"#REF!"},null,{"$f":"IF(#REF!=\"сх\",\"ноль\",IF(#REF!>0,#REF!,\"Ноль\"))","v":{"$error":"#REF!"}},{"$f":"IF(#REF!=\"сх\",\"ноль\",IF(#REF!>0,#REF!,\"Ноль\"))","v":{"$error":"#REF!"}},null,{"$error":"#REF!"},{"$f":"IF(O11=#REF!,IF(#REF!<#REF!,#REF!,FD11),#REF!)","v":{"$error":"#REF!"}},{"$f":"IF(O11=#REF!,IF(#REF!<#REF!,0,1))","v":{"$error":"#REF!"}},{"$f":"IF(AND(EY11>=21,EY11<>0),EY11,IF(O11<#REF!,\"СТОП\",EZ11+FA11))","v":{"$error":"#REF!"}},null,15,16,null,{"$f":"IF(#REF!=1,25,0)","v":{"$error":"#REF!"}},{"$f":"IF(#REF!=2,22,0)","v":{"$error":"#REF!"}},{"$f":"IF(#REF!=3,20,0)","v":{"$error":"#REF!"}},{"$f":"IF(#REF!=4,18,0)","v":{"$error":"#REF!"}},{"$f":"IF(#REF!=5,16,0)","v":{"$error":"#REF!"}},{"$f":"IF(#REF!=6,15,0)","v":{"$error":"#REF!"}},{"$f":"IF(#REF!=7,14,0)","v":{"$error":"#REF!"}},{"$f":"IF(#REF!=8,13,0)","v":{"$error":"#REF!"}},{"$f":"IF(#REF!=9,12,0)","v":{"$error":"#REF!"}},{"$f":"IF(#REF!=10,11,0)","v":{"$error":"#REF!"}},{"$f":"IF(#REF!=11,10,0)","v":{"$error":"#REF!"}},{"$f":"IF(#REF!=12,9,0)","v":{"$error":"#REF!"}},{"$f":"IF(#REF!=13,8,0)","v":{"$error":"#REF!"}},{"$f":"IF(#REF!=14,7,0)","v":{"$error":"#REF!"}},{"$f":"IF(#REF!=15,6,0)","v":{"$error":"#REF!"}},{"$f":"IF(#REF!=16,5,0)","v":{"$error":"#REF!"}},{"$f":"IF(#REF!=17,4,0)","v":{"$error":"#REF!"}},{"$f":"IF(#REF!=18,3,0)","v":{"$error":"#REF!"}},{"$f":"IF(#REF!=19,2,0)","v":{"$error":"#REF!"}},{"$f":"IF(#REF!=20,1,0)","v":{"$error":"#REF!"}},{"$f":"IF(#REF!>20,0,0)","v":{"$error":"#REF!"}},{"$f":"IF(#REF!=\"сх\",0,0)","v":{"$error":"#REF!"}},{"$error":"#REF!"},{"$f":"IF(#REF!=1,25,0)","v":{"$error":"#REF!"}},{"$f":"IF(#REF!=2,22,0)","v":{"$error":"#REF!"}},{"$f":"IF(#REF!=3,20,0)","v":{"$error":"#REF!"}},{"$f":"IF(#REF!=4,18,0)","v":{"$error":"#REF!"}},{"$f":"IF(#REF!=5,16,0)","v":{"$error":"#REF!"}},{"$f":"IF(#REF!=6,15,0)","v":{"$error":"#REF!"}},{"$f":"IF(#REF!=7,14,0)","v":{"$error":"#REF!"}},{"$f":"IF(#REF!=8,13,0)","v":{"$error":"#REF!"}},{"$f":"IF(#REF!=9,12,0)","v":{"$error":"#REF!"}},{"$f":"IF(#REF!=10,11,0)","v":{"$error":"#REF!"}},{"$f":"IF(#REF!=11,10,0)","v":{"$error":"#REF!"}},{"$f":"IF(#REF!=12,9,0)","v":{"$error":"#REF!"}},{"$f":"IF(#REF!=13,8,0)","v":{"$error":"#REF!"}},{"$f":"IF(#REF!=14,7,0)","v":{"$error":"#REF!"}},{"$f":"IF(#REF!=15,6,0)","v":{"$error":"#REF!"}},{"$f":"IF(#REF!=16,5,0)","v":{"$error":"#REF!"}},{"$f":"IF(#REF!=17,4,0)","v":{"$error":"#REF!"}},{"$f":"IF(#REF!=18,3,0)","v":{"$error":"#REF!"}},{"$f":"IF(#REF!=19,2,0)","v":{"$error":"#REF!"}},{"$f":"IF(#REF!=20,1,0)","v":{"$error":"#REF!"}},{"$f":"IF(#REF!>20,0,0)","v":{"$error":"#REF!"}},{"$f":"IF(#REF!=\"сх\",0,0)","v":{"$error":"#REF!"}},{"$error":"#REF!"},{"$f":"IF(#REF!=1,100,0)","v":{"$error":"#REF!"}},{"$f":"IF(#REF!=2,98,0)","v":{"$error":"#REF!"}},{"$f":"IF(#REF!=3,95,0)","v":{"$error":"#REF!"}},{"$f":"IF(#REF!=4,93,0)","v":{"$error":"#REF!"}},{"$f":"IF(#REF!=5,90,0)","v":{"$error":"#REF!"}},{"$f":"IF(#REF!=6,88,0)","v":{"$error":"#REF!"}},{"$f":"IF(#REF!=7,85,0)","v":{"$error":"#REF!"}},{"$f":"IF(#REF!=8,83,0)","v":{"$error":"#REF!"}},{"$f":"IF(#REF!=9,80,0)","v":{"$error":"#REF!"}},{"$f":"IF(#REF!=10,78,0)","v":{"$error":"#REF!"}},{"$f":"IF(#REF!=11,75,0)","v":{"$error":"#REF!"}},{"$f":"IF(#REF!=12,73,0)","v":{"$error":"#REF!"}},{"$f":"IF(#REF!=13,70,0)","v":{"$error":"#REF!"}},{"$f":"IF(#REF!=14,68,0)","v":{"$error":"#REF!"}},{"$f":"IF(#REF!=15,65,0)","v":{"$error":"#REF!"}},{"$f":"IF(#REF!=16,63,0)","v":{"$error":"#REF!"}},{"$f":"IF(#REF!=17,60,0)","v":{"$error":"#REF!"}},{"$f":"IF(#REF!=18,58,0)","v":{"$error":"#REF!"}},{"$f":"IF(#REF!=19,55,0)","v":{"$error":"#REF!"}},{"$f":"IF(#REF!=20,53,0)","v":{"$error":"#REF!"}},{"$f":"IF(#REF!>20,0,0)","v":{"$error":"#REF!"}},{"$f":"IF(#REF!=\"сх\",0,0)","v":{"$error":"#REF!"}},{"$error":"#REF!"},{"$f":"IF(#REF!=1,100,0)","v":{"$error":"#REF!"}},{"$f":"IF(#REF!=2,98,0)","v":{"$error":"#REF!"}},{"$f":"IF(#REF!=3,95,0)","v":{"$error":"#REF!"}},{"$f":"IF(#REF!=4,93,0)","v":{"$error":"#REF!"}},{"$f":"IF(#REF!=5,90,0)","v":{"$error":"#REF!"}},{"$f":"IF(#REF!=6,88,0)","v":{"$error":"#REF!"}},{"$f":"IF(#REF!=7,85,0)","v":{"$error":"#REF!"}},{"$f":"IF(#REF!=8,83,0)","v":{"$error":"#REF!"}},{"$f":"IF(#REF!=9,80,0)","v":{"$error":"#REF!"}},{"$f":"IF(#REF!=10,78,0)","v":{"$error":"#REF!"}},{"$f":"IF(#REF!=11,75,0)","v":{"$error":"#REF!"}},{"$f":"IF(#REF!=12,73,0)","v":{"$error":"#REF!"}},{"$f":"IF(#REF!=13,70,0)","v":{"$error":"#REF!"}},{"$f":"IF(#REF!=14,68,0)","v":{"$error":"#REF!"}},{"$f":"IF(#REF!=15,65,0)","v":{"$error":"#REF!"}},{"$f":"IF(#REF!=16,63,0)","v":{"$error":"#REF!"}},{"$f":"IF(#REF!=17,60,0)","v":{"$error":"#REF!"}},{"$f":"IF(#REF!=18,58,0)","v":{"$error":"#REF!"}},{"$f":"IF(#REF!=19,55,0)","v":{"$error":"#REF!"}},{"$f":"IF(#REF!=20,53,0)","v":{"$error":"#REF!"}},{"$f":"IF(#REF!>20,0,0)","v":{"$error":"#REF!"}},{"$f":"IF(#REF!=\"сх\",0,0)","v":{"$error":"#REF!"}},{"$error":"#REF!"}]
[3,{"$f":"SUM(E12+D12+C12)","v":9.6},0,4.8,4.8,23,"Синявин Андрей","б/р","г. Новый Уренгой, Ямало-Ненецкий АО","МАУ МЦ \"НОРД\"","Arctic-Cat",0,22,22,{"$f":"SUM(L12+M12+N12)","v":44}]
[4,{"$f":"SUM(E13+D13+C13)","v":9.1},0,4.5,4.5999999999999996,14,"Жовтоног Максим","б/р","г. Надым, Ямало-Ненецкий","СТК \"Форсаж\"","Polaris",0,20,20,{"$f":"SUM(L13+M13+N13)","v":40}]
[5,{"$f":"SUM(E14+D14+C14)","v":9},0,4.5999999999999996,4.4000000000000004,13,"Чернюк Дмитрий","б/р","г. Новый Уренгой, Ямало-Ненецкий АО","СТК \"Факел\"","Arctic-Cat",0,18,17,{"$f":"SUM(L14+M14+N14)","v":35}]
[6,{"$f":"SUM(E15+D15+C15)","v":8.6},0,4.3,4.3,7,"Хриспенс Кирилл","б/р","г. Новый Уренгой, Ямало-Ненецкий АО","СТК \"Факел\"","Arctic-Cat",0,15,16,{"$f":"SUM(L15+M15+N15)","v":31}]
[7,{"$f":"SUM(E16+D16+C16)","v":4.8},4.8,0,0,8,"Николайчук Александр","б/р","г. Новый Уренгой, Ямало-Ненецкий АО","СТК \"Факел\"","LYNX",22,0,0,{"$f":"SUM(L16+M16+N16)","v":22}]
[8,{"$f":"SUM(E17+D17+C17)","v":4.5},0,0,4.5,2,"Бармин Ярослав","б/р","г. Новый Уренгой, Ямало-Ненецкий АО","СТК \"Ямбург\"","Тайга",0,0,18,{"$f":"SUM(L17+M17+N17)","v":18}]
[9,{"$f":"SUM(E18+D18+C18)","v":4.5},4.5,0,0,11,"Немыкин Алексей","б/р","г. Новый Уренгой, Ямало-Ненецкий АО","СТК \"Факел\"","LYNX",18,0,0,{"$f":"SUM(L18+M18+N18)","v":18}]
[]
["Главный судья соревнований"]
["судья Всероссийской категории:                                                                                                              А. Б. Стеблинский (г. Тюмень; лицензия МФР А 144)"]
[]
["Главный секретарь соревнований"]
["судья Всероссийской категории:                                                                                              А. Ю. Иванов (г. Москва/лицензия МФР А 105; FIM 11245)"]

{"sheet":"Мальчики 3","index":6,"n_rows":34,"n_cols":261,"rows_kept":34,"cut":false,"hidden":false,"merged":[[29,0,29,7],[32,0,32,7],[2,0,2,17],[1,0,1,17],[6,8,8,8],[6,9,8,9],[6,10,8,10],[6,17,8,17],[6,16,8,16],[6,13,8,13],[5,13,5,16],[6,1,8,1],[6,2,8,2],[6,3,8,3],[6,4,8,4],[6,14,8,14],[6,18,8,18],[6,12,8,12],[6,11,8,11],[0,18,3,18],[3,0,3,17],[4,0,4,17],[6,0,8,0],[6,5,8,5],[6,6,8,6],[6,7,8,7],[6,15,8,15]]}
[]
["Показательные выступления в рамках Кубка ЯНАО по кроссу на снегоходах 2016/2017 года.                         "]
["СВОДНЫЙ ПРОТОКОЛ  ЛИЧНОГО  ЗАЧЕТА по сумме 3-х этапов.",null,null,null,null,null,null,null,null,null,null,null,null,null,null,null,null,null,null,null,null,null,null,null,null,null,null,null,null,null,null,null,null,null,null,null,null,null,null,null,null,null,null,null,null,null,null,null,null,null,null,null,null,null,null,null,null,null,null,null,null,null,null,null,null,null,null,null,null,null,null,null,null,null,null,null,null,null,null,null,null,null,null,null,null,null,null,null,null,null,null,null,null,null,null,null,null,null,null,null,null,null,null,null,null,null,null,null,null,null,null,null,null,null,null,null,null,null,null,null,null,null,null,null,null,null,null,null,null,null,null,null,null,null,null,null,null,null,null,null,null,null,null,null,null,null,null,null,null,null,null,null,null,null,null,null,null,null,null,null,null,null,null,null,null,null,null,null,null,null,null,null,null,null,null,null,null,"первый этап"]
["1-й этап: 03 - 04 декабря 2016 года - г. Новый Уренгой, Ямало-Ненецкий АО; 2-й этап: 24 - 26 марта 2017 года - г. Муравленко, Ямало-Ненецкий АО; 3-й этап: 31 марта - 02 апреля 2017 года - г. Новый Уренгой, Ямало-Ненецкий АО.",null,null,null,null,null,null,null,null,null,null,null,null,null,null,null,null,null,null,null,null,null,null,null,null,null,null,null,null,null,null,null,null,null,null,null,null,null,null,null,null,null,null,null,null,null,null,null,null,null,null,null,null,null,null,null,null,null,null,null,null,null,null,null,null,null,null,null,null,null,null,null,null,null,null,null,null,null,null,null,null,null,null,null,null,null,null,null,null,null,null,null,null,null,null,null,null,null,null,null,null,null,null,null,null,null,null,null,null,null,null,null,null,null,null,null,null,null,null,null,null,null,null,null,null,null,null,null,null,null,null,null,null,null,null,null,null,null,null,null,null,null,null,null,null,null,null,null,null,null,null,null,null,null,null,null,null,null,null,null,null,null,null,null,null,null,"первый заезд личные очки",null,null,null,null,null,null,null,null,null,null,null,null,null,null,null,null,null,null,null,null,null,"второй заезд личные очки",null,null,null,null,null,null,null,null,null,null,null,null,null,null,null,null,null,null,null,null,null,null,"Первый заезд командные очки",null,null,null,null,null,null,null,null,null,null,null,null,null,null,null,null,null,null,null,null,null,null,"Второй заезд командные очки"]
["Класс \"Мальчики 3\".",null,null,null,null,null,null,null,null,null,null,null,null,null,null,null,null,null,null,null,null,null,null,null,null,null,null,null,null,null,null,null,null,null,null,null,null,null,null,null,null,null,null,null,null,null,null,null,null,null,null,null,null,null,null,null,null,null,null,null,null,null,null,null,null,null,null,null,null,null,null,null,null,null,null,null,null,null,null,null,null,null,null,null,null,null,null,null,null,null,null,null,null,null,null,null,null,null,null,null,null,null,null,null,null,null,null,null,null,null,null,null,null,null,null,null,null,null,null,null,null,null,null,null,null,null,null,null,null,null,null,null,null,null,null,null,null,null,null,null,null,null,null,null,null,null,null,null,null,null,null,null,null,null,null,null,null,null,null,null,null,null,null,null,null,1,2,3,4,5,6,7,8,9,10,11,12,13,14,15,16,17,18,19,20,21,"сх","Sym",1,2,3,4,5,6,7,8,9,10,11,12,13,14,15,16,17,18,19,20,21,"cx","sym",1,2,3,4,5,6,7,8,9,10,11,12,13,14,15,16,17,18,19,20,21,"сх","очки",1,2,3,4,5,6,7,8,9,10,11,12,13,14,15,16,17,18,19,20,21,"сх","очки",{"$f":"COUNT(FJ5:IW5)","v":84},"Н. Стро","В. стро","место"]
[null,null,null,null,null,null,null,null,null,null,null,null,null,"3-й этап"]
["Место","СУММА РЕЙТИНГОВЫЕ ОЧКИ","1-й этап РЕЙТИНГОВЫЕ ОЧКИ Коэф. 0,1","2-й этап РЕЙТИНГОВЫЕ ОЧКИ Коэф. 0,1","3-й этап РЕЙТИНГОВЫЕ ОЧКИ Коэф. 0,1","Ст. №","Фамилия, Имя","Раз  ряд","Город (край, район, область)","Команда","Мото","ОЧКИ 1-й этап","ОЧКИ 2-й этап","место 1-й заезд","ОЧКИ 1-й заезд","место 2-й заезд","ОЧКИ 2-й заезд","Сумма очков              в личном зачете","Сумма очк. в командном зачете"]
[null,null,null,null,null,null,null,null,null,null,null,null,null,null,null,null,null,null,null,null,null,null,"первый заезд личные очки",null,null,null,null,null,null,null,null,null,null,null,null,null,null,null,null,null,null,null,null,null,"второй заезд личные очки",null,null,null,null,null,null,null,null,null,null,null,null,null,null,null,null,null,null,null,null,null,null,"Первый заезд командные очки",null,null,null,null,null,null,null,null,null,null,null,null,null,null,null,null,null,null,null,null,null,null,null,null,null,null,null,null,null,null,null,null,null,null,null,null,null,null,null,null,null,null,"Второй заезд командные очки",null,null,null,null,null,null,null,null,null,null,null,null,null,null,null,null,null,null,null,null,null,null,null,null,null,null,null,null,null,null,null,null,null,null,null,null,null,null,null,null,null,null,null,1,2,null,null,null,null,null,null,null,null,null,null,null,null,null,null,null,null,null,null,null,null,null,"первый этап"]
[null,null,null,null,null,null,null,null,null,null,null,null,null,null,null,null,null,null,null,null,null,1,2,3,4,5,6,7,8,9,10,11,12,13,14,15,16,17,18,19,20,21,"сх",null,1,2,3,4,5,6,7,8,9,10,11,12,13,14,15,16,17,18,19,20,null,"cx",null,1,2,3,4,5,6,7,8,9,10,11,12,13,14,15,16,17,18,19,20,21,22,23,24,25,26,27,28,29,30,31,32,33,34,35,36,37,38,39,40,null,null,null,1,2,3,4,5,6,7,8,9,10,11,12,13,14,15,16,17,18,19,20,21,22,23,24,25,26,27,28,29,30,31,32,33,34,35,36,37,38,39,40,null,null,null,null,null,null,null,"мин","Н. Стро","В. стро","место",null,"чр1","чр2",null,null,"первый заезд личные очки",null,null,null,null,null,null,null,null,null,null,null,null,null,null,null,null,null,null,null,null,null,"второй заезд личные очки",null,null,null,null,null,null,null,null,null,null,null,null,null,null,null,null,null,null,null,null,null,null,"Первый заезд командные очки",null,null,null,null,null,null,null,null,null,null,null,null,null,null,null,null,null,null,null,null,null,null,"Второй заезд командные очки"]
[1,{"$f":"SUM(C10+D10+E10)","v":14.2},5,4.2,5,99,"Скиданов Лев","I","г. Новый Уренгой, Ямало-Ненецкий АО","СТК \"Факел\"","LYNX",25,14,1,25,1,25,{"$f":"SUM(L10+M10+O10+Q10)","v":89},{"$f":"#REF!+#REF!","v":{"$error":"#REF!"}},null,null,{"$f":"IF(#REF!=1,25,0)","v":{"$error":"#REF!"}},{"$f":"IF(#REF!=2,22,0)","v":{"$error":"#REF!"}},{"$f":"IF(#REF!=3,20,0)","v":{"$error":"#REF!"}},{"$f":"IF(#REF!=4,18,0)","v":{"$error":"#REF!"}},{"$f":"IF(#REF!=5,16,0)","v":{"$error":"#REF!"}},{"$f":"IF(#REF!=6,15,0)","v":{"$error":"#REF!"}},{"$f":"IF(#REF!=7,14,0)","v":{"$error":"#REF!"}},{"$f":"IF(#REF!=8,13,0)","v":{"$error":"#REF!"}},{"$f":"IF(#REF!=9,12,0)","v":{"$error":"#REF!"}},{"$f":"IF(#REF!=10,11,0)","v":{"$error":"#REF!"}},{"$f":"IF(#REF!=11,10,0)","v":{"$error":"#REF!"}},{"$f":"IF(#REF!=12,9,0)","v":{"$error":"#REF!"}},{"$f":"IF(#REF!=13,8,0)","v":{"$error":"#REF!"}},{"$f":"IF(#REF!=14,7,0)","v":{"$error":"#REF!"}},{"$f":"IF(#REF!=15,6,0)","v":{"$error":"#REF!"}},{"$f":"IF(#REF!=16,5,0)","v":{"$error":"#REF!"}},{"$f":"IF(#REF!=17,4,0)","v":{"$error":"#REF!"}},{"$f":"IF(#REF!=18,3,0)","v":{"$error":"#REF!"}},{"$f":"IF(#REF!=19,2,0)","v":{"$error":"#REF!"}},{"$f":"IF(#REF!=20,1,0)","v":{"$error":"#REF!"}},{"$f":"IF(#REF!>20,0,0)","v":{"$error":"#REF!"}},{"$f":"IF(#REF!=\"сх\",0,0)","v":{"$error":"#REF!"}},{"$f":"SUM(V10:AP10)","v":{"$error":"#REF!"}},{"$f":"IF(#REF!=1,25,0)","v":{"$error":"#REF!"}},{"$f":"IF(#REF!=2,22,0)","v":{"$error":"#REF!"}},{"$f":"IF(#REF!=3,20,0)","v":{"$error":"#REF!"}},{"$f":"IF(#REF!=4,18,0)","v":{"$error":"#REF!"}},{"$f":"IF(#REF!=5,16,0)","v":{"$error":"#REF!"}},{"$f":"IF(#REF!=6,15,0)","v":{"$error":"#REF!"}},{"$f":"IF(#REF!=7,14,0)","v":{"$error":"#REF!"}},{"$f":"IF(#REF!=8,13,0)","v":{"$error":"#REF!"}},{"$f":"IF(#REF!=9,12,0)","v":{"$error":"#REF!"}},{"$f":"IF(#REF!=10,11,0)","v":{"$error":"#REF!"}},{"$f":"IF(#REF!=11,10,0)","v":{"$error":"#REF!"}},{"$f":"IF(#REF!=12,9,0)","v":{"$error":"#REF!"}},{"$f":"IF(#REF!=13,8,0)","v":{"$error":"#REF!"}},{"$f":"IF(#REF!=14,7,0)","v":{"$error":"#REF!"}},{"$f":"IF(#REF!=15,6,0)","v":{"$error":"#REF!"}},{"$f":"IF(#REF!=16,5,0)","v":{"$error":"#REF!"}},{"$f":"IF(#REF!=17,4,0)","v":{"$error":"#REF!"}},{"$f":"IF(#REF!=18,3,0)","v":{"$error":"#REF!"}},{"$f":"IF(#REF!=19,2,0)","v":{"$error":"#REF!"}},{"$f":"IF(#REF!=20,1,0)","v":{"$error":"#REF!"}},{"$f":"IF(#REF!>20,0,0)","v":{"$error":"#REF!"}},{"$f":"IF(#REF!=\"сх\",0,0)","v":{"$error":"#REF!"}},{"$f":"SUM(AS10:BM10)","v":{"$error":"#REF!"}},{"$f":"IF(#REF!=1,45,0)","v":{"$error":"#REF!"}},{"$f":"IF(#REF!=2,42,0)","v":{"$error":"#REF!"}},{"$f":"IF(#REF!=3,40,0)","v":{"$error":"#REF!"}},{"$f":"IF(#REF!=4,38,0)","v":{"$error":"#REF!"}},{"$f":"IF(#REF!=5,36,0)","v":{"$error":"#REF!"}},{"$f":"IF(#REF!=6,35,0)","v":{"$error":"#REF!"}},{"$f":"IF(#REF!=7,34,0)","v":{"$error":"#REF!"}},{"$f":"IF(#REF!=8,33,0)","v":{"$error":"#REF!"}},{"$f":"IF(#REF!=9,32,0)","v":{"$error":"#REF!"}},{"$f":"IF(#REF!=10,31,0)","v":{"$error":"#REF!"}},{"$f":"IF(#REF!=11,30,0)","v":{"$error":"#REF!"}},{"$f":"IF(#REF!=12,29,0)","v":{"$error":"#REF!"}},{"$f":"IF(#REF!=13,28,0)","v":{"$error":"#REF!"}},{"$f":"IF(#REF!=14,27,0)","v":{"$error":"#REF!"}},{"$f":"IF(#REF!=15,26,0)","v":{"$error":"#REF!"}},{"$f":"IF(#REF!=16,25,0)","v":{"$error":"#REF!"}},{"$f":"IF(#REF!=17,24,0)","v":{"$error":"#REF!"}},{"$f":"IF(#REF!=18,23,0)","v":{"$error":"#REF!"}},{"$f":"IF(#REF!=19,22,0)","v":{"$error":"#REF!"}},{"$f":"IF(#REF!=20,21,0)","v":{"$error":"#REF!"}},{"$f":"IF(#REF!=21,20,0)","v":{"$error":"#REF!"}},{"$f":"IF(#REF!=22,19,0)","v":{"$error":"#REF!"}},{"$f":"IF(#REF!=23,18,0)","v":{"$error":"#REF!"}},{"$f":"IF(#REF!=24,17,0)","v":{"$error":"#REF!"}},{"$f":"IF(#REF!=25,16,0)","v":{"$error":"#REF!"}},{"$f":"IF(#REF!=26,15,0)","v":{"$error":"#REF!"}},{"$f":"IF(#REF!=27,14,0)","v":{"$error":"#REF!"}},{"$f":"IF(#REF!=28,13,0)","v":{"$error":"#REF!"}},{"$f":"IF(#REF!=29,12,0)","v":{"$error":"#REF!"}},{"$f":"IF(#REF!=30,11,0)","v":{"$error":"#REF!"}},{"$f":"IF(#REF!=31,10,0)","v":{"$error":"#REF!"}},{"$f":"IF(#REF!=32,9,0)","v":{"$error":"#REF!"}},{"$f":"IF(#REF!=33,8,0)","v":{"$error":"#REF!"}},{"$f":"IF(#REF!=34,7,0)","v":{"$error":"#REF!"}},{"$f":"IF(#REF!=35,6,0)","v":{"$error":"#REF!"}},{"$f":"IF(#REF!=36,5,0)","v":{"$error":"#REF!"}},{"$f":"IF(#REF!=37,4,0)","v":{"$error":"#REF!"}},{"$f":"IF(#REF!=38,3,0)","v":{"$error":"#REF!"}},{"$f":"IF(#REF!=39,2,0)","v":{"$error":"#REF!"}},{"$f":"IF(#REF!=40,1,0)","v":{"$error":"#REF!"}},{"$f":"IF(#REF!>20,0,0)","v":{"$error":"#REF!"}},{"$f":"IF(#REF!=\"сх\",0,0)","v":{"$error":"#REF!"}},{"$f":"SUM(BP10:DE10)","v":{"$error":"#REF!"}},{"$f":"IF(#REF!=1,45,0)","v":{"$error":"#REF!"}},{"$f":"IF(#REF!=2,42,0)","v":{"$error":"#REF!"}},{"$f":"IF(#REF!=3,40,0)","v":{"$error":"#REF!"}},{"$f":"IF(#REF!=4,38,0)","v":{"$error":"#REF!"}},{"$f":"IF(#REF!=5,36,0)","v":{"$error":"#REF!"}},{"$f":"IF(#REF!=6,35,0)","v":{"$error":"#REF!"}},{"$f":"IF(#REF!=7,34,0)","v":{"$error":"#REF!"}},{"$f":"IF(#REF!=8,33,0)","v":{"$error":"#REF!"}},{"$f":"IF(#REF!=9,32,0)","v":{"$error":"#REF!"}},{"$f":"IF(#REF!=10,31,0)","v":{"$error":"#REF!"}},{"$f":"IF(#REF!=11,30,0)","v":{"$error":"#REF!"}},{"$f":"IF(#REF!=12,29,0)","v":{"$error":"#REF!"}},{"$f":"IF(#REF!=13,28,0)","v":{"$error":"#REF!"}},{"$f":"IF(#REF!=14,27,0)","v":{"$error":"#REF!"}},{"$f":"IF(#REF!=15,26,0)","v":{"$error":"#REF!"}},{"$f":"IF(#REF!=16,25,0)","v":{"$error":"#REF!"}},{"$f":"IF(#REF!=17,24,0)","v":{"$error":"#REF!"}},{"$f":"IF(#REF!=18,23,0)","v":{"$error":"#REF!"}},{"$f":"IF(#REF!=19,22,0)","v":{"$error":"#REF!"}},{"$f":"IF(#REF!=20,21,0)","v":{"$error":"#REF!"}},{"$f":"IF(#REF!=21,20,0)","v":{"$error":"#REF!"}},{"$f":"IF(#REF!=22,19,0)","v":{"$error":"#REF!"}},{"$f":"IF(#REF!=23,18,0)","v":{"$error":"#REF!"}},{"$f":"IF(#REF!=24,17,0)","v":{"$error":"#REF!"}},{"$f":"IF(#REF!=25,16,0)","v":{"$error":"#REF!"}},{"$f":"IF(#REF!=26,15,0)","v":{"$error":"#REF!"}},{"$f":"IF(#REF!=27,14,0)","v":{"$error":"#REF!"}},{"$f":"IF(#REF!=28,13,0)","v":{"$error":"#REF!"}},{"$f":"IF(#REF!=29,12,0)","v":{"$error":"#REF!"}},{"$f":"IF(#REF!=30,11,0)","v":{"$error":"#REF!"}},{"$f":"IF(#REF!=31,10,0)","v":{"$error":"#REF!"}},{"$f":"IF(#REF!=32,9,0)","v":{"$error":"#REF!"}},{"$f":"IF(#REF!=33,8,0)","v":{"$error":"#REF!"}},{"$f":"IF(#REF!=34,7,0)","v":{"$error":"#REF!"}},{"$f":"IF(#REF!=35,6,0)","v":{"$error":"#REF!"}},{"$f":"IF(#REF!=36,5,0)","v":{"$error":"#REF!"}},{"$f":"IF(#REF!=37,4,0)","v":{"$error":"#REF!"}},{"$f":"IF(#REF!=38,3,0)","v":{"$error":"#REF!"}},{"$f":"IF(#REF!=39,2,0)","v":{"$error":"#REF!"}},{"$f":"IF(#REF!=40,1,0)","v":{"$error":"#REF!"}},{"$f":"IF(#REF!>20,0,0)","v":{"$error":"#REF!"}},{"$f":"IF(#REF!=\"сх\",0,0)","v":{"$error":"#REF!"}},{"$f":"SUM(DG10:EV10)","v":{"$error":"#REF!"}},null,{"$f":"IF(#REF!=\"сх\",\"ноль\",IF(#REF!>0,#REF!,\"Ноль\"))","v":{"$error":"#REF!"}},{"$f":"IF(#REF!=\"сх\",\"ноль\",IF(#REF!>0,#REF!,\"Ноль\"))","v":{"$error":"#REF!"}},null,{"$f":"MIN(EY10,EZ10)","v":{"$error":"#REF!"}},{"$f":"IF(R10=#REF!,IF(#REF!<#REF!,#REF!,FG10),#REF!)","v":{"$error":"#REF!"}},{"$f":"IF(R10=#REF!,IF(#REF!<#REF!,0,1))","v":{"$error":"#REF!"}},{"$f":"IF(AND(FB10>=21,FB10<>0),FB10,IF(R10<#REF!,\"СТОП\",FC10+FD10))","v":{"$error":"#REF!"}},null,15,16,null,{"$f":"IF(#REF!=1,25,0)","v":{"$error":"#REF!"}},{"$f":"IF(#REF!=2,22,0)","v":{"$error":"#REF!"}},{"$f":"IF(#REF!=3,20,0)","v":{"$error":"#REF!"}},{"$f":"IF(#REF!=4,18,0)","v":{"$error":"#REF!"}},{"$f":"IF(#REF!=5,16,0)","v":{"$error":"#REF!"}},{"$f":"IF(#REF!=6,15,0)","v":{"$error":"#REF!"}},{"$f":"IF(#REF!=7,14,0)","v":{"$error":"#REF!"}},{"$f":"IF(#REF!=8,13,0)","v":{"$error":"#REF!"}},{"$f":"IF(#REF!=9,12,0)","v":{"$error":"#REF!"}},{"$f":"IF(#REF!=10,11,0)","v":{"$error":"#REF!"}},{"$f":"IF(#REF!=11,10,0)","v":{"$error":"#REF!"}},{"$f":"IF(#REF!=12,9,0)","v":{"$error":"#REF!"}},{"$f":"IF(#REF!=13,8,0)","v":{"$error":"#REF!"}},{"$f":"IF(#REF!=14,7,0)","v":{"$error":"#REF!"}},{"$f":"IF(#REF!=15,6,0)","v":{"$error":"#REF!"}},{"$f":"IF(#REF!=16,5,0)","v":{"$error":"#REF!"}},{"$f":"IF(#REF!=17,4,0)","v":{"$error":"#REF!"}},{"$f":"IF(#REF!=18,3,0)","v":{"$error":"#REF!"}},{"$f":"IF(#REF!=19,2,0)","v":{"$error":"#REF!"}},{"$f":"IF(#REF!=20,1,0)","v":{"$error":"#REF!"}},{"$f":"IF(#REF!>20,0,0)","v":{"$error":"#REF!"}},{"$f":"IF(#REF!=\"сх\",0,0)","v":{"$error":"#REF!"}},{"$f":"SUM(FJ10:GE10)","v":{"$error":"#REF!"}},{"$f":"IF(#REF!=1,25,0)","v":{"$error":"#REF!"}},{"$f":"IF(#REF!=2,22,0)","v":{"$error":"#REF!"}},{"$f":"IF(#REF!=3,20,0)","v":{"$error":"#REF!"}},{"$f":"IF(#REF!=4,18,0)","v":{"$error":"#REF!"}},{"$f":"IF(#REF!=5,16,0)","v":{"$error":"#REF!"}},{"$f":"IF(#REF!=6,15,0)","v":{"$error":"#REF!"}},{"$f":"IF(#REF!=7,14,0)","v":{"$error":"#REF!"}},{"$f":"IF(#REF!=8,13,0)","v":{"$error":"#REF!"}},{"$f":"IF(#REF!=9,12,0)","v":{"$error":"#REF!"}},{"$f":"IF(#REF!=10,11,0)","v":{"$error":"#REF!"}},{"$f":"IF(#REF!=11,10,0)","v":{"$error":"#REF!"}},{"$f":"IF(#REF!=12,9,0)","v":{"$error":"#REF!"}},{"$f":"IF(#REF!=13,8,0)","v":{"$error":"#REF!"}},{"$f":"IF(#REF!=14,7,0)","v":{"$error":"#REF!"}},{"$f":"IF(#REF!=15,6,0)","v":{"$error":"#REF!"}},{"$f":"IF(#REF!=16,5,0)","v":{"$error":"#REF!"}},{"$f":"IF(#REF!=17,4,0)","v":{"$error":"#REF!"}},{"$f":"IF(#REF!=18,3,0)","v":{"$error":"#REF!"}},{"$f":"IF(#REF!=19,2,0)","v":{"$error":"#REF!"}},{"$f":"IF(#REF!=20,1,0)","v":{"$error":"#REF!"}},{"$f":"IF(#REF!>20,0,0)","v":{"$error":"#REF!"}},{"$f":"IF(#REF!=\"сх\",0,0)","v":{"$error":"#REF!"}},{"$f":"SUM(GG10:HB10)","v":{"$error":"#REF!"}},{"$f":"IF(#REF!=1,100,0)","v":{"$error":"#REF!"}},{"$f":"IF(#REF!=2,98,0)","v":{"$error":"#REF!"}},{"$f":"IF(#REF!=3,95,0)","v":{"$error":"#REF!"}},{"$f":"IF(#REF!=4,93,0)","v":{"$error":"#REF!"}},{"$f":"IF(#REF!=5,90,0)","v":{"$error":"#REF!"}},{"$f":"IF(#REF!=6,88,0)","v":{"$error":"#REF!"}},{"$f":"IF(#REF!=7,85,0)","v":{"$error":"#REF!"}},{"$f":"IF(#REF!=8,83,0)","v":{"$error":"#REF!"}},{"$f":"IF(#REF!=9,80,0)","v":{"$error":"#REF!"}},{"$f":"IF(#REF!=10,78,0)","v":{"$error":"#REF!"}},{"$f":"IF(#REF!=11,75,0)","v":{"$error":"#REF!"}},{"$f":"IF(#REF!=12,73,0)","v":{"$error":"#REF!"}},{"$f":"IF(#REF!=13,70,0)","v":{"$error":"#REF!"}},{"$f":"IF(#REF!=14,68,0)","v":{"$error":"#REF!"}},{"$f":"IF(#REF!=15,65,0)","v":{"$error":"#REF!"}},{"$f":"IF(#REF!=16,63,0)","v":{"$error":"#REF!"}},{"$f":"IF(#REF!=17,60,0)","v":{"$error":"#REF!"}},{"$f":"IF(#REF!=18,58,0)","v":{"$error":"#REF!"}},{"$f":"IF(#REF!=19,55,0)","v":{"$error":"#REF!"}},{"$f":"IF(#REF!=20,53,0)","v":{"$error":"#REF!"}},{"$f":"IF(#REF!>20,0,0)","v":{"$error":"#REF!"}},{"$f":"IF(#REF!=\"сх\",0,0)","v":{"$error":"#REF!"}},{"$f":"SUM(HD10:HY10)","v":{"$error":"#REF!"}},{"$f":"IF(#REF!=1,100,0)","v":{"$error":"#REF!"}},{"$f":"IF(#REF!=2,98,0)","v":{"$error":"#REF!"}},{"$f":"IF(#REF!=3,95,0)","v":{"$error":"#REF!"}},{"$f":"IF(#REF!=4,93,0)","v":{"$error":"#REF!"}},{"$f":"IF(#REF!=5,90,0)","v":{"$error":"#REF!"}},{"$f":"IF(#REF!=6,88,0)","v":{"$error":"#REF!"}},{"$f":"IF(#REF!=7,85,0)","v":{"$error":"#REF!"}},{"$f":"IF(#REF!=8,83,0)","v":{"$error":"#REF!"}},{"$f":"IF(#REF!=9,80,0)","v":{"$error":"#REF!"}},{"$f":"IF(#REF!=10,78,0)","v":{"$error":"#REF!"}},{"$f":"IF(#REF!=11,75,0)","v":{"$error":"#REF!"}},{"$f":"IF(#REF!=12,73,0)","v":{"$error":"#REF!"}},{"$f":"IF(#REF!=13,70,0)","v":{"$error":"#REF!"}},{"$f":"IF(#REF!=14,68,0)","v":{"$error":"#REF!"}},{"$f":"IF(#REF!=15,65,0)","v":{"$error":"#REF!"}},{"$f":"IF(#REF!=16,63,0)","v":{"$error":"#REF!"}},{"$f":"IF(#REF!=17,60,0)","v":{"$error":"#REF!"}},{"$f":"IF(#REF!=18,58,0)","v":{"$error":"#REF!"}},{"$f":"IF(#REF!=19,55,0)","v":{"$error":"#REF!"}},{"$f":"IF(#REF!=20,53,0)","v":{"$error":"#REF!"}},{"$f":"IF(#REF!>20,0,0)","v":{"$error":"#REF!"}},{"$f":"IF(#REF!=\"сх\",0,0)","v":{"$error":"#REF!"}},{"$f":"SUM(IA10:IV10)","v":{"$error":"#REF!"}}]
[2,{"$f":"SUM(C11+D11+E11)","v":14.4},4.8,5,4.5999999999999996,88,"Кряков Александр","б/р","г. Новый Уренгой, Ямало-Ненецкий АО","лично","LYNX",22,25,2,22,4,18,{"$f":"SUM(L11+M11+O11+Q11)","v":87},{"$f":"#REF!+#REF!","v":{"$error":"#REF!"}},null,null,{"$f":"IF(#REF!=1,25,0)","v":{"$error":"#REF!"}},{"$f":"IF(#REF!=2,22,0)","v":{"$error":"#REF!"}},{"$f":"IF(#REF!=3,20,0)","v":{"$error":"#REF!"}},{"$f":"IF(#REF!=4,18,0)","v":{"$error":"#REF!"}},{"$f":"IF(#REF!=5,16,0)","v":{"$error":"#REF!"}},{"$f":"IF(#REF!=6,15,0)","v":{"$error":"#REF!"}},{"$f":"IF(#REF!=7,14,0)","v":{"$error":"#REF!"}},{"$f":"IF(#REF!=8,13,0)","v":{"$error":"#REF!"}},{"$f":"IF(#REF!=9,12,0)","v":{"$error":"#REF!"}},{"$f":"IF(#REF!=10,11,0)","v":{"$error":"#REF!"}},{"$f":"IF(#REF!=11,10,0)","v":{"$error":"#REF!"}},{"$f":"IF(#REF!=12,9,0)","v":{"$error":"#REF!"}},{"$f":"IF(#REF!=13,8,0)","v":{"$error":"#REF!"}},{"$f":"IF(#REF!=14,7,0)","v":{"$error":"#REF!"}},{"$f":"IF(#REF!=15,6,0)","v":{"$error":"#REF!"}},{"$f":"IF(#REF!=16,5,0)","v":{"$error":"#REF!"}},{"$f":"IF(#REF!=17,4,0)","v":{"$error":"#REF!"}},{"$f":"IF(#REF!=18,3,0)","v":{"$error":"#REF!"}},{"$f":"IF(#REF!=19,2,0)","v":{"$error":"#REF!"}},{"$f":"IF(#REF!=20,1,0)","v":{"$error":"#REF!"}},{"$f":"IF(#REF!>20,0,0)","v":{"$error":"#REF!"}},{"$f":"IF(#REF!=\"сх\",0,0)","v":{"$error":"#REF!"}},{"$f":"SUM(V11:AP11)","v":{"$error":"#REF!"}},{"$f":"IF(#REF!=1,25,0)","v":{"$error":"#REF!"}},{"$f":"IF(#REF!=2,22,0)","v":{"$error":"#REF!"}},{"$f":"IF(#REF!=3,20,0)","v":{"$error":"#REF!"}},{"$f":"IF(#REF!=4,18,0)","v":{"$error":"#REF!"}},{"$f":"IF(#REF!=5,16,0)","v":{"$error":"#REF!"}},{"$f":"IF(#REF!=6,15,0)","v":{"$error":"#REF!"}},{"$f":"IF(#REF!=7,14,0)","v":{"$error":"#REF!"}},{"$f":"IF(#REF!=8,13,0)","v":{"$error":"#REF!"}},{"$f":"IF(#REF!=9,12,0)","v":{"$error":"#REF!"}},{"$f":"IF(#REF!=10,11,0)","v":{"$error":"#REF!"}},{"$f":"IF(#REF!=11,10,0)","v":{"$error":"#REF!"}},{"$f":"IF(#REF!=12,9,0)","v":{"$error":"#REF!"}},{"$f":"IF(#REF!=13,8,0)","v":{"$error":"#REF!"}},{"$f":"IF(#REF!=14,7,0)","v":{"$error":"#REF!"}},{"$f":"IF(#REF!=15,6,0)","v":{"$error":"#REF!"}},{"$f":"IF(#REF!=16,5,0)","v":{"$error":"#REF!"}},{"$f":"IF(#REF!=17,4,0)","v":{"$error":"#REF!"}},{"$f":"IF(#REF!=18,3,0)","v":{"$error":"#REF!"}},{"$f":"IF(#REF!=19,2,0)","v":{"$error":"#REF!"}},{"$f":"IF(#REF!=20,1,0)","v":{"$error":"#REF!"}},{"$f":"IF(#REF!>20,0,0)","v":{"$error":"#REF!"}},{"$f":"IF(#REF!=\"сх\",0,0)","v":{"$error":"#REF!"}},{"$f":"SUM(AS11:BM11)","v":{"$error":"#REF!"}},{"$f":"IF(#REF!=1,45,0)","v":{"$error":"#REF!"}},{"$f":"IF(#REF!=2,42,0)","v":{"$error":"#REF!"}},{"$f":"IF(#REF!=3,40,0)","v":{"$error":"#REF!"}},{"$f":"IF(#REF!=4,38,0)","v":{"$error":"#REF!"}},{"$f":"IF(#REF!=5,36,0)","v":{"$error":"#REF!"}},{"$f":"IF(#REF!=6,35,0)","v":{"$error":"#REF!"}},{"$f":"IF(#REF!=7,34,0)","v":{"$error":"#REF!"}},{"$f":"IF(#REF!=8,33,0)","v":{"$error":"#REF!"}},{"$f":"IF(#REF!=9,32,0)","v":{"$error":"#REF!"}},{"$f":"IF(#REF!=10,31,0)","v":{"$error":"#REF!"}},{"$f":"IF(#REF!=11,30,0)","v":{"$error":"#REF!"}},{"$f":"IF(#REF!=12,29,0)","v":{"$error":"#REF!"}},{"$f":"IF(#REF!=13,28,0)","v":{"$error":"#REF!"}},{"$f":"IF(#REF!=14,27,0)","v":{"$error":"#REF!"}},{"$f":"IF(#REF!=15,26,0)","v":{"$error":"#REF!"}},{"$f":"IF(#REF!=16,25,0)","v":{"$error":"#REF!"}},{"$f":"IF(#REF!=17,24,0)","v":{"$error":"#REF!"}},{"$f":"IF(#REF!=18,23,0)","v":{"$error":"#REF!"}},{"$f":"IF(#REF!=19,22,0)","v":{"$error":"#REF!"}},{"$f":"IF(#REF!=20,21,0)","v":{"$error":"#REF!"}},{"$f":"IF(#REF!=21,20,0)","v":{"$error":"#REF!"}},{"$f":"IF(#REF!=22,19,0)","v":{"$error":"#REF!"}},{"$f":"IF(#REF!=23,18,0)","v":{"$error":"#REF!"}},{"$f":"IF(#REF!=24,17,0)","v":{"$error":"#REF!"}},{"$f":"IF(#REF!=25,16,0)","v":{"$error":"#REF!"}},{"$f":"IF(#REF!=26,15,0)","v":{"$error":"#REF!"}},{"$f":"IF(#REF!=27,14,0)","v":{"$error":"#REF!"}},{"$f":"IF(#REF!=28,13,0)","v":{"$error":"#REF!"}},{"$f":"IF(#REF!=29,12,0)","v":{"$error":"#REF!"}},{"$f":"IF(#REF!=30,11,0)","v":{"$error":"#REF!"}},{"$f":"IF(#REF!=31,10,0)","v":{"$error":"#REF!"}},{"$f":"IF(#REF!=32,9,0)","v":{"$error":"#REF!"}},{"$f":"IF(#REF!=33,8,0)","v":{"$error":"#REF!"}},{"$f":"IF(#REF!=34,7,0)","v":{"$error":"#REF!"}},{"$f":"IF(#REF!=35,6,0)","v":{"$error":"#REF!"}},{"$f":"IF(#REF!=36,5,0)","v":{"$error":"#REF!"}},{"$f":"IF(#REF!=37,4,0)","v":{"$error":"#REF!"}},{"$f":"IF(#REF!=38,3,0)","v":{"$error":"#REF!"}},{"$f":"IF(#REF!=39,2,0)","v":{"$error":"#REF!"}},{"$f":"IF(#REF!=40,1,0)","v":{"$error":"#REF!"}},{"$f":"IF(#REF!>20,0,0)","v":{"$error":"#REF!"}},{"$f":"IF(#REF!=\"сх\",0,0)","v":{"$error":"#REF!"}},{"$f":"SUM(BP11:DE11)","v":{"$error":"#REF!"}},{"$f":"IF(#REF!=1,45,0)","v":{"$error":"#REF!"}},{"$f":"IF(#REF!=2,42,0)","v":{"$error":"#REF!"}},{"$f":"IF(#REF!=3,40,0)","v":{"$error":"#REF!"}},{"$f":"IF(#REF!=4,38,0)","v":{"$error":"#REF!"}},{"$f":"IF(#REF!=5,36,0)","v":{"$error":"#REF!"}},{"$f":"IF(#REF!=6,35,0)","v":{"$error":"#REF!"}},{"$f":"IF(#REF!=7,34,0)","v":{"$error":"#REF!"}},{"$f":"IF(#REF!=8,33,0)","v":{"$error":"#REF!"}},{"$f":"IF(#REF!=9,32,0)","v":{"$error":"#REF!"}},{"$f":"IF(#REF!=10,31,0)","v":{"$error":"#REF!"}},{"$f":"IF(#REF!=11,30,0)","v":{"$error":"#REF!"}},{"$f":"IF(#REF!=12,29,0)","v":{"$error":"#REF!"}},{"$f":"IF(#REF!=13,28,0)","v":{"$error":"#REF!"}},{"$f":"IF(#REF!=14,27,0)","v":{"$error":"#REF!"}},{"$f":"IF(#REF!=15,26,0)","v":{"$error":"#REF!"}},{"$f":"IF(#REF!=16,25,0)","v":{"$error":"#REF!"}},{"$f":"IF(#REF!=17,24,0)","v":{"$error":"#REF!"}},{"$f":"IF(#REF!=18,23,0)","v":{"$error":"#REF!"}},{"$f":"IF(#REF!=19,22,0)","v":{"$error":"#REF!"}},{"$f":"IF(#REF!=20,21,0)","v":{"$error":"#REF!"}},{"$f":"IF(#REF!=21,20,0)","v":{"$error":"#REF!"}},{"$f":"IF(#REF!=22,19,0)","v":{"$error":"#REF!"}},{"$f":"IF(#REF!=23,18,0)","v":{"$error":"#REF!"}},{"$f":"IF(#REF!=24,17,0)","v":{"$error":"#REF!"}},{"$f":"IF(#REF!=25,16,0)","v":{"$error":"#REF!"}},{"$f":"IF(#REF!=26,15,0)","v":{"$error":"#REF!"}},{"$f":"IF(#REF!=27,14,0)","v":{"$error":"#REF!"}},{"$f":"IF(#REF!=28,13,0)","v":{"$error":"#REF!"}},{"$f":"IF(#REF!=29,12,0)","v":{"$error":"#REF!"}},{"$f":"IF(#REF!=30,11,0)","v":{"$error":"#REF!"}},{"$f":"IF(#REF!=31,10,0)","v":{"$error":"#REF!"}},{"$f":"IF(#REF!=32,9,0)","v":{"$error":"#REF!"}},{"$f":"IF(#REF!=33,8,0)","v":{"$error":"#REF!"}},{"$f":"IF(#REF!=34,7,0)","v":{"$error":"#REF!"}},{"$f":"IF(#REF!=35,6,0)","v":{"$error":"#REF!"}},{"$f":"IF(#REF!=36,5,0)","v":{"$error":"#REF!"}},{"$f":"IF(#REF!=37,4,0)","v":{"$error":"#REF!"}},{"$f":"IF(#REF!=38,3,0)","v":{"$error":"#REF!"}},{"$f":"IF(#REF!=39,2,0)","v":{"$error":"#REF!"}},{"$f":"IF(#REF!=40,1,0)","v":{"$error":"#REF!"}},{"$f":"IF(#REF!>20,0,0)","v":{"$error":"#REF!"}},{"$f":"IF(#REF!=\"сх\",0,0)","v":{"$error":"#REF!"}},{"$f":"SUM(DG11:EV11)","v":{"$error":"#REF!"}},null,{"$f":"IF(#REF!=\"сх\",\"ноль\",IF(#REF!>0,#REF!,\"Ноль\"))","v":{"$error":"#REF!"}},{"$f":"IF(#REF!=\"сх\",\"ноль\",IF(#REF!>0,#REF!,\"Ноль\"))","v":{"$error":"#REF!"}},null,{"$f":"MIN(EY11,EZ11)","v":{"$error":"#REF!"}},{"$f":"IF(R11=#REF!,IF(#REF!<#REF!,#REF!,FG11),#REF!)","v":{"$error":"#REF!"}},{"$f":"IF(R11=#REF!,IF(#REF!<#REF!,0,1))","v":{"$error":"#REF!"}},{"$f":"IF(AND(FB11>=21,FB11<>0),FB11,IF(R11<#REF!,\"СТОП\",FC11+FD11))","v":{"$error":"#REF!"}},null,15,16,null,{"$f":"IF(#REF!=1,25,0)","v":{"$error":"#REF!"}},{"$f":"IF(#REF!=2,22,0)","v":{"$error":"#REF!"}},{"$f":"IF(#REF!=3,20,0)","v":{"$error":"#REF!"}},{"$f":"IF(#REF!=4,18,0)","v":{"$error":"#REF!"}},{"$f":"IF(#REF!=5,16,0)","v":{"$error":"#REF!"}},{"$f":"IF(#REF!=6,15,0)","v":{"$error":"#REF!"}},{"$f":"IF(#REF!=7,14,0)","v":{"$error":"#REF!"}},{"$f":"IF(#REF!=8,13,0)","v":{"$error":"#REF!"}},{"$f":"IF(#REF!=9,12,0)","v":{"$error":"#REF!"}},{"$f":"IF(#REF!=10,11,0)","v":{"$error":"#REF!"}},{"$f":"IF(#REF!=11,10,0)","v":{"$error":"#REF!"}},{"$f":"IF(#REF!=12,9,0)","v":{"$error":"#REF!"}},{"$f":"IF(#REF!=13,8,0)","v":{"$error":"#REF!"}},{"$f":"IF(#REF!=14,7,0)","v":{"$error":"#REF!"}},{"$f":"IF(#REF!=15,6,0)","v":{"$error":"#REF!"}},{"$f":"IF(#REF!=16,5,0)","v":{"$error":"#REF!"}},{"$f":"IF(#REF!=17,4,0)","v":{"$error":"#REF!"}},{"$f":"IF(#REF!=18,3,0)","v":{"$error":"#REF!"}},{"$f":"IF(#REF!=19,2,0)","v":{"$error":"#REF!"}},{"$f":"IF(#REF!=20,1,0)","v":{"$error":"#REF!"}},{"$f":"IF(#REF!>20,0,0)","v":{"$error":"#REF!"}},{"$f":"IF(#REF!=\"сх\",0,0)","v":{"$error":"#REF!"}},{"$f":"SUM(FJ11:GE11)","v":{"$error":"#REF!"}},{"$f":"IF(#REF!=1,25,0)","v":{"$error":"#REF!"}},{"$f":"IF(#REF!=2,22,0)","v":{"$error":"#REF!"}},{"$f":"IF(#REF!=3,20,0)","v":{"$error":"#REF!"}},{"$f":"IF(#REF!=4,18,0)","v":{"$error":"#REF!"}},{"$f":"IF(#REF!=5,16,0)","v":{"$error":"#REF!"}},{"$f":"IF(#REF!=6,15,0)","v":{"$error":"#REF!"}},{"$f":"IF(#REF!=7,14,0)","v":{"$error":"#REF!"}},{"$f":"IF(#REF!=8,13,0)","v":{"$error":"#REF!"}},{"$f":"IF(#REF!=9,12,0)","v":{"$error":"#REF!"}},{"$f":"IF(#REF!=10,11,0)","v":{"$error":"#REF!"}},{"$f":"IF(#REF!=11,10,0)","v":{"$error":"#REF!"}},{"$f":"IF(#REF!=12,9,0)","v":{"$error":"#REF!"}},{"$f":"IF(#REF!=13,8,0)","v":{"$error":"#REF!"}},{"$f":"IF(#REF!=14,7,0)","v":{"$error":"#REF!"}},{"$f":"IF(#REF!=15,6,0)","v":{"$error":"#REF!"}},{"$f":"IF(#REF!=16,5,0)","v":{"$error":"#REF!"}},{"$f":"IF(#REF!=17,4,0)","v":{"$error":"#REF!"}},{"$f":"IF(#REF!=18,3,0)","v":{"$error":"#REF!"}},{"$f":"IF(#REF!=19,2,0)","v":{"$error":"#REF!"}},{"$f":"IF(#REF!=20,1,0)","v":{"$error":"#REF!"}},{"$f":"IF(#REF!>20,0,0)","v":{"$error":"#REF!"}},{"$f":"IF(#REF!=\"сх\",0,0)","v":{"$error":"#REF!"}},{"$f":"SUM(GG11:HB11)","v":{"$error":"#REF!"}},{"$f":"IF(#REF!=1,100,0)","v":{"$error":"#REF!"}},{"$f":"IF(#REF!=2,98,0)","v":{"$error":"#REF!"}},{"$f":"IF(#REF!=3,95,0)","v":{"$error":"#REF!"}},{"$f":"IF(#REF!=4,93,0)","v":{"$error":"#REF!"}},{"$f":"IF(#REF!=5,90,0)","v":{"$error":"#REF!"}},{"$f":"IF(#REF!=6,88,0)","v":{"$error":"#REF!"}},{"$f":"IF(#REF!=7,85,0)","v":{"$error":"#REF!"}},{"$f":"IF(#REF!=8,83,0)","v":{"$error":"#REF!"}},{"$f":"IF(#REF!=9,80,0)","v":{"$error":"#REF!"}},{"$f":"IF(#REF!=10,78,0)","v":{"$error":"#REF!"}},{"$f":"IF(#REF!=11,75,0)","v":{"$error":"#REF!"}},{"$f":"IF(#REF!=12,73,0)","v":{"$error":"#REF!"}},{"$f":"IF(#REF!=13,70,0)","v":{"$error":"#REF!"}},{"$f":"IF(#REF!=14,68,0)","v":{"$error":"#REF!"}},{"$f":"IF(#REF!=15,65,0)","v":{"$error":"#REF!"}},{"$f":"IF(#REF!=16,63,0)","v":{"$error":"#REF!"}},{"$f":"IF(#REF!=17,60,0)","v":{"$error":"#REF!"}},{"$f":"IF(#REF!=18,58,0)","v":{"$error":"#REF!"}},{"$f":"IF(#REF!=19,55,0)","v":{"$error":"#REF!"}},{"$f":"IF(#REF!=20,53,0)","v":{"$error":"#REF!"}},{"$f":"IF(#REF!>20,0,0)","v":{"$error":"#REF!"}},{"$f":"IF(#REF!=\"сх\",0,0)","v":{"$error":"#REF!"}},{"$f":"SUM(HD11:HY11)","v":{"$error":"#REF!"}},{"$f":"IF(#REF!=1,100,0)","v":{"$error":"#REF!"}},{"$f":"IF(#REF!=2,98,0)","v":{"$error":"#REF!"}},{"$f":"IF(#REF!=3,95,0)","v":{"$error":"#REF!"}},{"$f":"IF(#REF!=4,93,0)","v":{"$error":"#REF!"}},{"$f":"IF(#REF!=5,90,0)","v":{"$error":"#REF!"}},{"$f":"IF(#REF!=6,88,0)","v":{"$error":"#REF!"}},{"$f":"IF(#REF!=7,85,0)","v":{"$error":"#REF!"}},{"$f":"IF(#REF!=8,83,0)","v":{"$error":"#REF!"}},{"$f":"IF(#REF!=9,80,0)","v":{"$error":"#REF!"}},{"$f":"IF(#REF!=10,78,0)","v":{"$error":"#REF!"}},{"$f":"IF(#REF!=11,75,0)","v":{"$error":"#REF!"}},{"$f":"IF(#REF!=12,73,0)","v":{"$error":"#REF!"}},{"$f":"IF(#REF!=13,70,0)","v":{"$error":"#REF!"}},{"$f":"IF(#REF!=14,68,0)","v":{"$error":"#REF!"}},{"$f":"IF(#REF!=15,65,0)","v":{"$error":"#REF!"}},{"$f":"IF(#REF!=16,63,0)","v":{"$error":"#REF!"}},{"$f":"IF(#REF!=17,60,0)","v":{"$error":"#REF!"}},{"$f":"IF(#REF!=18,58,0)","v":{"$error":"#REF!"}},{"$f":"IF(#REF!=19,55,0)","v":{"$error":"#REF!"}},{"$f":"IF(#REF!=20,53,0)","v":{"$error":"#REF!"}},{"$f":"IF(#REF!>20,0,0)","v":{"$error":"#REF!"}},{"$f":"IF(#REF!=\"сх\",0,0)","v":{"$error":"#REF!"}},{"$f":"SUM(IA11:IV11)","v":{"$error":"#REF!"}}]
[3,{"$f":"SUM(C12+D12+E12)","v":13.8},4.4000000000000004,4.5999999999999996,4.8,173,"Синявин Роман","б/р","г. Новый Уренгой, Ямало-Ненецкий АО","МАУ МЦ \"НОРД\"","KTM",16,20,3,20,2,22,{"$f":"SUM(L12+M12+O12+Q12)","v":78},{"$f":"#REF!+#REF!","v":{"$error":"#REF!"}},null,null,{"$f":"IF(#REF!=1,25,0)","v":{"$error":"#REF!"}},{"$f":"IF(#REF!=2,22,0)","v":{"$error":"#REF!"}},{"$f":"IF(#REF!=3,20,0)","v":{"$error":"#REF!"}},{"$f":"IF(#REF!=4,18,0)","v":{"$error":"#REF!"}},{"$f":"IF(#REF!=5,16,0)","v":{"$error":"#REF!"}},{"$f":"IF(#REF!=6,15,0)","v":{"$error":"#REF!"}},{"$f":"IF(#REF!=7,14,0)","v":{"$error":"#REF!"}},{"$f":"IF(#REF!=8,13,0)","v":{"$error":"#REF!"}},{"$f":"IF(#REF!=9,12,0)","v":{"$error":"#REF!"}},{"$f":"IF(#REF!=10,11,0)","v":{"$error":"#REF!"}},{"$f":"IF(#REF!=11,10,0)","v":{"$error":"#REF!"}},{"$f":"IF(#REF!=12,9,0)","v":{"$error":"#REF!"}},{"$f":"IF(#REF!=13,8,0)","v":{"$error":"#REF!"}},{"$f":"IF(#REF!=14,7,0)","v":{"$error":"#REF!"}},{"$f":"IF(#REF!=15,6,0)","v":{"$error":"#REF!"}},{"$f":"IF(#REF!=16,5,0)","v":{"$error":"#REF!"}},{"$f":"IF(#REF!=17,4,0)","v":{"$error":"#REF!"}},{"$f":"IF(#REF!=18,3,0)","v":{"$error":"#REF!"}},{"$f":"IF(#REF!=19,2,0)","v":{"$error":"#REF!"}},{"$f":"IF(#REF!=20,1,0)","v":{"$error":"#REF!"}},{"$f":"IF(#REF!>20,0,0)","v":{"$error":"#REF!"}},{"$f":"IF(#REF!=\"сх\",0,0)","v":{"$error":"#REF!"}},{"$error":"#REF!"},{"$f":"IF(#REF!=1,25,0)","v":{"$error":"#REF!"}},{"$f":"IF(#REF!=2,22,0)","v":{"$error":"#REF!"}},{"$f":"IF(#REF!=3,20,0)","v":{"$error":"#REF!"}},{"$f":"IF(#REF!=4,18,0)","v":{"$error":"#REF!"}},{"$f":"IF(#REF!=5,16,0)","v":{"$error":"#REF!"}},{"$f":"IF(#REF!=6,15,0)","v":{"$error":"#REF!"}},{"$f":"IF(#REF!=7,14,0)","v":{"$error":"#REF!"}},{"$f":"IF(#REF!=8,13,0)","v":{"$error":"#REF!"}},{"$f":"IF(#REF!=9,12,0)","v":{"$error":"#REF!"}},{"$f":"IF(#REF!=10,11,0)","v":{"$error":"#REF!"}},{"$f":"IF(#REF!=11,10,0)","v":{"$error":"#REF!"}},{"$f":"IF(#REF!=12,9,0)","v":{"$error":"#REF!"}},{"$f":"IF(#REF!=13,8,0)","v":{"$error":"#REF!"}},{"$f":"IF(#REF!=14,7,0)","v":{"$error":"#REF!"}},{"$f":"IF(#REF!=15,6,0)","v":{"$error":"#REF!"}},{"$f":"IF(#REF!=16,5,0)","v":{"$error":"#REF!"}},{"$f":"IF(#REF!=17,4,0)","v":{"$error":"#REF!"}},{"$f":"IF(#REF!=18,3,0)","v":{"$error":"#REF!"}},{"$f":"IF(#REF!=19,2,0)","v":{"$error":"#REF!"}},{"$f":"IF(#REF!=20,1,0)","v":{"$error":"#REF!"}},{"$f":"IF(#REF!>20,0,0)","v":{"$error":"#REF!"}},{"$f":"IF(#REF!=\"сх\",0,0)","v":{"$error":"#REF!"}},{"$error":"#REF!"},{"$f":"IF(#REF!=1,45,0)","v":{"$error":"#REF!"}},{"$f":"IF(#REF!=2,42,0)","v":{"$error":"#REF!"}},{"$f":"IF(#REF!=3,40,0)","v":{"$error":"#REF!"}},{"$f":"IF(#REF!=4,38,0)","v":{"$error":"#REF!"}},{"$f":"IF(#REF!=5,36,0)","v":{"$error":"#REF!"}},{"$f":"IF(#REF!=6,35,0)","v":{"$error":"#REF!"}},{"$f":"IF(#REF!=7,34,0)","v":{"$error":"#REF!"}},{"$f":"IF(#REF!=8,33,0)","v":{"$error":"#REF!"}},{"$f":"IF(#REF!=9,32,0)","v":{"$error":"#REF!"}},{"$f":"IF(#REF!=10,31,0)","v":{"$error":"#REF!"}},{"$f":"IF(#REF!=11,30,0)","v":{"$error":"#REF!"}},{"$f":"IF(#REF!=12,29,0)","v":{"$error":"#REF!"}},{"$f":"IF(#REF!=13,28,0)","v":{"$error":"#REF!"}},{"$f":"IF(#REF!=14,27,0)","v":{"$error":"#REF!"}},{"$f":"IF(#REF!=15,26,0)","v":{"$error":"#REF!"}},{"$f":"IF(#REF!=16,25,0)","v":{"$error":"#REF!"}},{"$f":"IF(#REF!=17,24,0)","v":{"$error":"#REF!"}},{"$f":"IF(#REF!=18,23,0)","v":{"$error":"#REF!"}},{"$f":"IF(#REF!=19,22,0)","v":{"$error":"#REF!"}},{"$f":"IF(#REF!=20,21,0)","v":{"$error":"#REF!"}},{"$f":"IF(#REF!=21,20,0)","v":{"$error":"#REF!"}},{"$f":"IF(#REF!=22,19,0)","v":{"$error":"#REF!"}},{"$f":"IF(#REF!=23,18,0)","v":{"$error":"#REF!"}},{"$f":"IF(#REF!=24,17,0)","v":{"$error":"#REF!"}},{"$f":"IF(#REF!=25,16,0)","v":{"$error":"#REF!"}},{"$f":"IF(#REF!=26,15,0)","v":{"$error":"#REF!"}},{"$f":"IF(#REF!=27,14,0)","v":{"$error":"#REF!"}},{"$f":"IF(#REF!=28,13,0)","v":{"$error":"#REF!"}},{"$f":"IF(#REF!=29,12,0)","v":{"$error":"#REF!"}},{"$f":"IF(#REF!=30,11,0)","v":{"$error":"#REF!"}},{"$f":"IF(#REF!=31,10,0)","v":{"$error":"#REF!"}},{"$f":"IF(#REF!=32,9,0)","v":{"$error":"#REF!"}},{"$f":"IF(#REF!=33,8,0)","v":{"$error":"#REF!"}},{"$f":"IF(#REF!=34,7,0)","v":{"$error":"#REF!"}},{"$f":"IF(#REF!=35,6,0)","v":{"$error":"#REF!"}},{"$f":"IF(#REF!=36,5,0)","v":{"$error":"#REF!"}},{"$f":"IF(#REF!=37,4,0)","v":{"$error":"#REF!"}},{"$f":"IF(#REF!=38,3,0)","v":{"$error":"#REF!"}},{"$f":"IF(#REF!=39,2,0)","v":{"$error":"#REF!"}},{"$f":"IF(#REF!=40,1,0)","v":{"$error":"#REF!"}},{"$f":"IF(#REF!>20,0,0)","v":{"$error":"#REF!"}},{"$f":"IF(#REF!=\"сх\",0,0)","v":{"$error":"#REF!"}},{"$error":"#REF!"},{"$f":"IF(#REF!=1,45,0)","v":{"$error":"#REF!"}},{"$f":"IF(#REF!=2,42,0)","v":{"$error":"#REF!"}},{"$f":"IF(#REF!=3,40,0)","v":{"$error":"#REF!"}},{"$f":"IF(#REF!=4,38,0)","v":{"$error":"#REF!"}},{"$f":"IF(#REF!=5,36,0)","v":{"$error":"#REF!"}},{"$f":"IF(#REF!=6,35,0)","v":{"$error":"#REF!"}},{"$f":"IF(#REF!=7,34,0)","v":{"$error":"#REF!"}},{"$f":"IF(#REF!=8,33,0)","v":{"$error":"#REF!"}},{"$f":"IF(#REF!=9,32,0)","v":{"$error":"#REF!"}},{"$f":"IF(#REF!=10,31,0)","v":{"$error":"#REF!"}},{"$f":"IF(#REF!=11,30,0)","v":{"$error":"#REF!"}},{"$f":"IF(#REF!=12,29,0)","v":{"$error":"#REF!"}},{"$f":"IF(#REF!=13,28,0)","v":{"$error":"#REF!"}},{"$f":"IF(#REF!=14,27,0)","v":{"$error":"#REF!"}},{"$f":"IF(#REF!=15,26,0)","v":{"$error":"#REF!"}},{"$f":"IF(#REF!=16,25,0)","v":{"$error":"#REF!"}},{"$f":"IF(#REF!=17,24,0)","v":{"$error":"#REF!"}},{"$f":"IF(#REF!=18,23,0)","v":{"$error":"#REF!"}},{"$f":"IF(#REF!=19,22,0)","v":{"$error":"#REF!"}},{"$f":"IF(#REF!=20,21,0)","v":{"$error":"#REF!"}},{"$f":"IF(#REF!=21,20,0)","v":{"$error":"#REF!"}},{"$f":"IF(#REF!=22,19,0)","v":{"$error":"#REF!"}},{"$f":"IF(#REF!=23,18,0)","v":{"$error":"#REF!"}},{"$f":"IF(#REF!=24,17,0)","v":{"$error":"#REF!"}},{"$f":"IF(#REF!=25,16,0)","v":{"$error":"#REF!"}},{"$f":"IF(#REF!=26,15,0)","v":{"$error":"#REF!"}},{"$f":"IF(#REF!=27,14,0)","v":{"$error":"#REF!"}},{"$f":"IF(#REF!=28,13,0)","v":{"$error":"#REF!"}},{"$f":"IF(#REF!=29,12,0)","v":{"$error":"#REF!"}},{"$f":"IF(#REF!=30,11,0)","v":{"$error":"#REF!"}},{"$f":"IF(#REF!=31,10,0)","v":{"$error":"#REF!"}},{"$f":"IF(#REF!=32,9,0)","v":{"$error":"#REF!"}},{"$f":"IF(#REF!=33,8,0)","v":{"$error":"#REF!"}},{"$f":"IF(#REF!=34,7,0)","v":{"$error":"#REF!"}},{"$f":"IF(#REF!=35,6,0)","v":{"$error":"#REF!"}},{"$f":"IF(#REF!=36,5,0)","v":{"$error":"#REF!"}},{"$f":"IF(#REF!=37,4,0)","v":{"$error":"#REF!"}},{"$f":"IF(#REF!=38,3,0)","v":{"$error":"#REF!"}},{"$f":"IF(#REF!=39,2,0)","v":{"$error":"#REF!"}},{"$f":"IF(#REF!=40,1,0)","v":{"$error":"#REF!"}},{"$f":"IF(#REF!>20,0,0)","v":{"$error":"#REF!"}},{"$f":"IF(#REF!=\"сх\",0,0)","v":{"$error":"#REF!"}},{"$error":"#REF!"},null,{"$f":"IF(#REF!=\"сх\",\"ноль\",IF(#REF!>0,#REF!,\"Ноль\"))","v":{"$error":"#REF!"}},{"$f":"IF(#REF!=\"сх\",\"ноль\",IF(#REF!>0,#REF!,\"Ноль\"))","v":{"$error":"#REF!"}},null,{"$error":"#REF!"},{"$f":"IF(R12=#REF!,IF(#REF!<#REF!,#REF!,FG12),#REF!)","v":{"$error":"#REF!"}},{"$f":"IF(R12=#REF!,IF(#REF!<#REF!,0,1))","v":{"$error":"#REF!"}},{"$f":"IF(AND(FB12>=21,FB12<>0),FB12,IF(R12<#REF!,\"СТОП\",FC12+FD12))","v":{"$error":"#REF!"}},null,15,16,null,{"$f":"IF(#REF!=1,25,0)","v":{"$error":"#REF!"}},{"$f":"IF(#REF!=2,22,0)","v":{"$error":"#REF!"}},{"$f":"IF(#REF!=3,20,0)","v":{"$error":"#REF!"}},{"$f":"IF(#REF!=4,18,0)","v":{"$error":"#REF!"}},{"$f":"IF(#REF!=5,16,0)","v":{"$error":"#REF!"}},{"$f":"IF(#REF!=6,15,0)","v":{"$error":"#REF!"}},{"$f":"IF(#REF!=7,14,0)","v":{"$error":"#REF!"}},{"$f":"IF(#REF!=8,13,0)","v":{"$error":"#REF!"}},{"$f":"IF(#REF!=9,12,0)","v":{"$error":"#REF!"}},{"$f":"IF(#REF!=10,11,0)","v":{"$error":"#REF!"}},{"$f":"IF(#REF!=11,10,0)","v":{"$error":"#REF!"}},{"$f":"IF(#REF!=12,9,0)","v":{"$error":"#REF!"}},{"$f":"IF(#REF!=13,8,0)","v":{"$error":"#REF!"}},{"$f":"IF(#REF!=14,7,0)","v":{"$error":"#REF!"}},{"$f":"IF(#REF!=15,6,0)","v":{"$error":"#REF!"}},{"$f":"IF(#REF!=16,5,0)","v":{"$error":"#REF!"}},{"$f":"IF(#REF!=17,4,0)","v":{"$error":"#REF!"}},{"$f":"IF(#REF!=18,3,0)","v":{"$error":"#REF!"}},{"$f":"IF(#REF!=19,2,0)","v":{"$error":"#REF!"}},{"$f":"IF(#REF!=20,1,0)","v":{"$error":"#REF!"}},{"$f":"IF(#REF!>20,0,0)","v":{"$error":"#REF!"}},{"$f":"IF(#REF!=\"сх\",0,0)","v":{"$error":"#REF!"}},{"$error":"#REF!"},{"$f":"IF(#REF!=1,25,0)","v":{"$error":"#REF!"}},{"$f":"IF(#REF!=2,22,0)","v":{"$error":"#REF!"}},{"$f":"IF(#REF!=3,20,0)","v":{"$error":"#REF!"}},{"$f":"IF(#REF!=4,18,0)","v":{"$error":"#REF!"}},{"$f":"IF(#REF!=5,16,0)","v":{"$error":"#REF!"}},{"$f":"IF(#REF!=6,15,0)","v":{"$error":"#REF!"}},{"$f":"IF(#REF!=7,14,0)","v":{"$error":"#REF!"}},{"$f":"IF(#REF!=8,13,0)","v":{"$error":"#REF!"}},{"$f":"IF(#REF!=9,12,0)","v":{"$error":"#REF!"}},{"$f":"IF(#REF!=10,11,0)","v":{"$error":"#REF!"}},{"$f":"IF(#REF!=11,10,0)","v":{"$error":"#REF!"}},{"$f":"IF(#REF!=12,9,0)","v":{"$error":"#REF!"}},{"$f":"IF(#REF!=13,8,0)","v":{"$error":"#REF!"}},{"$f":"IF(#REF!=14,7,0)","v":{"$error":"#REF!"}},{"$f":"IF(#REF!=15,6,0)","v":{"$error":"#REF!"}},{"$f":"IF(#REF!=16,5,0)","v":{"$error":"#REF!"}},{"$f":"IF(#REF!=17,4,0)","v":{"$error":"#REF!"}},{"$f":"IF(#REF!=18,3,0)","v":{"$error":"#REF!"}},{"$f":"IF(#REF!=19,2,0)","v":{"$error":"#REF!"}},{"$f":"IF(#REF!=20,1,0)","v":{"$error":"#REF!"}},{"$f":"IF(#REF!>20,0,0)","v":{"$error":"#REF!"}},{"$f":"IF(#REF!=\"сх\",0,0)","v":{"$error":"#REF!"}},{"$error":"#REF!"},{"$f":"IF(#REF!=1,100,0)","v":{"$error":"#REF!"}},{"$f":"IF(#REF!=2,98,0)","v":{"$error":"#REF!"}},{"$f":"IF(#REF!=3,95,0)","v":{"$error":"#REF!"}},{"$f":"IF(#REF!=4,93,0)","v":{"$error":"#REF!"}},{"$f":"IF(#REF!=5,90,0)","v":{"$error":"#REF!"}},{"$f":"IF(#REF!=6,88,0)","v":{"$error":"#REF!"}},{"$f":"IF(#REF!=7,85,0)","v":{"$error":"#REF!"}},{"$f":"IF(#REF!=8,83,0)","v":{"$error":"#REF!"}},{"$f":"IF(#REF!=9,80,0)","v":{"$error":"#REF!"}},{"$f":"IF(#REF!=10,78,0)","v":{"$error":"#REF!"}},{"$f":"IF(#REF!=11,75,0)","v":{"$error":"#REF!"}},{"$f":"IF(#REF!=12,73,0)","v":{"$error":"#REF!"}},{"$f":"IF(#REF!=13,70,0)","v":{"$error":"#REF!"}},{"$f":"IF(#REF!=14,68,0)","v":{"$error":"#REF!"}},{"$f":"IF(#REF!=15,65,0)","v":{"$error":"#REF!"}},{"$f":"IF(#REF!=16,63,0)","v":{"$error":"#REF!"}},{"$f":"IF(#REF!=17,60,0)","v":{"$error":"#REF!"}},{"$f":"IF(#REF!=18,58,0)","v":{"$error":"#REF!"}},{"$f":"IF(#REF!=19,55,0)","v":{"$error":"#REF!"}},{"$f":"IF(#REF!=20,53,0)","v":{"$error":"#REF!"}},{"$f":"IF(#REF!>20,0,0)","v":{"$error":"#REF!"}},{"$f":"IF(#REF!=\"сх\",0,0)","v":{"$error":"#REF!"}},{"$error":"#REF!"},{"$f":"IF(#REF!=1,100,0)","v":{"$error":"#REF!"}},{"$f":"IF(#REF!=2,98,0)","v":{"$error":"#REF!"}},{"$f":"IF(#REF!=3,95,0)","v":{"$error":"#REF!"}},{"$f":"IF(#REF!=4,93,0)","v":{"$error":"#REF!"}},{"$f":"IF(#REF!=5,90,0)","v":{"$error":"#REF!"}},{"$f":"IF(#REF!=6,88,0)","v":{"$error":"#REF!"}},{"$f":"IF(#REF!=7,85,0)","v":{"$error":"#REF!"}},{"$f":"IF(#REF!=8,83,0)","v":{"$error":"#REF!"}},{"$f":"IF(#REF!=9,80,0)","v":{"$error":"#REF!"}},{"$f":"IF(#REF!=10,78,0)","v":{"$error":"#REF!"}},{"$f":"IF(#REF!=11,75,0)","v":{"$error":"#REF!"}},{"$f":"IF(#REF!=12,73,0)","v":{"$error":"#REF!"}},{"$f":"IF(#REF!=13,70,0)","v":{"$error":"#REF!"}},{"$f":"IF(#REF!=14,68,0)","v":{"$error":"#REF!"}},{"$f":"IF(#REF!=15,65,0)","v":{"$error":"#REF!"}},{"$f":"IF(#REF!=16,63,0)","v":{"$error":"#REF!"}},{"$f":"IF(#REF!=17,60,0)","v":{"$error":"#REF!"}},{"$f":"IF(#REF!=18,58,0)","v":{"$error":"#REF!"}},{"$f":"IF(#REF!=19,55,0)","v":{"$error":"#REF!"}},{"$f":"IF(#REF!=20,53,0)","v":{"$error":"#REF!"}},{"$f":"IF(#REF!>20,0,0)","v":{"$error":"#REF!"}},{"$f":"IF(#REF!=\"сх\",0,0)","v":{"$error":"#REF!"}},{"$error":"#REF!"}]
[4,{"$f":"SUM(C13+D13+E13)","v":13.799999999999999},4.5999999999999996,4.8,4.4000000000000004,55,"Пархоменко Данила","б/р","г. Новый Уренгой, Ямало-Ненецкий АО","СТК \"Факел\"","LYNX",20,22,5,16,6,15,{"$f":"SUM(L13+M13+O13+Q13)","v":73},{"$f":"#REF!+#REF!","v":{"$error":"#REF!"}},null,null,{"$f":"IF(#REF!=1,25,0)","v":{"$error":"#REF!"}},{"$f":"IF(#REF!=2,22,0)","v":{"$error":"#REF!"}},{"$f":"IF(#REF!=3,20,0)","v":{"$error":"#REF!"}},{"$f":"IF(#REF!=4,18,0)","v":{"$error":"#REF!"}},{"$f":"IF(#REF!=5,16,0)","v":{"$error":"#REF!"}},{"$f":"IF(#REF!=6,15,0)","v":{"$error":"#REF!"}},{"$f":"IF(#REF!=7,14,0)","v":{"$error":"#REF!"}},{"$f":"IF(#REF!=8,13,0)","v":{"$error":"#REF!"}},{"$f":"IF(#REF!=9,12,0)","v":{"$error":"#REF!"}},{"$f":"IF(#REF!=10,11,0)","v":{"$error":"#REF!"}},{"$f":"IF(#REF!=11,10,0)","v":{"$error":"#REF!"}},{"$f":"IF(#REF!=12,9,0)","v":{"$error":"#REF!"}},{"$f":"IF(#REF!=13,8,0)","v":{"$error":"#REF!"}},{"$f":"IF(#REF!=14,7,0)","v":{"$error":"#REF!"}},{"$f":"IF(#REF!=15,6,0)","v":{"$error":"#REF!"}},{"$f":"IF(#REF!=16,5,0)","v":{"$error":"#REF!"}},{"$f":"IF(#REF!=17,4,0)","v":{"$error":"#REF!"}},{"$f":"IF(#REF!=18,3,0)","v":{"$error":"#REF!"}},{"$f":"IF(#REF!=19,2,0)","v":{"$error":"#REF!"}},{"$f":"IF(#REF!=20,1,0)","v":{"$error":"#REF!"}},{"$f":"IF(#REF!>20,0,0)","v":{"$error":"#REF!"}},{"$f":"IF(#REF!=\"сх\",0,0)","v":{"$error":"#REF!"}},{"$f":"SUM(V13:AP13)","v":{"$error":"#REF!"}},{"$f":"IF(#REF!=1,25,0)","v":{"$error":"#REF!"}},{"$f":"IF(#REF!=2,22,0)","v":{"$error":"#REF!"}},{"$f":"IF(#REF!=3,20,0)","v":{"$error":"#REF!"}},{"$f":"IF(#REF!=4,18,0)","v":{"$error":"#REF!"}},{"$f":"IF(#REF!=5,16,0)","v":{"$error":"#REF!"}},{"$f":"IF(#REF!=6,15,0)","v":{"$error":"#REF!"}},{"$f":"IF(#REF!=7,14,0)","v":{"$error":"#REF!"}},{"$f":"IF(#REF!=8,13,0)","v":{"$error":"#REF!"}},{"$f":"IF(#REF!=9,12,0)","v":{"$error":"#REF!"}},{"$f":"IF(#REF!=10,11,0)","v":{"$error":"#REF!"}},{"$f":"IF(#REF!=11,10,0)","v":{"$error":"#REF!"}},{"$f":"IF(#REF!=12,9,0)","v":{"$error":"#REF!"}},{"$f":"IF(#REF!=13,8,0)","v":{"$error":"#REF!"}},{"$f":"IF(#REF!=14,7,0)","v":{"$error":"#REF!"}},{"$f":"IF(#REF!=15,6,0)","v":{"$error":"#REF!"}},{"$f":"IF(#REF!=16,5,0)","v":{"$error":"#REF!"}},{"$f":"IF(#REF!=17,4,0)","v":{"$error":"#REF!"}},{"$f":"IF(#REF!=18,3,0)","v":{"$error":"#REF!"}},{"$f":"IF(#REF!=19,2,0)","v":{"$error":"#REF!"}},{"$f":"IF(#REF!=20,1,0)","v":{"$error":"#REF!"}},{"$f":"IF(#REF!>20,0,0)","v":{"$error":"#REF!"}},{"$f":"IF(#REF!=\"сх\",0,0)","v":{"$error":"#REF!"}},{"$f":"SUM(AS13:BM13)","v":{"$error":"#REF!"}},{"$f":"IF(#REF!=1,45,0)","v":{"$error":"#REF!"}},{"$f":"IF(#REF!=2,42,0)","v":{"$error":"#REF!"}},{"$f":"IF(#REF!=3,40,0)","v":{"$error":"#REF!"}},{"$f":"IF(#REF!=4,38,0)","v":{"$error":"#REF!"}},{"$f":"IF(#REF!=5,36,0)","v":{"$error":"#REF!"}},{"$f":"IF(#REF!=6,35,0)","v":{"$error":"#REF!"}},{"$f":"IF(#REF!=7,34,0)","v":{"$error":"#REF!"}},{"$f":"IF(#REF!=8,33,0)","v":{"$error":"#REF!"}},{"$f":"IF(#REF!=9,32,0)","v":{"$error":"#REF!"}},{"$f":"IF(#REF!=10,31,0)","v":{"$error":"#REF!"}},{"$f":"IF(#REF!=11,30,0)","v":{"$error":"#REF!"}},{"$f":"IF(#REF!=12,29,0)","v":{"$error":"#REF!"}},{"$f":"IF(#REF!=13,28,0)","v":{"$error":"#REF!"}},{"$f":"IF(#REF!=14,27,0)","v":{"$error":"#REF!"}},{"$f":"IF(#REF!=15,26,0)","v":{"$error":"#REF!"}},{"$f":"IF(#REF!=16,25,0)","v":{"$error":"#REF!"}},{"$f":"IF(#REF!=17,24,0)","v":{"$error":"#REF!"}},{"$f":"IF(#REF!=18,23,0)","v":{"$error":"#REF!"}},{"$f":"IF(#REF!=19,22,0)","v":{"$error":"#REF!"}},{"$f":"IF(#REF!=20,21,0)","v":{"$error":"#REF!"}},{"$f":"IF(#REF!=21,20,0)","v":{"$error":"#REF!"}},{"$f":"IF(#REF!=22,19,0)","v":{"$error":"#REF!"}},{"$f":"IF(#REF!=23,18,0)","v":{"$error":"#REF!"}},{"$f":"IF(#REF!=24,17,0)","v":{"$error":"#REF!"}},{"$f":"IF(#REF!=25,16,0)","v":{"$error":"#REF!"}},{"$f":"IF(#REF!=26,15,0)","v":{"$error":"#REF!"}},{"$f":"IF(#REF!=27,14,0)","v":{"$error":"#REF!"}},{"$f":"IF(#REF!=28,13,0)","v":{"$error":"#REF!"}},{"$f":"IF(#REF!=29,12,0)","v":{"$error":"#REF!"}},{"$f":"IF(#REF!=30,11,0)","v":{"$error":"#REF!"}},{"$f":"IF(#REF!=31,10,0)","v":{"$error":"#REF!"}},{"$f":"IF(#REF!=32,9,0)","v":{"$error":"#REF!"}},{"$f":"IF(#REF!=33,8,0)","v":{"$error":"#REF!"}},{"$f":"IF(#REF!=34,7,0)","v":{"$error":"#REF!"}},{"$f":"IF(#REF!=35,6,0)","v":{"$error":"#REF!"}},{"$f":"IF(#REF!=36,5,0)","v":{"$error":"#REF!"}},{"$f":"IF(#REF!=37,4,0)","v":{"$error":"#REF!"}},{"$f":"IF(#REF!=38,3,0)","v":{"$error":"#REF!"}},{"$f":"IF(#REF!=39,2,0)","v":{"$error":"#REF!"}},{"$f":"IF(#REF!=40,1,0)","v":{"$error":"#REF!"}},{"$f":"IF(#REF!>20,0,0)","v":{"$error":"#REF!"}},{"$f":"IF(#REF!=\"сх\",0,0)","v":{"$error":"#REF!"}},{"$f":"SUM(BP13:DE13)","v":{"$error":"#REF!"}},{"$f":"IF(#REF!=1,45,0)","v":{"$error":"#REF!"}},{"$f":"IF(#REF!=2,42,0)","v":{"$error":"#REF!"}},{"$f":"IF(#REF!=3,40,0)","v":{"$error":"#REF!"}},{"$f":"IF(#REF!=4,38,0)","v":{"$error":"#REF!"}},{"$f":"IF(#REF!=5,36,0)","v":{"$error":"#REF!"}},{"$f":"IF(#REF!=6,35,0)","v":{"$error":"#REF!"}},{"$f":"IF(#REF!=7,34,0)","v":{"$error":"#REF!"}},{"$f":"IF(#REF!=8,33,0)","v":{"$error":"#REF!"}},{"$f":"IF(#REF!=9,32,0)","v":{"$error":"#REF!"}},{"$f":"IF(#REF!=10,31,0)","v":{"$error":"#REF!"}},{"$f":"IF(#REF!=11,30,0)","v":{"$error":"#REF!"}},{"$f":"IF(#REF!=12,29,0)","v":{"$error":"#REF!"}},{"$f":"IF(#REF!=13,28,0)","v":{"$error":"#REF!"}},{"$f":"IF(#REF!=14,27,0)","v":{"$error":"#REF!"}},{"$f":"IF(#REF!=15,26,0)","v":{"$error":"#REF!"}},{"$f":"IF(#REF!=16,25,0)","v":{"$error":"#REF!"}},{"$f":"IF(#REF!=17,24,0)","v":{"$error":"#REF!"}},{"$f":"IF(#REF!=18,23,0)","v":{"$error":"#REF!"}},{"$f":"IF(#REF!=19,22,0)","v":{"$error":"#REF!"}},{"$f":"IF(#REF!=20,21,0)","v":{"$error":"#REF!"}},{"$f":"IF(#REF!=21,20,0)","v":{"$error":"#REF!"}},{"$f":"IF(#REF!=22,19,0)","v":{"$error":"#REF!"}},{"$f":"IF(#REF!=23,18,0)","v":{"$error":"#REF!"}},{"$f":"IF(#REF!=24,17,0)","v":{"$error":"#REF!"}},{"$f":"IF(#REF!=25,16,0)","v":{"$error":"#REF!"}},{"$f":"IF(#REF!=26,15,0)","v":{"$error":"#REF!"}},{"$f":"IF(#REF!=27,14,0)","v":{"$error":"#REF!"}},{"$f":"IF(#REF!=28,13,0)","v":{"$error":"#REF!"}},{"$f":"IF(#REF!=29,12,0)","v":{"$error":"#REF!"}},{"$f":"IF(#REF!=30,11,0)","v":{"$error":"#REF!"}},{"$f":"IF(#REF!=31,10,0)","v":{"$error":"#REF!"}},{"$f":"IF(#REF!=32,9,0)","v":{"$error":"#REF!"}},{"$f":"IF(#REF!=33,8,0)","v":{"$error":"#REF!"}},{"$f":"IF(#REF!=34,7,0)","v":{"$error":"#REF!"}},{"$f":"IF(#REF!=35,6,0)","v":{"$error":"#REF!"}},{"$f":"IF(#REF!=36,5,0)","v":{"$error":"#REF!"}},{"$f":"IF(#REF!=37,4,0)","v":{"$error":"#REF!"}},{"$f":"IF(#REF!=38,3,0)","v":{"$error":"#REF!"}},{"$f":"IF(#REF!=39,2,0)","v":{"$error":"#REF!"}},{"$f":"IF(#REF!=40,1,0)","v":{"$error":"#REF!"}},{"$f":"IF(#REF!>20,0,0)","v":{"$error":"#REF!"}},{"$f":"IF(#REF!=\"сх\",0,0)","v":{"$error":"#REF!"}},{"$f":"SUM(DG13:EV13)","v":{"$error":"#REF!"}},null,{"$f":"IF(#REF!=\"сх\",\"ноль\",IF(#REF!>0,#REF!,\"Ноль\"))","v":{"$error":"#REF!"}},{"$f":"IF(#REF!=\"сх\",\"ноль\",IF(#REF!>0,#REF!,\"Ноль\"))","v":{"$error":"#REF!"}},null,{"$f":"MIN(EY13,EZ13)","v":{"$error":"#REF!"}},{"$f":"IF(R13=#REF!,IF(#REF!<#REF!,#REF!,FG13),#REF!)","v":{"$error":"#REF!"}},{"$f":"IF(R13=#REF!,IF(#REF!<#REF!,0,1))","v":{"$error":"#REF!"}},{"$f":"IF(AND(FB13>=21,FB13<>0),FB13,IF(R13<#REF!,\"СТОП\",FC13+FD13))","v":{"$error":"#REF!"}},null,15,16,null,{"$f":"IF(#REF!=1,25,0)","v":{"$error":"#REF!"}},{"$f":"IF(#REF!=2,22,0)","v":{"$error":"#REF!"}},{"$f":"IF(#REF!=3,20,0)","v":{"$error":"#REF!"}},{"$f":"IF(#REF!=4,18,0)","v":{"$error":"#REF!"}},{"$f":"IF(#REF!=5,16,0)","v":{"$error":"#REF!"}},{"$f":"IF(#REF!=6,15,0)","v":{"$error":"#REF!"}},{"$f":"IF(#REF!=7,14,0)","v":{"$error":"#REF!"}},{"$f":"IF(#REF!=8,13,0)","v":{"$error":"#REF!"}},{"$f":"IF(#REF!=9,12,0)","v":{"$error":"#REF!"}},{"$f":"IF(#REF!=10,11,0)","v":{"$error":"#REF!"}},{"$f":"IF(#REF!=11,10,0)","v":{"$error":"#REF!"}},{"$f":"IF(#REF!=12,9,0)","v":{"$error":"#REF!"}},{"$f":"IF(#REF!=13,8,0)","v":{"$error":"#REF!"}},{"$f":"IF(#REF!=14,7,0)","v":{"$error":"#REF!"}},{"$f":"IF(#REF!=15,6,0)","v":{"$error":"#REF!"}},{"$f":"IF(#REF!=16,5,0)","v":{"$error":"#REF!"}},{"$f":"IF(#REF!=17,4,0)","v":{"$error":"#REF!"}},{"$f":"IF(#REF!=18,3,0)","v":{"$error":"#REF!"}},{"$f":"IF(#REF!=19,2,0)","v":{"$error":"#REF!"}},{"$f":"IF(#REF!=20,1,0)","v":{"$error":"#REF!"}},{"$f":"IF(#REF!>20,0,0)","v":{"$error":"#REF!"}},{"$f":"IF(#REF!=\"сх\",0,0)","v":{"$error":"#REF!"}},{"$f":"SUM(FJ13:GE13)","v":{"$error":"#REF!"}},{"$f":"IF(#REF!=1,25,0)","v":{"$error":"#REF!"}},{"$f":"IF(#REF!=2,22,0)","v":{"$error":"#REF!"}},{"$f":"IF(#REF!=3,20,0)","v":{"$error":"#REF!"}},{"$f":"IF(#REF!=4,18,0)","v":{"$error":"#REF!"}},{"$f":"IF(#REF!=5,16,0)","v":{"$error":"#REF!"}},{"$f":"IF(#REF!=6,15,0)","v":{"$error":"#REF!"}},{"$f":"IF(#REF!=7,14,0)","v":{"$error":"#REF!"}},{"$f":"IF(#REF!=8,13,0)","v":{"$error":"#REF!"}},{"$f":"IF(#REF!=9,12,0)","v":{"$error":"#REF!"}},{"$f":"IF(#REF!=10,11,0)","v":{"$error":"#REF!"}},{"$f":"IF(#REF!=11,10,0)","v":{"$error":"#REF!"}},{"$f":"IF(#REF!=12,9,0)","v":{"$error":"#REF!"}},{"$f":"IF(#REF!=13,8,0)","v":{"$error":"#REF!"}},{"$f":"IF(#REF!=14,7,0)","v":{"$error":"#REF!"}},{"$f":"IF(#REF!=15,6,0)","v":{"$error":"#REF!"}},{"$f":"IF(#REF!=16,5,0)","v":{"$error":"#REF!"}},{"$f":"IF(#REF!=17,4,0)","v":{"$error":"#REF!"}},{"$f":"IF(#REF!=18,3,0)","v":{"$error":"#REF!"}},{"$f":"IF(#REF!=19,2,0)","v":{"$error":"#REF!"}},{"$f":"IF(#REF!=20,1,0)","v":{"$error":"#REF!"}},{"$f":"IF(#REF!>20,0,0)","v":{"$error":"#REF!"}},{"$f":"IF(#REF!=\"сх\",0,0)","v":{"$error":"#REF!"}},{"$f":"SUM(GG13:HB13)","v":{"$error":"#REF!"}},{"$f":"IF(#REF!=1,100,0)","v":{"$error":"#REF!"}},{"$f":"IF(#REF!=2,98,0)","v":{"$error":"#REF!"}},{"$f":"IF(#REF!=3,95,0)","v":{"$error":"#REF!"}},{"$f":"IF(#REF!=4,93,0)","v":{"$error":"#REF!"}},{"$f":"IF(#REF!=5,90,0)","v":{"$error":"#REF!"}},{"$f":"IF(#REF!=6,88,0)","v":{"$error":"#REF!"}},{"$f":"IF(#REF!=7,85,0)","v":{"$error":"#REF!"}},{"$f":"IF(#REF!=8,83,0)","v":{"$error":"#REF!"}},{"$f":"IF(#REF!=9,80,0)","v":{"$error":"#REF!"}},{"$f":"IF(#REF!=10,78,0)","v":{"$error":"#REF!"}},{"$f":"IF(#REF!=11,75,0)","v":{"$error":"#REF!"}},{"$f":"IF(#REF!=12,73,0)","v":{"$error":"#REF!"}},{"$f":"IF(#REF!=13,70,0)","v":{"$error":"#REF!"}},{"$f":"IF(#REF!=14,68,0)","v":{"$error":"#REF!"}},{"$f":"IF(#REF!=15,65,0)","v":{"$error":"#REF!"}},{"$f":"IF(#REF!=16,63,0)","v":{"$error":"#REF!"}},{"$f":"IF(#REF!=17,60,0)","v":{"$error":"#REF!"}},{"$f":"IF(#REF!=18,58,0)","v":{"$error":"#REF!"}},{"$f":"IF(#REF!=19,55,0)","v":{"$error":"#REF!"}},{"$f":"IF(#REF!=20,53,0)","v":{"$error":"#REF!"}},{"$f":"IF(#REF!>20,0,0)","v":{"$error":"#REF!"}},{"$f":"IF(#REF!=\"сх\",0,0)","v":{"$error":"#REF!"}},{"$f":"SUM(HD13:HY13)","v":{"$error":"#REF!"}},{"$f":"IF(#REF!=1,100,0)","v":{"$error":"#REF!"}},{"$f":"IF(#REF!=2,98,0)","v":{"$error":"#REF!"}},{"$f":"IF(#REF!=3,95,0)","v":{"$error":"#REF!"}},{"$f":"IF(#REF!=4,93,0)","v":{"$error":"#REF!"}},{"$f":"IF(#REF!=5,90,0)","v":{"$error":"#REF!"}},{"$f":"IF(#REF!=6,88,0)","v":{"$error":"#REF!"}},{"$f":"IF(#REF!=7,85,0)","v":{"$error":"#REF!"}},{"$f":"IF(#REF!=8,83,0)","v":{"$error":"#REF!"}},{"$f":"IF(#REF!=9,80,0)","v":{"$error":"#REF!"}},{"$f":"IF(#REF!=10,78,0)","v":{"$error":"#REF!"}},{"$f":"IF(#REF!=11,75,0)","v":{"$error":"#REF!"}},{"$f":"IF(#REF!=12,73,0)","v":{"$error":"#REF!"}},{"$f":"IF(#REF!=13,70,0)","v":{"$error":"#REF!"}},{"$f":"IF(#REF!=14,68,0)","v":{"$error":"#REF!"}},{"$f":"IF(#REF!=15,65,0)","v":{"$error":"#REF!"}},{"$f":"IF(#REF!=16,63,0)","v":{"$error":"#REF!"}},{"$f":"IF(#REF!=17,60,0)","v":{"$error":"#REF!"}},{"$f":"IF(#REF!=18,58,0)","v":{"$error":"#REF!"}},{"$f":"IF(#REF!=19,55,0)","v":{"$error":"#REF!"}},{"$f":"IF(#REF!=20,53,0)","v":{"$error":"#REF!"}},{"$f":"IF(#REF!>20,0,0)","v":{"$error":"#REF!"}},{"$f":"IF(#REF!=\"сх\",0,0)","v":{"$error":"#REF!"}},{"$f":"SUM(IA13:IV13)","v":{"$error":"#REF!"}}]
[5,{"$f":"SUM(C14+D14+E14)","v":13.4},4.5,4.4000000000000004,4.5,77,"Гнатюк Егор","б/р","г. Новый Уренгой, Ямало-Ненецкий АО","СТК \"Факел\"","LYNX",18,16,4,18,3,20,{"$f":"SUM(L14+M14+O14+Q14)","v":72},{"$f":"#REF!+#REF!","v":{"$error":"#REF!"}},null,null,{"$f":"IF(#REF!=1,25,0)","v":{"$error":"#REF!"}},{"$f":"IF(#REF!=2,22,0)","v":{"$error":"#REF!"}},{"$f":"IF(#REF!=3,20,0)","v":{"$error":"#REF!"}},{"$f":"IF(#REF!=4,18,0)","v":{"$error":"#REF!"}},{"$f":"IF(#REF!=5,16,0)","v":{"$error":"#REF!"}},{"$f":"IF(#REF!=6,15,0)","v":{"$error":"#REF!"}},{"$f":"IF(#REF!=7,14,0)","v":{"$error":"#REF!"}},{"$f":"IF(#REF!=8,13,0)","v":{"$error":"#REF!"}},{"$f":"IF(#REF!=9,12,0)","v":{"$error":"#REF!"}},{"$f":"IF(#REF!=10,11,0)","v":{"$error":"#REF!"}},{"$f":"IF(#REF!=11,10,0)","v":{"$error":"#REF!"}},{"$f":"IF(#REF!=12,9,0)","v":{"$error":"#REF!"}},{"$f":"IF(#REF!=13,8,0)","v":{"$error":"#REF!"}},{"$f":"IF(#REF!=14,7,0)","v":{"$error":"#REF!"}},{"$f":"IF(#REF!=15,6,0)","v":{"$error":"#REF!"}},{"$f":"IF(#REF!=16,5,0)","v":{"$error":"#REF!"}},{"$f":"IF(#REF!=17,4,0)","v":{"$error":"#REF!"}},{"$f":"IF(#REF!=18,3,0)","v":{"$error":"#REF!"}},{"$f":"IF(#REF!=19,2,0)","v":{"$error":"#REF!"}},{"$f":"IF(#REF!=20,1,0)","v":{"$error":"#REF!"}},{"$f":"IF(#REF!>20,0,0)","v":{"$error":"#REF!"}},{"$f":"IF(#REF!=\"сх\",0,0)","v":{"$error":"#REF!"}},{"$error":"#REF!"},{"$f":"IF(#REF!=1,25,0)","v":{"$error":"#REF!"}},{"$f":"IF(#REF!=2,22,0)","v":{"$error":"#REF!"}},{"$f":"IF(#REF!=3,20,0)","v":{"$error":"#REF!"}},{"$f":"IF(#REF!=4,18,0)","v":{"$error":"#REF!"}},{"$f":"IF(#REF!=5,16,0)","v":{"$error":"#REF!"}},{"$f":"IF(#REF!=6,15,0)","v":{"$error":"#REF!"}},{"$f":"IF(#REF!=7,14,0)","v":{"$error":"#REF!"}},{"$f":"IF(#REF!=8,13,0)","v":{"$error":"#REF!"}},{"$f":"IF(#REF!=9,12,0)","v":{"$error":"#REF!"}},{"$f":"IF(#REF!=10,11,0)","v":{"$error":"#REF!"}},{"$f":"IF(#REF!=11,10,0)","v":{"$error":"#REF!"}},{"$f":"IF(#REF!=12,9,0)","v":{"$error":"#REF!"}},{"$f":"IF(#REF!=13,8,0)","v":{"$error":"#REF!"}},{"$f":"IF(#REF!=14,7,0)","v":{"$error":"#REF!"}},{"$f":"IF(#REF!=15,6,0)","v":{"$error":"#REF!"}},{"$f":"IF(#REF!=16,5,0)","v":{"$error":"#REF!"}},{"$f":"IF(#REF!=17,4,0)","v":{"$error":"#REF!"}},{"$f":"IF(#REF!=18,3,0)","v":{"$error":"#REF!"}},{"$f":"IF(#REF!=19,2,0)","v":{"$error":"#REF!"}},{"$f":"IF(#REF!=20,1,0)","v":{"$error":"#REF!"}},{"$f":"IF(#REF!>20,0,0)","v":{"$error":"#REF!"}},{"$f":"IF(#REF!=\"сх\",0,0)","v":{"$error":"#REF!"}},{"$error":"#REF!"},{"$f":"IF(#REF!=1,45,0)","v":{"$error":"#REF!"}},{"$f":"IF(#REF!=2,42,0)","v":{"$error":"#REF!"}},{"$f":"IF(#REF!=3,40,0)","v":{"$error":"#REF!"}},{"$f":"IF(#REF!=4,38,0)","v":{"$error":"#REF!"}},{"$f":"IF(#REF!=5,36,0)","v":{"$error":"#REF!"}},{"$f":"IF(#REF!=6,35,0)","v":{"$error":"#REF!"}},{"$f":"IF(#REF!=7,34,0)","v":{"$error":"#REF!"}},{"$f":"IF(#REF!=8,33,0)","v":{"$error":"#REF!"}},{"$f":"IF(#REF!=9,32,0)","v":{"$error":"#REF!"}},{"$f":"IF(#REF!=10,31,0)","v":{"$error":"#REF!"}},{"$f":"IF(#REF!=11,30,0)","v":{"$error":"#REF!"}},{"$f":"IF(#REF!=12,29,0)","v":{"$error":"#REF!"}},{"$f":"IF(#REF!=13,28,0)","v":{"$error":"#REF!"}},{"$f":"IF(#REF!=14,27,0)","v":{"$error":"#REF!"}},{"$f":"IF(#REF!=15,26,0)","v":{"$error":"#REF!"}},{"$f":"IF(#REF!=16,25,0)","v":{"$error":"#REF!"}},{"$f":"IF(#REF!=17,24,0)","v":{"$error":"#REF!"}},{"$f":"IF(#REF!=18,23,0)","v":{"$error":"#REF!"}},{"$f":"IF(#REF!=19,22,0)","v":{"$error":"#REF!"}},{"$f":"IF(#REF!=20,21,0)","v":{"$error":"#REF!"}},{"$f":"IF(#REF!=21,20,0)","v":{"$error":"#REF!"}},{"$f":"IF(#REF!=22,19,0)","v":{"$error":"#REF!"}},{"$f":"IF(#REF!=23,18,0)","v":{"$error":"#REF!"}},{"$f":"IF(#REF!=24,17,0)","v":{"$error":"#REF!"}},{"$f":"IF(#REF!=25,16,0)","v":{"$error":"#REF!"}},{"$f":"IF(#REF!=26,15,0)","v":{"$error":"#REF!"}},{"$f":"IF(#REF!=27,14,0)","v":{"$error":"#REF!"}},{"$f":"IF(#REF!=28,13,0)","v":{"$error":"#REF!"}},{"$f":"IF(#REF!=29,12,0)","v":{"$error":"#REF!"}},{"$f":"IF(#REF!=30,11,0)","v":{"$error":"#REF!"}},{"$f":"IF(#REF!=31,10,0)","v":{"$error":"#REF!"}},{"$f":"IF(#REF!=32,9,0)","v":{"$error":"#REF!"}},{"$f":"IF(#REF!=33,8,0)","v":{"$error":"#REF!"}},{"$f":"IF(#REF!=34,7,0)","v":{"$error":"#REF!"}},{"$f":"IF(#REF!=35,6,0)","v":{"$error":"#REF!"}},{"$f":"IF(#REF!=36,5,0)","v":{"$error":"#REF!"}},{"$f":"IF(#REF!=37,4,0)","v":{"$error":"#REF!"}},{"$f":"IF(#REF!=38,3,0)","v":{"$error":"#REF!"}},{"$f":"IF(#REF!=39,2,0)","v":{"$error":"#REF!"}},{"$f":"IF(#REF!=40,1,0)","v":{"$error":"#REF!"}},{"$f":"IF(#REF!>20,0,0)","v":{"$error":"#REF!"}},{"$f":"IF(#REF!=\"сх\",0,0)","v":{"$error":"#REF!"}},{"$error":"#REF!"},{"$f":"IF(#REF!=1,45,0)","v":{"$error":"#REF!"}},{"$f":"IF(#REF!=2,42,0)","v":{"$error":"#REF!"}},{"$f":"IF(#REF!=3,40,0)","v":{"$error":"#REF!"}},{"$f":"IF(#REF!=4,38,0)","v":{"$error":"#REF!"}},{"$f":"IF(#REF!=5,36,0)","v":{"$error":"#REF!"}},{"$f":"IF(#REF!=6,35,0)","v":{"$error":"#REF!"}},{"$f":"IF(#REF!=7,34,0)","v":{"$error":"#REF!"}},{"$f":"IF(#REF!=8,33,0)","v":{"$error":"#REF!"}},{"$f":"IF(#REF!=9,32,0)","v":{"$error":"#REF!"}},{"$f":"IF(#REF!=10,31,0)","v":{"$error":"#REF!"}},{"$f":"IF(#REF!=11,30,0)","v":{"$error":"#REF!"}},{"$f":"IF(#REF!=12,29,0)","v":{"$error":"#REF!"}},{"$f":"IF(#REF!=13,28,0)","v":{"$error":"#REF!"}},{"$f":"IF(#REF!=14,27,0)","v":{"$error":"#REF!"}},{"$f":"IF(#REF!=15,26,0)","v":{"$error":"#REF!"}},{"$f":"IF(#REF!=16,25,0)","v":{"$error":"#REF!"}},{"$f":"IF(#REF!=17,24,0)","v":{"$error":"#REF!"}},{"$f":"IF(#REF!=18,23,0)","v":{"$error":"#REF!"}},{"$f":"IF(#REF!=19,22,0)","v":{"$error":"#REF!"}},{"$f":"IF(#REF!=20,21,0)","v":{"$error":"#REF!"}},{"$f":"IF(#REF!=21,20,0)","v":{"$error":"#REF!"}},{"$f":"IF(#REF!=22,19,0)","v":{"$error":"#REF!"}},{"$f":"IF(#REF!=23,18,0)","v":{"$error":"#REF!"}},{"$f":"IF(#REF!=24,17,0)","v":{"$error":"#REF!"}},{"$f":"IF(#REF!=25,16,0)","v":{"$error":"#REF!"}},{"$f":"IF(#REF!=26,15,0)","v":{"$error":"#REF!"}},{"$f":"IF(#REF!=27,14,0)","v":{"$error":"#REF!"}},{"$f":"IF(#REF!=28,13,0)","v":{"$error":"#REF!"}},{"$f":"IF(#REF!=29,12,0)","v":{"$error":"#REF!"}},{"$f":"IF(#REF!=30,11,0)","v":{"$error":"#REF!"}},{"$f":"IF(#REF!=31,10,0)","v":{"$error":"#REF!"}},{"$f":"IF(#REF!=32,9,0)","v":{"$error":"#REF!"}},{"$f":"IF(#REF!=33,8,0)","v":{"$error":"#REF!"}},{"$f":"IF(#REF!=34,7,0)","v":{"$error":"#REF!"}},{"$f":"IF(#REF!=35,6,0)","v":{"$error":"#REF!"}},{"$f":"IF(#REF!=36,5,0)","v":{"$error":"#REF!"}},{"$f":"IF(#REF!=37,4,0)","v":{"$error":"#REF!"}},{"$f":"IF(#REF!=38,3,0)","v":{"$error":"#REF!"}},{"$f":"IF(#REF!=39,2,0)","v":{"$error":"#REF!"}},{"$f":"IF(#REF!=40,1,0)","v":{"$error":"#REF!"}},{"$f":"IF(#REF!>20,0,0)","v":{"$error":"#REF!"}},{"$f":"IF(#REF!=\"сх\",0,0)","v":{"$error":"#REF!"}},{"$error":"#REF!"},null,{"$f":"IF(#REF!=\"сх\",\"ноль\",IF(#REF!>0,#REF!,\"Ноль\"))","v":{"$error":"#REF!"}},{"$f":"IF(#REF!=\"сх\",\"ноль\",IF(#REF!>0,#REF!,\"Ноль\"))","v":{"$error":"#REF!"}},null,{"$error":"#REF!"},{"$f":"IF(R14=#REF!,IF(#REF!<#REF!,#REF!,FG14),#REF!)","v":{"$error":"#REF!"}},{"$f":"IF(R14=#REF!,IF(#REF!<#REF!,0,1))","v":{"$error":"#REF!"}},{"$f":"IF(AND(FB14>=21,FB14<>0),FB14,IF(R14<#REF!,\"СТОП\",FC14+FD14))","v":{"$error":"#REF!"}},null,15,16,null,{"$f":"IF(#REF!=1,25,0)","v":{"$error":"#REF!"}},{"$f":"IF(#REF!=2,22,0)","v":{"$error":"#REF!"}},{"$f":"IF(#REF!=3,20,0)","v":{"$error":"#REF!"}},{"$f":"IF(#REF!=4,18,0)","v":{"$error":"#REF!"}},{"$f":"IF(#REF!=5,16,0)","v":{"$error":"#REF!"}},{"$f":"IF(#REF!=6,15,0)","v":{"$error":"#REF!"}},{"$f":"IF(#REF!=7,14,0)","v":{"$error":"#REF!"}},{"$f":"IF(#REF!=8,13,0)","v":{"$error":"#REF!"}},{"$f":"IF(#REF!=9,12,0)","v":{"$error":"#REF!"}},{"$f":"IF(#REF!=10,11,0)","v":{"$error":"#REF!"}},{"$f":"IF(#REF!=11,10,0)","v":{"$error":"#REF!"}},{"$f":"IF(#REF!=12,9,0)","v":{"$error":"#REF!"}},{"$f":"IF(#REF!=13,8,0)","v":{"$error":"#REF!"}},{"$f":"IF(#REF!=14,7,0)","v":{"$error":"#REF!"}},{"$f":"IF(#REF!=15,6,0)","v":{"$error":"#REF!"}},{"$f":"IF(#REF!=16,5,0)","v":{"$error":"#REF!"}},{"$f":"IF(#REF!=17,4,0)","v":{"$error":"#REF!"}},{"$f":"IF(#REF!=18,3,0)","v":{"$error":"#REF!"}},{"$f":"IF(#REF!=19,2,0)","v":{"$error":"#REF!"}},{"$f":"IF(#REF!=20,1,0)","v":{"$error":"#REF!"}},{"$f":"IF(#REF!>20,0,0)","v":{"$error":"#REF!"}},{"$f":"IF(#REF!=\"сх\",0,0)","v":{"$error":"#REF!"}},{"$error":"#REF!"},{"$f":"IF(#REF!=1,25,0)","v":{"$error":"#REF!"}},{"$f":"IF(#REF!=2,22,0)","v":{"$error":"#REF!"}},{"$f":"IF(#REF!=3,20,0)","v":{"$error":"#REF!"}},{"$f":"IF(#REF!=4,18,0)","v":{"$error":"#REF!"}},{"$f":"IF(#REF!=5,16,0)","v":{"$error":"#REF!"}},{"$f":"IF(#REF!=6,15,0)","v":{"$error":"#REF!"}},{"$f":"IF(#REF!=7,14,0)","v":{"$error":"#REF!"}},{"$f":"IF(#REF!=8,13,0)","v":{"$error":"#REF!"}},{"$f":"IF(#REF!=9,12,0)","v":{"$error":"#REF!"}},{"$f":"IF(#REF!=10,11,0)","v":{"$error":"#REF!"}},{"$f":"IF(#REF!=11,10,0)","v":{"$error":"#REF!"}},{"$f":"IF(#REF!=12,9,0)","v":{"$error":"#REF!"}},{"$f":"IF(#REF!=13,8,0)","v":{"$error":"#REF!"}},{"$f":"IF(#REF!=14,7,0)","v":{"$error":"#REF!"}},{"$f":"IF(#REF!=15,6,0)","v":{"$error":"#REF!"}},{"$f":"IF(#REF!=16,5,0)","v":{"$error":"#REF!"}},{"$f":"IF(#REF!=17,4,0)","v":{"$error":"#REF!"}},{"$f":"IF(#REF!=18,3,0)","v":{"$error":"#REF!"}},{"$f":"IF(#REF!=19,2,0)","v":{"$error":"#REF!"}},{"$f":"IF(#REF!=20,1,0)","v":{"$error":"#REF!"}},{"$f":"IF(#REF!>20,0,0)","v":{"$error":"#REF!"}},{"$f":"IF(#REF!=\"сх\",0,0)","v":{"$error":"#REF!"}},{"$error":"#REF!"},{"$f":"IF(#REF!=1,100,0)","v":{"$error":"#REF!"}},{"$f":"IF(#REF!=2,98,0)","v":{"$error":"#REF!"}},{"$f":"IF(#REF!=3,95,0)","v":{"$error":"#REF!"}},{"$f":"IF(#REF!=4,93,0)","v":{"$error":"#REF!"}},{"$f":"IF(#REF!=5,90,0)","v":{"$error":"#REF!"}},{"$f":"IF(#REF!=6,88,0)","v":{"$error":"#REF!"}},{"$f":"IF(#REF!=7,85,0)","v":{"$error":"#REF!"}},{"$f":"IF(#REF!=8,83,0)","v":{"$error":"#REF!"}},{"$f":"IF(#REF!=9,80,0)","v":{"$error":"#REF!"}},{"$f":"IF(#REF!=10,78,0)","v":{"$error":"#REF!"}},{"$f":"IF(#REF!=11,75,0)","v":{"$error":"#REF!"}},{"$f":"IF(#REF!=12,73,0)","v":{"$error":"#REF!"}},{"$f":"IF(#REF!=13,70,0)","v":{"$error":"#REF!"}},{"$f":"IF(#REF!=14,68,0)","v":{"$error":"#REF!"}},{"$f":"IF(#REF!=15,65,0)","v":{"$error":"#REF!"}},{"$f":"IF(#REF!=16,63,0)","v":{"$error":"#REF!"}},{"$f":"IF(#REF!=17,60,0)","v":{"$error":"#REF!"}},{"$f":"IF(#REF!=18,58,0)","v":{"$error":"#REF!"}},{"$f":"IF(#REF!=19,55,0)","v":{"$error":"#REF!"}},{"$f":"IF(#REF!=20,53,0)","v":{"$error":"#REF!"}},{"$f":"IF(#REF!>20,0,0)","v":{"$error":"#REF!"}},{"$f":"IF(#REF!=\"сх\",0,0)","v":{"$error":"#REF!"}},{"$f":"SUM(HD14:HY14)","v":{"$error":"#REF!"}},{"$f":"IF(#REF!=1,100,0)","v":{"$error":"#REF!"}},{"$f":"IF(#REF!=2,98,0)","v":{"$error":"#REF!"}},{"$f":"IF(#REF!=3,95,0)","v":{"$error":"#REF!"}},{"$f":"IF(#REF!=4,93,0)","v":{"$error":"#REF!"}},{"$f":"IF(#REF!=5,90,0)","v":{"$error":"#REF!"}},{"$f":"IF(#REF!=6,88,0)","v":{"$error":"#REF!"}},{"$f":"IF(#REF!=7,85,0)","v":{"$error":"#REF!"}},{"$f":"IF(#REF!=8,83,0)","v":{"$error":"#REF!"}},{"$f":"IF(#REF!=9,80,0)","v":{"$error":"#REF!"}},{"$f":"IF(#REF!=10,78,0)","v":{"$error":"#REF!"}},{"$f":"IF(#REF!=11,75,0)","v":{"$error":"#REF!"}},{"$f":"IF(#REF!=12,73,0)","v":{"$error":"#REF!"}},{"$f":"IF(#REF!=13,70,0)","v":{"$error":"#REF!"}},{"$f":"IF(#REF!=14,68,0)","v":{"$error":"#REF!"}},{"$f":"IF(#REF!=15,65,0)","v":{"$error":"#REF!"}},{"$f":"IF(#REF!=16,63,0)","v":{"$error":"#REF!"}},{"$f":"IF(#REF!=17,60,0)","v":{"$error":"#REF!"}},{"$f":"IF(#REF!=18,58,0)","v":{"$error":"#REF!"}},{"$f":"IF(#REF!=19,55,0)","v":{"$error":"#REF!"}},{"$f":"IF(#REF!=20,53,0)","v":{"$error":"#REF!"}},{"$f":"IF(#REF!>20,0,0)","v":{"$error":"#REF!"}},{"$f":"IF(#REF!=\"сх\",0,0)","v":{"$error":"#REF!"}},{"$error":"#REF!"}]
[6,{"$f":"SUM(C15+D15+E15)","v":12.3},3.8,4.3,4.2,44,"Дубовик Иван","б/р","г. Новый Уренгой, Ямало-Ненецкий АО","СТК \"Факел\"","LYNX",10,15,7,14,9,12,{"$f":"SUM(L15+M15+O15+Q15)","v":51}]
[7,{"$f":"SUM(C16+D16+E16)","v":12},3.9,4.0999999999999996,4,66,"Шевяков Никита","б/р","г. Новый Уренгой, Ямало-Ненецкий АО","СТК \"Факел\"","LYNX",11,13,10,11,7,14,{"$f":"SUM(L16+M16+O16+Q16)","v":49}]
[8,{"$f":"SUM(C17+D17+E17)","v":4.5999999999999996},null,null,4.5999999999999996,17,"Литвинова Дарина","I","г. Надым, Ямало-Ненецкий АО","СТК \"Форсаж\"","Sky-Doo",0,0,0,0,0,0,{"$f":"SUM(L17+M17+O17+Q17)","v":0}]
[9,{"$f":"SUM(C18+D18+E18)","v":8.6},4.3,null,4.3,161,"Каленчин Дмитрий","II","г. Новый Уренгой, Ямало-Ненецкий АО","СТК \"Ямбург\"","LYNX",15,0,6,15,5,16,{"$f":"SUM(L18+M18+O18+Q18)","v":46}]
[10,{"$f":"SUM(C19+D19+E19)","v":8.1999999999999993},4.0999999999999996,null,4.0999999999999996,41,"Колегов Матвей","II","г. Новый Уренгой, Ямало-Ненецкий АО","СТК \"Ямбург\"","LYNX",13,0,8,13,8,13,{"$f":"SUM(L19+M19+O19+Q19)","v":39}]
[11,{"$f":"SUM(C20+D20+E20)","v":8.3000000000000007},0,4.5,3.8,935,"Дидур Марк","б/р","г. Новый Уренгой, Ямало-Ненецкий АО","МАУ МЦ \"НОРД\"",null,0,18,11,10,12,9,{"$f":"SUM(L20+M20+O20+Q20)","v":37}]
[12,{"$f":"SUM(C21+D21+E21)","v":7.9},4,0,3.9,121,"Воробьев Александр","II","г. Новый Уренгой, Ямало-Ненецкий АО","СТК \"Ямбург\"","LYNX",12,0,12,9,10,11,{"$f":"SUM(L21+M21+O21+Q21)","v":32}]
[13,{"$f":"SUM(C22+D22+E22)","v":7.4},3.7,0,3.7,181,"Меркурьев Алексей","II","г. Новый Уренгой, Ямало-Ненецкий АО","СТК \"Ямбург\"","Тайга 120",9,0,13,8,11,10,{"$f":"SUM(L22+M22+O22+Q22)","v":27}]
[14,{"$f":"SUM(C23+D23+E23)","v":4.2},4.2,0,0,141,"Молчанов Максим","II","г. Новый Уренгой, Ямало-Ненецкий АО","СТК \"Ямбург\"","LYNX",14,0,"-",0,"-",0,{"$f":"SUM(L23+M23+O23+Q23)","v":14}]
[15,{"$f":"SUM(C24+D24+E24)","v":3.6},0,0,3.6,17,"Литвинова Дарина","I","г. Надым, Ямало-Ненецкий АО","СТК \"Форсаж\"","Sky-Doo",0,0,9,12,"н/с",0,{"$f":"SUM(L24+M24+O24+Q24)","v":12}]
[]
[]
[]
[]
[]
["Главный судья соревнований"]
["судья Всероссийской категории:                                                                                                              А. Б. Стеблинский (г. Тюмень; лицензия МФР А 144)"]
[]
["Главный секретарь соревнований"]
["судья Всероссийской категории:                                                                                              А. Ю. Иванов (г. Москва/лицензия МФР А 105; FIM 11245)"]

{"sheet":"ШАБЛОН","index":7,"n_rows":50,"n_cols":8,"rows_kept":50,"cut":false,"hidden":false,"merged":[]}
[]
[null,null,null,0.4,0.3,0.2,0.1]
[1,50,null,20,15,10,5]
[2,48,null,19.2,14.4,9.6,4.8]
[3,46,null,18.399999999999999,13.8,9.1999999999999993,4.5999999999999996]
[4,45,null,18,13.5,9,4.5]
[5,44,null,17.600000000000001,13.2,8.8000000000000007,4.4000000000000004," "]
[6,43,null,17.2,12.9,8.6,4.3]
[7,42,null,16.8,12.6,8.4,4.2]
[8,41,null,16.399999999999999,12.3,8.1999999999999993,4.0999999999999996]
[9,40,null,16,12,8,4]
[10,39,null,15.6,11.7,7.8,3.9]
[11,38,null,15.2,11.4,7.6000000000000103,3.8]
[12,37,null,14.8,11.1,7.4000000000000101,3.7]
[13,36,null,14.4,10.8,7.2000000000000099,3.6]
[14,35,null,14,10.5,7.0000000000000098,3.5]
[15,34,null,13.6,10.199999999999999,6.8000000000000096,3.4]
[16,33,null,13.2,9.8999999999999897,6.6000000000000103,3.3]
[17,32,null,12.8,9.5999999999999908,6.4000000000000101,3.2]
[18,31,null,12.4,9.2999999999999901,6.2000000000000099,3.1000000000000099]
[19,30,null,12,8.9999999999999893,6.0000000000000098,3.0000000000000102]
[20,29,null,11.6,8.6999999999999904,5.8000000000000096,2.9000000000000101]
[21,28,null,11.2,8.3999999999999897,5.6000000000000103,2.80000000000001]
[22,27,null,10.8,8.0999999999999908,5.4000000000000101,2.7000000000000099]
[23,26,null,10.4,7.7999999999999901,5.2000000000000099,2.6000000000000099]
[24,25,null,10,7.4999999999999902,5.0000000000000098,2.5000000000000102]
[25,24,null,9.6000000000000298,7.1999999999999797,4.8000000000000203,2.4000000000000101]
[26,23,null,9.2000000000000295,6.8999999999999799,4.6000000000000201,2.30000000000001]
[27,22,null,8.8000000000000291,6.5999999999999801,4.4000000000000199,2.2000000000000099]
[28,21,null,8.4000000000000394,6.2999999999999803,4.2000000000000197,2.1000000000000099]
[29,20,null,8,5.9999999999999796,4.0000000000000204,2.0000000000000102]
[30,19,null,7.6,5.6999999999999797,3.8000000000000198,1.9000000000000099]
[31,18,null,7.2,5.3999999999999799,3.6000000000000201,1.80000000000001]
[32,17,null,6.8,5.0999999999999801,3.4000000000000199,1.7000000000000099]
[33,16,null,6.4,4.7999999999999803,3.2000000000000202,1.6000000000000101]
[34,15,null,6,4.4999999999999796,3.00000000000002,1.50000000000001]
[35,14,null,5.6,4.1999999999999797,2.8000000000000198,1.4000000000000099]
[36,13,null,5.2,3.8999999999999799,2.6000000000000201,1.30000000000001]
[37,12,null,4.8,3.6,2.4000000000000199,1.2000000000000099]
[38,11,null,4.4000000000000004,3.3,2.2000000000000202,1.1000000000000101]
[39,10,null,4.0000000000001004,3,2.0000000000000302,1.00000000000001]
[40,9,null,3.6000000000001,2.7,1.80000000000003,0.90000000000001001]
[41,8,null,3.2000000000001001,2.4,1.6000000000000301,0.80000000000001004]
[42,7,null,2.8000000000001002,2.1,1.4000000000000301,0.70000000000000995]
[43,6,null,2.4000000000000998,1.8,1.2000000000000299,0.60000000000000997]
[44,5,null,2.0000000000000999,1.5,1.00000000000003,0.50000000000000999]
[45,4,null,1.6000000000001,1.2,0.80000000000002902,0.40000000000000902]
[46,3,null,1.2000000000001001,0.9,0.60000000000002995,0.30000000000001897]
[47,2,null,0.80000000000009996,0.60000000000000098,0.400000000000029,0.20000000000002]
[48,1,null,0.400000000000098,0.30000000000000099,0.20000000000002899,0.10000000000002]